Workbook
Name \p: #REF!
Name \p: #REF!
Name bbbb: #REF!
Name bbbb: #REF!
Name BID: [1]Sheet1!$K$39
Name cccc: #REF!
Name CIPConc_Material: #REF!
Name CIPConcrete_Labor: #REF!
Name CIPConcrete_Sub: #REF!
Name cmu: #REF!
Name DRYWALL: #REF!
Name Earthwork_Labor: #REF!
Name Earthwork_Material: #REF!
Name Earthwork_Sub: #REF!
Name ELECT: #REF!
Name Formwork_Labor: #REF!
Name Formwork_Material: #REF!
Name Formwork_Sub: #REF!
Name FRAME: #REF!
Name marty: #REF!
Name PLASTER: #REF!
Name Print: #REF!
Name PRINT_AREA_MI: #REF!
Name PRINT_AREA_MI: #REF!
Name Reinforcing_Labor: #REF!
Name Reinforcing_Labor: #REF!
Name Reinforcing_Material: #REF!
Name Reinforcing_Material: #REF!
Name Reinforcing_Sub: #REF!
Name Reinforcing_Sub: #REF!
Name sf: #REF!
Name SPEC: #REF!
Name STEEL: #REF!
Name TiltUp_Labor: #REF!
Name TiltUp_Material: #REF!
Name TiltUp_Sub: #REF!
Name wORK: #REF!
Name x: #REF!
Name xhghghghg: #REF!
Name xx: #REF!
Name xxx: #REF!
Name xxxx: #REF!
Name xxxxx: #REF!

Sheet 5 Yr CIP - Add'l Rev
A1: EXHIBIT B | C1: Actual | E1: Dec Amend | G1: Actual | I1: Forecast | K1: Actual | M1: Forecast | O1: Actual | Q1: REVISED | S1: Actual | U1: Forecast | W1: Actual | X1: Actual | Z1: Actual | AB1: Forecast | AC1: Forecast | AD1: Forecast | AE1: Forecast | AF1: Forecast | AG1: Forecast | AH1: Forecast | AI1: Forecast | AJ1: Forecast | AK1: Forecast | AL1: Forecast
C2: 2011-2012 | E2: 2012-2013 | G2: 2012-2013 | I2: 2013-2014 | K2: 2013-2014 | M2: 2014-2015 | O2: =M2 -> 2014-2015 | Q2: 2015-2016 | S2: =Q2 -> 2015-2016 | U2: 2016-2017 | W2: 2016-2017 | X2: 2017-2018 | Z2: 2018-2019 | AB2: 2019-2020 | AC2: 2020-2021 | AD2: 2021-2022 | AE2: 2022-2023 | AF2: 2023-2024 | AG2: 2024-2025 | AH2: 2025-2026 | AI2: 2026-2027 | AJ2: 2027-2028 | AK2: 2028-2029 | AL2: 2029-2030
AC3: Actual
A4: CAPITAL PROJECTS FUND
A5: Estimated Opening Balance | C5: 2745829 | E5: =C21 -> 2834495 | G5: =C21 -> 2834495 | I5: =G21 -> 3333518.1 | K5: =G21 -> 3333518.1 | M5: =K21 -> 4018264.5 | O5: =K21 -> 4018264.5 | Q5: =O21 -> 4993262.3 | S5: 3784551.7 | U5: =S21 -> 6100054.7 | W5: 5252514 | X5: 7404495.2 | Z5: =X21 -> 5098444.2 | AB5: =Z21 -> 3385179.2 | AC5: =AB21 -> 2977497.2 | AD5: =AC21 -> 4227892.2 | AE5: 4842007 | AF5: 5269634 | AG5: 4494212.2 | AH5: 2581089 | AI5: =SUM(AH21) -> 2496461 | AJ5: =SUM(AI21) -> 2420461 | AK5: =SUM(AJ21) -> 2344461 | AL5: =SUM(AK21) -> 2277263
A7: Estimated Revenue:
A8: GST (Motor Vehicle Privilege Tax) | C8: 895600 | E8: 900000 | G8: 901647 | I8: 901000 | K8: 975376.1 | M8: 1037840 | O8: 1073895 | Q8: 1072894 | S8: 1163782 | U8: 1170000 | W8: 1208611.4 | X8: 1323184 | Z8: 1444524 | AB8: 1451705 | AC8: 1671500 | AD8: 1728760 | AE8: 1707290 | AF8: 1724363 | AG8: 1781143 | AH8: 1798955 | AI8: 1798955 | AJ8: 1798955 | AK8: 1798956 | AL8: 1798956
A9: Residential Building Permit Tax | C9: 61819 | E9: 65000 | G9: 141966 | I9: 160000 | K9: 212847.62 | M9: 220000 | O9: 223344 | Q9: 210000 | S9: 230274 | U9: 230000 | W9: 327556.35 | X9: 384560 | Z9: 312048 | AB9: 346896 | AC9: 562320 | AD9: 470532 | AE9: 505000 | AF9: 350960 | AG9: 422958 | AH9: 431417 | AI9: 440045 | AJ9: 440045 | AK9: 448846 | AL9: 448846
A10: Douglas County / Misc. | C10: 50000 | E10: 0 | I10: 0 | M10: 0 | Q10: 0 | U10: 0 | W10: 0 | X10: 0 | Z10: 0 | AB10: 0 | AC10: 0 | AD10: 0 | AE10: 0 | AF10: 0 | AG10: 0 | AH10: 0 | AI10: 0 | AJ10: 0 | AK10: 0 | AL10: 0
A11: ESCO Proceeds | C11: 0 | E11: 0 | I11: 0 | M11: 0 | Q11: 0 | U11: 0 | W11: 0 | X11: 0 | Z11: 0 | AB11: 0 | AC11: 0 | AD11: 0 | AE11: 0 | AF11: 0 | AG11: 0 | AH11: 0 | AI11: 0 | AJ11: 0 | AK11: 0 | AL11: 0
A12: Donations | C12: 0 | E12: 0 | I12: 0 | M12: 0 | Q12: 0 | U12: 0 | W12: 0 | X12: 0 | Z12: 0 | AC12: 0 | AD12: 0 | AE12: 0 | AF12: 0 | AG12: 0 | AH12: 0 | AI12: 0 | AJ12: 0 | AK12: 0 | AL12: 0
A13: Pay-As-You-Go; Transfers from Debt Svc | C13: 0 | E13: 0 | I13: 500000 | K13: 0 | L13: 0 | M13: 0 | N13: 0 | O13: 0 | Q13: 1300000 | S13: 1300000 | U13: 1300000 | W13: 1300000 | X13: 100000 | Z13: 100000 | AB13: 100000 | AC13: 100000 | AD13: 100000 | AE13: 100000 | AF13: 100000 | AG13: 300000 | AH13: 1100000 | AI13: 500000 | AJ13: 500000 | AK13: 500000 | AL13: 500000
A14: Interest Income | C14: 4129 | E14: 4000 | G14: 5287 | I14: 4000 | K14: 4570.77 | M14: 4000 | O14: 6484 | Q14: 9000 | S14: 17814 | U14: 15000 | W14: 39010.01 | X14: 62633 | Z14: 58809 | AB14: 38955 | AC14: 9847 | AD14: 4000 | AE14: 10000 | AF14: 20000 | AG14: 20000 | AH14: 20000 | AI14: 20000 | AJ14: 20000 | AK14: 20000 | AL14: 20000
A15: TOTAL ESTIMATED REVENUE | C15: =SUM(C8:C14) -> 1011548 | E15: =SUM(E8:E14) -> 969000 | G15: =SUM(G8:G14) -> 1048900 | I15: =SUM(I8:I14) -> 1565000 | K15: =SUM(K8:K14) -> 1192794.5 | M15: =SUM(M8:M14) -> 1261840 | O15: =SUM(O8:O14) -> 1303723 | Q15: =SUM(Q8:Q14) -> 2591894 | S15: =SUM(S8:S14) -> 2711870 | U15: =SUM(U8:U14) -> 2715000 | W15: =SUM(W8:W14) -> 2875177.8 | X15: =SUM(X8:X14) -> 1870377 | Z15: =SUM(Z8:Z14) -> 1915381 | AB15: =SUM(AB8:AB14) -> 1937556 | AC15: =SUM(AC8:AC14) -> 2343667 | AD15: =SUM(AD8:AD14) -> 2303292 | AE15: =SUM(AE8:AE14) -> 2322290 | AF15: =SUM(AF8:AF14) -> 2195323 | AG15: =SUM(AG8:AG14) -> 2524101 | AH15: =SUM(AH8:AH14) -> 3350372 | AI15: =SUM(AI8:AI14) -> 2759000 | ... AL15: =SUM(AL8:AL14) -> 2767802
A17: TOTAL RESOURCES | C17: =SUM(C5,C15) -> 3757377 | E17: =SUM(E5,E15) -> 3803495 | G17: =SUM(G5,G15) -> 3883395 | I17: =SUM(I5,I15) -> 4898518.1 | K17: =SUM(K5,K15) -> 4526312.6 | M17: =SUM(M5,M15) -> 5280104.5 | O17: =SUM(O5,O15) -> 5321987.5 | Q17: =SUM(Q5,Q15) -> 7585156.3 | S17: =SUM(S5,S15) -> 6496421.7 | U17: =SUM(U5,U15) -> 8815054.7 | W17: =SUM(W5,W15) -> 8127691.8 | X17: =SUM(X5,X15) -> 9274872.2 | Z17: =SUM(Z5,Z15) -> 7013825.2 | AB17: =SUM(AB5,AB15) -> 5322735.2 | AC17: =SUM(AC5,AC15) -> 5321164.2 | AD17: =SUM(AD5,AD15) -> 6531184.2 | AE17: =SUM(AE5,AE15) -> 7164297 | AF17: =SUM(AF5,AF15) -> 7464957 | AG17: =SUM(AG5,AG15) -> 7018313.2 | AH17: =SUM(AH5,AH15) -> 5931461 | AI17: =SUM(AI5,AI15) -> 5255461 | ... AL17: =SUM(AL5,AL15) -> 5045065
A19: Estimated Projected Expenditures | C19: 922882 | E19: ='5 Yr CIP - Add''l Exp'!C52 -> 662000 | G19: ='5 Yr CIP - Add''l Exp'!D52 -> 549876.87 | I19: ='5 Yr CIP - Add''l Exp'!E52 -> 743815 | K19: ='5 Yr CIP - Add''l Exp'!F52 -> 508048.17 | M19: ='5 Yr CIP - Add''l Exp'!G52 -> 488343 | O19: ='5 Yr CIP - Add''l Exp'!H52-0.75 -> 328725.17 | Q19: ='5 Yr CIP - Add''l Exp'!I52 -> 548115 | S19: ='5 Yr CIP - Add''l Exp'!J52 -> 396367 | U19: ='5 Yr CIP - Add''l Exp'!K52 -> 363267 | W19: ='5 Yr CIP - Add''l Exp'!L52 -> 308969.87 | X19: 4176428 | Z19: 3628646 | AB19: 2345238 | AC19: 1093272 | AD19: ='5 Yr CIP - Add''l Exp'!Q52 -> 2446000 | AE19: ='5 Yr CIP - Add''l Exp'!R52 -> 1239535 | AF19: ='5 Yr CIP - Add''l Exp'!S52 -> 924000 | AG19: 4310000 | AH19: 3435000 | AI19: ='5 Yr CIP - Add''l Exp'!V52 -> 2835000 | AJ19: ='5 Yr CIP - Add''l Exp'!W52 -> 2835000 | AK19: ='5 Yr CIP - Add''l Exp'!X52 -> 2835000 | AL19: ='5 Yr CIP - Add''l Exp'!Y52 -> 2835000
A21: Estimated Ending Balance (***) | C21: =C17-C19 -> 2834495 | E21: =E17-E19 -> 3141495 | G21: =G17-G19 -> 3333518.1 | I21: =I17-I19 -> 4154703.1 | K21: =K17-K19 -> 4018264.5 | M21: =M17-M19 -> 4791761.5 | O21: =O17-O19 -> 4993262.3 | Q21: =Q17-Q19 -> 7037041.3 | S21: =S17-S19 -> 6100054.7 | U21: =U17-U19 -> 8451787.7 | W21: =W17-W19 -> 7818721.9 | X21: =X17-X19 -> 5098444.2 | Z21: =Z17-Z19 -> 3385179.2 | AB21: =AB17-AB19 -> 2977497.2 | AC21: =AC17-AC19 -> 4227892.2 | AD21: =AD17-AD19 -> 4085184.2 | AE21: =AE17-AE19 -> 5924762 | AF21: =AF17-AF19 -> 6540957 | AG21: =AG17-AG19 -> 2708313.2 | AH21: =AH17-AH19 -> 2496461 | AI21: =AI17-AI19 -> 2420461 | ... AL21: =AL17-AL19 -> 2210065
A23: BUILDING & SITES FUND
A24: Estimated Opening Balance | C24: 62013 | E24: =C33 -> 63908 | G24: =C33 -> 63908 | I24: =G33 -> 68853 | K24: =G33 -> 68853 | M24: =K33 -> 73080 | O24: =K33 -> 73080 | Q24: 77343.97 | S24: 77344 | U24: =S33 -> 80153 | W24: 80153 | X24: =W33 -> 81991.62 | Z24: =X33 -> 94037.62 | AB24: =Z33 -> -52791.38 | AC24: 3388055 | AD24: =AC33 -> 2119038 | AE24: 1884478 | AF24: 1654902 | AG24: 586863.58 | AH24: 384468 | AI24: =AH33 -> 77414 | AJ24: =AI33 -> 78491 | AK24: =AJ33 -> 79133.455 | AL24: =AK33 -> 79779.122
A27: Rent on Bldgs | C27: 1804 | E27: =C27 -> 1804 | G27: 4945 | I27: 1200 | K27: 4227 | M27: =I27 -> 1200 | O27: 4264 | Q27: 2400 | S27: 2485.5 | U27: =Q27 -> 2400 | W27: 1229.5 | X27: 10498 | Z27: 32726 | AB27: 14030 | AC27: 885 | AD27: =AC27 -> 885 | AE27: 5000 | AF27: 5000 | AG27: 2400 | AH27: 40000 | AI27: 50000 | AJ27: 50000 | AK27: 50000 | AL27: 50000
A28: Interest Income | C28: 91 | E28: =0.005*SUM(E24:E27) -> 328.56 | I28: 0 | K28: =I28 -> 0 | M28: =0.005*SUM(M24:M27) -> 371.4 | O28: =L28 -> 0 | Q28: 300 | S28: 323.5 | U28: 300 | W28: 609.12 | X28: 1548 | Z28: 54039 | AB28: 44775 | AC28: 10128 | AD28: 2000 | AE28: 5000 | AF28: 5000 | AG28: =0.005*SUM(AG24:AG27) -> 2946.3179 | AH28: 2946 | AI28: 1077 | AJ28: =0.005*SUM(AJ24:AJ27) -> 642.455 | AK28: =0.005*SUM(AK24:AK27) -> 645.66728 | AL28: =0.005*SUM(AL24:AL27) -> 648.89561
A29: TOTAL RESOURCES | C29: =SUM(C24:C28) -> 63908 | E29: =SUM(E24:E28) -> 66040.56 | G29: =SUM(G24:G28) -> 68853 | I29: =SUM(I24:I28) -> 70053 | K29: =SUM(K24:K28) -> 73080 | M29: =SUM(M24:M28) -> 74651.4 | O29: =SUM(O24:O28) -> 77344 | Q29: =SUM(Q24:Q28) -> 80043.97 | S29: =SUM(S24:S28) -> 80153 | U29: =SUM(U24:U28) -> 82853 | W29: =SUM(W24:W28) -> 81991.62 | X29: =SUM(X24:X28) -> 94037.62 | Z29: =SUM(Z24:Z28) -> 180802.62 | AB29: =SUM(AB24:AB28) -> 6013.62 | AC29: =SUM(AC24:AC28) -> 3399068 | AD29: =SUM(AD24:AD28) -> 2121923 | AE29: =SUM(AE24:AE28) -> 1894478 | AF29: =SUM(AF24:AF28) -> 1664902 | AG29: =SUM(AG24:AG28) -> 592209.9 | AH29: =SUM(AH24:AH28) -> 427414 | AI29: =SUM(AI24:AI28) -> 128491 | ... AL29: =SUM(AL24:AL28) -> 130428.02
A31: Estimated Projected Expenditures | C31: 0 | E31: ='5 Yr CIP - Add''l Exp'!C64 -> 0 | G31: 0 | I31: ='5 Yr CIP - Add''l Exp'!E64 -> 0 | K31: 0 | M31: ='5 Yr CIP - Add''l Exp'!G64 -> 0 | O31: 0 | Q31: 0 | S31: ='5 Yr CIP - Add''l Exp'!J64 -> 0 | U31: 81545 | W31: 0 | X31: 0 | Z31: 233594 | AB31: 341008 | AC31: 1280030 | AD31: =SUM('5 Yr CIP - Add''l Exp'!Q64) -> 0 | AE31: =SUM('5 Yr CIP - Add''l Exp'!R64) -> 0 | AF31: ='5 Yr CIP - Add''l Exp'!S64 -> 10000 | AG31: 470500 | AH31: 350000 | AI31: 50000 | AJ31: 50000 | AK31: 50000 | AL31: 50000
A33: Estimated Ending Balance (***) | C33: =C29-C31 -> 63908 | E33: =E29-E31 -> 66040.56 | G33: =G29-G31 -> 68853 | I33: =I29-I31 -> 70053 | K33: =K29-K31 -> 73080 | M33: =M29-M31 -> 74651.4 | O33: =O29-O31 -> 77344 | Q33: =Q29-Q31 -> 80043.97 | S33: =S29-S31 -> 80153 | U33: =U29-U31 -> 1308 | W33: =W29-W31 -> 81991.62 | X33: =X29-X31 -> 94037.62 | Z33: =Z29-Z31 -> -52791.38 | AB33: =AB29-AB31 -> -334994.38 | AC33: =AC29-AC31 -> 2119038 | AD33: =AD29-AD31 -> 2121923 | AE33: =AE29-AE31 -> 1894478 | AF33: =AF29-AF31 -> 1654902 | AG33: =AG29-AG31 -> 121709.9 | AH33: =AH29-AH31 -> 77414 | AI33: =AI29-AI31 -> 78491 | ... AL33: =AL29-AL31 -> 80428.018
A35: Bond Projects Fund
A36: Estimated Opening Balance | C36: 13681904 | E36: =C44 -> 3894384 | G36: =C44 -> 3894384 | I36: =G44 -> 10119761 | K36: =G44 -> 10119761 | M36: =K44 -> 15235701 | O36: =K44 -> 15235701 | Q36: =O44 -> 4455385.8 | S36: =O44 -> 4455385.8 | U36: =S44 -> 1777061.8 | W36: 1777061.5 | X36: =W44 -> 394775.74 | Z36: =X44 -> -0.26 | AB36: =Z44 -> -0.26 | AC36: =AB44 -> -0.26 | AD36: =AC44 -> -0.26 | AE36: 0 | AF36: 0 | AG36: 0 | AH36: 0 | AI36: 0 | AJ36: 0 | AK36: 0 | AL36: 0
A38: Bond Sales (FMP Phase 2 +) | E38: 9000000 | G38: =8910104.5+90000 -> 9000104.5 | I38: 8588388.8 | K38: =8500000+263603.8 -> 8763603.8 | M38: 5052851.9 | O38: 5077201.9 | S38: 0
A39: Interest Income | C39: 14076 | E39: =0.005*SUM(E36:E37) -> 19471.92 | G39: 13437 | I39: =0.005*SUM(I36:I37) -> 50598.803 | K39: 21197.15 | M39: 14000 | O39: 14363.11 | Q39: 10000 | S39: 11093 | U39: 1000 | W39: 11825.01 | X39: 0
A40: TOTAL RESOURCES | C40: =SUM(C36:C39) -> 13695980 | E40: =SUM(E36:E39) -> 12913856 | G40: =SUM(G36:G39) -> 12907926 | I40: =SUM(I36:I39) -> 18758748 | K40: =SUM(K36:K39) -> 18904562 | M40: =SUM(M36:M39) -> 20302553 | O40: =SUM(O36:O39) -> 20327266 | Q40: =SUM(Q36:Q39) -> 4465385.8 | S40: =SUM(S36:S39) -> 4466478.8 | U40: =SUM(U36:U39) -> 1778061.8 | W40: =SUM(W36:W39) -> 1788886.5 | X40: =SUM(X36:X39) -> 394775.74 | Z40: =SUM(Z36:Z39) -> -0.26 | AB40: =SUM(AB36:AB39) -> -0.26 | AC40: =SUM(AC36:AC39) -> -0.26 | AD40: =SUM(AD36:AD39) -> -0.26 | AE40: =SUM(AE36:AE39) -> 0 | AF40: =SUM(AF36:AF39) -> 0 | AG40: =SUM(AG36:AG39) -> 0 | AH40: =SUM(AH36:AH39) -> 0 | AI40: =SUM(AI36:AI39) -> 0 | ... AL40: =SUM(AL36:AL39) -> 0
A42: Estimated Projected Expenditures | C42: 9801596 | E42: ='5 Yr CIP - Add''l Exp'!C230 -> 2326200 | G42: ='5 Yr CIP - Add''l Exp'!D230 -> 2788164.9 | I42: ='5 Yr CIP - Add''l Exp'!E230 -> #REF! | K42: ='5 Yr CIP - Add''l Exp'!F230 -> 3668860.6 | M42: ='5 Yr CIP - Add''l Exp'!G230 -> 14292463 | O42: ='5 Yr CIP - Add''l Exp'!H230 -> 15871880 | Q42: ='5 Yr CIP - Add''l Exp'!I230 -> 3183350 | S42: ='5 Yr CIP - Add''l Exp'!J230 -> 2689417 | U42: ='5 Yr CIP - Add''l Exp'!K230 -> 1726062 | W42: ='5 Yr CIP - Add''l Exp'!L230 -> 1394110.8 | X42: ='5 Yr CIP - Add''l Exp'!M230 -> 394776 | Z42: ='5 Yr CIP - Add''l Exp'!N230 -> 0 | AB42: ='5 Yr CIP - Add''l Exp'!O230 -> 0 | AC42: ='5 Yr CIP - Add''l Exp'!R230 -> 0 | AD42: ='5 Yr CIP - Add''l Exp'!T230 -> 0 | AE42: ='5 Yr CIP - Add''l Exp'!U230 -> 0 | AF42: ='5 Yr CIP - Add''l Exp'!V230 -> 0 | AG42: ='5 Yr CIP - Add''l Exp'!W230 -> 0 | AH42: ='5 Yr CIP - Add''l Exp'!X230 -> 0 | AI42: ='5 Yr CIP - Add''l Exp'!Y230 -> 0 | AJ42: ='5 Yr CIP - Add''l Exp'!Z230 -> 0 | AK42: ='5 Yr CIP - Add''l Exp'!AA230 -> 0 | AL42: ='5 Yr CIP - Add''l Exp'!AB230 -> 0
A44: Estimated Ending Balance (***) | C44: =C40-C42 -> 3894384 | E44: =E40-E42 -> 10587656 | G44: =G40-G42 -> 10119761 | I44: =I40-I42 -> #REF! | K44: =K40-K42 -> 15235701 | M44: =M40-M42 -> 6010090.1 | O44: =O40-O42 -> 4455385.8 | Q44: =Q40-Q42 -> 1282035.8 | S44: =S40-S42 -> 1777061.8 | U44: =U40-U42 -> 51999.82 | W44: =W40-W42 -> 394775.74 | X44: =X40-X42 -> -0.26 | Z44: =Z40-Z42 -> -0.26 | AB44: =AB40-AB42 -> -0.26 | AC44: =AC40-AC42 -> -0.26 | AD44: =AD40-AD42 -> -0.26 | AE44: =AE40-AE42 -> 0 | AF44: =AF40-AF42 -> 0 | AG44: =AG40-AG42 -> 0 | AH44: =AH40-AH42 -> 0 | AI44: =AI40-AI42 -> 0 | ... AL44: =AL40-AL42 -> 0

Sheet 5 Yr CIP - Add'l Exp
A1: EXHIBIT B | B1: Budget Code | C1: Jun Amend | D1: Actuals | E1: Forecast | F1: Actuals | G1: Forecast | H1: Actuals | I1: REVISED | J1: Actuals | K1: Forecast | L1: Actuals | M1: Forecast | N1: Forecast | O1: Forecast | P1: Forecast | Q1: Forecast | R1: Forecast | S1: Forecast | T1: Forecast | U1: Forecast | V1: Forecast | W1: Forecast | X1: Forecast | Y1: Forecast
A2: Capital Projects Fund (MVPT, RBPT & PAYG Cash) | C2: 2012-2013 | D2: 2012-2013 | E2: 2013-2014 | F2: =E2 -> 2013-2014 | G2: 2014-2015 | H2: =G2 -> 2014-2015 | I2: 2015-2016 | J2: =I2 -> 2015-2016 | K2: 2016-2017 | L2: 2016-2017 | M2: 2017-2018 | N2: 2018-2019 | O2: 2019-2020 | P2: ='5 Yr CIP - Add''l Rev'!AC2 -> 2020-2021 | Q2: 2021-2022 | R2: 2022-2023 | S2: 2023-2024 | T2: 2024-2025 | U2: 2025-2026 | V2: 2026-2027 | W2: 2027-2028 | X2: 2028-2029 | Y2: 2029-2030
A4: CVMS - "B" Wing - Asbestos Abatement COMPLETED | B4: 300.000.0000.000.4600.450.03301.20.421 | C4: 7000 | D4: 0 | F4: 0
A5: CVMS - "B" Wing - Roof Replacement COMPLETED | B5: 300.000.0000.000.4600.450.03301.20.421 | C5: 100000 | D5: =66617.7+779.61+17680 -> 85077.31 | F5: 0
A6: SES / MES - Boiler Loop Improvements COMPLETED | B6: 300.000.0000.000.4600.450.03XXX.10.421 | C6: 95000 | D6: =1288.5+1288.5+56439.17+35644+98.45+98.44 -> 94857.06 | F6: 0
A7: GWHS - Additional Full-Size Gym (Remaining Donation Funds) | B7: 300.001.0000.000.4500.450.03502.30.421 | C7: 60000 | F7: 0
A8: Transfer to Grant Fund COMPLETED | B8: 300.000.0000.000.6200.910.03000.50.421 | D8: 59938 | F8: 0
A9: Design work for following year: | B9: 300.000.0000.000.4600.XXX.03205.10.421 | F9: 0 | I9: 25000 | L9: 109538.47 | P9: 35000 | Q9: 793200
A10: HVAC - CCM & JVES - Air Handlers | U10: 200000
A11: HVAC - CVMS - Phase II | V11: 200000
A12: Boilers - PWL, SES & JVES | W12: 200000
A13: HVAC - CVMS & JVES | X13: 200000
A14: HVAC - CVMS & ZCES | Y14: 200000
A15: Airport Fueling Station - Combined with Douglas County | V15: 100000
A16: Boilers - CCM, MES, WHS & Chiller at PWL | B16: 300.000.0000.000.4700.XXX.03205.10.421 | F16: 0 | L16: 6440.01 | O16: 599705 | P16: 929295 | Q16: 6800 | R16: 20000 | U16: 1500000
A17: HVAC - CCM & JVES | V17: 1950000
A18: CVMS HVAC - Phase II | Q18: 35000 | R18: 53873 | W18: 1450000
A19: Boilers - PWL, SES & JVES | X19: 2050000
A20: HVAC - CVMS & JVES | Y20: 2050000
A21: HVAC - CVMS & ZCES
A22: Airport Fueling Station - Combined with Douglas County | W22: 600000
A23: DHS Tennis Courts & Basketball/Agreement with County | R23: 50356 | S23: 20000 | U23: 250000
A24: DW Fencing | U24: 240000
A25: Vehicles - Buses | U25: 600000
A26: ZCES & WHS Remodel - ADA Compliant for bathrooms & plumbing | S26: 0 | T26: 1950000 | U26: 40000
A27: WHS Scoreboard | U27: 20000
A28: DHS Roofing
A29: DHS Track
A30: SES Roof | O30: 3106 | Q30: 1000000 | R30: 818577
A31: CVMS Gym Floor | R31: 3630 | S31: 5000
A32: Retrofit for LED lighting in all schools
A33: DW - Technology Replacement Schedule | B33: 300.007.0000.000.2900.XXX.03XXX.XX.421 | C33: =SUM(C34:C51) -> 400000 | D33: =SUM(D34:D50) -> 310004.5 | E33: =SUM(E34:E51) -> 743815 | F33: =SUM(F34:F50) -> 508048.17 | G33: =SUM(G34:G51) -> 488343 | H33: =SUM(H34:H51) -> 328725.92 | I33: =SUM(I34:I51) -> 523115 | J33: 396367 | K33: =SUM(K34:K51) -> 363267 | L33: 192991.39 | M33: 424203 | N33: 623904 | O33: 784668 | P33: 257000 | Q33: 611000 | R33: 293099 | S33: 899000 | T33: =SUM(T34:T51) -> 585000 | U33: =SUM(U34:U51) -> 585000 | V33: =SUM(V34:V51) -> 585000 | W33: =SUM(W34:W51) -> 585000 | X33: =SUM(X34:X51) -> 585000 | Y33: =SUM(Y34:Y51) -> 585000
A34: DW - Consumables | B34: 650 | F34: 4382.29 | M34: 350000 | N34: 350000 | O34: 350000 | P34: 350000 | Q34: 350000 | R34: 350000 | S34: 350000 | T34: 350000 | U34: 350000 | V34: 350000 | W34: 350000 | X34: 350000 | Y34: 350000
A35: DW - Software Upgrades (< $5K) | B35: 651 | C35: 250000 | D35: 12883.2 | E35: 54815 | F35: =56606.42-840 -> 55766.42 | G35: 38000 | H35: ='Summer ''14 REVISED'!D56 -> 38654.45 | I35: ='Summer ''15 (FY15_16)'!C75 -> 22392.56 | J35: ='Summer ''15 (FY15_16)'!D75 -> 19608.02 | K35: ='Summer ''16 REVISED'!C65 -> 16302
A36: CVMS - Software Upgrades (< $5K) (Google Chrome Project) | B36: 651 | F36: 840
A37: DW - Hardware / Server Replacement (< $5K) | B37: 652 | D37: 17163.07 | E37: 78000 | F37: 51770.75 | G37: 16000 | H37: ='Summer ''14 REVISED'!D57 -> 5074.95 | I37: ='Summer ''15 (FY15_16)'!C76 -> 26500 | J37: ='Summer ''15 (FY15_16)'!D76 -> 27181.08
A38: DW - Desktop Computer Replacement | B38: 652 | D38: 148910.57 | E38: 184000 | F38: 183119.56 | G38: 186000 | H38: ='Summer ''14 REVISED'!D58 -> 185415.3 | I38: ='Summer ''15 (FY15_16)'!C77 -> 120628.83 | J38: ='Summer ''15 (FY15_16)'!D77 -> 120347.95 | K38: ='Summer ''16 REVISED'!C66 -> 8935.52
A39: DW - Tablet / Laptop Replacement | B39: 652 | D39: 0 | E39: 10000 | F39: 0 | G39: 91000 | H39: ='Summer ''14 REVISED'!D59 -> 90562 | I39: ='Summer ''15 (FY15_16)'!C78 -> 139250.72 | J39: ='Summer ''15 (FY15_16)'!D78 -> 139250.72 | K39: ='Summer ''16 REVISED'!C67 -> 148567.98
A40: CVMS - Tablets/Cart (< $5K) (Google Chrome Project) | B40: 652 | F40: 9773.11 | G40: =-'Summer ''14 REVISED'!H48 -> -62000
A41: DW - Promethean Projector Replacement | B41: 652 | D41: 0 | E41: 50000 | F41: 0 | H41: 1981.29 | I41: ='Summer ''15 (FY15_16)'!C79 -> 11884.037 | J41: ='Summer ''15 (FY15_16)'!D79 -> 16211.32 | N41: 50000 | P41: 50000 | Q41: 50000 | R41: 50000 | S41: 50000 | T41: 50000 | U41: 50000 | V41: 50000 | W41: 50000 | X41: 50000 | Y41: 50000
...

Sheet Budget Revised - Manual
A1: CAPITAL PROJECTS FUND | E1: Row Labels | F1: Sum of FY16-17
A2: Project | B2: Last Digits | C2: FY16-17 | E2: 2900.651 | F2: 16302
A3: Tech - Replacement | B3: 2900.651 | C3: ='5 Yr CIP - Add''l Exp'!K35 -> 16302 | E3: 2900.652 | F3: 182965
A4: Tech - Replacement | B4: 2900.652 | C4: =SUM('5 Yr CIP - Add''l Exp'!K37:K46) -> 182965 | E4: 2900.734 | F4: 164000
A5: Tech - Replacement | B5: 2900.734 | C5: =SUM('5 Yr CIP - Add''l Exp'!K47:K49) -> 164000 | E5: 2900.735 | F5: 0
A6: Tech - Replacement | B6: 2900.735 | C6: ='5 Yr CIP - Add''l Exp'!K50 -> 0 | E6: 4600.450 | F6: 65000
A7: CCMES - ADA Parking Lot Compliance | B7: 4600.450 | C7: ='5 Yr CIP - Add''l Exp'!K9 -> 0 | E7: 4700.340 | F7: 102000
A8: Heritage Bldg - Infrastructure Repairs | B8: 4700.340 | C8: 2000 | E8: 4700.450 | F8: 2903000
A9: Heritage Bldg - Infrastructure Repairs | B9: 4700.450 | C9: ='5 Yr CIP - Add''l Exp'!#REF!-'Budget Revised - Manual'!C8 -> #REF! | E9: (blank)
A10: ASPIRE - Modular | B10: 4700.450 | C10: ='5 Yr CIP - Add''l Exp'!#REF! -> #REF! | E10: Grand Total | F10: 3433267
A11: DHS - HVAC system replacements (Bldg 300 - Media Center) | B11: 4700.340 | C11: 0
A12: DHS - HVAC system replacements (Bldg 300 - Media Center) | B12: 4700.450 | C12: ='5 Yr CIP - Add''l Exp'!#REF! -> #REF!
A13: DHS - PHASE 2A FMP Upgrades | B13: 4700.450 | C13: ='5 Yr CIP - Add''l Exp'!#REF! -> #REF!
A14: CVMS - FMP | B14: 4700.340 | C14: 0
A15: CVMS - FMP | B15: 4700.450 | C15: 0
A16: PWLMS - Fan Coil Replacement | B16: 4700.340 | C16: 0
A17: PWLMS - Fan Coil Replacement | B17: 4700.450 | C17: ='5 Yr CIP - Add''l Exp'!#REF! -> #REF!
A18: Chiller Tower Replacements (MES, PHES, PWL, SES) | B18: 4700.340 | C18: 100000
A19: Chiller Tower Replacements (MES, PHES, PWL, SES) | B19: 4700.450 | C19: ='5 Yr CIP - Add''l Exp'!#REF!-'Budget Revised - Manual'!C18 -> #REF!
A20: DW - Fire Code Repairs, Upgrades | B20: 4700.450 | C20: ='5 Yr CIP - Add''l Exp'!#REF! -> #REF!
A21: DW - Entrance Remodel (SPE) | B21: 4700.340
A22: DW - Entrance Remodel (SPE) | B22: 4700.450 | C22: ='5 Yr CIP - Add''l Exp'!#REF!-'Budget Revised - Manual'!C21 -> #REF!
C25: =SUM(C3:C24) -> #REF!
B26: check | C26: =C25-'5 Yr CIP - Add''l Exp'!K52 -> #REF!
A27: Bldgs & Sites PROJECTS FUND
A28: Project | B28: Last 8 Digits | C28: =C2 -> FY16-17
A29: CVMS - FMP | B29: 4700.450 | C29: ='5 Yr CIP - Add''l Exp'!#REF! -> #REF!
C30: =SUM(C29) -> #REF!
B31: check | C31: =C30-'[3]5 Yr CIP - Revenues'!H30 -> #REF!
A32: BOND FUNDs | E32: Row Labels | F32: Sum of FY16-17
A33: Project | B33: Last 8 Digits | C33: =C2 -> FY16-17 | E33: 2900.1XX | F33: 18900
A34: CVMS FMP - PHASE 2B (FF&E) | B34: 2900.612 | C34: 350000 | E34: 2900.2XX | F34: 8100
A35: CVMS FMP - PHASE 2B (temp site improvements) | B35: 4600.450 | C35: 350000 | E35: 2900.612 | F35: 350000
A36: CVMS FMP - PHASE 2B (prof. services) | B36: 4600.340 | E36: 4600.340
A37: CVMS FMP - PHASE 2B (bldg renovations) | B37: 4700.450 | C37: 1026061 | E37: 4600.450 | F37: 375000
A38: CVMS FMP - PHASE 2B (prof. services) | B38: 4700.340 | C38: ='5 Yr CIP - Add''l Exp'!K182 -> 0 | E38: 4700.340 | F38: 0
A39: AF - PHASE 2A (FF&E) | B39: 2900.612 | C39: 0 | E39: 4700.450 | F39: 1026061
A40: AF - PHASE 2A (temp site improvements) | B40: 4600.450 | C40: ='5 Yr CIP - Add''l Exp'!K197 -> 0 | E40: (blank) | F40: 1778061
A41: Playgrounds - PHASE 2A (bldg improvements) | B41: 4700.450 | C41: ='5 Yr CIP - Add''l Exp'!K164 -> 0 | E41: Grand Total | F41: 3556122
A42: Playgrounds - PHASE 2A (prof. services) | B42: 4700.340 | C42: 0
...

Sheet Summer '15
A1: Proposed FY2016 5yr IT Equipment Replacement
B3: Qty. | C3: Price | E3: Actual Quantity | F3: Actual Price Ea | G3: Date Rcd | H3: Actual cost | J3: Notes
A4: PDC, PHES & PDC Computers
A5: PWL Computers | B5: 190 | C5: 729 | D5: =B5*C5 -> 138510 | J5: Computer price $675 + $54 for Office license
A6: CVMS Computers | B6: 195 | C6: 729 | D6: =B6*C6 -> 142155
D7: =B7*C7 -> 0
C9: Computer Total | D9: =SUM(D5:D7) -> 280665 | G9: Computer Total | H9: =SUM(H5:H7) -> 0
A11: Servers
A12: NOC Visions SQL Server | B12: 1 | C12: 9000 | D12: =B12*C12 -> 9000
A13: SQL Server Licenaing | B13: 1 | C13: 5500 | D13: =B13*C13 -> 5500
A14: DCSD Website Move | B14: 1 | C14: 17000 | D14: =B14*C14 -> 17000
C16: Server Total | D16: =SUM(D12:D14) -> 31500 | G16: Server Total | H16: =SUM(H12:H12) -> 0
A18: Hardware
A19: Site IDF UPS Systems | B19: 11 | C19: 2000 | D19: =B19*C19 -> 22000
A20: Promethean Projectors | B20: 30 | C20: 900 | D20: =B20*C20 -> 27000
C22: Hardware Total | D22: =SUM(D19:D21) -> 49000 | G22: Hardware Total | H22: =SUM(H20:H21) -> 0
A24: VoIP Phones/Communications
A25: JVES Bell System | B25: 1 | C25: 75000 | D25: =B25*C25 -> 75000
A26: VoIP PRI Gateway | B26: 1 | C26: 4500 | D26: =B26*C26 -> 4500
C28: VoIP Phone/Communications Total | D28: =SUM(D25:D27) -> 79500 | G28: VoIP Total | H28: 0
A30: Video Surveillance
C33: Video Surveillance Total | D33: =D31 -> 0 | G33: Video Surveillance Total | H33: =SUM(H32:H32) -> 0
A36: Total: | D36: =D9+D16+D22+D28+D33 -> 440665 | H36: =H9+H16+H22+H33 -> 0
A44: DW - Technology Replacement Schedule | B44: 300.000.0000.000.2900.XXX.03XXX.XX.421
A46: DW - Software Upgrades (< $5K) | B46: 651 | C46: =54*SUM(B5:B6)+D26 -> 25290
A47: DW - Hardware / Server Replacement (< $5K) | B47: 652 | C47: =D19 -> 22000
A48: DW - Desktop Computer Replacement | B48: 652 | C48: =675*SUM(B5:B6) -> 259875
A49: DW - Tablet / Laptop Replacement | B49: 652
A50: DW - Promethean Projector Replacement | B50: 652 | C50: =D20 -> 27000
A51: DW - Communications Systems Renewal (Bell/Intercom/VOIP) | B51: 652 | C51: =D25 -> 75000
A52: DW - Bus Video Surveillance replacement | B52: 652 | C52: 0
A53: DW - Video Surveillance Renewal (< $5K) | B53: 652 | C53: =SUM(O28:O31) -> 0
A54: DW - Video Surveillance System Renewal (> $5K) | B54: 734 | C54: 0
A55: DW - Hardware / Server Replacement (> $5K) | B55: 734 | C55: =D12 -> 9000
A56: DW - Communications Systems Renewal (Bell/Intercom/VOIP) | B56: 734 | C56: 0
A57: DW - Software Upgrades (> $5K) | B57: 735 | C57: =D13+D14 -> 22500
B59: Total | C59: =SUM(C46:C57) -> 440665

Sheet Summer '14 REVISED
A1: Proposed FY2015 5yr IT Equipment Replacement
B3: Qty. | C3: Price | E3: Actual Quantity | F3: Actual Price Ea | G3: Date Rcd | H3: Actual cost | J3: Notes
A4: PDC, PHES & PDC Computers | J4: Computer price $699 + $51 for Office license
A5: DHS Computers | B5: 270 | C5: 750 | D5: =B5*C5 -> 202500 | E5: 145 | F5: 588.62 | H5: =E5*F5 -> 85349.9 | I5: 85349.9 | J5: Not refreshing DHS lab computers
A6: JVES Computers | B6: 110 | C6: 750 | D6: =B6*C6 -> 82500 | E6: 108 | F6: 588.62 | H6: =E6*F6 -> 63570.96 | I6: 63570.96
A7: JHS Computers | E7: 52 | F7: 588.62 | H7: =E7*F7 -> 30608.24 | I7: 36494.44
A8: Smart Board Computer Replacements | E8: 10 | F8: 588.62 | H8: =E8*F8 -> 5886.2
A9: Office Licenses for Refresh | E9: 315 | F9: 53.68 | H9: =E9*F9 -> 16909.2 | I9: =3328.16+7783.6+5797.44 -> 16909.2
A10: KACE License | B10: 400 | C10: 22.8 | D10: =B10*C10 -> 9120 | E10: 100 | F10: 22.8 | H10: =E10*F10 -> 2280 | I10: =1982.57+1586.88 -> 3569.45
A11: Windows 7 Licensing | B11: 120 | C11: 51 | D11: =B11*C11 -> 6120 | E11: 120 | F11: 50.91 | H11: =E11*F11 -> 6109.2 | I11: =H11 -> 6109.2 | J11: For DHS lab computer referbish
A12: Miicrosoft Office for Additional Computers | B12: 120 | C12: 53 | D12: =B12*C12 -> 6360 | E12: 120 | F12: 53.68 | H12: =E12*F12 -> 6441.6 | I12: =H12 -> 6441.6 | J12: For DHS lab computer referbish
A13: DHS Chromebooks | E13: 225 | F13: 311 | H13: =E13*F13 -> 69975 | I13: 69975 | J13: Chromebooks are in lieu of DHS lab computers
A14: DHS Chromebook Management Licenses | E14: 225 | F14: 25 | H14: =E14*F14 -> 5625 | I14: 5625
A15: DHS Chromebook Carts | E15: 7 | F15: 1469 | H15: =E15*F15 -> 10283 | I15: 10283
A16: PWLMS Android Tablets | E16: 32 | F16: 322 | H16: =E16*F16 -> 10304 | I16: =832+9472 -> 10304 | J16: For Google/Tynker Pilot
C18: Computer Total | D18: =SUM(D5:D12) -> 306600 | G18: Computer Total | H18: =SUM(H5:H16) -> 313342.3
A20: Servers
A21: Airport Server | B21: 1 | C21: 10000 | D21: =B21*C21 -> 10000 | H21: 10000 | J21: Green Text = not purchased yet
A22: NOC VMCenter | B22: 1 | C22: 26000 | D22: =B22*C22 -> 26000 | H22: 26000
A23: Site Servers Backup System | B23: 1 | C23: 15000 | D23: =B23*C23 -> 15000 | H23: 14000
A24: Bus Video Server | B24: 1 | C24: 8000 | D24: =B24*C24 -> 8000 | E24: 1 | F24: 7037.93 | H24: =E24*F24 -> 7037.93 | I24: 7037.93
C26: Server Total | D26: =SUM(D21:D24) -> 59000 | G26: Server Total | H26: =SUM(H21:H24) -> 57037.93
A28: Hardware
A29: iBoss Web Filter Upgrade | B29: 1 | D29: 4000 | E29: 1 | H29: 5074.95 | I29: 5074.95
A30: Fiber Switches | D30: 10000 | H30: 0 | J30: remove this $10K - associate with DHS STEM / Tech Needs
C32: Hardware Total | D32: =SUM(D29:D31) -> 14000 | G32: Hardware Total | H32: =SUM(H29:H31) -> 5074.95
A34: VoIP Phones
C36: VoIP Phone Total | D36: =SUM(D35:D35) -> 0 | G36: VoIP Total | H36: 0
A37: Video Surveillance
A39: DHS - Football Field | D39: 20000 | H39: 18000 | J39: 12000 | K39: remaining
A40: Miscellaneous Camera Repair | D40: 3400 | H40: 0
C42: Video Surveillance Total | D42: =SUM(D37:D41) -> 23400 | G42: Video Surveillance Total | H42: =SUM(H39:H41) -> 18000
A45: Total: | D45: =D18+D26+D32+D36+D42 -> 403000 | H45: =H18+H26+H32+H42 -> 393455.18 | I45: =SUM(I5:I44) -> 326744.63 | J45: 403,850 is CIP Target Budget
H48: =H30+J39+H23+H22+H21 -> 62000
A54: DW - Technology Replacement Schedule | B54: 300.000.0000.000.2900.XXX.03XXX.XX.421
A56: DW - Software Upgrades (< $5K) | B56: 651 | C56: =H9+H10+H11+H12+H14 -> 37365 | D56: =I9+I10+I11+I12+I14 -> 38654.45
A57: DW - Hardware / Server Replacement (< $5K) | B57: 652 | C57: =H29+H30 -> 5074.95 | D57: =I29+I30 -> 5074.95
A58: DW - Desktop Computer Replacement | B58: 652 | C58: =H5+H6+H7+H8 -> 185415.3 | D58: =I5+I6+I7+I8 -> 185415.3
A59: DW - Tablet / Laptop Replacement | B59: 652 | C59: =H13+H15+H16 -> 90562 | D59: =I13+I15+I16 -> 90562
A60: DW - Promethean Projector Replacement | B60: 652
...

Sheet Summer '16 REVISED
A1: Proposed FY2017 5yr IT Equipment Replacement
B3: Qty. | C3: Price | E3: Actual Quantity | F3: Actual Price Ea | G3: Date Rcd | H3: Actual cost | J3: Notes
A4: MES, PHES & PDC Computers | J4: Computer price $675 + $54 for Office license
A5: MES Computers | B5: 97 | C5: 675 | D5: =B5*C5 -> 65475 | E5: 65 | F5: 545.47 | H5: =E5*F5 -> 35455.55 | J5: Optiplex 3040 Micro
E6: 152 | F6: 174.74 | H6: =E6*F6 -> 26560.48 | J6: Chromebooks w/ 1yr Accidental Damage | L6: =H5+H10+H15 -> 91638.96
E7: 22 | F7: 48.28 | H7: =E7*F7 -> 1062.16 | J7: Vesa Mounts $22.49/Wireless keyboards $25.79 | L7: =H6+H11+H7+H8+H12+H13+H16+H17+H18 -> 56929.02
E8: 10 | F8: 38.53 | H8: =E8*F8 -> 385.3 | J8: External DVD Player
A10: PHES Computers | B10: 115 | C10: 675 | D10: =B10*C10 -> 77625 | E10: 78 | F10: 545.47 | H10: =E10*F10 -> 42546.66 | J10: Optiplex 3040 Micro
E11: 152 | F11: 174.74 | H11: =E11*F11 -> 26560.48 | J11: Chromebooks
E12: 31 | F12: 48.28 | H12: =E12*F12 -> 1496.68 | J12: Vesa Mounts $22.49/Wireless keyboards $25.79
E13: 10 | F13: 38.53 | H13: =E13*F13 -> 385.3 | J13: External DVD Player
A15: PDC Computers | B15: 25 | C15: 675 | D15: =B15*C15 -> 16875 | E15: 25 | F15: 545.47 | H15: =E15*F15 -> 13636.75 | J15: Optiplex 3040 Micro
E16: 2 | F16: 48.28 | H16: =E16*F16 -> 96.56 | J16: Vesa Mounts $22.49/Wireless keyboards $25.79
E17: 2 | F17: 38.53 | H17: =E17*F17 -> 77.06 | J17: External DVD Player
E18: 15 | F18: 20.33 | H18: 305 | J18: Display Port to VGA Adapter
E19: .
A20: Microsoft Office | B20: 237 | C20: 54 | D20: =B20*C20 -> 12798
E21: 65 | F21: 53.68 | H21: =E21*F21 -> 3489.2 | J21: MES Office
E22: 78 | F22: 53.68 | H22: =E22*F22 -> 4187.04 | J22: PHES Office
E23: 25 | F23: 53.68 | H23: =E23*F23 -> 1342 | J23: PDC Office License
E24: 152 | F24: 23.96 | H24: =E24*F24 -> 3641.92 | J24: MES Google Licenses
E25: 152 | F25: 23.96 | H25: =E25*F25 -> 3641.92 | J25: PHES Google Licenses
C28: Computer Total | D28: =SUM(D5:D20) -> 172773 | G28: Computer Total | H28: =SUM(H5:H27) -> 164870.06 | J28: =D28-H28 -> 7902.94
A30: Servers
A31: move to FY17/18
C32: Server Total | D32: 0 | G32: Server Total | H32: =SUM(H31:H31) -> 0
A34: Hardware
A35: Fiber WAN upgrades | D35: 90000
A36: District Wide Wireless Upgrade | B36: 1 | C36: 300000 | D36: 74000 | J36: Possible reduction to $74K for DCSD contribution
A37: iBoss Web Filter | G37: 11/16 | H37: 4655 | J37: Added 11/16 - Need direction
A38: Promethean Panel | H38: 4280.46 | J38: Take from Projectors
C40: Hardware Total | D40: =SUM(D36:D39) -> 74000 | G40: Hardware Total | H40: =SUM(H36:H39) -> 8935.46
A42: VoIP Phones/Communications
A43: VoIP PRI Gateway | B43: 1 | C43: 4500 | H43: 2683.11 | J43: $1,817 Savings - Need for replacement phones
A44: Replacement Phones | J44: $2000 Not yet purchased
C46: VoIP Phone/Communications Total | D46: =SUM(D43:D45) -> 0 | G46: VoIP Total | H46: =SUM(H43:H45) -> 2683.11
A48: Video Surveillance
A49: Exterior Cameras - Elem + AF | D49: 20000
A50: DHS Football Field Camera Installation | H50: 961.5 | J50: Cost of Lift Rental
C52: Video Surveillance Total | D52: =D49 -> 20000 | G52: Video Surveillance Total | H52: =SUM(H48:H50) -> 961.5
...

Sheet Summer '15 (FY15_16)
A1: Proposed FY2016 5yr IT Equipment Replacement
B3: Qty. | C3: Price | E3: Actual Quantity | F3: Actual Price Ea | G3: Date Rcd | H3: Actual cost | J3: Actual cost | L3: Notes
A4: Computer Refresh
A5: PWLMS
A6: Lab Computers | B6: 190 | C6: 675 | D6: =B6*C6 -> 128250 | E6: 31 | F6: 675 | H6: =E6*F6 -> 20925 | J6: 20925 | L6: Lab Computers
A7: Staff Computers | E7: 64 | F7: 521.42 | H7: =E7*F7 -> 33370.88 | J7: =25028.16+8342.72 -> 33370.88 | L7: Staff Computer
A8: Chromebooks | E8: 224 | F8: 268.64 | H8: =E8*F8 -> 60175.36 | J8: 60175.36 | L8: Chromebooks
A9: Chromebook Carts | E9: 7 | F9: 1350 | H9: =E9*F9 -> 9450 | J9: 9450
A10: Google License | E10: 224 | F10: 28.72 | H10: =E10*F10 -> 6433.28 | J10: 6433.28
A11: MISC | J11: =192+154.12 -> 346.12 | K11: 4327.28 | L11: Promethean Microcomputers
A12: CVMS
A13: Lab Computers | B13: 195 | C13: 675 | D13: =B13*C13 -> 131625 | E13: 31 | F13: 675 | H13: =E13*F13 -> 20925 | J13: 20925
A14: Staff Computers | E14: 60 | F14: 521.42 | H14: =E14*F14 -> 31285.2 | J14: =25028.16+6257.04 -> 31285.2
A15: Chromebooks | E15: 224 | F15: 268.64 | H15: =E15*F15 -> 60175.36 | J15: 60175.36
A16: Chromebook Carts | E16: 7 | F16: 1350 | H16: =E16*F16 -> 9450 | J16: 9450
A17: Google License | E17: 224 | F17: 28.72 | H17: =E17*F17 -> 6433.28 | J17: 6433.28
A18: Microsoft Office | B18: 385 | C18: 54 | D18: =B18*C18 -> 20790 | E18: 75 | F18: 53.68 | H18: =E18*F18 -> 4026 | I18: x | J18: 4026
A19: MISC | J19: =192+154.12 -> 346.12
A20: Promethean Microcomputers | E20: 25 | F20: 564.91 | H20: =E20*F20 -> 14122.75 | J20: 4327.28
A22: DHS - refresh | J22: =4868.19+154.12 -> 5022.31
A23: Lab Stuff | J23: =216+982.8+4390+2384.4 -> 7973.2
A24: GWHS - refresh | J24: 154.12
C25: Computer Total | D25: =SUM(D6:D18) -> 280665 | G25: Computer Total | H25: =SUM(H6:H20) -> 276772.11
A27: Servers
A28: NOC Visions SQL Server | B28: 1 | C28: 9000 | D28: =B28*C28 -> 9000 | J28: 5792.27
A29: SQL Server Licensing | B29: 1 | C29: 5500 | D29: =B29*C29 -> 5500 | I29: x | J29: 2267.46
A30: DCSD Website Move | B30: 1 | C30: 17000 | D30: =B30*C30 -> 17000
C32: Server Total | D32: =SUM(D28:D30) -> 31500 | G32: Server Total | H32: =SUM(H28:H28) -> 0
A33: Hardware
A34: Site IDF UPS Systems | B34: 11 | C34: 2000 | D34: =B34*C34 -> 22000
A35: MES Promethean Projectors | B35: 30 | C35: 900 | D35: =B35*C35 -> 27000 | E35: 21 | F35: 565.9065 | H35: =E35*F35 -> 11884.037 | J35: 11884.04 | L35: $15,116 Savings
C37: Hardware Total | D37: =SUM(D34:D36) -> 49000 | G37: Hardware Total | H37: =SUM(H35:H36) -> 11884.037
A39: VoIP Phones/Communications
A40: JVES Bell System | B40: 1 | C40: 75000 | D40: =B40*C40 -> 75000 | J40: =2690 -> 2690 | K40: =15415+6125 -> 21540 | L40: Telcor Support for DW, DHS and CCMES
A41: VoIP PRI Gateway | B41: 1 | C41: 4500 | D41: =B41*C41 -> 4500
C43: VoIP Phone/Communications Total | D43: =SUM(D40:D42) -> 79500 | G43: VoIP Total | H43: 0
A45: Video Surveillance
A46: Entrance Cameras - SES JVES CCMES | D46: 18000
A47: Site Video Server Memory Upgrade | G47: 42411 | H47: 2915 | I47: x | J47: 5412.8 | K47: =3050.6+7559.64 -> 10610.24 | L47: Also Includes MES GES PHES Servers
A48: Site Video Server Hard Disk Upgrades | G48: 42411 | H48: 7559.64 | J48: 2915 | L48: Also Includes MES GES PHES Servers
...

Sheet Summer '16 (FY16_17)
A1: Proposed FY2017 5yr IT Equipment Replacement
B3: Qty. | C3: Price | E3: Actual Quantity | F3: Actual Price Ea | G3: Date Rcd | H3: Actual cost | J3: Notes
A4: MES, PHES & PDC Computers
A5: MES Computers | B5: 97 | C5: 675 | D5: =B5*C5 -> 65475 | J5: Computer price $675 + $54 for Office license
A6: PHES Computers | B6: 115 | C6: 675 | D6: =B6*C6 -> 77625
A7: PDC Computers | B7: 25 | C7: 675 | D7: =B7*C7 -> 16875
A8: Microsoft Office | B8: 237 | C8: 54 | D8: =B8*C8 -> 12798
C10: Computer Total | D10: =SUM(D5:D8) -> 172773 | G10: Computer Total | H10: =SUM(H5:H7) -> 0
A12: Servers
A13: Microsoft Software Licensing | B13: 1 | C13: 40000 | D13: =B13*C13 -> 40000
A14: NOC SAN (Equalogic) Upgrade | B14: 1 | C14: 40000 | D14: =B14*C14 -> 40000
C16: Server Total | D16: =SUM(D13:D14) -> 80000 | G16: Server Total | H16: =SUM(H13:H13) -> 0
A18: Hardware
A19: District Wide Wireless Upgrade | B19: 1 | C19: 300000 | D19: 110000
A20: Promethean Projectors PHES JVES | B20: 60 | C20: 900 | D20: =B20*C20 -> 54000
C23: Hardware Total | D23: =SUM(D19:D22) -> 164000 | G23: Hardware Total | H23: =SUM(H21:H22) -> 0
A25: VoIP Phones/Communications
A26: SES Bell System | B26: 1 | C26: 75000 | D26: =B26*C26 -> 75000
C28: VoIP Phone/Communications Total | D28: =SUM(D26:D27) -> 75000 | G28: VoIP Total | H28: 0
A30: Video Surveillance
A31: Entrance Cameras - MES PHES GES ZCES | D31: 20000
C33: Video Surveillance Total | D33: =D31 -> 20000 | G33: Video Surveillance Total | H33: =SUM(H30:H31) -> 0
A36: Total: | D36: =D10+D16+D23+D28+D33 -> 511773 | H36: =H10+H16+H23+H33 -> 0
A44: DW - Technology Replacement Schedule | B44: 300.000.0000.000.2900.XXX.03XXX.XX.421
A46: DW - Software Upgrades (< $5K) | B46: 651 | C46: =D8+D13 -> 52798
A47: DW - Hardware / Server Replacement (< $5K) | B47: 652
A48: DW - Desktop Computer Replacement | B48: 652 | C48: =D5+D6+D7 -> 159975
A49: DW - Tablet / Laptop Replacement | B49: 652
A50: DW - Promethean Projector Replacement | B50: 652 | C50: =D20 -> 54000
A51: DW - Communications Systems Renewal (Bell/Intercom/VOIP) | B51: 652
A52: DW - Bus Video Surveillance replacement | B52: 652
A53: DW - Video Surveillance Renewal (< $5K) | B53: 652
A54: DW - Video Surveillance System Renewal (> $5K) | B54: 734 | C54: =D31 -> 20000
A55: DW - Hardware / Server Replacement (> $5K) | B55: 734 | C55: =D14+D19 -> 150000
A56: DW - Communications Systems Renewal (Bell/Intercom/VOIP) | B56: 734 | C56: =D26 -> 75000
A57: DW - Software Upgrades (> $5K) | B57: 735
B59: Total | C59: =SUM(C46:C57) -> 511773

Sheet Summary FFE
A1: Room Type | B1: Room Quanity | C1: Total Cost/Room Type
A2: Classroom | B2: 6 | C2: =[4]Class!B7 -> 54630
A3: CTE Flex Lab | B3: 1 | C3: =[4]Flex!B7 -> 66209.9
A4: Tech Lab | B4: 1 | C4: ='[4]Tech Lab'!B7 -> 16640
A5: Tech Work Room | B5: 1 | C5: ='[4]Tech WR'!B7 -> 721.18
A6: Graphics Lab | B6: 1 | C6: =[4]Graphic!B7 -> 25280
A7: Speical Ed Classroom | B7: 1 | C7: ='[4]SPED Class'!B7 -> 6080
A8: Tutor Room | B8: 1 | C8: ='[4]SPED Tutor'!B7 -> 2240
A9: Speical Ed Office | B9: 1 | C9: ='[4]SPED Office'!B7 -> 6675
A10: Phyc Office | B10: 1
A11: Science Lab | B11: 4 | C11: ='[4]Science Lab'!B7 -> 39400
A12: Science Lab Workroom | B12: 2 | C12: ='[4]Science WR'!B7 -> 12318
A13: Copy Room | B13: 1
A14: Hallway | B14: 1 | C14: =[4]Hall!B7 -> 4000
A15: Commons | B15: 1 | C15: =[4]Commons!B7 -> 72000
A16: Functional Skills | B16: 1 | C16: ='[4]SPED FSkills'!B7 -> 4523.86
A17: Media Center (Board) | B17: 1
A19: Total | C19: =SUM(C2:C17) -> 310717.94
A21: Cushion | C21: 50000
A22: Changing Table | C22: 5000
A23: 500 Bldg | C23: 55000
A24: Contract | C24: 35000
C25: =SUM(C19:C24) -> 455717.94
A27: Original Est | C27: 605000
A28: Return to Soft Costs | C28: =C27-C25 -> 149282.06

Sheet REVISED EdTech
A1: Stem Building Technology | B1: Qnty | C1: Price | D1: Total
A3: Chromebook set 1st floor
A4: Chromebooks HP 14" | B4: 32 | C4: 340 | D4: =B4*C4 -> 10880
A5: Chromebook Cart | B5: 1 | C5: 1500 | D5: =B5*C5 -> 1500
A7: Chromebook set 2nd floor
A8: Chromebooks HP 14" | B8: 32 | C8: 340 | D8: =B8*C8 -> 10880
A9: Chromebook Cart | B9: 1 | C9: 1500 | D9: =B9*C9 -> 1500
A11: Laptop set
A12: Windows Laptops | B12: 32 | C12: 700 | D12: =B12*C12 -> 22400
A13: Laptop Cart | B13: 1 | C13: 1500 | D13: =B13*C13 -> 1500
A15: Classrooms x6
A16: Media Content Display | B16: 4 | C16: 3000 | D16: =B16*C16 -> 12000 | F16: 2 Classrooms funded through Community Grant
A17: Teacher Desktop | B17: 6 | C17: 700 | D17: =B17*C17 -> 4200
A18: Cables/Connectors | B18: 6 | C18: 100 | D18: =B18*C18 -> 600
A19: Document Camera | B19: 6 | C19: 400 | D19: =B19*C19 -> 2400
A20: Phone | B20: 6 | C20: 125 | D20: =B20*C20 -> 750
A22: Lab Classrooms 1st Floor x3
A23: Media Content Display | B23: 2 | C23: 3000 | D23: =B23*C23 -> 6000 | F23: 1 Lab funded through Community Grant
A24: Amp w/ Microphone | B24: 1 | C24: 2000 | D24: =B24*C24 -> 2000
A25: Teacher Desktop | B25: 3 | C25: 700 | D25: =B25*C25 -> 2100
A26: Cables/Connectors | B26: 3 | C26: 100 | D26: =B26*C26 -> 300
A27: Document Camera | B27: 3 | C27: 400 | D27: =B27*C27 -> 1200
A28: Phone | B28: 3 | C28: 125 | D28: =B28*C28 -> 375
A30: Lab Classrooms 2nd Floor - x4
A31: Media Content Display | B31: 4 | C31: 3000 | D31: =B31*C31 -> 12000
A32: Amp w/ Microphone | B32: 4 | C32: 2000 | D32: =B32*C32 -> 8000
A33: Teacher Desktop | B33: 4 | C33: 700 | D33: =B33*C33 -> 2800
A34: Cables/Connectors | B34: 4 | C34: 100 | D34: =B34*C34 -> 400
A35: Document Camera | B35: 4 | C35: 400 | D35: =B35*C35 -> 1600
A36: Computer Towers - Physics | B36: 6 | C36: 700 | D36: =B36*C36 -> 4200
A37: Phone | B37: 4 | C37: 125 | D37: =B37*C37 -> 500
A39: Special Ed x1
A40: Media Content Display | B40: 1 | C40: 3000 | D40: =B40*C40 -> 3000
A41: Computer/Monitor | B41: 1 | C41: 700 | D41: =B41*C41 -> 700
A42: Phone | B42: 1 | C42: 125 | D42: =B42*C42 -> 125
A44: Oscilloscopes | B44: 6 | C44: 900 | D44: =B44*C44 -> 5400
A45: 3D Printer | B45: 1 | D45: 5500 | F45: Includes Printing Media
A46: Digital Microscopes 2 sets | B46: 3 | C46: 140 | D46: =B46*C46 -> 420 | F46: AmScope MU300 | H46: SmartMicroscope 5M-500 (500x) and 5M (10x to 200x)
A47: Mobile Device Carts for Chromebooks | B47: 6 | C47: 1500 | D47: =B47*C47 -> 9000 | F47: STEM Chromebooks will be funded through the Community Grant
A49: Total EdTech | D49: =SUM(D4:D47) -> 134230
...

Sheet REVISED InfrastructureTech
A1: Surveillance Cameras | B1: Qnty | C1: Price | D1: Total
A2: Advidia A-14 | B2: 25 | C2: 250 | D2: =B2*C2 -> 6250 | E2: (17 for STEM, 4 for commons, 2 for 500 hall, 2 spares)
A3: Aercont AV8185DN | B3: 2 | C3: 1450 | D3: =B3*C3 -> 2900
A4: VideoInsight Licenses | B4: 2 | C4: 150 | D4: =B4*C4 -> 300
A5: DHS Video Data Storage increase | B5: 1 | C5: 6500 | D5: =B5*C5 -> 6500 | E5: 10 x 4Tb Drives $650 each
A7: Switches
A8: Extreme SecureStack B5 48Pt | B8: 3 | C8: 4000 | D8: =B8*C8 -> 12000
A10: Wireless APs
A11: Extreme 802.11ac | B11: 8 | C11: 600 | D11: =B11*C11 -> 4800
A13: Fiber Patch Cables | B13: 2 | C13: 100 | D13: =B13*C13 -> 200
C15: Total | D15: =SUM(D2:D13) -> 32950
A17: Portables Data Cabling | D17: 40000

Sheet DHS STEM EdTech
A1: Stem Building Technology | B1: Qnty | C1: Price | D1: Total
A3: Chromebook set 1st floor
A4: Chromebooks HP 14" | B4: 32 | C4: 340 | D4: =B4*C4 -> 10880
A5: Chromebook Cart | B5: 1 | C5: 1500 | D5: =B5*C5 -> 1500
A7: Chromebook set 2nd floor
A8: Chromebooks HP 14" | B8: 32 | C8: 340 | D8: =B8*C8 -> 10880
A9: Chromebook Cart | B9: 1 | C9: 1500 | D9: =B9*C9 -> 1500
A11: Laptop set for 1st Floor
A12: Windows Laptops | B12: 32 | C12: 700 | D12: =B12*C12 -> 22400
A13: Laptop Cart | B13: 1 | C13: 1500 | D13: =B13*C13 -> 1500
A15: Laptop set for 2nd Floor
A16: Windows Laptops | B16: 32 | C16: 700 | D16: =B16*C16 -> 22400
A17: Laptop Cart | B17: 1 | C17: 1500 | D17: =B17*C17 -> 1500
A19: Classrooms x6
A20: Interactive Whiteboard | B20: 6 | C20: 4000 | D20: =B20*C20 -> 24000
A21: ChromeCast | B21: 6 | C21: 40 | D21: =B21*C21 -> 240
A22: Amp | B22: 6 | C22: 200 | D22: =B22*C22 -> 1200
A23: Teacher Tablet/Desktop | B23: 6 | C23: 1200 | D23: =B23*C23 -> 7200
A24: Cables/Connectors | B24: 6 | C24: 100 | D24: =B24*C24 -> 600
A25: Document Camera | B25: 6 | C25: 400 | D25: =B25*C25 -> 2400
A26: Phone | B26: 6 | C26: 125 | D26: =B26*C26 -> 750
A28: Lab Classrooms 1st Floor x3
A29: Interactive Whiteboard | B29: 3 | C29: 4000 | D29: =B29*C29 -> 12000
A30: ChromeCast | B30: 3 | C30: 40 | D30: =B30*C30 -> 120
A31: Amp | B31: 3 | C31: 200 | D31: =B31*C31 -> 600
A32: Teacher Tablet/Desktop | B32: 3 | C32: 1200 | D32: =B32*C32 -> 3600
A33: Cables/Connectors | B33: 3 | C33: 100 | D33: =B33*C33 -> 300
A34: Document Camera | B34: 3 | C34: 400 | D34: =B34*C34 -> 1200
A35: Phone | B35: 3 | C35: 125 | D35: =B35*C35 -> 375
A37: Lab Classrooms 2nd Floor - x4
A38: Interactive Whiteboard | B38: 4 | C38: 4000 | D38: =B38*C38 -> 16000
A39: ChromeCast | B39: 4 | C39: 40 | D39: =B39*C39 -> 160
A40: Amp w/ Microphone | B40: 4 | C40: 2000 | D40: =B40*C40 -> 8000
A41: Teacher Tablet/Desktop | B41: 4 | C41: 1200 | D41: =B41*C41 -> 4800
A42: Cables/Connectors | B42: 4 | C42: 100 | D42: =B42*C42 -> 400
A43: Document Camera | B43: 4 | C43: 400 | D43: =B43*C43 -> 1600
A44: Computer Towers - Physics | B44: 6 | C44: 700 | D44: =B44*C44 -> 4200
A45: Phone | B45: 4 | C45: 125 | D45: =B45*C45 -> 500
A47: Special Ed x1
A48: Interactive Whiteboard | B48: 1 | C48: 4000 | D48: =B48*C48 -> 4000
...

Sheet DHS STEM InfrastructureTech
A1: Surveillance Cameras | B1: Qnty | C1: Price | D1: Total
A2: Advidia A-14 | B2: 25 | C2: 250 | D2: =B2*C2 -> 6250 | E2: (17 for STEM, 4 for commons, 2 for 500 hall, 2 spares)
A3: Aercont AV8185DN | B3: 2 | C3: 1450 | D3: =B3*C3 -> 2900
A4: VideoInsight Licenses | B4: 2 | C4: 150 | D4: =B4*C4 -> 300
A5: DHS Video Data Storage increase | B5: 1 | C5: 6500 | D5: =B5*C5 -> 6500 | E5: 10 x 4Tb Drives $650 each
A7: Switches
A8: Extreme SecureStack B5 48Pt | B8: 3 | C8: 4000 | D8: =B8*C8 -> 12000
A10: Wireless APs
A11: Extreme 802.11ac | B11: 8 | C11: 600 | D11: =B11*C11 -> 4800
A13: Fiber Patch Cables | B13: 2 | C13: 100 | D13: =B13*C13 -> 200
C15: Total | D15: =SUM(D2:D13) -> 32950
A17: Portables Data Cabling | D17: 40000
C19: TOTAL | D19: =D17+D15 -> 72950

Sheet Summer '14
A1: Proposed FY2015 5yr IT Equipment Replacement
B3: Qty. | C3: Price | E3: Actual Quantity | F3: Actual Price Ea | G3: Date Rcd | H3: Actual cost | J3: Notes
A4: PDC, PHES & PDC Computers | J4: Computer price $699 + $51 for Office license
A5: DHS Computers | B5: 270 | C5: 750 | D5: =B5*C5 -> 202500 | E5: 145 | F5: 588.62 | H5: =E5*F5 -> 85349.9 | J5: Not refreshing DHS lab computers
A6: JVES Computers | B6: 110 | C6: 750 | D6: =B6*C6 -> 82500 | E6: 108 | F6: 588.62 | H6: =E6*F6 -> 63570.96
A7: JHS Computers | E7: 52 | F7: 588.62 | H7: =E7*F7 -> 30608.24
A8: Smart Board Computer Replacements | E8: 10 | F8: 588.62 | H8: =E8*F8 -> 5886.2
A9: Office Licenses for Refresh | E9: 315 | F9: 53.68 | H9: =E9*F9 -> 16909.2
A10: KACE License | B10: 400 | C10: 22.8 | D10: =B10*C10 -> 9120 | E10: 100 | F10: 22.8 | H10: =E10*F10 -> 2280
A11: Windows 7 Licensing | B11: 120 | C11: 51 | D11: =B11*C11 -> 6120 | E11: 120 | F11: 50.91 | H11: =E11*F11 -> 6109.2 | J11: For DHS lab computer referbish
A12: Miicrosoft Office for Additional Computers | B12: 120 | C12: 53 | D12: =B12*C12 -> 6360 | E12: 120 | F12: 53.68 | H12: =E12*F12 -> 6441.6 | J12: For DHS lab computer referbish
A13: DHS Chromebooks | E13: 225 | F13: 311 | H13: =E13*F13 -> 69975 | J13: Chromebooks are in lieu of DHS lab computers
A14: DHS Chromebook Management Licenses | E14: 225 | F14: 25 | H14: =E14*F14 -> 5625
A15: DHS Chromebook Carts | E15: 7 | F15: 1469 | H15: =E15*F15 -> 10283
C17: Computer Total | D17: =SUM(D5:D12) -> 306600 | G17: Computer Total | H17: =SUM(H5:H15) -> 303038.3
A19: Servers
A20: Airport Server | B20: 1 | C20: 10000 | D20: =B20*C20 -> 10000 | H20: 10000 | J20: Green Text = not pruchased yet
A21: NOC VMCenter | B21: 1 | C21: 26000 | D21: =B21*C21 -> 26000 | H21: 26000
A22: Site Servers Backup System | B22: 1 | C22: 15000 | D22: =B22*C22 -> 15000 | H22: 15000
A23: Bus Video Server | B23: 1 | C23: 8000 | D23: =B23*C23 -> 8000 | E23: 1 | F23: 7037.93 | H23: =E23*F23 -> 7037.93
C25: Server Total | D25: =SUM(D20:D23) -> 59000 | G25: Server Total | H25: =SUM(H20:H23) -> 58037.93
A27: Hardware
A28: iBoss Web Filter Upgrade | D28: 4000 | H28: 4000
A29: Fiber Switches | D29: 10000 | H29: 10000
C31: Hardware Total | D31: =SUM(D28:D30) -> 14000 | G31: Hardware Total | H31: =SUM(H28:H30) -> 14000
A33: VoIP Phones
C35: VoIP Phone Total | D35: =SUM(D34:D34) -> 0 | G35: VoIP Total | H35: 0
A36: Video Surveillance
A38: DHS - Football Field | D38: 20000 | H38: 20000
A39: Miscellaneous Camera Repair | D39: 3400 | H39: 3400
C41: Video Surveillance Total | D41: =SUM(D36:D40) -> 23400 | G41: Video Surveillance Total | H41: =SUM(H38:H40) -> 23400
C44: Total Proposed IT CIP Budget | D44: =D17+D25+D31+D35+D41 -> 403000 | G44: Total Actual IT CIP Budget | H44: =H17+H25+H31+H41 -> 398476.23 | J44: 403,850 is CIP Target Budget
A53: DW - Technology Replacement Schedule | B53: 300.000.0000.000.2900.XXX.03XXX.XX.421
A55: DW - Software Upgrades (< $5K) | B55: 651 | C55: =H9+H10+H11+H12+H14 -> 37365
A56: DW - Hardware / Server Replacement (< $5K) | B56: 652 | C56: =H28+H29 -> 14000
A57: DW - Desktop Computer Replacement | B57: 652 | C57: =H5+H6+H7+H8 -> 185415.3
A58: DW - Tablet / Laptop Replacement | B58: 652 | C58: =H13+H15 -> 80258
A59: DW - Promethean Projector Replacement | B59: 652
A60: DW - Communications Systems Renewal (Bell/Intercom/VOIP) | B60: 652
A61: DW - Bus Video Surveillance replacement | B61: 652
...

Sheet IT - Summer '13
A1: Proposed FY2014 5yr IT Equipment Replacement
B3: Qty. | C3: Price | F3: Date Rcd | G3: Actual Qty | H3: Actual Ea | I3: John's Numbers | J3: FINAL Actuals | L3: PO INFO | M3: Notes
A4: PDC, PHES & PDC Computers
A5: CCMES Computers | B5: 110 | C5: 750 | D5: =B5*C5 -> 82500 | F5: Aug 1 | G5: 111 | H5: 618.77 | I5: =G5*H5 -> 68683.47 | J5: =I5 -> 68683.47 | L5: 0405 | M5: Computer price $699 + $51 for Office license
A6: ZCES Computers | B6: 85 | C6: 750 | D6: =B6*C6 -> 63750 | F6: Aug 1 | G6: 77 | H6: 618.77 | I6: =G6*H6 -> 47645.29 | J6: =I6 -> 47645.29 | L6: 0405
A7: WHS Computers | B7: 80 | C7: 750 | D7: =B7*C7 -> 60000 | F7: Aug 1 | G7: 90 | H7: 618.77 | I7: =G7*H7 -> 55689.3 | J7: =I7 -> 55689.3 | L7: 0405
A8: SPED Computers | B8: 25 | C8: 750 | D8: =B8*C8 -> 18750 | F8: Aug 1 | G8: 12 | H8: 618.77 | I8: =G8*H8 -> 7425.24 | J8: =I8 -> 7425.24 | L8: 0405
A9: ZCES Computers - 2 Additional | F9: Oct 4 | G9: 2 | H9: 618.77 | I9: =G9*H9 -> 1237.54 | J9: =I9 -> 1237.54 | L9: 2123 | M9: 2 additional computers for larger class size
A10: HDMI to VGA Adapters | F10: July 23 | G10: 90 | H10: 26.708 | I10: =G10*H10 -> 2403.72 | J10: 2438.72 | L10: 0256 | M10: For Computers Connected to Promethean Boards
A11: Dell ChromeBooks | F11: Feb 1 | G11: 30 | H11: 277.64 | I11: =G11*H11 -> 8329.2 | J11: 8329.2 | L11: 3915
A12: ChromeBook Cart | F12: Feb 1 | G12: 1 | H12: 1443.91 | I12: =G12*H12 -> 1443.91 | J12: 1443.91 | L12: 3385 | M12: Chromebook Project Total $10,613.11
A13: Kbox Node Upgrade | F13: Oct 30 | G13: 1 | H13: 1900 | I13: =G13*H13 -> 1900 | J13: 2280 | L13: 2594 | M13: 100 Node Upgrade for Kbox K1000
A14: Dell ChromeBook Management License | F14: Feb 7 | G14: 30 | H14: 28 | I14: =G14*H14 -> 840 | J14: 840 | L14: 4437
A15: Microsoft Office 2013 Pro Plus | F15: Oct 30 | G15: 400 | H15: 53.68 | I15: =G15*H15 -> 21472 | J15: 21472 | L15: 2298 | M15: 290+110 =400 110 for refurbished comp
C16: Computer Total | D16: =SUM(D5:D8) -> 225000 | I16: =SUM(I5:I15) -> 217069.67 | K16: 290 | M16: Computers Total
A18: Hardware/Servers
A19: JVES Server | B19: 1 | C19: 5000 | M19: Replaced in 2012
A20: CCMES Server | B20: 1 | C20: 5000 | M20: Replaced in 2012
A21: JHS | B21: 1 | C21: 3000 | M21: Replaced in 2012
A22: DO Server | B22: 1 | C22: 5000 | M22: Replaced in 2012
A23: Server UPS - split to sites | B23: 9 | C23: 1200 | D23: =B23*C23 -> 10800 | H23: 1275 | I23: =B23*H23 -> 11475 | J23: 11204 | L23: 5776 | M23: 9 8 sites APC Still Need to purchase | O23: GES
A24: Server UPS - DHS NOC; DW IT NOC @ Airport Facilities | B24: 1 | H24: 9956.71 | I24: =B24*H24 -> 9956.71 | J24: 11494 | L24: 5089 | M24: 1 sites - still need to purchase | O24: ZCES
A25: Exchange 2013 Licensing | F25: Oct 30 | G25: 1 | H25: 4226.42 | I25: =G25*H25 -> 4226.42 | J25: =2650+1576.42 -> 4226.42 | L25: 2298 | M25: 1000 User - 2 Server Exchange 2013 License | O25: SES
A26: Watchgaurd Firewall | B26: 1 | C26: 10000 | D26: 10000 | M26: Redirected $10,000 to CVMS Chromebooks | O26: PHES
A27: Email Archiver | B27: 1 | C27: 5000 | D27: =B27*C27 -> 5000 | J27: =2408.48+38158.27 -> 40566.75 | L27: 3493 | M27: Redirected $5,000 to VoIP Project | O27: MES
A28: DHS Network Switch Refresh | F28: Feb 6 | G28: 1 | H28: 44949.04 | I28: =G28*H28 -> 44949.04 | J28: =42540.56-38158.27 -> 4382.29 | L28: 3493 | M28: 2408.48 = 652; 42540.56 = 650 | O28: CVMS
A29: Laptop Laser Scribe/Engraver | G29: 1 | H29: 19339 | I29: =G29*H29 -> 19339 | J29: 19539 | L29: 4878 | M29: On order 4/30 | O29: PWLMS
A30: Network Switches for Heritage Building | G30: 2 | H30: 2500 | I30: =G30*H30 -> 5000 | J30: 0 | L30: NO PO | M30: Need to Purchase | O30: GWHS
C31: Hardware/Server Total | D31: =SUM(D23:D27) -> 25800 | I31: =SUM(I23:I30) -> 94946.17 | M31: Total Includes Server Total
A33: VoIP Phones
A34: ZCES | D34: 25000
A35: WHS | D35: 25000
A36: CVMS | D36: 35000
A37: SES | D37: 25000
A38: PWL | D38: 35000
A39: GES
A40: Hardware All Sites - Phones, VoIP Gateways- split to sites | F40: Aug 1 | I40: 57751 | J40: 57751.04 | L40: 0257 | M40: 14 sites
A41: All Sites - 3CX VoIP Software | F41: Aug 1 | I41: 20283 | J41: =19730+553 -> 20283 | L41: 0258 | M41: 14 Sites
A42: Software - All Sites - 911 Notifier | F42: Aug 1 | I42: 6930 | J42: =575+6930 -> 7505 | L42: 0408
C44: VoIP Phone Total | D44: =SUM(D34:D36) -> 85000 | I44: =SUM(I34:I43) -> 84964
...

Sheet VOIP system
A1: Site | B1: Phone Model | C1: Model Count | D1: Phone Cost | E1: Total Phone Cost | F1: FXO Gateway Model | G1: FXO Gate Cost | H1: PRI Gateway Model | I1: PRI Gateway Cost
A2: DHS | B2: GXP2100 | C2: 120 | D2: 62.21 | E2: =C2*D2 -> 7465.2 | F2: SN4114/JO/EUI | G2: 273.48 | H2: Patton SN4970/1E24V/EUI | I2: 1335.6
B3: GXP2124V2 | C3: 20 | D3: 87.56 | E3: =C3*D3 -> 1751.2
A4: JVES | B4: GXP2100 | C4: 45 | D4: 62.21 | E4: =C4*D4 -> 2799.45 | F4: SN4114/JO/EUI | G4: 273.48
B5: GXP2124V2 | C5: 5 | D5: 87.56 | E5: =C5*D5 -> 437.8
A6: PHES | B6: GXP2100 | C6: 45 | D6: 62.21 | E6: =C6*D6 -> 2799.45 | F6: SN4114/JO/EUI | G6: 273.48
B7: GXP2124V2 | C7: 5 | D7: 87.56 | E7: =C7*D7 -> 437.8
A8: MES | B8: GXP2100 | C8: 45 | D8: 62.21 | E8: =C8*D8 -> 2799.45 | F8: SN4114/JO/EUI | G8: 273.48
B9: GXP2124V2 | C9: 5 | D9: 87.56 | E9: =C9*D9 -> 437.8
A10: ASPIRE | B10: GXP2100 | C10: 5 | D10: 62.21 | E10: =C10*D10 -> 311.05 | F10: SN4114/JO/EUI | G10: 273.48
B11: GXP2124V2 | C11: 10 | D11: 87.56 | E11: =C11*D11 -> 875.6
A12: AP | B12: GXP2124V2 | C12: 26 | D12: 87.56 | E12: =C12*D12 -> 2276.56 | F12: SN4114/2JS2JO/EUI | G12: 273.48 | H12: Patton SN4970/1E24V/EUI | I12: 1335.6
A14: DO | B14: GXP2100 | C14: 0 | D14: 62.21 | E14: =C14*D14 -> 0 | F14: SN4114/2JS2JO/EUI | G14: 273.48 | H14: Patton SN4970/1E24V/EUI | I14: 1335.6
B15: GXP2124V2 | C15: 29 | D15: 87.56 | E15: =C15*D15 -> 2539.24
A16: GES | B16: GXP2100 | C16: 45 | D16: 62.21 | E16: =C16*D16 -> 2799.45 | F16: SN4114/JO/EUI | G16: 273.48
B17: GXP2124V2 | C17: 5 | D17: 87.56 | E17: =C17*D17 -> 437.8
A18: CCMES | B18: GXP2100 | C18: 45 | D18: 62.21 | E18: =C18*D18 -> 2799.45 | F18: SN4114/JO/EUI | G18: 273.48
B19: GXP2124V2 | C19: 5 | D19: 87.56 | E19: =C19*D19 -> 437.8
A20: SES | B20: GXP2100 | C20: 45 | D20: 62.21 | E20: =C20*D20 -> 2799.45 | F20: SN4114/JO/EUI | G20: 273.48
B21: GXP2124V2 | C21: 5 | D21: 87.56 | E21: =C21*D21 -> 437.8
A22: PWLMS | B22: GXP2100 | C22: 65 | D22: 62.21 | E22: =C22*D22 -> 4043.65 | F22: SN4114/JO/EUI | G22: 273.48
B23: GXP2124V2 | C23: 10 | D23: 87.56 | E23: =C23*D23 -> 875.6
A24: CVMS | B24: GXP2100 | C24: 55 | D24: 62.21 | E24: =C24*D24 -> 3421.55 | F24: SN4114/JO/EUI | G24: 273.48
B25: GXP2124V2 | C25: 10 | D25: 87.56 | E25: =C25*D25 -> 875.6
A26: ZCES | B26: GXP2100 | C26: 20 | D26: 62.21 | E26: =C26*D26 -> 1244.2 | F26: SN4114/JO/EUI | G26: 273.48
B27: GXP2124V2 | C27: 5 | D27: 87.56 | E27: =C27*D27 -> 437.8
A28: WHS | B28: GXP2100 | C28: 30 | D28: 62.21 | E28: =C28*D28 -> 1866.3 | F28: SN4114/JO/EUI | G28: 273.48
B29: GXP2124V2 | C29: 10 | D29: 87.56 | E29: =C29*D29 -> 875.6
A31: Spares | B31: GXP2100 | C31: 10 | D31: 62.21 | E31: =C31*D31 -> 622.1
A32: Spares | B32: GXP2124V2 | C32: 10 | D32: 87.56 | E32: =C32*D32 -> 875.6
A34: Totals | B34: GXP2100 | C34: =C2+C4+C6+C8+C10+C14+C16+C18+C20+C22+C24+C26+C28+C31 -> 575 | D34: 62.21 | E34: =C34*D34 -> 35770.75
B35: GXP2124V2 | C35: =C3+C5+C7+C9+C11+C12+C15+C17+C19+C21+C23+C25+C27+C29+C32 -> 160 | D35: 87.56 | E35: =C35*D35 -> 14009.6
A37: Totals | C37: =SUM(C2:C29) -> 715 | E37: =SUM(E34:E35) -> 49780.35 | G37: =SUM(G2:G28) -> 3828.72 | I37: =SUM(I2:I28) -> 4006.8
D38: Shipping | E38: 135
D40: Total | E40: =E37+E38+G37+I37 -> 57750.87
A42: Site Totals
A43: Airport | B43: =E12+G12+I12 -> 3885.64
A44: ASPIRE | B44: =E10+E11+G10 -> 1460.13
A45: CCMES | B45: =E18+E19+G18 -> 3510.73
A46: CVMS | B46: =E24+E25+G24 -> 4570.63
...
