Workbook

Sheet 1 Oper Budget Approp
A1: BRIDGEPORT PUBLIC SCHOOLS
A2: OPERATING BUDGET APPROPRIATION
A4: Year | C4: Description | G4: Amount | I4: Amount | L4: Amount
A5: FY 12 | C5: Budget Appropriation | L5: 215843895
C7: City Contribution | G7: 51648551 | M7: =G7/$L$5 -> 0.2392866
C9: FY12 State ECS | G9: 164195344 | M9: =G9/$L$5 -> 0.7607134
A12: FY 13 | C12: Budget Appropriation | L12: =224218122+16502 -> 224234624
C14: City Contribution | G14: 55635053 | M14: =G14/$L$12 -> 0.24811089
C15: ……Amount of Increase | E15: [State Mandate = $3,649,575] | I15: =G14-G7 -> 3986502 | K15: =I15/G7 -> 0.077185166 | L15: Increase
C17: FY13 State ECS | G17: 164195344 | M17: =F19/$L$12 -> 0.75188911
C18: FY13 State ALLIANCE/ECS | G18: 4404227
D19: STATE TOTAL = | F19: =SUM(G17:G18) -> 168599571
C20: ……Amount of Increase | I20: =F19-G9 -> 4404227 | K20: =I20/G9 -> 0.026823093 | L20: Increase | O20: =I20 -> 4404227 | P20: Alliance/ECS grant
C21: FY13 compared to FY12 | K21: Amount/Percentage of Increase: | O21: =L12-L5 -> 8390729 | P21: =O21/L5 -> 0.038874062
A24: FY 14 | C24: BUDGET APPROPRIATION | L24: =L12+I26+I32 -> 232641042
C25: City Contribution | G25: =G14+I26 -> 58916756 | H25: * | M25: =G25/$L$24 -> 0.25325177
C26: ……Amount of Increase | I26: 3281703 | K26: =I26/G14 -> 0.058986247 | L26: Increase
C27: ……* BOE expenditures for Crossing Guards/Snow Removal/Garbage Collection were moved to the City budget (2011-12). | M27: 1212273
C28: ……* The City committed $1,019,400 by reducing the BOE's contribution for Worker's Compensation. | L28: To be continued in future years.
C29: FY14 State ECS | G29: 164195344 | M29: =F31/L24 -> 0.74674823
C30: FY14 State ALLIANCE/ECS | G30: 9528942
D31: STATE TOTAL = | F31: =SUM(G29:G30) -> 173724286
C32: ……Amount of Increase | I32: =F31-F19 -> 5124715 | K32: =I32/F19 -> 0.030395777 | L32: Increase | O32: 9528942 | P32: Alliance/ECS grant
C34: FY14 compared to FY13 | K34: Amount/Percentage of Increase: | O34: =L24-L12 -> 8406418 | P34: =O34/L12 -> 0.037489384
C36: MBR | H36: Amount in Operating Budget = | L36: -1078805 | M36: ..Adjusted Credit in MBR for "Moved Services"
C37: 1200000 | D37: State Grant to the City, for appropriation in the City Share. | L37: -1019400 | M37: ..Internal adjustment: releases $1M from workers compensation
C38: 1019400 | D38: W/C Reduction - Internal Adjustment | L38: =-O32 -> -9528942 | M38: ..State Alliance Grant
C39: 1062303 | D39: Adjusted Credit, "Moved Services" | L39: =SUM(L24,L36:L38) -> 221013895 | M39: ..CASH AMOUNT IN MUNIS
C40: =SUM(C37:C39) -> 3281703 | D40: TOTAL
C41: =219830397-219813895 -> 16502 | D41: MBR Shortage: FY 13 Appropriation - FY 14 Budget | L41: =L39+O32 -> 230542837 | M41: …BUDGET PLAN, WITH ALLIANCE
C42: =SUM(C40:C41) -> 3298205
A45: FY 15 | C45: BUDGET APPROPRIATION | L45: =SUM(G46+F51) -> 239526866
C46: City Contribution | G46: =G25+1693460+16502 -> 60626718 | M46: =G46/$L$24 -> 0.26060199
C47: ……Amount of Increase | I47: 1693460 | K47: =I47/G25 -> 0.028743266 | L47: Increase
C49: FY15 State ECS | G49: 164195344 | M49: =F51/L45 -> 0.7468897
C50: FY15 State ALLIANCE/ECS | G50: 14704804
D51: STATE TOTAL = | F51: =SUM(G49:G50) -> 178900148
C52: ……Amount of Increase | I52: =4284548+891314 -> 5175862 | K52: =I52/F31 -> 0.029793543 | L52: Increase | O52: 14704804 | P52: Alliance/ECS grant
C54: FY15 compared to FY14 | K54: Amount/Percentage of Increase: | O54: =L45-L24 -> 6885824 | P54: =O54/L24 -> 0.029598492
C56: MBR | H56: Amount in Operating Budget = | L56: -1078805 | M56: ..Adjusted Credit in MBR for "Moved Services"
...

Sheet 2 OPBUD Summary
A1: BRIDGEPORT PUBLIC SCHOOLS
A2: GENERAL FUND TREND
D3: As of | E3: JANUARY | F3: 2026
A5: 2026-27 GENERAL OPERATING BUDGET
A7: ACCOUNT | B7: DESCRIPTION | C7: FY2027 REQUESTED BUDGET | D7: FY26 BUDGET | E7: FY2025 | F7: FY2024 | G7: FY2023 | H7: FY2022 | I7: FY2021 | J7: FY2020 | K7: VARIANCE
A8: 800 | B8: Principals/Supervisors | C8: ='3 OPBUD Detail'!I3 -> 12480514 | D8: ='3 OPBUD Detail'!J3 -> 11214473 | E8: ='3 OPBUD Detail'!K3 -> 12665928 | F8: ='3 OPBUD Detail'!L3 -> 10150557 | G8: ='3 OPBUD Detail'!M3 -> 9959847.5 | H8: ='3 OPBUD Detail'!N3 -> 9773662.8 | I8: ='3 OPBUD Detail'!O3 -> 9424898 | J8: ='3 OPBUD Detail'!P3 -> 9514850.2 | K8: =Table4[[#This Row],[FY26 BUDGET]]-Table4[[#This Row],[FY2027 REQUESTED BUDGET]] -> -1266041.5
A9: 801 | B9: Elementary Classroom | C9: ='3 OPBUD Detail'!I4 -> 18885437 | D9: ='3 OPBUD Detail'!J4 -> 19959724 | E9: ='3 OPBUD Detail'!K4 -> 30029495 | F9: ='3 OPBUD Detail'!L4 -> 31415629 | G9: ='3 OPBUD Detail'!M4 -> 31772193 | H9: ='3 OPBUD Detail'!N4 -> 30790885 | I9: ='3 OPBUD Detail'!O4 -> 32029893 | J9: ='3 OPBUD Detail'!P4 -> 32188188 | K9: =Table4[[#This Row],[FY26 BUDGET]]-Table4[[#This Row],[FY2027 REQUESTED BUDGET]] -> 1074287.3
A10: 802 | B10: Substitutes | C10: ='3 OPBUD Detail'!I5 -> 4797663.9 | D10: ='3 OPBUD Detail'!J5 -> 4483798 | E10: ='3 OPBUD Detail'!K5 -> 4004491.2 | F10: ='3 OPBUD Detail'!L5 -> 2316684.7 | G10: ='3 OPBUD Detail'!M5 -> 1228489.4 | H10: ='3 OPBUD Detail'!N5 -> 1435471.4 | I10: ='3 OPBUD Detail'!O5 -> 429004.08 | J10: ='3 OPBUD Detail'!P5 -> 1678701 | K10: =Table4[[#This Row],[FY26 BUDGET]]-Table4[[#This Row],[FY2027 REQUESTED BUDGET]] -> -313865.86
A11: 803 | B11: Paraprofessionals | C11: ='3 OPBUD Detail'!I6 -> 1317744.2 | D11: ='3 OPBUD Detail'!J6 -> 83040.69 | E11: ='3 OPBUD Detail'!K6 -> 231389.76 | F11: ='3 OPBUD Detail'!L6 -> 308629.48 | G11: ='3 OPBUD Detail'!M6 -> 255013.95 | H11: ='3 OPBUD Detail'!N6 -> 245529.15 | I11: ='3 OPBUD Detail'!O6 -> 0 | J11: ='3 OPBUD Detail'!P6 -> 0 | K11: =Table4[[#This Row],[FY26 BUDGET]]-Table4[[#This Row],[FY2027 REQUESTED BUDGET]] -> -1234703.5
A12: 804 | B12: School Clericals | C12: ='3 OPBUD Detail'!I7 -> 5344091 | D12: ='3 OPBUD Detail'!J7 -> 4166117.7 | E12: ='3 OPBUD Detail'!K7 -> 5086193.7 | F12: ='3 OPBUD Detail'!L7 -> 5075874.5 | G12: ='3 OPBUD Detail'!M7 -> 5024695.7 | H12: ='3 OPBUD Detail'!N7 -> 4865654.5 | I12: ='3 OPBUD Detail'!O7 -> 4699523.4 | J12: ='3 OPBUD Detail'!P7 -> 4530794.7 | K12: =Table4[[#This Row],[FY26 BUDGET]]-Table4[[#This Row],[FY2027 REQUESTED BUDGET]] -> -1177973.3
A13: 805 | B13: Instructional Supplies | C13: ='3 OPBUD Detail'!I8 -> 114831.93 | D13: ='3 OPBUD Detail'!J8 -> 111487.31 | E13: ='3 OPBUD Detail'!K8 -> 76619.56 | F13: ='3 OPBUD Detail'!L8 -> 86049.54 | G13: ='3 OPBUD Detail'!M8 -> 98881.13 | H13: ='3 OPBUD Detail'!N8 -> 111845.24 | I13: ='3 OPBUD Detail'!O8 -> 40780.34 | J13: ='3 OPBUD Detail'!P8 -> 45767.32 | K13: =Table4[[#This Row],[FY26 BUDGET]]-Table4[[#This Row],[FY2027 REQUESTED BUDGET]] -> -3344.6193
A14: 806 | B14: Supplementary Supplies | C14: ='3 OPBUD Detail'!I9 -> 623774.81 | D14: ='3 OPBUD Detail'!J9 -> 566870.74 | E14: ='3 OPBUD Detail'!K9 -> 608540.3 | F14: ='3 OPBUD Detail'!L9 -> 421314.12 | G14: ='3 OPBUD Detail'!M9 -> 430724.63 | H14: ='3 OPBUD Detail'!N9 -> 355559.3 | I14: ='3 OPBUD Detail'!O9 -> 392320.87 | J14: ='3 OPBUD Detail'!P9 -> 376904.37 | K14: =Table4[[#This Row],[FY26 BUDGET]]-Table4[[#This Row],[FY2027 REQUESTED BUDGET]] -> -56904.068
A15: 807 | B15: High School Textbooks | C15: ='3 OPBUD Detail'!I10 -> 0 | D15: ='3 OPBUD Detail'!J10 -> 0 | E15: ='3 OPBUD Detail'!K10 -> 0 | F15: ='3 OPBUD Detail'!L10 -> 0 | G15: ='3 OPBUD Detail'!M10 -> 0 | H15: ='3 OPBUD Detail'!N10 -> 0 | I15: ='3 OPBUD Detail'!O10 -> 0 | J15: ='3 OPBUD Detail'!P10 -> 0 | K15: =Table4[[#This Row],[FY26 BUDGET]]-Table4[[#This Row],[FY2027 REQUESTED BUDGET]] -> 0
A16: 808 | B16: Elementary Textbooks | C16: ='3 OPBUD Detail'!I11 -> 0 | D16: ='3 OPBUD Detail'!J11 -> 0 | E16: ='3 OPBUD Detail'!K11 -> 0 | F16: ='3 OPBUD Detail'!L11 -> 0 | G16: ='3 OPBUD Detail'!M11 -> 0 | H16: ='3 OPBUD Detail'!N11 -> 0 | I16: ='3 OPBUD Detail'!O11 -> 0 | J16: ='3 OPBUD Detail'!P11 -> 0 | K16: =Table4[[#This Row],[FY26 BUDGET]]-Table4[[#This Row],[FY2027 REQUESTED BUDGET]] -> 0
A17: 809 | B17: Kindergarten Teachers | C17: ='3 OPBUD Detail'!I12 -> 826321.44 | D17: ='3 OPBUD Detail'!J12 -> 5801079.4 | E17: ='3 OPBUD Detail'!K12 -> 4742923.3 | F17: ='3 OPBUD Detail'!L12 -> 3436543.8 | G17: ='3 OPBUD Detail'!M12 -> 3309479.8 | H17: ='3 OPBUD Detail'!N12 -> 3383298.7 | I17: ='3 OPBUD Detail'!O12 -> 3705966.7 | J17: ='3 OPBUD Detail'!P12 -> 3939258.7 | K17: =Table4[[#This Row],[FY26 BUDGET]]-Table4[[#This Row],[FY2027 REQUESTED BUDGET]] -> 4974758
A18: 810 | B18: Bilingual Education | C18: ='3 OPBUD Detail'!I13 -> 1548586.2 | D18: ='3 OPBUD Detail'!J13 -> 6301538 | E18: ='3 OPBUD Detail'!K13 -> 6594240.1 | F18: ='3 OPBUD Detail'!L13 -> 4788681 | G18: ='3 OPBUD Detail'!M13 -> 6044003.2 | H18: ='3 OPBUD Detail'!N13 -> 6398991.2 | I18: ='3 OPBUD Detail'!O13 -> 6267690.7 | J18: ='3 OPBUD Detail'!P13 -> 6420189.8 | K18: =Table4[[#This Row],[FY26 BUDGET]]-Table4[[#This Row],[FY2027 REQUESTED BUDGET]] -> 4752951.8
A19: 811 | B19: Bilingual Aides | C19: ='3 OPBUD Detail'!I14 -> 0 | D19: ='3 OPBUD Detail'!J14 -> 0 | E19: ='3 OPBUD Detail'!K14 -> 0 | F19: ='3 OPBUD Detail'!L14 -> 13547.08 | G19: ='3 OPBUD Detail'!M14 -> 0 | H19: ='3 OPBUD Detail'!N14 -> 0 | I19: ='3 OPBUD Detail'!O14 -> 0 | J19: ='3 OPBUD Detail'!P14 -> 0 | K19: =Table4[[#This Row],[FY26 BUDGET]]-Table4[[#This Row],[FY2027 REQUESTED BUDGET]] -> 0
... A111: 899 | B111: BOE Grant Administration | C111: ='3 OPBUD Detail'!I106 -> 0 | D111: ='3 OPBUD Detail'!J106 -> 0 | E111: ='3 OPBUD Detail'!K106 -> 0 | F111: ='3 OPBUD Detail'!L106 -> 0 | G111: ='3 OPBUD Detail'!M106 -> 0 | H111: ='3 OPBUD Detail'!N106 -> 0 | I111: ='3 OPBUD Detail'!O106 -> 0 | J111: ='3 OPBUD Detail'!P106 -> 0 | K111: =Table4[[#This Row],[FY26 BUDGET]]-Table4[[#This Row],[FY2027 REQUESTED BUDGET]] -> 0
B113: GRAND TOTAL | C113: =SUBTOTAL(109,Table4[FY2027 REQUESTED BUDGET]) -> 2.935621e+08 | D113: =SUBTOTAL(109,Table4[FY26 BUDGET]) -> 2.4586098e+08 | E113: =SUBTOTAL(109,Table4[FY2025]) -> 2.4273598e+08 | F113: =SUBTOTAL(109,Table4[FY2024]) -> 2.3973598e+08 | G113: =SUBTOTAL(109,Table4[FY2023]) -> 2.3723598e+08 | H113: =SUBTOTAL(109,Table4[FY2022]) -> 2.3523598e+08 | I113: =SUBTOTAL(109,Table4[FY2021]) -> 2.3323598e+08 | J113: =SUBTOTAL(109,Table4[FY2020]) -> 2.3098598e+08 | K113: =SUBTOTAL(109,Table4[VARIANCE]) -> -47701121
A115: RANGE | B115: BUDGET CATEGORY | C115: FY2027 REQUESTED BUDGET | D115: FY26 BUDGET | E115: FY2025 | F115: FY2024 | G115: FY2023 | H115: FY2022 | I115: FY20222 | J115: FY20223 | K115: VARIANCE
A116: 800-850 | B116: INSTRUCTION | C116: ='3 OPBUD Detail'!I111 -> 1.95764e+08 | D116: =+'3 OPBUD Detail'!J111 -> 1.7047753e+08 | E116: =+'3 OPBUD Detail'!K111 -> 1.7538085e+08 | F116: =+'3 OPBUD Detail'!L111 -> 1.6392815e+08 | G116: =+'3 OPBUD Detail'!M111 -> 1.6422914e+08 | H116: =+'3 OPBUD Detail'!N111 -> 1.6471035e+08 | I116: =+'3 OPBUD Detail'!O111 -> 1.6837717e+08 | J116: =+'3 OPBUD Detail'!P111 -> 1.6646896e+08 | K116: =D116-C116 -> -25286474
A117: 851-852 | B117: INSTRUCTION SUPPORT | C117: ='3 OPBUD Detail'!I112 -> 8811.3314 | D117: =+'3 OPBUD Detail'!J112 -> 387572.41 | E117: =+'3 OPBUD Detail'!K112 -> 416913.39 | F117: =+'3 OPBUD Detail'!L112 -> 266929.66 | G117: =+'3 OPBUD Detail'!M112 -> 142071.07 | H117: =+'3 OPBUD Detail'!N112 -> 137461.28 | I117: =+'3 OPBUD Detail'!O112 -> 170373.71 | J117: =+'3 OPBUD Detail'!P112 -> 185710.23 | K117: =D117-C117 -> 378761.08
A118: 853-862 | B118: PUPIL SERVICES | C118: ='3 OPBUD Detail'!I113 -> 17132985 | D118: =+'3 OPBUD Detail'!J113 -> 15725431 | E118: =+'3 OPBUD Detail'!K113 -> 16724718 | F118: =+'3 OPBUD Detail'!L113 -> 15173757 | G118: =+'3 OPBUD Detail'!M113 -> 15577905 | H118: =+'3 OPBUD Detail'!N113 -> 14570831 | I118: =+'3 OPBUD Detail'!O113 -> 14071993 | J118: =+'3 OPBUD Detail'!P113 -> 14667910 | K118: =D118-C118 -> -1407553.2
A119: 863-865 | B119: ADMINISTRATION | C119: ='3 OPBUD Detail'!I114 -> 1954442 | D119: =+'3 OPBUD Detail'!J114 -> 2234818.1 | E119: =+'3 OPBUD Detail'!K114 -> 2376320.3 | F119: =+'3 OPBUD Detail'!L114 -> 1504703.2 | G119: =+'3 OPBUD Detail'!M114 -> 1209912.8 | H119: =+'3 OPBUD Detail'!N114 -> 1403605.3 | I119: =+'3 OPBUD Detail'!O114 -> 1168365.7 | J119: =+'3 OPBUD Detail'!P114 -> 1129645.2 | K119: =D119-C119 -> 280376.19
A120: 866-899 | B120: SUPPORT SERVICES | C120: ='3 OPBUD Detail'!I115 -> 78701863 | D120: =+'3 OPBUD Detail'!J115 -> 57035631 | E120: =+'3 OPBUD Detail'!K115 -> 47837185 | F120: =+'3 OPBUD Detail'!L115 -> 58862447 | G120: =+'3 OPBUD Detail'!M115 -> 56076945 | H120: =+'3 OPBUD Detail'!N115 -> 54413729 | I120: =+'3 OPBUD Detail'!O115 -> 49448075 | J120: =+'3 OPBUD Detail'!P115 -> 48533752 | K120: =D120-C120 -> -21666232
C121: =SUM(Table15[FY2027 REQUESTED BUDGET]) -> 2.935621e+08 | D121: =SUM(Table15[FY26 BUDGET]) -> 2.4586098e+08 | E121: =SUM(Table15[FY2025]) -> 2.4273598e+08 | F121: =SUM(Table15[FY2024]) -> 2.3973598e+08 | G121: =SUM(Table15[FY2023]) -> 2.3723598e+08 | H121: =SUM(Table15[FY2022]) -> 2.3523598e+08 | I121: =SUM(Table15[FY20222]) -> 2.3323598e+08 | J121: =SUM(Table15[FY20223]) -> 2.3098598e+08 | K121: =SUM(K116:K120) -> -47701121
E123: Refer to the bottom of the detail chart. | H123: Debits | I123: 0
E124: ISF Withrawn YTD | H124: Debits | I124: 0
E125: Refer to the bottom of the detail chart. | H125: Credits | I125: =+'3 OPBUD Detail'!Q119 -> #REF!
E126: Refer to the bottom of the detail chart. | H126: ISF Withdrawal | I126: ='[1]3 OPBUD_Detail'!O4379 -> 0
E127: Refer to the bottom of the detail chart. | H127: Gap Reduction | I127: ='[1]3 OPBUD_Detail'!O4381 -> 0
H128: BALANCE | I128: =SUM(I121:I127) -> #REF!

Sheet 3 OPBUD Detail
A2: BUDGET SUMMARY | B2: BUDGET DETAIL | D2: Account | E2: . | F2: Account Title | G2: FTE | H2: … | I2: FY2027 REQUESTED BUDGET | J2: FY26 BUDGET | K2: FY2025 | L2: FY2024 | M2: FY2023 | N2: FY2022 | O2: FY2021 | P2: FY2020 | Q2: VARIANCE
D3: 800 | F3: Principals | G3: =SUMIF($D$127:$D$5679,$D3,$G$127:$G$5679) -> 63 | I3: =SUMIF($D$127:$D$5099,$D3,$I$127:$I$5099) -> 12480514 | J3: =SUMIF($D$127:$D$5679,$D3,$J$127:$J$5679) -> 11214473 | K3: =SUMIF($D$127:$D$5679,$D3,$K$127:$K$5679) -> 12665928 | L3: =SUMIF($D$127:$D$5679,$D3,$L$127:$L$5679) -> 10150557 | M3: =SUMIF($D$127:$D$5679,$D3,$M$127:$M$5679) -> 9959847.5 | N3: =SUMIF($D$127:$D$5679,$D3,$N$127:$N$5679) -> 9773662.8 | O3: =SUMIF($D$127:$D$5679,$D3,$O$127:$O$5679) -> 9424898 | P3: =SUMIF($D$127:$D$5679,$D3,$P$127:$P$5679) -> 9514850.2 | Q3: =+Table210[[#This Row],[FY26 BUDGET]]-Table210[[#This Row],[FY2027 REQUESTED BUDGET]] -> -1266041.5
D4: 801 | F4: Elementary Classroom | G4: =SUMIF($D$127:$D$5679,$D4,$G$127:$G$5679) -> 288 | I4: =SUMIF($D$127:$D$5099,$D4,$I$127:$I$5099) -> 18885437 | J4: =SUMIF($D$127:$D$5679,$D4,$J$127:$J$5679) -> 19959724 | K4: =SUMIF($D$127:$D$5679,$D4,$K$127:$K$5679) -> 30029495 | L4: =SUMIF($D$127:$D$5679,$D4,$L$127:$L$5679) -> 31415629 | M4: =SUMIF($D$127:$D$5679,$D4,$M$127:$M$5679) -> 31772193 | N4: =SUMIF($D$127:$D$5679,$D4,$N$127:$N$5679) -> 30790885 | O4: =SUMIF($D$127:$D$5679,$D4,$O$127:$O$5679) -> 32029893 | P4: =SUMIF($D$127:$D$5679,$D4,$P$127:$P$5679) -> 32188188 | Q4: =+Table210[[#This Row],[FY26 BUDGET]]-Table210[[#This Row],[FY2027 REQUESTED BUDGET]] -> 1074287.3
D5: 802 | F5: Substitutes | G5: =SUMIF($D$127:$D$5679,$D5,$G$127:$G$5679) -> 0 | I5: =SUMIF($D$127:$D$5099,$D5,$I$127:$I$5099) -> 4797663.9 | J5: =SUMIF($D$127:$D$5679,$D5,$J$127:$J$5679) -> 4483798 | K5: =SUMIF($D$127:$D$5679,$D5,$K$127:$K$5679) -> 4004491.2 | L5: =SUMIF($D$127:$D$5679,$D5,$L$127:$L$5679) -> 2316684.7 | M5: =SUMIF($D$127:$D$5679,$D5,$M$127:$M$5679) -> 1228489.4 | N5: =SUMIF($D$127:$D$5679,$D5,$N$127:$N$5679) -> 1435471.4 | O5: =SUMIF($D$127:$D$5679,$D5,$O$127:$O$5679) -> 429004.08 | P5: =SUMIF($D$127:$D$5679,$D5,$P$127:$P$5679) -> 1678701 | Q5: =+Table210[[#This Row],[FY26 BUDGET]]-Table210[[#This Row],[FY2027 REQUESTED BUDGET]] -> -313865.86
D6: 803 | F6: Paraprofessionals | G6: =SUMIF($D$127:$D$5679,$D6,$G$127:$G$5679) -> 9 | I6: =SUMIF($D$127:$D$5099,$D6,$I$127:$I$5099) -> 1317744.2 | J6: =SUMIF($D$127:$D$5679,$D6,$J$127:$J$5679) -> 83040.69 | K6: =SUMIF($D$127:$D$5679,$D6,$K$127:$K$5679) -> 231389.76 | L6: =SUMIF($D$127:$D$5679,$D6,$L$127:$L$5679) -> 308629.48 | M6: =SUMIF($D$127:$D$5679,$D6,$M$127:$M$5679) -> 255013.95 | N6: =SUMIF($D$127:$D$5679,$D6,$N$127:$N$5679) -> 245529.15 | O6: =SUMIF($D$127:$D$5679,$D6,$O$127:$O$5679) -> 0 | P6: =SUMIF($D$127:$D$5679,$D6,$P$127:$P$5679) -> 0 | Q6: =+Table210[[#This Row],[FY26 BUDGET]]-Table210[[#This Row],[FY2027 REQUESTED BUDGET]] -> -1234703.5
D7: 804 | F7: School Clericals | G7: =SUMIF($D$127:$D$5679,$D7,$G$127:$G$5679) -> 63 | I7: =SUMIF($D$127:$D$5099,$D7,$I$127:$I$5099) -> 5344091 | J7: =SUMIF($D$127:$D$5679,$D7,$J$127:$J$5679) -> 4166117.7 | K7: =SUMIF($D$127:$D$5679,$D7,$K$127:$K$5679) -> 5086193.7 | L7: =SUMIF($D$127:$D$5679,$D7,$L$127:$L$5679) -> 5075874.5 | M7: =SUMIF($D$127:$D$5679,$D7,$M$127:$M$5679) -> 5024695.7 | N7: =SUMIF($D$127:$D$5679,$D7,$N$127:$N$5679) -> 4865654.5 | O7: =SUMIF($D$127:$D$5679,$D7,$O$127:$O$5679) -> 4699523.4 | P7: =SUMIF($D$127:$D$5679,$D7,$P$127:$P$5679) -> 4530794.7 | Q7: =+Table210[[#This Row],[FY26 BUDGET]]-Table210[[#This Row],[FY2027 REQUESTED BUDGET]] -> -1177973.3
D8: 805 | F8: Instructional Supplies | G8: =SUMIF($D$127:$D$5679,$D8,$G$127:$G$5679) -> 0 | I8: =SUMIF($D$127:$D$5099,$D8,$I$127:$I$5099) -> 114831.93 | J8: =SUMIF($D$127:$D$5679,$D8,$J$127:$J$5679) -> 111487.31 | K8: =SUMIF($D$127:$D$5679,$D8,$K$127:$K$5679) -> 76619.56 | L8: =SUMIF($D$127:$D$5679,$D8,$L$127:$L$5679) -> 86049.54 | M8: =SUMIF($D$127:$D$5679,$D8,$M$127:$M$5679) -> 98881.13 | N8: =SUMIF($D$127:$D$5679,$D8,$N$127:$N$5679) -> 111845.24 | O8: =SUMIF($D$127:$D$5679,$D8,$O$127:$O$5679) -> 40780.34 | P8: =SUMIF($D$127:$D$5679,$D8,$P$127:$P$5679) -> 45767.32 | Q8: =+Table210[[#This Row],[FY26 BUDGET]]-Table210[[#This Row],[FY2027 REQUESTED BUDGET]] -> -3344.6193
D9: 806 | F9: Supplementary Supplies | G9: =SUMIF($D$127:$D$5679,$D9,$G$127:$G$5679) -> 0 | I9: =SUMIF($D$127:$D$5099,$D9,$I$127:$I$5099) -> 623774.81 | J9: =SUMIF($D$127:$D$5679,$D9,$J$127:$J$5679) -> 566870.74 | K9: =SUMIF($D$127:$D$5679,$D9,$K$127:$K$5679) -> 608540.3 | L9: =SUMIF($D$127:$D$5679,$D9,$L$127:$L$5679) -> 421314.12 | M9: =SUMIF($D$127:$D$5679,$D9,$M$127:$M$5679) -> 430724.63 | N9: =SUMIF($D$127:$D$5679,$D9,$N$127:$N$5679) -> 355559.3 | O9: =SUMIF($D$127:$D$5679,$D9,$O$127:$O$5679) -> 392320.87 | P9: =SUMIF($D$127:$D$5679,$D9,$P$127:$P$5679) -> 376904.37 | Q9: =+Table210[[#This Row],[FY26 BUDGET]]-Table210[[#This Row],[FY2027 REQUESTED BUDGET]] -> -56904.068
D10: 807 | F10: High School Textbooks | G10: =SUMIF($D$127:$D$5679,$D10,$G$127:$G$5679) -> 0 | I10: =SUMIF($D$127:$D$5099,$D10,$I$127:$I$5099) -> 0 | J10: =SUMIF($D$127:$D$5679,$D10,$J$127:$J$5679) -> 0 | K10: =SUMIF($D$127:$D$5679,$D10,$K$127:$K$5679) -> 0 | L10: =SUMIF($D$127:$D$5679,$D10,$L$127:$L$5679) -> 0 | M10: =SUMIF($D$127:$D$5679,$D10,$M$127:$M$5679) -> 0 | N10: =SUMIF($D$127:$D$5679,$D10,$N$127:$N$5679) -> 0 | O10: =SUMIF($D$127:$D$5679,$D10,$O$127:$O$5679) -> 0 | P10: =SUMIF($D$127:$D$5679,$D10,$P$127:$P$5679) -> 0 | Q10: =+Table210[[#This Row],[FY26 BUDGET]]-Table210[[#This Row],[FY2027 REQUESTED BUDGET]] -> 0
D11: 808 | F11: Elementary Textbooks | G11: =SUMIF($D$127:$D$5679,$D11,$G$127:$G$5679) -> 0 | I11: =SUMIF($D$127:$D$5099,$D11,$I$127:$I$5099) -> 0 | J11: =SUMIF($D$127:$D$5679,$D11,$J$127:$J$5679) -> 0 | K11: =SUMIF($D$127:$D$5679,$D11,$K$127:$K$5679) -> 0 | L11: =SUMIF($D$127:$D$5679,$D11,$L$127:$L$5679) -> 0 | M11: =SUMIF($D$127:$D$5679,$D11,$M$127:$M$5679) -> 0 | N11: =SUMIF($D$127:$D$5679,$D11,$N$127:$N$5679) -> 0 | O11: =SUMIF($D$127:$D$5679,$D11,$O$127:$O$5679) -> 0 | P11: =SUMIF($D$127:$D$5679,$D11,$P$127:$P$5679) -> 0 | Q11: =+Table210[[#This Row],[FY26 BUDGET]]-Table210[[#This Row],[FY2027 REQUESTED BUDGET]] -> 0
D12: 809 | F12: Kindergarten Teachers | G12: =SUMIF($D$127:$D$5679,$D12,$G$127:$G$5679) -> 52 | I12: =SUMIF($D$127:$D$5099,$D12,$I$127:$I$5099) -> 826321.44 | J12: =SUMIF($D$127:$D$5679,$D12,$J$127:$J$5679) -> 5801079.4 | K12: =SUMIF($D$127:$D$5679,$D12,$K$127:$K$5679) -> 4742923.3 | L12: =SUMIF($D$127:$D$5679,$D12,$L$127:$L$5679) -> 3436543.8 | M12: =SUMIF($D$127:$D$5679,$D12,$M$127:$M$5679) -> 3309479.8 | N12: =SUMIF($D$127:$D$5679,$D12,$N$127:$N$5679) -> 3383298.7 | O12: =SUMIF($D$127:$D$5679,$D12,$O$127:$O$5679) -> 3705966.7 | P12: =SUMIF($D$127:$D$5679,$D12,$P$127:$P$5679) -> 3939258.7 | Q12: =+Table210[[#This Row],[FY26 BUDGET]]-Table210[[#This Row],[FY2027 REQUESTED BUDGET]] -> 4974758
D13: 810 | F13: Bilingual Education | G13: =SUMIF($D$127:$D$5679,$D13,$G$127:$G$5679) -> 53 | I13: =SUMIF($D$127:$D$5099,$D13,$I$127:$I$5099) -> 1548586.2 | J13: =SUMIF($D$127:$D$5679,$D13,$J$127:$J$5679) -> 6301538 | K13: =SUMIF($D$127:$D$5679,$D13,$K$127:$K$5679) -> 6594240.1 | L13: =SUMIF($D$127:$D$5679,$D13,$L$127:$L$5679) -> 4788681 | M13: =SUMIF($D$127:$D$5679,$D13,$M$127:$M$5679) -> 6044003.2 | N13: =SUMIF($D$127:$D$5679,$D13,$N$127:$N$5679) -> 6398991.2 | O13: =SUMIF($D$127:$D$5679,$D13,$O$127:$O$5679) -> 6267690.7 | P13: =SUMIF($D$127:$D$5679,$D13,$P$127:$P$5679) -> 6420189.8 | Q13: =+Table210[[#This Row],[FY26 BUDGET]]-Table210[[#This Row],[FY2027 REQUESTED BUDGET]] -> 4752951.8
D14: 811 | F14: Bilingual Aides | G14: =SUMIF($D$127:$D$5679,$D14,$G$127:$G$5679) -> 0 | I14: =SUMIF($D$127:$D$5099,$D14,$I$127:$I$5099) -> 0 | J14: =SUMIF($D$127:$D$5679,$D14,$J$127:$J$5679) -> 0 | K14: =SUMIF($D$127:$D$5679,$D14,$K$127:$K$5679) -> 0 | L14: =SUMIF($D$127:$D$5679,$D14,$L$127:$L$5679) -> 13547.08 | M14: =SUMIF($D$127:$D$5679,$D14,$M$127:$M$5679) -> 0 | N14: =SUMIF($D$127:$D$5679,$D14,$N$127:$N$5679) -> 0 | O14: =SUMIF($D$127:$D$5679,$D14,$O$127:$O$5679) -> 0 | P14: =SUMIF($D$127:$D$5679,$D14,$P$127:$P$5679) -> 0 | Q14: =+Table210[[#This Row],[FY26 BUDGET]]-Table210[[#This Row],[FY2027 REQUESTED BUDGET]] -> 0
... D106: 899 | F106: BOE Grant Administration | G106: =SUMIF($D$127:$D$5679,$D106,$G$127:$G$5679) -> 0 | I106: =SUMIF($D$127:$D$5099,$D106,$I$127:$I$5099) -> 0 | J106: =SUMIF($D$127:$D$5679,$D106,$J$127:$J$5679) -> 0 | K106: =SUMIF($D$127:$D$5679,$D106,$K$127:$K$5679) -> 0 | L106: =SUMIF($D$127:$D$5679,$D106,$L$127:$L$5679) -> 0 | M106: =SUMIF($D$127:$D$5679,$D106,$M$127:$M$5679) -> 0 | N106: =SUMIF($D$127:$D$5679,$D106,$N$127:$N$5679) -> 0 | O106: =SUMIF($D$127:$D$5679,$D106,$O$127:$O$5679) -> 0 | P106: =SUMIF($D$127:$D$5679,$D106,$P$127:$P$5679) -> 0 | Q106: =+Table210[[#This Row],[FY26 BUDGET]]-Table210[[#This Row],[FY2027 REQUESTED BUDGET]] -> 0
N107: =SUMIF($D$127:$D$5679,$D107,$N$127:$N$5679) -> 0 | O107: =SUMIF($D$127:$D$5679,$D107,$O$127:$O$5679) -> 0 | P107: =SUMIF($D$127:$D$5679,$D107,$P$127:$P$5679) -> 0 | Q107: =+Table210[[#This Row],[FY26 BUDGET]]-Table210[[#This Row],[FY2027 REQUESTED BUDGET]] -> 0
D108: Total | G108: =SUBTOTAL(109,Table210[FTE]) -> 1758.9 | I108: =SUBTOTAL(109,Table210[FY2027 REQUESTED BUDGET]) -> 2.935621e+08 | J108: =SUBTOTAL(109,Table210[FY26 BUDGET]) -> 2.4586098e+08 | K108: =SUBTOTAL(109,Table210[FY2025]) -> 2.4273598e+08 | L108: =SUBTOTAL(109,Table210[FY2024]) -> 2.3973598e+08 | M108: =SUBTOTAL(109,Table210[FY2023]) -> 2.3723598e+08 | N108: =SUBTOTAL(109,Table210[FY2022]) -> 2.3523598e+08 | O108: =SUBTOTAL(109,Table210[FY2021]) -> 2.3323598e+08 | P108: =SUBTOTAL(109,Table210[FY2020]) -> 2.3098598e+08 | Q108: =SUBTOTAL(109,Table210[VARIANCE]) -> -47701121
D110: RANGE | F110: BUDGET CATEGORY | I110: FY2027 REQUESTED BUDGET | J110: FY26 FORECAST | K110: FY2025 | L110: FY2024 | M110: FY2023 | N110: FY2022 | O110: FY2021 | P110: FY2020 | Q110: VARIANCE
D111: 800-850 | F111: INSTRUCTION | I111: =SUM(I3:I53) -> 1.95764e+08 | J111: =SUM(J3:J53) -> 1.7047753e+08 | K111: =SUM(K3:K53) -> 1.7538085e+08 | L111: =SUM(L3:L53) -> 1.6392815e+08 | M111: =SUM(M3:M53) -> 1.6422914e+08 | N111: =SUM(N3:N53) -> 1.6471035e+08 | O111: =SUM(O3:O53) -> 1.6837717e+08 | P111: =SUM(P3:P53) -> 1.6646896e+08 | Q111: =J111-I111 -> -25286474
D112: 851-852 | F112: INSTRUCTION SUPPORT | I112: =SUM(I54:I55) -> 8811.3314 | J112: =SUM(J54:J55) -> 387572.41 | K112: =SUM(K54:K55) -> 416913.39 | L112: =SUM(L54:L55) -> 266929.66 | M112: =SUM(M54:M55) -> 142071.07 | N112: =SUM(N54:N55) -> 137461.28 | O112: =SUM(O54:O55) -> 170373.71 | P112: =SUM(P54:P55) -> 185710.23 | Q112: =J112-I112 -> 378761.08
D113: 853-862 | F113: PUPIL SERVICES | I113: =SUM(I56:I65) -> 17132985 | J113: =SUM(J56:J65) -> 15725431 | K113: =SUM(K56:K65) -> 16724718 | L113: =SUM(L56:L65) -> 15173757 | M113: =SUM(M56:M65) -> 15577905 | N113: =SUM(N56:N65) -> 14570831 | O113: =SUM(O56:O65) -> 14071993 | P113: =SUM(P56:P65) -> 14667910 | Q113: =J113-I113 -> -1407553.2
D114: 863-865 | F114: ADMINISTRATION | I114: =SUM(I66:I68) -> 1954442 | J114: =SUM(J66:J68) -> 2234818.1 | K114: =SUM(K66:K68) -> 2376320.3 | L114: =SUM(L66:L68) -> 1504703.2 | M114: =SUM(M66:M68) -> 1209912.8 | N114: =SUM(N66:N68) -> 1403605.3 | O114: =SUM(O66:O68) -> 1168365.7 | P114: =SUM(P66:P68) -> 1129645.2 | Q114: =J114-I114 -> 280376.19
D115: 866-899 | F115: SUPPORT SERVICES | I115: =SUM(I69:I106) -> 78701863 | J115: =SUM(J69:J106) -> 57035631 | K115: =SUM(K69:K106) -> 47837185 | L115: =SUM(L69:L106) -> 58862447 | M115: =SUM(M69:M106) -> 56076945 | N115: =SUM(N69:N106) -> 54413729 | O115: =SUM(O69:O106) -> 49448075 | P115: =SUM(P69:P106) -> 48533752 | Q115: =J115-I115 -> -21666232
G116: GRAND TOTAL | I116: =SUM(I111:I115) -> 2.935621e+08 | J116: =SUM(J111:J115) -> 2.4586098e+08 | K116: =SUM(K111:K115) -> 2.4273598e+08 | L116: =SUM(L111:L115) -> 2.3973598e+08 | M116: =SUM(M111:M115) -> 2.3723598e+08 | N116: =SUM(N111:N115) -> 2.3523598e+08 | O116: =SUM(O111:O115) -> 2.3323598e+08 | P116: =SUM(P111:P115) -> 2.3098598e+08 | Q116: =SUM(Q111:Q115) -> -47701121
K118: Refer to the bottom of the detail chart. | N118: Debits | Q118: -5000000
K119: Refer to the bottom of the detail chart. | N119: Credits | Q119: =#REF! -> #REF!
K120: Refer to the bottom of the detail chart. | N120: ISF Withdrawal | Q120: =#REF! -> #REF!
K121: Refer to the bottom of the detail chart. | N121: Gap Reduction Plan | Q121: =#REF! -> #REF!
K122: NET FY24-25 REMAINING SURPLUS / (DEFICIT ) | N122: FINAL BALANCE | Q122: =SUM(Q116:Q121) -> #REF!
A124: BUDGET DETAIL
A126: SCHOOL | B126: ORG DESCRIPTION | C126: FUND | D126: DEPT | E126: ORG | F126: DESC | G126: FTE | H126: OBJECT | I126: FY2027 REQUESTED BUDGET | J126: FY26 BUDGET | K126: FY2025 | L126: FY2024 | M126: FY2023 | N126: FY2022 | O126: FY2021 | P126: FY2020 | Q126: VARIANCE
A127: =IFERROR(VLOOKUP(RIGHT(E127,3)+0,[1]SchLocTable!$A$2:$B$47,2,FALSE)," ") | B127: =VLOOKUP(VALUE(D127),$D$3:F$106,3,FALSE) -> Principals | C127: 01 | D127: 800 | E127: 01800000 | F127: FULL TIME EARNED PAY | G127: 4 | H127: 51000 | I127: 358302.99 | J127: 320217.55 | K127: 166269.55 | L127: 0 | M127: 0 | N127: 0 | O127: 82117.72 | P127: 0 | Q127: =J127-I127 -> -38085.441
A128: =IFERROR(VLOOKUP(RIGHT(E128,3)+0,[1]SchLocTable!$A$2:$B$47,2,FALSE)," ") | B128: =VLOOKUP(VALUE(D128),$D$3:F$106,3,FALSE) -> Principals | C128: 01 | D128: 800 | E128: 01800000 | F128: HEALTH INSURANCE CITY SHARE | H128: 52917 | I128: 14096.16 | J128: 24358.06 | K128: 15611.46 | L128: 0 | M128: 0 | N128: 0 | O128: 10590.6 | P128: 0 | Q128: =J128-I128 -> 10261.9
A129: =IFERROR(VLOOKUP(RIGHT(E129,3)+0,[1]SchLocTable!$A$2:$B$47,2,FALSE)," ") | B129: =VLOOKUP(VALUE(D129),$D$3:F$106,3,FALSE) -> Principals | C129: 01 | D129: 800 | E129: 01800000 | F129: LONGEVITY PAY | H129: 51140 | I129: 1100 | J129: 0 | K129: 2200 | L129: 1300 | M129: 0 | N129: 0 | O129: 1300 | P129: 0 | Q129: =J129-I129 -> -1100
A130: =IFERROR(VLOOKUP(RIGHT(E130,3)+0,[1]SchLocTable!$A$2:$B$47,2,FALSE)," ") | B130: =VLOOKUP(VALUE(D130),$D$3:F$106,3,FALSE) -> Principals | C130: 01 | D130: 800 | E130: 01800000 | F130: MEDICARE | H130: 52360 | I130: 5195.3934 | J130: 5355.97 | K130: 2306.87 | L130: 152.25 | M130: 0 | N130: 0 | O130: 1062.72 | P130: 0 | Q130: =J130-I130 -> 160.57663
A131: =IFERROR(VLOOKUP(RIGHT(E131,3)+0,[1]SchLocTable!$A$2:$B$47,2,FALSE)," ") | B131: =VLOOKUP(VALUE(D131),$D$3:F$106,3,FALSE) -> Principals | C131: 01 | D131: 800 | E131: 01800000 | F131: PT TEMP/SEASONAL EARNED PA | H131: 51100 | I131: 0 | J131: 0 | K131: 12400 | L131: 9200 | M131: 0 | N131: 0 | O131: 0 | P131: 0 | Q131: =J131-I131 -> 0
A132: =IFERROR(VLOOKUP(RIGHT(E132,3)+0,[1]SchLocTable!$A$2:$B$47,2,FALSE)," ") -> Barnum | B132: =VLOOKUP(VALUE(D132),$D$3:F$106,3,FALSE) -> Principals | C132: 01 | D132: 800 | E132: 01800801 | F132: FULL TIME EARNED PAY | G132: 2 | H132: 51000 | I132: 319671.87 | J132: 165340 | K132: 143394.42 | L132: 161938.24 | M132: 155192.85 | N132: 141826.36 | O132: 139038.87 | P132: 136444.16 | Q132: =J132-I132 -> -154331.87
A133: =IFERROR(VLOOKUP(RIGHT(E133,3)+0,[1]SchLocTable!$A$2:$B$47,2,FALSE)," ") -> Barnum | B133: =VLOOKUP(VALUE(D133),$D$3:F$106,3,FALSE) -> Principals | C133: 01 | D133: 800 | E133: 01800801 | F133: HEALTH INSURANCE CITY SHARE | H133: 52917 | I133: 84691.776 | J133: 34530 | K133: 28699.86 | L133: 14254.32 | M133: 29423.98 | N133: 27567.54 | O133: 26394.05 | P133: 21540.96 | Q133: =J133-I133 -> -50161.776
A134: =IFERROR(VLOOKUP(RIGHT(E134,3)+0,[1]SchLocTable!$A$2:$B$47,2,FALSE)," ") -> Barnum | B134: =VLOOKUP(VALUE(D134),$D$3:F$106,3,FALSE) -> Principals | C134: 01 | D134: 800 | E134: 01800801 | F134: LONGEVITY PAY | H134: 51140 | I134: 0 | J134: 0 | K134: 0 | L134: 2600 | M134: 1300 | N134: 1100 | O134: 1100 | P134: 1100 | Q134: =J134-I134 -> 0
A135: =IFERROR(VLOOKUP(RIGHT(E135,3)+0,[1]SchLocTable!$A$2:$B$47,2,FALSE)," ") -> Barnum | B135: =VLOOKUP(VALUE(D135),$D$3:F$106,3,FALSE) -> Principals | C135: 01 | D135: 800 | E135: 01800801 | F135: MEDICARE | H135: 52360 | I135: 4635.2421 | J135: 2198 | K135: 1921.15 | L135: 2303.02 | M135: 2101.02 | N135: 1916.8 | O135: 1886.71 | P135: 2357.45 | Q135: =J135-I135 -> -2437.2421
A136: =IFERROR(VLOOKUP(RIGHT(E136,3)+0,[1]SchLocTable!$A$2:$B$47,2,FALSE)," ") -> Beardsley | B136: =VLOOKUP(VALUE(D136),$D$3:F$106,3,FALSE) -> Principals | C136: 01 | D136: 800 | E136: 01800802 | F136: FULL TIME EARNED PAY | G136: 1 | H136: 51000 | I136: 168466.87 | J136: 174796.16 | K136: 245045.35 | L136: 135479.91 | M136: 117737.92 | N136: 166481.77 | O136: 148653.77 | P136: 147653.76 | Q136: =J136-I136 -> 6329.2887
...

Sheet SchLocTable
A1: Loc Code | B1: Location
A2: 801 | B2: Barnum
A3: 802 | B3: Beardsley
A4: 803 | B4: Black Rock
A5: 804 | B5: Bryant
A6: 805 | B6: Columbus
A7: 807 | B7: Edison
A8: 808 | B8: Physical Science HS
A9: 810 | B9: Marin
A10: 811 | B10: Hall
A11: 812 | B11: Hallen
A12: 813 | B12: Hooker
A13: 814 | B13: Batalla
... A47: 988 | B47: CSA Annex
