Workbook

Sheet Instructions
A1: Douglas County School District Charter Application: FY 2025-2026
A2: Budget Template Instructions
A4: INSTRUCTIONS SPECIFIC TO DOUGLAS COUNTY SCHOOL DISTRICT
A6: A separate supplemental budget form may be completed by the school; however, this form is mandatory for the DCSD charter application process.
A8: Yellow Cells - On all of the tabs please fill out the yellow cells if applicable.
A9: Green Cells - Cells that are green are pre-populated with data that you can override if you would like to change the assumption.
A10: White Cells - Cannot be overridden, white cells are automatically populated based on formulas calculated from previously entered data.
A11: Grey Cells - Should not contain any information, and nothing can be added into these cells.
A13: 1. Staffing Tab
A14: Enter in the school name at the top of the Staffing Tab on (row 1).
A15: Enter in the number of FTE per grade, per subject area and per support position starting with year 0 (cell C14). Partial FTE can be calculated using the methodology in (cell I4) on the staffing tab. Only the FTE for the positions you wish to staff need to be filled out.
A16: Enter in the average salary for 1 FTE in the position salary column for each of the positions you wish to staff starting with year 0 (starting in cell F14).
... A88: https://docs.google.com/document/d/1WfKUeQlPuQ10x8Z7mzg6eRM_Tk0wWDfXgra5Lqoy_PI/edit?usp=sharing

Sheet Staffing
A1: INSERT SCHOOL NAME
A2: Staffing Plan
A3: FTE Summary | B3: Year 0 | C3: Year 1 | D3: Year 2 | E3: Year 3 | F3: Year 4 | G3: Year 5 | I3: Regardless of full time or part time staff eligibility, FTE is calculated by taking number of hours worked per week divided by 40 hours per week for all positions except for licensed, instructional staffing. For licensed, instructional staffing FTE a 1.0 FTE is the equivalent of 7.5 hours per day for 5 days per week.
A4: Administrative | B4: =SUMIFS($C$14:$C$25,$B$14:$B$25,A4)+SUMIFS($C$32:$C$59,$B$32:$B$59,A4) -> 0 | C4: =SUMIFS($H$14:$H$25,$B$14:$B$25,A4)+SUMIFS($H$32:$H$59,$B$32:$B$59,A4) -> 0 | D4: =SUMIFS($M$14:$M$25,$B$14:$B$25,A4)+SUMIFS($M$32:$M$59,$B$32:$B$59,A4) -> 0 | E4: =SUMIFS($R$14:$R$25,$B$14:$B$25,A4)+SUMIFS($R$32:$R$59,$B$32:$B$59,A4) -> 0 | F4: =SUMIFS($W$14:$W$25,$B$14:$B$25,A4)+SUMIFS($W$32:$W$59,$B$32:$B$59,A4) -> 0 | G4: =SUMIFS($AB$14:$AB$25,$B$14:$B$25,A4)+SUMIFS($AB$32:$AB$59,$B$32:$B$59,A4) -> 0 | N4: Cells in yellow should be filled out by applicant
A5: Licensed | B5: =SUMIFS($C$14:$C$25,$B$14:$B$25,A5)+SUMIFS($C$32:$C$59,$B$32:$B$59,A5) -> 0 | C5: =SUMIFS($H$14:$H$25,$B$14:$B$25,A5)+SUMIFS($H$32:$H$59,$B$32:$B$59,A5) -> 0 | D5: =SUMIFS($M$14:$M$25,$B$14:$B$25,A5)+SUMIFS($M$32:$M$59,$B$32:$B$59,A5) -> 0 | E5: =SUMIFS($R$14:$R$25,$B$14:$B$25,A5)+SUMIFS($R$32:$R$59,$B$32:$B$59,A5) -> 0 | F5: =SUMIFS($W$14:$W$25,$B$14:$B$25,A5)+SUMIFS($W$32:$W$59,$B$32:$B$59,A5) -> 0 | G5: =SUMIFS($AB$14:$AB$25,$B$14:$B$25,A5)+SUMIFS($AB$32:$AB$59,$B$32:$B$59,A5) -> 0 | N5: Cells in green calculate from yellow inputs overwrite as needed
A6: Professional | B6: =SUMIFS($C$14:$C$25,$B$14:$B$25,A6)+SUMIFS($C$32:$C$59,$B$32:$B$59,A6) -> 0 | C6: 0 | D6: =SUMIFS($M$14:$M$25,$B$14:$B$25,A6)+SUMIFS($M$32:$M$59,$B$32:$B$59,A6) -> 0 | E6: =SUMIFS($R$14:$R$25,$B$14:$B$25,A6)+SUMIFS($R$32:$R$59,$B$32:$B$59,A6) -> 0 | F6: =SUMIFS($W$14:$W$25,$B$14:$B$25,A6)+SUMIFS($W$32:$W$59,$B$32:$B$59,A6) -> 0 | G6: =SUMIFS($AB$14:$AB$25,$B$14:$B$25,A6)+SUMIFS($AB$32:$AB$59,$B$32:$B$59,A6) -> 0
A7: Classified | B7: =SUMIFS($C$14:$C$25,$B$14:$B$25,A7)+SUMIFS($C$32:$C$59,$B$32:$B$59,A7) -> 0 | C7: =SUMIFS($H$14:$H$25,$B$14:$B$25,A7)+SUMIFS($H$32:$H$59,$B$32:$B$59,A7) -> 0 | D7: =SUMIFS($M$14:$M$25,$B$14:$B$25,A7)+SUMIFS($M$32:$M$59,$B$32:$B$59,A7) -> 0 | E7: =SUMIFS($R$14:$R$25,$B$14:$B$25,A7)+SUMIFS($R$32:$R$59,$B$32:$B$59,A7) -> 0 | F7: =SUMIFS($W$14:$W$25,$B$14:$B$25,A7)+SUMIFS($W$32:$W$59,$B$32:$B$59,A7) -> 0 | G7: =SUMIFS($AB$14:$AB$25,$B$14:$B$25,A7)+SUMIFS($AB$32:$AB$59,$B$32:$B$59,A7) -> 0
A8: Student/Teacher Ratio | B8: =IF(ISERROR(ROUND(($E$60)/B$5,0)&":1"),"0:0",ROUND(($E$60)/B$5,0)&":1") -> 0:0 | C8: =IF(ISERROR(ROUND(($J$60)/C$5,0)&":1"),"0:0",ROUND(($J$60)/C$5,0)&":1") -> 0:0 | D8: =IF(ISERROR(ROUND(($O$60)/D$5,0)&":1"),"0:0",ROUND(($O$60)/D$5,0)&":1") -> 0:0 | E8: =IF(ISERROR(ROUND(($T$60)/E$5,0)&":1"),"0:0",ROUND(($T$60)/E$5,0)&":1") -> 0:0 | F8: =IF(ISERROR(ROUND(($Y$60)/F$5,0)&":1"),"0:0",ROUND(($Y$60)/F$5,0)&":1") -> 0:0 | G8: =IF(ISERROR(ROUND(($AD$60)/G$5,0)&":1"),"0:0",ROUND(($AD$60)/G$5,0)&":1") -> 0:0
A9: Student/Staff Ratio | B9: =IF(ISERROR(ROUND(($E$60)/(B4+B5+B6+B7),0)&":1"),"0:0",ROUND(($E$60)/(B4+B5+B6+B7),0)&":1") -> 0:0 | C9: =IF(ISERROR(ROUND(($J$60)/(C4+C5+C6+C7),0)&":1"),"0:0",ROUND(($J$60)/(C4+C5+C6+C7),0)&":1") -> 0:0 | D9: =IF(ISERROR(ROUND(($O$60)/(D4+D5+D6+D7),0)&":1"),"0:0",ROUND(($O$60)/(D4+D5+D6+D7),0)&":1") -> 0:0 | E9: =IF(ISERROR(ROUND(($T$60)/(E4+E5+E6+E7),0)&":1"),"0:0",ROUND(($T$60)/(E4+E5+E6+E7),0)&":1") -> 0:0 | F9: =IF(ISERROR(ROUND(($Y$60)/(F4+F5+F6+F7),0)&":1"),"0:0",ROUND(($Y$60)/(F4+F5+F6+F7),0)&":1") -> 0:0 | G9: =IF(ISERROR(ROUND(($AD$60)/(G4+G5+G6+G7),0)&":1"),"0:0",ROUND(($AD$60)/(G4+G5+G6+G7),0)&":1") -> 0:0 | I9: Example: 20 hours per week is 0.5 FTE
A11: Support Staffing
C12: Year 0 | H12: Year 1 | M12: Year 2 | R12: Year 3 | W12: Year 4 | AB12: Year 5
A13: Position | B13: Position Type | C13: FTE | D13: Class Size | E13: Total Students | F13: Position Salary | G13: Total Salaries | H13: FTE | I13: Class Size | J13: Total Students | K13: Position Salary | L13: Total Salaries | M13: FTE | N13: Class Size | O13: Total Students | P13: Position Salary | Q13: Total Salaries | R13: FTE | S13: Class Size | T13: Total Students | U13: Position Salary | V13: Total Salaries | W13: FTE | X13: Class Size | Y13: Total Students | Z13: Position Salary | AA13: Total Salaries | AB13: FTE | AC13: Class Size | AD13: Total Students | AE13: Position Salary | AF13: Total Salaries
A14: Principal | B14: Administrative | C14: 0 | F14: 0 | G14: =C14*F14 -> 0 | H14: 0 | K14: =F14+(F14*$K$65) -> 0 | L14: =K14*H14 -> 0 | M14: 0 | P14: =K14+(K14*$P$65) -> 0 | Q14: =P14*M14 -> 0 | R14: 0 | U14: =P14+(P14*$U$65) -> 0 | V14: =U14*R14 -> 0 | W14: 0 | Z14: =U14+(U14*$Z$65) -> 0 | AA14: =W14*Z14 -> 0 | AB14: 0 | AE14: =Z14+(Z14*$AE$65) -> 0 | AF14: =AB14*AE14 -> 0
A15: Assistant Principal | B15: Administrative | C15: 0 | F15: 0 | G15: =C15*F15 -> 0 | H15: 0 | K15: =F15+(F15*$K$65) -> 0 | L15: =K15*H15 -> 0 | M15: 0 | P15: =K15+(K15*$P$65) -> 0 | Q15: =P15*M15 -> 0 | R15: 0 | U15: =P15+(P15*$U$65) -> 0 | V15: =U15*R15 -> 0 | W15: 0 | Z15: =U15+(U15*$Z$65) -> 0 | AA15: =W15*Z15 -> 0 | AB15: 0 | AE15: =Z15+(Z15*$AE$65) -> 0 | AF15: =AB15*AE15 -> 0
A16: Business Director | B16: Professional | C16: 0 | F16: 0 | G16: =C16*F16 -> 0 | H16: 0 | K16: =F16+(F16*$K$65) -> 0 | L16: =K16*H16 -> 0 | M16: 0 | P16: =K16+(K16*$P$65) -> 0 | Q16: =P16*M16 -> 0 | R16: 0 | U16: =P16+(P16*$U$65) -> 0 | V16: =U16*R16 -> 0 | W16: 0 | Z16: =U16+(U16*$Z$65) -> 0 | AA16: =W16*Z16 -> 0 | AB16: 0 | AE16: =Z16+(Z16*$AE$65) -> 0 | AF16: =AB16*AE16 -> 0
A17: Athletic Director | B17: Administrative | C17: 0 | F17: 0 | G17: =C17*F17 -> 0 | H17: 0 | K17: =F17+(F17*$K$65) -> 0 | L17: =K17*H17 -> 0 | M17: 0 | P17: =K17+(K17*$P$65) -> 0 | Q17: =P17*M17 -> 0 | R17: 0 | U17: =P17+(P17*$U$65) -> 0 | V17: =U17*R17 -> 0 | W17: 0 | Z17: =U17+(U17*$Z$65) -> 0 | AA17: =W17*Z17 -> 0 | AB17: 0 | AE17: =Z17+(Z17*$AE$65) -> 0 | AF17: =AB17*AE17 -> 0
A18: Social Worker | B18: Licensed | C18: 0 | F18: 0 | G18: =C18*F18 -> 0 | H18: 0 | K18: =F18+(F18*$K$65) -> 0 | L18: =K18*H18 -> 0 | M18: 0 | P18: =K18+(K18*$P$65) -> 0 | Q18: =P18*M18 -> 0 | R18: 0 | U18: =P18+(P18*$U$65) -> 0 | V18: =U18*R18 -> 0 | W18: 0 | Z18: =U18+(U18*$Z$65) -> 0 | AA18: =W18*Z18 -> 0 | AB18: 0 | AE18: =Z18+(Z18*$AE$65) -> 0 | AF18: =AB18*AE18 -> 0
A19: Counselor | B19: Licensed | C19: 0 | F19: 0 | G19: =C19*F19 -> 0 | H19: 0 | K19: =F19+(F19*$K$65) -> 0 | L19: =K19*H19 -> 0 | M19: 0 | P19: =K19+(K19*$P$65) -> 0 | Q19: =P19*M19 -> 0 | R19: 0 | U19: =P19+(P19*$U$65) -> 0 | V19: =U19*R19 -> 0 | W19: 0 | Z19: =U19+(U19*$Z$65) -> 0 | AA19: =W19*Z19 -> 0 | AB19: 0 | AE19: =Z19+(Z19*$AE$65) -> 0 | AF19: =AB19*AE19 -> 0
A20: Office Assistant | B20: Classified | C20: 0 | F20: 0 | G20: =C20*F20 -> 0 | H20: 0 | K20: =F20+(F20*$K$65) -> 0 | L20: =K20*H20 -> 0 | M20: 0 | P20: =K20+(K20*$P$65) -> 0 | Q20: =P20*M20 -> 0 | R20: 0 | U20: =P20+(P20*$U$65) -> 0 | V20: =U20*R20 -> 0 | W20: 0 | Z20: =U20+(U20*$Z$65) -> 0 | AA20: =W20*Z20 -> 0 | AB20: 0 | AE20: =Z20+(Z20*$AE$65) -> 0 | AF20: =AB20*AE20 -> 0
A21: Information Technology | B21: Professional | C21: 0 | F21: 0 | G21: =C21*F21 -> 0 | H21: 0 | K21: =F21+(F21*$K$65) -> 0 | L21: =K21*H21 -> 0 | M21: 0 | P21: =K21+(K21*$P$65) -> 0 | Q21: =P21*M21 -> 0 | R21: 0 | U21: =P21+(P21*$U$65) -> 0 | V21: =U21*R21 -> 0 | W21: 0 | Z21: =U21+(U21*$Z$65) -> 0 | AA21: =W21*Z21 -> 0 | AB21: 0 | AE21: =Z21+(Z21*$AE$65) -> 0 | AF21: =AB21*AE21 -> 0
A22: Security | B22: Classified | C22: 0 | F22: 0 | G22: =C22*F22 -> 0 | H22: 0 | K22: =F22+(F22*$K$65) -> 0 | L22: =K22*H22 -> 0 | M22: 0 | P22: =K22+(K22*$P$65) -> 0 | Q22: =P22*M22 -> 0 | R22: 0 | U22: =P22+(P22*$U$65) -> 0 | V22: =U22*R22 -> 0 | W22: 0 | Z22: =U22+(U22*$Z$65) -> 0 | AA22: =W22*Z22 -> 0 | AB22: 0 | AE22: =Z22+(Z22*$AE$65) -> 0 | AF22: =AB22*AE22 -> 0
A23: Custodian | B23: Classified | C23: 0 | F23: 0 | G23: =C23*F23 -> 0 | H23: 0 | K23: =F23+(F23*$K$65) -> 0 | L23: =K23*H23 -> 0 | M23: 0 | P23: =K23+(K23*$P$65) -> 0 | Q23: =P23*M23 -> 0 | R23: 0 | U23: =P23+(P23*$U$65) -> 0 | V23: =U23*R23 -> 0 | W23: 0 | Z23: =U23+(U23*$Z$65) -> 0 | AA23: =W23*Z23 -> 0 | AB23: 0 | AE23: =Z23+(Z23*$AE$65) -> 0 | AF23: =AB23*AE23 -> 0
A24: BASE staffing | B24: Classified | C24: 0 | F24: 0 | G24: =C24*F24 -> 0 | H24: 0 | K24: =F24+(F24*$K$65) -> 0 | L24: =K24*H24 -> 0 | M24: 0 | P24: =K24+(K24*$P$65) -> 0 | Q24: =P24*M24 -> 0 | R24: 0 | U24: =P24+(P24*$U$65) -> 0 | V24: =U24*R24 -> 0 | W24: 0 | Z24: =U24+(U24*$Z$65) -> 0 | AA24: =W24*Z24 -> 0 | AB24: 0 | AE24: =Z24+(Z24*$AE$65) -> 0 | AF24: =AB24*AE24 -> 0
A25: Other | B25: Classified | C25: 0 | F25: 0 | G25: =C25*F25 -> 0 | H25: 0 | K25: =F25+(F25*$K$65) -> 0 | L25: =K25*H25 -> 0 | M25: 0 | P25: =K25+(K25*$P$65) -> 0 | Q25: =P25*M25 -> 0 | R25: 0 | U25: =P25+(P25*$U$65) -> 0 | V25: =U25*R25 -> 0 | W25: 0 | Z25: =U25+(U25*$Z$65) -> 0 | AA25: =W25*Z25 -> 0 | AB25: 0 | AE25: =Z25+(Z25*$AE$65) -> 0 | AF25: =AB25*AE25 -> 0
A26: Subtotal - Support | C26: =SUM(C14:C25) -> 0 | D26: =SUM(D14:D25) -> 0 | E26: =SUM(E14:E25) -> 0 | G26: =SUM(G14:G25) -> 0 | H26: =SUM(H14:H25) -> 0 | I26: =SUM(I14:I25) -> 0 | J26: =SUM(J14:J25) -> 0 | L26: =SUM(L14:L25) -> 0 | M26: =SUM(M14:M25) -> 0 | N26: =SUM(N14:N25) -> 0 | O26: =SUM(O14:O25) -> 0 | Q26: =SUM(Q14:Q25) -> 0 | R26: =SUM(R14:R25) -> 0 | S26: =SUM(S14:S25) -> 0 | T26: =SUM(T14:T25) -> 0 | V26: =SUM(V14:V25) -> 0 | W26: =SUM(W14:W25) -> 0 | X26: =SUM(X14:X25) -> 0 | Y26: =SUM(Y14:Y25) -> 0 | AA26: =SUM(AA14:AA25) -> 0 | AB26: =SUM(AB14:AB25) -> 0 | AC26: =SUM(AC14:AC25) -> 0 | AD26: =SUM(AD14:AD25) -> 0 | AF26: =SUM(AF14:AF25) -> 0
A29: Instructional Staffing
C30: Year 0 | H30: Year 1 | M30: Year 2 | R30: Year 3 | W30: Year 4 | AB30: Year 5
A31: Position | B31: Position Type | C31: FTE | D31: Class Size | E31: Total Students | F31: Position Salary | G31: Total Salaries | H31: FTE | I31: Class Size | J31: Total Students | K31: Position Salary | L31: Total Salaries | M31: FTE | N31: Class Size | O31: Total Students | P31: Position Salary | Q31: Total Salaries | R31: FTE | S31: Class Size | T31: Total Students | U31: Position Salary | V31: Total Salaries | W31: FTE | X31: Class Size | Y31: Total Students | Z31: Position Salary | AA31: Total Salaries | AB31: FTE | AC31: Class Size | AD31: Total Students | AE31: Position Salary | AF31: Total Salaries
A32: Kindergarten - Half Day | B32: Licensed | G32: =C32*F32 -> 0 | H32: 0 | I32: 0 | J32: =H32*I32 -> 0 | K32: 0 | L32: =(H32*K32) -> 0 | M32: 0 | N32: 0 | O32: =M32*N32 -> 0 | P32: =K32+(K32*$P$66) -> 0 | Q32: =M32*P32 -> 0 | R32: 0 | S32: 0 | T32: =R32*S32 -> 0 | U32: =P32+(P32*$U$66) -> 0 | V32: =R32*U32 -> 0 | W32: 0 | X32: 0 | Y32: =W32*X32 -> 0 | Z32: =U32+(U32*$Z$66) -> 0 | AA32: =Z32*W32 -> 0 | AB32: 0 | AC32: 0 | AD32: =AB32*AC32 -> 0 | AE32: =Z32+(Z32*$AE$66) -> 0 | AF32: =AB32*$AE32 -> 0
A33: Kindergarten - Full Day | B33: Licensed | G33: =C33*F33 -> 0 | H33: 0 | I33: 0 | J33: =H33*I33 -> 0 | K33: 0 | L33: =(H33*K33) -> 0 | M33: 0 | N33: 0 | O33: =M33*N33 -> 0 | P33: =K33+(K33*$P$66) -> 0 | Q33: =M33*P33 -> 0 | R33: 0 | S33: 0 | T33: =R33*S33 -> 0 | U33: =P33+(P33*$U$66) -> 0 | V33: =R33*U33 -> 0 | W33: 0 | X33: 0 | Y33: =W33*X33 -> 0 | Z33: =U33+(U33*$Z$66) -> 0 | AA33: =Z33*W33 -> 0 | AB33: 0 | AC33: 0 | AD33: =AB33*AC33 -> 0 | AE33: =Z33+(Z33*$AE$66) -> 0 | AF33: =AB33*$AE33 -> 0
A34: 1st Grade | B34: Licensed | G34: =C34*F34 -> 0 | H34: 0 | I34: 0 | J34: =H34*I34 -> 0 | K34: 0 | L34: =(H34*K34) -> 0 | M34: 0 | N34: 0 | O34: =M34*N34 -> 0 | P34: =K34+(K34*$P$66) -> 0 | Q34: =M34*P34 -> 0 | R34: 0 | S34: 0 | T34: =R34*S34 -> 0 | U34: =P34+(P34*$U$66) -> 0 | V34: =R34*U34 -> 0 | W34: 0 | X34: 0 | Y34: =W34*X34 -> 0 | Z34: =U34+(U34*$Z$66) -> 0 | AA34: =Z34*W34 -> 0 | AB34: 0 | AC34: 0 | AD34: =AB34*AC34 -> 0 | AE34: =Z34+(Z34*$AE$66) -> 0 | AF34: =AB34*$AE34 -> 0
A35: 2nd Grade | B35: Licensed | G35: =C35*F35 -> 0 | H35: 0 | I35: 0 | J35: =H35*I35 -> 0 | K35: 0 | L35: =(H35*K35) -> 0 | M35: 0 | N35: 0 | O35: =M35*N35 -> 0 | P35: =K35+(K35*$P$66) -> 0 | Q35: =M35*P35 -> 0 | R35: 0 | S35: 0 | T35: =R35*S35 -> 0 | U35: =P35+(P35*$U$66) -> 0 | V35: =R35*U35 -> 0 | W35: 0 | X35: 0 | Y35: =W35*X35 -> 0 | Z35: =U35+(U35*$Z$66) -> 0 | AA35: =Z35*W35 -> 0 | AB35: 0 | AC35: 0 | AD35: =AB35*AC35 -> 0 | AE35: =Z35+(Z35*$AE$66) -> 0 | AF35: =AB35*$AE35 -> 0
A36: 3rd Grade | B36: Licensed | G36: =C36*F36 -> 0 | H36: 0 | I36: 0 | J36: =H36*I36 -> 0 | K36: 0 | L36: =(H36*K36) -> 0 | M36: 0 | N36: 0 | O36: =M36*N36 -> 0 | P36: =K36+(K36*$P$66) -> 0 | Q36: =M36*P36 -> 0 | R36: 0 | S36: 0 | T36: =R36*S36 -> 0 | U36: =P36+(P36*$U$66) -> 0 | V36: =R36*U36 -> 0 | W36: 0 | X36: 0 | Y36: =W36*X36 -> 0 | Z36: =U36+(U36*$Z$66) -> 0 | AA36: =Z36*W36 -> 0 | AB36: 0 | AC36: 0 | AD36: =AB36*AC36 -> 0 | AE36: =Z36+(Z36*$AE$66) -> 0 | AF36: =AB36*$AE36 -> 0
A37: 4th Grade | B37: Licensed | G37: =C37*F37 -> 0 | H37: 0 | I37: 0 | J37: =H37*I37 -> 0 | K37: 0 | L37: =(H37*K37) -> 0 | M37: 0 | N37: 0 | O37: =M37*N37 -> 0 | P37: =K37+(K37*$P$66) -> 0 | Q37: =M37*P37 -> 0 | R37: 0 | S37: 0 | T37: =R37*S37 -> 0 | U37: =P37+(P37*$U$66) -> 0 | V37: =R37*U37 -> 0 | W37: 0 | X37: 0 | Y37: =W37*X37 -> 0 | Z37: =U37+(U37*$Z$66) -> 0 | AA37: =Z37*W37 -> 0 | AB37: 0 | AC37: 0 | AD37: =AB37*AC37 -> 0 | AE37: =Z37+(Z37*$AE$66) -> 0 | AF37: =AB37*$AE37 -> 0
A38: 5th Grade | B38: Licensed | G38: =C38*F38 -> 0 | H38: 0 | I38: 0 | J38: =H38*I38 -> 0 | K38: 0 | L38: =(H38*K38) -> 0 | M38: 0 | N38: 0 | O38: =M38*N38 -> 0 | P38: =K38+(K38*$P$66) -> 0 | Q38: =M38*P38 -> 0 | R38: 0 | S38: 0 | T38: =R38*S38 -> 0 | U38: =P38+(P38*$U$66) -> 0 | V38: =R38*U38 -> 0 | W38: 0 | X38: 0 | Y38: =W38*X38 -> 0 | Z38: =U38+(U38*$Z$66) -> 0 | AA38: =Z38*W38 -> 0 | AB38: 0 | AC38: 0 | AD38: =AB38*AC38 -> 0 | AE38: =Z38+(Z38*$AE$66) -> 0 | AF38: =AB38*$AE38 -> 0
A39: 6th Grade | B39: Licensed | G39: =C39*F39 -> 0 | H39: 0 | I39: 0 | J39: =H39*I39 -> 0 | K39: 0 | L39: =(H39*K39) -> 0 | M39: 0 | N39: 0 | O39: =M39*N39 -> 0 | P39: =K39+(K39*$P$66) -> 0 | Q39: =M39*P39 -> 0 | R39: 0 | S39: 0 | T39: =R39*S39 -> 0 | U39: =P39+(P39*$U$66) -> 0 | V39: =R39*U39 -> 0 | W39: 0 | X39: 0 | Y39: =W39*X39 -> 0 | Z39: =U39+(U39*$Z$66) -> 0 | AA39: =Z39*W39 -> 0 | AB39: 0 | AC39: 0 | AD39: =AB39*AC39 -> 0 | AE39: =Z39+(Z39*$AE$66) -> 0 | AF39: =AB39*$AE39 -> 0
A40: MS - Language Arts | B40: Licensed | G40: =C40*F40 -> 0 | H40: 0 | J40: 0 | K40: 0 | L40: =(H40*K40) -> 0 | M40: 0 | O40: 0 | P40: =K40+(K40*$P$66) -> 0 | Q40: =M40*P40 -> 0 | R40: 0 | T40: 0 | U40: =P40+(P40*$U$66) -> 0 | V40: =R40*U40 -> 0 | W40: 0 | Y40: 0 | Z40: =U40+(U40*$Z$66) -> 0 | AA40: =Z40*W40 -> 0 | AB40: 0 | AD40: 0 | AE40: =Z40+(Z40*$AE$66) -> 0 | AF40: =AB40*$AE40 -> 0
A41: MS - Math | B41: Licensed | G41: =C41*F41 -> 0 | H41: 0 | J41: 0 | K41: 0 | L41: =(H41*K41) -> 0 | M41: 0 | O41: 0 | P41: =K41+(K41*$P$66) -> 0 | Q41: =M41*P41 -> 0 | R41: 0 | T41: 0 | U41: =P41+(P41*$U$66) -> 0 | V41: =R41*U41 -> 0 | W41: 0 | Y41: 0 | Z41: =U41+(U41*$Z$66) -> 0 | AA41: =Z41*W41 -> 0 | AB41: 0 | AD41: 0 | AE41: =Z41+(Z41*$AE$66) -> 0 | AF41: =AB41*$AE41 -> 0
A42: MS - Science | B42: Licensed | G42: =C42*F42 -> 0 | H42: 0 | J42: 0 | K42: 0 | L42: =(H42*K42) -> 0 | M42: 0 | O42: 0 | P42: =K42+(K42*$P$66) -> 0 | Q42: =M42*P42 -> 0 | R42: 0 | T42: 0 | U42: =P42+(P42*$U$66) -> 0 | V42: =R42*U42 -> 0 | W42: 0 | Y42: 0 | Z42: =U42+(U42*$Z$66) -> 0 | AA42: =Z42*W42 -> 0 | AB42: 0 | AD42: 0 | AE42: =Z42+(Z42*$AE$66) -> 0 | AF42: =AB42*$AE42 -> 0
A43: MS - Social Studies | B43: Licensed | G43: =C43*F43 -> 0 | H43: 0 | J43: 0 | K43: 0 | L43: =(H43*K43) -> 0 | M43: 0 | O43: 0 | P43: =K43+(K43*$P$66) -> 0 | Q43: =M43*P43 -> 0 | R43: 0 | T43: 0 | U43: =P43+(P43*$U$66) -> 0 | V43: =R43*U43 -> 0 | W43: 0 | Y43: 0 | Z43: =U43+(U43*$Z$66) -> 0 | AA43: =Z43*W43 -> 0 | AB43: 0 | AD43: 0 | AE43: =Z43+(Z43*$AE$66) -> 0 | AF43: =AB43*$AE43 -> 0
...

Sheet Purchased Services Master
B1: Unit Cost | F1: 21-22 Trueup | G1: 22-23 true-up | H1: 23-24 True-up | I1: 24-25 True-Up | J1: 25-26 Projenction | K1: 26-27 Estimate | M1: 25-26 estimate
A2: Required
A3: District Support Staff | B3: =ROUND(M3,2) -> 56.86 | F3: 38.49 | G3: 43.94 | H3: 50.78 | I3: 55.63 | J3: 55.2 | K3: =J3+(J3*0.03) -> 56.856 | M3: =ROUND(K3,2) -> 56.86
A4: Emergency Management | B4: =ROUND(M4,2) -> 10.9 | F4: 5.19 | G4: 5.66 | H4: 7.04 | I4: 9.9 | J4: 10.58 | K4: =J4+(J4*0.03) -> 10.8974 | M4: =ROUND(K4,2) -> 10.9
A5: Infinite Campus License | B5: =ROUND(M5,2) -> 17.57 | F5: 9.21 | G5: 9.47 | H5: 9.67 | I5: 14.94 | J5: 17.06 | K5: =J5+(J5*0.03) -> 17.5718 | M5: =ROUND(K5,2) -> 17.57
A6: Assessment Services | B6: =ROUND(M6,2) -> 24.84 | F6: 19.35 | G6: 21.24 | H6: 23.97 | I6: 21.7 | J6: 24.12 | K6: =J6+(J6*0.03) -> 24.8436 | M6: =ROUND(K6,2) -> 24.84
A7: Additional fees: Treasurer, Foote detention, election | B7: =ROUND(M7,2) -> 25.12 | F7: =11.18+3.75 -> 14.93 | G7: =11.56+5.06+5.15 -> 21.77 | H7: 25.73 | I7: 22.42 | J7: 24.39 | K7: =J7+(J7*0.03) -> 25.1217 | M7: =ROUND(K7,2) -> 25.12
A8: Workday | B8: Contingent Worker Fee at 0.125 (x FTEmployee) x $51.94 | C8: =0.125*51.94 -> 6.4925 | D8: Contingent Worker Fee at 0.125 (x FTEmployee) x $39.49 | F8: 6.49 | G8: 6.49 | H8: 6.49 | I8: 6.49 | J8: 6.49 | K8: 6.49 | M8: =ROUND(K8,2) -> 6.49
A9: Gmail | B9: =ROUND(M9,2) -> 4.39 | H9: 4.26 | I9: 3.91 | J9: 4.26 | K9: =J9+(J9*0.03) -> 4.3878 | M9: =ROUND(K9,2) -> 4.39
A10: Special Education Tier 1 | B10: =ROUND(M10,2) -> 679.8 | F10: 497.93 | G10: 435.84 | H10: 501.43 | I10: 599.81 | J10: 660 | K10: =J10+(J10*0.03) -> 679.8 | M10: =ROUND(K10,2) -> 679.8
A11: Start-up Grant | B11: 3% Administration Fee in Year 2 and 3 | C11: 0.03 | D11: 3% Administration Fee in Year 2 and 3 | F11: 0.03 | G11: 0.03 | H11: 0.03 | M11: =ROUND(I11,2) -> 0
A12: Health Oversight | B12: =ROUND(M12,2) -> 4.79 | F12: 3.32 | G12: 3.63 | H12: 4.44 | I12: 4.94 | J12: 4.65 | K12: =J12+(J12*0.03) -> 4.7895 | M12: =ROUND(K12,2) -> 4.79
A13: Crisis Team Support | B13: =ROUND(M13,2) -> 1.11 | F13: 0.74 | G13: 1.48 | H13: 1.65 | I13: 1.87 | J13: 1.08 | K13: =J13+(J13*0.03) -> 1.1124 | M13: =ROUND(K13,2) -> 1.11
A14: ELD | B14: =ROUND(M14,2) -> 190.6 | F14: 131.07 | G14: 164.4 | H14: 167.36 | I14: 177.06 | J14: 185.05 | K14: =J14+(J14*0.03) -> 190.6015 | M14: =ROUND(K14,2) -> 190.6
A15: Gifted Education | B15: =ROUND(M15,2) -> 9.22 | F15: 6.3 | G15: 9.33 | H15: 10.94 | I15: 11.66 | J15: 8.95 | K15: =J15+(J15*0.03) -> 9.2185 | M15: =ROUND(K15,2) -> 9.22
F16: =SUM(F3:F7)+F10+F12+F13+F15 -> 595.46 | G16: =SUM(G3:G7)+G10+G12+G13+G15 -> 552.36 | H16: =SUM(H3:H7)+H10+H12+H13+H15 -> 635.65 | I16: =SUM(I3:I7)+I10+I12+I13+I15 -> 742.87 | J16: =SUM(J3:J7)+J10+J12+J13+J15 -> 806.03 | K16: =SUM(K3:K7)+K10+K12+K13+K15 -> 830.2109 | M16: =ROUND(K16,2) -> 830.21
A17: Optional | I17: =H17+(H17*0.03) -> 0 | K17: =I17+(I17*0.03) -> 0 | M17: =ROUND(I17,2) -> 0
A18: Assessment Services
A19: CogAT (Gifted Education) | B19: Actual Cost
A20: TS Gold readiness assessment | B20: 11.45
A21: NWEA MAP Testing Reading, Math, language | B21: 12
A22: NWEA MAP Testing Science | B22: 2.75
A23: i-ready (Complies with READ act) | B23: 5.8
A24: Data Download | B24: $75 annually | C24: 75
A25: Business Services
A26: My School Bucks | B26: 3.35% processing fee to third party vendor
A27: Mail Services
A28: Intra-district Mail & Bulk Mailings | B28: 2
A29: Curriculum / Instruction Services
A30: Art Show | B30: Actual Cost | C30: 1-20; $100 21-50; $200 51-100; $300 100+; $400
A31: Spelling Bee | B31: $60 per participant | C31: $60/participant
A32: Cyber School Service
A33: eDCSD CO Cyber School | B33: $350 per course
A34: Facilities Management Services
A35: Health Services
A36: Homebound Services | B36: Actual Cost per student
A37: Human Resources
A38: Staffing | B38: Actual Cost
A39: Staffing Posting - basic (additional posting at cost) | B39: $50 per posting
A40: Substitute One time Set-up Fee | B40: 600
...

Sheet Assumptions
A1: =TEXT(Staffing!A1,1) -> INSERT SCHOOL NAME | J1: Cells in yellow should be filled out by applicant
J2: White Cells automatically populate based on formulas calculated from previously entered data.
A3: Assumptions | J3: Cells in green populate based on formula overwrite as needed
J4: *Please Note Purchased Service Fees are based on FY25-26 numbers. These Fees will increase for FY26-27 as well as FY27-28. Estimated yearly increases of 3%.
A5: Assumptions | B5: Year 0 | C5: Year 1 | D5: Year 2 | E5: Year 3 | F5: Year 4 | G5: Year 5 | H5: Purchase Optional Services? | I5: Charter Applicant Notes | J5: DCSD Notes
A6: ENROLLMENT
A7: Early Childhood Education (ECE) | C7: 0 | D7: 0 | E7: 0 | F7: 0 | G7: 0 | R7: yes
A8: Half Day Kindergarten | C8: =Staffing!J32 -> 0 | D8: =Staffing!O32 -> 0 | E8: =Staffing!T32 -> 0 | F8: =Staffing!Y32 -> 0 | G8: =Staffing!AD32 -> 0 | J8: Sum from staffing tab | R8: yes - no year 0 | S8: Total
A9: Full Day Kindergarten | C9: =Staffing!J33 -> 0 | D9: =Staffing!O33 -> 0 | E9: =Staffing!T33 -> 0 | F9: =Staffing!Y33 -> 0 | G9: =Staffing!AD33 -> 0 | J9: Sum from staffing tab
A10: Grade 1 | C10: =Staffing!J34 -> 0 | D10: =Staffing!O34 -> 0 | E10: =Staffing!T34 -> 0 | F10: =Staffing!Y34 -> 0 | G10: =Staffing!AD34 -> 0 | J10: Sum from staffing tab | R10: no | S10: Per Pupil
A11: Grade 2 | C11: =Staffing!J35 -> 0 | D11: =Staffing!O35 -> 0 | E11: =Staffing!T35 -> 0 | F11: =Staffing!Y35 -> 0 | G11: =Staffing!AD35 -> 0 | J11: Sum from staffing tab
A12: Grade 3 | C12: =Staffing!J36 -> 0 | D12: =Staffing!O36 -> 0 | E12: =Staffing!T36 -> 0 | F12: =Staffing!Y36 -> 0 | G12: =Staffing!AD36 -> 0 | J12: Sum from staffing tab
A13: Grade 4 | C13: =Staffing!J37 -> 0 | D13: =Staffing!O37 -> 0 | E13: =Staffing!T37 -> 0 | F13: =Staffing!Y37 -> 0 | G13: =Staffing!AD37 -> 0 | J13: Sum from staffing tab
A14: Grade 5 | C14: =Staffing!J38 -> 0 | D14: =Staffing!O38 -> 0 | E14: =Staffing!T38 -> 0 | F14: =Staffing!Y38 -> 0 | G14: =Staffing!AD38 -> 0 | J14: Sum from staffing tab
A15: Grade 6 | C15: =Staffing!J39 -> 0 | D15: =Staffing!O39 -> 0 | E15: =Staffing!T39 -> 0 | F15: =Staffing!Y39 -> 0 | G15: =Staffing!AD39 -> 0 | J15: Sum from staffing tab
A16: Grade 7 | C16: 0 | D16: 0 | E16: 0 | F16: 0 | G16: 0 | J16: Manually enter the number of projected students for this grade
A17: Grade 8 | C17: 0 | D17: 0 | E17: 0 | F17: 0 | G17: 0 | J17: Manually enter the number of projected students for this grade
A18: Grade 9 | C18: 0 | D18: 0 | E18: 0 | F18: 0 | G18: 0 | J18: Manually enter the number of projected students for this grade
A19: Grade 10 | C19: 0 | D19: 0 | E19: 0 | F19: 0 | G19: 0 | J19: Manually enter the number of projected students for this grade
A20: Grade 11 | C20: 0 | D20: 0 | E20: 0 | F20: 0 | G20: 0 | J20: Manually enter the number of projected students for this grade
A21: Grade 12 | C21: 0 | D21: 0 | E21: 0 | F21: 0 | G21: 0 | J21: Manually enter the number of projected students for this grade
A22: Total Enrollment | C22: =SUM(C7:C21) -> 0 | D22: =SUM(D7:D21) -> 0 | E22: =SUM(E7:E21) -> 0 | F22: =SUM(F7:F21) -> 0 | G22: =SUM(G7:G21) -> 0
A23: Total FTE | C23: =SUM(C9:C21)+C8*0.5 -> 0 | D23: =SUM(D9:D21)+D8*0.5 -> 0 | E23: =SUM(E9:E21)+E8*0.5 -> 0 | F23: =SUM(F9:F21)+F8*0.5 -> 0 | G23: =SUM(G9:G21)+G8*0.5 -> 0 | J23: Remember that Half day Kindergarten is counted at .50 for FTE purposes
A24: Total Funded Pupil Count (FPC) | C24: =SUM(C9:C21)+C8*0.58 -> 0 | D24: =SUM(D9:D21)+D8*0.58 -> 0 | E24: =SUM(E9:E21)+E8*0.58 -> 0 | F24: =SUM(F9:F21)+F8*0.58 -> 0 | G24: =SUM(G9:G21)+G8*0.58 -> 0 | J24: Remember that Half day Kindergarten is counted at .58 for per pupil funding purposes
A25: Projected Free Lunch (FL) Percentage | C25: 0 | D25: 0 | E25: 0 | F25: 0 | G25: 0 | J25: Used in determining PPR allocation
A26: Projected English Language Learner (ELL) Percentage | C26: 0 | D26: 0 | E26: 0 | F26: 0 | G26: 0 | J26: Includes anyone eligible to take the ACCESS test -- Used in Title III allocation
A28: REVENUE
A29: Per Pupil Revenue | C29: 0 | D29: =C29*1.03 -> 0 | E29: =D29*1.02 -> 0 | F29: =E29*1.02 -> 0 | G29: =F29*1.02 -> 0 | J29: Year 0 Recommended PPR: $11147; Assuming 3% increase then 2% | K29: =(8607.22*0.0585)+8607.22 -> 9110.7424
A30: Mill Levy Override | C30: 0 | D30: =C30 -> 0 | E30: =D30 -> 0 | F30: =E30 -> 0 | G30: =F30 -> 0 | J30: Year 1 Recommended MLO: $2298, per FPC
A31: Tuition (ECE) | C31: 0 | D31: 0 | E31: 0 | F31: 0 | G31: 0 | J31: Total $ amount
A32: Interest Income | C32: 0 | D32: 0 | E32: 0 | F32: 0 | G32: 0 | J32: Total $ amount
A33: Food Services | C33: 0 | D33: 0 | E33: 0 | F33: 0 | G33: 0 | J33: Total $ amount (as of 23-24 SY State supports free meals for all.)
A34: Student Participation Fees | C34: 0 | D34: 0 | E34: 0 | F34: 0 | G34: 0 | J34: Total $ amount
A35: Child Care Fees | C35: 0 | D35: 0 | E35: 0 | F35: 0 | G35: 0 | J35: Total $ amount
A36: Other Local Revenue | B36: 0 | C36: 0 | D36: 0 | E36: 0 | F36: 0 | G36: 0 | J36: Total $ amount
A37: Rental/Lease | B37: 0 | C37: 0 | D37: 0 | E37: 0 | F37: 0 | G37: 0 | J37: Total $ amount
A38: Capital Construction | B38: 0 | C38: 0 | D38: 0 | E38: 0 | F38: 0 | G38: 0 | J38: Per funded pupil; Year 1 Recommended: $388, small increase in future years
A39: Federal Grant Income | B39: 0 | C39: 0 | D39: 0 | E39: 0 | F39: 0 | G39: 0 | J39: Total $ amount, include Start Up Grant in Year 0
A40: Other State Revenue | B40: 0 | C40: 0 | D40: 0 | E40: 0 | F40: 0 | G40: 0 | J40: Total $ amount; Provide detail in budget narrative
A42: SALARIES - INSTRUCTIONAL
...

Sheet Year 0
A1: =TEXT(Assumptions!A1,1) -> INSERT SCHOOL NAME
A2: YEAR 0
A3: FTE | B3: =Assumptions!B23 -> 0
A4: Funded Pupil Count | B4: =Assumptions!B24 -> 0
B5: BUDGET
A6: Revenues
A7: Local Support
A8: Mill Levy Override | B8: =ROUND(Assumptions!B30*Assumptions!B24,0) -> 0
A9: Tuition | B9: =Assumptions!B31 -> 0
A10: Food Services | B10: =Assumptions!B33 -> 0
A11: Interest Income | B11: =Assumptions!B32 -> 0
A12: Child Care Fees | B12: =Assumptions!B35 -> 0
A13: Student Participation Fees | B13: =Assumptions!B34 -> 0
A14: Rental/Lease | B14: =Assumptions!B37 -> 0
A15: Other Local Revenue | B15: =Assumptions!B36 -> 0
A16: Total Local Support | B16: =SUM(B8:B15) -> 0
A18: State Support
A19: Total Program (PPR x Funded Pupil Count) | B19: =ROUND(Assumptions!B24*Assumptions!B29,0) -> 0
A20: Capital Construction | B20: =ROUND(Assumptions!B38*Assumptions!B24,0) -> 0
A21: Other State Revenue | B21: =Assumptions!B40 -> 0
A22: Total State Support | B22: =SUM(B19:B21) -> 0
A24: Federal Support
A25: Federal Grant Income | B25: =Assumptions!B39 -> 0
A26: Total Federal Support | B26: =SUM(B25:B25) -> 0
A28: Total Revenues | B28: =SUM(B16,B22,B26) -> 0 | W28: =(Assumptions!B29*Assumptions!B24+Assumptions!B30*Assumptions!B23+Assumptions!B38*Assumptions!B24+Assumptions!B31+Assumptions!B32+Assumptions!B33+Assumptions!B34+Assumptions!B35+Assumptions!B36+Assumptions!B37+Assumptions!B39+Assumptions!B40)-$B$28 -> 0 | X28: Check
A30: Expenses
A31: INSTRUCTIONAL STAFF SALARIES
A32: Licensed (Teacher) Salaries | B32: =Assumptions!B43 -> 0
A33: Classified (Paraprofessional) Salaries | B33: =Assumptions!B44 -> 0
A34: Total Instructional Salaries | B34: =SUM(B32:B33) -> 0
A35: SUPPORT STAFF SALARIES
A36: Administrative | B36: =Assumptions!B48 -> 0
A37: Professional Salaries | B37: =Assumptions!B49 -> 0
A38: Licensed (Other) Salaries | B38: =Assumptions!B50 -> 0
A39: Classified (Other) Salaries | B39: =Assumptions!B51 -> 0
A40: Total Support Salaries | B40: =SUM(B36:B39) -> 0
A41: OTHER SALARIES
A42: Additional Pay - Instructional | B42: =Assumptions!B55 -> 0
A43: Additional Pay - Support | B43: =Assumptions!B56 -> 0
A44: Substitutes | B44: =Assumptions!B57*Assumptions!B59*Assumptions!B58 -> 0
...

Sheet Year 1
A1: =TEXT(Assumptions!A1,1) -> INSERT SCHOOL NAME
A2: YEAR 1
A3: FTE | B3: =Assumptions!C23 -> 0
A4: Funded Pupil Count | B4: =Assumptions!C24 -> 0
B5: BUDGET
A6: Revenues
A7: Local Support
A8: Mill Levy Override | B8: =ROUND(Assumptions!C30*Assumptions!C23,0) -> 0
A9: Tuition | B9: =Assumptions!C31 -> 0
A10: Food Services | B10: =Assumptions!C33 -> 0
A11: Interest Income | B11: =Assumptions!C32 -> 0
A12: Child Care Fees | B12: =Assumptions!C35 -> 0
A13: Student Participation Fees | B13: =Assumptions!C34 -> 0
A14: Rental/Lease | B14: =Assumptions!C37 -> 0
A15: Other Local Revenue | B15: =Assumptions!C36 -> 0
A16: Total Local Support | B16: =SUM(B8:B15) -> 0
A18: State Support
A19: Total Program (PPR x Funded Pupil Count) | B19: =ROUND(Assumptions!C29*Assumptions!C24,0) -> 0
A20: Capital Construction | B20: =ROUND(Assumptions!C38*Assumptions!C23,0) -> 0
A21: Other State Revenue | B21: =Assumptions!C40 -> 0
A22: Total State Support | B22: =SUM(B19:B21) -> 0
A24: Federal Support
A25: Federal Grant Income | B25: =Assumptions!C39 -> 0
A26: Total Federal Support | B26: =SUM(B25:B25) -> 0
A28: Total Revenues | B28: =SUM(B16,B22,B26) -> 0 | W28: =(Assumptions!C29*Assumptions!C24+Assumptions!C30*Assumptions!C23+Assumptions!C38*Assumptions!C24+Assumptions!C31+Assumptions!C32+Assumptions!C33+Assumptions!C34+Assumptions!C35+Assumptions!C36+Assumptions!C37+Assumptions!C39+Assumptions!C40)-'Year 0'!$B$28 -> 0 | X28: Check
A30: Expenses
A31: INSTRUCTIONAL STAFF SALARIES
A32: Licensed (Teacher) Salaries | B32: =Assumptions!C43 -> 0
A33: Classified (Paraprofessional) Salaries | B33: =Assumptions!C44 -> 0
A34: Total Instructional Salaries | B34: =SUM(B32:B33) -> 0
A35: SUPPORT STAFF SALARIES
A36: Administrative | B36: =Assumptions!C48 -> 0
A37: Professional Salaries | B37: =Assumptions!C49 -> 0
A38: Licensed (Other) Salaries | B38: =Assumptions!C50 -> 0
A39: Classified (Other) Salaries | B39: =Assumptions!C51 -> 0
A40: Total Support Salaries | B40: =SUM(B36:B39) -> 0
A41: OTHER SALARIES
A42: Additional Pay - Instructional | B42: =Assumptions!C55 -> 0
A43: Additional Pay - Support | B43: =Assumptions!C56 -> 0
A44: Substitutes | B44: =Assumptions!C57*Assumptions!C59*Assumptions!C58 -> 0
...

Sheet Year 2
A1: =TEXT(Assumptions!A1,1) -> INSERT SCHOOL NAME
A2: YEAR 2
A3: FTE | B3: =Assumptions!D23 -> 0
A4: Funded Pupil Count | B4: =Assumptions!D24 -> 0
B5: BUDGET
A6: Revenues
A7: Local Support
A8: Mill Levy Override | B8: =ROUND(Assumptions!D30*Assumptions!D23,0) -> 0
A9: Tuition | B9: =Assumptions!D31 -> 0
A10: Food Services | B10: =Assumptions!D33 -> 0
A11: Interest Income | B11: =Assumptions!D32 -> 0
A12: Child Care Fees | B12: =Assumptions!D35 -> 0
A13: Student Participation Fees | B13: =Assumptions!D34 -> 0
A14: Rental/Lease | B14: =Assumptions!D37 -> 0
A15: Other Local Revenue | B15: =Assumptions!D36 -> 0
A16: Total Local Support | B16: =SUM(B8:B15) -> 0
A18: State Support
A19: Total Program (PPR x Funded Pupil Count) | B19: =ROUND(Assumptions!D29*Assumptions!D24,0) -> 0
A20: Capital Construction | B20: =ROUND(Assumptions!D38*Assumptions!D23,0) -> 0
A21: Other State Revenue | B21: =Assumptions!D40 -> 0
A22: Total State Support | B22: =SUM(B19:B21) -> 0
A24: Federal Support
A25: Federal Grant Income | B25: =Assumptions!D39 -> 0
A26: Total Federal Support | B26: =SUM(B25:B25) -> 0
A28: Total Revenues | B28: =SUM(B16,B22,B26) -> 0 | W28: =(Assumptions!D29*Assumptions!D24+Assumptions!D30*Assumptions!D23+Assumptions!D38*Assumptions!D24+Assumptions!D31+Assumptions!D32+Assumptions!D33+Assumptions!D34+Assumptions!D35+Assumptions!D36+Assumptions!D37+Assumptions!D39+Assumptions!D40)-'Year 0'!$B$28 -> 0 | X28: Check
A30: Expenses
A31: INSTRUCTIONAL STAFF SALARIES
A32: Licensed (Teacher) Salaries | B32: =Assumptions!D43 -> 0
A33: Classified (Paraprofessional) Salaries | B33: =Assumptions!D44 -> 0
A34: Total Instructional Salaries | B34: =SUM(B32:B33) -> 0
A35: SUPPORT STAFF SALARIES
A36: Administrative | B36: =Assumptions!D48 -> 0
A37: Professional Salaries | B37: =Assumptions!D49 -> 0
A38: Licensed (Other) Salaries | B38: =Assumptions!D50 -> 0
A39: Classified (Other) Salaries | B39: =Assumptions!D51 -> 0
A40: Total Support Salaries | B40: =SUM(B36:B39) -> 0
A41: OTHER SALARIES
A42: Additional Pay - Instructional | B42: =Assumptions!D55 -> 0
A43: Additional Pay - Support | B43: =Assumptions!D56 -> 0
A44: Substitutes | B44: =Assumptions!D57*Assumptions!D59*Assumptions!D58 -> 0
...

Sheet Year 3
A1: =TEXT(Assumptions!A1,1) -> INSERT SCHOOL NAME
A2: YEAR 3
A3: FTE | B3: =Assumptions!E23 -> 0
A4: Funded Pupil Count | B4: =Assumptions!E24 -> 0
B5: BUDGET
A6: Revenues
A7: Local Support
A8: Mill Levy Override | B8: =ROUND(Assumptions!E30*Assumptions!E23,0) -> 0
A9: Tuition | B9: =Assumptions!E31 -> 0
A10: Food Services | B10: =Assumptions!E33 -> 0
A11: Interest Income | B11: =Assumptions!E32 -> 0
A12: Child Care Fees | B12: =Assumptions!E35 -> 0
A13: Student Participation Fees | B13: =Assumptions!E34 -> 0
A14: Rental/Lease | B14: =Assumptions!E37 -> 0
A15: Other Local Revenue | B15: =Assumptions!E36 -> 0
A16: Total Local Support | B16: =SUM(B8:B15) -> 0
A18: State Support
A19: Total Program (PPR x Funded Pupil Count) | B19: =ROUND(Assumptions!E29*Assumptions!E24,0) -> 0
A20: Capital Construction | B20: =ROUND(Assumptions!E38*Assumptions!E23,0) -> 0
A21: Other State Revenue | B21: =Assumptions!E40 -> 0
A22: Total State Support | B22: =SUM(B19:B21) -> 0
A24: Federal Support
A25: Federal Grant Income | B25: =Assumptions!E39 -> 0
A26: Total Federal Support | B26: =SUM(B25:B25) -> 0
A28: Total Revenues | B28: =SUM(B16,B22,B26) -> 0 | W28: =(Assumptions!E29*Assumptions!E24+Assumptions!E30*Assumptions!E23+Assumptions!E38*Assumptions!E24+Assumptions!E31+Assumptions!E32+Assumptions!E33+Assumptions!E34+Assumptions!E35+Assumptions!E36+Assumptions!E37+Assumptions!E39+Assumptions!E40)-'Year 0'!$B$28 -> 0 | X28: Check
A30: Expenses
A31: INSTRUCTIONAL STAFF SALARIES
A32: Licensed (Teacher) Salaries | B32: =Assumptions!E43 -> 0
A33: Classified (Paraprofessional) Salaries | B33: =Assumptions!E44 -> 0
A34: Total Instructional Salaries | B34: =SUM(B32:B33) -> 0
A35: SUPPORT STAFF SALARIES
A36: Administrative | B36: =Assumptions!E48 -> 0
A37: Professional Salaries | B37: =Assumptions!E49 -> 0
A38: Licensed (Other) Salaries | B38: =Assumptions!E50 -> 0
A39: Classified (Other) Salaries | B39: =Assumptions!E51 -> 0
A40: Total Support Salaries | B40: =SUM(B36:B39) -> 0
A41: OTHER SALARIES
A42: Additional Pay - Instructional | B42: =Assumptions!E55 -> 0
A43: Additional Pay - Support | B43: =Assumptions!E56 -> 0
A44: Substitutes | B44: =Assumptions!E57*Assumptions!E59*Assumptions!E58 -> 0
...

Sheet Year 4
A1: =TEXT(Assumptions!A1,1) -> INSERT SCHOOL NAME
A2: YEAR 4
A3: FTE | B3: =Assumptions!F23 -> 0
A4: Funded Pupil Count | B4: =Assumptions!F24 -> 0
B5: BUDGET
A6: Revenues
A7: Local Support
A8: Mill Levy Override | B8: =ROUND(Assumptions!F30*Assumptions!F23,0) -> 0
A9: Tuition | B9: =Assumptions!F31 -> 0
A10: Food Services | B10: =Assumptions!F33 -> 0
A11: Interest Income | B11: =Assumptions!F32 -> 0
A12: Child Care Fees | B12: =Assumptions!F35 -> 0
A13: Student Participation Fees | B13: =Assumptions!F34 -> 0
A14: Rental/Lease | B14: =Assumptions!F37 -> 0
A15: Other Local Revenue | B15: =Assumptions!F36 -> 0
A16: Total Local Support | B16: =SUM(B8:B15) -> 0
A18: State Support
A19: Total Program (PPR x Funded Pupil Count) | B19: =ROUND(Assumptions!F29*Assumptions!F24,0) -> 0
A20: Capital Construction | B20: =ROUND(Assumptions!F38*Assumptions!F23,0) -> 0
A21: Other State Revenue | B21: =Assumptions!F40 -> 0
A22: Total State Support | B22: =SUM(B19:B21) -> 0
A24: Federal Support
A25: Federal Grant Income | B25: =Assumptions!F39 -> 0
A26: Total Federal Support | B26: =SUM(B25:B25) -> 0
A28: Total Revenues | B28: =SUM(B16,B22,B26) -> 0 | W28: =(Assumptions!F29*Assumptions!F24+Assumptions!F30*Assumptions!F23+Assumptions!F38*Assumptions!F24+Assumptions!F31+Assumptions!F32+Assumptions!F33+Assumptions!F34+Assumptions!F35+Assumptions!F36+Assumptions!F37+Assumptions!F39+Assumptions!F40)-'Year 0'!$B$28 -> 0 | X28: Check
A30: Expenses
A31: INSTRUCTIONAL STAFF SALARIES
A32: Licensed (Teacher) Salaries | B32: =Assumptions!F43 -> 0
A33: Classified (Paraprofessional) Salaries | B33: =Assumptions!F44 -> 0
A34: Total Instructional Salaries | B34: =SUM(B32:B33) -> 0
A35: SUPPORT STAFF SALARIES
A36: Administrative | B36: =Assumptions!F48 -> 0
A37: Professional Salaries | B37: =Assumptions!F49 -> 0
A38: Licensed (Other) Salaries | B38: =Assumptions!F50 -> 0
A39: Classified (Other) Salaries | B39: =Assumptions!F51 -> 0
A40: Total Support Salaries | B40: =SUM(B36:B39) -> 0
A41: OTHER SALARIES
A42: Additional Pay - Instructional | B42: =Assumptions!F55 -> 0
A43: Additional Pay - Support | B43: =Assumptions!F56 -> 0
A44: Substitutes | B44: =Assumptions!F57*Assumptions!F59*Assumptions!F58 -> 0
...

Sheet Year 5
A1: =TEXT(Assumptions!A1,1) -> INSERT SCHOOL NAME
A2: YEAR 5
A3: FTE | B3: =Assumptions!G23 -> 0
A4: Funded Pupil Count | B4: =Assumptions!G24 -> 0
B5: BUDGET
A6: Revenues
A7: Local Support
A8: Mill Levy Override | B8: =ROUND(Assumptions!G30*Assumptions!G23,0) -> 0
A9: Tuition | B9: =Assumptions!G31 -> 0
A10: Food Services | B10: =Assumptions!G33 -> 0
A11: Interest Income | B11: =Assumptions!G32 -> 0
A12: Child Care Fees | B12: =Assumptions!G35 -> 0
A13: Student Participation Fees | B13: =Assumptions!G34 -> 0
A14: Rental/Lease | B14: =Assumptions!G37 -> 0
A15: Other Local Revenue | B15: =Assumptions!G36 -> 0
A16: Total Local Support | B16: =SUM(B8:B15) -> 0
A18: State Support
A19: Total Program (PPR x Funded Pupil Count) | B19: =ROUND(Assumptions!G29*Assumptions!G24,0) -> 0
A20: Capital Construction | B20: =ROUND(Assumptions!G38*Assumptions!G23,0) -> 0
A21: Other State Revenue | B21: =Assumptions!G40 -> 0
A22: Total State Support | B22: =SUM(B19:B21) -> 0
A24: Federal Support
A25: Federal Grant Income | B25: =Assumptions!G39 -> 0
A26: Total Federal Support | B26: =SUM(B25:B25) -> 0
A28: Total Revenues | B28: =SUM(B16,B22,B26) -> 0 | W28: =(Assumptions!G29*Assumptions!G24+Assumptions!G30*Assumptions!G23+Assumptions!G38*Assumptions!G24+Assumptions!G31+Assumptions!G32+Assumptions!G33+Assumptions!G34+Assumptions!G35+Assumptions!G36+Assumptions!G37+Assumptions!G39+Assumptions!G40)-'Year 0'!$B$28 -> 0 | X28: Check
A30: Expenses
A31: INSTRUCTIONAL STAFF SALARIES
A32: Licensed (Teacher) Salaries | B32: =Assumptions!G43 -> 0
A33: Classified (Paraprofessional) Salaries | B33: =Assumptions!G44 -> 0
A34: Total Instructional Salaries | B34: =SUM(B32:B33) -> 0
A35: SUPPORT STAFF SALARIES
A36: Administrative | B36: =Assumptions!G48 -> 0
A37: Professional Salaries | B37: =Assumptions!G49 -> 0
A38: Licensed (Other) Salaries | B38: =Assumptions!G50 -> 0
A39: Classified (Other) Salaries | B39: =Assumptions!G51 -> 0
A40: Total Support Salaries | B40: =SUM(B36:B39) -> 0
A41: OTHER SALARIES
A42: Additional Pay - Instructional | B42: =Assumptions!G55 -> 0
A43: Additional Pay - Support | B43: =Assumptions!G56 -> 0
A44: Substitutes | B44: =Assumptions!G57*Assumptions!G59*Assumptions!G58 -> 0
...

Sheet Summary Years 0 - 5
A1: =TEXT(Assumptions!A1,1) -> INSERT SCHOOL NAME
A2: SUMMARY
A3: FTE | B3: ='Year 0'!$B3 -> 0 | C3: ='Year 1'!$B3 -> 0 | D3: ='Year 2'!$B3 -> 0 | E3: ='Year 3'!$B3 -> 0 | F3: ='Year 4'!$B3 -> 0 | G3: ='Year 5'!$B3 -> 0
A4: Funded Pupil Count | B4: ='Year 0'!$B4 -> 0 | C4: ='Year 1'!$B4 -> 0 | D4: ='Year 2'!$B4 -> 0 | E4: ='Year 3'!$B4 -> 0 | F4: ='Year 4'!$B4 -> 0 | G4: ='Year 5'!$B4 -> 0
B5: Year 0 | C5: Year 1 | D5: Year 2 | E5: Year 3 | F5: Year 4 | G5: Year 5
A6: Revenues
A7: Local Support
A8: Mill Levy Override | B8: ='Year 0'!B8 -> 0 | C8: ='Year 1'!B8 -> 0 | D8: ='Year 2'!B8 -> 0 | E8: ='Year 3'!B8 -> 0 | F8: ='Year 4'!B8 -> 0 | G8: ='Year 5'!B8 -> 0
A9: Tuition | B9: ='Year 0'!B9 -> 0 | C9: ='Year 1'!B9 -> 0 | D9: ='Year 2'!B9 -> 0 | E9: ='Year 3'!B9 -> 0 | F9: ='Year 4'!B9 -> 0 | G9: ='Year 5'!B9 -> 0
A10: Food Services | B10: ='Year 0'!B10 -> 0 | C10: ='Year 1'!B10 -> 0 | D10: ='Year 2'!B10 -> 0 | E10: ='Year 3'!B10 -> 0 | F10: ='Year 4'!B10 -> 0 | G10: ='Year 5'!B10 -> 0
A11: Interest Income | B11: ='Year 0'!B11 -> 0 | C11: ='Year 1'!B11 -> 0 | D11: ='Year 2'!B11 -> 0 | E11: ='Year 3'!B11 -> 0 | F11: ='Year 4'!B11 -> 0 | G11: ='Year 5'!B11 -> 0
A12: Child Care Fees | B12: ='Year 0'!B12 -> 0 | C12: ='Year 1'!B12 -> 0 | D12: ='Year 2'!B12 -> 0 | E12: ='Year 3'!B12 -> 0 | F12: ='Year 4'!B12 -> 0 | G12: ='Year 5'!B12 -> 0
A13: Student Participation Fees | B13: ='Year 0'!B13 -> 0 | C13: ='Year 1'!B13 -> 0 | D13: ='Year 2'!B13 -> 0 | E13: ='Year 3'!B13 -> 0 | F13: ='Year 4'!B13 -> 0 | G13: ='Year 5'!B13 -> 0
A14: Rental/Lease | B14: ='Year 0'!B14 -> 0 | C14: ='Year 1'!B14 -> 0 | D14: ='Year 2'!B14 -> 0 | E14: ='Year 3'!B14 -> 0 | F14: ='Year 4'!B14 -> 0 | G14: ='Year 5'!B14 -> 0
A15: Other Local Revenue | B15: ='Year 0'!B15 -> 0 | C15: ='Year 1'!B15 -> 0 | D15: ='Year 2'!B15 -> 0 | E15: ='Year 3'!B15 -> 0 | F15: ='Year 4'!B15 -> 0 | G15: ='Year 5'!B15 -> 0
A16: Total Local Support | B16: =SUM(B8:B15) -> 0 | C16: =SUM(C8:C15) -> 0 | D16: =SUM(D8:D15) -> 0 | E16: =SUM(E8:E15) -> 0 | F16: =SUM(F8:F15) -> 0 | G16: =SUM(G8:G15) -> 0
A18: State Support
A19: Total Program (PPR x Funded Pupil Count) | B19: ='Year 0'!B19 -> 0 | C19: ='Year 1'!B19 -> 0 | D19: ='Year 2'!B19 -> 0 | E19: ='Year 3'!B19 -> 0 | F19: ='Year 4'!B19 -> 0 | G19: ='Year 5'!B19 -> 0
A20: Capital Construction | B20: ='Year 0'!B20 -> 0 | C20: ='Year 1'!B20 -> 0 | D20: ='Year 2'!B20 -> 0 | E20: ='Year 3'!B20 -> 0 | F20: ='Year 4'!B20 -> 0 | G20: ='Year 5'!B20 -> 0
A21: Other State Revenue | B21: ='Year 0'!B21 -> 0 | C21: ='Year 1'!B21 -> 0 | D21: ='Year 2'!B21 -> 0 | E21: ='Year 3'!B21 -> 0 | F21: ='Year 4'!B21 -> 0 | G21: ='Year 5'!B21 -> 0
A22: Total State Support | B22: =SUM(B19:B21) -> 0 | C22: =SUM(C19:C21) -> 0 | D22: =SUM(D19:D21) -> 0 | E22: =SUM(E19:E21) -> 0 | F22: =SUM(F19:F21) -> 0 | G22: =SUM(G19:G21) -> 0
A24: Federal Support
A25: Federal Grant Income | B25: ='Year 0'!B25 -> 0 | C25: ='Year 1'!B25 -> 0 | D25: ='Year 2'!B25 -> 0 | E25: ='Year 3'!B25 -> 0 | F25: ='Year 4'!B25 -> 0 | G25: ='Year 5'!B25 -> 0
A26: Total Federal Support | B26: =SUM(B25:B25) -> 0 | C26: =SUM(C25:C25) -> 0 | D26: =SUM(D25:D25) -> 0 | E26: =SUM(E25:E25) -> 0 | F26: =SUM(F25:F25) -> 0 | G26: =SUM(G25:G25) -> 0
A28: Total Revenues | B28: =SUM(B16,B22,B26) -> 0 | C28: =SUM(C16,C22,C26) -> 0 | D28: =SUM(D16,D22,D26) -> 0 | E28: =SUM(E16,E22,E26) -> 0 | F28: =SUM(F16,F22,F26) -> 0 | G28: =SUM(G16,G22,G26) -> 0
A30: Expenses
A31: INSTRUCTIONAL STAFF SALARIES
A32: Licensed (Teacher) Salaries | B32: ='Year 0'!B32 -> 0 | C32: ='Year 1'!B32 -> 0 | D32: ='Year 2'!B32 -> 0 | E32: ='Year 3'!B32 -> 0 | F32: ='Year 4'!B32 -> 0 | G32: ='Year 5'!B32 -> 0
A33: Classified (Paraprofessional) Salaries | B33: ='Year 0'!B33 -> 0 | C33: ='Year 1'!B33 -> 0 | D33: ='Year 2'!B33 -> 0 | E33: ='Year 3'!B33 -> 0 | F33: ='Year 4'!B33 -> 0 | G33: ='Year 5'!B33 -> 0
A34: Total Instructional Salaries | B34: =SUM(B32:B33) -> 0 | C34: =SUM(C32:C33) -> 0 | D34: =SUM(D32:D33) -> 0 | E34: =SUM(E32:E33) -> 0 | F34: =SUM(F32:F33) -> 0 | G34: =SUM(G32:G33) -> 0
A35: SUPPORT STAFF SALARIES
A36: Administrative | B36: ='Year 0'!B36 -> 0 | C36: ='Year 1'!B36 -> 0 | D36: ='Year 2'!B36 -> 0 | E36: ='Year 3'!B36 -> 0 | F36: ='Year 4'!B36 -> 0 | G36: ='Year 5'!B36 -> 0
A37: Professional Salaries | B37: ='Year 0'!B37 -> 0 | C37: ='Year 1'!B37 -> 0 | D37: ='Year 2'!B37 -> 0 | E37: ='Year 3'!B37 -> 0 | F37: ='Year 4'!B37 -> 0 | G37: ='Year 5'!B37 -> 0
A38: Licensed (Other) Salaries | B38: ='Year 0'!B38 -> 0 | C38: ='Year 1'!B38 -> 0 | D38: ='Year 2'!B38 -> 0 | E38: ='Year 3'!B38 -> 0 | F38: ='Year 4'!B38 -> 0 | G38: ='Year 5'!B38 -> 0
A39: Classified (Other) Salaries | B39: ='Year 0'!B39 -> 0 | C39: ='Year 1'!B39 -> 0 | D39: ='Year 2'!B39 -> 0 | E39: ='Year 3'!B39 -> 0 | F39: ='Year 4'!B39 -> 0 | G39: ='Year 5'!B39 -> 0
A40: Total Support Salaries | B40: =SUM(B36:B39) -> 0 | C40: =SUM(C36:C39) -> 0 | D40: =SUM(D36:D39) -> 0 | E40: =SUM(E36:E39) -> 0 | F40: =SUM(F36:F39) -> 0 | G40: =SUM(G36:G39) -> 0
A41: OTHER SALARIES
A42: Additional Pay - Instructional | B42: ='Year 0'!B42 -> 0 | C42: ='Year 1'!B42 -> 0 | D42: ='Year 2'!B42 -> 0 | E42: ='Year 3'!B42 -> 0 | F42: ='Year 4'!B42 -> 0 | G42: ='Year 5'!B42 -> 0
A43: Additional Pay - Support | B43: ='Year 0'!B43 -> 0 | C43: ='Year 1'!B43 -> 0 | D43: ='Year 2'!B43 -> 0 | E43: ='Year 3'!B43 -> 0 | F43: ='Year 4'!B43 -> 0 | G43: ='Year 5'!B43 -> 0
A44: Substitutes | B44: ='Year 0'!B44 -> 0 | C44: ='Year 1'!B44 -> 0 | D44: ='Year 2'!B44 -> 0 | E44: ='Year 3'!B44 -> 0 | F44: ='Year 4'!B44 -> 0 | G44: ='Year 5'!B44 -> 0
...

Sheet Cash Flow Year 1
A1: =Assumptions!A1 -> INSERT SCHOOL NAME
A2: CASH FLOW YEAR 1
B3: Year 1 | C3: 46204 | D3: 46235 | E3: 46266 | F3: 46296 | G3: 46327 | H3: 46357 | I3: 46388 | J3: 46419 | K3: 46447 | L3: 46478 | M3: 46508 | N3: 46539 | O3: Total
A5: Beginning Cash Balance w/ TABOR | B5: ='Year 0'!B185 -> 0 | C5: =B5 -> 0 | D5: =C5+C24-C105-C107 -> 0 | E5: =D5+D24-D105-D107 -> 0 | F5: =E5+E24-E105-E107 -> 0 | G5: =F5+F24-F105-F107 -> 0 | H5: =G5+G24-G105-G107 -> 0 | I5: =H5+H24-H105-H107 -> 0 | J5: =I5+I24-I105-I107 -> 0 | K5: =J5+J24-J105-J107 -> 0 | ... N5: =M5+M24-M105-M107 -> 0 | O5: =B5 -> 0
A6: Beginning Cash Balance w/o TABOR | B6: ='Year 0'!B185-'Year 0'!B178 -> 0 | C6: =B6 -> 0 | D6: =C5+C24-C105 -> 0 | E6: =D5+D24-D105 -> 0 | F6: =E5+E24-E105 -> 0 | G6: =F5+F24-F105 -> 0 | H6: =G5+G24-G105 -> 0 | I6: =H5+H24-H105 -> 0 | J6: =I5+I24-I105 -> 0 | K6: =J5+J24-J105 -> 0 | ... N6: =M5+M24-M105 -> 0 | O6: =B6 -> 0
A8: REVENUE
A9: Local
A10: Mill Levy Override | B10: ='Year 1'!B8 -> 0 | C10: =$B$10/12 -> 0 | D10: =$B$10/12 -> 0 | E10: =$B$10/12 -> 0 | F10: =$B$10/12 -> 0 | G10: =$B$10/12 -> 0 | H10: =$B$10/12 -> 0 | I10: =$B$10/12 -> 0 | J10: =$B$10/12 -> 0 | ... N10: =$B$10/12 -> 0 | O10: =SUM(C10:N10) -> 0
A11: Tuition | B11: ='Year 1'!B9 -> 0 | C11: =$B$11/12 -> 0 | D11: =$B$11/12 -> 0 | E11: =$B$11/12 -> 0 | F11: =$B$11/12 -> 0 | G11: =$B$11/12 -> 0 | H11: =$B$11/12 -> 0 | I11: =$B$11/12 -> 0 | J11: =$B$11/12 -> 0 | ... N11: =$B$11/12 -> 0 | O11: =SUM(C11:N11) -> 0
A12: Food Services | B12: ='Year 1'!B10 -> 0 | C12: =$B$12/12 -> 0 | D12: =$B$12/12 -> 0 | E12: =$B$12/12 -> 0 | F12: =$B$12/12 -> 0 | G12: =$B$12/12 -> 0 | H12: =$B$12/12 -> 0 | I12: =$B$12/12 -> 0 | J12: =$B$12/12 -> 0 | ... N12: =$B$12/12 -> 0 | O12: =SUM(C12:N12) -> 0
A13: Interest Income | B13: ='Year 1'!B11 -> 0 | C13: =$B$13/12 -> 0 | D13: =$B$13/12 -> 0 | E13: =$B$13/12 -> 0 | F13: =$B$13/12 -> 0 | G13: =$B$13/12 -> 0 | H13: =$B$13/12 -> 0 | I13: =$B$13/12 -> 0 | J13: =$B$13/12 -> 0 | ... N13: =$B$13/12 -> 0 | O13: =SUM(C13:N13) -> 0
A14: Child Care Fees | B14: ='Year 1'!B12 -> 0 | C14: =$B$14/12 -> 0 | D14: =$B$14/12 -> 0 | E14: =$B$14/12 -> 0 | F14: =$B$14/12 -> 0 | G14: =$B$14/12 -> 0 | H14: =$B$14/12 -> 0 | I14: =$B$14/12 -> 0 | J14: =$B$14/12 -> 0 | ... N14: =$B$14/12 -> 0 | O14: =SUM(C14:N14) -> 0
A15: Student Participation Fees | B15: ='Year 1'!B13 -> 0 | C15: =$B$15/12 -> 0 | D15: =$B$15/12 -> 0 | E15: =$B$15/12 -> 0 | F15: =$B$15/12 -> 0 | G15: =$B$15/12 -> 0 | H15: =$B$15/12 -> 0 | I15: =$B$15/12 -> 0 | J15: =$B$15/12 -> 0 | ... N15: =$B$15/12 -> 0 | O15: =SUM(C15:N15) -> 0
A16: Rental/Lease | B16: ='Year 1'!B14 -> 0 | C16: =$B$16/12 -> 0 | D16: =$B$16/12 -> 0 | E16: =$B$16/12 -> 0 | F16: =$B$16/12 -> 0 | G16: =$B$16/12 -> 0 | H16: =$B$16/12 -> 0 | I16: =$B$16/12 -> 0 | J16: =$B$16/12 -> 0 | ... N16: =$B$16/12 -> 0 | O16: =SUM(C16:N16) -> 0
A17: Other Local Revenue | B17: ='Year 1'!B15 -> 0 | C17: =$B$17/12 -> 0 | D17: =$B$17/12 -> 0 | E17: =$B$17/12 -> 0 | F17: =$B$17/12 -> 0 | G17: =$B$17/12 -> 0 | H17: =$B$17/12 -> 0 | I17: =$B$17/12 -> 0 | J17: =$B$17/12 -> 0 | ... N17: =$B$17/12 -> 0 | O17: =SUM(C17:N17) -> 0
A18: State
A19: Total Program | B19: ='Year 1'!B19 -> 0 | C19: =$B$19/12 -> 0 | D19: =$B$19/12 -> 0 | E19: =$B$19/12 -> 0 | F19: =$B$19/12 -> 0 | G19: =$B$19/12 -> 0 | H19: =$B$19/12 -> 0 | I19: =$B$19/12 -> 0 | J19: =$B$19/12 -> 0 | ... N19: =$B$19/12 -> 0 | O19: =SUM(C19:N19) -> 0
A20: Capital Construction | B20: ='Year 1'!B20 -> 0 | C20: =$B$20/12 -> 0 | D20: =$B$20/12 -> 0 | E20: =$B$20/12 -> 0 | F20: =$B$20/12 -> 0 | G20: =$B$20/12 -> 0 | H20: =$B$20/12 -> 0 | I20: =$B$20/12 -> 0 | J20: =$B$20/12 -> 0 | ... N20: =$B$20/12 -> 0 | O20: =SUM(C20:N20) -> 0
A21: Other State Revenue | B21: ='Year 1'!B21 -> 0 | C21: =$B$21/12 -> 0 | D21: =$B$21/12 -> 0 | E21: =$B$21/12 -> 0 | F21: =$B$21/12 -> 0 | G21: =$B$21/12 -> 0 | H21: =$B$21/12 -> 0 | I21: =$B$21/12 -> 0 | J21: =$B$21/12 -> 0 | ... N21: =$B$21/12 -> 0 | O21: =SUM(C21:N21) -> 0
A22: Federal
A23: Federal Grant Income | B23: ='Year 1'!B25 -> 0 | C23: =$B$23/12 -> 0 | D23: =$B$23/12 -> 0 | E23: =$B$23/12 -> 0 | F23: =$B$23/12 -> 0 | G23: =$B$23/12 -> 0 | H23: =$B$23/12 -> 0 | I23: =$B$23/12 -> 0 | J23: =$B$23/12 -> 0 | ... N23: =$B$23/12 -> 0 | O23: =SUM(C23:N23) -> 0
A24: Total Revenue | B24: =SUM(B9:B23) -> 0 | C24: =SUM(C9:C23) -> 0 | D24: =SUM(D9:D23) -> 0 | E24: =SUM(E9:E23) -> 0 | F24: =SUM(F9:F23) -> 0 | G24: =SUM(G9:G23) -> 0 | H24: =SUM(H9:H23) -> 0 | I24: =SUM(I9:I23) -> 0 | ... O24: =SUM(O9:O23) -> 0
A26: EXPENDITURES
A27: Salaries
A28: Instructional Staff Salaries | B28: ='Year 1'!B34*(12/12) -> 0 | E28: =$B28/10 -> 0 | F28: =$B28/10 -> 0 | G28: =$B28/10 -> 0 | H28: =$B28/10 -> 0 | I28: =$B28/10 -> 0 | J28: =$B28/10 -> 0 | K28: =$B28/10 -> 0 | L28: =$B28/10 -> 0 | ... N28: =$B28/10 -> 0 | O28: =SUM(C28:N28) -> 0
A29: Support Staff Salaries | B29: ='Year 1'!B40 -> 0 | C29: =$B29/12 -> 0 | D29: =$B29/12 -> 0 | E29: =$B29/12 -> 0 | F29: =$B29/12 -> 0 | G29: =$B29/12 -> 0 | H29: =$B29/12 -> 0 | I29: =$B29/12 -> 0 | J29: =$B29/12 -> 0 | ... N29: =$B29/12 -> 0 | O29: =SUM(C29:N29) -> 0
A30: Other Salaries | B30: ='Year 1'!B45 -> 0 | C30: =$B30/12 -> 0 | D30: =$B30/12 -> 0 | E30: =$B30/12 -> 0 | F30: =$B30/12 -> 0 | G30: =$B30/12 -> 0 | H30: =$B30/12 -> 0 | I30: =$B30/12 -> 0 | J30: =$B30/12 -> 0 | ... N30: =$B30/12 -> 0 | O30: =SUM(C30:N30) -> 0
A31: Benefits
A32: PERA | B32: ='Year 1'!B47 -> 0 | C32: =$B32/12 -> 0 | D32: =$B32/12 -> 0 | E32: =$B32/12 -> 0 | F32: =$B32/12 -> 0 | G32: =$B32/12 -> 0 | H32: =$B32/12 -> 0 | I32: =$B32/12 -> 0 | J32: =$B32/12 -> 0 | ... N32: =$B32/12 -> 0 | O32: =SUM(C32:N32) -> 0
A33: Medicare | B33: ='Year 1'!B48 -> 0 | C33: =$B33/12 -> 0 | D33: =$B33/12 -> 0 | E33: =$B33/12 -> 0 | F33: =$B33/12 -> 0 | G33: =$B33/12 -> 0 | H33: =$B33/12 -> 0 | I33: =$B33/12 -> 0 | J33: =$B33/12 -> 0 | ... N33: =$B33/12 -> 0 | O33: =SUM(C33:N33) -> 0
A34: Medical | B34: ='Year 1'!B49 -> 0 | C34: =$B34/12 -> 0 | D34: =$B34/12 -> 0 | E34: =$B34/12 -> 0 | F34: =$B34/12 -> 0 | G34: =$B34/12 -> 0 | H34: =$B34/12 -> 0 | I34: =$B34/12 -> 0 | J34: =$B34/12 -> 0 | ... N34: =$B34/12 -> 0 | O34: =SUM(C34:N34) -> 0
A35: Dental | B35: ='Year 1'!B50 -> 0 | C35: =$B35/12 -> 0 | D35: =$B35/12 -> 0 | E35: =$B35/12 -> 0 | F35: =$B35/12 -> 0 | G35: =$B35/12 -> 0 | H35: =$B35/12 -> 0 | I35: =$B35/12 -> 0 | J35: =$B35/12 -> 0 | ... N35: =$B35/12 -> 0 | O35: =SUM(C35:N35) -> 0
A36: Vision | B36: ='Year 1'!B51 -> 0 | C36: =$B36/12 -> 0 | D36: =$B36/12 -> 0 | E36: =$B36/12 -> 0 | F36: =$B36/12 -> 0 | G36: =$B36/12 -> 0 | H36: =$B36/12 -> 0 | I36: =$B36/12 -> 0 | J36: =$B36/12 -> 0 | ... N36: =$B36/12 -> 0 | O36: =SUM(C36:N36) -> 0
A37: Life/STD/LTD | B37: ='Year 1'!B52 -> 0 | C37: =$B37/12 -> 0 | D37: =$B37/12 -> 0 | E37: =$B37/12 -> 0 | F37: =$B37/12 -> 0 | G37: =$B37/12 -> 0 | H37: =$B37/12 -> 0 | I37: =$B37/12 -> 0 | J37: =$B37/12 -> 0 | ... N37: =$B37/12 -> 0 | O37: =SUM(C37:N37) -> 0
A38: Other Benefits | B38: ='Year 1'!B53 -> 0 | C38: =$B38/12 -> 0 | D38: =$B38/12 -> 0 | E38: =$B38/12 -> 0 | F38: =$B38/12 -> 0 | G38: =$B38/12 -> 0 | H38: =$B38/12 -> 0 | I38: =$B38/12 -> 0 | J38: =$B38/12 -> 0 | ... N38: =$B38/12 -> 0 | O38: =SUM(C38:N38) -> 0
A39: Required Purchased Services
A40: District Support Staff | B40: ='Year 1'!B58 -> 0 | C40: =$B40/12 -> 0 | D40: =$B40/12 -> 0 | E40: =$B40/12 -> 0 | F40: =$B40/12 -> 0 | G40: =$B40/12 -> 0 | H40: =$B40/12 -> 0 | I40: =$B40/12 -> 0 | J40: =$B40/12 -> 0 | ... N40: =$B40/12 -> 0 | O40: =SUM(C40:N40) -> 0
A41: Emergency Management | B41: ='Year 1'!B59 -> 0 | C41: =$B41/12 -> 0 | D41: =$B41/12 -> 0 | E41: =$B41/12 -> 0 | F41: =$B41/12 -> 0 | G41: =$B41/12 -> 0 | H41: =$B41/12 -> 0 | I41: =$B41/12 -> 0 | J41: =$B41/12 -> 0 | ... N41: =$B41/12 -> 0 | O41: =SUM(C41:N41) -> 0
A42: Student Information System (IC) | B42: ='Year 1'!B60 -> 0 | C42: =$B42/12 -> 0 | D42: =$B42/12 -> 0 | E42: =$B42/12 -> 0 | F42: =$B42/12 -> 0 | G42: =$B42/12 -> 0 | H42: =$B42/12 -> 0 | I42: =$B42/12 -> 0 | J42: =$B42/12 -> 0 | ... N42: =$B42/12 -> 0 | O42: =SUM(C42:N42) -> 0
A43: Assessment Services | B43: ='Year 1'!B61 -> 0 | C43: =$B43/12 -> 0 | D43: =$B43/12 -> 0 | E43: =$B43/12 -> 0 | F43: =$B43/12 -> 0 | G43: =$B43/12 -> 0 | H43: =$B43/12 -> 0 | I43: =$B43/12 -> 0 | J43: =$B43/12 -> 0 | ... N43: =$B43/12 -> 0 | O43: =SUM(C43:N43) -> 0
...
