Workbook

Sheet directions
A1: FAQ’s
A2: Substitute Reimbursement Form
A4: How should the Substitute Reimbursement form be saved initially?
A6: The first time that the Substitute Reimbursement form is opened from the Quarterly email, it should be saved into your own file or folder.
A8: How can the form be saved into your own file or folder?
A10: Open the Substitute Reimbursement form from the email received. Type in your school district’s name in the appropriate cell (top center), and save it into your file or folder as District Name_CoSer#_SubR_Q#_Date Submitted.
A12: How is information added to the form?
A14: Always begin on tab Reimb1 (This form contains all formulas). Simply click within the cell that you need to add information and type! Comment windows appear in any cell that has a red triangle in the right hand corner to give you additional information to assist you in filling out the form. Please fill in the district name at the top of Reimb1 this will carry through the remainder of the tabs.
A16: Can 534 and 507 substitute reimbursement be recorded on the same submission?
A18: No, separate workbooks must be submitted for each CoSer. One submission should be used for CoSer 534 Model Schools reimbursement and a separate one for CoSer 507 reimbursement. Remember a new spreadsheet must be submitted for each Quarter.
A20: What happens if I run out of room on a worksheet page?
A22: Always begin on tab Reimb1. Do NOT insert lines on the worksheet. You simply click on the next worksheet tab (bottom of the spreadsheet) and continue to record your reimbursement information on the next sheet. Do NOT delete rows, columns or tabs on this spreadsheet
... A61: Should you have any other questions, please email Kelly Perkowski at kperkowski@nasboces.org or call 516-396-2088

Sheet Reimb1
C1: Department of Curriculum, Instruction and Technology | F1: Check One:
C2: Substitute Reimbursement | F2: MS CoSer 534:
F3: C&I CoSer 507:
C4: School District:
C5: School:
A6: Last Name | B6: First Name | C6: BOCES Activity/Workshop Title | D6: BLC? | E6: Location | F6: Presenter | G6: Date | H6: Sub's Name | I6: Amt. Paid
A37: Submitted for the quarter ending: | F37: Subtotal this page | H37: =SUM(I7:I36) -> 0
A38: Prepared by: | F38: Total Amount Paid: | H38: =H37+Reimb2!H37+Reimb3!H37+Reimb4!H37+Reimb5!H37+Reimb6!H37+Reimb7!H37+Reimb8!H37+Reimb9!H37+Reimb10!H37 -> 0
A39: Submitted & Reviewed by: | G39: Date Submitted
A40: Title:

Sheet Reimb2
C1: Department of Curriculum, Instruction and Technology | F1: Check One:
C2: Substitute Reimbursement | F2: MS CoSer 534: | H2: =Reimb1!H2 -> 0
F3: C&I CoSer 507: | H3: =Reimb1!H3 -> 0
C4: School District: | D4: =Reimb1!D4 -> 0
C5: School:
A6: Last Name | B6: First Name | C6: BOCES Activity/Workshop Title | D6: BLC? | E6: Location | F6: Presenter | G6: Date | H6: Sub's Name | I6: Amt. Paid
A37: Submitted for the quarter ending: | C37: =Reimb1!C37 -> 0 | F37: Subtotal this page | H37: =SUM(I7:I36) -> 0
A38: Prepared by: | C38: =Reimb1!C38 -> 0
A39: Submitted & Reviewed by: | C39: =Reimb1!C39 -> 0
A40: Title: | C40: =Reimb1!C40 -> 0

Sheet Reimb3
C1: Department of Curriculum, Instruction and Technology | F1: Check One:
C2: Substitute Reimbursement | F2: MS CoSer 534: | H2: =Reimb1!H2 -> 0
F3: C&I CoSer 507: | H3: =Reimb1!H3 -> 0
C4: School District: | D4: =Reimb1!D4 -> 0
C5: School:
A6: Last Name | B6: First Name | C6: BOCES Activity/Workshop Title | D6: BLC? | E6: Location | F6: Presenter | G6: Date | H6: Sub's Name | I6: Amt. Paid
A37: Submitted for the quarter ending: | C37: =Reimb1!C37 -> 0 | F37: Subtotal this page | H37: =SUM(I7:I36) -> 0
A38: Prepared by: | C38: =Reimb1!C38 -> 0
A39: Submitted & Reviewed by: | C39: =Reimb1!C39 -> 0
A40: Title: | C40: =Reimb1!C40 -> 0

Sheet Reimb4
C1: Department of Curriculum, Instruction and Technology | F1: Check One:
C2: Substitute Reimbursement | F2: MS CoSer 534: | H2: =Reimb1!H2 -> 0
F3: C&I CoSer 507: | H3: =Reimb1!H3 -> 0
C4: School District: | D4: =Reimb1!D4 -> 0
C5: School:
A6: Last Name | B6: First Name | C6: BOCES Activity/Workshop Title | D6: BLC? | E6: Location | F6: Presenter | G6: Date | H6: Sub's Name | I6: Amt. Paid
A37: Submitted for the quarter ending: | C37: =Reimb1!C37 -> 0 | F37: Subtotal this page | H37: =SUM(I7:I36) -> 0
A38: Prepared by: | C38: =Reimb1!C38 -> 0
A39: Submitted & Reviewed by: | C39: =Reimb1!C39 -> 0
A40: Title: | C40: =Reimb1!C40 -> 0

Sheet Reimb5
C1: Department of Curriculum, Instruction and Technology | F1: Check One:
C2: Substitute Reimbursement | F2: MS CoSer 534: | H2: =Reimb1!H2 -> 0
F3: C&I CoSer 507: | H3: =Reimb1!H3 -> 0
C4: School District: | D4: =Reimb1!D4 -> 0
C5: School:
A6: Last Name | B6: First Name | C6: BOCES Activity/Workshop Title | D6: BLC? | E6: Location | F6: Presenter | G6: Date | H6: Sub's Name | I6: Amt. Paid
A37: Submitted for the quarter ending: | C37: =Reimb1!C37 -> 0 | F37: Subtotal this page | H37: =SUM(I7:I36) -> 0
A38: Prepared by: | C38: =Reimb1!C38 -> 0
A39: Submitted & Reviewed by: | C39: =Reimb1!C39 -> 0
A40: Title: | C40: =Reimb1!C40 -> 0

Sheet Reimb6
C1: Department of Curriculum, Instruction and Technology | F1: Check One:
C2: Substitute Reimbursement | F2: MS CoSer 534: | H2: =Reimb1!H2 -> 0
F3: C&I CoSer 507: | H3: =Reimb1!H3 -> 0
C4: School District: | D4: =Reimb1!D4 -> 0
C5: School:
A6: Last Name | B6: First Name | C6: BOCES Activity/Workshop Title | D6: BLC? | E6: Location | F6: Presenter | G6: Date | H6: Sub's Name | I6: Amt. Paid
A37: Submitted for the quarter ending: | C37: =Reimb1!C37 -> 0 | F37: Subtotal this page | H37: =SUM(I7:I36) -> 0
A38: Prepared by: | C38: =Reimb1!C38 -> 0
A39: Submitted & Reviewed by: | C39: =Reimb1!C39 -> 0
A40: Title: | C40: =Reimb1!C40 -> 0

Sheet Reimb7
C1: Department of Curriculum, Instruction and Technology | F1: Check One:
C2: Substitute Reimbursement | F2: MS CoSer 534: | H2: =Reimb1!H2 -> 0
F3: C&I CoSer 507: | H3: =Reimb1!H3 -> 0
C4: School District: | D4: =Reimb1!D4 -> 0
C5: School:
A6: Last Name | B6: First Name | C6: BOCES Activity/Workshop Title | D6: BLC? | E6: Location | F6: Presenter | G6: Date | H6: Sub's Name | I6: Amt. Paid
A37: Submitted for the quarter ending: | C37: =Reimb1!C37 -> 0 | F37: Subtotal this page | H37: =SUM(I7:I36) -> 0
A38: Prepared by: | C38: =Reimb1!C38 -> 0
A39: Submitted & Reviewed by: | C39: =Reimb1!C39 -> 0
A40: Title: | C40: =Reimb1!C40 -> 0

Sheet Reimb8
C1: Department of Curriculum, Instruction and Technology | F1: Check One:
C2: Substitute Reimbursement | F2: MS CoSer 534: | H2: =Reimb1!H2 -> 0
F3: C&I CoSer 507: | H3: =Reimb1!H3 -> 0
C4: School District: | D4: =Reimb1!D4 -> 0
C5: School:
A6: Last Name | B6: First Name | C6: BOCES Activity/Workshop Title | D6: BLC? | E6: Location | F6: Presenter | G6: Date | H6: Sub's Name | I6: Amt. Paid
A37: Submitted for the quarter ending: | C37: =Reimb1!C37 -> 0 | F37: Subtotal this page | H37: =SUM(I7:I36) -> 0
A38: Prepared by: | C38: =Reimb1!C38 -> 0
A39: Submitted & Reviewed by: | C39: =Reimb1!C39 -> 0
A40: Title: | C40: =Reimb1!C40 -> 0

Sheet Reimb9
C1: Department of Curriculum, Instruction and Technology | F1: Check One:
C2: Substitute Reimbursement | F2: MS CoSer 534: | H2: =Reimb1!H2 -> 0
F3: C&I CoSer 507: | H3: =Reimb1!H3 -> 0
C4: School District: | D4: =Reimb1!D4 -> 0
C5: School:
A6: Last Name | B6: First Name | C6: BOCES Activity/Workshop Title | D6: BLC? | E6: Location | F6: Presenter | G6: Date | H6: Sub's Name | I6: Amt. Paid
A37: Submitted for the quarter ending: | C37: =Reimb1!C37 -> 0 | F37: Subtotal this page | H37: =SUM(I7:I36) -> 0
A38: Prepared by: | C38: =Reimb1!C38 -> 0
A39: Submitted & Reviewed by: | C39: =Reimb1!C39 -> 0
A40: Title: | C40: =Reimb1!C40 -> 0

Sheet Reimb10
C1: Department of Curriculum, Instruction and Technology | F1: Check One:
C2: Substitute Reimbursement | F2: MS CoSer 534: | H2: =Reimb1!H2 -> 0
F3: C&I CoSer 507: | H3: =Reimb1!H3 -> 0
C4: School District: | D4: =Reimb1!D4 -> 0
C5: School:
A6: Last Name | B6: First Name | C6: BOCES Activity/Workshop Title | D6: BLC? | E6: Location | F6: Presenter | G6: Date | H6: Sub's Name | I6: Amt. Paid
A37: Submitted for the quarter ending: | C37: =Reimb1!C37 -> 0 | F37: Subtotal this page | H37: =SUM(I7:I36) -> 0
A38: Prepared by: | C38: =Reimb1!C38 -> 0
A39: Submitted & Reviewed by: | C39: =Reimb1!C39 -> 0
A40: Title: | C40: =Reimb1!C40 -> 0
