Workbook
Name Indirect_Cost_Plan___2015_16: #REF!
Name Indirect_Cost_Plan___2015_16: #REF!
Name Indirect_Cost_Plan___2015_16: #REF!
Name NvsEndTime: 45448.5669097222

Sheet Master Grant List
B1: MASTER GRANT LIST
A6: Fund | B6: Grant - Program Title | C6: ALN/Name | D6: FAIN# | E6: TAPS | F6: Award # | G6: Awarding Federal Agency | H6: FY26 Restricted Indirect Cost Rate+ | I6: FY26 Unrestricted Indirect Cost Rate+ | J6: Last Date to Incur Expenditures | K6: Last Date to Submit Reimbursement Request/Close out Grants | L6: Federal Award Date | M6: Project Period
A7: 4201 | B7: Title I, Part A - Improving the Academic Achievement of the Disadvantaged (TIPA) | C7: 84.010A Title I, Part A, Basic USDE | D7: S010A250009 | E7: 26A001 | F7: 500-2126C-6CB01 | G7: U.S. Dept. of Education | H7: 0.0221 | I7: 0.1634 | J7: 46203 | K7: 46204 | L7: 45839 | M7: 07/01/25 - 06/30/26
A8: 4203 | B8: Title II, Part A - Supporting Effective Instruction | C8: 84.367A Title II, A Teacher & Principal Training Fund USDE | D8: S367A240009 | E8: 25A011 | F8: 500-2245C-5CT01 | G8: U.S. Dept. of Education | H8: 0.0221 | I8: 0.1634 | J8: 46203 | K8: 46204 | L8: 45474 | M8: 07/01/24 - 06/30/26
A9: 4203 | B9: Title II, Part A - Supporting Effective Instruction | C9: 84.367A Title II, A Teacher & Principal Training Fund USDE | D9: S367A250009 | E9: 26A011 | F9: 500-2246C-6CT01 | G9: U.S. Dept. of Education | H9: 0.0221 | I9: 0.1634 | J9: 46203 | K9: 46204 | L9: 45839 | M9: 07/01/25 - 06/30/26
A10: 4204 | B10: Stronger Connections Grant Program | C10: 84.424F Title II BSCA SSAE Program USDE | D10: S424F220010 | E10: 24A278 | F10: 500-2423A-4CR01 | G10: U.S. Dept. of Education | H10: 0.0221 | I10: 0.1634 | J10: 46295 | K10: 46296 | L10: 44819 | M10: 01/01/24 - 09/30/26
A11: 4221 | B11: Title I, Part A - Unified School Improvement Grant (UniSIG) | C11: 84.010A PL 114-95 ESSA 2015, Title I, Part A | D11: S010A240009 | E11: 25A002 | F11: 500-2265D-5C001 | G11: U.S. Dept. of Education | H11: 0.0221 | I11: 0.1634 | J11: 45869 | K11: 45870 | L11: 45474 | M11: 08/01/24 - 07/31/25
A12: 4221 | B12: Title I, Part A - Unified School Improvement Grant (UniSIG) | C12: 84.010A Title I Part A School Improvement 1003 USDE | D12: S010A250009 | E12: 26A002 | F12: 500-2266D-6C001 | G12: U.S. Dept. of Education | H12: 0.0221 | I12: 0.1634 | J12: 46234 | K12: 46235 | L12: 45839 | M12: 08/01/25 - 07/31/26
A13: 4253 | B13: IDEA Part B, K-12 Entitlement | C13: 84.027A IDEA - Part B, PL 108-446 Section 611 | D13: H027A250024 | E13: 26C001 | F13: 500-2636C-6CB01 | G13: U.S. Dept. of Education | H13: 0.0221 | I13: 0.1634 | J13: 46203 | K13: 46204 | L13: 45839 | M13: 07/01/25 - 06/30/26
A14: 4255 | B14: IDEA Part B, Preschool Entitlement | C14: 84.173A IDEA, Part B - Preschool Section 619 USDE | D14: H173A250027 | E14: 26C002 | F14: 500-2676C-6CP01 | G14: U.S. Dept. of Education | H14: 0.0221 | I14: 0.1634 | J14: 46203 | K14: 46204 | L14: 45839 | M14: 07/01/25 - 06/30/26
A15: 4382 | B15: Title III, Part A - English Language Acquisition, Language Ehancement, and Academic Achievement | C15: 84.365A Title III Part A, English Language Acquisition | D15: T365A240009 | E15: 25A014 | F15: 500-1025B-5C001 | G15: U.S. Dept. of Education | H15: 0.0221 | I15: 0.1634 | J15: 46203 | K15: 46204 | L15: 45474 | M15: 07/01/24 - 06/30/26
A16: 4383 | B16: Title IV, Part A - Student Support and Academic Enrichment (SSAE) | C16: 84.424A Title IV Student Support and Acadmic Enrichment USDE | D16: S424A240010 | E16: 25A120 | F16: 500-2415A-5C001 | G16: U.S. Dept. of Education | H16: 0.0221 | I16: 0.1634 | J16: 46203 | K16: 46204 | L16: 45474 | M16: 07/01/24 - 06/30/26
A17: 4410 | B17: Public Charter School Program Grant (CSP) Planning, Program Design and Implementation (2024-2025) | C17: 84.282A Title IV Part C ESSA PL 114-95 Section 4303 | D17: S282A200017 | E17: 25C113 | F17: 500-2981F-5C101 | G17: U.S. Dept. of Education | H17: 0.0221 | I17: 0.1634 | J17: 46203 | K17: 46204 | L17: 44105 | M17: 10/31/24 - 06/30/26
A18: 4410 | B18: 2022-2025 Public Charter School Program (CSP) Planning, Program Design and Implementation | C18: 84.282A Title IV Part C ESSA 2015 20 USC 7221-7221j USDE | D18: S282A200017 | E18: 23C091 | F18: 500-2981F-3C101 | G18: U.S. Dept. of Education | H18: 0.0221 | I18: 0.1634 | J18: 46203 | K18: 46204 | L18: 44105 | M18: 09/07/22 - 06/30/26
... A21: 4451 | B21: Strengthening Career & Technical Education for the 21st Century Act - Perkins V | C21: 84.048 Perkins V, Title I; WIA, Sect 503 USDE | D21: V048A250009 | E21: 26B004 | F21: 500-1616S-6CS01 | G21: U.S. Dept. of Education | H21: 0.0221 | I21: 0.1634 | J21: 46203 | K21: 46204 | L21: 45839 | M21: 07/01/25 - 06/30/26
M33: TOTAL
B35: TERMS AND SPECIAL CONDITIONS
B36: This project and any amendments are subject to the procedures outlined in the Project Application and Amendment Procedures for Federal and State Programs (Green Book) and the General Assurances for Participation in Federal and State Programs.
B37: As a sub-recipient of Federal funds there is a requirement that you permit the Palm Beach County School District and auditors to have access to your records and financial statements as necessary for the Palm Beach County School District to meet the requirements of section, 200.300 Statutory and national policy requirements through 300.309 Period of performance, and Subpart F-Audit Requirements of this Part.
B39: Pursuant to OMB Uniform Guidance (2 CFR 200.501), "Each non-federal entity that expends $750,000 or more in any fiscal year of such non-federal entity shall be required to have a "Single or program specific audit". For further information, please see link below.
B40: https://www2.ed.gov/policy/fund/guid/uniform-guidance/index.html
B41: Palm Beach County School District Contacts: | C41: Name | D41: Phone#
A42: 4201/4221 | B42: Title I | C42: Nicole Smith | D42: 561-434-8111
A43: 4203 | B43: Title II | C43: Tangela Steele | D43: 561-649-6868
A44: 4204 | B44: Stronger Connections | C44: Samantha Palaigos | D44: 561-434-7368
A45: 4382 | B45: Title III | C45: Katty Chois | D45: 561-434-8774
A46: 4383 | B46: Title IV | C46: Tangela Steele | D46: 561-649-6868
A47: 4253/4255 | B47: IDEA | C47: Jennifer Zapata | D47: 561-434-8707
A48: 4410 | B48: CSP Grant | C48: Simone Oladejo | D48: 561-434-8230
A49: 4445 | B49: 21st CCLC | C49: Simone Oladejo | D49: 561-434-8230
A50: 4451 | B50: Carl D Perkins - Secondary | C50: Fred Passelli | D50: 561-434-8636
B53: *Note - To see Indirect Cost Plan - 2025-26 - The School District of Palm Beach County Website/Choice/Career Programs/Charter Schools/Charter School Fiscal Oversight/ Indirect Cost Plan - 2025-26
B55: `
B56: * On-Behalf Payment Detail: | C56: CFDA # | E56: Paid To | F56: On-Behalf Amount | G56: Date Paid | H56: Description

Sheet #0040 Palm Beach Prep Char. MS
A1: Palm Beach Prep Charter MS
A2: Federal Grant Allocations/Reimbursements as of: 12/31/25
A3: Department # 0040
A4: DUNS #150889900 | R4: July 1, 2025 - June 30, 2026
A6: Fund | B6: Grant - Program Title | C6: ALN/Name | D6: FAIN# | E6: TAPS | F6: Award # | G6: Awarding Federal Agency | H6: FY26 Restricted Indirect Cost Rate+ | I6: FY26 Unrestricted Indirect Cost Rate+ | J6: Last Date to Incur Expenditures | K6: Last Date to Submit Reimbursement Request/Close out Grants | L6: Federal Award Date | M6: Project Period | N6: Original Allocation Amount | O6: Incr <Decr> in Allocation Amount | P6: Revised Allocation Amount | R6: Cash Payments | S6: On-Behalf Payments * | T6: Total Payments ** | U6: Available Budget as of 12/31/25
A7: 4201 | B7: Title I, Part A - Improving the Academic Achievement of the Disadvantaged (TIPA) | C7: 84.010A Title I, Part A, Basic | D7: S010A250009 | E7: 26A001 | F7: 500-2126C-6CB01 | G7: U.S. Dept. of Education | H7: 0.0221 | I7: 0.1634 | J7: 46203 | K7: 46204 | L7: 45839 | M7: 07/01/25 - 06/30/26 | N7: 19626.5 | P7: =N7+O7 -> 19626.5 | R7: 0 | S7: 0 | T7: =R7+S7 -> 0 | U7: =P7-T7 -> 19626.5
A8: 4221 | B8: Title I, Part A - Unified School Improvement Grant (UniSIG) | C8: 84.010A Title I Part A School Improvement 1003 USDE | D8: S010A250009 | E8: 26A002 | F8: 500-2266D-6C001 | G8: U.S. Dept. of Education | H8: 0.0221 | I8: 0.1634 | J8: 46234 | K8: 46235 | L8: 45839 | M8: 08/01/25 - 07/31/26 | N8: 118750 | O8: 0 | P8: =N8+O8 -> 118750 | R8: 0 | S8: 0 | T8: =R8+S8 -> 0 | U8: =P8-T8 -> 118750
M9: TOTAL | N9: =SUM(N7:N8) -> 138376.5 | O9: =SUM(O7:O8) -> 0 | P9: =SUM(P7:P8) -> 138376.5 | R9: =SUM(R7:R8) -> 0 | S9: =SUM(S7:S8) -> 0 | T9: =SUM(T7:T8) -> 0 | U9: =SUM(U7:U8) -> 138376.5
B11: TERMS AND SPECIAL CONDITIONS
B12: This project and any amendments are subject to the procedures outlined in the Project Application and Amendment Procedures for Federal and State Programs (Green Book) and the General Assurances for Participation in Federal and State Programs.
B13: As a sub-recipient of Federal funds there is a requirement that you permit the Palm Beach County School District and auditors to have access to your records and financial statements as necessary for the Palm Beach County School District to meet the requirements of section, 200.300 Statutory and national policy requirements through 300.309 Period of performance, and Subpart F-Audit Requirements of this Part.
B15: Pursuant to OMB Uniform Guidance (2 CFR 200.501), "Each non-federal entity that expends $750,000 or more in any fiscal year of such non-federal entity shall be required to have a "Single or program specific audit". For further information, please see link below.
B16: https://www2.ed.gov/policy/fund/guid/uniform-guidance/index.html
B17: Palm Beach County School District Contacts: | C17: Name | D17: Phone#
B18: Title I | C18: Nicole Smith | D18: 561-434-8111
B25: *Note - To see Indirect Cost Plan - 2025-26 - The School District of Palm Beach County Website/Choice/Career Programs/Charter Schools/Charter School Fiscal Oversight/ Indirect Cost Plan - 2025-26
B27: ` | R27: ** Required to be recorded as Revenue and
B28: * On-Behalf Payment Detail: | C28: CFDA # | E28: Paid To | F28: On-Behalf Amount | G28: Date Paid | H28: Description | R28: Expenditure under the applicable Federal Award
R52: Total Payments: | T52: =SUM(T9) -> 0

Sheet #0100 The Learning Center HS
A1: The Learning Center High School
A2: ='#0040 Palm Beach Prep Char. MS'!A2 -> Federal Grant Allocations/Reimbursements as of: 12/31/25
A3: Department # 0100
A4: DUNS #150889900 | R4: ='#0040 Palm Beach Prep Char. MS'!R4 -> July 1, 2025 - June 30, 2026
A6: Fund | B6: Grant - Program Title | C6: ALN/Name | D6: FAIN# | E6: TAPS | F6: Award # | G6: Awarding Federal Agency | H6: FY26 Restricted Indirect Cost Rate+ | I6: FY26 Unrestricted Indirect Cost Rate+ | J6: Last Date to Incur Expenditures | K6: Last Date to Submit Reimbursement Request/Close out Grants | L6: Federal Award Date | M6: Project Period | N6: Original Allocation Amount | O6: Incr <Decr> in Allocation Amount | P6: Revised Allocation Amount | R6: Cash Payments | S6: On-Behalf Payments * | T6: Total Payments ** | U6: ='#0040 Palm Beach Prep Char. MS'!U6 -> Available Budget as of 12/31/25
A7: 4410 | B7: Public Charter School Program Grant (CSP) Planning, Program Design and Implementation (2024-2025) | C7: 84.282A Title IV Part C ESSA PL 114-95 Section 4303 | D7: S282A200017 | E7: 25C113 | F7: 500-2981F-5C101 | G7: U.S. Dept. of Education | H7: 0.0221 | I7: 0.1634 | J7: 46203 | K7: 46204 | L7: 44105 | M7: 10/31/24 - 06/30/26 | N7: 899993 | P7: =N7+O7 -> 899993 | R7: 368229.87 | T7: =R7+S7 -> 368229.87 | U7: =P7-T7 -> 531763.13
M9: TOTAL | N9: =SUM(N7:N8) -> 899993 | O9: =SUM(O7:O8) -> 0 | P9: =SUM(P7:P8) -> 899993 | R9: =SUM(R7:R8) -> 368229.87 | S9: =SUM(S7:S8) -> 0 | T9: =SUM(T7:T8) -> 368229.87 | U9: =SUM(U7:U8) -> 531763.13
B11: TERMS AND SPECIAL CONDITIONS
B12: This project and any amendments are subject to the procedures outlined in the Project Application and Amendment Procedures for Federal and State Programs (Green Book) and the General Assurances for Participation in Federal and State Programs.
B13: As a sub-recipient of Federal funds there is a requirement that you permit the Palm Beach County School District and auditors to have access to your records and financial statements as necessary for the Palm Beach County School District to meet the requirements of section, 200.300 Statutory and national policy requirements through 300.309 Period of performance, and Subpart F-Audit Requirements of this Part.
B15: Pursuant to OMB Uniform Guidance (2 CFR 200.501), "Each non-federal entity that expends $750,000 or more in any fiscal year of such non-federal entity shall be required to have a "Single or program specific audit". For further information, please see link below.
B16: https://www2.ed.gov/policy/fund/guid/uniform-guidance/index.html
B17: Palm Beach County School District Contacts: | C17: Name | D17: Phone#
A18: 4410 | B18: CSP Grant | C18: Simone Oladejo | D18: 561-434-8230
B25: *Note - To see Indirect Cost Plan - 2025-26 - The School District of Palm Beach County Website/Choice/Career Programs/Charter Schools/Charter School Fiscal Oversight/ Indirect Cost Plan - 2025-26
B27: ` | R27: ** Required to be recorded as Revenue and
B28: * On-Behalf Payment Detail: | C28: CFDA # | E28: Paid To | F28: On-Behalf Amount | G28: Date Paid | H28: Description | R28: Expenditure under the applicable Federal Award
R52: Total Payments: | T52: =SUM(T9) -> 368229.87

Sheet #1461 Inlet Grove Comm HS 
A1: Inlet Grove Community High School
A2: ='#0040 Palm Beach Prep Char. MS'!A2 -> Federal Grant Allocations/Reimbursements as of: 12/31/25
A3: Department # 1461
A4: DUNS #150889900 | R4: ='#0040 Palm Beach Prep Char. MS'!R4 -> July 1, 2025 - June 30, 2026
A6: Fund | B6: Grant - Program Title | C6: ALN/Name | D6: FAIN# | E6: TAPS | F6: Award # | G6: Awarding Federal Agency | H6: FY26 Restricted Indirect Cost Rate+ | I6: FY26 Unrestricted Indirect Cost Rate+ | J6: Last Date to Incur Expenditures | K6: Last Date to Submit Reimbursement Request/Close out Grants | L6: Federal Award Date | M6: Project Period | N6: Original Allocation Amount | O6: Incr <Decr> in Allocation Amount | P6: Revised Allocation Amount | R6: Cash Payments | S6: On-Behalf Payments * | T6: Total Payments ** | U6: ='#0100 The Learning Center HS'!U6 -> Available Budget as of 12/31/25
A7: 4201 | B7: Title I, Part A - Improving the Academic Achievement of the Disadvantaged (TIPA) | C7: 84.010A Title I, Part A, Basic USDE | D7: S010A250009 | E7: 26A001 | F7: 500-2126C-6CB01 | G7: U.S. Dept. of Education | H7: 0.0221 | I7: 0.1634 | J7: 46203 | K7: 46204 | L7: 45839 | M7: 07/01/25 - 06/30/26 | N7: 324258.75 | O7: 36946.5 | P7: =N7+O7 -> 361205.25 | R7: 100092.06 | S7: 0 | T7: =R7+S7 -> 100092.06 | U7: =P7-T7 -> 261113.19
A8: 4451 | B8: Strengthening Career & Technical Education for the 21st Century Act - Perkins V | C8: 84.048 Perkins V, Title I; WIA, Sect 503 USDE | D8: V048A250009 | E8: 26B004 | F8: 500-1616S-6CS01 | G8: U.S. Dept. of Education | H8: 0.0221 | I8: 0.1634 | J8: 46203 | K8: 46204 | L8: 45839 | M8: 07/01/25 - 06/30/26 | N8: 7937 | P8: =N8+O8 -> 7937 | R8: 5000 | S8: 0 | T8: =R8+S8 -> 5000 | U8: =P8-T8 -> 2937
P9: =N9+O9 -> 0 | S9: 0 | T9: =R9+S9 -> 0 | U9: =P9-T9 -> 0
M10: TOTAL | N10: =SUM(N7:N9) -> 332195.75 | O10: =SUM(O7:O9) -> 36946.5 | P10: =SUM(P7:P9) -> 369142.25 | R10: =SUM(R7:R9) -> 105092.06 | S10: =SUM(S7:S9) -> 0 | T10: =SUM(T7:T9) -> 105092.06 | U10: =SUM(U7:U9) -> 264050.19
B12: TERMS AND SPECIAL CONDITIONS
B13: This project and any amendments are subject to the procedures outlined in the Project Application and Amendment Procedures for Federal and State Programs (Green Book) and the General Assurances for Participation in Federal and State Programs.
B14: As a sub-recipient of Federal funds there is a requirement that you permit the Palm Beach County School District and auditors to have access to your records and financial statements as necessary for the Palm Beach County School District to meet the requirements of section, 200.300 Statutory and national policy requirements through 300.309 Period of performance, and Subpart F-Audit Requirements of this Part.
B16: Pursuant to OMB Uniform Guidance (2 CFR 200.501), "Each non-federal entity that expends $750,000 or more in any fiscal year of such non-federal entity shall be required to have a "Single or program specific audit". For further information, please see link below.
B17: https://www2.ed.gov/policy/fund/guid/uniform-guidance/index.html
B20: Palm Beach County School District Contacts: | C20: Name | D20: Phone#
B21: Title I | C21: Nicole Smith | D21: 561-434-8111
B22: Carl D Perkins - Secondary | C22: Fred Passelli | D22: 561-434-8636
B26: *Note - To see Indirect Cost Plan - 2025-26 - The School District of Palm Beach County Website/Choice/Career Programs/Charter Schools/Charter School Fiscal Oversight/ Indirect Cost Plan - 2025-26
R29: ** Required to be recorded as Revenue and
B30: * On-Behalf Payment Detail: | C30: CFDA # | F30: Paid To | G30: On-Behalf Amount | M30: Date Paid | N30: Description | R30: Expenditure under the applicable Federal Award
R52: Total Payments: | T52: =SUM(T10) -> 105092.06

Sheet #1571 South Tech Charter Acad
B1: South Tech Charter Academy | Q1: July 1, 2018 - June 30, 2019
B2: Federal Grant Allocations/Reimbursements as of : | C2: 43465 | Q2: Reimbursements as of 12/31/18
A3: Fund | B3: Department # 1571
B4: DUNS #179459669 | M4: Award | N4: Award | O4: Award | Q4: Cash | R4: On-Behalf | S4: Total
G5: FY19 | H5: FY19 | M5: Original | N5: Incr<Decr> | O5: Revised | Q5: Payments | R5: Payments | S5: Payments
B6: Program Title | C6: CFDA#/Name | D6: FAIN# | E6: Award # | F6: Awarding Federal Agency | G6: Restricted Indirect Cost Rate+ | H6: Unrestricted Indirect Cost Rate+ | I6: Last Date to Incur Expenditures | J6: Last Date to Submit Reimbursement Request/Close out Grants | K6: Federal Award Date | L6: Project Period | M6: Amount | N6: Amount | O6: Amount | R6: * | S6: **
B7: Title 1 Part A Education of Disadvantaged Children & Youth | C7: 84.010 Title I, Part A, Basic | D7: S010A150009 | E7: 500-2129B-9CB01 | F7: U.S. Dept. of Education | G7: 0.0277 | H7: 0.1506 | I7: 43646 | J7: 43647 | K7: 43282 | L7: 07/01/18 - 06/30/19 | M7: 0 | N7: 0 | O7: =M7+N7 -> 0 | Q7: 0 | S7: =Q7+R7 -> 0
B8: IDEA, Part B -K-12, Entitlement | C8: 84.027 IDEA Part B -K-12 Entitlement | D8: H027A150024 | E8: 500-2639B-9CB01 | F8: U.S. Dept. of Education | G8: 0.0314 | H8: 0.1621 | I8: 42916 | J8: 42917 | K8: 42552 | L8: 07/01/2016 - 06/30/2017 | M8: 0 | O8: =M8+N8 -> 0 | Q8: 0 | S8: =Q8+R8 -> 0
B9: Carl D. Perkins - Career & Technical Education, Secondary Sec. 131 | C9: 84.048 Carl D Perkins Career & Technical Education | D9: V048A150009 | E9: 500-1617A-7CS01 | F9: U.S. Dept. of Education | G9: 0.0314 | H9: 0.1621 | I9: 42916 | J9: 42917 | K9: 42552 | L9: 07/01/2016 - 06/30/2017 | M9: 0 | N9: 0 | O9: =M9+N9 -> 0 | Q9: 0 | R9: 0 | S9: =Q9+R9 -> 0
L11: TOTAL | M11: =SUM(M7:M10) -> 0 | N11: =SUM(N7:N10) -> 0 | O11: =SUM(O7:O10) -> 0 | Q11: =SUM(Q7:Q10) -> 0 | R11: =SUM(R7:R10) -> 0 | S11: =SUM(S7:S10) -> 0
B13: TERMS AND SPECIAL CONDITIONS
B14: This project and any amendments are subject to the procedures outlined in the Project Application and Amendment Procedures for Federal and State Programs (Green Book) and the General Assurances for Participation in Federal and State Programs.
B16: As a sub-recipient of Federal funds there is a requirement that you permit the Palm Beach County School District and auditors to have access to your records and financial statements as necessary for the Palm Beach County School District to meet the requirements of section, 200.300 Statutory and national policy requirements through 300.309 Period of performance, and Subpart F-Audit Requirements of this Part.
B18: Pursuant to OMB Uniform Guidance (2 CFR 200.501), "Each non-federal entity that expends $750,000 or more in any fiscal year of such non-federal entity shall be required to have a "Single or program specific audit". For further information, please see link below.
B19: https://www2.ed.gov/policy/fund/guid/uniform-guidance/index.html
B21: Palm Beach County School District Contacts: | C21: Name | D21: Phone#
B26: Indirect Cost Plan - 2018-19
Q29: ** Required to be recorded as Revenue and
B30: * On-Behalf Payment Detail: | C30: CFDA # | D30: Paid To | E30: On-Behalf Amount | F30: Date Paid | G30: Description | Q30: Expenditure under the applicable Federal Award
E39: =SUM(E31:E38) -> 0

Sheet #1571 South Tech Academy
A1: South Tech Academy
A2: ='#0040 Palm Beach Prep Char. MS'!A2 -> Federal Grant Allocations/Reimbursements as of: 12/31/25
A3: Department # 1571
R4: ='#0040 Palm Beach Prep Char. MS'!R4 -> July 1, 2025 - June 30, 2026
A6: Fund | B6: Grant - Program Title | C6: ALN/Name | D6: FAIN# | E6: TAPS | F6: Award # | G6: Awarding Federal Agency | H6: ='#1461 Inlet Grove Comm HS '!H6 -> FY26 Restricted Indirect Cost Rate+ | I6: ='#1461 Inlet Grove Comm HS '!I6 -> FY26 Unrestricted Indirect Cost Rate+ | J6: Last Date to Incur Expenditures | K6: Last Date to Submit Reimbursement Request/Close out Grants | L6: Federal Award Date | M6: Project Period | N6: Original Allocation Amount | O6: Incr <Decr> in Allocation Amount | P6: Revised Allocation Amount | R6: Cash Payments | S6: On-Behalf Payments * | T6: Total Payments ** | U6: ='#1461 Inlet Grove Comm HS '!U6 -> Available Budget as of 12/31/25
A7: 4451 | B7: Strengthening Career & Technical Education for the 21st Century Act - Perkins V | C7: 84.048 Perkins V, Title I; WIA, Sect 503 USDE | D7: V048A250009 | E7: 26B004 | F7: 500-1616S-6CS01 | G7: U.S. Dept. of Education | H7: 0.0221 | I7: 0.1634 | J7: 46203 | K7: 46204 | L7: 45839 | M7: 07/01/25 - 06/30/26 | N7: 7937 | O7: 20000 | P7: =SUM(N7:O7) -> 27937 | R7: 0 | S7: 0 | T7: =R7+S7 -> 0 | U7: =P7-R7 -> 27937
P8: =SUM(N8:O8) -> 0
M9: TOTAL | N9: =SUM(N7:N7) -> 7937 | O9: =SUM(O7:O7) -> 20000 | P9: =SUM(P7:P7) -> 27937 | R9: =SUM(R7:R7) -> 0 | S9: =SUM(S7:S7) -> 0 | T9: =SUM(T7:T7) -> 0 | U9: =SUM(U7) -> 27937
B11: TERMS AND SPECIAL CONDITIONS
B12: This project and any amendments are subject to the procedures outlined in the Project Application and Amendment Procedures for Federal and State Programs (Green Book) and the General Assurances for Participation in Federal and State Programs.
B14: As a sub-recipient of Federal funds there is a requirement that you permit the Palm Beach County School District and auditors to have access to your records and financial statements as necessary for the Palm Beach County School District to meet the requirements of section, 200.300 Statutory and national policy requirements through 300.309 Period of performance, and Subpart F-Audit Requirements of this Part.
B16: Pursuant to OMB Uniform Guidance (2 CFR 200.501), "Each non-federal entity that expends $750,000 or more in any fiscal year of such non-federal entity shall be required to have a "Single or program specific audit". For further information, please see link below.
B17: https://www2.ed.gov/policy/fund/guid/uniform-guidance/index.html
B19: Palm Beach County School District Contacts: | C19: Name | D19: Phone#
B20: Carl D Perkins - Secondary | C20: Fred Passelli | D20: 561-434-8636
B22: *Note - To see Indirect Cost Plan - 2025-26 - The School District of Palm Beach County Website/Choice/Career Programs/Charter Schools/Charter School Fiscal Oversight/ Indirect Cost Plan - 2025-26
B24: ` | R24: ** Required to be recorded as Revenue and
B25: * On-Behalf Payment Detail: | C25: CFDA # | E25: Paid To | F25: On-Behalf Amount | G25: Date Paid | H25: Description | R25: Expenditure under the applicable Federal Award
S52: Total Payments: | T52: =T9 -> 0

Sheet #2521 Ed Venture 
A1: Ed Venture Charter School
A2: =('#1461 Inlet Grove Comm HS '!A2) -> Federal Grant Allocations/Reimbursements as of: 12/31/25
A3: Department # 2521
A4: DUNS #150889900 | R4: ='#0040 Palm Beach Prep Char. MS'!R4 -> July 1, 2025 - June 30, 2026
A6: Fund | B6: Grant - Program Title | C6: ALN/Name | D6: FAIN# | E6: TAPS | F6: Award # | G6: Awarding Federal Agency | H6: ='#1461 Inlet Grove Comm HS '!H6 -> FY26 Restricted Indirect Cost Rate+ | I6: ='#1461 Inlet Grove Comm HS '!I6 -> FY26 Unrestricted Indirect Cost Rate+ | J6: Last Date to Incur Expenditures | K6: Last Date to Submit Reimbursement Request/Close out Grants | L6: Federal Award Date | M6: Project Period | N6: Original Allocation Amount | O6: Incr <Decr> in Allocation Amount | P6: Revised Allocation Amount | R6: Cash Payments | S6: On-Behalf Payments * | T6: Total Payments ** | U6: ='#1461 Inlet Grove Comm HS '!U6 -> Available Budget as of 12/31/25
A7: 4253 | B7: IDEA Part B, K-12 Entitlement | C7: 84.027A IDEA - Part B, PL 108-446 Section 611 | D7: H027A250024 | E7: 26C001 | F7: 500-2636C-6CB01 | G7: U.S. Dept. of Education | H7: 0.0221 | I7: 0.1634 | J7: 46203 | K7: 46204 | L7: 45839 | M7: 07/01/25 - 06/30/26 | N7: 25699.11 | O7: -2176.72 | P7: =N7+O7 -> 23522.39 | R7: 23522.39 | S7: 0 | T7: =R7+S7 -> 23522.39 | U7: =P7-T7 -> 0
P8: =N8+O8 -> 0 | R8: 0 | T8: =R8+S8 -> 0 | U8: =P8-T8 -> 0
M9: TOTAL | N9: =SUM(N7:N8) -> 25699.11 | O9: =SUM(O7:O8) -> -2176.72 | P9: =SUM(P7:P8) -> 23522.39 | R9: =SUM(R7:R8) -> 23522.39 | S9: =SUM(S7:S8) -> 0 | T9: =SUM(T7:T8) -> 23522.39 | U9: =SUM(U7:U8) -> 0
B12: TERMS AND SPECIAL CONDITIONS
B13: This project and any amendments are subject to the procedures outlined in the Project Application and Amendment Procedures for Federal and State Programs (Green Book) and the General Assurances for Participation in Federal and State Programs.
B15: As a sub-recipient of Federal funds there is a requirement that you permit the Palm Beach County School District and auditors to have access to your records and financial statements as necessary for the Palm Beach County School District to meet the requirements of section, 200.300 Statutory and national policy requirements through 300.309 Period of performance, and Subpart F-Audit Requirements of this Part.
B17: Pursuant to OMB Uniform Guidance (2 CFR 200.501), "Each non-federal entity that expends $750,000 or more in any fiscal year of such non-federal entity shall be required to have a "Single or program specific audit". For further information, please see link below.
B18: https://www2.ed.gov/policy/fund/guid/uniform-guidance/index.html
B20: Palm Beach County School District Contacts: | C20: Name | D20: Phone#
B21: IDEA | C21: Jennifer Zapata | D21: 561-434-8707
B27: *Note - To see Indirect Cost Plan - 2025-26 - The School District of Palm Beach County Website/Choice/Career Programs/Charter Schools/Charter School Fiscal Oversight/ Indirect Cost Plan - 2025-26
R30: ** Required to be recorded as Revenue and
B31: * On-Behalf Payment Detail: | C31: CFDA # | F31: Paid To | G31: On-Behalf Amount | M31: Date Paid | N31: Description | R31: Expenditure under the applicable Federal Award
Y46: Total Payments: | Z46: =T9 -> 23522.39
S52: Total Payments: | T52: =T9 -> 23522.39

Sheet #2531 Bodwell 
A1: Bodwell Academy
A2: =('#1461 Inlet Grove Comm HS '!A2) -> Federal Grant Allocations/Reimbursements as of: 12/31/25
A3: Department # 2531
A4: DUNS #150889900 | R4: ='#0040 Palm Beach Prep Char. MS'!R4 -> July 1, 2025 - June 30, 2026
A6: Fund | B6: Grant - Program Title | C6: ALN/Name | D6: FAIN# | E6: TAPS | F6: Award # | G6: Awarding Federal Agency | H6: ='#1461 Inlet Grove Comm HS '!H6 -> FY26 Restricted Indirect Cost Rate+ | I6: ='#1461 Inlet Grove Comm HS '!I6 -> FY26 Unrestricted Indirect Cost Rate+ | J6: Last Date to Incur Expenditures | K6: Last Date to Submit Reimbursement Request/Close out Grants | L6: Federal Award Date | M6: Project Period | N6: Original Allocation Amount | O6: Incr <Decr> in Allocation Amount | P6: Revised Allocation Amount | R6: Cash Payments | S6: On-Behalf Payments * | T6: Total Payments ** | U6: ='#1461 Inlet Grove Comm HS '!U6 -> Available Budget as of 12/31/25
A7: 4201 | B7: Title I, Part A - Improving the Academic Achievement of the Disadvantaged (TIPA) | C7: 84.010A Title I, Part A, Basic | D7: S010A250009 | E7: 26A001 | F7: 500-2126C-6CB01 | G7: U.S. Dept. of Education | H7: 0.0221 | I7: 0.1634 | J7: 46203 | K7: 46204 | L7: 45839 | M7: 07/01/25 - 06/30/26 | N7: 13181.25 | P7: =N7+O7 -> 13181.25 | R7: 0 | S7: 0 | T7: =R7+S7 -> 0 | U7: =P7-T7 -> 13181.25
A8: 4253 | B8: IDEA Part B, K-12 Entitlement | C8: 84.027A IDEA - Part B, PL 108-446 Section 611 | D8: H027A250024 | E8: 26C001 | F8: 500-2636C-6CB01 | G8: U.S. Dept. of Education | H8: 0.0221 | I8: 0.1634 | J8: 46203 | K8: 46204 | L8: 45839 | M8: 07/01/25 - 06/30/26 | N8: 2548 | O8: =59617+53270.75 -> 112887.75 | P8: =N8+O8 -> 115435.75 | R8: 62165 | T8: =R8+S8 -> 62165 | U8: =P8-T8 -> 53270.75
P9: =N9+O9 -> 0 | R9: 0 | S9: 0 | T9: =R9+S9 -> 0 | U9: =P9-T9 -> 0
M10: TOTAL | N10: =SUM(N7:N9) -> 15729.25 | O10: =SUM(O7:O9) -> 112887.75 | P10: =SUM(P7:P9) -> 128617 | R10: =SUM(R7:R9) -> 62165 | S10: =SUM(S7:S9) -> 0 | T10: =SUM(T7:T9) -> 62165 | U10: =SUM(U7:U9) -> 66452
B12: TERMS AND SPECIAL CONDITIONS
B13: This project and any amendments are subject to the procedures outlined in the Project Application and Amendment Procedures for Federal and State Programs (Green Book) and the General Assurances for Participation in Federal and State Programs.
B15: As a sub-recipient of Federal funds there is a requirement that you permit the Palm Beach County School District and auditors to have access to your records and financial statements as necessary for the Palm Beach County School District to meet the requirements of section, 200.300 Statutory and national policy requirements through 300.309 Period of performance, and Subpart F-Audit Requirements of this Part.
B17: Pursuant to OMB Uniform Guidance (2 CFR 200.501), "Each non-federal entity that expends $750,000 or more in any fiscal year of such non-federal entity shall be required to have a "Single or program specific audit". For further information, please see link below.
B18: https://www2.ed.gov/policy/fund/guid/uniform-guidance/index.html
B20: Palm Beach County School District Contacts: | C20: Name | D20: Phone#
B21: Title I | C21: Nicole Smith | D21: 561-434-8111
B22: IDEA | C22: Jennifer Zapata | D22: 561-434-8707
B26: *Note - To see Indirect Cost Plan - 2025-26 - The School District of Palm Beach County Website/Choice/Career Programs/Charter Schools/Charter School Fiscal Oversight/ Indirect Cost Plan - 2025-26
R29: ** Required to be recorded as Revenue and
B30: * On-Behalf Payment Detail: | C30: CFDA # | F30: Paid To | G30: On-Behalf Amount | M30: Date Paid | N30: Description | R30: Expenditure under the applicable Federal Award
S52: Total Payments: | T52: =T10 -> 62165

Sheet #2791 The Learning Center @ Els
A1: The Learning Center @ the Els Center of Excellence
A2: =('#1461 Inlet Grove Comm HS '!A2) -> Federal Grant Allocations/Reimbursements as of: 12/31/25
A3: Department # 2791
A4: DUNS #150889900 | R4: ='#0040 Palm Beach Prep Char. MS'!R4 -> July 1, 2025 - June 30, 2026
A6: Fund | B6: Grant - Program Title | C6: ALN/Name | D6: FAIN# | E6: TAPS | F6: Award # | G6: Awarding Federal Agency | H6: ='#1461 Inlet Grove Comm HS '!H6 -> FY26 Restricted Indirect Cost Rate+ | I6: ='#1461 Inlet Grove Comm HS '!I6 -> FY26 Unrestricted Indirect Cost Rate+ | J6: Last Date to Incur Expenditures | K6: Last Date to Submit Reimbursement Request/Close out Grants | L6: Federal Award Date | M6: Project Period | N6: Original Allocation Amount | O6: Incr <Decr> in Allocation Amount | P6: Revised Allocation Amount | R6: Cash Payments | S6: On-Behalf Payments * | T6: Total Payments ** | U6: ='#1461 Inlet Grove Comm HS '!U6 -> Available Budget as of 12/31/25
N7: 0 | P7: =N7+O7 -> 0 | R7: 0 | T7: =R7+S7 -> 0 | U7: =P7-T7 -> 0
N8: 0 | O8: 0 | P8: =N8+O8 -> 0 | R8: 0 | T8: =R8+S8 -> 0 | U8: =P8-T8 -> 0
N9: 0 | P9: =N9+O9 -> 0 | R9: 0 | U9: =P9-T9 -> 0
M10: TOTAL | N10: =SUM(N7:N9) -> 0 | O10: =SUM(O7:O9) -> 0 | P10: =SUM(P7:P9) -> 0 | R10: =SUM(R7:R9) -> 0 | S10: =SUM(S7:S9) -> 0 | T10: =SUM(T7:T9) -> 0 | U10: =SUM(U7:U9) -> 0
B13: TERMS AND SPECIAL CONDITIONS
B14: This project and any amendments are subject to the procedures outlined in the Project Application and Amendment Procedures for Federal and State Programs (Green Book) and the General Assurances for Participation in Federal and State Programs.
B16: As a sub-recipient of Federal funds there is a requirement that you permit the Palm Beach County School District and auditors to have access to your records and financial statements as necessary for the Palm Beach County School District to meet the requirements of section, 200.300 Statutory and national policy requirements through 300.309 Period of performance, and Subpart F-Audit Requirements of this Part.
B18: Pursuant to OMB Uniform Guidance (2 CFR 200.501), "Each non-federal entity that expends $750,000 or more in any fiscal year of such non-federal entity shall be required to have a "Single or program specific audit". For further information, please see link below.
B19: https://www2.ed.gov/policy/fund/guid/uniform-guidance/index.html
B21: Palm Beach County School District Contacts: | C21: Name | D21: Phone#
B28: *Note - To see Indirect Cost Plan - 2025-26 - The School District of Palm Beach County Website/Choice/Career Programs/Charter Schools/Charter School Fiscal Oversight/ Indirect Cost Plan - 2025-26
R31: ** Required to be recorded as Revenue and
B32: * On-Behalf Payment Detail: | C32: CFDA # | F32: Paid To | G32: On-Behalf Amount | M32: Date Paid | N32: Description | R32: Expenditure under the applicable Federal Award
S45: Total Payments: | T45: =T10 -> 0

Sheet #2801 PB Maritime Acad Elem
A1: Palm Beach Maritime Academy Elementary
A2: =('#1461 Inlet Grove Comm HS '!A2) -> Federal Grant Allocations/Reimbursements as of: 12/31/25
A3: Department # 2801
A4: DUNS #150889900 | R4: ='#0040 Palm Beach Prep Char. MS'!R4 -> July 1, 2025 - June 30, 2026
A6: Fund | B6: Grant - Program Title | C6: ALN/Name | D6: FAIN# | E6: TAPS | F6: Award # | G6: Awarding Federal Agency | H6: ='#1461 Inlet Grove Comm HS '!H6 -> FY26 Restricted Indirect Cost Rate+ | I6: ='#1461 Inlet Grove Comm HS '!I6 -> FY26 Unrestricted Indirect Cost Rate+ | J6: Last Date to Incur Expenditures | K6: Last Date to Submit Reimbursement Request/Close out Grants | L6: Federal Award Date | M6: Project Period | N6: Original Allocation Amount | O6: Incr <Decr> in Allocation Amount | P6: Revised Allocation Amount | R6: Cash Payments | S6: On-Behalf Payments * | T6: Total Payments ** | U6: ='#2791 The Learning Center @ Els'!U6 -> Available Budget as of 12/31/25
A7: 4201 | B7: Title I, Part A - Improving the Academic Achievement of the Disadvantaged (TIPA) | C7: 84.010A Title I, Part A, Basic | D7: S010A250009 | E7: 26A001 | F7: 500-2126C-6CB01 | G7: U.S. Dept. of Education | H7: 0.0221 | I7: 0.1634 | J7: 46203 | K7: 46204 | L7: 45839 | M7: 07/01/25 - 06/30/26 | N7: 337691.25 | O7: 0 | P7: =N7+O7 -> 337691.25 | R7: 40481.85 | S7: 0 | T7: =R7+S7 -> 40481.85 | U7: =P7-T7 -> 297209.4
A8: 4204 | B8: Stronger Connections Grant Program | C8: 84.424F Title II BSCA SSAE Program | D8: S424F220010 | E8: 24A278 | F8: 500-2423A-4CR01 | G8: U.S. Dept. of Education | H8: 0.0221 | I8: 0.1634 | J8: 46295 | K8: 46296 | L8: 44819 | M8: 01/01/24 - 09/30/26 | N8: 4152.06 | O8: 3409.96 | P8: =N8+O8 -> 7562.02 | R8: 0 | T8: =R8+S8 -> 0 | U8: =P8-T8 -> 7562.02
P9: =N9+O9 -> 0 | R9: 0 | T9: =R9+S9 -> 0 | U9: =P9-T9 -> 0
P10: =N10+O10 -> 0 | R10: 0 | T10: =R10+S10 -> 0 | U10: =P10-T10 -> 0
M11: TOTAL | N11: =SUM(N7:N10) -> 341843.31 | O11: =SUM(O7:O10) -> 3409.96 | P11: =SUM(P7:P10) -> 345253.27 | R11: =SUM(R7:R10) -> 40481.85 | S11: =SUM(S7:S10) -> 0 | T11: =SUM(T7:T10) -> 40481.85 | U11: =SUM(U7:U10) -> 304771.42
B14: TERMS AND SPECIAL CONDITIONS
B15: This project and any amendments are subject to the procedures outlined in the Project Application and Amendment Procedures for Federal and State Programs (Green Book) and the General Assurances for Participation in Federal and State Programs.
B17: As a sub-recipient of Federal funds there is a requirement that you permit the Palm Beach County School District and auditors to have access to your records and financial statements as necessary for the Palm Beach County School District to meet the requirements of section, 200.300 Statutory and national policy requirements through 300.309 Period of performance, and Subpart F-Audit Requirements of this Part.
B19: Pursuant to OMB Uniform Guidance (2 CFR 200.501), "Each non-federal entity that expends $750,000 or more in any fiscal year of such non-federal entity shall be required to have a "Single or program specific audit". For further information, please see link below.
B20: https://www2.ed.gov/policy/fund/guid/uniform-guidance/index.html
B22: Palm Beach County School District Contacts: | C22: Name | D22: Phone#
B23: Title I | C23: Nicole Smith | D23: 561-434-8111
B24: Stronger Connections | C24: Samantha Palaigos | D24: 561-434-7368
B28: *Note - To see Indirect Cost Plan - 2025-26 - The School District of Palm Beach County Website/Choice/Career Programs/Charter Schools/Charter School Fiscal Oversight/ Indirect Cost Plan - 2025-26
R31: ** Required to be recorded as Revenue and
B32: * On-Behalf Payment Detail: | C32: CFDA # | F32: Paid To | G32: On-Behalf Amount | M32: Date Paid | N32: Description | R32: Expenditure under the applicable Federal Award
S52: Total Payments: | T52: =T11 -> 40481.85

Sheet #2911 Western Academy
A1: Western Academy Charter School
A2: =('#1461 Inlet Grove Comm HS '!A2) -> Federal Grant Allocations/Reimbursements as of: 12/31/25
A3: Department # 2911
A4: DUNS #150889900 | R4: ='#0040 Palm Beach Prep Char. MS'!R4 -> July 1, 2025 - June 30, 2026
A6: Fund | B6: Grant - Program Title | C6: ALN/Name | D6: FAIN# | E6: TAPS | F6: Award # | G6: Awarding Federal Agency | H6: ='#1461 Inlet Grove Comm HS '!H6 -> FY26 Restricted Indirect Cost Rate+ | I6: ='#1461 Inlet Grove Comm HS '!I6 -> FY26 Unrestricted Indirect Cost Rate+ | J6: Last Date to Incur Expenditures | K6: Last Date to Submit Reimbursement Request/Close out Grants | L6: Federal Award Date | M6: Project Period | N6: Original Allocation Amount | O6: Incr <Decr> in Allocation Amount | P6: Revised Allocation Amount | R6: Cash Payments | S6: On-Behalf Payments * | T6: Total Payments ** | U6: ='#2801 PB Maritime Acad Elem'!U6 -> Available Budget as of 12/31/25
A7: 4204 | B7: Stronger Connections Grant Program | C7: 84.424F Title II BSCA SSAE Program | D7: S424F220010 | E7: 24A278 | F7: 500-2423A-4CR01 | G7: U.S. Dept. of Education | H7: 0.0221 | I7: 0.1634 | J7: 46295 | K7: 46296 | L7: 44819 | M7: 01/01/24 - 09/30/26 | N7: 2115.2 | O7: 3716 | P7: =N7+O7 -> 5831.2 | R7: 0 | S7: 0 | T7: =R7+S7 -> 0 | U7: =P7-R7 -> 5831.2
A8: 4253 | B8: IDEA Part B, K-12 Entitlement | C8: 84.027A IDEA - Part B, PL 108-446 Section 611 | D8: H027A250024 | E8: 26C001 | F8: 500-2636C-6CB01 | G8: U.S. Dept. of Education | H8: 0.0221 | I8: 0.1634 | J8: 46203 | K8: 46204 | L8: 45839 | M8: 07/01/25 - 06/30/26 | N8: 9596.41 | O8: 0 | P8: =N8+O8 -> 9596.41 | R8: 9596.41 | T8: =R8+S8 -> 9596.41 | U8: =P8-R8 -> 0
M9: TOTAL | N9: =SUM(N7:N8) -> 11711.61 | O9: =SUM(O7:O8) -> 3716 | P9: =SUM(P7:P8) -> 15427.61 | R9: =SUM(R7:R8) -> 9596.41 | S9: =SUM(S7:S8) -> 0 | T9: =SUM(T7:T8) -> 9596.41 | U9: =SUM(U7:U8) -> 5831.2
B13: TERMS AND SPECIAL CONDITIONS
B14: This project and any amendments are subject to the procedures outlined in the Project Application and Amendment Procedures for Federal and State Programs (Green Book) and the General Assurances for Participation in Federal and State Programs.
B16: As a sub-recipient of Federal funds there is a requirement that you permit the Palm Beach County School District and auditors to have access to your records and financial statements as necessary for the Palm Beach County School District to meet the requirements of section, 200.300 Statutory and national policy requirements through 300.309 Period of performance, and Subpart F-Audit Requirements of this Part.
B18: Pursuant to OMB Uniform Guidance (2 CFR 200.501), "Each non-federal entity that expends $750,000 or more in any fiscal year of such non-federal entity shall be required to have a "Single or program specific audit". For further information, please see link below.
B19: https://www2.ed.gov/policy/fund/guid/uniform-guidance/index.html
B20: Palm Beach County School District Contacts: | C20: Name | D20: Phone#
B22: Stronger Connections Grant | C22: Samantha Palaigos | D22: 561-434-7368
B23: IDEA | C23: Jennifer Zapata | D23: 561-434-8707
B26: *Note - To see Indirect Cost Plan - 2025-26 - The School District of Palm Beach County Website/Choice/Career Programs/Charter Schools/Charter School Fiscal Oversight/ Indirect Cost Plan - 2025-26
R29: ** Required to be recorded as Revenue and
B30: * On-Behalf Payment Detail: | C30: CFDA # | F30: Paid To | G30: On-Behalf Amount | M30: Date Paid | N30: Description | R30: Expenditure under the applicable Federal Award
S52: Total Payments: | T52: =T9 -> 9596.41

Sheet #2941 Palm Beach School Autism 
A1: Palm Beach School for Autism
A2: =('#1461 Inlet Grove Comm HS '!A2) -> Federal Grant Allocations/Reimbursements as of: 12/31/25
A3: Department # 2941
A4: DUNS #150889900 | R4: ='#0040 Palm Beach Prep Char. MS'!R4 -> July 1, 2025 - June 30, 2026
A6: Fund | B6: Grant - Program Title | C6: ALN/Name | D6: FAIN# | E6: TAPS | F6: Award # | G6: Awarding Federal Agency | H6: ='#1461 Inlet Grove Comm HS '!H6 -> FY26 Restricted Indirect Cost Rate+ | I6: ='#1461 Inlet Grove Comm HS '!I6 -> FY26 Unrestricted Indirect Cost Rate+ | J6: Last Date to Incur Expenditures | K6: Last Date to Submit Reimbursement Request/Close out Grants | L6: Federal Award Date | M6: Project Period | N6: Original Allocation Amount | O6: Incr <Decr> in Allocation Amount | P6: Revised Allocation Amount | R6: Cash Payments | S6: On-Behalf Payments * | T6: Total Payments ** | U6: ='#2911 Western Academy'!U6 -> Available Budget as of 12/31/25
A7: 4253 | B7: IDEA Part B, K-12 Entitlement | C7: 84.027A IDEA - Part B, PL 108-446 Section 611 | D7: H027A250024 | E7: 26C001 | F7: 500-2636C-6CB01 | G7: U.S. Dept. of Education | H7: 0.0221 | I7: 0.1634 | J7: 46203 | K7: 46204 | L7: 45839 | M7: 07/01/25 - 06/30/26 | N7: 442512.14 | O7: 0 | P7: =N7+O7 -> 442512.14 | R7: 442512.14 | T7: =R7+S7 -> 442512.14 | U7: =P7-T7 -> 0
P8: =N8+O8 -> 0 | S8: 0 | T8: =R8+S8 -> 0 | U8: =P8-T8 -> 0
P9: =N9+O9 -> 0 | S9: 0 | T9: =R9+S9 -> 0 | U9: =P9-T9 -> 0
M10: TOTAL | N10: =SUM(N7:N9) -> 442512.14 | O10: =SUM(O7:O9) -> 0 | P10: =SUM(P7:P9) -> 442512.14 | R10: =SUM(R7:R9) -> 442512.14 | S10: =SUM(S7:S9) -> 0 | T10: =SUM(T7:T9) -> 442512.14 | U10: =SUM(U7:U9) -> 0
B12: TERMS AND SPECIAL CONDITIONS
B13: This project and any amendments are subject to the procedures outlined in the Project Application and Amendment Procedures for Federal and State Programs (Green Book) and the General Assurances for Participation in Federal and State Programs.
B15: As a sub-recipient of Federal funds there is a requirement that you permit the Palm Beach County School District and auditors to have access to your records and financial statements as necessary for the Palm Beach County School District to meet the requirements of section, 200.300 Statutory and national policy requirements through 300.309 Period of performance, and Subpart F-Audit Requirements of this Part.
B17: Pursuant to OMB Uniform Guidance (2 CFR 200.501), "Each non-federal entity that expends $750,000 or more in any fiscal year of such non-federal entity shall be required to have a "Single or program specific audit". For further information, please see link below.
B18: https://www2.ed.gov/policy/fund/guid/uniform-guidance/index.html
B21: Palm Beach County School District Contacts: | C21: Name | D21: Phone#
B22: IDEA | C22: Jennifer Zapata | D22: 561-434-8707
B27: *Note - To see Indirect Cost Plan - 2025-26 - The School District of Palm Beach County Website/Choice/Career Programs/Charter Schools/Charter School Fiscal Oversight/ Indirect Cost Plan - 2025-26
R30: ** Required to be recorded as Revenue and
B31: * On-Behalf Payment Detail: | C31: CFDA # | F31: Paid To | G31: On-Behalf Amount | M31: Date Paid | N31: Description | R31: Expenditure under the applicable Federal Award
S52: Total Payments: | T52: =T10 -> 442512.14

Sheet #3083 The Learning Acad @ Els 
A1: The Learning Academy @ the Els Center of Excellence
A2: =('#1461 Inlet Grove Comm HS '!A2) -> Federal Grant Allocations/Reimbursements as of: 12/31/25
A3: Department # 3083
A4: DUNS #150889900 | R4: ='#0040 Palm Beach Prep Char. MS'!R4 -> July 1, 2025 - June 30, 2026
A6: Fund | B6: Grant - Program Title | C6: ALN/Name | D6: FAIN# | E6: TAPS | F6: Award # | G6: Awarding Federal Agency | H6: ='#1461 Inlet Grove Comm HS '!H6 -> FY26 Restricted Indirect Cost Rate+ | I6: ='#1461 Inlet Grove Comm HS '!I6 -> FY26 Unrestricted Indirect Cost Rate+ | J6: Last Date to Incur Expenditures | K6: Last Date to Submit Reimbursement Request/Close out Grants | L6: Federal Award Date | M6: Project Period | N6: Original Allocation Amount | O6: Incr <Decr> in Allocation Amount | P6: Revised Allocation Amount | R6: Cash Payments | S6: On-Behalf Payments * | T6: Total Payments ** | U6: ='#2941 Palm Beach School Autism '!U6 -> Available Budget as of 12/31/25
O7: 0 | P7: =N7+O7 -> 0 | S7: 0 | T7: =R7+S7 -> 0 | U7: =P7-T7 -> 0
P8: =N8+O8 -> 0 | T8: =R8+S8 -> 0 | U8: =P8-T8 -> 0
M9: TOTAL | N9: =SUM(N7:N8) -> 0 | O9: =SUM(O7:O8) -> 0 | P9: =SUM(P7:P8) -> 0 | R9: =SUM(R7:R8) -> 0 | S9: =SUM(S7:S8) -> 0 | T9: =SUM(T7:T8) -> 0 | U9: =SUM(U7:U8) -> 0
B13: TERMS AND SPECIAL CONDITIONS
B14: This project and any amendments are subject to the procedures outlined in the Project Application and Amendment Procedures for Federal and State Programs (Green Book) and the General Assurances for Participation in Federal and State Programs.
B16: As a sub-recipient of Federal funds there is a requirement that you permit the Palm Beach County School District and auditors to have access to your records and financial statements as necessary for the Palm Beach County School District to meet the requirements of section, 200.300 Statutory and national policy requirements through 300.309 Period of performance, and Subpart F-Audit Requirements of this Part.
B18: Pursuant to OMB Uniform Guidance (2 CFR 200.501), "Each non-federal entity that expends $750,000 or more in any fiscal year of such non-federal entity shall be required to have a "Single or program specific audit". For further information, please see link below.
B19: https://www2.ed.gov/policy/fund/guid/uniform-guidance/index.html
B21: Palm Beach County School District Contacts: | C21: Name | D21: Phone#
B25: *Note - To see Indirect Cost Plan - 2025-26 - The School District of Palm Beach County Website/Choice/Career Programs/Charter Schools/Charter School Fiscal Oversight/ Indirect Cost Plan - 2025-26
R28: ** Required to be recorded as Revenue and
B29: * On-Behalf Payment Detail: | C29: CFDA # | F29: Paid To | G29: On-Behalf Amount | M29: Date Paid | N29: Description | R29: Expenditure under the applicable Federal Award
S46: Total Payments: | T46: =T9 -> 0

Sheet #3345 Career Academy of the PB 
A1: Career Academy of the Palm Beaches
A2: =('#1461 Inlet Grove Comm HS '!A2) -> Federal Grant Allocations/Reimbursements as of: 12/31/25
A3: Department # 3345
A4: DUNS #150889900 | R4: ='#0040 Palm Beach Prep Char. MS'!R4 -> July 1, 2025 - June 30, 2026
A6: Fund | B6: Grant - Program Title | C6: ALN/Name | D6: FAIN# | E6: TAPS | F6: Award # | G6: Awarding Federal Agency | H6: ='#1461 Inlet Grove Comm HS '!H6 -> FY26 Restricted Indirect Cost Rate+ | I6: ='#1461 Inlet Grove Comm HS '!I6 -> FY26 Unrestricted Indirect Cost Rate+ | J6: Last Date to Incur Expenditures | K6: Last Date to Submit Reimbursement Request/Close out Grants | L6: Federal Award Date | M6: Project Period | N6: Original Allocation Amount | O6: Incr <Decr> in Allocation Amount | P6: Revised Allocation Amount | R6: Cash Payments | S6: On-Behalf Payments * | T6: Total Payments ** | U6: ='#3083 The Learning Acad @ Els '!U6 -> Available Budget as of 12/31/25
A7: 4253 | B7: IDEA Part B, K-12 Entitlement | C7: 84.027A IDEA - Part B, PL 108-446 Section 611 | D7: H027A250024 | E7: 26C001 | F7: 500-2636C-6CB01 | G7: U.S. Dept. of Education | H7: 0.0221 | I7: 0.1634 | J7: 46203 | K7: 46204 | L7: 45839 | M7: 07/01/25 - 06/30/26 | N7: 27795.81 | O7: 0 | P7: =N7+O7 -> 27795.81 | R7: 0 | T7: =R7+S7 -> 0 | U7: =P7-T7 -> 27795.81
M10: Total | N10: =SUM(N7:N9) -> 27795.81 | O10: =SUM(O7:O9) -> 0 | P10: =SUM(P7:P9) -> 27795.81 | R10: =SUM(R7:R9) -> 0 | S10: =SUM(S7:S9) -> 0 | T10: =SUM(T7:T9) -> 0 | U10: =SUM(U7:U9) -> 27795.81
B13: TERMS AND SPECIAL CONDITIONS
B14: This project and any amendments are subject to the procedures outlined in the Project Application and Amendment Procedures for Federal and State Programs (Green Book) and the General Assurances for Participation in Federal and State Programs.
B16: As a sub-recipient of Federal funds there is a requirement that you permit the Palm Beach County School District and auditors to have access to your records and financial statements as necessary for the Palm Beach County School District to meet the requirements of section, 200.300 Statutory and national policy requirements through 300.309 Period of performance, and Subpart F-Audit Requirements of this Part.
B18: Pursuant to OMB Uniform Guidance (2 CFR 200.501), "Each non-federal entity that expends $750,000 or more in any fiscal year of such non-federal entity shall be required to have a "Single or program specific audit". For further information, please see link below.
B19: https://www2.ed.gov/policy/fund/guid/uniform-guidance/index.html
B21: Palm Beach County School District Contacts: | C21: Name | D21: Phone#
B22: IDEA | C22: Jennifer Zapata | D22: 561-434-8707
B25: *Note - To see Indirect Cost Plan - 2025-26 - The School District of Palm Beach County Website/Choice/Career Programs/Charter Schools/Charter School Fiscal Oversight/ Indirect Cost Plan - 2025-26
R28: ** Required to be recorded as Revenue and
B29: * On-Behalf Payment Detail: | C29: CFDA # | F29: Paid To | G29: On-Behalf Amount | M29: Date Paid | N29: Description | R29: Expenditure under the applicable Federal Award
S51: Total Payments: | T51: =T10 -> 0

Sheet #3381 Imagine Schools 
A1: Imagine Schools - Chancellor Campus
A2: =('#1461 Inlet Grove Comm HS '!A2) -> Federal Grant Allocations/Reimbursements as of: 12/31/25
A3: Department # 3381
A4: DUNS #150889900 | R4: ='#0040 Palm Beach Prep Char. MS'!R4 -> July 1, 2025 - June 30, 2026
A6: Fund | B6: Grant - Program Title | C6: ALN/Name | D6: FAIN# | E6: TAPS | F6: Award # | G6: Awarding Federal Agency | H6: ='#1461 Inlet Grove Comm HS '!H6 -> FY26 Restricted Indirect Cost Rate+ | I6: ='#1461 Inlet Grove Comm HS '!I6 -> FY26 Unrestricted Indirect Cost Rate+ | J6: Last Date to Incur Expenditures | K6: Last Date to Submit Reimbursement Request/Close out Grants | L6: Federal Award Date | M6: Project Period | N6: Original Allocation Amount | O6: Incr <Decr> in Allocation Amount | P6: Revised Allocation Amount | R6: Cash Payments | S6: On-Behalf Payments * | T6: Total Payments ** | U6: ='#3345 Career Academy of the PB '!U6 -> Available Budget as of 12/31/25
A7: 4201 | B7: Title I, Part A - Improving the Academic Achievement of the Disadvantaged (TIPA) | C7: 84.010A Title I, Part A, Basic | D7: S010A250009 | E7: 26A001 | F7: 500-2126C-6CB01 | G7: U.S. Dept. of Education | H7: 0.0221 | I7: 0.1634 | J7: 46203 | K7: 46204 | L7: 45839 | M7: 07/01/25 - 06/30/26 | N7: 402196.5 | P7: =N7+O7 -> 402196.5 | R7: 141690.77 | T7: =R7+S7 -> 141690.77 | U7: =P7-T7 -> 260505.73
A8: 4253 | B8: IDEA Part B, K-12 Entitlement | C8: 84.027A IDEA - Part B, PL 108-446 Section 611 | D8: H027A250024 | E8: 26C001 | F8: 500-2636C-6CB01 | G8: U.S. Dept. of Education | H8: 0.0221 | I8: 0.1634 | J8: 46203 | K8: 46204 | L8: 45839 | M8: 07/01/25 - 06/30/26 | N8: 37625.9 | O8: 0 | P8: =N8+O8 -> 37625.9 | T8: =R8+S8 -> 0 | U8: =P8-T8 -> 37625.9
M9: TOTAL | N9: =SUM(N7:N8) -> 439822.4 | O9: =SUM(O7:O8) -> 0 | P9: =SUM(P7:P8) -> 439822.4 | R9: =SUM(R7:R8) -> 141690.77 | S9: =SUM(S7:S8) -> 0 | T9: =SUM(T7:T8) -> 141690.77 | U9: =SUM(U7:U8) -> 298131.63
B12: TERMS AND SPECIAL CONDITIONS
B13: This project and any amendments are subject to the procedures outlined in the Project Application and Amendment Procedures for Federal and State Programs (Green Book) and the General Assurances for Participation in Federal and State Programs.
B15: As a sub-recipient of Federal funds there is a requirement that you permit the Palm Beach County School District and auditors to have access to your records and financial statements as necessary for the Palm Beach County School District to meet the requirements of section, 200.300 Statutory and national policy requirements through 300.309 Period of performance, and Subpart F-Audit Requirements of this Part.
B17: Pursuant to OMB Uniform Guidance (2 CFR 200.501), "Each non-federal entity that expends $750,000 or more in any fiscal year of such non-federal entity shall be required to have a "Single or program specific audit". For further information, please see link below.
B18: https://www2.ed.gov/policy/fund/guid/uniform-guidance/index.html
B20: Palm Beach County School District Contacts: | C20: Name | D20: Phone #
B21: Title I | C21: Nicole Smith | D21: 561-434-8111
B22: IDEA | C22: Jennifer Zapata | D22: 561-434-8707
B25: *Note - To see Indirect Cost Plan - 2025-26 - The School District of Palm Beach County Website/Choice/Career Programs/Charter Schools/Charter School Fiscal Oversight/ Indirect Cost Plan - 2025-26
R28: ** Required to be recorded as Revenue and
B29: * On-Behalf Payment Detail: | C29: CFDA # | F29: Paid To | G29: On-Behalf Amount | M29: Date Paid | N29: Description | R29: Expenditure under the applicable Federal Award
S52: Total Payments: | T52: =T9 -> 141690.77

Sheet #3382 Glades Academy 
A1: Glades Academy Inc.
A2: =('#1461 Inlet Grove Comm HS '!A2) -> Federal Grant Allocations/Reimbursements as of: 12/31/25
A3: Department # 3382
A4: DUNS #150889900 | R4: ='#0040 Palm Beach Prep Char. MS'!R4 -> July 1, 2025 - June 30, 2026
A6: Fund | B6: Grant - Program Title | C6: ALN/Name | D6: FAIN# | E6: TAPS | F6: Award # | G6: Awarding Federal Agency | H6: ='#1461 Inlet Grove Comm HS '!H6 -> FY26 Restricted Indirect Cost Rate+ | I6: ='#1461 Inlet Grove Comm HS '!I6 -> FY26 Unrestricted Indirect Cost Rate+ | J6: Last Date to Incur Expenditures | K6: Last Date to Submit Reimbursement Request/Close out Grants | L6: Federal Award Date | M6: Project Period | N6: Original Allocation Amount | O6: Incr <Decr> in Allocation Amount | P6: Revised Allocation Amount | R6: Cash Payments | S6: On-Behalf Payments * | T6: Total Payments ** | U6: ='#3381 Imagine Schools '!U6 -> Available Budget as of 12/31/25
A7: 4201 | B7: Title I, Part A - Improving the Academic Achievement of the Disadvantaged (TIPA) | C7: 84.010A Title I, Part A, Basic | D7: S010A250009 | E7: 26A001 | F7: 500-2126C-6CB01 | G7: U.S. Dept. of Education | H7: 0.0221 | I7: 0.1634 | J7: 46203 | K7: 46204 | L7: 45839 | M7: 07/01/25 - 06/30/26 | N7: =160921.25+9684.7 -> 170605.95 | P7: =N7+O7 -> 170605.95 | R7: 56313.6 | S7: 0 | T7: =R7+S7 -> 56313.6 | U7: =P7-T7 -> 114292.35
A8: 4445 | B8: Nita M Lowey 21st Century Community Learning Centers (21st CCLC) - Renewability | C8: 84.287C 21st CCLC ESSA Title IV, Part B | D8: S287C240009 | E8: 25B146 | F8: 500-2445C-5CRN4 | G8: U.S. Dept. of Education | H8: 0.0221 | I8: 0.1634 | J8: 45869 | K8: 45870 | L8: 45474 | M8: 08/01/24 - 07/31/25 | N8: 139159.83 | O8: -93190.58 | P8: =N8+O8 -> 45969.25 | R8: 45969.25 | T8: =R8+S8 -> 45969.25 | U8: =P8-T8 -> 0 | V8: * Grant Closed
A9: 4445 | B9: Nita M Lowey 21st Century Community Learning Centers (21st CCLC) - Renewability | C9: 84.287C 21st CCLC ESEA Title IV, Part B USDE | D9: S287C250009 | E9: 26B146 | F9: 500-2446C-6CRN4 | G9: U.S. Dept. of Education | H9: 0.0221 | I9: 0.1634 | J9: 46234 | K9: 46235 | L9: 45839 | M9: 08/01/25 - 07/31/26 | N9: 207274.24 | P9: =N9+O9 -> 207274.24 | T9: =R9+S9 -> 0 | U9: =P9-T9 -> 207274.24
M11: TOTAL | N11: =SUM(N7:N10) -> 517040.02 | O11: =SUM(O7:O10) -> -93190.58 | P11: =SUM(P7:P10) -> 423849.44 | R11: =SUM(R7:R10) -> 102282.85 | S11: =SUM(S7:S10) -> 0 | T11: =SUM(T7:T10) -> 102282.85 | U11: =SUM(U7:U10) -> 321566.59
B13: TERMS AND SPECIAL CONDITIONS
B14: This project and any amendments are subject to the procedures outlined in the Project Application and Amendment Procedures for Federal and State Programs (Green Book) and the General Assurances for Participation in Federal and State Programs.
B16: As a sub-recipient of Federal funds there is a requirement that you permit the Palm Beach County School District and auditors to have access to your records and financial statements as necessary for the Palm Beach County School District to meet the requirements of section, 200.300 Statutory and national policy requirements through 300.309 Period of performance, and Subpart F-Audit Requirements of this Part.
B18: Pursuant to OMB Uniform Guidance (2 CFR 200.501), "Each non-federal entity that expends $750,000 or more in any fiscal year of such non-federal entity shall be required to have a "Single or program specific audit". For further information, please see link below.
B19: https://www2.ed.gov/policy/fund/guid/uniform-guidance/index.html
B20: Palm Beach County School District Contacts: | C20: Name | D20: Phone#
B21: Title I | C21: Nicole Smith | D21: 561-434-8111
B22: 21st CCLC | C22: Simone Oladejo | D22: 561-434-8230
B28: *Note - To see Indirect Cost Plan - 2025-26 - The School District of Palm Beach County Website/Choice/Career Programs/Charter Schools/Charter School Fiscal Oversight/ Indirect Cost Plan - 2025-26
R31: ** Required to be recorded as Revenue and
B32: * On-Behalf Payment Detail: | C32: CFDA # | F32: Paid To | G32: On-Behalf Amount | M32: Date Paid | N32: Description | R32: Expenditure under the applicable Federal Award
S52: Total Payments: | T52: =R11 -> 102282.85

Sheet #3391 Seagull Academy Ind. Liv
A1: Seagull Academy for Independent Living (SAIL)
A2: =('#1461 Inlet Grove Comm HS '!A2) -> Federal Grant Allocations/Reimbursements as of: 12/31/25
A3: Department # 3391
A4: DUNS #150889900 | R4: ='#0040 Palm Beach Prep Char. MS'!R4 -> July 1, 2025 - June 30, 2026
A6: Fund | B6: Grant - Program Title | C6: ALN/Name | D6: FAIN# | E6: TAPS | F6: Award # | G6: Awarding Federal Agency | H6: ='#1461 Inlet Grove Comm HS '!H6 -> FY26 Restricted Indirect Cost Rate+ | I6: ='#1461 Inlet Grove Comm HS '!I6 -> FY26 Unrestricted Indirect Cost Rate+ | J6: Last Date to Incur Expenditures | K6: Last Date to Submit Reimbursement Request/Close out Grants | L6: Federal Award Date | M6: Project Period | N6: Original Allocation Amount | O6: Incr <Decr> in Allocation Amount | P6: Revised Allocation Amount | R6: Cash Payments | S6: On-Behalf Payments * | T6: Total Payments ** | U6: ='#3382 Glades Academy '!U6 -> Available Budget as of 12/31/25
P7: =N7+O7 -> 0 | R7: 0 | S7: 0 | T7: =R7+S7 -> 0 | U7: =P7-T7 -> 0
M10: TOTAL | N10: =SUM(N7:N9) -> 0 | O10: =SUM(O7:O9) -> 0 | P10: =SUM(P7:P9) -> 0 | R10: =SUM(R7:R9) -> 0 | S10: =SUM(S7:S9) -> 0 | T10: =SUM(T7:T9) -> 0 | U10: =SUM(U7:U9) -> 0
B12: TERMS AND SPECIAL CONDITIONS
B13: This project and any amendments are subject to the procedures outlined in the Project Application and Amendment Procedures for Federal and State Programs (Green Book) and the General Assurances for Participation in Federal and State Programs.
