Workbook
Name City: #REF!
Name State: #REF!
Name UNIQUESTATE: _xludf.Unique('[1]GSA Rates 10-1-2023'!$B:$B)
Name UNIQUESTATE: _xludf.Unique('[2]GSA Rates 10-1-2023'!$B:$B)
Name UNIQUESTATE: _xludf.Unique(#REF!)

Sheet Trip Tracker
B3: Employee's Name | M3: City of Travel | S3: State of Travel | X3: Leave Date | AF3: Return Date
B6: Departure Time | S6: Return Time
B8: What kind of travel is this? Account Type in ERP
B10: Meals Tab
B13: Place an X next to the meals provided by either the conference or the hotel.
AB14: $ Allowed
C15: Date | AB15: Per person | AG15: Per Day
D16: =Formulas!$L25 -> 0 | J16: Breakfast | Q16: Lunch | V16: Dinner | AB16: =Formulas!$S25 | AG16: =Formulas!$T25 -> 0
D17: =Formulas!$L26 | J17: Breakfast | Q17: Lunch | V17: Dinner | AB17: =Formulas!$S26 | AG17: =Formulas!$T26 -> 0
D18: =Formulas!$L27 | J18: Breakfast | Q18: Lunch | V18: Dinner | AB18: =Formulas!$S27 | AG18: =Formulas!$T27 -> 0
D19: =Formulas!$L28 | J19: Breakfast | Q19: Lunch | V19: Dinner | AB19: =Formulas!$S28 | AG19: =Formulas!$T28 -> 0
D20: =Formulas!$L29 | J20: Breakfast | Q20: Lunch | V20: Dinner | AB20: =Formulas!$S29 | AG20: =Formulas!$T29 -> 0
D21: =Formulas!$L30 | J21: Breakfast | Q21: Lunch | V21: Dinner | AB21: =Formulas!$S30 | AG21: =Formulas!$T30 -> 0
D22: =Formulas!$L31 | J22: Breakfast | Q22: Lunch | V22: Dinner | AB22: =Formulas!$S31 | AG22: =Formulas!$T31 -> 0
S24: Total per sponsor/student | AB24: =Formulas!$S$32 -> 0 | AG24: =Formulas!$T$32 -> 0
B26: Lodging Tab
B28: Lodging Tab: Enter number of nights in ERP | R28: =IF(Formulas!$H$14=0,"",Formulas!$H$14)
B30: Is lodging paid with Grants Funds? | U30: Number of Rooms Planned
B31: Number of Students | U31: Shared | Z31: Not Shared
B32: Number of Sponsors/ employee | AG32: TOTALS
B34: GSA Hotel Rate | K34: =Formulas!$M$48 -> 0 | P34: GSA rate plus 35 % Taxes | AB34: =Formulas!$N$48 -> 0 | AG34: =Formulas!$R$46 -> 0
B36: Conference Hotel Rate | P36: In ERP enter - Conf. rate plus taxes | AB36: =Formulas!$N$49 -> 0 | AG36: =Formulas!$S$47 -> 0
B38: Hotel Overage | F38: In ERP enter 199 Budget code to cover hotel overages | AG38: =Formulas!$T$47 -> 0
B40: Vehicle Tab
B42: Mileage | F42: Add? | O42: Airport | W42: In ERP, enter mileage | AG42: =IF(Formulas!$G$21=0,"",Formulas!$G$21)
B44: Othe Expenses Tab
B46: Parking/Tolls - Enter the estimated amount in ERP | AG46: 0
B48: Taxi (Uber/Lyft)/Shuttle - Enter the estimated amount in ERP | AG48: 0
B50: Baggage fees | F50: ="Calculate at" &" " & "$" &Formulas!$B$28 &" "&"if airfare was purchased" -> Calculate at $80 if airfare was purchased | V50: # of Bags Planned | AG50: =Formulas!$B$30 -> 0
B52: Rental Car Gas | F52: If a car rental is requested, enter an estimated amount for car rental gas in ERP | AG52: 0
B54: Other | F54: Explain | AG54: 0

Sheet Formulas
L2: Meals Per Diem Rate:
A3: Account Type | B3: Meal Amount | F3: Travel Dates | L3: Account Type | M3: Meal Amount | O3: # of students | P3: ='Trip Tracker'!$K$31 -> 0
A4: Non-Employee (Board Members/Key Officals) | B4: =$B$5*2 -> 150 | F4: Leave Date | G4: ='Trip Tracker'!$X$4 -> 0 | L4: ='Trip Tracker'!S8 -> 0 | M4: =IF($L$4=0,0,IF($L$4=$A$4,$B$4,IF($L$4=$A$5,$B$5,IF($L$4=$A$6,$B$6,IF($L$4=$A$7,$B$7,""))))) -> 0 | O4: # of sponsors | P4: ='Trip Tracker'!$K$32 -> 0
A5: Employee | B5: 75 | F5: Return Date | G5: ='Trip Tracker'!$AF$4 -> 0
A6: Employee/Student (Athletics) | B6: 63 | L6: Travel Days | M6: Non-Employee (Board Members/Key Officals) | N6: Employee | O6: Employee/Student (Athletics) | P6: Student (FWISD Students Travel)
A7: Student (FWISD Students Travel) | B7: 40 | F7: City & State | L7: Breakfast | M7: 40 | N7: 20 | O7: 8 | P7: 16
F8: City | G8: ='Trip Tracker'!$M$4 -> 0 | L8: Lunch | M8: 44 | N8: 22 | O8: 12 | P8: 19
A9: Drop Down | F9: State | G9: ='Trip Tracker'!$S$4 -> 0 | L9: Dinner | M9: 66 | N9: 33 | O9: 20 | P9: 28
A10: Yes | F10: City, State | G10: =$G$8&","&" "&$G$9 -> 0, 0
A11: No
F12: What kind of travel is this? | G12: ='Trip Tracker'!$S$8 -> 0 | L12: Meals Provided: | M12: =$L$25 -> 0 | N12: =$L$26 | O12: =$L$27 | P12: =L28 | Q12: =L29 | R12: =L30 | S12: =L31
A13: Parking, Taxi (Uber/Lyft), Tolls | L13: Breakfast | M13: =IF($G$12=$A$4,$M$7,IF($G$12=$A$5,$N$7,IF($G$12=$A$6,$O$7,IF($G$12=$A$7,$P$7)))) -> FALSE | N13: =IF($G$12=$A$4,$M$7,IF($G$12=$A$5,$N$7,IF($G$12=$A$6,$O$7,IF($G$12=$A$7,$P$7)))) -> FALSE | O13: =IF($G$12=$A$4,$M$7,IF($G$12=$A$5,$N$7,IF($G$12=$A$6,$O$7,IF($G$12=$A$7,$P$7)))) -> FALSE | P13: =IF($G$12=$A$4,$M$7,IF($G$12=$A$5,$N$7,IF($G$12=$A$6,$O$7,IF($G$12=$A$7,$P$7)))) -> FALSE | Q13: =IF($G$12=$A$4,$M$7,IF($G$12=$A$5,$N$7,IF($G$12=$A$6,$O$7,IF($G$12=$A$7,$P$7)))) -> FALSE | R13: =IF($G$12=$A$4,$M$7,IF($G$12=$A$5,$N$7,IF($G$12=$A$6,$O$7,IF($G$12=$A$7,$P$7)))) -> FALSE | S13: =IF($G$12=$A$4,$M$7,IF($G$12=$A$5,$N$7,IF($G$12=$A$6,$O$7,IF($G$12=$A$7,$P$7)))) -> FALSE
A14: Percentage to calculate parking/tolls | B14: 0.2 | F14: Lodging Tab: Enter number of nights in frontline | H14: =_xlfn.DAYS($G$5,$G$4) -> 0 | L14: Lunch | M14: =IF($G$12=$A$4,$M$8,IF($G$12=$A$5,$N$8,IF($G$12=$A$6,$O$8,IF($G$12=$A$7,$P$8)))) -> FALSE | N14: =IF($G$12=$A$4,$M$8,IF($G$12=$A$5,$N$8,IF($G$12=$A$6,$O$8,IF($G$12=$A$7,$P$8)))) -> FALSE | O14: =IF($G$12=$A$4,$M$8,IF($G$12=$A$5,$N$8,IF($G$12=$A$6,$O$8,IF($G$12=$A$7,$P$8)))) -> FALSE | P14: =IF($G$12=$A$4,$M$8,IF($G$12=$A$5,$N$8,IF($G$12=$A$6,$O$8,IF($G$12=$A$7,$P$8)))) -> FALSE | Q14: =IF($G$12=$A$4,$M$8,IF($G$12=$A$5,$N$8,IF($G$12=$A$6,$O$8,IF($G$12=$A$7,$P$8)))) -> FALSE | R14: =IF($G$12=$A$4,$M$8,IF($G$12=$A$5,$N$8,IF($G$12=$A$6,$O$8,IF($G$12=$A$7,$P$8)))) -> FALSE | S14: =IF($G$12=$A$4,$M$8,IF($G$12=$A$5,$N$8,IF($G$12=$A$6,$O$8,IF($G$12=$A$7,$P$8)))) -> FALSE
A15: Percentage to calculate taxi/shuttle | B15: 0.25 | L15: Dinner | M15: =IF($G$12=$A$4,$M$9,IF($G$12=$A$5,$N$9,IF($G$12=$A$6,$O$9,IF($G$12=$A$7,$P$9)))) -> FALSE | N15: =IF($G$12=$A$4,$M$9,IF($G$12=$A$5,$N$9,IF($G$12=$A$6,$O$9,IF($G$12=$A$7,$P$9)))) -> FALSE | O15: =IF($G$12=$A$4,$M$9,IF($G$12=$A$5,$N$9,IF($G$12=$A$6,$O$9,IF($G$12=$A$7,$P$9)))) -> FALSE | P15: =IF($G$12=$A$4,$M$9,IF($G$12=$A$5,$N$9,IF($G$12=$A$6,$O$9,IF($G$12=$A$7,$P$9)))) -> FALSE | Q15: =IF($G$12=$A$4,$M$9,IF($G$12=$A$5,$N$9,IF($G$12=$A$6,$O$9,IF($G$12=$A$7,$P$9)))) -> FALSE | R15: =IF($G$12=$A$4,$M$9,IF($G$12=$A$5,$N$9,IF($G$12=$A$6,$O$9,IF($G$12=$A$7,$P$9)))) -> FALSE | S15: =IF($G$12=$A$4,$M$9,IF($G$12=$A$5,$N$9,IF($G$12=$A$6,$O$9,IF($G$12=$A$7,$P$9)))) -> FALSE
L16: Travel S | M16: =SUM(M13:M15) -> 0 | N16: =SUM(N13:N15) -> 0 | O16: =SUM(O13:O15) -> 0 | P16: =SUM(P13:P15) -> 0 | Q16: =SUM(Q13:Q15) -> 0 | R16: =SUM(R13:R15) -> 0 | S16: =SUM(S13:S15) -> 0
F17: Mileage
A18: Frontline - Parking/Tolls | B18: =$B$14*($B$20*COUNT($L$25:$L$31)) -> 0 | F18: Add Mileage | G18: ='Trip Tracker'!$K$42 -> 0 | H18: =IF('Trip Tracker'!$R$42<>"",'Trip Tracker'!$R$42,"") | L18: Destination Breakfast | M18: =IF($N25="",M$13,0) -> FALSE | N18: =IF($N26="",N$13,0) -> FALSE | O18: =IF($N27="",O$13,0) -> FALSE | P18: =IF($N28="",P$13,0) -> FALSE | Q18: =IF($N29="",Q$13,0) -> FALSE | R18: =IF($N30="",R$13,0) -> FALSE | S18: =IF($N31="",S$13,0) -> FALSE
A19: Remove? | B19: ='Trip Tracker'!AC46 -> 0 | F19: Driving From Mileage Rates | G19: {=IF($G$10<>'Mileage Rates 1-1-2024'!$A$6:$C$468,IFERROR(VLOOKUP($G$10,'Mileage Rates 1-1-2024'!$C$6:$D$468,2,FALSE),0))} -> 0 | H19: ='Trip Tracker'!$B$4 -> 0 | L19: Destination Lunch | M19: =IF($P25="",M$14,0) -> FALSE | N19: =IF($P26="",N$14,0) -> FALSE | O19: =IF($P27="",O$14,0) -> FALSE | P19: =IF($P28="",P$14,0) -> FALSE | Q19: =IF($P29="",Q$14,0) -> FALSE | R19: =IF($P30="",R$14,0) -> FALSE | S19: =IF($P31="",S$14,0) -> FALSE
A20: GSA Meals rate calculate parking/taxi/tolls | B20: =IF($G$12=0,0,IF($B$19=$A$10,0,IF($G$12=$A$4,$B$4,IF($G$12=$A$5,$B$5,IF($G$12=$A$6,$B$6,IF($G$12=$A$7,$B$7)))))) -> 0 | F20: Driving to Airport/Over 400 mileage | G20: =IF($G$18<>$A$10,0,IF(AND($G$18=$A$10,$H$18=$F$25),'Mileage Rates 1-1-2024'!$D$145,IF(AND($G$18=$A$10,$H$18=$F$26),'Mileage Rates 1-1-2024'!$D$131,IF(AND($G$18=$A$10,$H$18=""),'Mileage Rates 1-1-2024'!$D$5,0)))) -> 0 | H20: =IF($G$18<>$A$10,0,IF(AND($G$18=$A$10,$H$18=$F$25),SUMIFS('BM Mileage'!$F$9:$F$17,'BM Mileage'!$B$9:$B$17,Formulas!$H$19),IF(AND($G$18=$A$10,$H$18=$F$26),SUMIFS('BM Mileage'!$I$9:$I$17,'BM Mileage'!$B$9:$B$17,$H$19),0))) -> 0 | L20: Destination Dinner | M20: =IF($R25="",$M$15,0) -> FALSE | N20: =IF($R26="",N$15,0) -> FALSE | O20: =IF($R27="",O$15,0) -> FALSE | P20: =IF($R28="",P$15,0) -> FALSE | Q20: =IF($R29="",Q$15,0) -> FALSE | R20: =IF($R30="",R$15,0) -> FALSE | S20: =IF($R31="",S$15,0) -> FALSE
F21: Trip Tracker Mileage | G21: =IF($G$18<>$A$10,0,IF(AND($G$18=$A$10,$H$18<>"",$G$12=$A$4),$H$20,IF(AND($G$18=$A$10,$H$18<>""),$G$20,IF(AND($G$18=$A$10,$H$18="",$G$19<$G$20,$G$19<>0),$G$19,$G$20)))) -> 0 | H21: {=_xlfn.IFS(AND(COUNTIF('Mileage Rates 1-1-2024'!$A$6:$A$78,"="&$G$8),$G$18="Yes",$H$18=""),"",AND(COUNTIF('Mileage Rates 1-1-2024'!$A$6:$A$78,"<>"&$G$8),$G$18="Yes",$H$18=""),"Mileage rate may vary from total amount above",AND(COUNTIF('Mileage Rates 1-1-2024'!$A$6:$A$78,"<>"&$G$8),$G$18="Yes",$H$18<>""),"",AND(COUNTIF('Mileage Rates 1-1-2024'!$A$6:$A$78,"<>"&$G$8),$G$18<>"Yes",H18=""),"")} | L21: Destination S | M21: =SUM(M18:M20) -> 0 | N21: =SUM(N18:N20) -> 0 | O21: =SUM(O18:O20) -> 0 | P21: =SUM(P18:P20) -> 0 | Q21: =SUM(Q18:Q20) -> 0 | R21: =SUM(R18:R20) -> 0 | S21: =SUM(S18:S20) -> 0
A22: Frontline - Taxi /Shuttle | B22: =IF($B$23=$A$10,0,$B$15*($B$24*COUNT($L$25:$L$31))) -> 0
A23: Remove? | B23: ='Trip Tracker'!$AC$48 -> 0
A24: GSA Meals rate calculate parking/taxi/tolls | B24: =IF($G$12=0,0,IF($B$23=$A$10,0,IF($G$12=$A$4,$B$4,IF($G$12=$A$5,$B$5,IF($G$12=$A$6,$B$6,IF($G$12=$A$7,$B$7)))))) -> 0 | F24: Airport: | G24: City List: | H24: State List: | L24: Dates: | S24: $ Allowed | T24: Per day
F25: DFW Airport | G25: Birmingham | H25: AL | L25: =IF($G$4<>"",$G$4,"") -> 0 | M25: Breakfast | N25: =IF('Trip Tracker'!$O16<>"",'Trip Tracker'!$O16,"") | O25: Lunch | P25: =IF('Trip Tracker'!$S16<>"",'Trip Tracker'!$S16,"") | Q25: Dinner | R25: =IF('Trip Tracker'!$X16<>"",'Trip Tracker'!$X16,"") | S25: =IF($G$12=0,"",IF($L25="",0,IF($L25<>"",M$21))) | T25: =IF($S25="",0,$S25*SUM($P$3:$P$4)) -> 0
F26: Dallas Love Field | G26: Aberdeen / Bel Air / Belcamp | H26: AR | L26: =IF($L$25="","",IF($L$25<$G$5,$L$25+1,"")) | M26: Breakfast | N26: =IF('Trip Tracker'!$O17<>"",'Trip Tracker'!$O17,"") | O26: Lunch | P26: =IF('Trip Tracker'!$S17<>"",'Trip Tracker'!$S17,"") | Q26: Dinner | R26: =IF('Trip Tracker'!$X17<>"",'Trip Tracker'!$X17,"") | S26: =IF($G$12=0,"",IF($L26="",0,IF($L26<>"",N$21))) | T26: =IF($S26="",0,$S26*SUM($P$3:$P$4)) -> 0
A27: Baggage | G27: Albany | H27: AZ | L27: =IF($L$26="","",IF($L$26<$G$5,$L$26+1,"")) | M27: Breakfast | N27: =IF('Trip Tracker'!$O18<>"",'Trip Tracker'!$O18,"") | O27: Lunch | P27: =IF('Trip Tracker'!$S18<>"",'Trip Tracker'!$S18,"") | Q27: Dinner | R27: =IF('Trip Tracker'!$X18<>"",'Trip Tracker'!$X18,"") | S27: =IF($G$12=0,"",IF($L27="",0,IF($L27<>"",O$21))) | T27: =IF($S27="",0,$S27*SUM($P$3:$P$4)) -> 0
A28: Baggage Price | B28: 80 | G28: Albuquerque | H28: CA | L28: =IF($L$27="","",IF($L$27<$G$5,$L$27+1,"")) | M28: Breakfast | N28: =IF('Trip Tracker'!$O19<>"",'Trip Tracker'!$O19,"") | O28: Lunch | P28: =IF('Trip Tracker'!$S19<>"",'Trip Tracker'!$S19,"") | Q28: Dinner | R28: =IF('Trip Tracker'!$X19<>"",'Trip Tracker'!$X19,"") | S28: =IF($G$12=0,"",IF($L28="",0,IF($L28<>"",P$21))) | T28: =IF($S28="",0,$S28*SUM($P$3:$P$4)) -> 0
A29: # of Bags | B29: ='Trip Tracker'!AC50 -> 0 | G29: Alexandria / Leesville / Natchitoches | H29: CO | L29: =IF($L$28="","",IF($L$28<$G$5,$L$28+1,"")) | M29: Breakfast | N29: =IF('Trip Tracker'!$O20<>"",'Trip Tracker'!$O20,"") | O29: Lunch | P29: =IF('Trip Tracker'!$S20<>"",'Trip Tracker'!$S20,"") | Q29: Dinner | R29: =IF('Trip Tracker'!$X20<>"",'Trip Tracker'!$X20,"") | S29: =IF($G$12=0,"",IF($L29="",0,IF($L29<>"",Q$21))) | T29: =IF($S29="",0,$S29*SUM($P$3:$P$4)) -> 0
A30: Total # of bags | B30: =B28*B29 -> 0 | G30: Allentown / Easton / Bethlehem | H30: CT | L30: =IF($L$29="","",IF($L$29<$G$5,$L$29+1,"")) | M30: Breakfast | N30: =IF('Trip Tracker'!$O21<>"",'Trip Tracker'!$O21,"") | O30: Lunch | P30: =IF('Trip Tracker'!$S21<>"",'Trip Tracker'!$S21,"") | Q30: Dinner | R30: =IF('Trip Tracker'!$X21<>"",'Trip Tracker'!$X21,"") | S30: =IF($G$12=0,"",IF($L30="",0,IF($L30<>"",R$21))) | T30: =IF($S30="",0,$S30*SUM($P$3:$P$4)) -> 0
G31: Andover | H31: DC | L31: =IF($L$30="","",IF($L$30<$G$5,$L$30+1,"")) | M31: Breakfast | N31: =IF('Trip Tracker'!$O22<>"",'Trip Tracker'!$O22,"") | O31: Lunch | P31: =IF('Trip Tracker'!$S22<>"",'Trip Tracker'!$S22,"") | Q31: Dinner | R31: =IF('Trip Tracker'!$X22<>"",'Trip Tracker'!$X22,"") | S31: =IF($G$12=0,"",IF($L31="",0,IF($L31<>"",S$21))) | T31: =IF($S31="",0,$S31*SUM($P$3:$P$4)) -> 0
G32: Ann Arbor | H32: DE | L32: Remove | S32: =SUM(S25:S31) -> 0 | T32: =SUM(T25:T31) -> 0
G33: Annapolis | H33: FL | L33: GSA Meals & Incidentals to 9/30/24 | M33: {=INDEX('GSA Rates 10-1-2025'!$I$5:$I$1329,MATCH(1,IF(Formulas!$G$10='GSA Rates 10-1-2025'!$D$5:$D$1329,IF($G$4>='GSA Rates 10-1-2025'!$F$5:$F$1329,IF(Formulas!$G$4<='GSA Rates 10-1-2025'!$G$5:$G$1329,1))),0))} -> #N/A
A34: Rental Car Gas | G34: Antioch / Brentwood / Concord | H34: GA | L34: Employee Final GSA Meals | M34: =IF($M$32=$A$10,0,IF($G$8=0,0,IFERROR($M$33,IF($G$4>='GSA Rates 10-1-2025'!$F$4,'GSA Rates 10-1-2025'!$I$4,IF(Formulas!$G$5<='GSA Rates 10-1-2025'!F4,'GSA Rates 10-1-2025'!$I$3,'GSA Rates 10-1-2025'!I3))))) -> 0
A35: Add reantal car fuel | B35: ='Trip Tracker'!$AC$52 -> 0 | G35: Arlington / Fort Worth / Grapevine | H35: IA
A36: Rental Car Gas | B36: 100 | G36: Asheville | H36: ID | L36: GSA Hotel Rate
A37: Total rental car gas | B37: =IF(B35=0,0,B36) -> 0 | G37: Aspen | H37: IL | L37: Is lodging paid with Grants Funds? | M37: ='Trip Tracker'!$O$30 -> 0
G38: Athens | H38: IN | L38: Shared Rooms | M38: ='Trip Tracker'!$U$32 -> 0
G39: Atlanta | H39: KS | L39: Unshared Rooms | M39: ='Trip Tracker'!$Z$32 -> 0
G40: Atlantic Beach / Morehead City | H40: KY | L40: Hotel tax rates | M40: 1.35
G41: Augusta | H41: LA
...

Sheet GSA Rates 10-1-2025
B1: FY2025 & FY2026 Per Diem Rates - Effective October 1, 2024 (season end 9/30/26 was replaced with 12/31/26 - see notes)
A2: ID | B2: STATE | C2: DESTINATION | E2: COUNTY/LOCATION DEFINED | F2: SEASON BEGIN | G2: SEASON END | H2: FY26 Lodging Rate | I2: FY26 M&IE | M2: STATE | N2: DESTINATION
C3: Standard CONUS rate applies to all counties not specifically listed. Cities not listed may be located in a listed county. | F3: 45566 | G3: 45930 | H3: 110 | I3: 68
C4: Standard CONUS rate applies to all counties not specifically listed. Cities not listed may be located in a listed county. | F4: 45931 | G4: 46387 | H4: 110 | I4: 68
A5: 1 | B5: AL | C5: Birmingham | D5: =$C5&","&" "&$B5 -> Birmingham, AL | E5: Jefferson | F5: 45566 | G5: 45930 | H5: 126 | I5: 80 | M5: AL | N5: Birmingham
A6: 1 | B6: AL | C6: Birmingham | D6: =$C6&","&" "&$B6 -> Birmingham, AL | E6: Jefferson | F6: 45931 | G6: 46387 | H6: 126 | I6: 80 | M6: AR | N6: Aberdeen / Bel Air / Belcamp
A7: 2 | B7: AL | C7: Gulf Shores | D7: =$C7&","&" "&$B7 -> Gulf Shores, AL | E7: Baldwin | F7: 45566 | G7: 45716 | H7: 134 | I7: 74 | M7: AZ | N7: Albany
A8: 2 | B8: AL | C8: Gulf Shores | D8: =$C8&","&" "&$B8 -> Gulf Shores, AL | E8: Baldwin | F8: 45717 | G8: 45808 | H8: 163 | I8: 74 | M8: CA | N8: Albuquerque
A9: 2 | B9: AL | C9: Gulf Shores | D9: =$C9&","&" "&$B9 -> Gulf Shores, AL | E9: Baldwin | F9: 45809 | G9: 45869 | H9: 216 | I9: 74 | M9: CO | N9: Alexandria / Leesville / Natchitoches
A10: 2 | B10: AL | C10: Gulf Shores | D10: =$C10&","&" "&$B10 -> Gulf Shores, AL | E10: Baldwin | F10: 45870 | G10: 45930 | H10: 134 | I10: 74 | M10: CT | N10: Allentown / Easton / Bethlehem
A11: 2 | B11: AL | C11: Gulf Shores | D11: =$C11&","&" "&$B11 -> Gulf Shores, AL | E11: Baldwin | F11: 45931 | G11: 46081 | H11: 134 | I11: 74 | M11: DC | N11: Andover
A12: 2 | B12: AL | C12: Gulf Shores | D12: =$C12&","&" "&$B12 -> Gulf Shores, AL | E12: Baldwin | F12: 46082 | G12: 46173 | H12: 163 | I12: 74 | M12: DE | N12: Ann Arbor
A13: 2 | B13: AL | C13: Gulf Shores | D13: =$C13&","&" "&$B13 -> Gulf Shores, AL | E13: Baldwin | F13: 46174 | G13: 46234 | H13: 216 | I13: 74 | M13: FL | N13: Annapolis
A14: 2 | B14: AL | C14: Gulf Shores | D14: =$C14&","&" "&$B14 -> Gulf Shores, AL | E14: Baldwin | F14: 46235 | G14: 46387 | H14: 134 | I14: 74 | M14: GA | N14: Antioch / Brentwood / Concord
A15: 3 | B15: AL | C15: Huntsville | D15: =$C15&","&" "&$B15 -> Huntsville, AL | E15: Madison | F15: 45566 | G15: 45747 | H15: 141 | I15: 74 | M15: IA | N15: Arlington / Fort Worth / Grapevine
A16: 3 | B16: AL | C16: Huntsville | D16: =$C16&","&" "&$B16 -> Huntsville, AL | E16: Madison | F16: 45748 | G16: 45869 | H16: 134 | I16: 74 | M16: ID | N16: Asheville
... A52: 11 | B52: AZ | C52: Sedona | D52: =$C52&","&" "&$B52 -> Sedona, AZ | E52: City Limits of Sedona | F52: 46266 | G52: 46387 | H52: 213 | I52: 92 | M52: WY | N52: Charleston
A53: 12 | B53: AZ | C53: Tucson | D53: =$C53&","&" "&$B53 -> Tucson, AZ | E53: Pima | F53: 45566 | G53: 45657 | H53: 123 | I53: 80 | N53: Charlotte
A54: 12 | B54: AZ | C54: Tucson | D54: =$C54&","&" "&$B54 -> Tucson, AZ | E54: Pima | F54: 45658 | G54: 45747 | H54: 171 | I54: 80 | N54: Charlottesville
A55: 12 | B55: AZ | C55: Tucson | D55: =$C55&","&" "&$B55 -> Tucson, AZ | E55: Pima | F55: 45748 | G55: 45930 | H55: 123 | I55: 80 | N55: Chattanooga
A56: 12 | B56: AZ | C56: Tucson | D56: =$C56&","&" "&$B56 -> Tucson, AZ | E56: Pima | F56: 45931 | G56: 46022 | H56: 123 | I56: 80 | N56: Cherry Hill / Moorestown
A57: 12 | B57: AZ | C57: Tucson | D57: =$C57&","&" "&$B57 -> Tucson, AZ | E57: Pima | F57: 46023 | G57: 46112 | H57: 171 | I57: 80 | N57: Chester / Radnor / Essington
A58: 12 | B58: AZ | C58: Tucson | D58: =$C58&","&" "&$B58 -> Tucson, AZ | E58: Pima | F58: 46113 | G58: 46387 | H58: 123 | I58: 80 | N58: Chicago
A59: 14 | B59: CA | C59: Antioch / Brentwood / Concord | D59: =$C59&","&" "&$B59 -> Antioch / Brentwood / Concord, CA | E59: Contra Costa | F59: 45566 | G59: 45930 | H59: 147 | I59: 86 | N59: Cincinnati
A60: 14 | B60: CA | C60: Antioch / Brentwood / Concord | D60: =$C60&","&" "&$B60 -> Antioch / Brentwood / Concord, CA | E60: Contra Costa | F60: 45931 | G60: 46387 | H60: 147 | I60: 86 | N60: Clackamas
A61: 481 | B61: CA | C61: Bakersfield / Ridgecrest | D61: =$C61&","&" "&$B61 -> Bakersfield / Ridgecrest, CA | E61: Kern | F61: 45566 | G61: 45930 | H61: 132 | I61: 74 | N61: Cleveland
A62: 481 | B62: CA | C62: Bakersfield / Ridgecrest | D62: =$C62&","&" "&$B62 -> Bakersfield / Ridgecrest, CA | E62: Kern | F62: 45931 | G62: 46387 | H62: 132 | I62: 74 | N62: Cocoa Beach
A63: 16 | B63: CA | C63: Barstow / Ontario / Victorville | D63: =$C63&","&" "&$B63 -> Barstow / Ontario / Victorville, CA | E63: San Bernardino | F63: 45566 | G63: 45930 | H63: 124 | I63: 86 | N63: Cody
A64: 16 | B64: CA | C64: Barstow / Ontario / Victorville | D64: =$C64&","&" "&$B64 -> Barstow / Ontario / Victorville, CA | E64: San Bernardino | F64: 45931 | G64: 46387 | H64: 124 | I64: 86 | N64: Coeur d'Alene
... A294: 77 | B294: DE | C294: Lewes | D294: =$C294&","&" "&$B294 -> Lewes, DE | E294: Sussex | F294: 45931 | G294: 46173 | H294: 124 | I294: 74 | N294: Yosemite National Park
A295: 77 | B295: DE | C295: Lewes | D295: =$C295&","&" "&$B295 -> Lewes, DE | E295: Sussex | F295: 46174 | G295: 46265 | H295: 221 | I295: 74
A296: 77 | B296: DE | C296: Lewes | D296: =$C296&","&" "&$B296 -> Lewes, DE | E296: Sussex | F296: 46266 | G296: 46387 | H296: 124 | I296: 74
A297: 78 | B297: DE | C297: Wilmington | D297: =$C297&","&" "&$B297 -> Wilmington, DE | E297: New Castle | F297: 45566 | G297: 45930 | H297: 127 | I297: 74
A298: 78 | B298: DE | C298: Wilmington | D298: =$C298&","&" "&$B298 -> Wilmington, DE | E298: New Castle | F298: 45931 | G298: 46387 | H298: 127 | I298: 74
A299: 99 | B299: FL | C299: Boca Raton / Delray Beach / Jupiter | D299: =$C299&","&" "&$B299 -> Boca Raton / Delray Beach / Jupiter, FL | E299: Palm Beach / Hendry | F299: 45566 | G299: 45657 | H299: 171 | I299: 86
A300: 99 | B300: FL | C300: Boca Raton / Delray Beach / Jupiter | D300: =$C300&","&" "&$B300 -> Boca Raton / Delray Beach / Jupiter, FL | E300: Palm Beach / Hendry | F300: 45658 | G300: 45777 | H300: 244 | I300: 86
A301: 99 | B301: FL | C301: Boca Raton / Delray Beach / Jupiter | D301: =$C301&","&" "&$B301 -> Boca Raton / Delray Beach / Jupiter, FL | E301: Palm Beach / Hendry | F301: 45778 | G301: 45930 | H301: 143 | I301: 86
A302: 99 | B302: FL | C302: Boca Raton / Delray Beach / Jupiter | D302: =$C302&","&" "&$B302 -> Boca Raton / Delray Beach / Jupiter, FL | E302: Palm Beach / Hendry | F302: 45931 | G302: 46022 | H302: 171 | I302: 86
A303: 99 | B303: FL | C303: Boca Raton / Delray Beach / Jupiter | D303: =$C303&","&" "&$B303 -> Boca Raton / Delray Beach / Jupiter, FL | E303: Palm Beach / Hendry | F303: 46023 | G303: 46142 | H303: 244 | I303: 86
A304: 99 | B304: FL | C304: Boca Raton / Delray Beach / Jupiter | D304: =$C304&","&" "&$B304 -> Boca Raton / Delray Beach / Jupiter, FL | E304: Palm Beach / Hendry | F304: 46143 | G304: 46387 | H304: 143 | I304: 86
...

Sheet Mileage Rates 1-1-2024
C2: Mileage Rate (per mile) | D2: 0.725
A4: CITY | B4: STATE | C4: City, State | D4: MILES | E4: AMOUNT
A5: Any City farther than 400 miles away (800 round trip) | C5: Any City farther than 400 miles away (800 round trip) | D5: 800 | E5: =$D$5*$D$2 -> 580 | G5: Map Quest Miles | H5: Round Trip Miles
A6: Abbott | B6: TX | C6: =$A6&","&" "&$B6 -> Abbott, TX | D6: =IF($H6>=$D$5,800,$H6) -> 132 | E6: =IF($H6>=$D$5,$D$5*$D$2,$H6*$D$2) -> 95.7 | G6: 66 | H6: =SUM(G6*2) -> 132
A7: Abilene | B7: TX | C7: =$A7&","&" "&$B7 -> Abilene, TX | D7: =IF($H7>=$D$5,800,$H7) -> 300 | E7: =IF($H7>=$D$5,$D$5*$D$2,$H7*$D$2) -> 217.5 | G7: 150 | H7: =SUM(G7*2) -> 300 | J7: =376*0.725 -> 272.6
A8: Addison | B8: TX | C8: =$A8&","&" "&$B8 -> Addison, TX | D8: =IF($H8>=$D$5,800,$H8) -> 78 | E8: =IF($H8>=$D$5,$D$5*$D$2,$H8*$D$2) -> 56.55 | G8: 39 | H8: =SUM(G8*2) -> 78
A9: Alamo | B9: TX | C9: =$A9&","&" "&$B9 -> Alamo, TX | D9: =IF($H9>=$D$5,800,$H9) -> 800 | E9: =IF($H9>=$D$5,$D$5*$D$2,$H9*$D$2) -> 580 | G9: 516 | H9: =SUM(G9*2) -> 1032
A10: Alamo Heights | B10: TX | C10: =$A10&","&" "&$B10 -> Alamo Heights, TX | D10: =IF($H10>=$D$5,800,$H10) -> 542 | E10: =IF($H10>=$D$5,$D$5*$D$2,$H10*$D$2) -> 392.95 | G10: 271 | H10: =SUM(G10*2) -> 542
A11: Albany | B11: TX | C11: =$A11&","&" "&$B11 -> Albany, TX | D11: =IF($H11>=$D$5,800,$H11) -> 278 | E11: =IF($H11>=$D$5,$D$5*$D$2,$H11*$D$2) -> 201.55 | G11: 139 | H11: =SUM(G11*2) -> 278
A12: Alice | B12: TX | C12: =$A12&","&" "&$B12 -> Alice, TX | D12: =IF($H12>=$D$5,800,$H12) -> 800 | E12: =IF($H12>=$D$5,$D$5*$D$2,$H12*$D$2) -> 580 | G12: 403 | H12: =SUM(G12*2) -> 806
A13: Allen | B13: TX | C13: =$A13&","&" "&$B13 -> Allen, TX | D13: =IF($H13>=$D$5,800,$H13) -> 106 | E13: =IF($H13>=$D$5,$D$5*$D$2,$H13*$D$2) -> 76.85 | G13: 53 | H13: =SUM(G13*2) -> 106
A14: Alpine | B14: TX | C14: =$A14&","&" "&$B14 -> Alpine, TX | D14: =IF($H14>=$D$5,800,$H14) -> 800 | E14: =IF($H14>=$D$5,$D$5*$D$2,$H14*$D$2) -> 580 | G14: 463 | H14: =SUM(G14*2) -> 926
A15: Alvarado | B15: TX | C15: =$A15&","&" "&$B15 -> Alvarado, TX | D15: =IF($H15>=$D$5,800,$H15) -> 54 | E15: =IF($H15>=$D$5,$D$5*$D$2,$H15*$D$2) -> 39.15 | G15: 27 | H15: =SUM(G15*2) -> 54
A16: Alvin | B16: TX | C16: =$A16&","&" "&$B16 -> Alvin, TX | D16: =IF($H16>=$D$5,800,$H16) -> 604 | E16: =IF($H16>=$D$5,$D$5*$D$2,$H16*$D$2) -> 437.9 | G16: 302 | H16: =SUM(G16*2) -> 604
A17: Amarillo | B17: TX | C17: =$A17&","&" "&$B17 -> Amarillo, TX | D17: =IF($H17>=$D$5,800,$H17) -> 676 | E17: =IF($H17>=$D$5,$D$5*$D$2,$H17*$D$2) -> 490.1 | G17: 338 | H17: =SUM(G17*2) -> 676
A18: Ames | B18: TX | C18: =$A18&","&" "&$B18 -> Ames, TX | D18: =IF($H18>=$D$5,800,$H18) -> 574 | E18: =IF($H18>=$D$5,$D$5*$D$2,$H18*$D$2) -> 416.15 | G18: 287 | H18: =SUM(G18*2) -> 574
A19: Anahuac | B19: TX | C19: =$A19&","&" "&$B19 -> Anahuac, TX | D19: =IF($H19>=$D$5,800,$H19) -> 616 | E19: =IF($H19>=$D$5,$D$5*$D$2,$H19*$D$2) -> 446.6 | G19: 308 | H19: =SUM(G19*2) -> 616
... A130: Dallas | B130: TX | C130: =$A130&","&" "&$B130 -> Dallas, TX | D130: =IF($H130>=$D$5,800,$H130) -> 66 | E130: =IF($H130>=$D$5,$D$5*$D$2,$H130*$D$2) -> 47.85 | G130: 33 | H130: =SUM(G130*2) -> 66
C131: Dallas Love Field | D131: =IF($H131>=$D$5,800,$H131) -> 70 | E131: =IF($H131>=$D$5,$D$5*$D$2,$H131*$D$2) -> 50.75 | G131: 35 | H131: =SUM(G131*2) -> 70
A132: Danbury | B132: TX | C132: =$A132&","&" "&$B132 -> Danbury, TX | D132: =IF($H132>=$D$5,800,$H132) -> 622 | E132: =IF($H132>=$D$5,$D$5*$D$2,$H132*$D$2) -> 450.95 | G132: 311 | H132: =SUM(G132*2) -> 622
A133: Dayton | B133: TX | C133: =$A133&","&" "&$B133 -> Dayton, TX | D133: =IF($H133>=$D$5,800,$H133) -> 540 | E133: =IF($H133>=$D$5,$D$5*$D$2,$H133*$D$2) -> 391.5 | G133: 270 | H133: =SUM(G133*2) -> 540
A134: Dayton Lakes | B134: TX | C134: =$A134&","&" "&$B134 -> Dayton Lakes, TX | D134: =IF($H134>=$D$5,800,$H134) -> 530 | E134: =IF($H134>=$D$5,$D$5*$D$2,$H134*$D$2) -> 384.25 | G134: 265 | H134: =SUM(G134*2) -> 530
A135: De Leon | B135: TX | C135: =$A135&","&" "&$B135 -> De Leon, TX | D135: =IF($H135>=$D$5,800,$H135) -> 206 | E135: =IF($H135>=$D$5,$D$5*$D$2,$H135*$D$2) -> 149.35 | G135: 103 | H135: =SUM(G135*2) -> 206
A136: Decatur | B136: TX | C136: =$A136&","&" "&$B136 -> Decatur, TX | D136: =IF($H136>=$D$5,800,$H136) -> 82 | E136: =IF($H136>=$D$5,$D$5*$D$2,$H136*$D$2) -> 59.45 | G136: 41 | H136: =SUM(G136*2) -> 82
A137: Deer Park | B137: TX | C137: =$A137&","&" "&$B137 -> Deer Park, TX | D137: =IF($H137>=$D$5,800,$H137) -> 562 | E137: =IF($H137>=$D$5,$D$5*$D$2,$H137*$D$2) -> 407.45 | G137: 281 | H137: =SUM(G137*2) -> 562
A138: Del Rio | B138: TX | C138: =$A138&","&" "&$B138 -> Del Rio, TX | D138: =IF($H138>=$D$5,800,$H138) -> 744 | E138: =IF($H138>=$D$5,$D$5*$D$2,$H138*$D$2) -> 539.4 | G138: 372 | H138: =SUM(G138*2) -> 744
A139: Denison | B139: TX | C139: =$A139&","&" "&$B139 -> Denison, TX | D139: =IF($H139>=$D$5,800,$H139) -> 202 | E139: =IF($H139>=$D$5,$D$5*$D$2,$H139*$D$2) -> 146.45 | G139: 101 | H139: =SUM(G139*2) -> 202
A140: Denton | B140: TX | C140: =$A140&","&" "&$B140 -> Denton, TX | D140: =IF($H140>=$D$5,800,$H140) -> 76 | E140: =IF($H140>=$D$5,$D$5*$D$2,$H140*$D$2) -> 55.1 | G140: 38 | H140: =SUM(G140*2) -> 76
A141: Denver City | B141: TX | C141: =$A141&","&" "&$B141 -> Denver City, TX | D141: =IF($H141>=$D$5,800,$H141) -> 708 | E141: =IF($H141>=$D$5,$D$5*$D$2,$H141*$D$2) -> 513.3 | G141: 354 | H141: =SUM(G141*2) -> 708
A142: DeSoto | B142: TX | C142: =$A142&","&" "&$B142 -> DeSoto, TX | D142: =IF($H142>=$D$5,800,$H142) -> 70 | E142: =IF($H142>=$D$5,$D$5*$D$2,$H142*$D$2) -> 50.75 | G142: 35 | H142: =SUM(G142*2) -> 70
A143: Detroit | B143: TX | C143: =$A143&","&" "&$B143 -> Detroit, TX | D143: =IF($H143>=$D$5,800,$H143) -> 308 | E143: =IF($H143>=$D$5,$D$5*$D$2,$H143*$D$2) -> 223.3 | G143: 154 | H143: =SUM(G143*2) -> 308
A144: Devers | B144: TX | C144: =$A144&","&" "&$B144 -> Devers, TX | D144: =IF($H144>=$D$5,800,$H144) -> 574 | E144: =IF($H144>=$D$5,$D$5*$D$2,$H144*$D$2) -> 416.15 | G144: 287 | H144: =SUM(G144*2) -> 574
C145: DFW Airport | D145: =IF($H145>=$D$5,800,$H145) -> 46 | E145: =IF($H145>=$D$5,$D$5*$D$2,$H145*$D$2) -> 33.35 | G145: 23 | H145: =SUM(G145*2) -> 46
A146: Dickinson | B146: TX | C146: =$A146&","&" "&$B146 -> Dickinson, TX | D146: =IF($H146>=$D$5,800,$H146) -> 584 | E146: =IF($H146>=$D$5,$D$5*$D$2,$H146*$D$2) -> 423.4 | G146: 292 | H146: =SUM(G146*2) -> 584
A147: Donna | B147: TX | C147: =$A147&","&" "&$B147 -> Donna, TX | D147: =IF($H147>=$D$5,800,$H147) -> 800 | E147: =IF($H147>=$D$5,$D$5*$D$2,$H147*$D$2) -> 580 | G147: 507 | H147: =SUM(G147*2) -> 1014
A148: Dripping Springs | B148: TX | C148: =$A148&","&" "&$B148 -> Dripping Springs, TX | D148: =IF($H148>=$D$5,800,$H148) -> 422 | E148: =IF($H148>=$D$5,$D$5*$D$2,$H148*$D$2) -> 305.95 | G148: 211 | H148: =SUM(G148*2) -> 422
A149: Dublin | B149: TX | C149: =$A149&","&" "&$B149 -> Dublin, TX | D149: =IF($H149>=$D$5,800,$H149) -> 182 | E149: =IF($H149>=$D$5,$D$5*$D$2,$H149*$D$2) -> 131.95 | G149: 91 | H149: =SUM(G149*2) -> 182
A150: Dumas | B150: TX | C150: =$A150&","&" "&$B150 -> Dumas, TX | D150: =IF($H150>=$D$5,800,$H150) -> 768 | E150: =IF($H150>=$D$5,$D$5*$D$2,$H150*$D$2) -> 556.8 | G150: 384 | H150: =SUM(G150*2) -> 768
A151: Duncanville | B151: TX | C151: =$A151&","&" "&$B151 -> Duncanville, TX | D151: =IF($H151>=$D$5,800,$H151) -> 62 | E151: =IF($H151>=$D$5,$D$5*$D$2,$H151*$D$2) -> 44.95 | G151: 31 | H151: =SUM(G151*2) -> 62
A152: Eagle Pass | B152: TX | C152: =$A152&","&" "&$B152 -> Eagle Pass, TX | D152: =IF($H152>=$D$5,800,$H152) -> 800 | E152: =IF($H152>=$D$5,$D$5*$D$2,$H152*$D$2) -> 580 | G152: 426 | H152: =SUM(G152*2) -> 852
...

Sheet BM Mileage
B2: Board Members
E4: Mileage Rate | F4: 0.725
E6: DFW Aiport Mileage | H6: Dallas Love Field
B7: Name | D7: Address | E7: Mileage One Way | F7: Mileage One Way | G7: DFW Airport | H7: Mileage One Way | I7: Mileage One Way | J7: Dallas Love Field
G8: Total Amount | J8: Total Amount
B9: Wallace Bridges | C9: =TEXT(B9,0) -> Wallace Bridges | E9: 25 | F9: =SUM(E9*2) -> 50 | G9: =F9*$F$4 -> 36.25 | H9: 35 | I9: =SUM(H9*2) -> 70 | J9: =I9*$F$4 -> 50.75
B10: Anne Darr | C10: =TEXT(B10,0) -> Anne Darr | E10: 31 | F10: 55 | G10: =F10*$F$4 -> 39.88 | H10: 40 | I10: =SUM(H10*2) -> 80 | J10: =I10*$F$4 -> 58
B11: Kevin Lynch | C11: =TEXT(B11,0) -> Kevin Lynch | E11: 33 | F11: 64 | G11: =F11*$F$4 -> 46.4 | H11: 43 | I11: =SUM(H11*2) -> 86 | J11: =I11*$F$4 -> 62.35
B12: Tobi Jackson | C12: =TEXT(B12,0) -> Tobi Jackson | E12: 20 | F12: 41 | G12: =F12*$F$4 -> 29.73 | H12: 30 | I12: =SUM(H12*2) -> 60 | J12: =I12*$F$4 -> 43.5
B13: Anael Luebanos | C13: =TEXT(B13,0) -> Anael Luebanos | E13: 31 | F13: 55 | G13: =F13*$F$4 -> 39.88 | H13: 41 | I13: =SUM(H13*2) -> 82 | J13: =I13*$F$4 -> 59.45
B14: Roxanne Martinez | C14: =TEXT(B14,0) -> Roxanne Martinez | E14: 24 | F14: 48 | G14: =F14*$F$4 -> 34.8 | H14: 34 | I14: =SUM(H14*2) -> 68 | J14: =I14*$F$4 -> 49.3
B15: Quinton Phillips | C15: =TEXT(B15,0) -> Quinton Phillips | E15: 18 | F15: 39 | G15: =F15*$F$4 -> 28.28 | H15: 30 | I15: =SUM(H15*2) -> 60 | J15: =I15*$F$4 -> 43.5
B16: Camille Rodriguez | C16: =TEXT(B16,0) -> Camille Rodriguez | E16: 26 | F16: 51 | G16: =F16*$F$4 -> 36.98 | H16: 37 | I16: =SUM(H16*2) -> 74 | J16: =I16*$F$4 -> 53.65
B17: Michael Ryan | C17: =TEXT(B17,0) -> Michael Ryan | E17: 40 | F17: 80 | G17: =F17*$F$4 -> 58 | H17: 52 | I17: =SUM(H17*2) -> 104 | J17: =I17*$F$4 -> 75.4
