Workbook

Sheet FY2026-FY2015
C1: General Fund
E2: Final Budget | I2: Audited | J2: Final Budget
C3: Description | D3: % of Total Rev | E3: 2026 | G3: % 2025 Audit v Bud | H3: $ 2025 Audit v Bud | I3: 2025 | J3: 2025 | L3: % 2024 v 2023 | M3: $ 2024 v 2023 | N3: 2024 | O3: =N3-1 -> 2023 | P3: =O3-1 -> 2022 | Q3: =P3-1 -> 2021 | R3: =Q3-1 -> 2020 | S3: =R3-1 -> 2019 | T3: =S3-1 -> 2018 | U3: =T3-1 -> 2017 | V3: =U3-1 -> 2016 | W3: =V3-1 -> 2015 | X3: % of Total Rev | Y3: % Change from 2015 - 2026
C4: Revenue
C5: Local Sources | D5: =+E5/E$9 -> 0.0096802561 | E5: 579000 | G5: =IFERROR(+H5/J5,0) -> -0.033924242 | H5: =+J5-I5 -> -20151 | I5: 614151 | J5: 594000 | L5: =IFERROR(+M5/O5,0) -> 0.031902819 | M5: =+O5-N5 -> 24117 | N5: 731835 | O5: 755952 | P5: 582494 | Q5: 46991384 | R5: 41543182 | S5: 41248262 | T5: =39206004 -> 39206004 | U5: 37219831 | V5: 37355817 | W5: 36219518 | X5: =+W5/W$9 -> 0.71863652
C6: State Sources | D6: =+E6/E$9 -> 0.99031974 | E6: =+E10 -> 59233467 | G6: =IFERROR(+H6/J6,0) -> 0.039285228 | H6: =+J6-I6 -> 2390274 | I6: 58453818 | J6: 60844092 | L6: =IFERROR(+M6/O6,0) -> -0.05867967 | M6: =+O6-N6 -> -3197619 | N6: 57690410 | O6: 54492791 | P6: 58888252 | Q6: 7930203 | R6: 11721372 | S6: 12798551 | T6: 13802093 | U6: 13456581 | V6: 13518543 | W6: 14118603 | X6: =+W6/W$9 -> 0.28012918
C7: Federal Sources | D7: =+E7/E$9 -> 0 | G7: =IFERROR(+H7/J7,0) -> 0 | H7: =+J7-I7 -> 0 | L7: =IFERROR(+M7/O7,0) -> 0 | M7: =+O7-N7 -> 0 | R7: 20416 | S7: 0 | T7: 0 | U7: 29015 | V7: 43384 | W7: 52644 | X7: =+W7/W$9 -> 0.001044517
C8: Other Sources | D8: =+E8/E$9 -> 0 | I8: =18515+1089 -> 19604 | L8: =IFERROR(+M8/O8,0) -> 1.4794084 | M8: =+O8-N8 -> 56219 | N8: =-21657+3439 -> -18218 | O8: =18915+19086 -> 38001 | P8: =-9089+32870 -> 23781 | Q8: =30916+59646 -> 90562 | R8: =-9402+25210 -> 15808 | S8: =6012+5391 -> 11403 | T8: =1767+16502 -> 18269 | U8: 23475 | V8: =-9663+9004 -> -659 | W8: 9565 | X8: =+W8/W$9 -> 0.0001897805
C9: Total Revenue | D9: =+E9/E$9 -> 1 | E9: =SUM(E4:E8) -> 59812467 | G9: =IFERROR(+H9/J9,0) -> 0.038258333 | H9: =+J9-I9 -> 2350519 | I9: =SUM(I4:I8) -> 59087573 | J9: =SUM(J4:J8) -> 61438092 | L9: =IFERROR(+M9/O9,0) -> -0.056383914 | M9: =+O9-N9 -> -3117283 | N9: =SUM(N4:N8) -> 58404027 | O9: =SUM(O4:O8) -> 55286744 | P9: =SUM(P4:P8) -> 59494527 | Q9: =SUM(Q4:Q8) -> 55012149 | R9: =SUM(R4:R8) -> 53300778 | S9: =SUM(S4:S8) -> 54058216 | T9: =SUM(T4:T8) -> 53026366 | U9: =SUM(U4:U8) -> 50728902 | ... W9: =SUM(W4:W8) -> 50400330 | X9: =+W9/W$9 -> 1 | Y9: =IFERROR(+E9/W9-1,0) -> 0.18674753
C10: =+E9-I9 -> 724894 | D10: =+C10/I9 -> 0.01226813 | E10: =3977265+5428400+49827802 -> 59233467 | G10: =+E9-E10 -> 579000 | H10: =+I9/N9-1 -> 0.011703748
C11: Expenditures
A12: 100 | B12: 1000 | C12: Regular Programs | D12: =+E12/E$9 -> 0.43050505 | E12: 25749569 | G12: =IFERROR(+H12/J12,0) -> -0.025072591 | H12: =+J12-I12 -> -638180 | I12: 26091473 | J12: 25453293 | L12: =IFERROR(+M12/O12,0) -> -0.11106352 | M12: =+O12-N12 -> -2635709 | N12: 26367255 | O12: 23731546 | P12: 24043897 | Q12: 23770863 | R12: 23940497 | S12: 23181589 | T12: 23223660 | U12: 22003433 | V12: 22298368 | W12: 21832519 | X12: =+W12/W$9 -> 0.43318206 | Y12: =IFERROR(+E12/W12-1,0) -> 0.17941356
A13: 200 | B13: 1000 | C13: Special Programs | D13: =+E13/E$9 -> 0 | G13: =IFERROR(+H13/J13,0) -> 0 | H13: =+J13-I13 -> 0 | I13: 0 | J13: 0 | L13: =IFERROR(+M13/O13,0) -> 0 | M13: =+O13-N13 -> 0 | N13: 0 | O13: 0 | P13: 3610338 | Q13: 0 | R13: 0 | S13: 0 | T13: 0 | U13: 0 | V13: 0 | X13: =+W13/W$9 -> 0
A14: 300 | B14: 1000 | C14: Vocational | D14: =+E14/E$9 -> 0.015018591 | E14: 898299 | G14: =IFERROR(+H14/J14,0) -> -0.038390421 | H14: =+J14-I14 -> -31330 | I14: 847419 | J14: 816089 | L14: =IFERROR(+M14/O14,0) -> -0.18857922 | M14: =+O14-N14 -> -125570 | N14: 791444 | O14: 665874 | P14: 680474 | Q14: 848351 | R14: 813805 | S14: 817917 | T14: 843819 | U14: 843983 | V14: 890201 | W14: 697563 | X14: =+W14/W$9 -> 0.013840445 | Y14: =IFERROR(+E14/W14-1,0) -> 0.28776756
A15: 600 | B15: 1000 | C15: Adult Education | D15: =+E15/E$9 -> 0 | G15: =IFERROR(+H15/J15,0) -> 0 | H15: =+J15-I15 -> 0 | I15: 0 | J15: 0 | L15: =IFERROR(+M15/O15,0) -> 0 | M15: =+O15-N15 -> 0 | O15: 0 | P15: 0 | Q15: 0 | R15: 0 | S15: 0 | T15: 0 | U15: 0 | V15: 0 | X15: =+W15/W$9 -> 0
A16: 900 | B16: 1000 | C16: Extra and Cocurricular | D16: =+E16/E$9 -> 0.010902627 | E16: =194902+457211 -> 652113 | G16: =IFERROR(+H16/J16,0) -> -0.076749512 | H16: =+J16-I16 -> -49764 | I16: 698159 | J16: =202152+446243 -> 648395 | L16: =IFERROR(+M16/O16,0) -> -0.10935509 | M16: =+O16-N16 -> -63845 | N16: 647677 | O16: 583832 | P16: 540868 | Q16: 433684 | R16: 528054 | S16: =153393+350139 -> 503532 | T16: 529309 | U16: 504412 | V16: 499105 | W16: 494989 | X16: =+W16/W$9 -> 0.009821146 | Y16: =IFERROR(+E16/W16-1,0) -> 0.31742928
A17: 400 | B17: 1000 | C17: Other Instructional | D17: =+E17/E$9 -> 0.025017811 | E17: =1381162+115215 -> 1496377 | G17: =IFERROR(+H17/J17,0) -> -0.12815908 | H17: =+J17-I17 -> -176427 | I17: 1553052 | J17: =1241910+134715 -> 1376625 | L17: =IFERROR(+M17/O17,0) -> 0.22161205 | M17: =+O17-N17 -> 366018 | N17: 1285598 | O17: 1651616 | P17: 1559521 | Q17: 1796188 | R17: 1740005 | S17: 1678720 | T17: 1639952 | U17: 1621300 | V17: 1614534 | W17: 1555271 | X17: =+W17/W$9 -> 0.03085835 | Y17: =IFERROR(+E17/W17-1,0) -> -0.037867356
B18: 3000 | C18: Community Services | D18: =+E18/E$9 -> 0 | G18: =IFERROR(+H18/J18,0) -> 0 | H18: =+J18-I18 -> 0 | I18: 0 | L18: =IFERROR(+M18/O18,0) -> 0 | M18: =+O18-N18 -> 0 | X18: =+W18/W$9 -> 0
B19: 2100 | C19: Student Support | D19: =+E19/E$9 -> 0.068232832 | E19: 4081174 | G19: =IFERROR(+H19/J19,0) -> -0.091241063 | H19: =+J19-I19 -> -358698 | I19: 4290020 | J19: 3931322 | L19: =IFERROR(+M19/O19,0) -> -0.25419582 | M19: =+O19-N19 -> -824566 | N19: 4068388 | O19: 3243822 | P19: 2938044 | Q19: 2713693 | R19: 2650416 | S19: 2552319 | T19: 2515678 | U19: 2425889 | V19: 2411128 | W19: 2353463 | X19: =+W19/W$9 -> 0.046695389 | Y19: =IFERROR(+E19/W19-1,0) -> 0.73411437
B20: 2200 | C20: Instructional Staff Support | D20: =+E20/E$9 -> 0.024620269 | E20: 1472599 | G20: =IFERROR(+H20/J20,0) -> 0.0026037176 | H20: =+J20-I20 -> 3639 | I20: 1393978 | J20: 1397617 | L20: =IFERROR(+M20/O20,0) -> -0.082196042 | M20: =+O20-N20 -> -103574 | N20: 1363659 | O20: 1260085 | P20: 1151545 | Q20: 1218660 | R20: 1195312 | S20: 1222032 | T20: 1186674 | U20: 1110507 | V20: 1083057 | W20: 1170410 | X20: =+W20/W$9 -> 0.023222269 | Y20: =IFERROR(+E20/W20-1,0) -> 0.25819072
B21: 2300 | C21: General Admin | D21: =+E21/E$9 -> 0.018462004 | E21: 1104258 | G21: =IFERROR(+H21/J21,0) -> 0.035871781 | H21: =+J21-I21 -> 43446 | I21: 1167701 | J21: 1211147 | L21: =IFERROR(+M21/O21,0) -> -0.42210577 | M21: =+O21-N21 -> -354484 | N21: 1194283 | O21: 839799 | P21: 559549 | Q21: 520113 | R21: 540943 | S21: 494028 | T21: 620788 | U21: 508548 | V21: 564339 | W21: 601407 | X21: =+W21/W$9 -> 0.0119326 | Y21: =IFERROR(+E21/W21-1,0) -> 0.83612429
B22: 2400 | C22: School Admin | D22: =+E22/E$9 -> 0.096674795 | E22: 5782358 | G22: =IFERROR(+H22/J22,0) -> -0.026282903 | H22: =+J22-I22 -> -146317 | I22: 5713320 | J22: 5567003 | L22: =IFERROR(+M22/O22,0) -> -0.18149644 | M22: =+O22-N22 -> -850611 | N22: 5537265 | O22: 4686654 | P22: 4702143 | Q22: 4571372 | R22: 4640348 | S22: 4629819 | T22: 4532689 | U22: 4460265 | V22: 4390233 | W22: 4224923 | X22: =+W22/W$9 -> 0.083827288 | Y22: =IFERROR(+E22/W22-1,0) -> 0.36863039
B23: 2500 | C23: Central Services | D23: =+E23/E$9 -> 0.044313036 | E23: 2650472 | G23: =IFERROR(+H23/J23,0) -> 0.052935076 | H23: =+J23-I23 -> 146997 | I23: 2629933 | J23: 2776930 | L23: =IFERROR(+M23/O23,0) -> -0.10445765 | M23: =+O23-N23 -> -220747 | N23: 2334015 | O23: 2113268 | P23: 2219839 | Q23: 1957897 | R23: 1908362 | S23: 1959263 | T23: 1858376 | U23: 2037145 | V23: 2000349 | W23: 1842395 | X23: =+W23/W$9 -> 0.036555217 | Y23: =IFERROR(+E23/W23-1,0) -> 0.43860139
B24: 2600 | C24: Operations and Maintenance | D24: =+E24/E$9 -> 0.15414768 | E24: 9219953 | G24: =IFERROR(+H24/J24,0) -> 0.051037799 | H24: =+J24-I24 -> 461362 | I24: 8578252 | J24: 9039614 | L24: =IFERROR(+M24/O24,0) -> -0.13297967 | M24: =+O24-N24 -> -1055009 | N24: 8988620 | O24: 7933611 | P24: 7404702 | Q24: 7096878 | R24: 7277101 | S24: 6967627 | T24: 6903401 | U24: 6514568 | V24: 6913432 | W24: 6591666 | X24: =+W24/W$9 -> 0.13078617 | Y24: =IFERROR(+E24/W24-1,0) -> 0.39872879
B25: 2700 | C25: Student Transportation | D25: =+E25/E$9 -> 0.074825705 | E25: 4475510 | G25: =IFERROR(+H25/J25,0) -> 0.12295565 | H25: =+J25-I25 -> 572814 | I25: 4085890 | J25: 4658704 | L25: =IFERROR(+M25/O25,0) -> -0.4057579 | M25: =+O25-N25 -> -1317687 | N25: 4565158 | O25: 3247471 | P25: 3835158 | Q25: 3557877 | R25: 3465564 | S25: 3454141 | T25: 3298899 | U25: 3147481 | V25: 3217340 | W25: 3301776 | X25: =+W25/W$9 -> 0.065511 | Y25: =IFERROR(+E25/W25-1,0) -> 0.35548565
B26: 2900 | C26: Other Support | D26: =+E26/E$9 -> 0.0048752378 | E26: 291600 | G26: =IFERROR(+H26/J26,0) -> 0.52753656 | H26: =+J26-I26 -> 201261 | I26: 180250 | J26: 381511 | L26: =IFERROR(+M26/O26,0) -> -0.021049055 | M26: =+O26-N26 -> -5204 | N26: 252436 | O26: 247232 | P26: 913250 | Q26: 112329 | R26: 147378 | S26: 167651 | T26: 152659 | U26: 141343 | V26: 83439 | W26: 51960 | X26: =+W26/W$9 -> 0.0010309456 | Y26: =IFERROR(+E26/W26-1,0) -> 4.6120092
B27: 4000 | C27: Facilities Capital | D27: =+E27/E$9 -> 0.0077241422 | E27: =122000+340000 -> 462000 | G27: =IFERROR(+H27/J27,0) -> 0.20466245 | H27: =+J27-I27 -> 97010 | I27: 376990 | J27: =119000+355000 -> 474000 | L27: =IFERROR(+M27/O27,0) -> -0.45386077 | M27: =+O27-N27 -> -135708 | N27: =159731+274985 -> 434716 | O27: 299008 | P27: 321344 | Q27: 509250 | R27: 903301 | S27: 603 | T27: 110649 | U27: 1064 | X27: =+W27/W$9 -> 0
B28: 8000 | C28: Debt | D28: =+E28/E$9 -> 0 | G28: =IFERROR(+H28/J28,0) -> 0 | H28: =+J28-I28 -> 0 | L28: =IFERROR(+M28/O28,0) -> 0.38290005 | M28: =+O28-N28 -> 200161 | N28: 322589 | O28: =507000+15750 -> 522750 | P28: =496000+26966 -> 522966 | Q28: =485000+37946 -> 522946 | R28: =474000+48668 -> 522668 | S28: =418000+58388 -> 476388 | T28: =446000+68265 -> 514265 | U28: =422000+77895 -> 499895 | V28: =399000+87006 -> 486006 | W28: =380000+95660 -> 475660 | X28: =+W28/W$9 -> 0.0094376366 | Y28: =IFERROR(+E28/W28-1,0) -> -1
B29: 9000 | C29: Transfers to Other Funds | D29: =+E29/E$9 -> 0.11034489 | E29: 6600000 | G29: =IFERROR(+H29/J29,0) -> 0.014925373 | H29: =+J29-I29 -> 100000 | I29: 6600000 | J29: 6700000 | L29: =IFERROR(+M29/O29,0) -> -0.28846154 | M29: =+O29-N29 -> -1500000 | N29: 6700000 | O29: 5200000 | P29: 1395956 | Q29: 4000000 | R29: 3800000 | S29: 4200000 | T29: 4300000 | U29: 4261000 | V29: 4920000 | W29: 5200000 | X29: =+W29/W$9 -> 0.10317393 | Y29: =IFERROR(+E29/W29-1,0) -> 0.26923077
C32: Total Expenditures (exc. EFB & Cont) | D32: =+E32/E$9 -> 1.0856647 | E32: =SUM(E11:E31) -> 64936282 | G32: =IFERROR(+H32/J32,0) -> 0.003504658 | H32: =+J32-I32 -> 225813 | I32: =SUM(I11:I31) -> 64206437 | J32: =SUM(J11:J31) -> 64432250 | L32: =IFERROR(+M32/O32,0) -> -0.15342453 | M32: =+O32-N32 -> -8626535 | N32: =SUM(N11:N31) -> 64853103 | O32: =SUM(O11:O31) -> 56226568 | P32: =SUM(P11:P31) -> 56399594 | Q32: =SUM(Q11:Q31) -> 53630101 | R32: =SUM(R11:R31) -> 54073754 | S32: =SUM(S11:S31) -> 52305629 | T32: =SUM(T11:T31) -> 52230818 | U32: =SUM(U11:U31) -> 50080833 | ... W32: =SUM(W11:W31) -> 50394002 | X32: =+W32/W$9 -> 0.99987445 | Y32: =IFERROR(+E32/W32-1,0) -> 0.28857164
C34: Net Change in Fund Balance | D34: =+E34/E$9 -> -0.085664666 | E34: =E9-E32 -> -5123815 | G34: =IFERROR(+H34/J34,0) -> -0.70961719 | H34: =H9-H32 -> 2124706 | I34: =I9-I32 -> -5118864 | J34: =J9-J32 -> -2994158 | L34: =IFERROR(+M34/O34,0) -> -5.8620039 | M34: =+O34-N34 -> 5509252 | N34: =N9-N32 -> -6449076 | O34: =O9-O32 -> -939824 | P34: =P9-P32 -> 3094933 | Q34: =Q9-Q32 -> 1382048 | R34: =R9-R32 -> -772976 | S34: =S9-S32 -> 1752587 | T34: =T9-T32 -> 795548 | U34: =U9-U32 -> 648069 | ... W34: =W9-W32 -> 6328 | X34: =+W34/W$9 -> 0.00012555473 | Y34: =IFERROR(+E34/W34-1,0) -> -810.70528
C36: Ending Fund Balance | D36: =+E36/E$9 -> -0.10152944 | E36: =+I36+E34 -> -6072726 | G36: =H36+G34 -> 1175794.3 | H36: =I36+H34 -> 1175795 | I36: =I34+N36 -> -948911 | J36: =N36+J34 -> 1175795 | L36: =IFERROR(+M36/O36,0) -> 0.60731315 | M36: =+O36-N36 -> 6449076 | N36: =O36+N34 -> 4169953 | O36: =P36+O34 -> 10619029 | P36: =Q36+P34 -> 11558853 | Q36: =R36+Q34 -> 8463920 | R36: =S36+R34 -> 7081872 | S36: =T36+S34 -> 7854848 | T36: =U36+T34 -> 6102261 | U36: =V36+U34 -> 5306713 | V36: =W36+V34 -> 4658644 | W36: 5113090 | X36: =+W36/W$9 -> 0.10144953 | Y36: =IFERROR(+E36/W36-1,0) -> -2.1876822
C38: Total Exp. Increase/-Decrease Fm Prior Year | E38: =E32-J32 -> 504032 | I38: =I32-J32 -> -225813 | J38: =J32-N32 -> -420853 | N38: =N32-O32 -> 8626535 | O38: =O32-P32 -> -173026 | P38: =P32-Q32 -> 2769493 | Q38: =Q32-R32 -> -443653 | R38: =R32-S32 -> 1768125 | S38: =S32-T32 -> 74811 | T38: =T32-U32 -> 2149985 | U38: =U32-V32 -> -1290698 | V38: =V32-W32 -> 977529
C39: EFB Increase/-Decrease Fm Base Year | E39: =E36-$W$36 -> -11185816 | I39: =I36-$W$36 -> -6062001 | J39: =J36-$W$36 -> -3937295 | N39: =N36-$W$36 -> -943137 | O39: =O36-$W$36 -> 5505939 | P39: =P36-$W$36 -> 6445763 | Q39: =Q36-$W$36 -> 3350830 | R39: =R36-$W$36 -> 1968782 | S39: =S36-$W$36 -> 2741758 | T39: =T36-$W$36 -> 989171 | U39: =U36-$W$36 -> 193623 | V39: =V36-$W$36 -> -454446 | W39: 0
C41: % Change Revenue fm PY | E41: =+E9/J9-1 -> -0.026459562 | I41: =+I9/N9-1 -> 0.011703748 | J41: =+J9/N9-1 -> 0.051949586 | N41: =+N9/O9-1 -> 0.056383914 | O41: =+O9/P9-1 -> -0.070725548 | P41: =+P9/Q9-1 -> 0.081479784 | Q41: =+Q9/R9-1 -> 0.032107805 | R41: =+R9/S9-1 -> -0.014011524 | S41: =+S9/T9-1 -> 0.019459188 | T41: =+T9/U9-1 -> 0.045289054 | U41: =+U9/V9-1 -> -0.0036958714 | V41: =+V9/W9-1 -> 0.010253008
C42: % Change Revenue fm Base (2018) | E42: =+E9/$T9-1 -> 0.12797598 | I42: =+I9/$T9-1 -> 0.11430553 | J42: =+J9/$T9-1 -> 0.1586329 | N42: =+N9/$T9-1 -> 0.10141485 | O42: =+O9/$T9-1 -> 0.042627436 | P42: =+P9/$T9-1 -> 0.12198009 | Q42: =+Q9/$T9-1 -> 0.037448974 | R42: =+R9/$T9-1 -> 0.0051750105 | S42: =+S9/$T9-1 -> 0.019459188
E43: =+E32*-0.03 -> -1948088.5 | J43: =+E39/E32 -> -0.17225834
C44: % Rev/Exp Applied to Total | E44: =(+Y32-Y9)*E32 -> 6612079.6 | J44: =+E39/E32 -> -0.17225834
I45: =+I9-P9 -> -406954 | N45: =+I32-P32 -> 7806843
E46: Est | J46: Est
...

Sheet FY2023 & 24
C1: Douglas County School District
C2: General Fund Comparison
C3: Description | D3: % 2024 v 2023 | E3: $ 2024 v 2023 | F3: 2025 | G3: 2024 | H3: =G3-1 -> 2023
C4: Revenue
C5: Local Sources | D5: =IFERROR(+E5/H5,0) -> -0.031902819 | E5: =+G5-H5 -> -24117 | G5: 731835 | H5: 755952
C6: State Sources | D6: =IFERROR(+E6/H6,0) -> 0.05867967 | E6: =+G6-H6 -> 3197619 | G6: 57690410 | H6: 54492791
C7: Federal Sources | D7: =IFERROR(+E7/H7,0) -> 0 | E7: =+G7-H7 -> 0
C8: Other Sources | D8: =IFERROR(+E8/H8,0) -> -1.4794084 | E8: =+G8-H8 -> -56219 | G8: =-21657+3439 -> -18218 | H8: =18915+19086 -> 38001
C9: Total Revenue | D9: =IFERROR(+E9/H9,0) -> 0.056383914 | E9: =+G9-H9 -> 3117283 | G9: =SUM(G4:G8) -> 58404027 | H9: =SUM(H4:H8) -> 55286744
A11: Prog | B11: Func | C11: Expenditures
A12: 100 | B12: 1000 | C12: Regular Programs | D12: =IFERROR(+E12/H12,0) -> 0.11106352 | E12: =+G12-H12 -> 2635709 | G12: 26367255 | H12: 23731546
A13: 200 | B13: 1000 | C13: Special Programs | D13: =IFERROR(+E13/H13,0) -> 0 | E13: =+G13-H13 -> 0 | G13: 0 | H13: 0
A14: 300 | B14: 1000 | C14: Vocational | D14: =IFERROR(+E14/H14,0) -> 0.18857922 | E14: =+G14-H14 -> 125570 | G14: 791444 | H14: 665874
A15: 600 | B15: 1000 | C15: Adult Education | D15: =IFERROR(+E15/H15,0) -> 0 | E15: =+G15-H15 -> 0 | H15: 0
A16: 900 | B16: 1000 | C16: Extra and Cocurricular | D16: =IFERROR(+E16/H16,0) -> 0.10935509 | E16: =+G16-H16 -> 63845 | G16: 647677 | H16: 583832
A17: 400 | B17: 1000 | C17: Other Instructional | D17: =IFERROR(+E17/H17,0) -> -0.22161205 | E17: =+G17-H17 -> -366018 | G17: 1285598 | H17: 1651616
B18: 3000 | C18: Community Services | D18: =IFERROR(+E18/H18,0) -> 0 | E18: =+G18-H18 -> 0
B19: 2100 | C19: Student Support | D19: =IFERROR(+E19/H19,0) -> 0.25419582 | E19: =+G19-H19 -> 824566 | G19: 4068388 | H19: 3243822
B20: 2200 | C20: Instructional Staff Support | D20: =IFERROR(+E20/H20,0) -> 0.082196042 | E20: =+G20-H20 -> 103574 | G20: 1363659 | H20: 1260085
B21: 2300 | C21: General Admin | D21: =IFERROR(+E21/H21,0) -> 0.42210577 | E21: =+G21-H21 -> 354484 | G21: 1194283 | H21: 839799
B22: 2400 | C22: School Admin | D22: =IFERROR(+E22/H22,0) -> 0.18149644 | E22: =+G22-H22 -> 850611 | G22: 5537265 | H22: 4686654
B23: 2500 | C23: Central Services | D23: =IFERROR(+E23/H23,0) -> 0.10445765 | E23: =+G23-H23 -> 220747 | G23: 2334015 | H23: 2113268
B24: 2600 | C24: Operations and Maintenance | D24: =IFERROR(+E24/H24,0) -> 0.13297967 | E24: =+G24-H24 -> 1055009 | G24: 8988620 | H24: 7933611
B25: 2700 | C25: Student Transportation | D25: =IFERROR(+E25/H25,0) -> 0.4057579 | E25: =+G25-H25 -> 1317687 | G25: 4565158 | H25: 3247471
B26: 2900 | C26: Other Support | D26: =IFERROR(+E26/H26,0) -> 0.021049055 | E26: =+G26-H26 -> 5204 | G26: 252436 | H26: 247232
B27: 4000 | C27: Facilities Capital | D27: =IFERROR(+E27/H27,0) -> 0.45386077 | E27: =+G27-H27 -> 135708 | G27: =159731+274985 -> 434716 | H27: 299008
B28: 8000 | C28: Debt | D28: =IFERROR(+E28/H28,0) -> -0.38290005 | E28: =+G28-H28 -> -200161 | G28: 322589 | H28: =507000+15750 -> 522750
B29: 9000 | C29: Transfers to Other Funds | D29: =IFERROR(+E29/H29,0) -> 0.28846154 | E29: =+G29-H29 -> 1500000 | G29: 6700000 | H29: 5200000
C32: Total Expenditures | D32: =IFERROR(+E32/H32,0) -> 0.15342453 | E32: =+G32-H32 -> 8626535 | G32: =SUM(G11:G31) -> 64853103 | H32: =SUM(H11:H31) -> 56226568
C34: Net Change in Fund Balance | D34: =IFERROR(+E34/H34,0) -> 5.8620039 | E34: =+G34-H34 -> -5509252 | G34: =G9-G32 -> -6449076 | H34: =H9-H32 -> -939824
C36: Ending Fund Balance | D36: =IFERROR(+E36/H36,0) -> -0.60731315 | E36: =+G36-H36 -> -6449076 | G36: =H36+G34 -> 4169953 | H36: =+'FY2026-FY2015'!O36 -> 10619029
B39: Enrollment | D39: % 2024 v 2023 | E39: $ 2024 v 2023 | G39: 2024 | H39: =G39-1 -> 2023
C40: Full Enrollment | D40: =IFERROR(+E40/H40,0) -> -0.045592705 | E40: =+G40-H40 -> -240 | G40: 5024 | H40: 5264
C41: Average Weighted Enrollment | D41: =IFERROR(+E41/H41,0) -> -0.037120099 | E41: =+G41-H41 -> -192 | G41: 4980.4 | H41: 5172.4
A43: $$ Per Weighted Student | D43: % 2024 v 2023 | E43: $ 2024 v 2023 | G43: 2024 | H43: =G43-1 -> 2023
D44: =IFERROR(+E44/H44,0) -> 0 | E44: =+G44-H44 -> 0
C45: Local Sources | D45: =IFERROR(+E45/H45,0) -> 0.0054184117 | E45: =+G45-H45 -> 0.79190689 | G45: =G5/G$41 -> 146.94302 | H45: =H5/H$41 -> 146.15111
C46: State Sources | D46: =IFERROR(+E46/H46,0) -> 0.099492958 | E46: =+G46-H46 -> 1048.1883 | G46: =G6/G$41 -> 11583.489 | H46: =H6/H$41 -> 10535.301
C47: Federal Sources | D47: =IFERROR(+E47/H47,0) -> 0 | E47: =+G47-H47 -> 0 | G47: =G7/G$41 -> 0 | H47: =H7/H$41 -> 0
C48: Other Sources | D48: =IFERROR(+E48/H48,0) -> -1.4978902 | E48: =+G48-H48 -> -11.004819 | G48: =G8/G$41 -> -3.6579391 | H48: =H8/H$41 -> 7.3468796
...

Sheet PCFP Calcs
B2: Projected
A3: Tier 1
A4: Food Services | B4: 0
A5: Transportation | B5: 3977265
A6: Tier 2
A7: Local SpEd | B7: 5428400
A8: Tier 3 | D8: Based on Q1 actual
A9: Adjusted Base | B9: =10622*'[1]Staff & Student Ratios'!D9 -> 49827802 | D9: =10622*4637.42 -> 49258675
A10: Tier 4
A11: EL | C11: 682193
A12: At-Risk | C12: 474569
A13: GATE | C13: 133331
A14: Total | B14: =SUM(B3:B13) -> 59233467 | C14: =SUM(C11:C13) -> 1290093
A18: State SpEd Allocation
A19: Base | C19: 4299132
A20: 13% Supplemental | C20: 21884.374
A21: Total | C21: =C20+C19 -> 4321016.4
B24: Final Budget | C24: Corrected | D24: PCFP Pmt Sheet (Inputs) | E24: PCFP Pmt Sheet (2.2 Certified ADE)
A25: Adjusted Base Per Pupil Funding | B25: 10691 | C25: 10691 | D25: 10622 | E25: 10622
A27: Estimated Weighted Enrollment | B27: 4933.445 | C27: 4819.01 | D27: 4790.59 | E27: 4745
A29: Total Adjusted Base funding | B29: =+B25*B27 -> 52743460 | C29: =+C25*C27 -> 51520036 | D29: =+D25*D27 -> 50885647 | E29: =+E25*E27 -> 50401390
A31: Difference Compared with Final Budget | C31: =+C29-$B$29 -> -1223424.1 | D31: =+D29-$B$29 -> -1857813 | E31: =+E29-$B$29 -> -2342070
B32: Incorrect enrollment used to calculate Adj. Base | C32: Correct amount on final budget to calculate the Adj. Base | D32: PCFP Legislative Allocated Input enrollment | E32: Q1 audited ADE

Sheet DCSD  Budget Info.
A1: 2025-2026 AMENDED BUDGET - DEC, 2025
A2: EXPENDITURE: | B2: 2025-26 | C2: 2025-26 | D2: INCREASE
B3: FINAL | C3: DEC | D3: OR | F3: EXPLANATION
B4: BUDGET | C4: BUDGET | D4: (DECREASE)
A5: SALARIES & BENEFITS | B5: 48527481 | C5: 49583843 | D5: =SUM(C5-B5) -> 1056362 | E5: - | F5: Includes:
E6: - | F6: Increase in insurance premiums beginning 1-1-26 - Decreased transfer
E7: - | F7: Salary schedule adjustment
A13: REGULAR PROGRAMS:
A14: Contracted Professional Svcs | B14: 0 | C14: 0 | D14: =SUM(C14-B14) -> 0
A15: DW Nurse Acct | B15: 20850 | C15: 20850 | D15: 0
A16: Tuition-out-of state | B16: 0 | C16: 0 | D16: =SUM(C16-B16) -> 0
A17: Staff travel-shared employees | B17: 10000 | C17: 10000 | D17: =SUM(C17-B17) -> 0
A18: ESL Program budget | B18: 12000 | C18: 12000 | D18: =SUM(C18-B18) -> 0
A19: Cops in School - Grant Match | B19: 240000 | C19: 240000 | D19: =SUM(C19-B19) -> 0
A20: Student Asst. Program | B20: 5800 | C20: 5800 | D20: =SUM(C20-B20) -> 0
A21: Professional Svcs - Principals | B21: 0 | C21: 0 | D21: =SUM(C21-B21) -> 0
A22: DW Total Occ. Ed. | B22: 11003 | C22: 10503 | D22: =SUM(C22-B22) -> -500
A23: Textbooks-Adoptions | B23: 700000 | C23: 500000 | D23: =SUM(C23-B23) -> -200000
A24: DW Instructional Software (98) | B24: 55000 | C24: 55000 | D24: =SUM(C24-B24) -> 0
A25: Instructional Supplies - SRC | B25: 16310 | C25: =B25 -> 16310 | D25: =SUM(C25-B25) -> 0
A26: Instructional Supplies - Alt. Ed. | B26: 4525 | C26: 4525 | D26: =SUM(C26-B26) -> 0
A27: Summer School | B27: 2700 | C27: 2700 | D27: =SUM(C27-B27) -> 0
A28: GRANTS & PROJECTS | B28: 10950 | C28: 10950 | D28: =SUM(C28-B28) -> 0
A29: TESTS & MEASUREMENTS | B29: 34879 | C29: 34879 | D29: =SUM(C29-B29) -> 0
A30: BIF Funds - Discretionary | B30: 24320 | C30: 24320 | D30: 0
A31: CURRICULUM COORDINATOR | B31: 18289 | C31: 18289 | D31: =SUM(C31-B31) -> 0
A32: PDC OPERATING BUDGET | B32: 15000 | C32: 15000 | D32: =SUM(C32-B32) -> 0
A33: INST. SVCS. DEPT. | B33: 30233 | C33: 30233 | D33: =SUM(C33-B33) -> 0
A34: PERSONNEL ADMIN. | B34: 70000 | C34: 70000 | D34: =SUM(C34-B34) -> 0
A35: GENERAL ADMIN. | B35: 140750 | C35: 140750 | D35: =SUM(C35-B35) -> 0
A36: Legal Fees | B36: 280000 | C36: 280000 | D36: =SUM(C36-B36) -> 0
A37: Marketing Discretionary | B37: 10200 | C37: 10200 | D37: =SUM(C37-B37) -> 0
A38: PERS purchase | B38: 0 | C38: 0 | D38: =SUM(C38-B38) -> 0
A39: BUSINESS ADMIN. | B39: 138130 | C39: 138130 | D39: =SUM(C39-B39) -> 0
A40: WAREHOUSE | B40: 7900 | C40: 7900 | D40: =SUM(C40-B40) -> 0
A41: GT Restructure | B41: 2900 | C41: 2900 | D41: =SUM(C41-B41) -> 0
A42: Education Technology | B42: 3800 | C42: 3800 | D42: =SUM(C42-B42) -> 0
... A46: ASPIRE Lease | B46: 120000 | C46: 120000 | D46: =SUM(C46-B46) -> 0
A49: 2025-2026 AMENDED BUDGET - DEC, 2025
A50: EXPENDITURE: | B50: 2025-26 | C50: 2025-26 | D50: INCREASE
...

Sheet Staff & Student Ratios
A1: Douglas County School District
A2: General Fund - Staffing
D3: From DCSD | M3: From Budgets
D4: (PLJ)
D5: Est
A6: Prog | B6: Func | C6: Description | D6: 2026 | E6: 2025 | F6: 2024 | G6: =F6-1 -> 2023 | H6: =G6-1 -> 2022 | I6: =H6-1 -> 2021 | J6: =I6-1 -> 2020 | K6: =J6-1 -> 2019 | L6: =K6-1 -> 2018 | M6: =L6-1 -> 2017 | N6: 2016
D7: =+D8/E9-1 -> -0.02327044
C8: Full Enrollment | D8: 4659 | E8: 4797 | F8: 5024 | G8: 5264 | H8: =5281-32 -> 5249 | I8: =5303.7-33 -> 5270.7 | J8: =5655+36 -> 5691 | K8: =5698+1 -> 5699 | L8: =5770.1-26 -> 5744.1 | M8: =5858.2-31.2+52 -> 5879 | N8: =5777-45-219+75+365 -> 5953
C9: Weighted Enrollment | D9: 4637 | E9: 4770 | F9: 4980.4 | G9: 5172.4 | H9: 5221 | I9: 5249.5 | J9: =5665.5 -> 5665.5 | K9: 5676.2 | L9: =5724.2 -> 5724.2 | M9: 5858.2 | N9: 5777
C10: Difference | D10: =+D8-D9 -> 22 | E10: =+E8-E9 -> 27 | F10: =+F8-F9 -> 43.6 | G10: =+G8-G9 -> 91.6 | H10: =+H8-H9 -> 28 | I10: =+I8-I9 -> 21.2 | J10: =+J8-J9 -> 25.5 | K10: =+K8-K9 -> 22.8 | ... N10: =+N8-N9 -> 176
B11: Full Enrollment
C12: Prior Year Comparison | D12: =D8-E8 -> -138 | E12: =E8-F8 -> -227 | F12: =F8-G8 -> -240 | G12: =G8-H8 -> 15 | H12: =H8-I8 -> -21.7 | I12: =I8-J8 -> -420.3 | J12: =J8-K8 -> -8 | K12: =K8-L8 -> -45.1 | ... M12: =M8-N8 -> -74
C13: Base-year Comparison | D13: =D8-$N$8 -> -1294 | E13: =E8-$N$8 -> -1156 | F13: =F8-$N$8 -> -929 | G13: =G8-$N$8 -> -689 | H13: =H8-$N$8 -> -704 | I13: =I8-$N$8 -> -682.3 | J13: =J8-$N$8 -> -262 | K13: =K8-$N$8 -> -254 | ... M13: =M8-$N$8 -> -74
B14: Weighted Enrollment
C15: Prior Year Comparison | D15: =D9-E9 -> -133 | E15: =E9-F9 -> -210.4 | F15: =F9-G9 -> -192 | G15: =G9-H9 -> -48.6 | H15: =H9-I9 -> -28.5 | I15: =I9-J9 -> -416 | J15: =J9-K9 -> -10.7 | K15: =K9-L9 -> -48 | ... M15: =M9-N9 -> 81.2 | N15: 0
C16: Base-year Comparison | D16: =D9-$N$9 -> -1140 | E16: =E9-$N$9 -> -1007 | F16: =F9-$N$9 -> -796.6 | G16: =G9-$N$9 -> -604.6 | H16: =H9-$N$9 -> -556 | I16: =I9-$N$9 -> -527.5 | J16: =J9-$N$9 -> -111.5 | K16: =K9-$N$9 -> -100.8 | ... M16: =M9-$N$9 -> 81.2 | N16: 0
D17: =+D8/L8-1 -> -0.18890688 | E17: =+E16/N9 -> -0.17431193
A19: Prog | B19: Func. | C19: Staff | D19: Est | E19: 2025 | F19: Est | L19: 2018 | O19: # Change | P19: % Change | Z19: =+(4770-5777)/5777 -> -0.17431193
A20: 100 | B20: 1000 | C20: Licensed | D20: 204 | E20: 222 | F20: 233.6 | G20: 234.4 | H20: 230.4 | I20: 240.27 | J20: 238 | K20: 239.17 | L20: 237.93 | O20: =+E20-L20 -> -15.93 | P20: =+O20/L20 -> -0.066952465
A21: 100 | B21: 1000 | C21: Non-Licensed | D21: 30 | E21: 44 | F21: 28.97 | G21: 24.63 | H21: =25.5 -> 25.5 | I21: 28.09 | J21: 26.03 | K21: 26.13 | L21: 24.16 | O21: =+E21-L21 -> 19.84 | P21: =+O21/L21 -> 0.82119205
A22: 200 | B22: 1000 | C22: Licensed | D22: 0 | E22: 0 | F22: 0 | G22: =1.4+1.5 -> 2.9 | H22: =6.4+5.5 -> 11.9 | O22: =+E22-L22 -> 0 | P22: =+O22/L22 -> #DIV/0!
B23: 1000 | C23: Non-Licensed | D23: 0 | E23: 0 | F23: 0 | G23: 0 | H23: =5+1 -> 6 | O23: =+E23-L23 -> 0 | P23: =+O23/L23 -> #DIV/0!
A24: 300 | B24: 1000 | C24: Licensed | D24: 8 | E24: 7 | F24: 7 | G24: 6 | H24: 7 | I24: 10 | J24: 9.7 | K24: 9.54 | L24: 9.5 | O24: =+E24-L24 -> -2.5 | P24: =+O24/L24 -> -0.26315789
B25: 1000 | C25: Non-Licensed | D25: 0 | E25: 0 | F25: 0 | G25: 0 | H25: 0 | O25: =+E25-L25 -> 0 | P25: =+O25/L25 -> #DIV/0!
A26: 400 | B26: 1000 | C26: Licensed | D26: 7 | E26: 8 | F26: 2 | G26: 2 | H26: 2 | I26: 14.5 | J26: 15 | K26: 15.5 | L26: 14.5 | O26: =+E26-L26 -> -6.5 | P26: =+O26/L26 -> -0.44827586
B27: 1000 | C27: Non-Licensed | D27: 7 | E27: 7 | F27: 5 | G27: 5 | H27: 5 | I27: 6 | J27: 6.88 | K27: 7.75 | L27: 8.1 | O27: =+E27-L27 -> -1.1 | P27: =+O27/L27 -> -0.13580247
A28: 600 | B28: 1000 | C28: Licensed | O28: =+E28-L28 -> 0 | P28: =+O28/L28 -> #DIV/0!
B29: 1000 | C29: Non-Licensed | O29: =+E29-L29 -> 0 | P29: =+O29/L29 -> #DIV/0!
A30: 900 | B30: 1000 | C30: Licensed | O30: =+E30-L30 -> 0 | P30: =+O30/L30 -> #DIV/0!
B31: 1000 | C31: Non-Licensed | O31: =+E31-L31 -> 0 | P31: =+O31/L31 -> #DIV/0!
B32: 2100 | C32: Licensed | D32: 26 | E32: 31 | F32: 22 | G32: 22 | H32: 20.5 | I32: 18 | J32: 16 | K32: 16.5 | L32: 17 | O32: =+E32-L32 -> 14 | P32: =+O32/L32 -> 0.82352941
B33: 2100 | C33: Non-Licensed | D33: 8 | E33: 12 | F33: 13.08 | G33: 13.08 | H33: 12.7 | I33: 14.8 | J33: 14.08 | K33: 14.08 | L33: 14.1 | O33: =+E33-L33 -> -2.1 | P33: =+O33/L33 -> -0.14893617
B34: 2200 | C34: Licensed | D34: 8 | E34: 8 | F34: 6.3 | G34: 6.3 | H34: 6.3 | I34: 6.6 | J34: 9 | K34: 6 | L34: 6 | O34: =+E34-L34 -> 2 | P34: =+O34/L34 -> 0.33333333
B35: 2200 | C35: Non-Licensed | D35: 8 | E35: 8 | F35: 8.13 | G35: 8.13 | H35: 8.1 | I35: 8.13 | J35: 8.13 | K35: 7.63 | L35: 8.1 | O35: =+E35-L35 -> -0.1 | P35: =+O35/L35 -> -0.012345679
B36: 2300 | C36: Licensed | D36: 1 | E36: 1 | F36: 1 | G36: 1 | H36: 1 | I36: 1 | J36: 1 | K36: 1 | L36: 1 | O36: =+E36-L36 -> 0 | P36: =+O36/L36 -> 0
B37: 2300 | C37: Non-Licensed | D37: 3 | E37: 3 | F37: 3 | G37: 3 | H37: 1 | I37: 1 | J37: 1 | K37: 1 | L37: 1 | O37: =+E37-L37 -> 2 | P37: =+O37/L37 -> 2
B38: 2400 | C38: Licensed | D38: 22 | E38: 23 | F38: 22.5 | G38: 22.5 | H38: 23 | I38: 23 | J38: 21 | K38: 21 | L38: 21 | O38: =+E38-L38 -> 2 | P38: =+O38/L38 -> 0.095238095
B39: 2400 | C39: Non-Licensed | D39: 28 | E39: 29 | F39: 28.3 | G39: 28.3 | H39: 27 | I39: 32.2 | J39: 31.9 | K39: 33.72 | L39: 33 | O39: =+E39-L39 -> -4 | P39: =+O39/L39 -> -0.12121212
B40: 2500 | C40: Licensed | D40: 1 | E40: 1 | F40: 1 | G40: 1 | H40: 1 | I40: 1 | J40: 1 | K40: 1 | L40: 1 | O40: =+E40-L40 -> 0 | P40: =+O40/L40 -> 0
B41: 2500 | C41: Non-Licensed | D41: 15 | E41: 15 | F41: 15 | G41: 15 | H41: 15.8 | I41: 15.9 | J41: 17 | K41: 17.88 | L41: 16.9 | O41: =+E41-L41 -> -1.9 | P41: =+O41/L41 -> -0.11242604
...

Sheet Dem Profile (NV Report)
A1: Group Summary Report
A2: Demographic Profile
A4: Organization Code | B4: Group | C4: Accountability Year | D4: # Enrolled | E4: # Am In/AK Native | F4: # Asian | G4: # Hispanic | H4: # Black | I4: # White | J4: # Pacific Islander | K4: # Two or More Races | M4: # Male | N4: # Female | O4: # Gender Unknown | P4: # Individual Education Program | Q4: # English Learners | R4: # Free or Reduced Price Lunch | S4: # Migrant | T4: # Homeless | U4: # Foster | V4: # Military Connected | W4: # EL Continuously Enrolled | X4: # EL Continuously Enrolled Proficient | Y4: # Pre-Kindergarten | Z4: # Kindergarten | AA4: # Grade 01 | AB4: # Grade 02 | AC4: # Grade 03 | AD4: # Grade 04 | AE4: # Grade 05 | AF4: # Grade 06 | AG4: # Grade 07 | AH4: # Grade 08 | AI4: # Grade 09 | AJ4: # Grade 10 | AK4: # Grade 11 | AL4: # Grade 12 | AM4: # Grade 13
A5: 3 | B5: Douglas | C5: 2015-2016 | D5: 6041 | E5: 204 | F5: 87 | G5: 1253 | H5: 43 | I5: 4079 | J5: 19 | K5: 356 | M5: 3170 | N5: 2871 | O5: - | P5: 879 | Q5: 336 | R5: 1855 | S5: - | T5: - | U5: - | V5: 119 | W5: 336 | X5: 214 | Y5: 57 | Z5: - | AA5: 409 | AB5: 448 | AC5: 409 | AD5: 469 | AE5: 454 | AF5: 451 | AG5: 476 | AH5: 500 | AI5: 476 | AJ5: 483 | AK5: 496 | AL5: 496 | AM5: 0
A6: 3 | B6: Douglas | C6: 2016-2017 | D6: 5932 | E6: 192 | F6: 78 | G6: 1266 | H6: 38 | I6: 3982 | J6: 19 | K6: 357 | M6: 3121 | N6: 2811 | O6: - | P6: 872 | Q6: 310 | R6: 1822 | S6: - | T6: - | U6: - | V6: 138 | W6: 317 | X6: 181 | Y6: 44 | Z6: 369 | AA6: 423 | AB6: 405 | AC6: 436 | AD6: 427 | AE6: 457 | AF6: 444 | AG6: 457 | AH6: 490 | AI6: 512 | AJ6: 474 | AK6: 514 | AL6: 472 | AM6: 0
A7: 3 | B7: Douglas | C7: 2017-2018 | D7: 5798 | E7: 184 | F7: 78 | G7: 1297 | H7: 34 | I7: 3846 | J7: 18 | K7: 341 | M7: 3080 | N7: 2718 | O7: - | P7: 820 | Q7: 357 | R7: 1753 | S7: - | T7: - | U7: - | V7: 157 | W7: 317 | X7: 169 | Y7: 39 | Z7: - | AA7: 373 | AB7: 420 | AC7: 408 | AD7: 440 | AE7: 435 | AF7: 457 | AG7: 438 | AH7: 480 | AI7: 497 | AJ7: 494 | AK7: 476 | AL7: 447 | AM7: 0
A8: 3 | B8: Douglas | C8: 2018-2019 | D8: 5834 | E8: 176 | F8: 81 | G8: 1304 | H8: 31 | I8: 3880 | J8: 16 | K8: 346 | M8: 3104 | N8: 2730 | O8: - | P8: 782 | Q8: 304 | R8: 2069 | S8: - | T8: 86 | U8: 10 | V8: 211 | W8: 317 | X8: 170 | Y8: 142 | Z8: 367 | AA8: 403 | AB8: 377 | AC8: 430 | AD8: 413 | AE8: 446 | AF8: 432 | AG8: 469 | AH8: 447 | AI8: 471 | AJ8: 497 | AK8: 484 | AL8: 446 | AM8: 10
A9: 3 | B9: Douglas | C9: 2019-2020 | D9: 5786 | E9: 178 | F9: 85 | G9: 1322 | H9: 24 | I9: 3809 | J9: 20 | K9: 348 | M9: 3075 | N9: 2711 | O9: - | P9: 802 | Q9: 287 | R9: 2043 | S9: - | T9: 60 | U9: 10 | V9: 194 | W9: 293 | X9: 127 | Y9: 138 | Z9: 386 | AA9: 366 | AB9: 400 | AC9: 386 | AD9: 435 | AE9: 425 | AF9: 452 | AG9: 443 | AH9: 452 | AI9: 470 | AJ9: 478 | AK9: 486 | AL9: 460 | AM9: 0
A10: 3 | B10: Douglas | C10: 2020-2021 | D10: 5385 | E10: 170 | F10: 72 | G10: 1264 | H10: 22 | I10: 3537 | J10: 14 | K10: 306 | M10: 2851 | N10: 2534 | O10: - | P10: 704 | Q10: 244 | R10: 1632 | S10: - | T10: 65 | U10: - | V10: 70 | W10: 252 | X10: 86 | Y10: 94 | Z10: 323 | AA10: 355 | AB10: 341 | AC10: 368 | AD10: 377 | AE10: 411 | AF10: 398 | AG10: 430 | AH10: 432 | AI10: 463 | AJ10: 458 | AK10: 455 | AL10: 470 | AM10: 10
A11: 3 | B11: Douglas | C11: 2021-2022 | D11: 5383 | E11: 166 | F11: 73 | G11: 1280 | H11: 14 | I11: 3516 | J11: 16 | K11: 318 | M11: 2876 | N11: 2506 | O11: - | P11: 743 | Q11: 237 | R11: 1484 | S11: - | T11: 29 | U11: - | V11: 53 | W11: 236 | X11: 60 | Y11: 114 | Z11: 359 | AA11: 341 | AB11: 373 | AC11: 369 | AD11: 392 | AE11: 377 | AF11: 406 | AG11: 402 | AH11: 437 | AI11: 437 | AJ11: 473 | AK11: 450 | AL11: 440 | AM11: 13
A12: 3 | B12: Douglas | C12: 2022-2023 | D12: 5312 | E12: 150 | F12: 80 | G12: 1297 | H12: 19 | I12: 3433 | J12: 15 | K12: 318 | M12: 2848 | N12: 2463 | O12: - | P12: 734 | Q12: 226 | R12: 1569 | S12: - | T12: 24 | U12: - | V12: 25 | W12: 234 | X12: 48 | Y12: 143 | Z12: 313 | AA12: 366 | AB12: 351 | AC12: 383 | AD12: 371 | AE12: 393 | AF12: 375 | AG12: 397 | AH12: 401 | AI12: 468 | AJ12: 446 | AK12: 455 | AL12: 433 | AM12: 17
A13: 3 | B13: Douglas | C13: 2023-2024 | D13: 5032 | E13: 129 | F13: 77 | G13: 1241 | H13: 16 | I13: 3269 | J13: - | K13: 292 | M13: 2676 | N13: 2354 | O13: - | P13: 734 | Q13: 217 | R13: 1681 | S13: - | T13: 29 | U13: 13 | V13: 30 | W13: 206 | X13: 23 | Y13: 115 | Z13: 273 | AA13: 307 | AB13: 344 | AC13: 344 | AD13: 382 | AE13: 370 | AF13: 380 | AG13: 380 | AH13: 391 | AI13: 400 | AJ13: 448 | AK13: 437 | AL13: 444 | AM13: 17
A14: 3 | B14: Douglas | C14: 2024-2025 | D14: 4927 | E14: 116 | F14: 68 | G14: 1255 | H14: 16 | I14: 3171 | J14: 12 | K14: 289 | M14: 2582 | N14: 2344 | O14: - | P14: 739 | Q14: 212 | R14: 1685 | S14: - | T14: 59 | U14: - | V14: 53 | W14: 198 | X14: 32 | Y14: 121 | Z14: 289 | AA14: 292 | AB14: 304 | AC14: 370 | AD14: 356 | AE14: 380 | AF14: 375 | AG14: 376 | AH14: 378 | AI14: 416 | AJ14: 402 | AK14: 439 | AL14: 416 | AM14: 13
A15: 3 | B15: Douglas | C15: 2025-2026 | D15: 4731 | E15: 100 | F15: 67 | G15: 1201 | H15: - | I15: 3057 | J15: - | K15: 289 | M15: 2488 | N15: 2243 | O15: - | P15: 691 | Q15: 192 | R15: 1777 | S15: - | T15: 53 | U15: - | V15: 63 | W15: - | X15: - | Y15: 116 | Z15: 270 | AA15: 294 | AB15: 307 | AC15: 297 | AD15: 366 | AE15: 357 | AF15: 377 | AG15: 374 | AH15: 373 | AI15: 379 | AJ15: 408 | AK15: 387 | AL15: 415 | AM15: 11
Y17: =+Y10-Y9 -> -44 | Z17: =+Z10-Z9 -> -63 | AA17: =+AA10-AA9 -> -11 | AB17: =+AB10-AB9 -> -59 | AC17: =+AC10-AC9 -> -18 | AD17: =+AD10-AD9 -> -58 | AE17: =+AE10-AE9 -> -14 | AF17: =+AF10-AF9 -> -54 | ... AM17: =+AM10-AM9 -> 10

Sheet BLS Inflation Index
A1: Consumer Price Index for All Urban Consumers (CPI-U)
A2: Original Data Value
A4: Series Id: | B4: CUUR0400SA0
A5: Not Seasonally Adjusted
A6: Series Title: | B6: All items in West urban, all urban consumers, not seasonally adjusted
A7: Area: | B7: West
A8: Item: | B8: All items
A9: Base Period: | B9: 1982-84=100
A10: Years: | B10: 2015 to 2025
A12: Year | B12: Jan | C12: Feb | D12: Mar | E12: Apr | F12: May | G12: Jun | H12: Jul | I12: Aug | J12: Sep | K12: Oct | L12: Nov | M12: Dec | N12: Annual | O12: HALF1 | P12: HALF2 | Q12: Minimum | R12: Maximum
A13: 2015 | B13: 238.318 | C13: 239.748 | D13: 241.69 | E13: 242.302 | F13: 244.227 | G13: 244.332 | H13: 245.04 | I13: 244.737 | J13: 244.257 | K13: 244.341 | L13: 243.749 | M13: 243.434 | N13: 243.015 | O13: 241.77 | P13: 244.26
A14: 2016 | B14: 244.6 | C14: 244.821 | D14: 245.404 | E14: 246.589 | F14: 247.855 | G14: 248.228 | H14: 248.375 | I14: 248.498 | J14: 249.234 | K14: 249.897 | L14: 249.448 | M14: 249.516 | N14: 247.705 | O14: 246.25 | P14: 249.161
A15: 2017 | B15: 250.814 | C15: 252.252 | D15: 252.949 | E15: 253.806 | F15: 254.38 | G15: 254.469 | H15: 254.708 | I15: 255.282 | J15: 256.504 | K15: 257.223 | L15: 257.126 | M15: 257.347 | N15: 254.738 | O15: 253.112 | P15: 256.365
A16: 2018 | B16: 258.638 | C16: 259.986 | D16: 260.994 | E16: 262.037 | F16: 263.24 | G16: 263.732 | H16: 263.971 | I16: 264.395 | J16: 265.105 | K16: 266.195 | L16: 265.658 | M16: 265.209 | N16: 263.263 | O16: 261.438 | P16: 265.089
A17: 2019 | B17: 265.624 | C17: 266.215 | D17: 267.37 | E17: 269.522 | F17: 270.88 | G17: 270.957 | H17: 271.029 | I17: 271.264 | J17: 272.102 | K17: 273.524 | L17: 273.128 | M17: 272.584 | N17: 270.35 | O17: 268.428 | P17: 272.272
A18: 2020 | B18: 273.34 | C18: 274.412 | D18: 273.995 | E18: 272.913 | F18: 273.062 | G18: 274.155 | H18: 275.597 | I18: 276.443 | J18: 276.422 | K18: 276.876 | L18: 276.875 | M18: 276.593 | N18: 275.057 | O18: 273.646 | P18: 276.468
A19: 2021 | B19: 277.238 | C19: 278.702 | D19: 280.625 | E19: 283.507 | F19: 285.793 | G19: 288.263 | H19: 289.863 | I19: 290.393 | J19: 291.053 | K19: 293.397 | L19: 294.986 | M19: 296.102 | N19: 287.494 | O19: 282.355 | P19: 292.632
A20: 2022 | B20: 298.705 | C20: 301.158 | D20: 305.082 | E20: 307.145 | F20: 309.645 | G20: 313.496 | H20: 313.951 | I20: 314.013 | J20: 315.094 | K20: 317.299 | L20: 315.919 | M20: 314.599 | N20: 310.509 | O20: 305.872 | P20: 315.146
A21: 2023 | B21: 317.477 | C21: 319.13 | D21: 320.715 | E21: 322.187 | F21: 323.525 | G21: 324.448 | H21: 324.865 | I21: 326.234 | J21: 327.491 | K21: 327.708 | L21: 326.299 | M21: 325.932 | N21: 323.834 | O21: 321.247 | P21: 326.422
A22: 2024 | B22: 328.053 | C22: 329.339 | D22: 332.202 | E22: 334.05 | F22: 334.292 | G22: 333.662 | H22: 333.174 | I22: 333.442 | J22: 334.265 | K22: 334.558 | L22: 334.218 | M22: 334.084 | N22: 332.945 | O22: 331.933 | P22: 333.957
A23: 2025 | B23: 335.989 | C23: 337.868 | D23: 339.627 | E23: 341.159 | F23: 342.343 | G23: 342.613 | H23: 343.234 | O23: 339.933
A25: 2015
A26: 2016 | B26: =B14/B13-1 -> 0.026359738 | C26: =C14/C13-1 -> 0.021159718 | D26: =D14/D13-1 -> 0.015366792 | E26: =E14/E13-1 -> 0.017692797 | F26: =F14/F13-1 -> 0.014855032 | G26: =G14/G13-1 -> 0.015945517 | H26: =H14/H13-1 -> 0.013610023 | I26: =I14/I13-1 -> 0.015367517 | ... P26: =P14/P13-1 -> 0.020064685 | Q26: =MIN(B26:N26) -> 0.013610023 | R26: =MAX(B26:N26) -> 0.026359738
A27: 2017 | B27: =B15/B14-1 -> 0.025404742 | C27: =C15/C14-1 -> 0.030352788 | D27: =D15/D14-1 -> 0.03074522 | E27: =E15/E14-1 -> 0.029267323 | F27: =F15/F14-1 -> 0.026325876 | G27: =G15/G14-1 -> 0.025142208 | H27: =H15/H14-1 -> 0.025497735 | I27: =I15/I14-1 -> 0.027300019 | ... P27: =P15/P14-1 -> 0.028913032 | Q27: =MIN(B27:N27) -> 0.025142208 | R27: =MAX(B27:N27) -> 0.031384761
A28: 2018 | B28: =B16/B15-1 -> 0.031194431 | C28: =C16/C15-1 -> 0.030659816 | D28: =D16/D15-1 -> 0.03180483 | E28: =E16/E15-1 -> 0.032430281 | F28: =F16/F15-1 -> 0.034829782 | G28: =G16/G15-1 -> 0.036401291 | H28: =H16/H15-1 -> 0.036367134 | I28: =I16/I15-1 -> 0.035697777 | ... P28: =P16/P15-1 -> 0.034029606 | Q28: =MIN(B28:N28) -> 0.030550191 | R28: =MAX(B28:N28) -> 0.036401291
A29: 2019 | B29: =B17/B16-1 -> 0.027010725 | C29: =C17/C16-1 -> 0.023958982 | D29: =D17/D16-1 -> 0.02442968 | E29: =E17/E16-1 -> 0.028564668 | F29: =F17/F16-1 -> 0.029022945 | G29: =G17/G16-1 -> 0.027395235 | H29: =H17/H16-1 -> 0.026737786 | I29: =I17/I16-1 -> 0.025980068 | ... P29: =P17/P16-1 -> 0.02709656 | Q29: =MIN(B29:N29) -> 0.023958982 | R29: =MAX(B29:N29) -> 0.029022945
A30: 2020 | B30: =B18/B17-1 -> 0.02904858 | C30: =C18/C17-1 -> 0.030790902 | D30: =D18/D17-1 -> 0.024778397 | E30: =E18/E17-1 -> 0.012581533 | F30: =F18/F17-1 -> 0.0080552274 | G30: =G18/G17-1 -> 0.011802611 | H30: =H18/H17-1 -> 0.016854285 | I30: =I18/I17-1 -> 0.019092102 | ... P30: =P18/P17-1 -> 0.01541106 | Q30: =MIN(B30:N30) -> 0.0080552274 | R30: =MAX(B30:N30) -> 0.030790902
A31: 2021 | B31: =B19/B18-1 -> 0.014260628 | C31: =C19/C18-1 -> 0.015633427 | D31: =D19/D18-1 -> 0.024197522 | E31: =E19/E18-1 -> 0.038818231 | F31: =F19/F18-1 -> 0.046623111 | G31: =G19/G18-1 -> 0.051459941 | H31: =H19/H18-1 -> 0.051763989 | I31: =I19/I18-1 -> 0.050462482 | ... P31: =P19/P18-1 -> 0.058466079 | Q31: =MIN(B31:N31) -> 0.014260628 | R31: =MAX(B31:N31) -> 0.070533238
A32: 2022 | B32: =B20/B19-1 -> 0.077431665 | C32: =C20/C19-1 -> 0.080573516 | D32: =D20/D19-1 -> 0.087151893 | E32: =E20/E19-1 -> 0.08337713 | F32: =F20/F19-1 -> 0.083459007 | G32: =G20/G19-1 -> 0.087534647 | H32: =H20/H19-1 -> 0.083101327 | I32: =I20/I19-1 -> 0.081338049 | ... P32: =P20/P19-1 -> 0.07693622 | Q32: =MIN(B32:N32) -> 0.062468339 | R32: =MAX(B32:N32) -> 0.087534647
A33: 2023 | B33: =B21/B20-1 -> 0.062844613 | C33: =C21/C20-1 -> 0.059676316 | D33: =D21/D20-1 -> 0.051241961 | E33: =E21/E20-1 -> 0.048973612 | F33: =F21/F20-1 -> 0.044825526 | G33: =G21/G20-1 -> 0.034935055 | H33: =H21/H20-1 -> 0.034763387 | I33: =I21/I20-1 -> 0.038918771 | ... P33: =P21/P20-1 -> 0.035780242 | Q33: =MIN(B33:N33) -> 0.03280502 | R33: =MAX(B33:N33) -> 0.062844613
A34: 2024 | B34: =B22/B21-1 -> 0.033312649 | C34: =C22/C21-1 -> 0.031990098 | D34: =D22/D21-1 -> 0.035816847 | E34: =E22/E21-1 -> 0.036820232 | F34: =F22/F21-1 -> 0.033280272 | G34: =G22/G21-1 -> 0.028399004 | H34: =H22/H21-1 -> 0.025576778 | I34: =I22/I21-1 -> 0.02209457 | ... P34: =P22/P21-1 -> 0.023083616 | Q34: =MIN(B34:N34) -> 0.020684538 | R34: =MAX(B34:N34) -> 0.036820232
A35: 2025 | B35: =B23/B22-1 -> 0.024191213 | C35: =C23/C22-1 -> 0.025897328 | D35: =D23/D22-1 -> 0.022350859 | E35: =E23/E22-1 -> 0.021281245 | F35: =F23/F22-1 -> 0.024083735 | G35: =G23/G22-1 -> 0.026826549 | H35: =H23/H22-1 -> 0.030194433 | Q35: =MIN(B35:N35) -> 0.021281245 | R35: =MAX(B35:N35) -> 0.030194433
B37: 2026 | C37: 2025 | D37: =C37-1 -> 2024 | E37: =D37-1 -> 2023 | F37: =E37-1 -> 2022 | G37: =F37-1 -> 2021 | H37: =G37-1 -> 2020 | I37: =H37-1 -> 2019 | J37: =I37-1 -> 2018 | K37: =J37-1 -> 2017 | L37: =K37-1 -> 2016 | M37: 2015
A38: Minimum | C38: =Q35 -> 0.021281245 | D38: =Q34 -> 0.020684538 | E38: =Q33 -> 0.03280502 | F38: =Q32 -> 0.062468339 | G38: =Q31 -> 0.014260628 | H38: =Q30 -> 0.0080552274 | I38: =Q29 -> 0.023958982 | J38: =Q28 -> 0.030550191 | K38: =Q27 -> 0.025142208 | L38: =R26 -> 0.026359738
A39: Mximum | C39: =R35 -> 0.030194433 | D39: =R34 -> 0.036820232 | E39: =R33 -> 0.062844613 | F39: =R32 -> 0.087534647 | G39: =R31 -> 0.070533238 | H39: =R30 -> 0.030790902 | I39: =R29 -> 0.029022945 | J39: =R28 -> 0.036401291 | K39: =R27 -> 0.031384761 | L39: =R26 -> 0.026359738
A41: Total Revenue | B41: 63928125 | C41: 61438092 | D41: 58404027 | E41: 55286744 | F41: 59494527 | G41: 55012149 | H41: 53300778 | I41: 54058216 | J41: 53026366 | K41: 50728902 | L41: 50917085 | M41: 50400330

Sheet Total Sources
A5: Description | B5: 2026 | C5: =+B5-1 -> 2025 | D5: =+C5-1 -> 2024 | E5: =+D5-1 -> 2023 | F5: =+E5-1 -> 2022 | G5: =+F5-1 -> 2021 | H5: =+G5-1 -> 2020 | I5: =+H5-1 -> 2019 | J5: =+I5-1 -> 2018 | ... L5: =+K5-1 -> 2016
A7: Local (GF) | C7: 614151 | D7: 731835 | E7: 755952 | F7: 582494 | G7: 46991384 | H7: 41543182 | I7: 41248262 | J7: 39206004 | K7: 37219831 | L7: 37355817
A8: Local (SpEd) | C8: 21294 | D8: 29662 | E8: 31941 | F8: 3465 | G8: 2070 | H8: 11985 | I8: 17339 | J8: 12651 | K8: 5770 | L8: 3099
A9: Local (Grants) | C9: 63819 | D9: 155471 | E9: 163348 | F9: 404612 | G9: 269429 | H9: 853910 | I9: 790949 | J9: 2402594 | K9: 571844
A10: Local (Non-major) | C10: 3079538 | D10: 4459995 | E10: 4446974 | F10: 3870663 | G10: 988326 | H10: 522824 | I10: 717823 | J10: 669487 | K10: 534243 | L10: 872610
A11: Total Local | B11: =SUM(B6:B10) -> 0 | C11: =SUM(C6:C10) -> 3778802 | D11: =SUM(D6:D10) -> 5376963 | E11: =SUM(E6:E10) -> 5398215 | F11: =SUM(F6:F10) -> 4861234 | G11: =SUM(G6:G10) -> 48251209 | H11: =SUM(H6:H10) -> 42931901 | I11: =SUM(I6:I10) -> 42774373 | ... L11: =SUM(L6:L10) -> 38231526
A13: State (GF) | C13: 58453818 | D13: 57690410 | E13: 54492791 | F13: 58888252 | G13: 7930203 | H13: 11721372 | I13: 12798551 | J13: 13802093 | K13: 13456581 | L13: 13518543
A14: State (SpEd) | C14: 4318634 | D14: 4241172 | E14: 4215423 | F14: 4062193 | G14: 3980640 | H14: 3846568 | I14: 3622802 | J14: 3473743 | K14: 3250009 | L14: 3250009
A15: State (Grants) | C15: 545219 | D15: 2435696 | E15: 155072 | F15: 185000 | G15: 1788427 | H15: 2204935 | I15: 1742732 | J15: 2211328 | K15: 4225010
A16: State (Non-major) | C16: 1125872 | D16: 1471469 | E16: 665235 | F16: 754169 | G16: 1545726 | H16: 1446296 | I16: 927846 | J16: 1554402 | K16: 2806624 | L16: 4120963
A17: Total State | B17: =SUM(B12:B16) -> 0 | C17: =SUM(C12:C16) -> 64443543 | D17: =SUM(D12:D16) -> 65838747 | E17: =SUM(E12:E16) -> 59528521 | F17: =SUM(F12:F16) -> 63889614 | G17: =SUM(G12:G16) -> 15244996 | H17: =SUM(H12:H16) -> 19219171 | I17: =SUM(I12:I16) -> 19091931 | ... L17: =SUM(L12:L16) -> 20889515
A19: Total State and Local | B19: =+B11+B17 -> 0 | C19: =+C11+C17 -> 68222345 | D19: =+D11+D17 -> 71215710 | E19: =+E11+E17 -> 64926736 | F19: =+F11+F17 -> 68750848 | G19: =+G11+G17 -> 63496205 | H19: =+H11+H17 -> 62151072 | I19: =+I11+I17 -> 61866304 | ... L19: =+L11+L17 -> 59121041
A22: Federal (GF) | H22: 20416 | K22: 29015 | L22: 43384
A23: Federal (SpEd)
A24: Federal (Grants) | C24: 5857440 | D24: 5438230 | E24: 5458733 | F24: 5888797 | G24: 3782921 | H24: 1918126 | I24: 2283297 | J24: 2161936 | K24: 2869380
A25: Federal (Non-major) | C25: 1112882 | D25: 2786531 | E25: 2916824 | F25: 2815397 | G25: 1804078 | H25: 1032370 | I25: 1061545 | J25: 962609 | K25: 997607 | L25: 4357205
A26: Total Federal | B26: =SUM(B21:B25) -> 0 | C26: =SUM(C21:C25) -> 6970322 | D26: =SUM(D21:D25) -> 8224761 | E26: =SUM(E21:E25) -> 8375557 | F26: =SUM(F21:F25) -> 8704194 | G26: =SUM(G21:G25) -> 5586999 | H26: =SUM(H21:H25) -> 2970912 | I26: =SUM(I21:I25) -> 3344842 | ... L26: =SUM(L21:L25) -> 4400589
A28: Total All Sources | B28: =+B11+B17+B26 -> 0 | C28: =+C11+C17+C26 -> 75192667 | D28: =+D11+D17+D26 -> 79440471 | E28: =+E11+E17+E26 -> 73302293 | F28: =+F11+F17+F26 -> 77455042 | G28: =+G11+G17+G26 -> 69083204 | H28: =+H11+H17+H26 -> 65121984 | I28: =+I11+I17+I26 -> 65211146 | ... L28: =+L11+L17+L26 -> 63521630
A32: Verification
A33: Local | C33: =10450989-4310185-2362002 -> 3778802 | D33: =9434880-4019223-38694 -> 5376963 | E33: =9102782-3670033-34534 -> 5398215 | F33: =8230701-3339650-29817 -> 4861234 | G33: =53719777-3213887-2243668-11013 -> 48251209 | H33: =47904259-3075997-1837556-58805 -> 42931901 | I33: =41248262+790949+717823+17339 -> 42774373 | J33: =46820062-2758949-1770377 -> 42290736 | K33: =42565279-2658414-1575177 -> 38331688 | L33: =37355817+3099+872610 -> 38231526
A34: State | C34: 64443543 | D34: 65838747 | E34: 59528521 | F34: 63889614 | G34: 15244996 | H34: 19219171 | I34: 19091931 | J34: 21041566 | K34: 23738224 | L34: =13518543+3250009+4120963 -> 20889515
A35: Federal | C35: =7066483-96161 -> 6970322 | D35: =8346935-122174 -> 8224761 | E35: =8483968-108411 -> 8375557 | F35: =8807275-103081 -> 8704194 | G35: =5694107-107108 -> 5586999 | H35: =3308177-337265 -> 2970912 | I35: =3761360-416518 -> 3344842 | J35: =3467207-342662 -> 3124545 | K35: =4239420-343418 -> 3896002 | L35: =4742214-341625 -> 4400589
A36: Total All Sources | B36: =SUM(B32:B35) -> 0 | C36: =SUM(C32:C35) -> 75192667 | D36: =SUM(D32:D35) -> 79440471 | E36: =SUM(E32:E35) -> 73302293 | F36: =SUM(F32:F35) -> 77455042 | G36: =SUM(G32:G35) -> 69083204 | H36: =SUM(H32:H35) -> 65121984 | I36: =SUM(I32:I35) -> 65211146 | ... L36: =SUM(L32:L35) -> 63521630
B38: =+B11-B33 -> 0 | C38: =+C11-C33 -> 0 | D38: =+D11-D33 -> 0 | E38: =+E11-E33 -> 0 | F38: =+F11-F33 -> 0 | G38: =+G11-G33 -> 0 | H38: =+H11-H33 -> 0 | I38: =+I11-I33 -> 0 | ... L38: =+L11-L33 -> 0
B39: =+B17-B34 -> 0 | C39: =+C17-C34 -> 0 | D39: =+D17-D34 -> 0 | E39: =+E17-E34 -> 0 | F39: =+F17-F34 -> 0 | G39: =+G17-G34 -> 0 | H39: =+H17-H34 -> 0 | I39: =+I17-I34 -> 0 | ... L39: =+L17-L34 -> 0
B40: =+B26-B35 -> 0 | C40: =+C26-C35 -> 0 | D40: =+D26-D35 -> 0 | E40: =+E26-E35 -> 0 | F40: =+F26-F35 -> 0 | G40: =+G26-G35 -> 0 | H40: =+H26-H35 -> 0 | I40: =+I26-I35 -> 0 | ... L40: =+L26-L35 -> 0

Sheet SpEd
C1: Special Education
D2: Final Budget | E2: Audited
C3: Description | D3: 2026 | E3: 2025 | F3: 2024 | G3: =F3-1 -> 2023 | H3: =G3-1 -> 2022 | I3: =H3-1 -> 2021 | J3: =I3-1 -> 2020 | K3: =J3-1 -> 2019 | L3: =K3-1 -> 2018 | M3: =L3-1 -> 2017 | N3: =M3-1 -> 2016 | O3: =N3-1 -> 2015 | P3: % Change from 2015 - 2026
C4: Revenue
C5: Local Sources | E5: 21294 | F5: 29662 | G5: 31941 | H5: 3465 | I5: 2070 | J5: 11985 | K5: 17339 | L5: 12651 | M5: 5770 | N5: 3099 | O5: 1090
C6: State Sources | E6: 4318634 | F6: 4241172 | G6: 4215423 | H6: 4062193 | I6: 3980640 | J6: 3846568 | K6: 3622802 | L6: 3473743 | M6: 3250009 | N6: 3250009 | O6: 3056268
C7: Federal Sources
C8: Transfers In | E8: 5600000 | F8: 5700000 | G8: 4200000 | H8: 400000 | I8: 4000000 | J8: 3800000 | K8: 4200000 | L8: 4300000 | M8: 4261000 | N8: 4920000 | O8: 5200000
C9: Total Revenue | D9: =SUM(D5:D8) -> 0 | E9: =SUM(E5:E8) -> 9939928 | F9: =SUM(F5:F8) -> 9970834 | G9: =SUM(G5:G8) -> 8447364 | H9: =SUM(H5:H8) -> 4465658 | I9: =SUM(I5:I8) -> 7982710 | J9: =SUM(J5:J8) -> 7658553 | K9: =SUM(K5:K8) -> 7840141 | ... O9: =SUM(O5:O8) -> 8257358
C11: Expenditures | D11: =+E8/E31 -> 0.5225085
A12: 100 | B12: 1000 | C12: Regular Programs
A13: 200 | B13: 1000 | C13: Special Programs | E13: 10586857 | F13: =8207961+1599257+414814 -> 10222032 | G13: 8528241 | H13: 4573477 | I13: 7643995 | J13: 8007118 | K13: 7573758 | L13: 7386753 | M13: 7254182 | N13: 8133290 | O13: 7800489
A14: 300 | B14: 1000 | C14: Vocational
A15: 600 | B15: 1000 | C15: Adult Education
A16: 900 | B16: 1000 | C16: Extra and Cocurricular
A17: 400 | B17: 1000 | C17: Other Instructional | E17: 130672 | F17: 326 | G17: 48 | H17: 317 | I17: 43914 | J17: 61671 | K17: 107691 | L17: 136770 | M17: 268469 | N17: 259030 | O17: 336749
B18: 3000 | C18: Community Services
B19: 2100 | C19: Student Support
B20: 2200 | C20: Instructional Staff Support
B21: 2300 | C21: General Admin
B22: 2400 | C22: School Admin
B23: 2500 | C23: Central Services
B24: 2600 | C24: Operations and Maintenance
B25: 2700 | C25: Student Transportation
B26: 2900 | C26: Other Support
B27: 4000 | C27: Facilities Capital
B28: 8000 | C28: Debt
B29: 9000 | C29: Transfers to Other Funds
C31: Total Expenditures (exc. EFB & Cont) | D31: =SUM(D11:D30) -> 0.5225085 | E31: =SUM(E11:E30) -> 10717529 | F31: =SUM(F11:F30) -> 10222358 | G31: =SUM(G11:G30) -> 8528289 | H31: =SUM(H11:H30) -> 4573794 | I31: =SUM(I11:I30) -> 7687909 | J31: =SUM(J11:J30) -> 8068789 | K31: =SUM(K11:K30) -> 7681449 | ... O31: =SUM(O11:O30) -> 8137238
C33: Net Change in Fund Balance | D33: =+D9-D31 -> -0.5225085 | E33: =+E9-E31 -> -777601 | F33: =+F9-F31 -> -251524 | G33: =+G9-G31 -> -80925 | H33: =+H9-H31 -> -108136 | I33: =+I9-I31 -> 294801 | J33: =+J9-J31 -> -410236 | K33: =+K9-K31 -> 158692 | ... O33: =+O9-O31 -> 120120
C35: Ending Fund Balance | E35: =+F35+E33 -> -476339 | F35: =+G35+F33 -> 301262 | G35: =+H35+G33 -> 552786 | H35: =+I35+H33 -> 633711 | I35: =+J35+I33 -> 741847 | J35: =+K35+J33 -> 447046 | K35: =+L35+K33 -> 857282 | L35: =+M35+L33 -> 698590 | ... N35: =+O35+N33 -> 441591 | O35: 660803
C37: Increase/-Decrease Fm Prior Year
C38: Increase/-Decrease Fm Base Year
E43: =+E35+'FY2026-FY2015'!I36 -> -1425250
E45: -3484784.8
E47: =+E43+E45 -> -4910034.8

Sheet English Learner
C1: English Learners
D2: Final Budget | E2: Final Budget
C3: Description | D3: 2026 | E3: 2025 | F3: 2024 | G3: =F3-1 -> 2023 | H3: =G3-1 -> 2022 | I3: =H3-1 -> 2021 | J3: =I3-1 -> 2020 | K3: =J3-1 -> 2019 | L3: =K3-1 -> 2018 | M3: =L3-1 -> 2017 | N3: =M3-1 -> 2016 | O3: =N3-1 -> 2015 | P3: % Change from 2015 - 2026
C4: Revenue
C5: Local Sources
C6: State Sources | D6: 687050 | E6: 715932 | F6: 681857 | G6: 371568 | H6: 371244
C7: Federal Sources
C8: Other Sources
C9: Total Revenue | D9: =SUM(D5:D8) -> 687050 | E9: =SUM(E5:E8) -> 715932 | F9: =SUM(F5:F8) -> 681857 | G9: =SUM(G5:G8) -> 371568 | H9: =SUM(H5:H8) -> 371244 | I9: =SUM(I5:I8) -> 0 | J9: =SUM(J5:J8) -> 0 | K9: =SUM(K5:K8) -> 0 | ... O9: =SUM(O5:O8) -> 0
C11: Expenditures
A12: 100 | B12: 1000 | C12: Regular Programs
A13: 200 | B13: 1000 | C13: Special Programs
A14: 300 | B14: 1000 | C14: Vocational
A15: 600 | B15: 1000 | C15: Adult Education
A16: 900 | B16: 1000 | C16: Extra and Cocurricular
A17: 400 | B17: 1000 | C17: Other Instructional | D17: 687050 | E17: 715932 | F17: 708326 | G17: 355443 | H17: 360900
B18: 3000 | C18: Community Services
B19: 2100 | C19: Student Support
B20: 2200 | C20: Instructional Staff Support
B21: 2300 | C21: General Admin
B22: 2400 | C22: School Admin
B23: 2500 | C23: Central Services
B24: 2600 | C24: Operations and Maintenance
B25: 2700 | C25: Student Transportation
B26: 2900 | C26: Other Support
B27: 4000 | C27: Facilities Capital
B28: 8000 | C28: Debt
B29: 9000 | C29: Transfers to Other Funds
C31: Total Expenditures (exc. EFB & Cont) | D31: =SUM(D11:D30) -> 687050 | E31: =SUM(E11:E30) -> 715932 | F31: =SUM(F11:F30) -> 708326 | G31: =SUM(G11:G30) -> 355443 | H31: =SUM(H11:H30) -> 360900 | I31: =SUM(I11:I30) -> 0 | J31: =SUM(J11:J30) -> 0 | K31: =SUM(K11:K30) -> 0 | ... O31: =SUM(O11:O30) -> 0
C33: Net Change in Fund Balance | D33: =+D9-D31 -> 0 | E33: =+E9-E31 -> 0 | F33: =+F9-F31 -> -26469 | G33: =+G9-G31 -> 16125 | H33: =+H9-H31 -> 10344 | I33: =+I9-I31 -> 0 | J33: =+J9-J31 -> 0 | K33: =+K9-K31 -> 0 | ... O33: =+O9-O31 -> 0
C35: Eding Fund Balance
C37: Increase/-Decrease Fm Prior Year
C38: Increase/-Decrease Fm Base Year

Sheet At-risk
C1: At-risk
D2: Final Budget | E2: Final Budget
C3: Description | D3: 2026 | E3: 2025 | F3: 2024 | G3: =F3-1 -> 2023 | H3: =G3-1 -> 2022 | I3: =H3-1 -> 2021 | J3: =I3-1 -> 2020 | K3: =J3-1 -> 2019 | L3: =K3-1 -> 2018 | M3: =L3-1 -> 2017 | N3: =M3-1 -> 2016 | O3: =N3-1 -> 2015 | P3: % Change from 2015 - 2026
C4: Revenue
C5: Local Sources
C6: State Sources | D6: 477948 | E6: 563426 | F6: 536610 | G6: 156844 | H6: 156708
C7: Federal Sources
C8: Other Sources
C9: Total Revenue | D9: =SUM(D5:D8) -> 477948 | E9: =SUM(E5:E8) -> 563426 | F9: =SUM(F5:F8) -> 536610 | G9: =SUM(G5:G8) -> 156844 | H9: =SUM(H5:H8) -> 156708 | I9: =SUM(I5:I8) -> 0 | J9: =SUM(J5:J8) -> 0 | K9: =SUM(K5:K8) -> 0 | ... O9: =SUM(O5:O8) -> 0
C11: Expenditures
A12: 100 | B12: 1000 | C12: Regular Programs
A13: 200 | B13: 1000 | C13: Special Programs
A14: 300 | B14: 1000 | C14: Vocational
A15: 600 | B15: 1000 | C15: Adult Education
A16: 900 | B16: 1000 | C16: Extra and Cocurricular
A17: 400 | B17: 1000 | C17: Other Instructional | D17: 477948 | E17: 563426 | F17: 536610 | G17: 156844 | H17: 156708
B18: 3000 | C18: Community Services
B19: 2100 | C19: Student Support
B20: 2200 | C20: Instructional Staff Support
B21: 2300 | C21: General Admin
B22: 2400 | C22: School Admin
B23: 2500 | C23: Central Services
B24: 2600 | C24: Operations and Maintenance
B25: 2700 | C25: Student Transportation
B26: 2900 | C26: Other Support
B27: 4000 | C27: Facilities Capital
B28: 8000 | C28: Debt
B29: 9000 | C29: Transfers to Other Funds
C31: Total Expenditures (exc. EFB & Cont) | D31: =SUM(D11:D30) -> 477948 | E31: =SUM(E11:E30) -> 563426 | F31: =SUM(F11:F30) -> 536610 | G31: =SUM(G11:G30) -> 156844 | H31: =SUM(H11:H30) -> 156708 | I31: =SUM(I11:I30) -> 0 | J31: =SUM(J11:J30) -> 0 | K31: =SUM(K11:K30) -> 0 | ... O31: =SUM(O11:O30) -> 0
C33: Net Change in Fund Balance | D33: =+D9-D31 -> 0 | E33: =+E9-E31 -> 0 | F33: =+F9-F31 -> 0 | G33: =+G9-G31 -> 0 | H33: =+H9-H31 -> 0 | I33: =+I9-I31 -> 0 | J33: =+J9-J31 -> 0 | K33: =+K9-K31 -> 0 | ... O33: =+O9-O31 -> 0
C35: Eding Fund Balance
C37: Increase/-Decrease Fm Prior Year
C38: Increase/-Decrease Fm Base Year

Sheet Staffing Comparisons
A2: Staffing Comparison
A3: General Fund | B3: 2022-23 | C3: Actual | D3: Vacant Budgeted | E3: Amt Budgeted | G3: 2023-24 | H3: Actual | I3: Vacant Budgeted | J3: Amt Budgeted | K3: 2024-25 | L3: Budgeted | M3: Vacant Budgeted | N3: Amt Budgeted | O3: 2025-26 | P3: Budgeted
A4: Teacher FTE | B4: 281.78 | C4: 17580315 | D4: 5.5 | E4: 273061 | G4: 275.5 | H4: 19469885 | I4: 11.6 | J4: 699892 | K4: 275 | L4: 19981713 | M4: 5 | N4: 224212 | O4: 264 | P4: 18170653
A5: Classified FTE | B5: 147.89 | C5: 6207938 | D5: 6.44 | E5: 268775 | G5: 151.2 | H5: 6877151 | I5: 4.19 | J5: 119334 | K5: 143.32 | L5: 6977234 | M5: 2.44 | N5: 107131 | O5: 135 | P5: 7056323
A6: Bus Driver FTE | B6: 32.13 | C6: 1048923 | D6: 2.5 | E6: 82596 | G6: 30.875 | H6: 1309042 | I6: 1.75 | J6: 65621 | K6: 28.13 | L6: 1337086 | M6: 0.88 | N6: 33013 | O6: 28.13 | P6: 1133662
A7: Unrepresented FTE | B7: 13 | C7: 863749 | D7: 0 | E7: 0 | G7: 13 | H7: 845725 | I7: 0 | J7: 0 | K7: 14 | L7: 1226378 | M7: 0 | N7: 0 | O7: 13 | P7: 1158536
A8: Admin FTE | B8: 26.5 | C8: 2709827 | D8: 1 | E8: 78008 | G8: 27.5 | H8: 3255903 | I8: 2 | J8: 205954 | K8: 26.9 | L8: 3318222 | M8: 1 | N8: 78008 | O8: 26.4 | P8: 3316526
A10: Special Ed
A11: Teacher FTE | B11: 51.63 | C11: 2486424 | D11: 5.5 | E11: 273061 | G11: 48.3 | H11: 3651257 | I11: 4.5 | J11: 250088 | K11: 48.8 | L11: 3813408 | M11: 2 | N11: 165088 | O11: 48.8 | P11: 4163138
A12: Classified FTE | B12: 59.94 | C12: 1735702 | D12: 6.63 | E12: 183339 | G12: 60.57 | H12: 2114402 | I12: 5.75 | J12: 206476 | K12: 58.36 | L12: 2140871 | M12: 3.31 | N12: 90670 | O12: 53.5 | P12: 1911385
A13: Bus Driver FTE | B13: 6 | C13: 274121 | D13: 0 | E13: 0 | G13: 6 | H13: 260578 | I13: 0 | J13: 0 | K13: 6 | L13: 373176 | M13: 0 | N13: 0 | O13: 6 | P13: 260063
A14: Unrepresented FTE | B14: 7 | C14: 837037 | D14: 0 | E14: 0 | G14: 6 | H14: 598739 | I14: 0 | J14: 0 | K14: 7 | L14: 728755 | M14: 0 | N14: 0 | O14: 7 | P14: 789253
A15: Admin FTE | B15: 3 | C15: 274290 | D15: 0 | E15: 0 | G15: 2.65 | H15: 302977 | I15: 0 | J15: 0 | K15: 2.35 | L15: 263128 | M15: 0 | N15: 0 | O15: 2 | P15: 250029
B17: Actuals | G17: Actual | K17: Budgeted | O17: Budgeted
A18: Insurance revenue | B18: 8862855 | G18: 8829868 | K18: 8820000 | O18: 8820000
A19: Transfer to Ins | B19: 1000000 | G19: 1000000 | K19: 1000000 | O19: 1000000
A20: Insurance expenditures | B20: -10200663 | G20: -9189061 | K20: -9364030 | O20: -9714030
A22: Opening Fund Bal | B22: 659909 | G22: 322101 | K22: 962908 | O22: 1418878
A23: Ending Fund Bal | B23: 322101 | G23: 962908 | K23: 1418878 | O23: 1524848

Sheet NRS 387.303 Staff FY2023
A1: NRS 387/388A REPORT, FOR THE FISCAL YEAR ENDED JUNE 30, 2023 | H1: SCHEDULE II: STAFF POSITIONS IN FULL TIME EQUIVALENTS
B3: Douglas
A4: SCHOOL DISTRICT/CHARTER SCHOOL: | E4: GENERAL FUND - Fund 100 | I4: English Learner - Fund 206 | M4: Gifted and Talented FUND - Fund 207 | Q4: At-Risk - Fund 208 | U4: STATE SPECIAL ED FUND - Fund 250 | Y4: OTHER GOVT FUNDS-Funds 260,270-2,290,300,400 | AC4: STATE GRANTS - Funds 230, 240 | AG4: ALL FEDERAL GRANTS - Fund 280 | AK4: TOTAL - ALL FUNDS
E5: FY | F5: FY | G5: FY | H5: FY | I5: FY | J5: FY | K5: FY | L5: FY | M5: FY | N5: FY | O5: FY | P5: FY | Q5: FY | R5: FY | S5: FY | T5: FY | U5: FY | V5: FY | W5: FY | X5: FY | Y5: FY | Z5: FY | AA5: FY | AB5: FY | AC5: FY | AD5: FY | AE5: FY | AF5: FY | AG5: FY | AH5: FY | AI5: FY | AJ5: FY | AK5: FY | AL5: FY | AM5: FY | AN5: FY
E6: 2023 | F6: 2024 | G6: 2025 | H6: 2026 | I6: 2023 | J6: 2024 | K6: 2025 | L6: 2026 | M6: 2023 | N6: 2024 | O6: 2025 | P6: 2026 | Q6: 2023 | R6: 2024 | S6: 2025 | T6: 2026 | U6: 2023 | V6: 2024 | W6: 2025 | X6: 2026 | Y6: 2023 | Z6: 2024 | AA6: 2025 | AB6: 2026 | AC6: 2023 | AD6: 2024 | AE6: 2025 | AF6: 2026 | AG6: 2023 | AH6: 2024 | AI6: 2025 | AJ6: 2026 | AK6: 2023 | AL6: 2024 | AM6: 2025 | AN6: 2026
