Workbook

Sheet Mileage Reimbursement Page 1
D3: Hazelwood School District Mileage Report | G3: Mileage Rate | H3: 0.725
D5: Please use this form for travel that occurred AFTER January 01, 2026. | G5: PLEASE SEE MILEAGE PROCEDURES ON MILEAGE PROCEDURES TAB OF THIS FORM FOR ADDITIONAL INFORMATION
A6: Name:
A7: Employee #:
A8: Building/Dept: | F8: Month(s):
A10: Date | D10: Purpose | E10: Start Location | F10: End Location | G10: Total Miles | H10: Total Reimbursement | L10: Location | M10: Description
A11: Date | B11: Time | C11: Drive Classification (Business/Personal) | D11: Purpose | E11: Start Location | F11: End Location | G11: Total Miles | H11: Total Reimbursement
G12: {=IF(ISERROR(INDEX('Mileage Chart'!$A$3:$AI$37,VLOOKUP(E12,'Mileage Chart'!$AK$3:$AL$36,2,FALSE),VLOOKUP(F12,'Mileage Chart'!$AK$3:$AL$36,2,FALSE))),"",INDEX('Mileage Chart'!$A$3:$AI$37,VLOOKUP(E12,'Mileage Chart'!$AK$3:$AL$36,2,FALSE),VLOOKUP(F12,'Mileage Chart'!$AK$3:$AL$36,2,FALSE)))} | H12: =+IFERROR('Mileage Reimbursement Page 1'!$G12*$H$3,0) -> 0 | L12: ADM | M12: THE LEARNING CENTER
G13: {=IF(ISERROR(INDEX('Mileage Chart'!$A$3:$AI$37,VLOOKUP(E13,'Mileage Chart'!$AK$3:$AL$36,2,FALSE),VLOOKUP(F13,'Mileage Chart'!$AK$3:$AL$36,2,FALSE))),"",INDEX('Mileage Chart'!$A$3:$AI$37,VLOOKUP(E13,'Mileage Chart'!$AK$3:$AL$36,2,FALSE),VLOOKUP(F13,'Mileage Chart'!$AK$3:$AL$36,2,FALSE)))} | H13: =+IFERROR('Mileage Reimbursement Page 1'!$G13*$H$3,0) -> 0 | L13: CHS | M13: CENTRAL HIGH SCHOOL
G14: {=IF(ISERROR(INDEX('Mileage Chart'!$A$3:$AI$37,VLOOKUP(E14,'Mileage Chart'!$AK$3:$AL$36,2,FALSE),VLOOKUP(F14,'Mileage Chart'!$AK$3:$AL$36,2,FALSE))),"",INDEX('Mileage Chart'!$A$3:$AI$37,VLOOKUP(E14,'Mileage Chart'!$AK$3:$AL$36,2,FALSE),VLOOKUP(F14,'Mileage Chart'!$AK$3:$AL$36,2,FALSE)))} | H14: =+IFERROR('Mileage Reimbursement Page 1'!$G14*$H$3,0) -> 0 | L14: WHS | M14: WEST HIGH SCHOOL
G15: {=IF(ISERROR(INDEX('Mileage Chart'!$A$3:$AI$37,VLOOKUP(E15,'Mileage Chart'!$AK$3:$AL$36,2,FALSE),VLOOKUP(F15,'Mileage Chart'!$AK$3:$AL$36,2,FALSE))),"",INDEX('Mileage Chart'!$A$3:$AI$37,VLOOKUP(E15,'Mileage Chart'!$AK$3:$AL$36,2,FALSE),VLOOKUP(F15,'Mileage Chart'!$AK$3:$AL$36,2,FALSE)))} | H15: =+IFERROR('Mileage Reimbursement Page 1'!$G15*$H$3,0) -> 0 | L15: EHS | M15: EAST HIGH SCHOOL
G16: {=IF(ISERROR(INDEX('Mileage Chart'!$A$3:$AI$37,VLOOKUP(E16,'Mileage Chart'!$AK$3:$AL$36,2,FALSE),VLOOKUP(F16,'Mileage Chart'!$AK$3:$AL$36,2,FALSE))),"",INDEX('Mileage Chart'!$A$3:$AI$37,VLOOKUP(E16,'Mileage Chart'!$AK$3:$AL$36,2,FALSE),VLOOKUP(F16,'Mileage Chart'!$AK$3:$AL$36,2,FALSE)))} | H16: =+IFERROR('Mileage Reimbursement Page 1'!$G16*$H$3,0) -> 0 | L16: HOC | M16: OPPORTUNITY CENTER
G17: {=IF(ISERROR(INDEX('Mileage Chart'!$A$3:$AI$37,VLOOKUP(E17,'Mileage Chart'!$AK$3:$AL$36,2,FALSE),VLOOKUP(F17,'Mileage Chart'!$AK$3:$AL$36,2,FALSE))),"",INDEX('Mileage Chart'!$A$3:$AI$37,VLOOKUP(E17,'Mileage Chart'!$AK$3:$AL$36,2,FALSE),VLOOKUP(F17,'Mileage Chart'!$AK$3:$AL$36,2,FALSE)))} | H17: =+IFERROR('Mileage Reimbursement Page 1'!$G17*$H$3,0) -> 0 | L17: NWMS | M17: NORTHWEST MIDDLE
G18: {=IF(ISERROR(INDEX('Mileage Chart'!$A$3:$AI$37,VLOOKUP(E18,'Mileage Chart'!$AK$3:$AL$36,2,FALSE),VLOOKUP(F18,'Mileage Chart'!$AK$3:$AL$36,2,FALSE))),"",INDEX('Mileage Chart'!$A$3:$AI$37,VLOOKUP(E18,'Mileage Chart'!$AK$3:$AL$36,2,FALSE),VLOOKUP(F18,'Mileage Chart'!$AK$3:$AL$36,2,FALSE)))} | H18: =+IFERROR('Mileage Reimbursement Page 1'!$G18*$H$3,0) -> 0 | L18: WMS | M18: WEST MIDDLE
G19: {=IF(ISERROR(INDEX('Mileage Chart'!$A$3:$AI$37,VLOOKUP(E19,'Mileage Chart'!$AK$3:$AL$36,2,FALSE),VLOOKUP(F19,'Mileage Chart'!$AK$3:$AL$36,2,FALSE))),"",INDEX('Mileage Chart'!$A$3:$AI$37,VLOOKUP(E19,'Mileage Chart'!$AK$3:$AL$36,2,FALSE),VLOOKUP(F19,'Mileage Chart'!$AK$3:$AL$36,2,FALSE)))} | H19: =+IFERROR('Mileage Reimbursement Page 1'!$G19*$H$3,0) -> 0 | L19: EMS | M19: EAST MIDDLE
G20: {=IF(ISERROR(INDEX('Mileage Chart'!$A$3:$AI$37,VLOOKUP(E20,'Mileage Chart'!$AK$3:$AL$36,2,FALSE),VLOOKUP(F20,'Mileage Chart'!$AK$3:$AL$36,2,FALSE))),"",INDEX('Mileage Chart'!$A$3:$AI$37,VLOOKUP(E20,'Mileage Chart'!$AK$3:$AL$36,2,FALSE),VLOOKUP(F20,'Mileage Chart'!$AK$3:$AL$36,2,FALSE)))} | H20: =+IFERROR('Mileage Reimbursement Page 1'!$G20*$H$3,0) -> 0 | L20: SEMS | M20: SOUTHEAST MIDDLE
G21: {=IF(ISERROR(INDEX('Mileage Chart'!$A$3:$AI$37,VLOOKUP(E21,'Mileage Chart'!$AK$3:$AL$36,2,FALSE),VLOOKUP(F21,'Mileage Chart'!$AK$3:$AL$36,2,FALSE))),"",INDEX('Mileage Chart'!$A$3:$AI$37,VLOOKUP(E21,'Mileage Chart'!$AK$3:$AL$36,2,FALSE),VLOOKUP(F21,'Mileage Chart'!$AK$3:$AL$36,2,FALSE)))} | H21: =+IFERROR('Mileage Reimbursement Page 1'!$G21*$H$3,0) -> 0 | L21: CMS | M21: CENTRAL MIDDLE
G22: {=IF(ISERROR(INDEX('Mileage Chart'!$A$3:$AI$37,VLOOKUP(E22,'Mileage Chart'!$AK$3:$AL$36,2,FALSE),VLOOKUP(F22,'Mileage Chart'!$AK$3:$AL$36,2,FALSE))),"",INDEX('Mileage Chart'!$A$3:$AI$37,VLOOKUP(E22,'Mileage Chart'!$AK$3:$AL$36,2,FALSE),VLOOKUP(F22,'Mileage Chart'!$AK$3:$AL$36,2,FALSE)))} | H22: =+IFERROR('Mileage Reimbursement Page 1'!$G22*$H$3,0) -> 0 | L22: NMS | M22: NORTH MIDDLE
G23: {=IF(ISERROR(INDEX('Mileage Chart'!$A$3:$AI$37,VLOOKUP(E23,'Mileage Chart'!$AK$3:$AL$36,2,FALSE),VLOOKUP(F23,'Mileage Chart'!$AK$3:$AL$36,2,FALSE))),"",INDEX('Mileage Chart'!$A$3:$AI$37,VLOOKUP(E23,'Mileage Chart'!$AK$3:$AL$36,2,FALSE),VLOOKUP(F23,'Mileage Chart'!$AK$3:$AL$36,2,FALSE)))} | H23: =+IFERROR('Mileage Reimbursement Page 1'!$G23*$H$3,0) -> 0 | L23: ARM | M23: ARMSTRONG ELEM
... G45: {=IF(ISERROR(INDEX('Mileage Chart'!$A$3:$AI$37,VLOOKUP(E45,'Mileage Chart'!$AK$3:$AL$36,2,FALSE),VLOOKUP(F45,'Mileage Chart'!$AK$3:$AL$36,2,FALSE))),"",INDEX('Mileage Chart'!$A$3:$AI$37,VLOOKUP(E45,'Mileage Chart'!$AK$3:$AL$36,2,FALSE),VLOOKUP(F45,'Mileage Chart'!$AK$3:$AL$36,2,FALSE)))} | H45: =+IFERROR('Mileage Reimbursement Page 1'!$G45*$H$3,0) -> 0 | L45: ECEE | M45: EARLY CHILDHOOD EAST
G46: {=IF(ISERROR(INDEX('Mileage Chart'!$A$3:$AI$37,VLOOKUP(E46,'Mileage Chart'!$AK$3:$AL$36,2,FALSE),VLOOKUP(F46,'Mileage Chart'!$AK$3:$AL$36,2,FALSE))),"",INDEX('Mileage Chart'!$A$3:$AI$37,VLOOKUP(E46,'Mileage Chart'!$AK$3:$AL$36,2,FALSE),VLOOKUP(F46,'Mileage Chart'!$AK$3:$AL$36,2,FALSE)))} | H46: =+IFERROR('Mileage Reimbursement Page 1'!$G46*$H$3,0) -> 0
G47: {=IF(ISERROR(INDEX('Mileage Chart'!$A$3:$AI$37,VLOOKUP(E47,'Mileage Chart'!$AK$3:$AL$36,2,FALSE),VLOOKUP(F47,'Mileage Chart'!$AK$3:$AL$36,2,FALSE))),"",INDEX('Mileage Chart'!$A$3:$AI$37,VLOOKUP(E47,'Mileage Chart'!$AK$3:$AL$36,2,FALSE),VLOOKUP(F47,'Mileage Chart'!$AK$3:$AL$36,2,FALSE)))} | H47: =+IFERROR('Mileage Reimbursement Page 1'!$G47*$H$3,0) -> 0
G48: {=IF(ISERROR(INDEX('Mileage Chart'!$A$3:$AI$37,VLOOKUP(E48,'Mileage Chart'!$AK$3:$AL$36,2,FALSE),VLOOKUP(F48,'Mileage Chart'!$AK$3:$AL$36,2,FALSE))),"",INDEX('Mileage Chart'!$A$3:$AI$37,VLOOKUP(E48,'Mileage Chart'!$AK$3:$AL$36,2,FALSE),VLOOKUP(F48,'Mileage Chart'!$AK$3:$AL$36,2,FALSE)))} | H48: =+IFERROR('Mileage Reimbursement Page 1'!$G48*$H$3,0) -> 0
G49: {=IF(ISERROR(INDEX('Mileage Chart'!$A$3:$AI$37,VLOOKUP(E49,'Mileage Chart'!$AK$3:$AL$36,2,FALSE),VLOOKUP(F49,'Mileage Chart'!$AK$3:$AL$36,2,FALSE))),"",INDEX('Mileage Chart'!$A$3:$AI$37,VLOOKUP(E49,'Mileage Chart'!$AK$3:$AL$36,2,FALSE),VLOOKUP(F49,'Mileage Chart'!$AK$3:$AL$36,2,FALSE)))} | H49: =+IFERROR('Mileage Reimbursement Page 1'!$G49*$H$3,0) -> 0
G50: {=IF(ISERROR(INDEX('Mileage Chart'!$A$3:$AI$37,VLOOKUP(E50,'Mileage Chart'!$AK$3:$AL$36,2,FALSE),VLOOKUP(F50,'Mileage Chart'!$AK$3:$AL$36,2,FALSE))),"",INDEX('Mileage Chart'!$A$3:$AI$37,VLOOKUP(E50,'Mileage Chart'!$AK$3:$AL$36,2,FALSE),VLOOKUP(F50,'Mileage Chart'!$AK$3:$AL$36,2,FALSE)))} | H50: =+IFERROR('Mileage Reimbursement Page 1'!$G50*$H$3,0) -> 0
G51: {=IF(ISERROR(INDEX('Mileage Chart'!$A$3:$AI$37,VLOOKUP(E51,'Mileage Chart'!$AK$3:$AL$36,2,FALSE),VLOOKUP(F51,'Mileage Chart'!$AK$3:$AL$36,2,FALSE))),"",INDEX('Mileage Chart'!$A$3:$AI$37,VLOOKUP(E51,'Mileage Chart'!$AK$3:$AL$36,2,FALSE),VLOOKUP(F51,'Mileage Chart'!$AK$3:$AL$36,2,FALSE)))} | H51: =+IFERROR('Mileage Reimbursement Page 1'!$G51*$H$3,0) -> 0
G52: {=IF(ISERROR(INDEX('Mileage Chart'!$A$3:$AI$37,VLOOKUP(E52,'Mileage Chart'!$AK$3:$AL$36,2,FALSE),VLOOKUP(F52,'Mileage Chart'!$AK$3:$AL$36,2,FALSE))),"",INDEX('Mileage Chart'!$A$3:$AI$37,VLOOKUP(E52,'Mileage Chart'!$AK$3:$AL$36,2,FALSE),VLOOKUP(F52,'Mileage Chart'!$AK$3:$AL$36,2,FALSE)))} | H52: =+IFERROR('Mileage Reimbursement Page 1'!$G52*$H$3,0) -> 0
G53: {=IF(ISERROR(INDEX('Mileage Chart'!$A$3:$AI$37,VLOOKUP(E53,'Mileage Chart'!$AK$3:$AL$36,2,FALSE),VLOOKUP(F53,'Mileage Chart'!$AK$3:$AL$36,2,FALSE))),"",INDEX('Mileage Chart'!$A$3:$AI$37,VLOOKUP(E53,'Mileage Chart'!$AK$3:$AL$36,2,FALSE),VLOOKUP(F53,'Mileage Chart'!$AK$3:$AL$36,2,FALSE)))} | H53: =+IFERROR('Mileage Reimbursement Page 1'!$G53*$H$3,0) -> 0
G54: {=IF(ISERROR(INDEX('Mileage Chart'!$A$3:$AI$37,VLOOKUP(E54,'Mileage Chart'!$AK$3:$AL$36,2,FALSE),VLOOKUP(F54,'Mileage Chart'!$AK$3:$AL$36,2,FALSE))),"",INDEX('Mileage Chart'!$A$3:$AI$37,VLOOKUP(E54,'Mileage Chart'!$AK$3:$AL$36,2,FALSE),VLOOKUP(F54,'Mileage Chart'!$AK$3:$AL$36,2,FALSE)))} | H54: =+IFERROR('Mileage Reimbursement Page 1'!$G54*$H$3,0) -> 0
G55: {=IF(ISERROR(INDEX('Mileage Chart'!$A$3:$AI$37,VLOOKUP(E55,'Mileage Chart'!$AK$3:$AL$36,2,FALSE),VLOOKUP(F55,'Mileage Chart'!$AK$3:$AL$36,2,FALSE))),"",INDEX('Mileage Chart'!$A$3:$AI$37,VLOOKUP(E55,'Mileage Chart'!$AK$3:$AL$36,2,FALSE),VLOOKUP(F55,'Mileage Chart'!$AK$3:$AL$36,2,FALSE)))} | H55: =+IFERROR('Mileage Reimbursement Page 1'!$G55*$H$3,0) -> 0
G56: {=IF(ISERROR(INDEX('Mileage Chart'!$A$3:$AI$37,VLOOKUP(E56,'Mileage Chart'!$AK$3:$AL$36,2,FALSE),VLOOKUP(F56,'Mileage Chart'!$AK$3:$AL$36,2,FALSE))),"",INDEX('Mileage Chart'!$A$3:$AI$37,VLOOKUP(E56,'Mileage Chart'!$AK$3:$AL$36,2,FALSE),VLOOKUP(F56,'Mileage Chart'!$AK$3:$AL$36,2,FALSE)))} | H56: =+IFERROR('Mileage Reimbursement Page 1'!$G56*$H$3,0) -> 0
G57: {=IF(ISERROR(INDEX('Mileage Chart'!$A$3:$AI$37,VLOOKUP(E57,'Mileage Chart'!$AK$3:$AL$36,2,FALSE),VLOOKUP(F57,'Mileage Chart'!$AK$3:$AL$36,2,FALSE))),"",INDEX('Mileage Chart'!$A$3:$AI$37,VLOOKUP(E57,'Mileage Chart'!$AK$3:$AL$36,2,FALSE),VLOOKUP(F57,'Mileage Chart'!$AK$3:$AL$36,2,FALSE)))} | H57: =+IFERROR('Mileage Reimbursement Page 1'!$G57*$H$3,0) -> 0
A58: TOTAL | G58: =SUBTOTAL(109,G12:G57) -> 0 | H58: =SUBTOTAL(109,H12:H57) -> 0
F60: GRAND TOTAL FROM ALL PAGES | H60: =+'Mileage Reimbursement Page 3'!H57 -> 0
A63: Signature | F63: Date
A68: Supervisor Approval | F68: Date
A70: All individuals must submit mileage reimbrursements on a monthly basis, unless the amount is less than $20.00. In that case, the request should be carried over until the next
A71: month, or until the total exceeds $20.00 or if the request is 3 months old. The only exception will be for the month of June. June mileage must be cut-off by June 15th and
A72: submitted by June 20th to be paid from the current fiscal year. Mileage older than 3 months will not be reimbursed.
A74: Mileage should be submitted for the entire month claimed for reimbursement.
A76: Purchase requests should still be entered for mileage, with this form being sent to Accounts Payable for processing.
A78: A mileage chart detailing the mileage between Hazelwood School District buildings is available on the Hazelwood

Sheet Mileage Reimbursement Page 2
D3: Hazelwood School District Mileage Report Page 2 | G3: Mileage Rate | H3: =+'Mileage Reimbursement Page 1'!H3 -> 0.725
G5: PLEASE SEE MILEAGE PROCEDURES ON SECOND TAB OF THIS FORM FOR ADDITIONAL INFORMATION
A6: Name: | D6: =+'Mileage Reimbursement Page 1'!D6
A7: Employee #: | D7: =+'Mileage Reimbursement Page 1'!D7
A8: Building/Dept: | D8: =+'Mileage Reimbursement Page 1'!D8 | F8: Month(s): | G8: =+'Mileage Reimbursement Page 1'!G8:H8
A10: Date | D10: Purpose | E10: Start Location | F10: End Location | G10: Total Miles | H10: Total Reimbursement | L10: Location | M10: Description
A11: Date | B11: Time | C11: Drive Classification (Business/Personal) | D11: Purpose | E11: Start Location | F11: End Location | G11: Total Miles | H11: Total Reimbursement
D12: FROM PAGE 1 OF MILEAGE SHEET | G12: =+'Mileage Reimbursement Page 1'!G58 -> 0 | H12: =+'Mileage Reimbursement Page 1'!H58 -> 0
G13: {=IF(ISERROR(INDEX('Mileage Chart'!$A$3:$AI$37,VLOOKUP(E13,'Mileage Chart'!$AK$3:$AL$36,2,FALSE),VLOOKUP(F13,'Mileage Chart'!$AK$3:$AL$36,2,FALSE))),"",INDEX('Mileage Chart'!$A$3:$AI$37,VLOOKUP(E13,'Mileage Chart'!$AK$3:$AL$36,2,FALSE),VLOOKUP(F13,'Mileage Chart'!$AK$3:$AL$36,2,FALSE)))} | H13: =+IFERROR('Mileage Reimbursement Page 2'!$G13*$H$3,0) -> 0 | L13: ADM | M13: THE LEARNING CENTER
G14: {=IF(ISERROR(INDEX('Mileage Chart'!$A$3:$AI$37,VLOOKUP(E14,'Mileage Chart'!$AK$3:$AL$36,2,FALSE),VLOOKUP(F14,'Mileage Chart'!$AK$3:$AL$36,2,FALSE))),"",INDEX('Mileage Chart'!$A$3:$AI$37,VLOOKUP(E14,'Mileage Chart'!$AK$3:$AL$36,2,FALSE),VLOOKUP(F14,'Mileage Chart'!$AK$3:$AL$36,2,FALSE)))} | H14: =+IFERROR('Mileage Reimbursement Page 2'!$G14*$H$3,0) -> 0 | L14: CHS | M14: CENTRAL HIGH SCHOOL
G15: {=IF(ISERROR(INDEX('Mileage Chart'!$A$3:$AI$37,VLOOKUP(E15,'Mileage Chart'!$AK$3:$AL$36,2,FALSE),VLOOKUP(F15,'Mileage Chart'!$AK$3:$AL$36,2,FALSE))),"",INDEX('Mileage Chart'!$A$3:$AI$37,VLOOKUP(E15,'Mileage Chart'!$AK$3:$AL$36,2,FALSE),VLOOKUP(F15,'Mileage Chart'!$AK$3:$AL$36,2,FALSE)))} | H15: =+IFERROR('Mileage Reimbursement Page 2'!$G15*$H$3,0) -> 0 | L15: WHS | M15: WEST HIGH SCHOOL
G16: {=IF(ISERROR(INDEX('Mileage Chart'!$A$3:$AI$37,VLOOKUP(E16,'Mileage Chart'!$AK$3:$AL$36,2,FALSE),VLOOKUP(F16,'Mileage Chart'!$AK$3:$AL$36,2,FALSE))),"",INDEX('Mileage Chart'!$A$3:$AI$37,VLOOKUP(E16,'Mileage Chart'!$AK$3:$AL$36,2,FALSE),VLOOKUP(F16,'Mileage Chart'!$AK$3:$AL$36,2,FALSE)))} | H16: =+IFERROR('Mileage Reimbursement Page 2'!$G16*$H$3,0) -> 0 | L16: EHS | M16: EAST HIGH SCHOOL
G17: {=IF(ISERROR(INDEX('Mileage Chart'!$A$3:$AI$37,VLOOKUP(E17,'Mileage Chart'!$AK$3:$AL$36,2,FALSE),VLOOKUP(F17,'Mileage Chart'!$AK$3:$AL$36,2,FALSE))),"",INDEX('Mileage Chart'!$A$3:$AI$37,VLOOKUP(E17,'Mileage Chart'!$AK$3:$AL$36,2,FALSE),VLOOKUP(F17,'Mileage Chart'!$AK$3:$AL$36,2,FALSE)))} | H17: =+IFERROR('Mileage Reimbursement Page 2'!$G17*$H$3,0) -> 0 | L17: NWMS | M17: NORTHWEST MIDDLE
G18: {=IF(ISERROR(INDEX('Mileage Chart'!$A$3:$AI$37,VLOOKUP(E18,'Mileage Chart'!$AK$3:$AL$36,2,FALSE),VLOOKUP(F18,'Mileage Chart'!$AK$3:$AL$36,2,FALSE))),"",INDEX('Mileage Chart'!$A$3:$AI$37,VLOOKUP(E18,'Mileage Chart'!$AK$3:$AL$36,2,FALSE),VLOOKUP(F18,'Mileage Chart'!$AK$3:$AL$36,2,FALSE)))} | H18: =+IFERROR('Mileage Reimbursement Page 2'!$G18*$H$3,0) -> 0 | L18: WMS | M18: WEST MIDDLE
G19: {=IF(ISERROR(INDEX('Mileage Chart'!$A$3:$AI$37,VLOOKUP(E19,'Mileage Chart'!$AK$3:$AL$36,2,FALSE),VLOOKUP(F19,'Mileage Chart'!$AK$3:$AL$36,2,FALSE))),"",INDEX('Mileage Chart'!$A$3:$AI$37,VLOOKUP(E19,'Mileage Chart'!$AK$3:$AL$36,2,FALSE),VLOOKUP(F19,'Mileage Chart'!$AK$3:$AL$36,2,FALSE)))} | H19: =+IFERROR('Mileage Reimbursement Page 2'!$G19*$H$3,0) -> 0 | L19: EMS | M19: EAST MIDDLE
G20: {=IF(ISERROR(INDEX('Mileage Chart'!$A$3:$AI$37,VLOOKUP(E20,'Mileage Chart'!$AK$3:$AL$36,2,FALSE),VLOOKUP(F20,'Mileage Chart'!$AK$3:$AL$36,2,FALSE))),"",INDEX('Mileage Chart'!$A$3:$AI$37,VLOOKUP(E20,'Mileage Chart'!$AK$3:$AL$36,2,FALSE),VLOOKUP(F20,'Mileage Chart'!$AK$3:$AL$36,2,FALSE)))} | H20: =+IFERROR('Mileage Reimbursement Page 2'!$G20*$H$3,0) -> 0 | L20: SEMS | M20: SOUTHEAST MIDDLE
G21: {=IF(ISERROR(INDEX('Mileage Chart'!$A$3:$AI$37,VLOOKUP(E21,'Mileage Chart'!$AK$3:$AL$36,2,FALSE),VLOOKUP(F21,'Mileage Chart'!$AK$3:$AL$36,2,FALSE))),"",INDEX('Mileage Chart'!$A$3:$AI$37,VLOOKUP(E21,'Mileage Chart'!$AK$3:$AL$36,2,FALSE),VLOOKUP(F21,'Mileage Chart'!$AK$3:$AL$36,2,FALSE)))} | H21: =+IFERROR('Mileage Reimbursement Page 2'!$G21*$H$3,0) -> 0 | L21: CMS | M21: CENTRAL MIDDLE
G22: {=IF(ISERROR(INDEX('Mileage Chart'!$A$3:$AI$37,VLOOKUP(E22,'Mileage Chart'!$AK$3:$AL$36,2,FALSE),VLOOKUP(F22,'Mileage Chart'!$AK$3:$AL$36,2,FALSE))),"",INDEX('Mileage Chart'!$A$3:$AI$37,VLOOKUP(E22,'Mileage Chart'!$AK$3:$AL$36,2,FALSE),VLOOKUP(F22,'Mileage Chart'!$AK$3:$AL$36,2,FALSE)))} | H22: =+IFERROR('Mileage Reimbursement Page 2'!$G22*$H$3,0) -> 0 | L22: NMS | M22: NORTH MIDDLE
G23: {=IF(ISERROR(INDEX('Mileage Chart'!$A$3:$AI$37,VLOOKUP(E23,'Mileage Chart'!$AK$3:$AL$36,2,FALSE),VLOOKUP(F23,'Mileage Chart'!$AK$3:$AL$36,2,FALSE))),"",INDEX('Mileage Chart'!$A$3:$AI$37,VLOOKUP(E23,'Mileage Chart'!$AK$3:$AL$36,2,FALSE),VLOOKUP(F23,'Mileage Chart'!$AK$3:$AL$36,2,FALSE)))} | H23: =+IFERROR('Mileage Reimbursement Page 2'!$G23*$H$3,0) -> 0 | L23: ARM | M23: ARMSTRONG ELEM
G24: {=IF(ISERROR(INDEX('Mileage Chart'!$A$3:$AI$37,VLOOKUP(E24,'Mileage Chart'!$AK$3:$AL$36,2,FALSE),VLOOKUP(F24,'Mileage Chart'!$AK$3:$AL$36,2,FALSE))),"",INDEX('Mileage Chart'!$A$3:$AI$37,VLOOKUP(E24,'Mileage Chart'!$AK$3:$AL$36,2,FALSE),VLOOKUP(F24,'Mileage Chart'!$AK$3:$AL$36,2,FALSE)))} | H24: =+IFERROR('Mileage Reimbursement Page 2'!$G24*$H$3,0) -> 0 | L24: ARR | M24: ARROWPOINT ELEM.
... G45: {=IF(ISERROR(INDEX('Mileage Chart'!$A$3:$AI$37,VLOOKUP(E45,'Mileage Chart'!$AK$3:$AL$36,2,FALSE),VLOOKUP(F45,'Mileage Chart'!$AK$3:$AL$36,2,FALSE))),"",INDEX('Mileage Chart'!$A$3:$AI$37,VLOOKUP(E45,'Mileage Chart'!$AK$3:$AL$36,2,FALSE),VLOOKUP(F45,'Mileage Chart'!$AK$3:$AL$36,2,FALSE)))} | H45: =+IFERROR('Mileage Reimbursement Page 2'!$G45*$H$3,0) -> 0 | L45: ECEE | M45: EARLY CHILDHOOD EAST
G46: {=IF(ISERROR(INDEX('Mileage Chart'!$A$3:$AI$37,VLOOKUP(E46,'Mileage Chart'!$AK$3:$AL$36,2,FALSE),VLOOKUP(F46,'Mileage Chart'!$AK$3:$AL$36,2,FALSE))),"",INDEX('Mileage Chart'!$A$3:$AI$37,VLOOKUP(E46,'Mileage Chart'!$AK$3:$AL$36,2,FALSE),VLOOKUP(F46,'Mileage Chart'!$AK$3:$AL$36,2,FALSE)))} | H46: =+IFERROR('Mileage Reimbursement Page 2'!$G46*$H$3,0) -> 0
G47: {=IF(ISERROR(INDEX('Mileage Chart'!$A$3:$AI$37,VLOOKUP(E47,'Mileage Chart'!$AK$3:$AL$36,2,FALSE),VLOOKUP(F47,'Mileage Chart'!$AK$3:$AL$36,2,FALSE))),"",INDEX('Mileage Chart'!$A$3:$AI$37,VLOOKUP(E47,'Mileage Chart'!$AK$3:$AL$36,2,FALSE),VLOOKUP(F47,'Mileage Chart'!$AK$3:$AL$36,2,FALSE)))} | H47: =+IFERROR('Mileage Reimbursement Page 2'!$G47*$H$3,0) -> 0
G48: {=IF(ISERROR(INDEX('Mileage Chart'!$A$3:$AI$37,VLOOKUP(E48,'Mileage Chart'!$AK$3:$AL$36,2,FALSE),VLOOKUP(F48,'Mileage Chart'!$AK$3:$AL$36,2,FALSE))),"",INDEX('Mileage Chart'!$A$3:$AI$37,VLOOKUP(E48,'Mileage Chart'!$AK$3:$AL$36,2,FALSE),VLOOKUP(F48,'Mileage Chart'!$AK$3:$AL$36,2,FALSE)))} | H48: =+IFERROR('Mileage Reimbursement Page 2'!$G48*$H$3,0) -> 0
G49: {=IF(ISERROR(INDEX('Mileage Chart'!$A$3:$AI$37,VLOOKUP(E49,'Mileage Chart'!$AK$3:$AL$36,2,FALSE),VLOOKUP(F49,'Mileage Chart'!$AK$3:$AL$36,2,FALSE))),"",INDEX('Mileage Chart'!$A$3:$AI$37,VLOOKUP(E49,'Mileage Chart'!$AK$3:$AL$36,2,FALSE),VLOOKUP(F49,'Mileage Chart'!$AK$3:$AL$36,2,FALSE)))} | H49: =+IFERROR('Mileage Reimbursement Page 2'!$G49*$H$3,0) -> 0
G50: {=IF(ISERROR(INDEX('Mileage Chart'!$A$3:$AI$37,VLOOKUP(E50,'Mileage Chart'!$AK$3:$AL$36,2,FALSE),VLOOKUP(F50,'Mileage Chart'!$AK$3:$AL$36,2,FALSE))),"",INDEX('Mileage Chart'!$A$3:$AI$37,VLOOKUP(E50,'Mileage Chart'!$AK$3:$AL$36,2,FALSE),VLOOKUP(F50,'Mileage Chart'!$AK$3:$AL$36,2,FALSE)))} | H50: =+IFERROR('Mileage Reimbursement Page 2'!$G50*$H$3,0) -> 0
G51: {=IF(ISERROR(INDEX('Mileage Chart'!$A$3:$AI$37,VLOOKUP(E51,'Mileage Chart'!$AK$3:$AL$36,2,FALSE),VLOOKUP(F51,'Mileage Chart'!$AK$3:$AL$36,2,FALSE))),"",INDEX('Mileage Chart'!$A$3:$AI$37,VLOOKUP(E51,'Mileage Chart'!$AK$3:$AL$36,2,FALSE),VLOOKUP(F51,'Mileage Chart'!$AK$3:$AL$36,2,FALSE)))} | H51: =+IFERROR('Mileage Reimbursement Page 2'!$G51*$H$3,0) -> 0
G52: {=IF(ISERROR(INDEX('Mileage Chart'!$A$3:$AI$37,VLOOKUP(E52,'Mileage Chart'!$AK$3:$AL$36,2,FALSE),VLOOKUP(F52,'Mileage Chart'!$AK$3:$AL$36,2,FALSE))),"",INDEX('Mileage Chart'!$A$3:$AI$37,VLOOKUP(E52,'Mileage Chart'!$AK$3:$AL$36,2,FALSE),VLOOKUP(F52,'Mileage Chart'!$AK$3:$AL$36,2,FALSE)))} | H52: =+IFERROR('Mileage Reimbursement Page 2'!$G52*$H$3,0) -> 0
G53: {=IF(ISERROR(INDEX('Mileage Chart'!$A$3:$AI$37,VLOOKUP(E53,'Mileage Chart'!$AK$3:$AL$36,2,FALSE),VLOOKUP(F53,'Mileage Chart'!$AK$3:$AL$36,2,FALSE))),"",INDEX('Mileage Chart'!$A$3:$AI$37,VLOOKUP(E53,'Mileage Chart'!$AK$3:$AL$36,2,FALSE),VLOOKUP(F53,'Mileage Chart'!$AK$3:$AL$36,2,FALSE)))} | H53: =+IFERROR('Mileage Reimbursement Page 2'!$G53*$H$3,0) -> 0
G54: {=IF(ISERROR(INDEX('Mileage Chart'!$A$3:$AI$37,VLOOKUP(E54,'Mileage Chart'!$AK$3:$AL$36,2,FALSE),VLOOKUP(F54,'Mileage Chart'!$AK$3:$AL$36,2,FALSE))),"",INDEX('Mileage Chart'!$A$3:$AI$37,VLOOKUP(E54,'Mileage Chart'!$AK$3:$AL$36,2,FALSE),VLOOKUP(F54,'Mileage Chart'!$AK$3:$AL$36,2,FALSE)))} | H54: =+IFERROR('Mileage Reimbursement Page 2'!$G54*$H$3,0) -> 0
G55: {=IF(ISERROR(INDEX('Mileage Chart'!$A$3:$AI$37,VLOOKUP(E55,'Mileage Chart'!$AK$3:$AL$36,2,FALSE),VLOOKUP(F55,'Mileage Chart'!$AK$3:$AL$36,2,FALSE))),"",INDEX('Mileage Chart'!$A$3:$AI$37,VLOOKUP(E55,'Mileage Chart'!$AK$3:$AL$36,2,FALSE),VLOOKUP(F55,'Mileage Chart'!$AK$3:$AL$36,2,FALSE)))} | H55: =+IFERROR('Mileage Reimbursement Page 2'!$G55*$H$3,0) -> 0
G56: {=IF(ISERROR(INDEX('Mileage Chart'!$A$3:$AI$37,VLOOKUP(E56,'Mileage Chart'!$AK$3:$AL$36,2,FALSE),VLOOKUP(F56,'Mileage Chart'!$AK$3:$AL$36,2,FALSE))),"",INDEX('Mileage Chart'!$A$3:$AI$37,VLOOKUP(E56,'Mileage Chart'!$AK$3:$AL$36,2,FALSE),VLOOKUP(F56,'Mileage Chart'!$AK$3:$AL$36,2,FALSE)))} | H56: =+IFERROR('Mileage Reimbursement Page 2'!$G56*$H$3,0) -> 0
G57: {=IF(ISERROR(INDEX('Mileage Chart'!$A$3:$AI$37,VLOOKUP(E57,'Mileage Chart'!$AK$3:$AL$36,2,FALSE),VLOOKUP(F57,'Mileage Chart'!$AK$3:$AL$36,2,FALSE))),"",INDEX('Mileage Chart'!$A$3:$AI$37,VLOOKUP(E57,'Mileage Chart'!$AK$3:$AL$36,2,FALSE),VLOOKUP(F57,'Mileage Chart'!$AK$3:$AL$36,2,FALSE)))} | H57: =+IFERROR('Mileage Reimbursement Page 2'!$G57*$H$3,0) -> 0
A58: TOTAL PAGE 1 AND PAGE 2 | G58: =SUBTOTAL(109,G12:G57) -> 0 | H58: =SUBTOTAL(109,H12:H57) -> 0
A63: Signature | F63: Date
A68: Supervisor Approval | F68: Date
A70: All individuals must submit mileage reimbrursements on a monthly basis, unless the amount is less than $20.00. In that case, the request should be carried over until the next
A71: month, or until the total exceeds $20.00 or if the request is 3 months old. The only exception will be for the month of June. June mileage must be cut-off by June 15th and
A72: submitted by June 20th to be paid from the current fiscal year. Mileage older than 3 months will not be reimbursed.
A74: Mileage should be submitted for the entire month claimed for reimbursement.
A76: Purchase requests should still be entered for mileage, with this form being sent to Accounts Payable for processing.
A78: A mileage chart detailing the mileage between Hazelwood School District buildings is available on the Hazelwood

Sheet Mileage Reimbursement Page 3
D3: Hazelwood School District Mileage Report Page 3 | G3: Mileage Rate | H3: =+'Mileage Reimbursement Page 2'!H3 -> 0.725
G5: PLEASE SEE MILEAGE PROCEDURES ON SECOND TAB OF THIS FORM FOR ADDITIONAL INFORMATION
A6: Name: | D6: =+'Mileage Reimbursement Page 1'!D6
A7: Employee #: | D7: =+'Mileage Reimbursement Page 1'!D7
A8: Building/Dept: | D8: =+'Mileage Reimbursement Page 1'!D8 | F8: Month(s): | G8: =+'Mileage Reimbursement Page 1'!G8:H8
A10: Date | D10: Purpose | E10: Start Location | F10: End Location | G10: Total Miles | H10: Total Reimbursement | L10: Location | M10: Description
A11: Date | B11: Time | C11: Drive Classification (Business/Personal) | D11: Purpose | E11: Start Location | F11: End Location | G11: Total Miles | H11: Total Reimbursement
D12: TOTAL FROM PAGE PAGE 1 AND 2 OF MILEAGE SHEETS | G12: =+'Mileage Reimbursement Page 2'!G58 -> 0 | H12: =+'Mileage Reimbursement Page 2'!H58 -> 0 | L12: ADM | M12: THE LEARNING CENTER
G13: {=IF(ISERROR(INDEX('Mileage Chart'!$A$3:$AI$37,VLOOKUP(E13,'Mileage Chart'!$AK$3:$AL$36,2,FALSE),VLOOKUP(F13,'Mileage Chart'!$AK$3:$AL$36,2,FALSE))),"",INDEX('Mileage Chart'!$A$3:$AI$37,VLOOKUP(E13,'Mileage Chart'!$AK$3:$AL$36,2,FALSE),VLOOKUP(F13,'Mileage Chart'!$AK$3:$AL$36,2,FALSE)))} | H13: =+IFERROR('Mileage Reimbursement Page 3'!$G13*$H$3,0) -> 0 | L13: CHS | M13: CENTRAL HIGH SCHOOL
G14: {=IF(ISERROR(INDEX('Mileage Chart'!$A$3:$AI$37,VLOOKUP(E14,'Mileage Chart'!$AK$3:$AL$36,2,FALSE),VLOOKUP(F14,'Mileage Chart'!$AK$3:$AL$36,2,FALSE))),"",INDEX('Mileage Chart'!$A$3:$AI$37,VLOOKUP(E14,'Mileage Chart'!$AK$3:$AL$36,2,FALSE),VLOOKUP(F14,'Mileage Chart'!$AK$3:$AL$36,2,FALSE)))} | H14: =+IFERROR('Mileage Reimbursement Page 3'!$G14*$H$3,0) -> 0 | L14: WHS | M14: WEST HIGH SCHOOL
G15: {=IF(ISERROR(INDEX('Mileage Chart'!$A$3:$AI$37,VLOOKUP(E15,'Mileage Chart'!$AK$3:$AL$36,2,FALSE),VLOOKUP(F15,'Mileage Chart'!$AK$3:$AL$36,2,FALSE))),"",INDEX('Mileage Chart'!$A$3:$AI$37,VLOOKUP(E15,'Mileage Chart'!$AK$3:$AL$36,2,FALSE),VLOOKUP(F15,'Mileage Chart'!$AK$3:$AL$36,2,FALSE)))} | H15: =+IFERROR('Mileage Reimbursement Page 3'!$G15*$H$3,0) -> 0 | L15: EHS | M15: EAST HIGH SCHOOL
G16: {=IF(ISERROR(INDEX('Mileage Chart'!$A$3:$AI$37,VLOOKUP(E16,'Mileage Chart'!$AK$3:$AL$36,2,FALSE),VLOOKUP(F16,'Mileage Chart'!$AK$3:$AL$36,2,FALSE))),"",INDEX('Mileage Chart'!$A$3:$AI$37,VLOOKUP(E16,'Mileage Chart'!$AK$3:$AL$36,2,FALSE),VLOOKUP(F16,'Mileage Chart'!$AK$3:$AL$36,2,FALSE)))} | H16: =+IFERROR('Mileage Reimbursement Page 3'!$G16*$H$3,0) -> 0 | L16: NWMS | M16: NORTHWEST MIDDLE
G17: {=IF(ISERROR(INDEX('Mileage Chart'!$A$3:$AI$37,VLOOKUP(E17,'Mileage Chart'!$AK$3:$AL$36,2,FALSE),VLOOKUP(F17,'Mileage Chart'!$AK$3:$AL$36,2,FALSE))),"",INDEX('Mileage Chart'!$A$3:$AI$37,VLOOKUP(E17,'Mileage Chart'!$AK$3:$AL$36,2,FALSE),VLOOKUP(F17,'Mileage Chart'!$AK$3:$AL$36,2,FALSE)))} | H17: =+IFERROR('Mileage Reimbursement Page 3'!$G17*$H$3,0) -> 0 | L17: WMS | M17: WEST MIDDLE
G18: {=IF(ISERROR(INDEX('Mileage Chart'!$A$3:$AI$37,VLOOKUP(E18,'Mileage Chart'!$AK$3:$AL$36,2,FALSE),VLOOKUP(F18,'Mileage Chart'!$AK$3:$AL$36,2,FALSE))),"",INDEX('Mileage Chart'!$A$3:$AI$37,VLOOKUP(E18,'Mileage Chart'!$AK$3:$AL$36,2,FALSE),VLOOKUP(F18,'Mileage Chart'!$AK$3:$AL$36,2,FALSE)))} | H18: =+IFERROR('Mileage Reimbursement Page 3'!$G18*$H$3,0) -> 0 | L18: EMS | M18: EAST MIDDLE
G19: {=IF(ISERROR(INDEX('Mileage Chart'!$A$3:$AI$37,VLOOKUP(E19,'Mileage Chart'!$AK$3:$AL$36,2,FALSE),VLOOKUP(F19,'Mileage Chart'!$AK$3:$AL$36,2,FALSE))),"",INDEX('Mileage Chart'!$A$3:$AI$37,VLOOKUP(E19,'Mileage Chart'!$AK$3:$AL$36,2,FALSE),VLOOKUP(F19,'Mileage Chart'!$AK$3:$AL$36,2,FALSE)))} | H19: =+IFERROR('Mileage Reimbursement Page 3'!$G19*$H$3,0) -> 0 | L19: SEMS | M19: SOUTHEAST MIDDLE
G20: {=IF(ISERROR(INDEX('Mileage Chart'!$A$3:$AI$37,VLOOKUP(E20,'Mileage Chart'!$AK$3:$AL$36,2,FALSE),VLOOKUP(F20,'Mileage Chart'!$AK$3:$AL$36,2,FALSE))),"",INDEX('Mileage Chart'!$A$3:$AI$37,VLOOKUP(E20,'Mileage Chart'!$AK$3:$AL$36,2,FALSE),VLOOKUP(F20,'Mileage Chart'!$AK$3:$AL$36,2,FALSE)))} | H20: =+IFERROR('Mileage Reimbursement Page 3'!$G20*$H$3,0) -> 0 | L20: CMS | M20: CENTRAL MIDDLE
G21: {=IF(ISERROR(INDEX('Mileage Chart'!$A$3:$AI$37,VLOOKUP(E21,'Mileage Chart'!$AK$3:$AL$36,2,FALSE),VLOOKUP(F21,'Mileage Chart'!$AK$3:$AL$36,2,FALSE))),"",INDEX('Mileage Chart'!$A$3:$AI$37,VLOOKUP(E21,'Mileage Chart'!$AK$3:$AL$36,2,FALSE),VLOOKUP(F21,'Mileage Chart'!$AK$3:$AL$36,2,FALSE)))} | H21: =+IFERROR('Mileage Reimbursement Page 3'!$G21*$H$3,0) -> 0 | L21: NMS | M21: NORTH MIDDLE
G22: {=IF(ISERROR(INDEX('Mileage Chart'!$A$3:$AI$37,VLOOKUP(E22,'Mileage Chart'!$AK$3:$AL$36,2,FALSE),VLOOKUP(F22,'Mileage Chart'!$AK$3:$AL$36,2,FALSE))),"",INDEX('Mileage Chart'!$A$3:$AI$37,VLOOKUP(E22,'Mileage Chart'!$AK$3:$AL$36,2,FALSE),VLOOKUP(F22,'Mileage Chart'!$AK$3:$AL$36,2,FALSE)))} | H22: =+IFERROR('Mileage Reimbursement Page 3'!$G22*$H$3,0) -> 0 | L22: ARM | M22: ARMSTRONG ELEM
G23: {=IF(ISERROR(INDEX('Mileage Chart'!$A$3:$AI$37,VLOOKUP(E23,'Mileage Chart'!$AK$3:$AL$36,2,FALSE),VLOOKUP(F23,'Mileage Chart'!$AK$3:$AL$36,2,FALSE))),"",INDEX('Mileage Chart'!$A$3:$AI$37,VLOOKUP(E23,'Mileage Chart'!$AK$3:$AL$36,2,FALSE),VLOOKUP(F23,'Mileage Chart'!$AK$3:$AL$36,2,FALSE)))} | H23: =+IFERROR('Mileage Reimbursement Page 3'!$G23*$H$3,0) -> 0 | L23: ARR | M23: ARROWPOINT ELEM.
G24: {=IF(ISERROR(INDEX('Mileage Chart'!$A$3:$AI$37,VLOOKUP(E24,'Mileage Chart'!$AK$3:$AL$36,2,FALSE),VLOOKUP(F24,'Mileage Chart'!$AK$3:$AL$36,2,FALSE))),"",INDEX('Mileage Chart'!$A$3:$AI$37,VLOOKUP(E24,'Mileage Chart'!$AK$3:$AL$36,2,FALSE),VLOOKUP(F24,'Mileage Chart'!$AK$3:$AL$36,2,FALSE)))} | H24: =+IFERROR('Mileage Reimbursement Page 3'!$G24*$H$3,0) -> 0 | L24: BAR | M24: BARRINGTON ELEM.
... G44: {=IF(ISERROR(INDEX('Mileage Chart'!$A$3:$AI$37,VLOOKUP(E44,'Mileage Chart'!$AK$3:$AL$36,2,FALSE),VLOOKUP(F44,'Mileage Chart'!$AK$3:$AL$36,2,FALSE))),"",INDEX('Mileage Chart'!$A$3:$AI$37,VLOOKUP(E44,'Mileage Chart'!$AK$3:$AL$36,2,FALSE),VLOOKUP(F44,'Mileage Chart'!$AK$3:$AL$36,2,FALSE)))} | H44: =+IFERROR('Mileage Reimbursement Page 3'!$G44*$H$3,0) -> 0 | L44: ECEE | M44: EARLY CHILDHOOD EAST
G45: {=IF(ISERROR(INDEX('Mileage Chart'!$A$3:$AI$37,VLOOKUP(E45,'Mileage Chart'!$AK$3:$AL$36,2,FALSE),VLOOKUP(F45,'Mileage Chart'!$AK$3:$AL$36,2,FALSE))),"",INDEX('Mileage Chart'!$A$3:$AI$37,VLOOKUP(E45,'Mileage Chart'!$AK$3:$AL$36,2,FALSE),VLOOKUP(F45,'Mileage Chart'!$AK$3:$AL$36,2,FALSE)))} | H45: =+IFERROR('Mileage Reimbursement Page 3'!$G45*$H$3,0) -> 0
G46: {=IF(ISERROR(INDEX('Mileage Chart'!$A$3:$AI$37,VLOOKUP(E46,'Mileage Chart'!$AK$3:$AL$36,2,FALSE),VLOOKUP(F46,'Mileage Chart'!$AK$3:$AL$36,2,FALSE))),"",INDEX('Mileage Chart'!$A$3:$AI$37,VLOOKUP(E46,'Mileage Chart'!$AK$3:$AL$36,2,FALSE),VLOOKUP(F46,'Mileage Chart'!$AK$3:$AL$36,2,FALSE)))} | H46: =+IFERROR('Mileage Reimbursement Page 3'!$G46*$H$3,0) -> 0
G47: {=IF(ISERROR(INDEX('Mileage Chart'!$A$3:$AI$37,VLOOKUP(E47,'Mileage Chart'!$AK$3:$AL$36,2,FALSE),VLOOKUP(F47,'Mileage Chart'!$AK$3:$AL$36,2,FALSE))),"",INDEX('Mileage Chart'!$A$3:$AI$37,VLOOKUP(E47,'Mileage Chart'!$AK$3:$AL$36,2,FALSE),VLOOKUP(F47,'Mileage Chart'!$AK$3:$AL$36,2,FALSE)))} | H47: =+IFERROR('Mileage Reimbursement Page 3'!$G47*$H$3,0) -> 0
G48: {=IF(ISERROR(INDEX('Mileage Chart'!$A$3:$AI$37,VLOOKUP(E48,'Mileage Chart'!$AK$3:$AL$36,2,FALSE),VLOOKUP(F48,'Mileage Chart'!$AK$3:$AL$36,2,FALSE))),"",INDEX('Mileage Chart'!$A$3:$AI$37,VLOOKUP(E48,'Mileage Chart'!$AK$3:$AL$36,2,FALSE),VLOOKUP(F48,'Mileage Chart'!$AK$3:$AL$36,2,FALSE)))} | H48: =+IFERROR('Mileage Reimbursement Page 3'!$G48*$H$3,0) -> 0
G49: {=IF(ISERROR(INDEX('Mileage Chart'!$A$3:$AI$37,VLOOKUP(E49,'Mileage Chart'!$AK$3:$AL$36,2,FALSE),VLOOKUP(F49,'Mileage Chart'!$AK$3:$AL$36,2,FALSE))),"",INDEX('Mileage Chart'!$A$3:$AI$37,VLOOKUP(E49,'Mileage Chart'!$AK$3:$AL$36,2,FALSE),VLOOKUP(F49,'Mileage Chart'!$AK$3:$AL$36,2,FALSE)))} | H49: =+IFERROR('Mileage Reimbursement Page 3'!$G49*$H$3,0) -> 0
G50: {=IF(ISERROR(INDEX('Mileage Chart'!$A$3:$AI$37,VLOOKUP(E50,'Mileage Chart'!$AK$3:$AL$36,2,FALSE),VLOOKUP(F50,'Mileage Chart'!$AK$3:$AL$36,2,FALSE))),"",INDEX('Mileage Chart'!$A$3:$AI$37,VLOOKUP(E50,'Mileage Chart'!$AK$3:$AL$36,2,FALSE),VLOOKUP(F50,'Mileage Chart'!$AK$3:$AL$36,2,FALSE)))} | H50: =+IFERROR('Mileage Reimbursement Page 3'!$G50*$H$3,0) -> 0
G51: {=IF(ISERROR(INDEX('Mileage Chart'!$A$3:$AI$37,VLOOKUP(E51,'Mileage Chart'!$AK$3:$AL$36,2,FALSE),VLOOKUP(F51,'Mileage Chart'!$AK$3:$AL$36,2,FALSE))),"",INDEX('Mileage Chart'!$A$3:$AI$37,VLOOKUP(E51,'Mileage Chart'!$AK$3:$AL$36,2,FALSE),VLOOKUP(F51,'Mileage Chart'!$AK$3:$AL$36,2,FALSE)))} | H51: =+IFERROR('Mileage Reimbursement Page 3'!$G51*$H$3,0) -> 0
G52: {=IF(ISERROR(INDEX('Mileage Chart'!$A$3:$AI$37,VLOOKUP(E52,'Mileage Chart'!$AK$3:$AL$36,2,FALSE),VLOOKUP(F52,'Mileage Chart'!$AK$3:$AL$36,2,FALSE))),"",INDEX('Mileage Chart'!$A$3:$AI$37,VLOOKUP(E52,'Mileage Chart'!$AK$3:$AL$36,2,FALSE),VLOOKUP(F52,'Mileage Chart'!$AK$3:$AL$36,2,FALSE)))} | H52: =+IFERROR('Mileage Reimbursement Page 3'!$G52*$H$3,0) -> 0
G53: {=IF(ISERROR(INDEX('Mileage Chart'!$A$3:$AI$37,VLOOKUP(E53,'Mileage Chart'!$AK$3:$AL$36,2,FALSE),VLOOKUP(F53,'Mileage Chart'!$AK$3:$AL$36,2,FALSE))),"",INDEX('Mileage Chart'!$A$3:$AI$37,VLOOKUP(E53,'Mileage Chart'!$AK$3:$AL$36,2,FALSE),VLOOKUP(F53,'Mileage Chart'!$AK$3:$AL$36,2,FALSE)))} | H53: =+IFERROR('Mileage Reimbursement Page 3'!$G53*$H$3,0) -> 0
G54: {=IF(ISERROR(INDEX('Mileage Chart'!$A$3:$AI$37,VLOOKUP(E54,'Mileage Chart'!$AK$3:$AL$36,2,FALSE),VLOOKUP(F54,'Mileage Chart'!$AK$3:$AL$36,2,FALSE))),"",INDEX('Mileage Chart'!$A$3:$AI$37,VLOOKUP(E54,'Mileage Chart'!$AK$3:$AL$36,2,FALSE),VLOOKUP(F54,'Mileage Chart'!$AK$3:$AL$36,2,FALSE)))} | H54: =+IFERROR('Mileage Reimbursement Page 3'!$G54*$H$3,0) -> 0
G55: {=IF(ISERROR(INDEX('Mileage Chart'!$A$3:$AI$37,VLOOKUP(E55,'Mileage Chart'!$AK$3:$AL$36,2,FALSE),VLOOKUP(F55,'Mileage Chart'!$AK$3:$AL$36,2,FALSE))),"",INDEX('Mileage Chart'!$A$3:$AI$37,VLOOKUP(E55,'Mileage Chart'!$AK$3:$AL$36,2,FALSE),VLOOKUP(F55,'Mileage Chart'!$AK$3:$AL$36,2,FALSE)))} | H55: =+IFERROR('Mileage Reimbursement Page 3'!$G55*$H$3,0) -> 0
G56: {=IF(ISERROR(INDEX('Mileage Chart'!$A$3:$AI$37,VLOOKUP(E56,'Mileage Chart'!$AK$3:$AL$36,2,FALSE),VLOOKUP(F56,'Mileage Chart'!$AK$3:$AL$36,2,FALSE))),"",INDEX('Mileage Chart'!$A$3:$AI$37,VLOOKUP(E56,'Mileage Chart'!$AK$3:$AL$36,2,FALSE),VLOOKUP(F56,'Mileage Chart'!$AK$3:$AL$36,2,FALSE)))} | H56: =+IFERROR('Mileage Reimbursement Page 3'!$G56*$H$3,0) -> 0
A57: TOTAL PAGE 1, PAGE 2, AND PAGE 3 | G57: =SUBTOTAL(109,G12:G56) -> 0 | H57: =SUBTOTAL(109,H12:H56) -> 0
A62: Signature | F62: Date
A67: Supervisor Approval | F67: Date
A69: All individuals must submit mileage reimbrursements on a monthly basis, unless the amount is less than $20.00. In that case, the request should be carried over until the next
A70: month, or until the total exceeds $20.00 or if the request is 3 months old. The only exception will be for the month of June. June mileage must be cut-off by June 15th and
A71: submitted by June 20th to be paid from the current fiscal year. Mileage older than 3 months will not be reimbursed.
A73: Mileage should be submitted for the entire month claimed for reimbursement.
A75: Purchase requests should still be entered for mileage, with this form being sent to Accounts Payable for processing.
A77: A mileage chart detailing the mileage between Hazelwood School District buildings is available on the Hazelwood

Sheet Mileage Procedures

Sheet Mileage Chart
A1: Mileage Chart
B3: ADM | C3: CHS | D3: WHS | E3: EHS | F3: HOC | G3: NWMS | H3: WMS | I3: EMS | J3: SEMS | K3: CMS | L3: NMS | M3: ARM | N3: ARR | O3: BAR | P3: BRO | Q3: COL | R3: GAR | S3: GRA | T3: JAM | U3: JAN | V3: JUR | W3: KEE | X3: LAR | Y3: LAW | Z3: LUS | AA3: MCC | AB3: MCN | AC3: RUS | AD3: FOR | AE3: TOW | AF3: TWI | AG3: WAL | AH3: ECEW | AI3: ECEE | AK3: ADM | AL3: 2
A4: ADM | C4: 0 | D4: 6.5 | E4: 7.5 | F4: 8 | G4: 3 | H4: 9.5 | I4: 7.5 | J4: 10 | K4: 6 | L4: 2.5 | M4: 6 | N4: 6.5 | O4: 2 | P4: 1.5 | Q4: 2 | R4: 7.5 | S4: 6.5 | T4: 6 | U4: 2 | V4: 4.5 | W4: 5.5 | X4: 8.5 | Y4: 5 | Z4: 3.5 | AA4: 3.5 | AB4: 5 | AC4: 5 | AD4: 3.5 | AE4: 6 | AF4: 8 | AG4: 3 | AH4: 7 | AI4: 6.5 | AK4: CHS | AL4: 3
A5: CHS | B5: 0 | D5: 6.5 | E5: 7.5 | F5: 8 | G5: 3.5 | H5: 9.5 | I5: 7.5 | J5: 10 | K5: 6 | L5: 2.5 | M5: 6.5 | N5: 7.5 | O5: 2 | P5: 0.5 | Q5: 2 | R5: 7.5 | S5: 7.5 | T5: 6.5 | U5: 2 | V5: 5.5 | W5: 6.5 | X5: 9.5 | Y5: 4 | Z5: 3.5 | AA5: 4 | AB5: 5 | AC5: 5 | AD5: 4.5 | AE5: 7 | AF5: 9 | AG5: 3 | AH5: 7 | AI5: 7.5 | AK5: WHS | AL5: 4
A6: WHS | B6: 6.5 | C6: 6.5 | E6: 10 | F6: 11 | G6: 3.5 | H6: 4 | I6: 10 | J6: 11.5 | K6: 11 | L6: 8 | M6: 0 | N6: 12 | O6: 7.5 | P6: 6 | Q6: 5.5 | R6: 2 | S6: 9 | T6: 11 | U6: 5 | V6: 8.5 | W6: 8 | X6: 12 | Y6: 2.5 | Z6: 3.5 | AA6: 3.5 | AB6: 2 | AC6: 1.5 | AD6: 8 | AE6: 9.5 | AF6: 11 | AG6: 4 | AH6: 1.5 | AI6: 10 | AK6: EHS | AL6: 5
A7: EHS | B7: 7.5 | C7: 7.5 | D7: 10 | F7: 0.5 | G7: 11 | H7: 12 | I7: 0 | J7: 3.5 | K7: 3.5 | L7: 8 | M7: 9 | N7: 3 | O7: 7.5 | P7: 8 | Q7: 8 | R7: 11 | S7: 1.5 | T7: 4 | U7: 8 | V7: 3.5 | W7: 2.5 | X7: 3 | Y7: 8.5 | Z7: 10 | AA7: 8 | AB7: 9 | AC7: 9.5 | AD7: 5.5 | AE7: 2.5 | AF7: 2 | AG7: 9.5 | AH7: 11 | AI7: 2.5 | AK7: HOC | AL7: 6
A8: HOC | B8: 8 | C8: 8 | D8: 11 | E8: 0.5 | G8: 12 | H8: 12.5 | I8: 0.5 | J8: 2.5 | K8: 4.5 | L8: 8.5 | M8: 10.5 | N8: 3 | O8: 8 | P8: 8.5 | Q8: 8.5 | R8: 11.5 | S8: 2 | T8: 5.5 | U8: 8.5 | V8: 4 | W8: 3 | X8: 3 | Y8: 9.5 | Z8: 12.5 | AA8: 9.5 | AB8: 9 | AC8: 9.5 | AD8: 5.5 | AE8: 2.5 | AF8: 2 | AG8: 9.5 | AH8: 11 | AI8: 3 | AK8: NWMS | AL8: 7
A9: NWMS | B9: 3 | C9: 3 | D9: 3.5 | E9: 10.5 | F9: 12 | H9: 7 | I9: 10.5 | J9: 12 | K9: 8 | L9: 4.5 | M9: 3.5 | N9: 9 | O9: 4 | P9: 2.5 | Q9: 1.5 | R9: 5 | S9: 9 | T9: 8 | U9: 2 | V9: 7 | W9: 7.5 | X9: 12 | Y9: 1.5 | Z9: 0.5 | AA9: 1.5 | AB9: 3 | AC9: 2.5 | AD9: 6 | AE9: 9 | AF9: 10.5 | AG9: 0.5 | AH9: 4.5 | AI9: 9 | AK9: WMS | AL9: 8
A10: WMS | B10: 10 | C10: 10 | D10: 3 | E10: 12.5 | F10: 12.5 | G10: 7 | I10: 12 | J10: 14 | K10: 13.5 | L10: 11 | M10: 3 | N10: 14.5 | O10: 11 | P10: 9.5 | Q10: 9 | R10: 2 | S10: 12 | T10: 13.5 | U10: 8.5 | V10: 11.5 | W10: 11 | X10: 14.5 | Y10: 6.5 | Z10: 7 | AA10: 7 | AB10: 6 | AC10: 5 | AD10: 11 | AE10: 13 | AF10: 13.5 | AG10: 7.5 | AH10: 2 | AI10: 13.5 | AK10: EMS | AL10: 9
A11: EMS | B11: 7.5 | C11: 7.5 | D11: 10.5 | E11: 0 | F11: 0.5 | G11: 10 | H11: 12 | J11: 3.5 | K11: 4 | L11: 8 | M11: 9 | N11: 3 | O11: 7.5 | P11: 8 | Q11: 8.5 | R11: 11 | S11: 2 | T11: 4 | U11: 8.5 | V11: 3.5 | W11: 1 | X11: 3.5 | Y11: 9 | Z11: 10 | AA11: 8 | AB11: 9 | AC11: 9.5 | AD11: 5.5 | AE11: 2.5 | AF11: 2 | AG11: 9.5 | AH11: 10.5 | AI11: =AE11+0.5 -> 3 | AK11: SEMS | AL11: 10
A12: SEMS | B12: 10 | C12: 10 | D12: 12.5 | E12: 4 | F12: 2.5 | G12: 12 | H12: 14.5 | I12: 4 | K12: 6 | L12: 10 | M12: 11.5 | N12: 4.5 | O12: 9 | P12: 10.5 | Q12: 11 | R12: 13.5 | S12: 4.5 | T12: 6 | U12: 11 | V12: 6 | W12: 5.5 | X12: 1.5 | Y12: 11.5 | Z12: 12.5 | AA12: 11.5 | AB12: 11.5 | AC12: 12 | AD12: 7 | AE12: 4 | AF12: 3 | AG12: 11.5 | AH12: 13.5 | AI12: 4.5 | AK12: CMS | AL12: 11
A13: CMS | B13: 6 | C13: 6 | D13: 11 | E13: 3.5 | F13: 4.5 | G13: 8 | H13: 13.5 | I13: 4 | J13: 6 | L13: 5.5 | M13: 10 | N13: 3.5 | O13: 5.5 | P13: 6.5 | Q13: 6.5 | R13: 12 | S13: 3 | T13: 1 | U13: 6.5 | V13: 2 | W13: 3 | X13: 5 | Y13: 7 | Z13: 9 | AA13: 7.5 | AB13: 8 | AC13: 10 | AD13: 3 | AE13: 2.5 | AF13: 4.5 | AG13: 7.5 | AH13: 11.5 | AI13: 2.5 | AK13: NMS | AL13: 12
A14: NMS | B14: 2.5 | C14: 2.5 | D14: 8 | E14: 8 | F14: 8.5 | G14: 4.5 | H14: 11 | I14: 8 | J14: 10 | K14: 5.5 | M14: 7.5 | N14: 6 | O14: 1 | P14: 2.5 | Q14: 3 | R14: 8.5 | S14: 6.5 | T14: 5 | U14: 3 | V14: 4.5 | W14: 5.5 | X14: 8.5 | Y14: 5.5 | Z14: 5 | AA14: 5 | AB14: 6 | AC14: 6.5 | AD14: 2.5 | AE14: 6 | AF14: 8 | AG14: 4 | AH14: 8.5 | AI14: 6 | AK14: ARM | AL14: 13
A15: ARM | B15: 6 | C15: 6 | D15: 0 | E15: 9 | F15: 10.5 | G15: 3.5 | H15: 3.5 | I15: 10.5 | J15: 12 | K15: 11.5 | L15: 7.5 | N15: 10.5 | O15: 7 | P15: 6 | Q15: 5.5 | R15: 1.5 | S15: 10 | T15: 9.5 | U15: 5 | V15: 8 | W15: 8 | X15: 12.5 | Y15: 2.5 | Z15: 4 | AA15: 4 | AB15: 2 | AC15: 1.5 | AD15: 7 | AE15: 9.5 | AF15: 11.5 | AG15: 4.5 | AH15: 1.5 | AI15: 9.5 | AK15: ARR | AL15: 14
A16: ARR | B16: 6.5 | C16: 6.5 | D16: 10.5 | E16: 3 | F16: 3 | G16: 8.5 | H16: 14 | I16: 3 | J16: 4 | K16: 3.5 | L16: 6 | M16: 11 | O16: 5.5 | P16: 7 | Q16: 7.5 | R16: 11.5 | S16: 2.5 | T16: 3 | U16: 7.5 | V16: 4 | W16: 4 | X16: 3.5 | Y16: 8.5 | Z16: 9 | AA16: 7.5 | AB16: 9 | AC16: 9.5 | AD16: 4 | AE16: 2 | AF16: 2.5 | AG16: 8 | AH16: 11 | AI16: 1.5 | AK16: BAR | AL16: 15
A17: BAR | B17: 2 | C17: 2 | D17: 7 | E17: 7.5 | F17: 8 | G17: 4 | H17: 10.5 | I17: 7.5 | J17: 9.5 | K17: 5 | L17: 1 | M17: 7 | N17: 5.5 | P17: 2.5 | Q17: 3 | R17: 8.5 | S17: 6 | T17: 4.5 | U17: 3 | V17: 4 | W17: 5 | X17: 8 | Y17: 5.5 | Z17: 4.5 | AA17: 4.5 | AB17: 6 | AC17: 6.5 | AD17: 2.5 | AE17: 5.5 | AF17: 7.5 | AG17: 4 | AH17: 8 | AI17: 6 | AK17: BRO | AL17: 16
A18: BRO | B18: 1 | C18: 1 | D18: 6 | E18: 8 | F18: 8.5 | G18: 2.5 | H18: 9.5 | I18: 8 | J18: 10.5 | K18: 6.5 | L18: 2.5 | M18: 5.5 | N18: 7.5 | O18: 2.5 | Q18: 1 | R18: 7 | S18: 7.5 | T18: 6.5 | U18: 2 | V18: 5.5 | W18: 6 | X18: 9.5 | Y18: 4 | Z18: 3 | AA18: 3.5 | AB18: 5 | AC18: 5 | AD18: 4 | AE18: 7 | AF18: 9 | AG18: 2.5 | AH18: 7 | AI18: 7 | AK18: COL | AL18: 17
A19: COL | B19: 2 | C19: 2 | D19: 5 | E19: 8.5 | F19: 8.5 | G19: 1.5 | H19: 8.5 | I19: 8.5 | J19: 11 | K19: 6.5 | L19: 3 | M19: 5 | N19: 7.5 | O19: 3 | P19: 1 | R19: 6.5 | S19: 7.5 | T19: 6.5 | U19: 1.5 | V19: 5.5 | W19: 6 | X19: 9.5 | Y19: 3 | Z19: 2.5 | AA19: 3 | AB19: 4.5 | AC19: 4 | AD19: 4 | AE19: 7 | AF19: 8.5 | AG19: 2 | AH19: 6 | AI19: 7 | AK19: GAR | AL19: 18
A20: GAR | B20: 7.5 | C20: 7.5 | D20: 2 | E20: 11.5 | F20: 11.5 | G20: 5 | H20: 2.5 | I20: 11.5 | J20: 12.5 | K20: 11.5 | L20: 9 | M20: 2 | N20: 13.5 | O20: 8.5 | P20: 7 | Q20: 6.5 | S20: 10.5 | T20: 12 | U20: 6.5 | V20: 10 | W20: 10 | X20: 12.5 | Y20: 4 | Z20: 5 | AA20: 5 | AB20: 3.5 | AC20: 2.5 | AD20: 8.5 | AE20: 11 | AF20: 12 | AG20: 5.5 | AH20: 1 | AI20: 11 | AK20: GRA | AL20: 19
A21: GRA | B21: 6.5 | C21: 6.5 | D21: 9.5 | E21: 1.5 | F21: 2 | G21: 9 | H21: 12.5 | I21: 1.5 | J21: 4 | K21: 3 | L21: 6.5 | M21: 10 | N21: 3 | O21: 6 | P21: 7.5 | Q21: 7.5 | R21: 11 | T21: 3 | U21: 7.5 | V21: 2.5 | W21: 1.5 | X21: 3 | Y21: 8 | Z21: 10 | AA21: 7.5 | AB21: 9 | AC21: 9.5 | AD21: 4 | AE21: 2 | AF21: 1.5 | AG21: 8 | AH21: 10.5 | AI21: =AE21+0.5 -> 2.5 | AK21: JAM | AL21: 20
A22: JAM | B22: 6 | C22: 6 | D22: 10 | E22: 4 | F22: 5.5 | G22: 8 | H22: 12.5 | I22: 4 | J22: 6 | K22: 1 | L22: 5 | M22: 10 | N22: 3 | O22: 5 | P22: 6.5 | Q22: 6.5 | R22: 11 | S22: 3.5 | U22: 6.5 | V22: 2.5 | W22: 3 | X22: 5 | Y22: 7.5 | Z22: 8.5 | AA22: 6.5 | AB22: 8.5 | AC22: 9 | AD22: 3 | AE22: 2.5 | AF22: 4 | AG22: 7.5 | AH22: 10.5 | AI22: 2.5 | AK22: JAN | AL22: 21
A23: JAN | B23: 2 | C23: 2 | D23: 4.98 | E23: 8.5 | F23: 8.5 | G23: 2 | H23: 8 | I23: 8.5 | J23: 11 | K23: 6.5 | L23: 3 | M23: 5 | N23: 7.5 | O23: 3 | P23: 2 | Q23: 1.5 | R23: 6.5 | S23: 7.5 | T23: 6.5 | V23: 5.5 | W23: 6.5 | X23: 9.5 | Y23: 3 | Z23: 2.5 | AA23: 2.5 | AB23: 4 | AC23: 4.5 | AD23: 4.5 | AE23: 7 | AF23: 8.5 | AG23: 1.5 | AH23: 6 | AI23: 7 | AK23: JUR | AL23: 22
A24: JUR | B24: 4.5 | C24: 4.5 | D24: 8 | E24: 3.5 | F24: 4 | G24: 7 | H24: 11 | I24: 3.5 | J24: 5.5 | K24: 2 | L24: 4.5 | M24: 8 | N24: 4 | O24: 4 | P24: 5 | Q24: 5.5 | R24: 9 | S24: 2.5 | T24: 2 | U24: 5.5 | W24: 1 | X24: 5 | Y24: 6 | Z24: 6 | AA24: 5 | AB24: 6.5 | AC24: 7.5 | AD24: 2 | AE24: 2.5 | AF24: 3.5 | AG24: 6.5 | AH24: 9 | AI24: 2.5 | AK24: KEE | AL24: 23
A25: KEE | B25: 5.5 | C25: 5.5 | D25: 9 | E25: 2.5 | F25: 3 | G25: 7.5 | H25: 10.5 | I25: 2.5 | J25: 5 | K25: 3 | L25: 5.5 | M25: 8 | N25: 4 | O25: 5 | P25: 6 | Q25: 6 | R25: 10 | S25: 1.5 | T25: 3 | U25: 6.5 | V25: 1 | X25: 4.5 | Y25: 6.5 | Z25: 7 | AA25: 6 | AB25: 7.5 | AC25: 8 | AD25: 3 | AE25: 3.5 | AF25: 3 | AG25: 6.5 | AH25: 9.5 | AI25: 3.5 | AK25: LAR | AL25: 24
A26: LAR | B26: 8.5 | C26: 8.5 | D26: 12.5 | E26: 3.5 | F26: 3 | G26: 12 | H26: 15 | I26: 3.5 | J26: 1 | K26: 5 | L26: 8.5 | M26: 11.5 | N26: 3.5 | O26: 8 | P26: 9 | Q26: 9.5 | R26: 13.5 | S26: 3 | T26: 5 | U26: 9.5 | V26: 5 | W26: 4.5 | Y26: 11.5 | Z26: 12.5 | AA26: 11.5 | AB26: 11 | AC26: 12 | AD26: 6 | AE26: 3 | AF26: 1.5 | AG26: 10.5 | AH26: 13 | AI26: 3 | AK26: LAW | AL26: 25
A27: LAW | B27: 4.5 | C27: 4.5 | D27: 2.5 | E27: 9.5 | F27: 9.5 | G27: 1.5 | H27: 6 | I27: 9.5 | J27: 11 | K27: 7.5 | L27: 5.5 | M27: 2.5 | N27: 8.5 | O27: 5.5 | P27: 4 | Q27: 3 | R27: 4 | S27: 8 | T27: 7.5 | U27: 3.5 | V27: 6 | W27: 7 | X27: 11.5 | Z27: 1.5 | AA27: 1 | AB27: 2 | AC27: 1.5 | AD27: 5.5 | AE27: 7.5 | AF27: 9.5 | AG27: 2 | AH27: 3.5 | AI27: 8 | AK27: LUS | AL27: 26
A28: LUS | B28: 3.5 | C28: 3.5 | D28: 3.5 | E28: 9.5 | F28: 12.5 | G28: 1 | H28: 7 | I28: 9.5 | J28: 11.5 | K28: 7.5 | L28: 5 | M28: 3 | N28: 10 | O28: 4.5 | P28: 3 | Q28: 2.5 | R28: 4.5 | S28: 8.5 | T28: 8 | U28: 2.5 | V28: 6.5 | W28: 7.5 | X28: 12 | Y28: 1.5 | AA28: 1.5 | AB28: 3 | AC28: 2.5 | AD28: 6 | AE28: 8 | AF28: 10 | AG28: 1 | AH28: 4.5 | AI28: 9 | AK28: MCC | AL28: 27
A29: MCC | B29: 3.5 | C29: 3.5 | D29: 3.5 | E29: 8.5 | F29: 9.5 | G29: 1.5 | H29: 7 | I29: 8.5 | J29: 12.5 | K29: 7 | L29: 5 | M29: 3.5 | N29: 8 | O29: 4.5 | P29: 3.5 | Q29: 3 | R29: 5 | S29: 7.5 | T29: 6.5 | U29: 2.5 | V29: 5.5 | W29: 7.5 | X29: 13 | Y29: 1 | Z29: 1.5 | AB29: 2.5 | AC29: 2.5 | AD29: 4.5 | AE29: 7 | AF29: 8.5 | AG29: 1.5 | AH29: 4.5 | AI29: 7.5 | AK29: MCN | AL29: 28
A30: MCN | B30: 5 | C30: 5 | D30: 2 | E30: 9.5 | F30: 9 | G30: 3 | H30: 5.5 | I30: 9.5 | J30: 11 | K30: 7.5 | L30: 6.5 | M30: 2 | N30: 9 | O30: 6 | P30: 5 | Q30: 4.5 | R30: 3.5 | S30: 8.5 | T30: 8 | U30: 4 | V30: 6.5 | W30: 7.5 | X30: 10.5 | Y30: 2 | Z30: 3 | AA30: 2.5 | AC30: 1.5 | AD30: 6 | AE30: 8 | AF30: 10 | AG30: 3.5 | AH30: 3 | AI30: 8.5 | AK30: RUS | AL30: 29
A31: RUS | B31: 5.5 | C31: 5.5 | D31: 1.5 | E31: 10 | F31: 9.5 | G31: 2.5 | H31: 5 | I31: 10 | J31: 11 | K31: 9 | L31: 7 | M31: 1.5 | N31: 10.5 | O31: 6.5 | P31: 5 | Q31: 4 | R31: 3 | S31: 10 | T31: 8.5 | U31: 4.5 | V31: 7.5 | W31: 8 | X31: 11.5 | Y31: 1.5 | Z31: 2.5 | AA31: 2.5 | AB31: 1.5 | AD31: 7 | AE31: 9 | AF31: 10.5 | AG31: 3 | AH31: 2.5 | AI31: 9.5 | AK31: FOC | AL31: 30
A32: FOR | B32: 3.5 | C32: 3.5 | D32: 7 | E32: 5 | F32: 5.5 | G32: 5.5 | H32: 10.5 | I32: 5 | J32: 6.5 | K32: 3 | L32: 2.5 | M32: 7.5 | N32: 4.5 | O32: 2.5 | P32: 4 | Q32: 4 | R32: 8.5 | S32: 4 | T32: 3 | U32: 4 | V32: 2 | W32: 3 | X32: 6 | Y32: 5.5 | Z32: 6 | AA32: 4.5 | AB32: 6 | AC32: 6.5 | AE32: 3.5 | AF32: 5.5 | AG32: 5 | AH32: 8 | AI32: 3.5 | AK32: TOW | AL32: 31
A33: TOW | B33: 6 | C33: 6 | D33: 11.5 | E33: 2.5 | F33: 2.5 | G33: 8.5 | H33: 13.5 | I33: 2.5 | J33: 3.5 | K33: 2.5 | L33: 6 | M33: 10.5 | N33: 2 | O33: 5.5 | P33: 6.5 | Q33: 7 | R33: 10.5 | S33: 2 | T33: 2.5 | U33: 7 | V33: 2.5 | W33: 3 | X33: 3 | Y33: 7.5 | Z33: 9 | AA33: 6.5 | AB33: 8 | AC33: 10.5 | AD33: 3.5 | AF33: 2.5 | AG33: 8 | AH33: 10 | AI33: 1 | AK33: TWI | AL33: 32
A34: TWI | B34: 8 | C34: 8 | D34: 11 | E34: 2 | F34: 2 | G34: 10 | H34: 13.5 | I34: 2 | J34: 2.5 | K34: 4 | L34: 8 | M34: 10.5 | N34: 2.5 | O34: 7.5 | P34: 8.5 | Q34: 8.5 | R34: 12.5 | S34: 1.5 | T34: 4 | U34: 8.5 | V34: 3.5 | W34: 3 | X34: 1.5 | Y34: 10 | Z34: 11.5 | AA34: 8.5 | AB34: 9.5 | AC34: 10.5 | AD34: 5 | AE34: 2.5 | AG34: 10 | AH34: 12 | AI34: 2.5 | AK34: WAL | AL34: 33
A35: WAL | B35: 3 | C35: 3 | D35: 4 | E35: 9 | F35: 9.5 | G35: 0.5 | H35: 7.5 | I35: 9 | J35: 11.5 | K35: 7.5 | L35: 4 | M35: 4 | N35: 8.5 | O35: 3.5 | P35: 3 | Q35: 2 | R35: 5.5 | S35: 8 | T35: 7.5 | U35: 1.5 | V35: 6 | W35: 7 | X35: 10.5 | Y35: 1.5 | Z35: 1.5 | AA35: 1.5 | AB35: 3.5 | AC35: 3 | AD35: 5 | AE35: 7.5 | AF35: 9.5 | AH35: 5 | AI35: 7.5 | AK35: ECEW | AL35: 34
A36: ECEW | B36: 7.5 | C36: 7.5 | D36: 1.5 | E36: 10.5 | F36: 11 | G36: 4.5 | H36: 3.5 | I36: 10.5 | J36: 12 | K36: 11 | L36: 9 | M36: 1.5 | N36: 12.5 | O36: 8.5 | P36: 7 | Q36: 6 | R36: 1 | S36: 10 | T36: 10.5 | U36: 6.5 | V36: 10 | W36: 9.5 | X36: 13 | Y36: 3.5 | Z36: 4.5 | AA36: 4.5 | AB36: 3 | AC36: 2.5 | AD36: 8 | AE36: 12.5 | AF36: 12 | AG36: 5 | AI36: 12.5 | AK36: ECEE | AL36: 35
A37: ECEE | B37: 6.5 | C37: 6.5 | D37: 11.5 | E37: 2.5 | F37: 3 | G37: 8.5 | H37: 13.5 | I37: 2.5 | J37: 4 | K37: 2.5 | L37: 6 | M37: 10.5 | N37: 1.5 | O37: 6 | P37: 7 | Q37: 7 | R37: 12.5 | S37: =S33+0.5 -> 2.5 | T37: 2.5 | U37: 7 | V37: 3 | W37: =W33+0.5 -> 3.5 | X37: 3 | Y37: 7.5 | Z37: 9 | AA37: 7 | AB37: 9 | AC37: 9 | AD37: 3.5 | AE37: 1 | AF37: 2.5 | AG37: 7.5 | AH37: 10.5
A39: Business Office - 2019
