Workbook

Sheet Overall Math Proficiency
A1: OSAS Math Proficiency
A2: Grade Level
C3: 2014-15 | D3: 2015-16 | E3: 2016-17 | F3: 2017-18 | G3: 2018-19 | H3: 2021-22 | I3: 2022-23 | J3: 2023-24 | K3: 2024-25*
A4: All Grades | B4: BSD | C4: 0.572 | D4: 0.564 | E4: 0.548 | F4: 0.546 | G4: 0.537 | H4: 0.449 | I4: 0.449 | J4: 0.44 | K4: 0.43
B5: State | C5: 0.408 | D5: 0.415 | E5: 0.408 | F5: 0.405 | G5: 0.394 | H5: 0.304 | I5: 0.306 | J5: 0.31 | K5: 0.315
B6: Difference (BSD - State) | C6: =C4-C5 -> 0.164 | D6: =D4-D5 -> 0.149 | E6: =E4-E5 -> 0.14 | F6: =F4-F5 -> 0.141 | G6: =G4-G5 -> 0.143 | H6: =H4-H5 -> 0.145 | I6: =I4-I5 -> 0.143 | J6: =J4-J5 -> 0.13 | K6: =K4-K5 -> 0.115
A7: Grade 3 | B7: BSD | C7: 0.642 | D7: 0.648 | E7: 0.637 | F7: 0.631 | G7: 0.632 | H7: 0.542 | I7: 0.567 | J7: 0.527 | K7: 0.48
B8: State | C8: 0.456 | D8: 0.475 | E8: 0.458 | F8: 0.464 | G8: 0.464 | H8: 0.394 | I8: 0.397 | J8: 0.399 | K8: 0.401
B9: Difference (BSD - State) | C9: =C7-C8 -> 0.186 | D9: =D7-D8 -> 0.173 | E9: =E7-E8 -> 0.179 | F9: =F7-F8 -> 0.167 | G9: =G7-G8 -> 0.168 | H9: =H7-H8 -> 0.148 | I9: =I7-I8 -> 0.17 | J9: =J7-J8 -> 0.128 | K9: =K7-K8 -> 0.079
A10: Grade 4 | B10: BSD | C10: 0.62 | D10: 0.601 | E10: 0.592 | F10: 0.589 | G10: 0.59 | H10: 0.493 | I10: 0.52 | J10: 0.535 | K10: 0.483
B11: State | C11: 0.437 | D11: 0.435 | E11: 0.433 | F11: 0.43 | G11: 0.432 | H11: 0.361 | I11: 0.376 | J11: 0.377 | K11: 0.369
B12: Difference (BSD - State) | C12: =C10-C11 -> 0.183 | D12: =D10-D11 -> 0.166 | E12: =E10-E11 -> 0.159 | F12: =F10-F11 -> 0.159 | G12: =G10-G11 -> 0.158 | H12: =H10-H11 -> 0.132 | I12: =I10-I11 -> 0.144 | J12: =J10-J11 -> 0.158 | K12: =K10-K11 -> 0.114
A13: Grade 5 | B13: BSD | C13: 0.578 | D13: 0.544 | E13: 0.545 | F13: 0.543 | G13: 0.524 | H13: 0.464 | I13: 0.472 | J13: 0.483 | K13: 0.478
B14: State | C14: 0.408 | D14: 0.404 | E14: 0.39 | F14: 0.395 | G14: 0.378 | H14: 0.3 | I14: 0.307 | J14: 0.314 | K14: 0.313
B15: Difference (BSD - State) | C15: =C13-C14 -> 0.17 | D15: =D13-D14 -> 0.14 | E15: =E13-E14 -> 0.155 | F15: =F13-F14 -> 0.148 | G15: =G13-G14 -> 0.146 | H15: =H13-H14 -> 0.164 | I15: =I13-I14 -> 0.165 | J15: =J13-J14 -> 0.169 | K15: =K13-K14 -> 0.165
A16: Grade 6 | B16: BSD | C16: 0.533 | D16: 0.532 | E16: 0.509 | F16: 0.521 | G16: 0.491 | H16: 0.399 | I16: 0.408 | J16: 0.431 | K16: 0.407
B17: State | C17: 0.381 | D17: 0.388 | E17: 0.395 | F17: 0.384 | G17: 0.371 | H17: 0.275 | I17: 0.281 | J17: 0.284 | K17: 0.293
B18: Difference (BSD - State) | C18: =C16-C17 -> 0.152 | D18: =D16-D17 -> 0.144 | E18: =E16-E17 -> 0.114 | F18: =F16-F17 -> 0.137 | G18: =G16-G17 -> 0.12 | H18: =H16-H17 -> 0.124 | I18: =I16-I17 -> 0.127 | J18: =J16-J17 -> 0.147 | K18: =K16-K17 -> 0.114
A19: Grade 7 | B19: BSD | C19: 0.57 | D19: 0.581 | E19: 0.56 | F19: 0.562 | G19: 0.559 | H19: 0.432 | I19: 0.415 | J19: 0.43 | K19: 0.437
B20: State | C20: 0.381 | D20: 0.388 | E20: 0.395 | F20: 0.384 | G20: 0.371 | H20: 0.275 | I20: 0.281 | J20: 0.284 | K20: 0.293
B21: Difference (BSD - State) | C21: =C19-C20 -> 0.189 | D21: =D19-D20 -> 0.193 | E21: =E19-E20 -> 0.165 | F21: =F19-F20 -> 0.178 | G21: =G19-G20 -> 0.188 | H21: =H19-H20 -> 0.157 | I21: =I19-I20 -> 0.134 | J21: =J19-J20 -> 0.146 | K21: =K19-K20 -> 0.144
A22: Grade 8 | B22: BSD | C22: 0.587 | D22: 0.553 | E22: 0.53 | F22: 0.534 | G22: 0.529 | H22: 0.388 | I22: 0.369 | J22: 0.355 | K22: 0.394
B23: State | C23: 0.429 | D23: 0.424 | E23: 0.408 | F23: 0.405 | G23: 0.383 | H23: 0.259 | I23: 0.255 | J23: 0.264 | K23: 0.289
B24: Difference (BSD - State) | C24: =C22-C23 -> 0.158 | D24: =D22-D23 -> 0.129 | E24: =E22-E23 -> 0.122 | F24: =F22-F23 -> 0.129 | G24: =G22-G23 -> 0.146 | H24: =H22-H23 -> 0.129 | I24: =I22-I23 -> 0.114 | J24: =J22-J23 -> 0.091 | K24: =K22-K23 -> 0.105
A25: Grade 11 | B25: BSD | C25: 0.45 | D25: 0.468 | E25: 0.435 | F25: 0.409 | G25: 0.389 | H25: 0.372 | I25: 0.328 | J25: 0.272 | K25: 0.303
B26: State | C26: 0.305 | D26: 0.33 | E26: 0.339 | F26: 0.332 | G26: 0.321 | H26: 0.204 | I26: 0.204 | J26: 0.2 | K26: 0.203
B27: Difference (BSD - State) | C27: =C25-C26 -> 0.145 | D27: =D25-D26 -> 0.138 | E27: =E25-E26 -> 0.096 | F27: =F25-F26 -> 0.077 | G27: =G25-G26 -> 0.068 | H27: =H25-H26 -> 0.168 | I27: =I25-I26 -> 0.124 | J27: =J25-J26 -> 0.072 | K27: =K25-K26 -> 0.1
A28: *Prior to 2024-25, ODE counted students taking extended assessments as not proficient in these assessment reports. However, ODE received approval from the U.S. Department of Education to count as proficient those students who met the alternate standard on Extended Assessments.
A30: Race/Ethnicity
C31: =C$3 -> 2014-15 | D31: =D$3 -> 2015-16 | E31: =E$3 -> 2016-17 | F31: =F$3 -> 2017-18 | G31: =G$3 -> 2018-19 | H31: =H$3 -> 2021-22 | I31: =I$3 -> 2022-23 | J31: =J$3 -> 2023-24 | K31: =K$3 -> 2024-25*
A32: All Race/Ethnicities | B32: BSD | C32: =C4 -> 0.572 | D32: =D4 -> 0.564 | E32: =E4 -> 0.548 | F32: =F4 -> 0.546 | G32: =G4 -> 0.537 | H32: =H4 -> 0.449 | I32: =I4 -> 0.449 | J32: =J4 -> 0.44 | K32: =K4 -> 0.43
B33: State | C33: =C5 -> 0.408 | D33: =D5 -> 0.415 | E33: =E5 -> 0.408 | F33: =F5 -> 0.405 | G33: =G5 -> 0.394 | H33: =H5 -> 0.304 | I33: =I5 -> 0.306 | J33: =J5 -> 0.31 | K33: =K5 -> 0.315
B34: Difference (BSD - State) | C34: =C32-C33 -> 0.164 | D34: =D32-D33 -> 0.149 | E34: =E32-E33 -> 0.14 | F34: =F32-F33 -> 0.141 | G34: =G32-G33 -> 0.143 | H34: =H32-H33 -> 0.145 | I34: =I32-I33 -> 0.143 | J34: =J32-J33 -> 0.13 | K34: =K32-K33 -> 0.115
A35: Asian | B35: BSD | C35: 0.829 | D35: 0.826 | E35: 0.819 | F35: 0.832 | G35: 0.82 | H35: 0.769 | I35: 0.752 | J35: 0.725 | K35: 0.719
B36: State | C36: 0.658 | D36: 0.667 | E36: 0.657 | F36: 0.665 | G36: 0.661 | H36: 0.568 | I36: 0.564 | J36: 0.557 | K36: 0.554
B37: Difference (BSD - State) | C37: =C35-C36 -> 0.171 | D37: =D35-D36 -> 0.159 | E37: =E35-E36 -> 0.162 | F37: =F35-F36 -> 0.167 | G37: =G35-G36 -> 0.159 | H37: =H35-H36 -> 0.201 | I37: =I35-I36 -> 0.188 | J37: =J35-J36 -> 0.168 | K37: =K35-K36 -> 0.165
A38: Black/African American | B38: BSD | C38: 0.355 | D38: 0.325 | E38: 0.33 | F38: 0.305 | G38: 0.271 | H38: 0.222 | I38: 0.241 | J38: 0.231 | K38: 0.23
B39: State | C39: 0.195 | D39: 0.188 | E39: 0.179 | F39: 0.176 | G39: 0.167 | H39: 0.129 | I39: 0.133 | J39: 0.145 | K39: 0.153
B40: Difference (BSD - State) | C40: =C38-C39 -> 0.16 | D40: =D38-D39 -> 0.137 | E40: =E38-E39 -> 0.151 | F40: =F38-F39 -> 0.129 | G40: =G38-G39 -> 0.104 | H40: =H38-H39 -> 0.093 | I40: =I38-I39 -> 0.108 | J40: =J38-J39 -> 0.086 | K40: =K38-K39 -> 0.077
A41: Hispanic/Latino | B41: BSD | C41: 0.311 | D41: 0.303 | E41: 0.287 | F41: 0.286 | G41: 0.279 | H41: 0.188 | I41: 0.174 | J41: 0.167 | K41: 0.164
...

Sheet Cohort Data
B1: OSAS Math Proficiency
B2: Grade Level
C3: Grade 3 | D3: Grade 4 | E3: Grade 5 | F3: Grade 6 | G3: Grade 7 | H3: Grade 8 | I3: Grade 11
B4: Kindergarten 2011-12 | C4: ='Overall Math Proficiency'!C7 -> 0.642 | D4: ='Overall Math Proficiency'!D10 -> 0.601 | E4: ='Overall Math Proficiency'!E13 -> 0.545 | F4: ='Overall Math Proficiency'!F16 -> 0.521 | G4: ='Overall Math Proficiency'!G19 -> 0.559 | H4: 0 | I4: ='Overall Math Proficiency'!I25 -> 0.328
B5: Class of 2024 | D5: =if(isnumber(C4)=true,if(isnumber(D4)=true,D4-C4,"N/A"),"N/A") -> -0.041 | E5: =if(isnumber(D4)=true,if(isnumber(E4)=true,E4-D4,"N/A"),"N/A") -> -0.056 | F5: =if(isnumber(E4)=true,if(isnumber(F4)=true,F4-E4,"N/A"),"N/A") -> -0.024 | G5: =if(isnumber(F4)=true,if(isnumber(G4)=true,G4-F4,"N/A"),"N/A") -> 0.038 | H5: Pandemic | I5: =if(isnumber(H4)=true,if(isnumber(I4)=true,I4-H4,"N/A"),"N/A") -> 0.328
B6: Ninth Grade 2020-21 | C6: 2014-15 | D6: 2015-16 | E6: 2016-17 | F6: 2017-18 | G6: 2018-19 | H6: 2019-20 | I6: 2022-23
B7: KIndergarten 2012-13 | C7: ='Overall Math Proficiency'!D7 -> 0.648 | D7: ='Overall Math Proficiency'!E10 -> 0.592 | E7: ='Overall Math Proficiency'!F13 -> 0.543 | F7: ='Overall Math Proficiency'!G16 -> 0.491 | G7: 0 | H7: 0 | I7: ='Overall Math Proficiency'!J25 -> 0.272
B8: Class of 2025 | D8: =if(isnumber(C7)=true,if(isnumber(D7)=true,D7-C7,"N/A"),"N/A") -> -0.056 | E8: =if(isnumber(D7)=true,if(isnumber(E7)=true,E7-D7,"N/A"),"N/A") -> -0.049 | F8: =if(isnumber(E7)=true,if(isnumber(F7)=true,F7-E7,"N/A"),"N/A") -> -0.052 | G8: Pandemic | H8: Pandemic | I8: =if(isnumber(H7)=true,if(isnumber(I7)=true,I7-H7,"N/A"),"N/A") -> 0.272
B9: Eighth Grade 2020-21 | C9: 2015-16 | D9: 2016-17 | E9: 2017-18 | F9: 2018-19 | G9: 2019-20 | H9: 2020-21 | I9: 2023-24
B10: KIndergarten 2013-14 | C10: ='Overall Math Proficiency'!E7 -> 0.637 | D10: ='Overall Math Proficiency'!F10 -> 0.589 | E10: ='Overall Math Proficiency'!G13 -> 0.524 | F10: 0 | G10: 0 | H10: ='Overall Math Proficiency'!H22 -> 0.388 | I10: ='Overall Math Proficiency'!K25 -> 0.303
B11: Class of 2026 | D11: =if(isnumber(C10)=true,if(isnumber(D10)=true,D10-C10,"N/A"),"N/A") -> -0.048 | E11: =if(isnumber(D10)=true,if(isnumber(E10)=true,E10-D10,"N/A"),"N/A") -> -0.065 | F11: Pandemic | G11: Pandemic | H11: =if(isnumber(E10)=true,if(isnumber(H10)=true,H10-E10,"N/A"),"N/A") -> -0.136 | I11: =if(isnumber(H10)=true,if(isnumber(I10)=true,I10-H10,"N/A"),"N/A") -> -0.085
B12: Seventh Grade 2020-21 | C12: 2016-17 | D12: 2017-18 | E12: 2018-19 | F12: 2019-20 | G12: 2020-21 | H12: 2021-22 | I12: 2024-25
B13: KIndergarten 2014-15 | C13: ='Overall Math Proficiency'!F7 -> 0.631 | D13: ='Overall Math Proficiency'!G10 -> 0.59 | E13: 0 | F13: 0 | G13: ='Overall Math Proficiency'!H19 -> 0.432 | H13: ='Overall Math Proficiency'!I22 -> 0.369 | I13: 0
B14: Class of 2027 | D14: =if(isnumber(C13)=true,if(isnumber(D13)=true,D13-C13,"N/A"),"N/A") -> -0.041 | E14: Pandemic | F14: Pandemic | G14: =if(isnumber(D13)=true,if(isnumber(G13)=true,G13-D13,"N/A"),"N/A") -> -0.158 | H14: =if(isnumber(G13)=true,if(isnumber(H13)=true,H13-G13,"N/A"),"N/A") -> -0.063 | I14: N/A
B15: Sixth Grade 2020-21 | C15: 2017-18 | D15: 2018-19 | E15: 2019-20 | F15: 2020-21 | G15: 2021-22 | H15: 2022-23 | I15: 2025-26
B16: KIndergarten 2015-16 | C16: ='Overall Math Proficiency'!G7 -> 0.632 | D16: 0 | E16: 0 | F16: ='Overall Math Proficiency'!H16 -> 0.399 | G16: ='Overall Math Proficiency'!I19 -> 0.415 | H16: ='Overall Math Proficiency'!J22 -> 0.355 | I16: 0
B17: Class of 2028 | D17: Pandemic | E17: Pandemic | F17: =if(isnumber(C16)=true,if(isnumber(F16)=true,F16-C16,"N/A"),"N/A") -> -0.233 | G17: =if(isnumber(F16)=true,if(isnumber(G16)=true,G16-F16,"N/A"),"N/A") -> 0.016 | H17: =if(isnumber(G16)=true,if(isnumber(H16)=true,H16-G16,"N/A"),"N/A") -> -0.06 | I17: N/A
B18: Fifth Grade 2020-21 | C18: 2018-19 | D18: 2019-20 | E18: 2020-21 | F18: 2021-22 | G18: 2022-23 | H18: 2023-24 | I18: 2026-27
B19: KIndergarten 2016-17 | C19: 0 | D19: 0 | E19: ='Overall Math Proficiency'!H13 -> 0.464 | F19: ='Overall Math Proficiency'!I16 -> 0.408 | G19: ='Overall Math Proficiency'!J19 -> 0.43 | H19: ='Overall Math Proficiency'!K22 -> 0.394 | I19: 0
B20: Class of 2029 | C20: Pandemic | D20: Pandemic | E20: First OSAS test | F20: =if(isnumber(E19)=true,if(isnumber(F19)=true,F19-E19,"N/A"),"N/A") -> -0.056 | G20: =if(isnumber(F19)=true,if(isnumber(G19)=true,G19-F19,"N/A"),"N/A") -> 0.022 | H20: =if(isnumber(G19)=true,if(isnumber(H19)=true,H19-G19,"N/A"),"N/A") -> -0.036 | I20: N/A
B21: Fourth Grade 2020-21 | C21: 2019-20 | D21: 2020-21 | E21: 2021-22 | F21: 2022-23 | G21: 2023-24 | H21: 2024-25 | I21: 2027-28
B22: KIndergarten 2017-18 | C22: 0 | D22: ='Overall Math Proficiency'!H10 -> 0.493 | E22: ='Overall Math Proficiency'!I13 -> 0.472 | F22: ='Overall Math Proficiency'!J16 -> 0.431 | G22: ='Overall Math Proficiency'!K19 -> 0.437 | H22: 0 | I22: 0
B23: Class of 2030 | C23: Pandemic | D23: First OSAS test | E23: =if(isnumber(D22)=true,if(isnumber(E22)=true,E22-D22,"N/A"),"N/A") -> -0.021 | F23: =if(isnumber(E22)=true,if(isnumber(F22)=true,F22-E22,"N/A"),"N/A") -> -0.041 | G23: =if(isnumber(F22)=true,if(isnumber(G22)=true,G22-F22,"N/A"),"N/A") -> 0.006 | H23: N/A | I23: N/A
B24: Third Grade 2020-21 | C24: 2020-21 | D24: 2021-22 | E24: 2022-23 | F24: 2023-24 | G24: 2024-25 | H24: 2025-26 | I24: 2027-28
B25: KIndergarten 2018-19 | C25: ='Overall Math Proficiency'!H7 -> 0.542 | D25: ='Overall Math Proficiency'!I10 -> 0.52 | E25: ='Overall Math Proficiency'!J13 -> 0.483 | F25: ='Overall Math Proficiency'!K16 -> 0.407 | G25: 0 | H25: 0 | I25: 0
B26: Class of 2031 | D26: =if(isnumber(C25)=true,if(isnumber(D25)=true,D25-C25,"N/A"),"N/A") -> -0.022 | E26: =if(isnumber(D25)=true,if(isnumber(E25)=true,E25-D25,"N/A"),"N/A") -> -0.037 | F26: =if(isnumber(E25)=true,if(isnumber(F25)=true,F25-E25,"N/A"),"N/A") -> -0.076 | G26: N/A | H26: N/A | I26: N/A
B27: Second Grade 2020-21 | C27: 2021-22 | D27: 2022-23 | E27: 2023-24 | F27: 2024-25 | G27: 2025-26 | H27: 2026-27 | I27: 2029-30
B28: KIndergarten 2019-20 | C28: ='Overall Math Proficiency'!I7 -> 0.567 | D28: ='Overall Math Proficiency'!J10 -> 0.535 | E28: ='Overall Math Proficiency'!K13 -> 0.478 | F28: 0 | G28: 0 | H28: 0 | I28: 0
B29: Class of 2032 | D29: =if(isnumber(C28)=true,if(isnumber(D28)=true,D28-C28,"N/A"),"N/A") -> -0.032 | E29: =if(isnumber(D28)=true,if(isnumber(E28)=true,E28-D28,"N/A"),"N/A") -> -0.057 | F29: N/A | G29: N/A | H29: N/A | I29: N/A
B30: First Grade 2020-21 | C30: 2022-23 | D30: 2023-24 | E30: 2024-25 | F30: 2025-26 | G30: 2026-27 | H30: 2027-28 | I30: 2030-31
B31: KIndergarten 2020-21 | C31: ='Overall Math Proficiency'!J7 -> 0.527 | D31: ='Overall Math Proficiency'!K10 -> 0.483 | E31: 0 | F31: 0 | G31: 0 | H31: 0 | I31: 0
B32: Class of 2033 | D32: =if(isnumber(C31)=true,if(isnumber(D31)=true,D31-C31,"N/A"),"N/A") -> -0.044 | E32: N/A | F32: N/A | G32: N/A | H32: N/A | I32: N/A
B33: Kindergarten 2020-21 | C33: 2023-24 | D33: 2024-25 | E33: 2025-26 | F33: 2026-27 | G33: 2027-28 | H33: 2028-29 | I33: 2031-32
B34: KIndergarten 2021-22 | C34: ='Overall Math Proficiency'!K7 -> 0.48 | D34: 0 | E34: 0 | F34: 0 | G34: 0 | H34: 0 | I34: 0
B35: Class of 2034 | D35: N/A | E35: N/A | F35: N/A | G35: N/A | H35: N/A | I35: N/A
C36: 2024-25 | D36: 2025-26 | E36: 2026-27 | F36: 2027-28 | G36: 2028-29 | H36: 2029-30 | I36: 2032-33
B38: *Prior to 2024-25, ODE counted students taking extended assessments as not proficient in these assessment reports. However, ODE received approval from the U.S. Department of Education to count as proficient those students who met the alternate standard on Extended Assessments.
C117: Grade 3 | D117: Grade 4 | E117: Grade 5 | F117: Grade 6 | G117: Grade 7 | H117: Grade 8 | I117: Grade 11
B118: Kindergarten 2011-12 | C118: ='Overall Math Proficiency'!C7 -> 0.642 | D118: ='Overall Math Proficiency'!D10 -> 0.601 | E118: ='Overall Math Proficiency'!E13 -> 0.545 | F118: ='Overall Math Proficiency'!F16 -> 0.521 | G118: ='Overall Math Proficiency'!G19 -> 0.559 | H118: 0 | I118: ='Overall Math Proficiency'!I25 -> 0.328
B119: KIndergarten 2012-13 | C119: ='Overall Math Proficiency'!D7 -> 0.648 | D119: ='Overall Math Proficiency'!E10 -> 0.592 | E119: ='Overall Math Proficiency'!F13 -> 0.543 | F119: ='Overall Math Proficiency'!G16 -> 0.491 | G119: 0 | H119: 0 | I119: ='Overall Math Proficiency'!J25 -> 0.272
...

Sheet Grade 3 with Demographics
A1: OSAS Grade 3 Math Proficiency
A2: Race/Ethnicity
C3: ='Overall Math Proficiency'!C3 -> 2014-15 | D3: ='Overall Math Proficiency'!D3 -> 2015-16 | E3: ='Overall Math Proficiency'!E3 -> 2016-17 | F3: ='Overall Math Proficiency'!F3 -> 2017-18 | G3: ='Overall Math Proficiency'!G3 -> 2018-19 | H3: ='Overall Math Proficiency'!H3 -> 2021-22 | I3: ='Overall Math Proficiency'!I3 -> 2022-23 | J3: ='Overall Math Proficiency'!J3 -> 2023-24 | K3: ='Overall Math Proficiency'!K3 -> 2024-25*
A4: Grade 3 BSD Average | B4: BSD | C4: ='Overall Math Proficiency'!C7 -> 0.642 | D4: ='Overall Math Proficiency'!D7 -> 0.648 | E4: ='Overall Math Proficiency'!E7 -> 0.637 | F4: ='Overall Math Proficiency'!F7 -> 0.631 | G4: ='Overall Math Proficiency'!G7 -> 0.632 | H4: ='Overall Math Proficiency'!H7 -> 0.542 | I4: ='Overall Math Proficiency'!I7 -> 0.567 | J4: ='Overall Math Proficiency'!J7 -> 0.527 | K4: ='Overall Math Proficiency'!K7 -> 0.48
B5: Change from Previous Year | D5: =D4-C4 -> 0.006 | E5: =E4-D4 -> -0.011 | F5: =F4-E4 -> -0.006 | G5: =G4-F4 -> 0.001 | H5: =H4-G4 -> -0.09 | I5: =I4-H4 -> 0.025 | J5: =J4-I4 -> -0.04 | K5: =K4-J4 -> -0.047
A6: Asian | B6: BSD | C6: 0.872 | D6: 0.882 | E6: 0.88 | F6: 0.879 | G6: 0.855 | H6: 0.778 | I6: 0.814 | J6: 0.769 | K6: 0.713
B7: Change from Previous Year | D7: =if(isnumber(C6)=true,if(isnumber(D6)=true,D6-C6,"N/A"),"N/A") -> 0.01 | E7: =if(isnumber(D6)=true,if(isnumber(E6)=true,E6-D6,"N/A"),"N/A") -> -0.002 | F7: =if(isnumber(E6)=true,if(isnumber(F6)=true,F6-E6,"N/A"),"N/A") -> -0.001 | G7: =if(isnumber(F6)=true,if(isnumber(G6)=true,G6-F6,"N/A"),"N/A") -> -0.024 | H7: =if(isnumber(G6)=true,if(isnumber(H6)=true,H6-G6,"N/A"),"N/A") -> -0.077 | I7: =if(isnumber(H6)=true,if(isnumber(I6)=true,I6-H6,"N/A"),"N/A") -> 0.036 | J7: =if(isnumber(I6)=true,if(isnumber(J6)=true,J6-I6,"N/A"),"N/A") -> -0.045 | K7: =K6-J6 -> -0.056
B8: Gap from BSD Average | C8: =if(isnumber(C$4)=true,if(isnumber(C6)=true,C6-C$4,"N/A"),"N/A") -> 0.23 | D8: =if(isnumber(D$4)=true,if(isnumber(D6)=true,D6-D$4,"N/A"),"N/A") -> 0.234 | E8: =if(isnumber(E$4)=true,if(isnumber(E6)=true,E6-E$4,"N/A"),"N/A") -> 0.243 | F8: =if(isnumber(F$4)=true,if(isnumber(F6)=true,F6-F$4,"N/A"),"N/A") -> 0.248 | G8: =if(isnumber(G$4)=true,if(isnumber(G6)=true,G6-G$4,"N/A"),"N/A") -> 0.223 | H8: =if(isnumber(H$4)=true,if(isnumber(H6)=true,H6-H$4,"N/A"),"N/A") -> 0.236 | I8: =if(isnumber(I$4)=true,if(isnumber(I6)=true,I6-I$4,"N/A"),"N/A") -> 0.247 | J8: =if(isnumber(J$4)=true,if(isnumber(J6)=true,J6-J$4,"N/A"),"N/A") -> 0.242 | K8: =if(isnumber(K$4)=true,if(isnumber(K6)=true,K6-K$4,"N/A"),"N/A") -> 0.233
A9: Black/African American | B9: BSD | C9: 0.409 | D9: 0.361 | E9: 0.45 | F9: 0.443 | G9: 0.289 | H9: 0.31 | I9: 0.356 | J9: 0.388 | K9: 0.27
B10: Change from Previous Year | D10: =if(isnumber(C9)=true,if(isnumber(D9)=true,D9-C9,"N/A"),"N/A") -> -0.048 | E10: =if(isnumber(D9)=true,if(isnumber(E9)=true,E9-D9,"N/A"),"N/A") -> 0.089 | F10: =if(isnumber(E9)=true,if(isnumber(F9)=true,F9-E9,"N/A"),"N/A") -> -0.007 | G10: =if(isnumber(F9)=true,if(isnumber(G9)=true,G9-F9,"N/A"),"N/A") -> -0.154 | H10: =if(isnumber(G9)=true,if(isnumber(H9)=true,H9-G9,"N/A"),"N/A") -> 0.021 | I10: =if(isnumber(H9)=true,if(isnumber(I9)=true,I9-H9,"N/A"),"N/A") -> 0.046 | J10: =if(isnumber(I9)=true,if(isnumber(J9)=true,J9-I9,"N/A"),"N/A") -> 0.032 | K10: =K9-J9 -> -0.118
B11: Gap from BSD Average | C11: =if(isnumber(C$4)=true,if(isnumber(C9)=true,C9-C$4,"N/A"),"N/A") -> -0.233 | D11: =if(isnumber(D$4)=true,if(isnumber(D9)=true,D9-D$4,"N/A"),"N/A") -> -0.287 | E11: =if(isnumber(E$4)=true,if(isnumber(E9)=true,E9-E$4,"N/A"),"N/A") -> -0.187 | F11: =if(isnumber(F$4)=true,if(isnumber(F9)=true,F9-F$4,"N/A"),"N/A") -> -0.188 | G11: =if(isnumber(G$4)=true,if(isnumber(G9)=true,G9-G$4,"N/A"),"N/A") -> -0.343 | H11: =if(isnumber(H$4)=true,if(isnumber(H9)=true,H9-H$4,"N/A"),"N/A") -> -0.232 | I11: =if(isnumber(I$4)=true,if(isnumber(I9)=true,I9-I$4,"N/A"),"N/A") -> -0.211 | J11: =if(isnumber(J$4)=true,if(isnumber(J9)=true,J9-J$4,"N/A"),"N/A") -> -0.139 | K11: =if(isnumber(K$4)=true,if(isnumber(K9)=true,K9-K$4,"N/A"),"N/A") -> -0.21
A12: Hispanic/Latino | B12: BSD | C12: 0.4 | D12: 0.383 | E12: 0.364 | F12: 0.373 | G12: 0.374 | H12: 0.271 | I12: 0.272 | J12: 0.236 | K12: 0.213
B13: Change from Previous Year | D13: =if(isnumber(C12)=true,if(isnumber(D12)=true,D12-C12,"N/A"),"N/A") -> -0.017 | E13: =if(isnumber(D12)=true,if(isnumber(E12)=true,E12-D12,"N/A"),"N/A") -> -0.019 | F13: =if(isnumber(E12)=true,if(isnumber(F12)=true,F12-E12,"N/A"),"N/A") -> 0.009 | G13: =if(isnumber(F12)=true,if(isnumber(G12)=true,G12-F12,"N/A"),"N/A") -> 0.001 | H13: =if(isnumber(G12)=true,if(isnumber(H12)=true,H12-G12,"N/A"),"N/A") -> -0.103 | I13: =if(isnumber(H12)=true,if(isnumber(I12)=true,I12-H12,"N/A"),"N/A") -> 0.001 | J13: =if(isnumber(I12)=true,if(isnumber(J12)=true,J12-I12,"N/A"),"N/A") -> -0.036 | K13: =K12-J12 -> -0.023
B14: Gap from BSD Average | C14: =if(isnumber(C$4)=true,if(isnumber(C12)=true,C12-C$4,"N/A"),"N/A") -> -0.242 | D14: =if(isnumber(D$4)=true,if(isnumber(D12)=true,D12-D$4,"N/A"),"N/A") -> -0.265 | E14: =if(isnumber(E$4)=true,if(isnumber(E12)=true,E12-E$4,"N/A"),"N/A") -> -0.273 | F14: =if(isnumber(F$4)=true,if(isnumber(F12)=true,F12-F$4,"N/A"),"N/A") -> -0.258 | G14: =if(isnumber(G$4)=true,if(isnumber(G12)=true,G12-G$4,"N/A"),"N/A") -> -0.258 | H14: =if(isnumber(H$4)=true,if(isnumber(H12)=true,H12-H$4,"N/A"),"N/A") -> -0.271 | I14: =if(isnumber(I$4)=true,if(isnumber(I12)=true,I12-I$4,"N/A"),"N/A") -> -0.295 | J14: =if(isnumber(J$4)=true,if(isnumber(J12)=true,J12-J$4,"N/A"),"N/A") -> -0.291 | K14: =if(isnumber(K$4)=true,if(isnumber(K12)=true,K12-K$4,"N/A"),"N/A") -> -0.267
A15: Multiracial | B15: BSD | C15: 0.725 | D15: 0.702 | E15: 0.714 | F15: 0.671 | G15: 0.702 | H15: 0.689 | I15: 0.646 | J15: 0.575 | K15: 0.55
B16: Change from Previous Year | D16: =if(isnumber(C15)=true,if(isnumber(D15)=true,D15-C15,"N/A"),"N/A") -> -0.023 | E16: =if(isnumber(D15)=true,if(isnumber(E15)=true,E15-D15,"N/A"),"N/A") -> 0.012 | F16: =if(isnumber(E15)=true,if(isnumber(F15)=true,F15-E15,"N/A"),"N/A") -> -0.043 | G16: =if(isnumber(F15)=true,if(isnumber(G15)=true,G15-F15,"N/A"),"N/A") -> 0.031 | H16: =if(isnumber(G15)=true,if(isnumber(H15)=true,H15-G15,"N/A"),"N/A") -> -0.013 | I16: =if(isnumber(H15)=true,if(isnumber(I15)=true,I15-H15,"N/A"),"N/A") -> -0.043 | J16: =if(isnumber(I15)=true,if(isnumber(J15)=true,J15-I15,"N/A"),"N/A") -> -0.071 | K16: =K15-J15 -> -0.025
B17: Gap from BSD Average | C17: =if(isnumber(C$4)=true,if(isnumber(C15)=true,C15-C$4,"N/A"),"N/A") -> 0.083 | D17: =if(isnumber(D$4)=true,if(isnumber(D15)=true,D15-D$4,"N/A"),"N/A") -> 0.054 | E17: =if(isnumber(E$4)=true,if(isnumber(E15)=true,E15-E$4,"N/A"),"N/A") -> 0.077 | F17: =if(isnumber(F$4)=true,if(isnumber(F15)=true,F15-F$4,"N/A"),"N/A") -> 0.04 | G17: =if(isnumber(G$4)=true,if(isnumber(G15)=true,G15-G$4,"N/A"),"N/A") -> 0.07 | H17: =if(isnumber(H$4)=true,if(isnumber(H15)=true,H15-H$4,"N/A"),"N/A") -> 0.147 | I17: =if(isnumber(I$4)=true,if(isnumber(I15)=true,I15-I$4,"N/A"),"N/A") -> 0.079 | J17: =if(isnumber(J$4)=true,if(isnumber(J15)=true,J15-J$4,"N/A"),"N/A") -> 0.048 | K17: =if(isnumber(K$4)=true,if(isnumber(K15)=true,K15-K$4,"N/A"),"N/A") -> 0.07
A18: Native American/Alaska Native | B18: BSD | C18: 0.556 | D18: 0.6 | E18: * | F18: 0.471 | G18: 0.375 | H18: 0.4 | I18: * | J18: 0.417 | K18: 0.308
B19: Change from Previous Year | D19: =if(isnumber(C18)=true,if(isnumber(D18)=true,D18-C18,"N/A"),"N/A") -> 0.044 | E19: =if(isnumber(D18)=true,if(isnumber(E18)=true,E18-D18,"N/A"),"N/A") -> N/A | F19: =if(isnumber(E18)=true,if(isnumber(F18)=true,F18-E18,"N/A"),"N/A") -> N/A | G19: =if(isnumber(F18)=true,if(isnumber(G18)=true,G18-F18,"N/A"),"N/A") -> -0.096 | H19: =if(isnumber(G18)=true,if(isnumber(H18)=true,H18-G18,"N/A"),"N/A") -> 0.025 | I19: =if(isnumber(H18)=true,if(isnumber(I18)=true,I18-H18,"N/A"),"N/A") -> N/A | J19: =if(isnumber(I18)=true,if(isnumber(J18)=true,J18-I18,"N/A"),"N/A") -> N/A | K19: =K18-J18 -> -0.109
B20: Gap from BSD Average | C20: =if(isnumber(C$4)=true,if(isnumber(C18)=true,C18-C$4,"N/A"),"N/A") -> -0.086 | D20: =if(isnumber(D$4)=true,if(isnumber(D18)=true,D18-D$4,"N/A"),"N/A") -> -0.048 | E20: =if(isnumber(E$4)=true,if(isnumber(E18)=true,E18-E$4,"N/A"),"N/A") -> N/A | F20: =if(isnumber(F$4)=true,if(isnumber(F18)=true,F18-F$4,"N/A"),"N/A") -> -0.16 | G20: =if(isnumber(G$4)=true,if(isnumber(G18)=true,G18-G$4,"N/A"),"N/A") -> -0.257 | H20: =if(isnumber(H$4)=true,if(isnumber(H18)=true,H18-H$4,"N/A"),"N/A") -> -0.142 | I20: =if(isnumber(I$4)=true,if(isnumber(I18)=true,I18-I$4,"N/A"),"N/A") -> N/A | J20: =if(isnumber(J$4)=true,if(isnumber(J18)=true,J18-J$4,"N/A"),"N/A") -> -0.11 | K20: =if(isnumber(K$4)=true,if(isnumber(K18)=true,K18-K$4,"N/A"),"N/A") -> -0.172
A21: Native Hawaiian/Pacific Islander | B21: BSD | C21: 0.188 | D21: 0.5 | E21: 0.526 | F21: 0.333 | G21: 0.357 | H21: 0.059 | I21: 0.212 | J21: 0.059 | K21: 0.16
B22: Change from Previous Year | D22: =if(isnumber(C21)=true,if(isnumber(D21)=true,D21-C21,"N/A"),"N/A") -> 0.312 | E22: =if(isnumber(D21)=true,if(isnumber(E21)=true,E21-D21,"N/A"),"N/A") -> 0.026 | F22: =if(isnumber(E21)=true,if(isnumber(F21)=true,F21-E21,"N/A"),"N/A") -> -0.193 | G22: =if(isnumber(F21)=true,if(isnumber(G21)=true,G21-F21,"N/A"),"N/A") -> 0.024 | H22: =if(isnumber(G21)=true,if(isnumber(H21)=true,H21-G21,"N/A"),"N/A") -> -0.298 | I22: =if(isnumber(H21)=true,if(isnumber(I21)=true,I21-H21,"N/A"),"N/A") -> 0.153 | J22: =if(isnumber(I21)=true,if(isnumber(J21)=true,J21-I21,"N/A"),"N/A") -> -0.153 | K22: =K21-J21 -> 0.101
B23: Gap from BSD Average | C23: =if(isnumber(C$4)=true,if(isnumber(C21)=true,C21-C$4,"N/A"),"N/A") -> -0.454 | D23: =if(isnumber(D$4)=true,if(isnumber(D21)=true,D21-D$4,"N/A"),"N/A") -> -0.148 | E23: =if(isnumber(E$4)=true,if(isnumber(E21)=true,E21-E$4,"N/A"),"N/A") -> -0.111 | F23: =if(isnumber(F$4)=true,if(isnumber(F21)=true,F21-F$4,"N/A"),"N/A") -> -0.298 | G23: =if(isnumber(G$4)=true,if(isnumber(G21)=true,G21-G$4,"N/A"),"N/A") -> -0.275 | H23: =if(isnumber(H$4)=true,if(isnumber(H21)=true,H21-H$4,"N/A"),"N/A") -> -0.483 | I23: =if(isnumber(I$4)=true,if(isnumber(I21)=true,I21-I$4,"N/A"),"N/A") -> -0.355 | J23: =if(isnumber(J$4)=true,if(isnumber(J21)=true,J21-J$4,"N/A"),"N/A") -> -0.468 | K23: =if(isnumber(K$4)=true,if(isnumber(K21)=true,K21-K$4,"N/A"),"N/A") -> -0.32
A24: White | B24: BSD | C24: 0.708 | D24: 0.725 | E24: 0.702 | F24: 0.689 | G24: 0.692 | H24: 0.59 | I24: 0.654 | J24: 0.61 | K24: 0.584
B25: Change from Previous Year | D25: =if(isnumber(C24)=true,if(isnumber(D24)=true,D24-C24,"N/A"),"N/A") -> 0.017 | E25: =if(isnumber(D24)=true,if(isnumber(E24)=true,E24-D24,"N/A"),"N/A") -> -0.023 | F25: =if(isnumber(E24)=true,if(isnumber(F24)=true,F24-E24,"N/A"),"N/A") -> -0.013 | G25: =if(isnumber(F24)=true,if(isnumber(G24)=true,G24-F24,"N/A"),"N/A") -> 0.003 | H25: =if(isnumber(G24)=true,if(isnumber(H24)=true,H24-G24,"N/A"),"N/A") -> -0.102 | I25: =if(isnumber(H24)=true,if(isnumber(I24)=true,I24-H24,"N/A"),"N/A") -> 0.064 | J25: =if(isnumber(I24)=true,if(isnumber(J24)=true,J24-I24,"N/A"),"N/A") -> -0.044 | K25: =K24-J24 -> -0.026
B26: Gap from BSD Average | C26: =if(isnumber(C$4)=true,if(isnumber(C24)=true,C24-C$4,"N/A"),"N/A") -> 0.066 | D26: =if(isnumber(D$4)=true,if(isnumber(D24)=true,D24-D$4,"N/A"),"N/A") -> 0.077 | E26: =if(isnumber(E$4)=true,if(isnumber(E24)=true,E24-E$4,"N/A"),"N/A") -> 0.065 | F26: =if(isnumber(F$4)=true,if(isnumber(F24)=true,F24-F$4,"N/A"),"N/A") -> 0.058 | G26: =if(isnumber(G$4)=true,if(isnumber(G24)=true,G24-G$4,"N/A"),"N/A") -> 0.06 | H26: =if(isnumber(H$4)=true,if(isnumber(H24)=true,H24-H$4,"N/A"),"N/A") -> 0.048 | I26: =if(isnumber(I$4)=true,if(isnumber(I24)=true,I24-I$4,"N/A"),"N/A") -> 0.087 | J26: =if(isnumber(J$4)=true,if(isnumber(J24)=true,J24-J$4,"N/A"),"N/A") -> 0.083 | K26: =if(isnumber(K$4)=true,if(isnumber(K24)=true,K24-K$4,"N/A"),"N/A") -> 0.104
A27: *Prior to 2024-25, ODE counted students taking extended assessments as not proficient in these assessment reports. However, ODE received approval from the U.S. Department of Education to count as proficient those students who met the alternate standard on Extended Assessments.
A29: Student Group
C30: =C3 -> 2014-15 | D30: =D3 -> 2015-16 | E30: =E3 -> 2016-17 | F30: =F3 -> 2017-18 | G30: =G3 -> 2018-19 | H30: =H3 -> 2021-22 | I30: =I3 -> 2022-23 | J30: =J3 -> 2023-24 | K30: =K3 -> 2024-25*
A31: Grade 3 BSD Average | B31: BSD | C31: =C4 -> 0.642 | D31: =D4 -> 0.648 | E31: =E4 -> 0.637 | F31: =F4 -> 0.631 | G31: =G4 -> 0.632 | H31: =H4 -> 0.542 | I31: =I4 -> 0.567 | J31: =J4 -> 0.527 | K31: =K4 -> 0.48
B32: Change from Previous Year | D32: =D31-C31 -> 0.006 | E32: =E31-D31 -> -0.011 | F32: =F31-E31 -> -0.006 | G32: =G31-F31 -> 0.001 | H32: =H31-G31 -> -0.09 | I32: =I31-H31 -> 0.025 | J32: =J31-I31 -> -0.04 | K32: =K31-J31 -> -0.047
A33: English Learners | B33: BSD | C33: 0.278 | D33: 0.296 | E33: 0.321 | F33: 0.226 | G33: 0.237 | H33: 0.162 | I33: 0.18 | J33: 0.136 | K33: 0.127
B34: Change from Previous Year | D34: =if(isnumber(C33)=true,if(isnumber(D33)=true,D33-C33,"N/A"),"N/A") -> 0.018 | E34: =if(isnumber(D33)=true,if(isnumber(E33)=true,E33-D33,"N/A"),"N/A") -> 0.025 | F34: =if(isnumber(E33)=true,if(isnumber(F33)=true,F33-E33,"N/A"),"N/A") -> -0.095 | G34: =if(isnumber(F33)=true,if(isnumber(G33)=true,G33-F33,"N/A"),"N/A") -> 0.011 | H34: =if(isnumber(G33)=true,if(isnumber(H33)=true,H33-G33,"N/A"),"N/A") -> -0.075 | I34: =if(isnumber(H33)=true,if(isnumber(I33)=true,I33-H33,"N/A"),"N/A") -> 0.018 | J34: =if(isnumber(I33)=true,if(isnumber(J33)=true,J33-I33,"N/A"),"N/A") -> -0.044 | K34: =K33-J33 -> -0.009
B35: Gap from BSD Average | C35: =if(isnumber(C$31)=true,if(isnumber(C33)=true,C33-C$31,"N/A"),"N/A") -> -0.364 | D35: =if(isnumber(D$31)=true,if(isnumber(D33)=true,D33-D$31,"N/A"),"N/A") -> -0.352 | E35: =if(isnumber(E$31)=true,if(isnumber(E33)=true,E33-E$31,"N/A"),"N/A") -> -0.316 | F35: =if(isnumber(F$31)=true,if(isnumber(F33)=true,F33-F$31,"N/A"),"N/A") -> -0.405 | G35: =if(isnumber(G$31)=true,if(isnumber(G33)=true,G33-G$31,"N/A"),"N/A") -> -0.395 | H35: =if(isnumber(H$31)=true,if(isnumber(H33)=true,H33-H$31,"N/A"),"N/A") -> -0.38 | I35: =if(isnumber(I$31)=true,if(isnumber(I33)=true,I33-I$31,"N/A"),"N/A") -> -0.387 | J35: =if(isnumber(J$31)=true,if(isnumber(J33)=true,J33-J$31,"N/A"),"N/A") -> -0.391 | K35: =if(isnumber(K$31)=true,if(isnumber(K33)=true,K33-K$31,"N/A"),"N/A") -> -0.353
A36: Indian Education | B36: BSD | K36: 0.294
B37: Change from Previous Year | C37: Data withheld to protect privacy
B38: Gap from BSD Average | K38: =if(isnumber(K$31)=true,if(isnumber(K36)=true,K36-K$31,"N/A"),"N/A") -> -0.186
A39: Migrant Students | B39: BSD | C39: 0.423 | D39: 0.189 | E39: 0.393 | F39: 0.176 | G39: 0.303 | H39: 0.227 | I39: 0.316 | J39: 0.15 | K39: 0.105
B40: Change from Previous Year | D40: =if(isnumber(C39)=true,if(isnumber(D39)=true,D39-C39,"N/A"),"N/A") -> -0.234 | E40: =if(isnumber(D39)=true,if(isnumber(E39)=true,E39-D39,"N/A"),"N/A") -> 0.204 | F40: =if(isnumber(E39)=true,if(isnumber(F39)=true,F39-E39,"N/A"),"N/A") -> -0.217 | G40: =if(isnumber(F39)=true,if(isnumber(G39)=true,G39-F39,"N/A"),"N/A") -> 0.127 | H40: =if(isnumber(G39)=true,if(isnumber(H39)=true,H39-G39,"N/A"),"N/A") -> -0.076 | I40: =if(isnumber(H39)=true,if(isnumber(I39)=true,I39-H39,"N/A"),"N/A") -> 0.089 | J40: =if(isnumber(I39)=true,if(isnumber(J39)=true,J39-I39,"N/A"),"N/A") -> -0.166 | K40: =K39-J39 -> -0.045
B41: Gap from BSD Average | C41: =if(isnumber(C$31)=true,if(isnumber(C39)=true,C39-C$31,"N/A"),"N/A") -> -0.219 | D41: =if(isnumber(D$31)=true,if(isnumber(D39)=true,D39-D$31,"N/A"),"N/A") -> -0.459 | E41: =if(isnumber(E$31)=true,if(isnumber(E39)=true,E39-E$31,"N/A"),"N/A") -> -0.244 | F41: =if(isnumber(F$31)=true,if(isnumber(F39)=true,F39-F$31,"N/A"),"N/A") -> -0.455 | G41: =if(isnumber(G$31)=true,if(isnumber(G39)=true,G39-G$31,"N/A"),"N/A") -> -0.329 | H41: =if(isnumber(H$31)=true,if(isnumber(H39)=true,H39-H$31,"N/A"),"N/A") -> -0.315 | I41: =if(isnumber(I$31)=true,if(isnumber(I39)=true,I39-I$31,"N/A"),"N/A") -> -0.251 | J41: =if(isnumber(J$31)=true,if(isnumber(J39)=true,J39-J$31,"N/A"),"N/A") -> -0.377 | K41: =if(isnumber(K$31)=true,if(isnumber(K39)=true,K39-K$31,"N/A"),"N/A") -> -0.375
...

Sheet Grade 4 with Demographics
A1: OSAS Grade 4 Math Proficiency
A2: Race/Ethnicity
C3: ='Overall Math Proficiency'!C3 -> 2014-15 | D3: ='Overall Math Proficiency'!D3 -> 2015-16 | E3: ='Overall Math Proficiency'!E3 -> 2016-17 | F3: ='Overall Math Proficiency'!F3 -> 2017-18 | G3: ='Overall Math Proficiency'!G3 -> 2018-19 | H3: ='Overall Math Proficiency'!H3 -> 2021-22 | I3: ='Overall Math Proficiency'!I3 -> 2022-23 | J3: ='Overall Math Proficiency'!J3 -> 2023-24 | K3: ='Overall Math Proficiency'!K3 -> 2024-25*
A4: Grade 4 BSD Average | B4: BSD | C4: ='Overall Math Proficiency'!C10 -> 0.62 | D4: ='Overall Math Proficiency'!D10 -> 0.601 | E4: ='Overall Math Proficiency'!E10 -> 0.592 | F4: ='Overall Math Proficiency'!F10 -> 0.589 | G4: ='Overall Math Proficiency'!G10 -> 0.59 | H4: ='Overall Math Proficiency'!H10 -> 0.493 | I4: ='Overall Math Proficiency'!I10 -> 0.52 | J4: ='Overall Math Proficiency'!J10 -> 0.535 | K4: ='Overall Math Proficiency'!K10 -> 0.483
B5: Change from Previous Year | D5: =D4-C4 -> -0.019 | E5: =E4-D4 -> -0.009 | F5: =F4-E4 -> -0.003 | G5: =G4-F4 -> 0.001 | H5: =H4-G4 -> -0.097 | I5: =I4-H4 -> 0.027 | J5: =J4-I4 -> 0.015 | K5: =K4-J4 -> -0.052
A6: Asian | B6: BSD | C6: 0.87 | D6: 0.846 | E6: 0.852 | F6: 0.874 | G6: 0.865 | H6: 0.775 | I6: 0.776 | J6: 0.792 | K6: 0.763
B7: Change from Previous Year | D7: =if(isnumber(C6)=true,if(isnumber(D6)=true,D6-C6,"N/A"),"N/A") -> -0.024 | E7: =if(isnumber(D6)=true,if(isnumber(E6)=true,E6-D6,"N/A"),"N/A") -> 0.006 | F7: =if(isnumber(E6)=true,if(isnumber(F6)=true,F6-E6,"N/A"),"N/A") -> 0.022 | G7: =if(isnumber(F6)=true,if(isnumber(G6)=true,G6-F6,"N/A"),"N/A") -> -0.009 | H7: =if(isnumber(G6)=true,if(isnumber(H6)=true,H6-G6,"N/A"),"N/A") -> -0.09 | I7: =if(isnumber(H6)=true,if(isnumber(I6)=true,I6-H6,"N/A"),"N/A") -> 0.001 | J7: =if(isnumber(I6)=true,if(isnumber(J6)=true,J6-I6,"N/A"),"N/A") -> 0.016 | K7: =K6-J6 -> -0.029
B8: Gap from BSD Average | C8: =if(isnumber(C$4)=true,if(isnumber(C6)=true,C6-C$4,"N/A"),"N/A") -> 0.25 | D8: =if(isnumber(D$4)=true,if(isnumber(D6)=true,D6-D$4,"N/A"),"N/A") -> 0.245 | E8: =if(isnumber(E$4)=true,if(isnumber(E6)=true,E6-E$4,"N/A"),"N/A") -> 0.26 | F8: =if(isnumber(F$4)=true,if(isnumber(F6)=true,F6-F$4,"N/A"),"N/A") -> 0.285 | G8: =if(isnumber(G$4)=true,if(isnumber(G6)=true,G6-G$4,"N/A"),"N/A") -> 0.275 | H8: =if(isnumber(H$4)=true,if(isnumber(H6)=true,H6-H$4,"N/A"),"N/A") -> 0.282 | I8: =if(isnumber(I$4)=true,if(isnumber(I6)=true,I6-I$4,"N/A"),"N/A") -> 0.256 | J8: =if(isnumber(J$4)=true,if(isnumber(J6)=true,J6-J$4,"N/A"),"N/A") -> 0.257 | K8: =if(isnumber(K$4)=true,if(isnumber(K6)=true,K6-K$4,"N/A"),"N/A") -> 0.28
A9: Black/African American | B9: BSD | C9: 0.476 | D9: 0.414 | E9: 0.323 | F9: 0.329 | G9: 0.309 | H9: 0.264 | I9: 0.304 | J9: 0.307 | K9: 0.34
B10: Change from Previous Year | D10: =if(isnumber(C9)=true,if(isnumber(D9)=true,D9-C9,"N/A"),"N/A") -> -0.062 | E10: =if(isnumber(D9)=true,if(isnumber(E9)=true,E9-D9,"N/A"),"N/A") -> -0.091 | F10: =if(isnumber(E9)=true,if(isnumber(F9)=true,F9-E9,"N/A"),"N/A") -> 0.006 | G10: =if(isnumber(F9)=true,if(isnumber(G9)=true,G9-F9,"N/A"),"N/A") -> -0.02 | H10: =if(isnumber(G9)=true,if(isnumber(H9)=true,H9-G9,"N/A"),"N/A") -> -0.045 | I10: =if(isnumber(H9)=true,if(isnumber(I9)=true,I9-H9,"N/A"),"N/A") -> 0.04 | J10: =if(isnumber(I9)=true,if(isnumber(J9)=true,J9-I9,"N/A"),"N/A") -> 0.003 | K10: =K9-J9 -> 0.033
B11: Gap from BSD Average | C11: =if(isnumber(C$4)=true,if(isnumber(C9)=true,C9-C$4,"N/A"),"N/A") -> -0.144 | D11: =if(isnumber(D$4)=true,if(isnumber(D9)=true,D9-D$4,"N/A"),"N/A") -> -0.187 | E11: =if(isnumber(E$4)=true,if(isnumber(E9)=true,E9-E$4,"N/A"),"N/A") -> -0.269 | F11: =if(isnumber(F$4)=true,if(isnumber(F9)=true,F9-F$4,"N/A"),"N/A") -> -0.26 | G11: =if(isnumber(G$4)=true,if(isnumber(G9)=true,G9-G$4,"N/A"),"N/A") -> -0.281 | H11: =if(isnumber(H$4)=true,if(isnumber(H9)=true,H9-H$4,"N/A"),"N/A") -> -0.229 | I11: =if(isnumber(I$4)=true,if(isnumber(I9)=true,I9-I$4,"N/A"),"N/A") -> -0.216 | J11: =if(isnumber(J$4)=true,if(isnumber(J9)=true,J9-J$4,"N/A"),"N/A") -> -0.228 | K11: =if(isnumber(K$4)=true,if(isnumber(K9)=true,K9-K$4,"N/A"),"N/A") -> -0.143
A12: Hispanic/Latino | B12: BSD | C12: 0.344 | D12: 0.365 | E12: 0.333 | F12: 0.294 | G12: 0.319 | H12: 0.195 | I12: 0.219 | J12: 0.239 | K12: 0.175
B13: Change from Previous Year | D13: =if(isnumber(C12)=true,if(isnumber(D12)=true,D12-C12,"N/A"),"N/A") -> 0.021 | E13: =if(isnumber(D12)=true,if(isnumber(E12)=true,E12-D12,"N/A"),"N/A") -> -0.032 | F13: =if(isnumber(E12)=true,if(isnumber(F12)=true,F12-E12,"N/A"),"N/A") -> -0.039 | G13: =if(isnumber(F12)=true,if(isnumber(G12)=true,G12-F12,"N/A"),"N/A") -> 0.025 | H13: =if(isnumber(G12)=true,if(isnumber(H12)=true,H12-G12,"N/A"),"N/A") -> -0.124 | I13: =if(isnumber(H12)=true,if(isnumber(I12)=true,I12-H12,"N/A"),"N/A") -> 0.024 | J13: =if(isnumber(I12)=true,if(isnumber(J12)=true,J12-I12,"N/A"),"N/A") -> 0.02 | K13: =K12-J12 -> -0.064
B14: Gap from BSD Average | C14: =if(isnumber(C$4)=true,if(isnumber(C12)=true,C12-C$4,"N/A"),"N/A") -> -0.276 | D14: =if(isnumber(D$4)=true,if(isnumber(D12)=true,D12-D$4,"N/A"),"N/A") -> -0.236 | E14: =if(isnumber(E$4)=true,if(isnumber(E12)=true,E12-E$4,"N/A"),"N/A") -> -0.259 | F14: =if(isnumber(F$4)=true,if(isnumber(F12)=true,F12-F$4,"N/A"),"N/A") -> -0.295 | G14: =if(isnumber(G$4)=true,if(isnumber(G12)=true,G12-G$4,"N/A"),"N/A") -> -0.271 | H14: =if(isnumber(H$4)=true,if(isnumber(H12)=true,H12-H$4,"N/A"),"N/A") -> -0.298 | I14: =if(isnumber(I$4)=true,if(isnumber(I12)=true,I12-I$4,"N/A"),"N/A") -> -0.301 | J14: =if(isnumber(J$4)=true,if(isnumber(J12)=true,J12-J$4,"N/A"),"N/A") -> -0.296 | K14: =if(isnumber(K$4)=true,if(isnumber(K12)=true,K12-K$4,"N/A"),"N/A") -> -0.308
A15: Multiracial | B15: BSD | C15: 0.695 | D15: 0.655 | E15: 0.638 | F15: 0.664 | G15: 0.586 | H15: 0.548 | I15: 0.657 | J15: 0.648 | K15: 0.571
B16: Change from Previous Year | D16: =if(isnumber(C15)=true,if(isnumber(D15)=true,D15-C15,"N/A"),"N/A") -> -0.04 | E16: =if(isnumber(D15)=true,if(isnumber(E15)=true,E15-D15,"N/A"),"N/A") -> -0.017 | F16: =if(isnumber(E15)=true,if(isnumber(F15)=true,F15-E15,"N/A"),"N/A") -> 0.026 | G16: =if(isnumber(F15)=true,if(isnumber(G15)=true,G15-F15,"N/A"),"N/A") -> -0.078 | H16: =if(isnumber(G15)=true,if(isnumber(H15)=true,H15-G15,"N/A"),"N/A") -> -0.038 | I16: =if(isnumber(H15)=true,if(isnumber(I15)=true,I15-H15,"N/A"),"N/A") -> 0.109 | J16: =if(isnumber(I15)=true,if(isnumber(J15)=true,J15-I15,"N/A"),"N/A") -> -0.009 | K16: =K15-J15 -> -0.077
B17: Gap from BSD Average | C17: =if(isnumber(C$4)=true,if(isnumber(C15)=true,C15-C$4,"N/A"),"N/A") -> 0.075 | D17: =if(isnumber(D$4)=true,if(isnumber(D15)=true,D15-D$4,"N/A"),"N/A") -> 0.054 | E17: =if(isnumber(E$4)=true,if(isnumber(E15)=true,E15-E$4,"N/A"),"N/A") -> 0.046 | F17: =if(isnumber(F$4)=true,if(isnumber(F15)=true,F15-F$4,"N/A"),"N/A") -> 0.075 | G17: =if(isnumber(G$4)=true,if(isnumber(G15)=true,G15-G$4,"N/A"),"N/A") -> -0.004 | H17: =if(isnumber(H$4)=true,if(isnumber(H15)=true,H15-H$4,"N/A"),"N/A") -> 0.055 | I17: =if(isnumber(I$4)=true,if(isnumber(I15)=true,I15-I$4,"N/A"),"N/A") -> 0.137 | J17: =if(isnumber(J$4)=true,if(isnumber(J15)=true,J15-J$4,"N/A"),"N/A") -> 0.113 | K17: =if(isnumber(K$4)=true,if(isnumber(K15)=true,K15-K$4,"N/A"),"N/A") -> 0.088
A18: Native American/Alaska Native | B18: BSD | C18: 0.533 | D18: 0.471 | E18: 0.5 | F18: * | G18: 0.438 | H18: 0.222 | I18: 0.385 | J18: * | K18: 0.308
B19: Change from Previous Year | D19: =if(isnumber(C18)=true,if(isnumber(D18)=true,D18-C18,"N/A"),"N/A") -> -0.062 | E19: =if(isnumber(D18)=true,if(isnumber(E18)=true,E18-D18,"N/A"),"N/A") -> 0.029 | F19: =if(isnumber(E18)=true,if(isnumber(F18)=true,F18-E18,"N/A"),"N/A") -> N/A | G19: =if(isnumber(F18)=true,if(isnumber(G18)=true,G18-F18,"N/A"),"N/A") -> N/A | H19: =if(isnumber(G18)=true,if(isnumber(H18)=true,H18-G18,"N/A"),"N/A") -> -0.216 | I19: =if(isnumber(H18)=true,if(isnumber(I18)=true,I18-H18,"N/A"),"N/A") -> 0.163 | J19: =if(isnumber(I18)=true,if(isnumber(J18)=true,J18-I18,"N/A"),"N/A") -> N/A | K19: =K18-J18 -> #VALUE!
B20: Gap from BSD Average | C20: =if(isnumber(C$4)=true,if(isnumber(C18)=true,C18-C$4,"N/A"),"N/A") -> -0.087 | D20: =if(isnumber(D$4)=true,if(isnumber(D18)=true,D18-D$4,"N/A"),"N/A") -> -0.13 | E20: =if(isnumber(E$4)=true,if(isnumber(E18)=true,E18-E$4,"N/A"),"N/A") -> -0.092 | F20: =if(isnumber(F$4)=true,if(isnumber(F18)=true,F18-F$4,"N/A"),"N/A") -> N/A | G20: =if(isnumber(G$4)=true,if(isnumber(G18)=true,G18-G$4,"N/A"),"N/A") -> -0.152 | H20: =if(isnumber(H$4)=true,if(isnumber(H18)=true,H18-H$4,"N/A"),"N/A") -> -0.271 | I20: =if(isnumber(I$4)=true,if(isnumber(I18)=true,I18-I$4,"N/A"),"N/A") -> -0.135 | J20: =if(isnumber(J$4)=true,if(isnumber(J18)=true,J18-J$4,"N/A"),"N/A") -> N/A | K20: =if(isnumber(K$4)=true,if(isnumber(K18)=true,K18-K$4,"N/A"),"N/A") -> -0.175
A21: Native Hawaiian/Pacific Islander | B21: BSD | C21: 0.37 | D21: 0.211 | E21: 0.6 | F21: 0.333 | G21: 0.4 | H21: 0.105 | I21: 0.2 | J21: 0.231 | K21: 0.056
B22: Change from Previous Year | D22: =if(isnumber(C21)=true,if(isnumber(D21)=true,D21-C21,"N/A"),"N/A") -> -0.159 | E22: =if(isnumber(D21)=true,if(isnumber(E21)=true,E21-D21,"N/A"),"N/A") -> 0.389 | F22: =if(isnumber(E21)=true,if(isnumber(F21)=true,F21-E21,"N/A"),"N/A") -> -0.267 | G22: =if(isnumber(F21)=true,if(isnumber(G21)=true,G21-F21,"N/A"),"N/A") -> 0.067 | H22: =if(isnumber(G21)=true,if(isnumber(H21)=true,H21-G21,"N/A"),"N/A") -> -0.295 | I22: =if(isnumber(H21)=true,if(isnumber(I21)=true,I21-H21,"N/A"),"N/A") -> 0.095 | J22: =if(isnumber(I21)=true,if(isnumber(J21)=true,J21-I21,"N/A"),"N/A") -> 0.031 | K22: =K21-J21 -> -0.175
B23: Gap from BSD Average | C23: =if(isnumber(C$4)=true,if(isnumber(C21)=true,C21-C$4,"N/A"),"N/A") -> -0.25 | D23: =if(isnumber(D$4)=true,if(isnumber(D21)=true,D21-D$4,"N/A"),"N/A") -> -0.39 | E23: =if(isnumber(E$4)=true,if(isnumber(E21)=true,E21-E$4,"N/A"),"N/A") -> 0.008 | F23: =if(isnumber(F$4)=true,if(isnumber(F21)=true,F21-F$4,"N/A"),"N/A") -> -0.256 | G23: =if(isnumber(G$4)=true,if(isnumber(G21)=true,G21-G$4,"N/A"),"N/A") -> -0.19 | H23: =if(isnumber(H$4)=true,if(isnumber(H21)=true,H21-H$4,"N/A"),"N/A") -> -0.388 | I23: =if(isnumber(I$4)=true,if(isnumber(I21)=true,I21-I$4,"N/A"),"N/A") -> -0.32 | J23: =if(isnumber(J$4)=true,if(isnumber(J21)=true,J21-J$4,"N/A"),"N/A") -> -0.304 | K23: =if(isnumber(K$4)=true,if(isnumber(K21)=true,K21-K$4,"N/A"),"N/A") -> -0.427
A24: White | B24: BSD | C24: 0.69 | D24: 0.665 | E24: 0.651 | F24: 0.656 | G24: 0.653 | H24: 0.559 | I24: 0.575 | J24: 0.609 | K24: 0.57
B25: Change from Previous Year | D25: =if(isnumber(C24)=true,if(isnumber(D24)=true,D24-C24,"N/A"),"N/A") -> -0.025 | E25: =if(isnumber(D24)=true,if(isnumber(E24)=true,E24-D24,"N/A"),"N/A") -> -0.014 | F25: =if(isnumber(E24)=true,if(isnumber(F24)=true,F24-E24,"N/A"),"N/A") -> 0.005 | G25: =if(isnumber(F24)=true,if(isnumber(G24)=true,G24-F24,"N/A"),"N/A") -> -0.003 | H25: =if(isnumber(G24)=true,if(isnumber(H24)=true,H24-G24,"N/A"),"N/A") -> -0.094 | I25: =if(isnumber(H24)=true,if(isnumber(I24)=true,I24-H24,"N/A"),"N/A") -> 0.016 | J25: =if(isnumber(I24)=true,if(isnumber(J24)=true,J24-I24,"N/A"),"N/A") -> 0.034 | K25: =K24-J24 -> -0.039
B26: Gap from BSD Average | C26: =if(isnumber(C$4)=true,if(isnumber(C24)=true,C24-C$4,"N/A"),"N/A") -> 0.07 | D26: =if(isnumber(D$4)=true,if(isnumber(D24)=true,D24-D$4,"N/A"),"N/A") -> 0.064 | E26: =if(isnumber(E$4)=true,if(isnumber(E24)=true,E24-E$4,"N/A"),"N/A") -> 0.059 | F26: =if(isnumber(F$4)=true,if(isnumber(F24)=true,F24-F$4,"N/A"),"N/A") -> 0.067 | G26: =if(isnumber(G$4)=true,if(isnumber(G24)=true,G24-G$4,"N/A"),"N/A") -> 0.063 | H26: =if(isnumber(H$4)=true,if(isnumber(H24)=true,H24-H$4,"N/A"),"N/A") -> 0.066 | I26: =if(isnumber(I$4)=true,if(isnumber(I24)=true,I24-I$4,"N/A"),"N/A") -> 0.055 | J26: =if(isnumber(J$4)=true,if(isnumber(J24)=true,J24-J$4,"N/A"),"N/A") -> 0.074 | K26: =if(isnumber(K$4)=true,if(isnumber(K24)=true,K24-K$4,"N/A"),"N/A") -> 0.087
A27: *Prior to 2024-25, ODE counted students taking extended assessments as not proficient in these assessment reports. However, ODE received approval from the U.S. Department of Education to count as proficient those students who met the alternate standard on Extended Assessments.
A29: Student Group
C30: =C3 -> 2014-15 | D30: =D3 -> 2015-16 | E30: =E3 -> 2016-17 | F30: =F3 -> 2017-18 | G30: =G3 -> 2018-19 | H30: =H3 -> 2021-22 | I30: =I3 -> 2022-23 | J30: =J3 -> 2023-24 | K30: =K3 -> 2024-25*
A31: Grade 4 BSD Average | B31: BSD | C31: =C4 -> 0.62 | D31: =D4 -> 0.601 | E31: =E4 -> 0.592 | F31: =F4 -> 0.589 | G31: =G4 -> 0.59 | H31: =H4 -> 0.493 | I31: =I4 -> 0.52 | J31: =J4 -> 0.535 | K31: =K4 -> 0.483
B32: Change from Previous Year | D32: =D31-C31 -> -0.019 | E32: =E31-D31 -> -0.009 | F32: =F31-E31 -> -0.003 | G32: =G31-F31 -> 0.001 | H32: =H31-G31 -> -0.097 | I32: =I31-H31 -> 0.027 | J32: =J31-I31 -> 0.015 | K32: =K31-J31 -> -0.052
A33: English Learners | B33: BSD | C33: 0.203 | D33: 0.19 | E33: 0.237 | F33: 0.181 | G33: 0.165 | H33: 0.103 | I33: 0.098 | J33: 0.141 | K33: 0.074
B34: Change from Previous Year | D34: =if(isnumber(C33)=true,if(isnumber(D33)=true,D33-C33,"N/A"),"N/A") -> -0.013 | E34: =if(isnumber(D33)=true,if(isnumber(E33)=true,E33-D33,"N/A"),"N/A") -> 0.047 | F34: =if(isnumber(E33)=true,if(isnumber(F33)=true,F33-E33,"N/A"),"N/A") -> -0.056 | G34: =if(isnumber(F33)=true,if(isnumber(G33)=true,G33-F33,"N/A"),"N/A") -> -0.016 | H34: =if(isnumber(G33)=true,if(isnumber(H33)=true,H33-G33,"N/A"),"N/A") -> -0.062 | I34: =if(isnumber(H33)=true,if(isnumber(I33)=true,I33-H33,"N/A"),"N/A") -> -0.005 | J34: =if(isnumber(I33)=true,if(isnumber(J33)=true,J33-I33,"N/A"),"N/A") -> 0.043 | K34: =K33-J33 -> -0.067
B35: Gap from BSD Average | C35: =if(isnumber(C$31)=true,if(isnumber(C33)=true,C33-C$31,"N/A"),"N/A") -> -0.417 | D35: =if(isnumber(D$31)=true,if(isnumber(D33)=true,D33-D$31,"N/A"),"N/A") -> -0.411 | E35: =if(isnumber(E$31)=true,if(isnumber(E33)=true,E33-E$31,"N/A"),"N/A") -> -0.355 | F35: =if(isnumber(F$31)=true,if(isnumber(F33)=true,F33-F$31,"N/A"),"N/A") -> -0.408 | G35: =if(isnumber(G$31)=true,if(isnumber(G33)=true,G33-G$31,"N/A"),"N/A") -> -0.425 | H35: =if(isnumber(H$31)=true,if(isnumber(H33)=true,H33-H$31,"N/A"),"N/A") -> -0.39 | I35: =if(isnumber(I$31)=true,if(isnumber(I33)=true,I33-I$31,"N/A"),"N/A") -> -0.422 | J35: =if(isnumber(J$31)=true,if(isnumber(J33)=true,J33-J$31,"N/A"),"N/A") -> -0.394 | K35: =if(isnumber(K$31)=true,if(isnumber(K33)=true,K33-K$31,"N/A"),"N/A") -> -0.409
A36: Indian Education | B36: BSD | J36: 0.364 | K36: *
B37: Change from Previous Year | C37: Data withheld to protect privacy | J37: =if(isnumber(I36)=true,if(isnumber(J36)=true,J36-I36,"N/A"),"N/A") -> N/A | K37: N/A
B38: Gap from BSD Average | J38: =if(isnumber(J$31)=true,if(isnumber(J36)=true,J36-J$31,"N/A"),"N/A") -> -0.171 | K38: =if(isnumber(K$31)=true,if(isnumber(K36)=true,K36-K$31,"N/A"),"N/A") -> N/A
A39: Migrant Students | B39: BSD | C39: 0.2 | D39: 0.225 | E39: 0.25 | F39: 0.207 | G39: 0.219 | H39: 0.063 | I39: 0.25 | J39: 0.154 | K39: 0
B40: Change from Previous Year | D40: =if(isnumber(C39)=true,if(isnumber(D39)=true,D39-C39,"N/A"),"N/A") -> 0.025 | E40: =if(isnumber(D39)=true,if(isnumber(E39)=true,E39-D39,"N/A"),"N/A") -> 0.025 | F40: =if(isnumber(E39)=true,if(isnumber(F39)=true,F39-E39,"N/A"),"N/A") -> -0.043 | G40: =if(isnumber(F39)=true,if(isnumber(G39)=true,G39-F39,"N/A"),"N/A") -> 0.012 | H40: =if(isnumber(G39)=true,if(isnumber(H39)=true,H39-G39,"N/A"),"N/A") -> -0.156 | I40: =if(isnumber(H39)=true,if(isnumber(I39)=true,I39-H39,"N/A"),"N/A") -> 0.187 | J40: =if(isnumber(I39)=true,if(isnumber(J39)=true,J39-I39,"N/A"),"N/A") -> -0.096 | K40: =K39-J39 -> -0.154
B41: Gap from BSD Average | C41: =if(isnumber(C$31)=true,if(isnumber(C39)=true,C39-C$31,"N/A"),"N/A") -> -0.42 | D41: =if(isnumber(D$31)=true,if(isnumber(D39)=true,D39-D$31,"N/A"),"N/A") -> -0.376 | E41: =if(isnumber(E$31)=true,if(isnumber(E39)=true,E39-E$31,"N/A"),"N/A") -> -0.342 | F41: =if(isnumber(F$31)=true,if(isnumber(F39)=true,F39-F$31,"N/A"),"N/A") -> -0.382 | G41: =if(isnumber(G$31)=true,if(isnumber(G39)=true,G39-G$31,"N/A"),"N/A") -> -0.371 | H41: =if(isnumber(H$31)=true,if(isnumber(H39)=true,H39-H$31,"N/A"),"N/A") -> -0.43 | I41: =if(isnumber(I$31)=true,if(isnumber(I39)=true,I39-I$31,"N/A"),"N/A") -> -0.27 | J41: =if(isnumber(J$31)=true,if(isnumber(J39)=true,J39-J$31,"N/A"),"N/A") -> -0.381 | K41: =if(isnumber(K$31)=true,if(isnumber(K39)=true,K39-K$31,"N/A"),"N/A") -> -0.483
...

Sheet Grade 5 with Demographics
A1: OSAS Grade 5 Math Proficiency
A2: Race/Ethnicity
C3: ='Overall Math Proficiency'!C3 -> 2014-15 | D3: ='Overall Math Proficiency'!D3 -> 2015-16 | E3: ='Overall Math Proficiency'!E3 -> 2016-17 | F3: ='Overall Math Proficiency'!F3 -> 2017-18 | G3: ='Overall Math Proficiency'!G3 -> 2018-19 | H3: ='Overall Math Proficiency'!H3 -> 2021-22 | I3: ='Overall Math Proficiency'!I3 -> 2022-23 | J3: ='Overall Math Proficiency'!J3 -> 2023-24 | K3: ='Overall Math Proficiency'!K3 -> 2024-25*
A4: Grade 5 BSD Average | B4: BSD | C4: ='Overall Math Proficiency'!C13 -> 0.578 | D4: ='Overall Math Proficiency'!D13 -> 0.544 | E4: ='Overall Math Proficiency'!E13 -> 0.545 | F4: ='Overall Math Proficiency'!F13 -> 0.543 | G4: ='Overall Math Proficiency'!G13 -> 0.524 | H4: ='Overall Math Proficiency'!H13 -> 0.464 | I4: ='Overall Math Proficiency'!I13 -> 0.472 | J4: ='Overall Math Proficiency'!J13 -> 0.483 | K4: ='Overall Math Proficiency'!K13 -> 0.478
B5: Change from Previous Year | D5: =D4-C4 -> -0.034 | E5: =E4-D4 -> 0.001 | F5: =F4-E4 -> -0.002 | G5: =G4-F4 -> -0.019 | H5: =H4-G4 -> -0.06 | I5: =I4-H4 -> 0.008 | J5: =J4-I4 -> 0.011 | K5: =K4-J4 -> -0.005
A6: Asian | B6: BSD | C6: 0.852 | D6: 0.822 | E6: 0.804 | F6: 0.825 | G6: 0.809 | H6: 0.784 | I6: 0.745 | J6: 0.738 | K6: 0.728
B7: Change from Previous Year | D7: =if(isnumber(C6)=true,if(isnumber(D6)=true,D6-C6,"N/A"),"N/A") -> -0.03 | E7: =if(isnumber(D6)=true,if(isnumber(E6)=true,E6-D6,"N/A"),"N/A") -> -0.018 | F7: =if(isnumber(E6)=true,if(isnumber(F6)=true,F6-E6,"N/A"),"N/A") -> 0.021 | G7: =if(isnumber(F6)=true,if(isnumber(G6)=true,G6-F6,"N/A"),"N/A") -> -0.016 | H7: =if(isnumber(G6)=true,if(isnumber(H6)=true,H6-G6,"N/A"),"N/A") -> -0.025 | I7: =if(isnumber(H6)=true,if(isnumber(I6)=true,I6-H6,"N/A"),"N/A") -> -0.039 | J7: =if(isnumber(I6)=true,if(isnumber(J6)=true,J6-I6,"N/A"),"N/A") -> -0.007 | K7: =K6-J6 -> -0.01
B8: Gap from BSD Average | C8: =if(isnumber(C$4)=true,if(isnumber(C6)=true,C6-C$4,"N/A"),"N/A") -> 0.274 | D8: =if(isnumber(D$4)=true,if(isnumber(D6)=true,D6-D$4,"N/A"),"N/A") -> 0.278 | E8: =if(isnumber(E$4)=true,if(isnumber(E6)=true,E6-E$4,"N/A"),"N/A") -> 0.259 | F8: =if(isnumber(F$4)=true,if(isnumber(F6)=true,F6-F$4,"N/A"),"N/A") -> 0.282 | G8: =if(isnumber(G$4)=true,if(isnumber(G6)=true,G6-G$4,"N/A"),"N/A") -> 0.285 | H8: =if(isnumber(H$4)=true,if(isnumber(H6)=true,H6-H$4,"N/A"),"N/A") -> 0.32 | I8: =if(isnumber(I$4)=true,if(isnumber(I6)=true,I6-I$4,"N/A"),"N/A") -> 0.273 | J8: =if(isnumber(J$4)=true,if(isnumber(J6)=true,J6-J$4,"N/A"),"N/A") -> 0.255 | K8: =if(isnumber(K$4)=true,if(isnumber(K6)=true,K6-K$4,"N/A"),"N/A") -> 0.25
A9: Black/African American | B9: BSD | C9: 0.343 | D9: 0.356 | E9: 0.311 | F9: 0.245 | G9: 0.259 | H9: 0.275 | I9: 0.211 | J9: 0.266 | K9: 0.267
B10: Change from Previous Year | D10: =if(isnumber(C9)=true,if(isnumber(D9)=true,D9-C9,"N/A"),"N/A") -> 0.013 | E10: =if(isnumber(D9)=true,if(isnumber(E9)=true,E9-D9,"N/A"),"N/A") -> -0.045 | F10: =if(isnumber(E9)=true,if(isnumber(F9)=true,F9-E9,"N/A"),"N/A") -> -0.066 | G10: =if(isnumber(F9)=true,if(isnumber(G9)=true,G9-F9,"N/A"),"N/A") -> 0.014 | H10: =if(isnumber(G9)=true,if(isnumber(H9)=true,H9-G9,"N/A"),"N/A") -> 0.016 | I10: =if(isnumber(H9)=true,if(isnumber(I9)=true,I9-H9,"N/A"),"N/A") -> -0.064 | J10: =if(isnumber(I9)=true,if(isnumber(J9)=true,J9-I9,"N/A"),"N/A") -> 0.055 | K10: =K9-J9 -> 0.001
B11: Gap from BSD Average | C11: =if(isnumber(C$4)=true,if(isnumber(C9)=true,C9-C$4,"N/A"),"N/A") -> -0.235 | D11: =if(isnumber(D$4)=true,if(isnumber(D9)=true,D9-D$4,"N/A"),"N/A") -> -0.188 | E11: =if(isnumber(E$4)=true,if(isnumber(E9)=true,E9-E$4,"N/A"),"N/A") -> -0.234 | F11: =if(isnumber(F$4)=true,if(isnumber(F9)=true,F9-F$4,"N/A"),"N/A") -> -0.298 | G11: =if(isnumber(G$4)=true,if(isnumber(G9)=true,G9-G$4,"N/A"),"N/A") -> -0.265 | H11: =if(isnumber(H$4)=true,if(isnumber(H9)=true,H9-H$4,"N/A"),"N/A") -> -0.189 | I11: =if(isnumber(I$4)=true,if(isnumber(I9)=true,I9-I$4,"N/A"),"N/A") -> -0.261 | J11: =if(isnumber(J$4)=true,if(isnumber(J9)=true,J9-J$4,"N/A"),"N/A") -> -0.217 | K11: =if(isnumber(K$4)=true,if(isnumber(K9)=true,K9-K$4,"N/A"),"N/A") -> -0.211
A12: Hispanic/Latino | B12: BSD | C12: 0.314 | D12: 0.271 | E12: 0.299 | F12: 0.293 | G12: 0.257 | H12: 0.202 | I12: 0.187 | J12: 0.184 | K12: 0.212
B13: Change from Previous Year | D13: =if(isnumber(C12)=true,if(isnumber(D12)=true,D12-C12,"N/A"),"N/A") -> -0.043 | E13: =if(isnumber(D12)=true,if(isnumber(E12)=true,E12-D12,"N/A"),"N/A") -> 0.028 | F13: =if(isnumber(E12)=true,if(isnumber(F12)=true,F12-E12,"N/A"),"N/A") -> -0.006 | G13: =if(isnumber(F12)=true,if(isnumber(G12)=true,G12-F12,"N/A"),"N/A") -> -0.036 | H13: =if(isnumber(G12)=true,if(isnumber(H12)=true,H12-G12,"N/A"),"N/A") -> -0.055 | I13: =if(isnumber(H12)=true,if(isnumber(I12)=true,I12-H12,"N/A"),"N/A") -> -0.015 | J13: =if(isnumber(I12)=true,if(isnumber(J12)=true,J12-I12,"N/A"),"N/A") -> -0.003 | K13: =K12-J12 -> 0.028
B14: Gap from BSD Average | C14: =if(isnumber(C$4)=true,if(isnumber(C12)=true,C12-C$4,"N/A"),"N/A") -> -0.264 | D14: =if(isnumber(D$4)=true,if(isnumber(D12)=true,D12-D$4,"N/A"),"N/A") -> -0.273 | E14: =if(isnumber(E$4)=true,if(isnumber(E12)=true,E12-E$4,"N/A"),"N/A") -> -0.246 | F14: =if(isnumber(F$4)=true,if(isnumber(F12)=true,F12-F$4,"N/A"),"N/A") -> -0.25 | G14: =if(isnumber(G$4)=true,if(isnumber(G12)=true,G12-G$4,"N/A"),"N/A") -> -0.267 | H14: =if(isnumber(H$4)=true,if(isnumber(H12)=true,H12-H$4,"N/A"),"N/A") -> -0.262 | I14: =if(isnumber(I$4)=true,if(isnumber(I12)=true,I12-I$4,"N/A"),"N/A") -> -0.285 | J14: =if(isnumber(J$4)=true,if(isnumber(J12)=true,J12-J$4,"N/A"),"N/A") -> -0.299 | K14: =if(isnumber(K$4)=true,if(isnumber(K12)=true,K12-K$4,"N/A"),"N/A") -> -0.266
A15: Multiracial | B15: BSD | C15: 0.633 | D15: 0.585 | E15: 0.571 | F15: 0.617 | G15: 0.552 | H15: 0.477 | I15: 0.549 | J15: 0.563 | K15: 0.568
B16: Change from Previous Year | D16: =if(isnumber(C15)=true,if(isnumber(D15)=true,D15-C15,"N/A"),"N/A") -> -0.048 | E16: =if(isnumber(D15)=true,if(isnumber(E15)=true,E15-D15,"N/A"),"N/A") -> -0.014 | F16: =if(isnumber(E15)=true,if(isnumber(F15)=true,F15-E15,"N/A"),"N/A") -> 0.046 | G16: =if(isnumber(F15)=true,if(isnumber(G15)=true,G15-F15,"N/A"),"N/A") -> -0.065 | H16: =if(isnumber(G15)=true,if(isnumber(H15)=true,H15-G15,"N/A"),"N/A") -> -0.075 | I16: =if(isnumber(H15)=true,if(isnumber(I15)=true,I15-H15,"N/A"),"N/A") -> 0.072 | J16: =if(isnumber(I15)=true,if(isnumber(J15)=true,J15-I15,"N/A"),"N/A") -> 0.014 | K16: =K15-J15 -> 0.005
B17: Gap from BSD Average | C17: =if(isnumber(C$4)=true,if(isnumber(C15)=true,C15-C$4,"N/A"),"N/A") -> 0.055 | D17: =if(isnumber(D$4)=true,if(isnumber(D15)=true,D15-D$4,"N/A"),"N/A") -> 0.041 | E17: =if(isnumber(E$4)=true,if(isnumber(E15)=true,E15-E$4,"N/A"),"N/A") -> 0.026 | F17: =if(isnumber(F$4)=true,if(isnumber(F15)=true,F15-F$4,"N/A"),"N/A") -> 0.074 | G17: =if(isnumber(G$4)=true,if(isnumber(G15)=true,G15-G$4,"N/A"),"N/A") -> 0.028 | H17: =if(isnumber(H$4)=true,if(isnumber(H15)=true,H15-H$4,"N/A"),"N/A") -> 0.013 | I17: =if(isnumber(I$4)=true,if(isnumber(I15)=true,I15-I$4,"N/A"),"N/A") -> 0.077 | J17: =if(isnumber(J$4)=true,if(isnumber(J15)=true,J15-J$4,"N/A"),"N/A") -> 0.08 | K17: =if(isnumber(K$4)=true,if(isnumber(K15)=true,K15-K$4,"N/A"),"N/A") -> 0.09
A18: Native American/Alaska Native | B18: BSD | C18: 0.462 | D18: 0.333 | E18: 0.176 | F18: 0.333 | G18: * | H18: 0.3 | I18: 0.308 | J18: 0.385 | K18: *
B19: Change from Previous Year | D19: =if(isnumber(C18)=true,if(isnumber(D18)=true,D18-C18,"N/A"),"N/A") -> -0.129 | E19: =if(isnumber(D18)=true,if(isnumber(E18)=true,E18-D18,"N/A"),"N/A") -> -0.157 | F19: =if(isnumber(E18)=true,if(isnumber(F18)=true,F18-E18,"N/A"),"N/A") -> 0.157 | G19: =if(isnumber(F18)=true,if(isnumber(G18)=true,G18-F18,"N/A"),"N/A") -> N/A | H19: =if(isnumber(G18)=true,if(isnumber(H18)=true,H18-G18,"N/A"),"N/A") -> N/A | I19: =if(isnumber(H18)=true,if(isnumber(I18)=true,I18-H18,"N/A"),"N/A") -> 0.008 | J19: =if(isnumber(I18)=true,if(isnumber(J18)=true,J18-I18,"N/A"),"N/A") -> 0.077 | K19: =K18-J18 -> #VALUE!
B20: Gap from BSD Average | C20: =if(isnumber(C$4)=true,if(isnumber(C18)=true,C18-C$4,"N/A"),"N/A") -> -0.116 | D20: =if(isnumber(D$4)=true,if(isnumber(D18)=true,D18-D$4,"N/A"),"N/A") -> -0.211 | E20: =if(isnumber(E$4)=true,if(isnumber(E18)=true,E18-E$4,"N/A"),"N/A") -> -0.369 | F20: =if(isnumber(F$4)=true,if(isnumber(F18)=true,F18-F$4,"N/A"),"N/A") -> -0.21 | G20: =if(isnumber(G$4)=true,if(isnumber(G18)=true,G18-G$4,"N/A"),"N/A") -> N/A | H20: =if(isnumber(H$4)=true,if(isnumber(H18)=true,H18-H$4,"N/A"),"N/A") -> -0.164 | I20: =if(isnumber(I$4)=true,if(isnumber(I18)=true,I18-I$4,"N/A"),"N/A") -> -0.164 | J20: =if(isnumber(J$4)=true,if(isnumber(J18)=true,J18-J$4,"N/A"),"N/A") -> -0.098 | K20: =if(isnumber(K$4)=true,if(isnumber(K18)=true,K18-K$4,"N/A"),"N/A") -> N/A
A21: Native Hawaiian/Pacific Islander | B21: BSD | C21: 0.433 | D21: 0.294 | E21: 0.278 | F21: 0.438 | G21: 0.25 | H21: 0.111 | I21: 0.048 | J21: 0.222 | K21: 0.175
B22: Change from Previous Year | D22: =if(isnumber(C21)=true,if(isnumber(D21)=true,D21-C21,"N/A"),"N/A") -> -0.139 | E22: =if(isnumber(D21)=true,if(isnumber(E21)=true,E21-D21,"N/A"),"N/A") -> -0.016 | F22: =if(isnumber(E21)=true,if(isnumber(F21)=true,F21-E21,"N/A"),"N/A") -> 0.16 | G22: =if(isnumber(F21)=true,if(isnumber(G21)=true,G21-F21,"N/A"),"N/A") -> -0.188 | H22: =if(isnumber(G21)=true,if(isnumber(H21)=true,H21-G21,"N/A"),"N/A") -> -0.139 | I22: =if(isnumber(H21)=true,if(isnumber(I21)=true,I21-H21,"N/A"),"N/A") -> -0.063 | J22: =if(isnumber(I21)=true,if(isnumber(J21)=true,J21-I21,"N/A"),"N/A") -> 0.174 | K22: =K21-J21 -> -0.047
B23: Gap from BSD Average | C23: =if(isnumber(C$4)=true,if(isnumber(C21)=true,C21-C$4,"N/A"),"N/A") -> -0.145 | D23: =if(isnumber(D$4)=true,if(isnumber(D21)=true,D21-D$4,"N/A"),"N/A") -> -0.25 | E23: =if(isnumber(E$4)=true,if(isnumber(E21)=true,E21-E$4,"N/A"),"N/A") -> -0.267 | F23: =if(isnumber(F$4)=true,if(isnumber(F21)=true,F21-F$4,"N/A"),"N/A") -> -0.105 | G23: =if(isnumber(G$4)=true,if(isnumber(G21)=true,G21-G$4,"N/A"),"N/A") -> -0.274 | H23: =if(isnumber(H$4)=true,if(isnumber(H21)=true,H21-H$4,"N/A"),"N/A") -> -0.353 | I23: =if(isnumber(I$4)=true,if(isnumber(I21)=true,I21-I$4,"N/A"),"N/A") -> -0.424 | J23: =if(isnumber(J$4)=true,if(isnumber(J21)=true,J21-J$4,"N/A"),"N/A") -> -0.261 | K23: =if(isnumber(K$4)=true,if(isnumber(K21)=true,K21-K$4,"N/A"),"N/A") -> -0.303
A24: White | B24: BSD | C24: 0.642 | D24: 0.611 | E24: 0.61 | F24: 0.586 | G24: 0.587 | H24: 0.504 | I24: 0.539 | J24: 0.546 | K24: 0.553
B25: Change from Previous Year | D25: =if(isnumber(C24)=true,if(isnumber(D24)=true,D24-C24,"N/A"),"N/A") -> -0.031 | E25: =if(isnumber(D24)=true,if(isnumber(E24)=true,E24-D24,"N/A"),"N/A") -> -0.001 | F25: =if(isnumber(E24)=true,if(isnumber(F24)=true,F24-E24,"N/A"),"N/A") -> -0.024 | G25: =if(isnumber(F24)=true,if(isnumber(G24)=true,G24-F24,"N/A"),"N/A") -> 0.001 | H25: =if(isnumber(G24)=true,if(isnumber(H24)=true,H24-G24,"N/A"),"N/A") -> -0.083 | I25: =if(isnumber(H24)=true,if(isnumber(I24)=true,I24-H24,"N/A"),"N/A") -> 0.035 | J25: =if(isnumber(I24)=true,if(isnumber(J24)=true,J24-I24,"N/A"),"N/A") -> 0.007 | K25: =K24-J24 -> 0.007
B26: Gap from BSD Average | C26: =if(isnumber(C$4)=true,if(isnumber(C24)=true,C24-C$4,"N/A"),"N/A") -> 0.064 | D26: =if(isnumber(D$4)=true,if(isnumber(D24)=true,D24-D$4,"N/A"),"N/A") -> 0.067 | E26: =if(isnumber(E$4)=true,if(isnumber(E24)=true,E24-E$4,"N/A"),"N/A") -> 0.065 | F26: =if(isnumber(F$4)=true,if(isnumber(F24)=true,F24-F$4,"N/A"),"N/A") -> 0.043 | G26: =if(isnumber(G$4)=true,if(isnumber(G24)=true,G24-G$4,"N/A"),"N/A") -> 0.063 | H26: =if(isnumber(H$4)=true,if(isnumber(H24)=true,H24-H$4,"N/A"),"N/A") -> 0.04 | I26: =if(isnumber(I$4)=true,if(isnumber(I24)=true,I24-I$4,"N/A"),"N/A") -> 0.067 | J26: =if(isnumber(J$4)=true,if(isnumber(J24)=true,J24-J$4,"N/A"),"N/A") -> 0.063 | K26: =if(isnumber(K$4)=true,if(isnumber(K24)=true,K24-K$4,"N/A"),"N/A") -> 0.075
