Workbook

Sheet Overall Math Proficiency
A1: OSAS Math Proficiency
A2: Grade Level
C3: 2014-15 | D3: 2015-16 | E3: 2016-17 | F3: 2017-18 | G3: 2018-19 | H3: 2021-22 | I3: 2022-23 | J3: 2023-24 | K3: 2024-25*
A4: All Grades | B4: BSD | C4: 0.572 | D4: 0.564 | E4: 0.548 | F4: 0.546 | G4: 0.537 | H4: 0.449 | I4: 0.449 | J4: 0.44 | K4: 0.43
B5: State | C5: 0.408 | D5: 0.415 | E5: 0.408 | F5: 0.405 | G5: 0.394 | H5: 0.304 | I5: 0.306 | J5: 0.31 | K5: 0.315
B6: Difference (BSD - State) | C6: =C4-C5 -> 0.164 | D6: =D4-D5 -> 0.149 | E6: =E4-E5 -> 0.14 | F6: =F4-F5 -> 0.141 | G6: =G4-G5 -> 0.143 | H6: =H4-H5 -> 0.145 | I6: =I4-I5 -> 0.143 | J6: =J4-J5 -> 0.13 | K6: =K4-K5 -> 0.115
A7: Grade 3 | B7: BSD | C7: 0.642 | D7: 0.648 | E7: 0.637 | F7: 0.631 | G7: 0.632 | H7: 0.542 | I7: 0.567 | J7: 0.527 | K7: 0.48
B8: State | C8: 0.456 | D8: 0.475 | E8: 0.458 | F8: 0.464 | G8: 0.464 | H8: 0.394 | I8: 0.397 | J8: 0.399 | K8: 0.401
B9: Difference (BSD - State) | C9: =C7-C8 -> 0.186 | D9: =D7-D8 -> 0.173 | E9: =E7-E8 -> 0.179 | F9: =F7-F8 -> 0.167 | G9: =G7-G8 -> 0.168 | H9: =H7-H8 -> 0.148 | I9: =I7-I8 -> 0.17 | J9: =J7-J8 -> 0.128 | K9: =K7-K8 -> 0.079
A10: Grade 4 | B10: BSD | C10: 0.62 | D10: 0.601 | E10: 0.592 | F10: 0.589 | G10: 0.59 | H10: 0.493 | I10: 0.52 | J10: 0.535 | K10: 0.483
B11: State | C11: 0.437 | D11: 0.435 | E11: 0.433 | F11: 0.43 | G11: 0.432 | H11: 0.361 | I11: 0.376 | J11: 0.377 | K11: 0.369
B12: Difference (BSD - State) | C12: =C10-C11 -> 0.183 | D12: =D10-D11 -> 0.166 | E12: =E10-E11 -> 0.159 | F12: =F10-F11 -> 0.159 | G12: =G10-G11 -> 0.158 | H12: =H10-H11 -> 0.132 | I12: =I10-I11 -> 0.144 | J12: =J10-J11 -> 0.158 | K12: =K10-K11 -> 0.114
A13: Grade 5 | B13: BSD | C13: 0.578 | D13: 0.544 | E13: 0.545 | F13: 0.543 | G13: 0.524 | H13: 0.464 | I13: 0.472 | J13: 0.483 | K13: 0.478
B14: State | C14: 0.408 | D14: 0.404 | E14: 0.39 | F14: 0.395 | G14: 0.378 | H14: 0.3 | I14: 0.307 | J14: 0.314 | K14: 0.313
B15: Difference (BSD - State) | C15: =C13-C14 -> 0.17 | D15: =D13-D14 -> 0.14 | E15: =E13-E14 -> 0.155 | F15: =F13-F14 -> 0.148 | G15: =G13-G14 -> 0.146 | H15: =H13-H14 -> 0.164 | I15: =I13-I14 -> 0.165 | J15: =J13-J14 -> 0.169 | K15: =K13-K14 -> 0.165
A16: Grade 6 | B16: BSD | C16: 0.533 | D16: 0.532 | E16: 0.509 | F16: 0.521 | G16: 0.491 | H16: 0.399 | I16: 0.408 | J16: 0.431 | K16: 0.407
B17: State | C17: 0.381 | D17: 0.388 | E17: 0.395 | F17: 0.384 | G17: 0.371 | H17: 0.275 | I17: 0.281 | J17: 0.284 | K17: 0.293
B18: Difference (BSD - State) | C18: =C16-C17 -> 0.152 | D18: =D16-D17 -> 0.144 | E18: =E16-E17 -> 0.114 | F18: =F16-F17 -> 0.137 | G18: =G16-G17 -> 0.12 | H18: =H16-H17 -> 0.124 | I18: =I16-I17 -> 0.127 | J18: =J16-J17 -> 0.147 | K18: =K16-K17 -> 0.114
A19: Grade 7 | B19: BSD | C19: 0.57 | D19: 0.581 | E19: 0.56 | F19: 0.562 | G19: 0.559 | H19: 0.432 | I19: 0.415 | J19: 0.43 | K19: 0.437
B20: State | C20: 0.381 | D20: 0.388 | E20: 0.395 | F20: 0.384 | G20: 0.371 | H20: 0.275 | I20: 0.281 | J20: 0.284 | K20: 0.293
B21: Difference (BSD - State) | C21: =C19-C20 -> 0.189 | D21: =D19-D20 -> 0.193 | E21: =E19-E20 -> 0.165 | F21: =F19-F20 -> 0.178 | G21: =G19-G20 -> 0.188 | H21: =H19-H20 -> 0.157 | I21: =I19-I20 -> 0.134 | J21: =J19-J20 -> 0.146 | K21: =K19-K20 -> 0.144
A22: Grade 8 | B22: BSD | C22: 0.587 | D22: 0.553 | E22: 0.53 | F22: 0.534 | G22: 0.529 | H22: 0.388 | I22: 0.369 | J22: 0.355 | K22: 0.394
B23: State | C23: 0.429 | D23: 0.424 | E23: 0.408 | F23: 0.405 | G23: 0.383 | H23: 0.259 | I23: 0.255 | J23: 0.264 | K23: 0.289
B24: Difference (BSD - State) | C24: =C22-C23 -> 0.158 | D24: =D22-D23 -> 0.129 | E24: =E22-E23 -> 0.122 | F24: =F22-F23 -> 0.129 | G24: =G22-G23 -> 0.146 | H24: =H22-H23 -> 0.129 | I24: =I22-I23 -> 0.114 | J24: =J22-J23 -> 0.091 | K24: =K22-K23 -> 0.105
A25: Grade 11 | B25: BSD | C25: 0.45 | D25: 0.468 | E25: 0.435 | F25: 0.409 | G25: 0.389 | H25: 0.372 | I25: 0.328 | J25: 0.272 | K25: 0.303
B26: State | C26: 0.305 | D26: 0.33 | E26: 0.339 | F26: 0.332 | G26: 0.321 | H26: 0.204 | I26: 0.204 | J26: 0.2 | K26: 0.203
B27: Difference (BSD - State) | C27: =C25-C26 -> 0.145 | D27: =D25-D26 -> 0.138 | E27: =E25-E26 -> 0.096 | F27: =F25-F26 -> 0.077 | G27: =G25-G26 -> 0.068 | H27: =H25-H26 -> 0.168 | I27: =I25-I26 -> 0.124 | J27: =J25-J26 -> 0.072 | K27: =K25-K26 -> 0.1
A28: *Prior to 2024-25, ODE counted students taking extended assessments as not proficient in these assessment reports. However, ODE received approval from the U.S. Department of Education to count as proficient those students who met the alternate standard on Extended Assessments.
A30: Race/Ethnicity
C31: =C$3 -> 2014-15 | D31: =D$3 -> 2015-16 | E31: =E$3 -> 2016-17 | F31: =F$3 -> 2017-18 | G31: =G$3 -> 2018-19 | H31: =H$3 -> 2021-22 | I31: =I$3 -> 2022-23 | J31: =J$3 -> 2023-24 | K31: =K$3 -> 2024-25*
A32: All Race/Ethnicities | B32: BSD | C32: =C4 -> 0.572 | D32: =D4 -> 0.564 | E32: =E4 -> 0.548 | F32: =F4 -> 0.546 | G32: =G4 -> 0.537 | H32: =H4 -> 0.449 | I32: =I4 -> 0.449 | J32: =J4 -> 0.44 | K32: =K4 -> 0.43
B33: State | C33: =C5 -> 0.408 | D33: =D5 -> 0.415 | E33: =E5 -> 0.408 | F33: =F5 -> 0.405 | G33: =G5 -> 0.394 | H33: =H5 -> 0.304 | I33: =I5 -> 0.306 | J33: =J5 -> 0.31 | K33: =K5 -> 0.315
B34: Difference (BSD - State) | C34: =C32-C33 -> 0.164 | D34: =D32-D33 -> 0.149 | E34: =E32-E33 -> 0.14 | F34: =F32-F33 -> 0.141 | G34: =G32-G33 -> 0.143 | H34: =H32-H33 -> 0.145 | I34: =I32-I33 -> 0.143 | J34: =J32-J33 -> 0.13 | K34: =K32-K33 -> 0.115
A35: Asian | B35: BSD | C35: 0.829 | D35: 0.826 | E35: 0.819 | F35: 0.832 | G35: 0.82 | H35: 0.769 | I35: 0.752 | J35: 0.725 | K35: 0.719
B36: State | C36: 0.658 | D36: 0.667 | E36: 0.657 | F36: 0.665 | G36: 0.661 | H36: 0.568 | I36: 0.564 | J36: 0.557 | K36: 0.554
B37: Difference (BSD - State) | C37: =C35-C36 -> 0.171 | D37: =D35-D36 -> 0.159 | E37: =E35-E36 -> 0.162 | F37: =F35-F36 -> 0.167 | G37: =G35-G36 -> 0.159 | H37: =H35-H36 -> 0.201 | I37: =I35-I36 -> 0.188 | J37: =J35-J36 -> 0.168 | K37: =K35-K36 -> 0.165
A38: Black/African American | B38: BSD | C38: 0.355 | D38: 0.325 | E38: 0.33 | F38: 0.305 | G38: 0.271 | H38: 0.222 | I38: 0.241 | J38: 0.231 | K38: 0.23
B39: State | C39: 0.195 | D39: 0.188 | E39: 0.179 | F39: 0.176 | G39: 0.167 | H39: 0.129 | I39: 0.133 | J39: 0.145 | K39: 0.153
B40: Difference (BSD - State) | C40: =C38-C39 -> 0.16 | D40: =D38-D39 -> 0.137 | E40: =E38-E39 -> 0.151 | F40: =F38-F39 -> 0.129 | G40: =G38-G39 -> 0.104 | H40: =H38-H39 -> 0.093 | I40: =I38-I39 -> 0.108 | J40: =J38-J39 -> 0.086 | K40: =K38-K39 -> 0.077
A41: Hispanic/Latino | B41: BSD | C41: 0.311 | D41: 0.303 | E41: 0.287 | F41: 0.286 | G41: 0.279 | H41: 0.188 | I41: 0.174 | J41: 0.167 | K41: 0.164
B42: State | C42: 0.236 | D42: 0.242 | E42: 0.24 | F42: 0.239 | G42: 0.236 | H42: 0.151 | I42: 0.151 | J42: 0.153 | K42: 0.16
B43: Difference (BSD - State) | C43: =C41-C42 -> 0.075 | D43: =D41-D42 -> 0.061 | E43: =E41-E42 -> 0.047 | F43: =F41-F42 -> 0.047 | G43: =G41-G42 -> 0.043 | H43: =H41-H42 -> 0.037 | I43: =I41-I42 -> 0.023 | J43: =J41-J42 -> 0.014 | K43: =K41-K42 -> 0.004
A44: Multiracial | B44: BSD | C44: 0.648 | D44: 0.617 | E44: 0.608 | F44: 0.606 | G44: 0.583 | H44: 0.512 | I44: 0.521 | J44: 0.499 | K44: 0.503
B45: State | C45: 0.447 | D45: 0.453 | E45: 0.441 | F45: 0.433 | G45: 0.427 | H45: 0.344 | I45: 0.354 | J45: 0.354 | K45: 0.362
B46: Difference (BSD - State) | C46: =C44-C45 -> 0.201 | D46: =D44-D45 -> 0.164 | E46: =E44-E45 -> 0.167 | F46: =F44-F45 -> 0.173 | G46: =G44-G45 -> 0.156 | H46: =H44-H45 -> 0.168 | I46: =I44-I45 -> 0.167 | J46: =J44-J45 -> 0.145 | K46: =K44-K45 -> 0.141
A47: Native American/Alaska Native | B47: BSD | C47: 0.468 | D47: 0.347 | E47: 0.298 | F47: 0.345 | G47: 0.375 | H47: 0.312 | I47: 0.318 | J47: 0.301 | K47: 0.268
B48: State | C48: 0.248 | D48: 0.239 | E48: 0.238 | F48: 0.242 | G48: 0.225 | H48: 0.143 | I48: 0.136 | J48: 0.145 | K48: 0.159
B49: Difference (BSD - State) | C49: =C47-C48 -> 0.22 | D49: =D47-D48 -> 0.108 | E49: =E47-E48 -> 0.06 | F49: =F47-F48 -> 0.103 | G49: =G47-G48 -> 0.15 | H49: =H47-H48 -> 0.169 | I49: =I47-I48 -> 0.182 | J49: =J47-J48 -> 0.156 | K49: =K47-K48 -> 0.109
A50: Native Hawaiian/Pacific Islander | B50: BSD | C50: 0.361 | D50: 0.292 | E50: 0.352 | F50: 0.348 | G50: 0.297 | H50: 0.119 | I50: 0.13 | J50: 0.128 | K50: 0.124
B51: State | C51: 0.273 | D51: 0.27 | E51: 0.252 | F51: 0.243 | G51: 0.213 | H51: 0.116 | I51: 0.114 | J51: 0.11 | K51: 0.109
B52: Difference (BSD - State) | C52: =C50-C51 -> 0.088 | D52: =D50-D51 -> 0.022 | E52: =E50-E51 -> 0.1 | F52: =F50-F51 -> 0.105 | G52: =G50-G51 -> 0.084 | H52: =H50-H51 -> 0.003 | I52: =I50-I51 -> 0.016 | J52: =J50-J51 -> 0.018 | K52: =K50-K51 -> 0.015
A53: White | B53: BSD | C53: 0.631 | D53: 0.632 | E53: 0.606 | F53: 0.602 | G53: 0.593 | H53: 0.478 | I53: 0.492 | J53: 0.493 | K53: 0.488
B54: State | C54: 0.463 | D54: 0.473 | E54: 0.467 | F54: 0.464 | G54: 0.45 | H54: 0.36 | I54: 0.364 | J54: 0.369 | K54: 0.377
B55: Difference (BSD - State) | C55: =C53-C54 -> 0.168 | D55: =D53-D54 -> 0.159 | E55: =E53-E54 -> 0.139 | F55: =F53-F54 -> 0.138 | G55: =G53-G54 -> 0.143 | H55: =H53-H54 -> 0.118 | I55: =I53-I54 -> 0.128 | J55: =J53-J54 -> 0.124 | K55: =K53-K54 -> 0.111
A56: *Prior to 2024-25, ODE counted students taking extended assessments as not proficient in these assessment reports. However, ODE received approval from the U.S. Department of Education to count as proficient those students who met the alternate standard on Extended Assessments.
A58: Student Group
C59: =C$3 -> 2014-15 | D59: =D$3 -> 2015-16 | E59: =E$3 -> 2016-17 | F59: =F$3 -> 2017-18 | G59: =G$3 -> 2018-19 | H59: =H$3 -> 2021-22 | I59: =I$3 -> 2022-23 | J59: =J$3 -> 2023-24 | K59: =K$3 -> 2024-25*
A60: All Students | B60: BSD | C60: =C32 -> 0.572 | D60: =D32 -> 0.564 | E60: =E32 -> 0.548 | F60: =F32 -> 0.546 | G60: =G32 -> 0.537 | H60: =H32 -> 0.449 | I60: =I32 -> 0.449 | J60: =J32 -> 0.44 | K60: =K32 -> 0.43
B61: State | C61: =C33 -> 0.408 | D61: =D33 -> 0.415 | E61: =E33 -> 0.408 | F61: =F33 -> 0.405 | G61: =G33 -> 0.394 | H61: =H33 -> 0.304 | I61: =I33 -> 0.306 | J61: =J33 -> 0.31 | K61: =K33 -> 0.315
B62: Difference (BSD - State) | C62: =C60-C61 -> 0.164 | D62: =D60-D61 -> 0.149 | E62: =E60-E61 -> 0.14 | F62: =F60-F61 -> 0.141 | G62: =G60-G61 -> 0.143 | H62: =H60-H61 -> 0.145 | I62: =I60-I61 -> 0.143 | J62: =J60-J61 -> 0.13 | K62: =K60-K61 -> 0.115
A63: English Learners | B63: BSD | C63: 0.17 | D63: 0.164 | E63: 0.2 | F63: 0.146 | G63: 0.132 | H63: 0.093 | I63: 0.087 | J63: 0.077 | K63: 0.073
B64: State | C64: 0.098 | D64: 0.098 | E64: 0.117 | F64: 0.077 | G64: 0.071 | H64: 0.049 | I64: 0.047 | J64: 0.051 | K64: 0.053
B65: Difference (BSD - State) | C65: =C63-C64 -> 0.072 | D65: =D63-D64 -> 0.066 | E65: =E63-E64 -> 0.083 | F65: =F63-F64 -> 0.069 | G65: =G63-G64 -> 0.061 | H65: =H63-H64 -> 0.044 | I65: =I63-I64 -> 0.04 | J65: =J63-J64 -> 0.026 | K65: =K63-K64 -> 0.02
A66: Indian Education | B66: BSD | C66: 0.48 | D66: 0.411 | E66: 0.43 | F66: 0.436 | G66: 0.284 | H66: 0.327 | I66: 0.28 | J66: 0.212 | K66: 0.253
B67: State | C67: 0.285 | D67: 0.277 | E67: 0.272 | F67: 0.256 | G67: 0.251 | H67: 0.155 | I67: 0.164 | J67: 0.169 | K67: 0.198
B68: Difference (BSD - State) | C68: =C66-C67 -> 0.195 | D68: =D66-D67 -> 0.134 | E68: =E66-E67 -> 0.158 | F68: =F66-F67 -> 0.18 | G68: =G66-G67 -> 0.033 | H68: =H66-H67 -> 0.172 | I68: =I66-I67 -> 0.116 | J68: =J66-J67 -> 0.043 | K68: =K66-K67 -> 0.055
A69: Migrant Students | B69: BSD | C69: 0.189 | D69: 0.181 | E69: 0.251 | F69: 0.202 | G69: 0.177 | H69: 0.103 | I69: 0.153 | J69: 0.098 | K69: 0.064
B70: State | C70: 0.178 | D70: 0.182 | E70: 0.187 | F70: 0.193 | G70: 0.188 | H70: 0.113 | I70: 0.11 | J70: 0.111 | K70: 0.103
B71: Difference (BSD - State) | C71: =C69-C70 -> 0.011 | D71: =D69-D70 -> -0.001 | E71: =E69-E70 -> 0.064 | F71: =F69-F70 -> 0.009 | G71: =G69-G70 -> -0.011 | H71: =H69-H70 -> -0.01 | I71: =I69-I70 -> 0.043 | J71: =J69-J70 -> -0.013 | K71: =K69-K70 -> -0.039
A72: Students experiencing homelessness | B72: BSD | G72: 0.164 | H72: 0.078 | I72: 0.109 | J72: 0.101 | K72: 0.089
B73: State | C73: Data not available | G73: 0.171 | H73: 0.108 | I73: 0.102 | J73: 0.107 | K73: 0.113
B74: Difference (BSD - State) | G74: =G72-G73 -> -0.007 | H74: =H72-H73 -> -0.03 | I74: =I72-I73 -> 0.007 | J74: =J72-J73 -> -0.006 | K74: =K72-K73 -> -0.024
A75: Students experiencing poverty | B75: BSD | J75: 0.144 | K75: 0.144
B76: State | C76: Data not available | J76: 0.154 | K76: 0.164
B77: Difference (BSD - State) | J77: =J75-J76 -> -0.01 | K77: =K75-K76 -> -0.02
A78: Students with disabilities | B78: BSD | C78: 0.208 | D78: 0.181 | E78: 0.186 | F78: 0.185 | G78: 0.197 | H78: 0.186 | I78: 0.188 | J78: 0.199 | K78: 0.202
B79: State | C79: 0.126 | D79: 0.128 | E79: 0.127 | F79: 0.128 | G79: 0.127 | H79: 0.116 | I79: 0.121 | J79: 0.13 | K79: 0.142
B80: Difference (BSD - State) | C80: =C78-C79 -> 0.082 | D80: =D78-D79 -> 0.053 | E80: =E78-E79 -> 0.059 | F80: =F78-F79 -> 0.057 | G80: =G78-G79 -> 0.07 | H80: =H78-H79 -> 0.07 | I80: =I78-I79 -> 0.067 | J80: =J78-J79 -> 0.069 | K80: =K78-K79 -> 0.06
A81: Talented and Gifted | B81: BSD | C81: 0.977 | D81: 0.976 | E81: 0.971 | F81: 0.979 | G81: 0.975 | H81: 0.921 | I81: 0.902 | J81: 0.909 | K81: 0.905
B82: State | C82: 0.928 | D82: 0.932 | E82: 0.934 | F82: 0.933 | G82: 0.929 | H82: 0.823 | I82: 0.825 | J82: 0.831 | K82: 0.844
B83: Difference (BSD - State) | C83: =C81-C82 -> 0.049 | D83: =D81-D82 -> 0.044 | E83: =E81-E82 -> 0.037 | F83: =F81-F82 -> 0.046 | G83: =G81-G82 -> 0.046 | H83: =H81-H82 -> 0.098 | I83: =I81-I82 -> 0.077 | J83: =J81-J82 -> 0.078 | K83: =K81-K82 -> 0.061
A84: *Prior to 2024-25, ODE counted students taking extended assessments as not proficient in these assessment reports. However, ODE received approval from the U.S. Department of Education to count as proficient those students who met the alternate standard on Extended Assessments.
A86: Gender
C87: =C$3 -> 2014-15 | D87: =D$3 -> 2015-16 | E87: =E$3 -> 2016-17 | F87: =F$3 -> 2017-18 | G87: =G$3 -> 2018-19 | H87: =H$3 -> 2021-22 | I87: =I$3 -> 2022-23 | J87: =J$3 -> 2023-24 | K87: =K$3 -> 2024-25*
A88: All Students | B88: BSD | C88: =C60 -> 0.572 | D88: =D60 -> 0.564 | E88: =E60 -> 0.548 | F88: =F60 -> 0.546 | G88: =G60 -> 0.537 | H88: =H60 -> 0.449 | I88: =I60 -> 0.449 | J88: =J60 -> 0.44 | K88: =K60 -> 0.43
B89: State | C89: =C61 -> 0.408 | D89: =D61 -> 0.415 | E89: =E61 -> 0.408 | F89: =F61 -> 0.405 | G89: =G61 -> 0.394 | H89: =H61 -> 0.304 | I89: =I61 -> 0.306 | J89: =J61 -> 0.31 | K89: =K61 -> 0.315
B90: Difference (BSD - State) | C90: =C88-C89 -> 0.164 | D90: =D88-D89 -> 0.149 | E90: =E88-E89 -> 0.14 | F90: =F88-F89 -> 0.141 | G90: =G88-G89 -> 0.143 | H90: =H88-H89 -> 0.145 | I90: =I88-I89 -> 0.143 | J90: =J88-J89 -> 0.13 | K90: =K88-K89 -> 0.115
A91: Female | B91: BSD | C91: 0.575 | D91: 0.569 | E91: 0.553 | F91: 0.541 | G91: 0.532 | H91: 0.428 | I91: 0.44 | J91: 0.422 | K91: 0.41
B92: State | C92: 0.409 | D92: 0.414 | E92: 0.407 | F92: 0.404 | G92: 0.389 | H92: 0.286 | I92: 0.285 | J92: 0.289 | K92: 0.29
B93: Difference (BSD - State) | C93: =C91-C92 -> 0.166 | D93: =D91-D92 -> 0.155 | E93: =E91-E92 -> 0.146 | F93: =F91-F92 -> 0.137 | G93: =G91-G92 -> 0.143 | H93: =H91-H92 -> 0.142 | I93: =I91-I92 -> 0.155 | J93: =J91-J92 -> 0.133 | K93: =K91-K92 -> 0.12
A94: Male | B94: BSD | C94: 0.569 | D94: 0.56 | E94: 0.543 | F94: 0.552 | G94: 0.541 | H94: 0.468 | I94: 0.457 | J94: 0.457 | K94: 0.449
B95: State | C95: 0.407 | D95: 0.415 | E95: 0.409 | F95: 0.407 | G95: 0.399 | H95: 0.319 | I95: 0.325 | J95: 0.328 | K95: 0.337
B96: Difference (BSD - State) | C96: =C94-C95 -> 0.162 | D96: =D94-D95 -> 0.145 | E96: =E94-E95 -> 0.134 | F96: =F94-F95 -> 0.145 | G96: =G94-G95 -> 0.142 | H96: =H94-H95 -> 0.149 | I96: =I94-I95 -> 0.132 | J96: =J94-J95 -> 0.129 | K96: =K94-K95 -> 0.112
A97: Non-Binary | B97: BSD | I97: 0.545 | J97: 0.5 | K97: 0.464
B98: State | I98: 0.36 | J98: 0.377 | K98: 0.441
B99: Difference (BSD - State) | I99: =I97-I98 -> 0.185 | J99: =J97-J98 -> 0.123 | K99: =K97-K98 -> 0.023
A100: *Prior to 2024-25, ODE counted students taking extended assessments as not proficient in these assessment reports. However, ODE received approval from the U.S. Department of Education to count as proficient those students who met the alternate standard on Extended Assessments.

Sheet Cohort Data
B1: OSAS Math Proficiency
B2: Grade Level
C3: Grade 3 | D3: Grade 4 | E3: Grade 5 | F3: Grade 6 | G3: Grade 7 | H3: Grade 8 | I3: Grade 11
B4: Kindergarten 2011-12 | C4: ='Overall Math Proficiency'!C7 -> 0.642 | D4: ='Overall Math Proficiency'!D10 -> 0.601 | E4: ='Overall Math Proficiency'!E13 -> 0.545 | F4: ='Overall Math Proficiency'!F16 -> 0.521 | G4: ='Overall Math Proficiency'!G19 -> 0.559 | H4: 0 | I4: ='Overall Math Proficiency'!I25 -> 0.328
B5: Class of 2024 | D5: =if(isnumber(C4)=true,if(isnumber(D4)=true,D4-C4,"N/A"),"N/A") -> -0.041 | E5: =if(isnumber(D4)=true,if(isnumber(E4)=true,E4-D4,"N/A"),"N/A") -> -0.056 | F5: =if(isnumber(E4)=true,if(isnumber(F4)=true,F4-E4,"N/A"),"N/A") -> -0.024 | G5: =if(isnumber(F4)=true,if(isnumber(G4)=true,G4-F4,"N/A"),"N/A") -> 0.038 | H5: Pandemic | I5: =if(isnumber(H4)=true,if(isnumber(I4)=true,I4-H4,"N/A"),"N/A") -> 0.328
B6: Ninth Grade 2020-21 | C6: 2014-15 | D6: 2015-16 | E6: 2016-17 | F6: 2017-18 | G6: 2018-19 | H6: 2019-20 | I6: 2022-23
B7: KIndergarten 2012-13 | C7: ='Overall Math Proficiency'!D7 -> 0.648 | D7: ='Overall Math Proficiency'!E10 -> 0.592 | E7: ='Overall Math Proficiency'!F13 -> 0.543 | F7: ='Overall Math Proficiency'!G16 -> 0.491 | G7: 0 | H7: 0 | I7: ='Overall Math Proficiency'!J25 -> 0.272
B8: Class of 2025 | D8: =if(isnumber(C7)=true,if(isnumber(D7)=true,D7-C7,"N/A"),"N/A") -> -0.056 | E8: =if(isnumber(D7)=true,if(isnumber(E7)=true,E7-D7,"N/A"),"N/A") -> -0.049 | F8: =if(isnumber(E7)=true,if(isnumber(F7)=true,F7-E7,"N/A"),"N/A") -> -0.052 | G8: Pandemic | H8: Pandemic | I8: =if(isnumber(H7)=true,if(isnumber(I7)=true,I7-H7,"N/A"),"N/A") -> 0.272
B9: Eighth Grade 2020-21 | C9: 2015-16 | D9: 2016-17 | E9: 2017-18 | F9: 2018-19 | G9: 2019-20 | H9: 2020-21 | I9: 2023-24
B10: KIndergarten 2013-14 | C10: ='Overall Math Proficiency'!E7 -> 0.637 | D10: ='Overall Math Proficiency'!F10 -> 0.589 | E10: ='Overall Math Proficiency'!G13 -> 0.524 | F10: 0 | G10: 0 | H10: ='Overall Math Proficiency'!H22 -> 0.388 | I10: ='Overall Math Proficiency'!K25 -> 0.303
B11: Class of 2026 | D11: =if(isnumber(C10)=true,if(isnumber(D10)=true,D10-C10,"N/A"),"N/A") -> -0.048 | E11: =if(isnumber(D10)=true,if(isnumber(E10)=true,E10-D10,"N/A"),"N/A") -> -0.065 | F11: Pandemic | G11: Pandemic | H11: =if(isnumber(E10)=true,if(isnumber(H10)=true,H10-E10,"N/A"),"N/A") -> -0.136 | I11: =if(isnumber(H10)=true,if(isnumber(I10)=true,I10-H10,"N/A"),"N/A") -> -0.085
B12: Seventh Grade 2020-21 | C12: 2016-17 | D12: 2017-18 | E12: 2018-19 | F12: 2019-20 | G12: 2020-21 | H12: 2021-22 | I12: 2024-25
B13: KIndergarten 2014-15 | C13: ='Overall Math Proficiency'!F7 -> 0.631 | D13: ='Overall Math Proficiency'!G10 -> 0.59 | E13: 0 | F13: 0 | G13: ='Overall Math Proficiency'!H19 -> 0.432 | H13: ='Overall Math Proficiency'!I22 -> 0.369 | I13: 0
B14: Class of 2027 | D14: =if(isnumber(C13)=true,if(isnumber(D13)=true,D13-C13,"N/A"),"N/A") -> -0.041 | E14: Pandemic | F14: Pandemic | G14: =if(isnumber(D13)=true,if(isnumber(G13)=true,G13-D13,"N/A"),"N/A") -> -0.158 | H14: =if(isnumber(G13)=true,if(isnumber(H13)=true,H13-G13,"N/A"),"N/A") -> -0.063 | I14: N/A
B15: Sixth Grade 2020-21 | C15: 2017-18 | D15: 2018-19 | E15: 2019-20 | F15: 2020-21 | G15: 2021-22 | H15: 2022-23 | I15: 2025-26
B16: KIndergarten 2015-16 | C16: ='Overall Math Proficiency'!G7 -> 0.632 | D16: 0 | E16: 0 | F16: ='Overall Math Proficiency'!H16 -> 0.399 | G16: ='Overall Math Proficiency'!I19 -> 0.415 | H16: ='Overall Math Proficiency'!J22 -> 0.355 | I16: 0
B17: Class of 2028 | D17: Pandemic | E17: Pandemic | F17: =if(isnumber(C16)=true,if(isnumber(F16)=true,F16-C16,"N/A"),"N/A") -> -0.233 | G17: =if(isnumber(F16)=true,if(isnumber(G16)=true,G16-F16,"N/A"),"N/A") -> 0.016 | H17: =if(isnumber(G16)=true,if(isnumber(H16)=true,H16-G16,"N/A"),"N/A") -> -0.06 | I17: N/A
B18: Fifth Grade 2020-21 | C18: 2018-19 | D18: 2019-20 | E18: 2020-21 | F18: 2021-22 | G18: 2022-23 | H18: 2023-24 | I18: 2026-27
B19: KIndergarten 2016-17 | C19: 0 | D19: 0 | E19: ='Overall Math Proficiency'!H13 -> 0.464 | F19: ='Overall Math Proficiency'!I16 -> 0.408 | G19: ='Overall Math Proficiency'!J19 -> 0.43 | H19: ='Overall Math Proficiency'!K22 -> 0.394 | I19: 0
B20: Class of 2029 | C20: Pandemic | D20: Pandemic | E20: First OSAS test | F20: =if(isnumber(E19)=true,if(isnumber(F19)=true,F19-E19,"N/A"),"N/A") -> -0.056 | G20: =if(isnumber(F19)=true,if(isnumber(G19)=true,G19-F19,"N/A"),"N/A") -> 0.022 | H20: =if(isnumber(G19)=true,if(isnumber(H19)=true,H19-G19,"N/A"),"N/A") -> -0.036 | I20: N/A
B21: Fourth Grade 2020-21 | C21: 2019-20 | D21: 2020-21 | E21: 2021-22 | F21: 2022-23 | G21: 2023-24 | H21: 2024-25 | I21: 2027-28
B22: KIndergarten 2017-18 | C22: 0 | D22: ='Overall Math Proficiency'!H10 -> 0.493 | E22: ='Overall Math Proficiency'!I13 -> 0.472 | F22: ='Overall Math Proficiency'!J16 -> 0.431 | G22: ='Overall Math Proficiency'!K19 -> 0.437 | H22: 0 | I22: 0
B23: Class of 2030 | C23: Pandemic | D23: First OSAS test | E23: =if(isnumber(D22)=true,if(isnumber(E22)=true,E22-D22,"N/A"),"N/A") -> -0.021 | F23: =if(isnumber(E22)=true,if(isnumber(F22)=true,F22-E22,"N/A"),"N/A") -> -0.041 | G23: =if(isnumber(F22)=true,if(isnumber(G22)=true,G22-F22,"N/A"),"N/A") -> 0.006 | H23: N/A | I23: N/A
B24: Third Grade 2020-21 | C24: 2020-21 | D24: 2021-22 | E24: 2022-23 | F24: 2023-24 | G24: 2024-25 | H24: 2025-26 | I24: 2027-28
B25: KIndergarten 2018-19 | C25: ='Overall Math Proficiency'!H7 -> 0.542 | D25: ='Overall Math Proficiency'!I10 -> 0.52 | E25: ='Overall Math Proficiency'!J13 -> 0.483 | F25: ='Overall Math Proficiency'!K16 -> 0.407 | G25: 0 | H25: 0 | I25: 0
B26: Class of 2031 | D26: =if(isnumber(C25)=true,if(isnumber(D25)=true,D25-C25,"N/A"),"N/A") -> -0.022 | E26: =if(isnumber(D25)=true,if(isnumber(E25)=true,E25-D25,"N/A"),"N/A") -> -0.037 | F26: =if(isnumber(E25)=true,if(isnumber(F25)=true,F25-E25,"N/A"),"N/A") -> -0.076 | G26: N/A | H26: N/A | I26: N/A
B27: Second Grade 2020-21 | C27: 2021-22 | D27: 2022-23 | E27: 2023-24 | F27: 2024-25 | G27: 2025-26 | H27: 2026-27 | I27: 2029-30
B28: KIndergarten 2019-20 | C28: ='Overall Math Proficiency'!I7 -> 0.567 | D28: ='Overall Math Proficiency'!J10 -> 0.535 | E28: ='Overall Math Proficiency'!K13 -> 0.478 | F28: 0 | G28: 0 | H28: 0 | I28: 0
B29: Class of 2032 | D29: =if(isnumber(C28)=true,if(isnumber(D28)=true,D28-C28,"N/A"),"N/A") -> -0.032 | E29: =if(isnumber(D28)=true,if(isnumber(E28)=true,E28-D28,"N/A"),"N/A") -> -0.057 | F29: N/A | G29: N/A | H29: N/A | I29: N/A
B30: First Grade 2020-21 | C30: 2022-23 | D30: 2023-24 | E30: 2024-25 | F30: 2025-26 | G30: 2026-27 | H30: 2027-28 | I30: 2030-31
B31: KIndergarten 2020-21 | C31: ='Overall Math Proficiency'!J7 -> 0.527 | D31: ='Overall Math Proficiency'!K10 -> 0.483 | E31: 0 | F31: 0 | G31: 0 | H31: 0 | I31: 0
B32: Class of 2033 | D32: =if(isnumber(C31)=true,if(isnumber(D31)=true,D31-C31,"N/A"),"N/A") -> -0.044 | E32: N/A | F32: N/A | G32: N/A | H32: N/A | I32: N/A
B33: Kindergarten 2020-21 | C33: 2023-24 | D33: 2024-25 | E33: 2025-26 | F33: 2026-27 | G33: 2027-28 | H33: 2028-29 | I33: 2031-32
B34: KIndergarten 2021-22 | C34: ='Overall Math Proficiency'!K7 -> 0.48 | D34: 0 | E34: 0 | F34: 0 | G34: 0 | H34: 0 | I34: 0
B35: Class of 2034 | D35: N/A | E35: N/A | F35: N/A | G35: N/A | H35: N/A | I35: N/A
C36: 2024-25 | D36: 2025-26 | E36: 2026-27 | F36: 2027-28 | G36: 2028-29 | H36: 2029-30 | I36: 2032-33
B38: *Prior to 2024-25, ODE counted students taking extended assessments as not proficient in these assessment reports. However, ODE received approval from the U.S. Department of Education to count as proficient those students who met the alternate standard on Extended Assessments.
C117: Grade 3 | D117: Grade 4 | E117: Grade 5 | F117: Grade 6 | G117: Grade 7 | H117: Grade 8 | I117: Grade 11
B118: Kindergarten 2011-12 | C118: ='Overall Math Proficiency'!C7 -> 0.642 | D118: ='Overall Math Proficiency'!D10 -> 0.601 | E118: ='Overall Math Proficiency'!E13 -> 0.545 | F118: ='Overall Math Proficiency'!F16 -> 0.521 | G118: ='Overall Math Proficiency'!G19 -> 0.559 | H118: 0 | I118: ='Overall Math Proficiency'!I25 -> 0.328
B119: KIndergarten 2012-13 | C119: ='Overall Math Proficiency'!D7 -> 0.648 | D119: ='Overall Math Proficiency'!E10 -> 0.592 | E119: ='Overall Math Proficiency'!F13 -> 0.543 | F119: ='Overall Math Proficiency'!G16 -> 0.491 | G119: 0 | H119: 0 | I119: ='Overall Math Proficiency'!J25 -> 0.272
B120: KIndergarten 2013-14 | C120: ='Overall Math Proficiency'!E7 -> 0.637 | D120: ='Overall Math Proficiency'!F10 -> 0.589 | E120: ='Overall Math Proficiency'!G13 -> 0.524 | F120: 0 | G120: 0 | H120: ='Overall Math Proficiency'!H22 -> 0.388 | I120: ='Overall Math Proficiency'!K25 -> 0.303
B121: KIndergarten 2014-15 | C121: ='Overall Math Proficiency'!F7 -> 0.631 | D121: ='Overall Math Proficiency'!G10 -> 0.59 | E121: 0 | F121: 0 | G121: ='Overall Math Proficiency'!H19 -> 0.432 | H121: ='Overall Math Proficiency'!I22 -> 0.369 | I121: 0
B122: KIndergarten 2015-16 | C122: ='Overall Math Proficiency'!G7 -> 0.632 | D122: 0 | E122: 0 | F122: ='Overall Math Proficiency'!H16 -> 0.399 | G122: ='Overall Math Proficiency'!I19 -> 0.415 | H122: ='Overall Math Proficiency'!J22 -> 0.355 | I122: 0
B123: KIndergarten 2016-17 | C123: 0 | D123: 0 | E123: ='Overall Math Proficiency'!H13 -> 0.464 | F123: ='Overall Math Proficiency'!I16 -> 0.408 | G123: ='Overall Math Proficiency'!J19 -> 0.43 | H123: ='Overall Math Proficiency'!K22 -> 0.394 | I123: 0
B124: KIndergarten 2017-18 | C124: 0 | D124: ='Overall Math Proficiency'!H10 -> 0.493 | E124: ='Overall Math Proficiency'!I13 -> 0.472 | F124: ='Overall Math Proficiency'!J16 -> 0.431 | G124: ='Overall Math Proficiency'!K19 -> 0.437 | H124: 0 | I124: 0
B125: KIndergarten 2018-19 | C125: ='Overall Math Proficiency'!H7 -> 0.542 | D125: ='Overall Math Proficiency'!I10 -> 0.52 | E125: ='Overall Math Proficiency'!J13 -> 0.483 | F125: ='Overall Math Proficiency'!K16 -> 0.407 | G125: 0 | H125: 0 | I125: 0
B126: KIndergarten 2019-20 | C126: ='Overall Math Proficiency'!I7 -> 0.567 | D126: ='Overall Math Proficiency'!J10 -> 0.535 | E126: ='Overall Math Proficiency'!K13 -> 0.478 | F126: 0 | G126: 0 | H126: 0 | I126: 0
B127: KIndergarten 2020-21 | C127: ='Overall Math Proficiency'!J7 -> 0.527 | D127: ='Overall Math Proficiency'!K10 -> 0.483 | E127: 0 | F127: 0 | G127: 0 | H127: 0 | I127: 0
B128: KIndergarten 2021-22 | C128: ='Overall Math Proficiency'!K7 -> 0.48 | D128: 0 | E128: 0 | F128: 0 | G128: 0 | H128: 0 | I128: 0

Sheet Grade 3 with Demographics
A1: OSAS Grade 3 Math Proficiency
A2: Race/Ethnicity
C3: ='Overall Math Proficiency'!C3 -> 2014-15 | D3: ='Overall Math Proficiency'!D3 -> 2015-16 | E3: ='Overall Math Proficiency'!E3 -> 2016-17 | F3: ='Overall Math Proficiency'!F3 -> 2017-18 | G3: ='Overall Math Proficiency'!G3 -> 2018-19 | H3: ='Overall Math Proficiency'!H3 -> 2021-22 | I3: ='Overall Math Proficiency'!I3 -> 2022-23 | J3: ='Overall Math Proficiency'!J3 -> 2023-24 | K3: ='Overall Math Proficiency'!K3 -> 2024-25*
A4: Grade 3 BSD Average | B4: BSD | C4: ='Overall Math Proficiency'!C7 -> 0.642 | D4: ='Overall Math Proficiency'!D7 -> 0.648 | E4: ='Overall Math Proficiency'!E7 -> 0.637 | F4: ='Overall Math Proficiency'!F7 -> 0.631 | G4: ='Overall Math Proficiency'!G7 -> 0.632 | H4: ='Overall Math Proficiency'!H7 -> 0.542 | I4: ='Overall Math Proficiency'!I7 -> 0.567 | J4: ='Overall Math Proficiency'!J7 -> 0.527 | K4: ='Overall Math Proficiency'!K7 -> 0.48
B5: Change from Previous Year | D5: =D4-C4 -> 0.006 | E5: =E4-D4 -> -0.011 | F5: =F4-E4 -> -0.006 | G5: =G4-F4 -> 0.001 | H5: =H4-G4 -> -0.09 | I5: =I4-H4 -> 0.025 | J5: =J4-I4 -> -0.04 | K5: =K4-J4 -> -0.047
A6: Asian | B6: BSD | C6: 0.872 | D6: 0.882 | E6: 0.88 | F6: 0.879 | G6: 0.855 | H6: 0.778 | I6: 0.814 | J6: 0.769 | K6: 0.713
B7: Change from Previous Year | D7: =if(isnumber(C6)=true,if(isnumber(D6)=true,D6-C6,"N/A"),"N/A") -> 0.01 | E7: =if(isnumber(D6)=true,if(isnumber(E6)=true,E6-D6,"N/A"),"N/A") -> -0.002 | F7: =if(isnumber(E6)=true,if(isnumber(F6)=true,F6-E6,"N/A"),"N/A") -> -0.001 | G7: =if(isnumber(F6)=true,if(isnumber(G6)=true,G6-F6,"N/A"),"N/A") -> -0.024 | H7: =if(isnumber(G6)=true,if(isnumber(H6)=true,H6-G6,"N/A"),"N/A") -> -0.077 | I7: =if(isnumber(H6)=true,if(isnumber(I6)=true,I6-H6,"N/A"),"N/A") -> 0.036 | J7: =if(isnumber(I6)=true,if(isnumber(J6)=true,J6-I6,"N/A"),"N/A") -> -0.045 | K7: =K6-J6 -> -0.056
B8: Gap from BSD Average | C8: =if(isnumber(C$4)=true,if(isnumber(C6)=true,C6-C$4,"N/A"),"N/A") -> 0.23 | D8: =if(isnumber(D$4)=true,if(isnumber(D6)=true,D6-D$4,"N/A"),"N/A") -> 0.234 | E8: =if(isnumber(E$4)=true,if(isnumber(E6)=true,E6-E$4,"N/A"),"N/A") -> 0.243 | F8: =if(isnumber(F$4)=true,if(isnumber(F6)=true,F6-F$4,"N/A"),"N/A") -> 0.248 | G8: =if(isnumber(G$4)=true,if(isnumber(G6)=true,G6-G$4,"N/A"),"N/A") -> 0.223 | H8: =if(isnumber(H$4)=true,if(isnumber(H6)=true,H6-H$4,"N/A"),"N/A") -> 0.236 | I8: =if(isnumber(I$4)=true,if(isnumber(I6)=true,I6-I$4,"N/A"),"N/A") -> 0.247 | J8: =if(isnumber(J$4)=true,if(isnumber(J6)=true,J6-J$4,"N/A"),"N/A") -> 0.242 | K8: =if(isnumber(K$4)=true,if(isnumber(K6)=true,K6-K$4,"N/A"),"N/A") -> 0.233
A9: Black/African American | B9: BSD | C9: 0.409 | D9: 0.361 | E9: 0.45 | F9: 0.443 | G9: 0.289 | H9: 0.31 | I9: 0.356 | J9: 0.388 | K9: 0.27
B10: Change from Previous Year | D10: =if(isnumber(C9)=true,if(isnumber(D9)=true,D9-C9,"N/A"),"N/A") -> -0.048 | E10: =if(isnumber(D9)=true,if(isnumber(E9)=true,E9-D9,"N/A"),"N/A") -> 0.089 | F10: =if(isnumber(E9)=true,if(isnumber(F9)=true,F9-E9,"N/A"),"N/A") -> -0.007 | G10: =if(isnumber(F9)=true,if(isnumber(G9)=true,G9-F9,"N/A"),"N/A") -> -0.154 | H10: =if(isnumber(G9)=true,if(isnumber(H9)=true,H9-G9,"N/A"),"N/A") -> 0.021 | I10: =if(isnumber(H9)=true,if(isnumber(I9)=true,I9-H9,"N/A"),"N/A") -> 0.046 | J10: =if(isnumber(I9)=true,if(isnumber(J9)=true,J9-I9,"N/A"),"N/A") -> 0.032 | K10: =K9-J9 -> -0.118
B11: Gap from BSD Average | C11: =if(isnumber(C$4)=true,if(isnumber(C9)=true,C9-C$4,"N/A"),"N/A") -> -0.233 | D11: =if(isnumber(D$4)=true,if(isnumber(D9)=true,D9-D$4,"N/A"),"N/A") -> -0.287 | E11: =if(isnumber(E$4)=true,if(isnumber(E9)=true,E9-E$4,"N/A"),"N/A") -> -0.187 | F11: =if(isnumber(F$4)=true,if(isnumber(F9)=true,F9-F$4,"N/A"),"N/A") -> -0.188 | G11: =if(isnumber(G$4)=true,if(isnumber(G9)=true,G9-G$4,"N/A"),"N/A") -> -0.343 | H11: =if(isnumber(H$4)=true,if(isnumber(H9)=true,H9-H$4,"N/A"),"N/A") -> -0.232 | I11: =if(isnumber(I$4)=true,if(isnumber(I9)=true,I9-I$4,"N/A"),"N/A") -> -0.211 | J11: =if(isnumber(J$4)=true,if(isnumber(J9)=true,J9-J$4,"N/A"),"N/A") -> -0.139 | K11: =if(isnumber(K$4)=true,if(isnumber(K9)=true,K9-K$4,"N/A"),"N/A") -> -0.21
A12: Hispanic/Latino | B12: BSD | C12: 0.4 | D12: 0.383 | E12: 0.364 | F12: 0.373 | G12: 0.374 | H12: 0.271 | I12: 0.272 | J12: 0.236 | K12: 0.213
B13: Change from Previous Year | D13: =if(isnumber(C12)=true,if(isnumber(D12)=true,D12-C12,"N/A"),"N/A") -> -0.017 | E13: =if(isnumber(D12)=true,if(isnumber(E12)=true,E12-D12,"N/A"),"N/A") -> -0.019 | F13: =if(isnumber(E12)=true,if(isnumber(F12)=true,F12-E12,"N/A"),"N/A") -> 0.009 | G13: =if(isnumber(F12)=true,if(isnumber(G12)=true,G12-F12,"N/A"),"N/A") -> 0.001 | H13: =if(isnumber(G12)=true,if(isnumber(H12)=true,H12-G12,"N/A"),"N/A") -> -0.103 | I13: =if(isnumber(H12)=true,if(isnumber(I12)=true,I12-H12,"N/A"),"N/A") -> 0.001 | J13: =if(isnumber(I12)=true,if(isnumber(J12)=true,J12-I12,"N/A"),"N/A") -> -0.036 | K13: =K12-J12 -> -0.023
B14: Gap from BSD Average | C14: =if(isnumber(C$4)=true,if(isnumber(C12)=true,C12-C$4,"N/A"),"N/A") -> -0.242 | D14: =if(isnumber(D$4)=true,if(isnumber(D12)=true,D12-D$4,"N/A"),"N/A") -> -0.265 | E14: =if(isnumber(E$4)=true,if(isnumber(E12)=true,E12-E$4,"N/A"),"N/A") -> -0.273 | F14: =if(isnumber(F$4)=true,if(isnumber(F12)=true,F12-F$4,"N/A"),"N/A") -> -0.258 | G14: =if(isnumber(G$4)=true,if(isnumber(G12)=true,G12-G$4,"N/A"),"N/A") -> -0.258 | H14: =if(isnumber(H$4)=true,if(isnumber(H12)=true,H12-H$4,"N/A"),"N/A") -> -0.271 | I14: =if(isnumber(I$4)=true,if(isnumber(I12)=true,I12-I$4,"N/A"),"N/A") -> -0.295 | J14: =if(isnumber(J$4)=true,if(isnumber(J12)=true,J12-J$4,"N/A"),"N/A") -> -0.291 | K14: =if(isnumber(K$4)=true,if(isnumber(K12)=true,K12-K$4,"N/A"),"N/A") -> -0.267
A15: Multiracial | B15: BSD | C15: 0.725 | D15: 0.702 | E15: 0.714 | F15: 0.671 | G15: 0.702 | H15: 0.689 | I15: 0.646 | J15: 0.575 | K15: 0.55
B16: Change from Previous Year | D16: =if(isnumber(C15)=true,if(isnumber(D15)=true,D15-C15,"N/A"),"N/A") -> -0.023 | E16: =if(isnumber(D15)=true,if(isnumber(E15)=true,E15-D15,"N/A"),"N/A") -> 0.012 | F16: =if(isnumber(E15)=true,if(isnumber(F15)=true,F15-E15,"N/A"),"N/A") -> -0.043 | G16: =if(isnumber(F15)=true,if(isnumber(G15)=true,G15-F15,"N/A"),"N/A") -> 0.031 | H16: =if(isnumber(G15)=true,if(isnumber(H15)=true,H15-G15,"N/A"),"N/A") -> -0.013 | I16: =if(isnumber(H15)=true,if(isnumber(I15)=true,I15-H15,"N/A"),"N/A") -> -0.043 | J16: =if(isnumber(I15)=true,if(isnumber(J15)=true,J15-I15,"N/A"),"N/A") -> -0.071 | K16: =K15-J15 -> -0.025
B17: Gap from BSD Average | C17: =if(isnumber(C$4)=true,if(isnumber(C15)=true,C15-C$4,"N/A"),"N/A") -> 0.083 | D17: =if(isnumber(D$4)=true,if(isnumber(D15)=true,D15-D$4,"N/A"),"N/A") -> 0.054 | E17: =if(isnumber(E$4)=true,if(isnumber(E15)=true,E15-E$4,"N/A"),"N/A") -> 0.077 | F17: =if(isnumber(F$4)=true,if(isnumber(F15)=true,F15-F$4,"N/A"),"N/A") -> 0.04 | G17: =if(isnumber(G$4)=true,if(isnumber(G15)=true,G15-G$4,"N/A"),"N/A") -> 0.07 | H17: =if(isnumber(H$4)=true,if(isnumber(H15)=true,H15-H$4,"N/A"),"N/A") -> 0.147 | I17: =if(isnumber(I$4)=true,if(isnumber(I15)=true,I15-I$4,"N/A"),"N/A") -> 0.079 | J17: =if(isnumber(J$4)=true,if(isnumber(J15)=true,J15-J$4,"N/A"),"N/A") -> 0.048 | K17: =if(isnumber(K$4)=true,if(isnumber(K15)=true,K15-K$4,"N/A"),"N/A") -> 0.07
A18: Native American/Alaska Native | B18: BSD | C18: 0.556 | D18: 0.6 | E18: * | F18: 0.471 | G18: 0.375 | H18: 0.4 | I18: * | J18: 0.417 | K18: 0.308
B19: Change from Previous Year | D19: =if(isnumber(C18)=true,if(isnumber(D18)=true,D18-C18,"N/A"),"N/A") -> 0.044 | E19: =if(isnumber(D18)=true,if(isnumber(E18)=true,E18-D18,"N/A"),"N/A") -> N/A | F19: =if(isnumber(E18)=true,if(isnumber(F18)=true,F18-E18,"N/A"),"N/A") -> N/A | G19: =if(isnumber(F18)=true,if(isnumber(G18)=true,G18-F18,"N/A"),"N/A") -> -0.096 | H19: =if(isnumber(G18)=true,if(isnumber(H18)=true,H18-G18,"N/A"),"N/A") -> 0.025 | I19: =if(isnumber(H18)=true,if(isnumber(I18)=true,I18-H18,"N/A"),"N/A") -> N/A | J19: =if(isnumber(I18)=true,if(isnumber(J18)=true,J18-I18,"N/A"),"N/A") -> N/A | K19: =K18-J18 -> -0.109
B20: Gap from BSD Average | C20: =if(isnumber(C$4)=true,if(isnumber(C18)=true,C18-C$4,"N/A"),"N/A") -> -0.086 | D20: =if(isnumber(D$4)=true,if(isnumber(D18)=true,D18-D$4,"N/A"),"N/A") -> -0.048 | E20: =if(isnumber(E$4)=true,if(isnumber(E18)=true,E18-E$4,"N/A"),"N/A") -> N/A | F20: =if(isnumber(F$4)=true,if(isnumber(F18)=true,F18-F$4,"N/A"),"N/A") -> -0.16 | G20: =if(isnumber(G$4)=true,if(isnumber(G18)=true,G18-G$4,"N/A"),"N/A") -> -0.257 | H20: =if(isnumber(H$4)=true,if(isnumber(H18)=true,H18-H$4,"N/A"),"N/A") -> -0.142 | I20: =if(isnumber(I$4)=true,if(isnumber(I18)=true,I18-I$4,"N/A"),"N/A") -> N/A | J20: =if(isnumber(J$4)=true,if(isnumber(J18)=true,J18-J$4,"N/A"),"N/A") -> -0.11 | K20: =if(isnumber(K$4)=true,if(isnumber(K18)=true,K18-K$4,"N/A"),"N/A") -> -0.172
A21: Native Hawaiian/Pacific Islander | B21: BSD | C21: 0.188 | D21: 0.5 | E21: 0.526 | F21: 0.333 | G21: 0.357 | H21: 0.059 | I21: 0.212 | J21: 0.059 | K21: 0.16
B22: Change from Previous Year | D22: =if(isnumber(C21)=true,if(isnumber(D21)=true,D21-C21,"N/A"),"N/A") -> 0.312 | E22: =if(isnumber(D21)=true,if(isnumber(E21)=true,E21-D21,"N/A"),"N/A") -> 0.026 | F22: =if(isnumber(E21)=true,if(isnumber(F21)=true,F21-E21,"N/A"),"N/A") -> -0.193 | G22: =if(isnumber(F21)=true,if(isnumber(G21)=true,G21-F21,"N/A"),"N/A") -> 0.024 | H22: =if(isnumber(G21)=true,if(isnumber(H21)=true,H21-G21,"N/A"),"N/A") -> -0.298 | I22: =if(isnumber(H21)=true,if(isnumber(I21)=true,I21-H21,"N/A"),"N/A") -> 0.153 | J22: =if(isnumber(I21)=true,if(isnumber(J21)=true,J21-I21,"N/A"),"N/A") -> -0.153 | K22: =K21-J21 -> 0.101
B23: Gap from BSD Average | C23: =if(isnumber(C$4)=true,if(isnumber(C21)=true,C21-C$4,"N/A"),"N/A") -> -0.454 | D23: =if(isnumber(D$4)=true,if(isnumber(D21)=true,D21-D$4,"N/A"),"N/A") -> -0.148 | E23: =if(isnumber(E$4)=true,if(isnumber(E21)=true,E21-E$4,"N/A"),"N/A") -> -0.111 | F23: =if(isnumber(F$4)=true,if(isnumber(F21)=true,F21-F$4,"N/A"),"N/A") -> -0.298 | G23: =if(isnumber(G$4)=true,if(isnumber(G21)=true,G21-G$4,"N/A"),"N/A") -> -0.275 | H23: =if(isnumber(H$4)=true,if(isnumber(H21)=true,H21-H$4,"N/A"),"N/A") -> -0.483 | I23: =if(isnumber(I$4)=true,if(isnumber(I21)=true,I21-I$4,"N/A"),"N/A") -> -0.355 | J23: =if(isnumber(J$4)=true,if(isnumber(J21)=true,J21-J$4,"N/A"),"N/A") -> -0.468 | K23: =if(isnumber(K$4)=true,if(isnumber(K21)=true,K21-K$4,"N/A"),"N/A") -> -0.32
A24: White | B24: BSD | C24: 0.708 | D24: 0.725 | E24: 0.702 | F24: 0.689 | G24: 0.692 | H24: 0.59 | I24: 0.654 | J24: 0.61 | K24: 0.584
B25: Change from Previous Year | D25: =if(isnumber(C24)=true,if(isnumber(D24)=true,D24-C24,"N/A"),"N/A") -> 0.017 | E25: =if(isnumber(D24)=true,if(isnumber(E24)=true,E24-D24,"N/A"),"N/A") -> -0.023 | F25: =if(isnumber(E24)=true,if(isnumber(F24)=true,F24-E24,"N/A"),"N/A") -> -0.013 | G25: =if(isnumber(F24)=true,if(isnumber(G24)=true,G24-F24,"N/A"),"N/A") -> 0.003 | H25: =if(isnumber(G24)=true,if(isnumber(H24)=true,H24-G24,"N/A"),"N/A") -> -0.102 | I25: =if(isnumber(H24)=true,if(isnumber(I24)=true,I24-H24,"N/A"),"N/A") -> 0.064 | J25: =if(isnumber(I24)=true,if(isnumber(J24)=true,J24-I24,"N/A"),"N/A") -> -0.044 | K25: =K24-J24 -> -0.026
B26: Gap from BSD Average | C26: =if(isnumber(C$4)=true,if(isnumber(C24)=true,C24-C$4,"N/A"),"N/A") -> 0.066 | D26: =if(isnumber(D$4)=true,if(isnumber(D24)=true,D24-D$4,"N/A"),"N/A") -> 0.077 | E26: =if(isnumber(E$4)=true,if(isnumber(E24)=true,E24-E$4,"N/A"),"N/A") -> 0.065 | F26: =if(isnumber(F$4)=true,if(isnumber(F24)=true,F24-F$4,"N/A"),"N/A") -> 0.058 | G26: =if(isnumber(G$4)=true,if(isnumber(G24)=true,G24-G$4,"N/A"),"N/A") -> 0.06 | H26: =if(isnumber(H$4)=true,if(isnumber(H24)=true,H24-H$4,"N/A"),"N/A") -> 0.048 | I26: =if(isnumber(I$4)=true,if(isnumber(I24)=true,I24-I$4,"N/A"),"N/A") -> 0.087 | J26: =if(isnumber(J$4)=true,if(isnumber(J24)=true,J24-J$4,"N/A"),"N/A") -> 0.083 | K26: =if(isnumber(K$4)=true,if(isnumber(K24)=true,K24-K$4,"N/A"),"N/A") -> 0.104
A27: *Prior to 2024-25, ODE counted students taking extended assessments as not proficient in these assessment reports. However, ODE received approval from the U.S. Department of Education to count as proficient those students who met the alternate standard on Extended Assessments.
A29: Student Group
C30: =C3 -> 2014-15 | D30: =D3 -> 2015-16 | E30: =E3 -> 2016-17 | F30: =F3 -> 2017-18 | G30: =G3 -> 2018-19 | H30: =H3 -> 2021-22 | I30: =I3 -> 2022-23 | J30: =J3 -> 2023-24 | K30: =K3 -> 2024-25*
A31: Grade 3 BSD Average | B31: BSD | C31: =C4 -> 0.642 | D31: =D4 -> 0.648 | E31: =E4 -> 0.637 | F31: =F4 -> 0.631 | G31: =G4 -> 0.632 | H31: =H4 -> 0.542 | I31: =I4 -> 0.567 | J31: =J4 -> 0.527 | K31: =K4 -> 0.48
B32: Change from Previous Year | D32: =D31-C31 -> 0.006 | E32: =E31-D31 -> -0.011 | F32: =F31-E31 -> -0.006 | G32: =G31-F31 -> 0.001 | H32: =H31-G31 -> -0.09 | I32: =I31-H31 -> 0.025 | J32: =J31-I31 -> -0.04 | K32: =K31-J31 -> -0.047
A33: English Learners | B33: BSD | C33: 0.278 | D33: 0.296 | E33: 0.321 | F33: 0.226 | G33: 0.237 | H33: 0.162 | I33: 0.18 | J33: 0.136 | K33: 0.127
B34: Change from Previous Year | D34: =if(isnumber(C33)=true,if(isnumber(D33)=true,D33-C33,"N/A"),"N/A") -> 0.018 | E34: =if(isnumber(D33)=true,if(isnumber(E33)=true,E33-D33,"N/A"),"N/A") -> 0.025 | F34: =if(isnumber(E33)=true,if(isnumber(F33)=true,F33-E33,"N/A"),"N/A") -> -0.095 | G34: =if(isnumber(F33)=true,if(isnumber(G33)=true,G33-F33,"N/A"),"N/A") -> 0.011 | H34: =if(isnumber(G33)=true,if(isnumber(H33)=true,H33-G33,"N/A"),"N/A") -> -0.075 | I34: =if(isnumber(H33)=true,if(isnumber(I33)=true,I33-H33,"N/A"),"N/A") -> 0.018 | J34: =if(isnumber(I33)=true,if(isnumber(J33)=true,J33-I33,"N/A"),"N/A") -> -0.044 | K34: =K33-J33 -> -0.009
B35: Gap from BSD Average | C35: =if(isnumber(C$31)=true,if(isnumber(C33)=true,C33-C$31,"N/A"),"N/A") -> -0.364 | D35: =if(isnumber(D$31)=true,if(isnumber(D33)=true,D33-D$31,"N/A"),"N/A") -> -0.352 | E35: =if(isnumber(E$31)=true,if(isnumber(E33)=true,E33-E$31,"N/A"),"N/A") -> -0.316 | F35: =if(isnumber(F$31)=true,if(isnumber(F33)=true,F33-F$31,"N/A"),"N/A") -> -0.405 | G35: =if(isnumber(G$31)=true,if(isnumber(G33)=true,G33-G$31,"N/A"),"N/A") -> -0.395 | H35: =if(isnumber(H$31)=true,if(isnumber(H33)=true,H33-H$31,"N/A"),"N/A") -> -0.38 | I35: =if(isnumber(I$31)=true,if(isnumber(I33)=true,I33-I$31,"N/A"),"N/A") -> -0.387 | J35: =if(isnumber(J$31)=true,if(isnumber(J33)=true,J33-J$31,"N/A"),"N/A") -> -0.391 | K35: =if(isnumber(K$31)=true,if(isnumber(K33)=true,K33-K$31,"N/A"),"N/A") -> -0.353
A36: Indian Education | B36: BSD | K36: 0.294
B37: Change from Previous Year | C37: Data withheld to protect privacy
B38: Gap from BSD Average | K38: =if(isnumber(K$31)=true,if(isnumber(K36)=true,K36-K$31,"N/A"),"N/A") -> -0.186
A39: Migrant Students | B39: BSD | C39: 0.423 | D39: 0.189 | E39: 0.393 | F39: 0.176 | G39: 0.303 | H39: 0.227 | I39: 0.316 | J39: 0.15 | K39: 0.105
B40: Change from Previous Year | D40: =if(isnumber(C39)=true,if(isnumber(D39)=true,D39-C39,"N/A"),"N/A") -> -0.234 | E40: =if(isnumber(D39)=true,if(isnumber(E39)=true,E39-D39,"N/A"),"N/A") -> 0.204 | F40: =if(isnumber(E39)=true,if(isnumber(F39)=true,F39-E39,"N/A"),"N/A") -> -0.217 | G40: =if(isnumber(F39)=true,if(isnumber(G39)=true,G39-F39,"N/A"),"N/A") -> 0.127 | H40: =if(isnumber(G39)=true,if(isnumber(H39)=true,H39-G39,"N/A"),"N/A") -> -0.076 | I40: =if(isnumber(H39)=true,if(isnumber(I39)=true,I39-H39,"N/A"),"N/A") -> 0.089 | J40: =if(isnumber(I39)=true,if(isnumber(J39)=true,J39-I39,"N/A"),"N/A") -> -0.166 | K40: =K39-J39 -> -0.045
B41: Gap from BSD Average | C41: =if(isnumber(C$31)=true,if(isnumber(C39)=true,C39-C$31,"N/A"),"N/A") -> -0.219 | D41: =if(isnumber(D$31)=true,if(isnumber(D39)=true,D39-D$31,"N/A"),"N/A") -> -0.459 | E41: =if(isnumber(E$31)=true,if(isnumber(E39)=true,E39-E$31,"N/A"),"N/A") -> -0.244 | F41: =if(isnumber(F$31)=true,if(isnumber(F39)=true,F39-F$31,"N/A"),"N/A") -> -0.455 | G41: =if(isnumber(G$31)=true,if(isnumber(G39)=true,G39-G$31,"N/A"),"N/A") -> -0.329 | H41: =if(isnumber(H$31)=true,if(isnumber(H39)=true,H39-H$31,"N/A"),"N/A") -> -0.315 | I41: =if(isnumber(I$31)=true,if(isnumber(I39)=true,I39-I$31,"N/A"),"N/A") -> -0.251 | J41: =if(isnumber(J$31)=true,if(isnumber(J39)=true,J39-J$31,"N/A"),"N/A") -> -0.377 | K41: =if(isnumber(K$31)=true,if(isnumber(K39)=true,K39-K$31,"N/A"),"N/A") -> -0.375
A42: Students experiencing homelessness | B42: BSD | G42: 0.179 | H42: 0.097 | I42: 0.136 | J42: 0.17 | K42: 0.174
B43: Change from Previous Year | C43: Data not available | H43: =if(isnumber(G42)=true,if(isnumber(H42)=true,H42-G42,"N/A"),"N/A") -> -0.082 | I43: =if(isnumber(H42)=true,if(isnumber(I42)=true,I42-H42,"N/A"),"N/A") -> 0.039 | J43: =if(isnumber(I42)=true,if(isnumber(J42)=true,J42-I42,"N/A"),"N/A") -> 0.034 | K43: =K42-J42 -> 0.004
B44: Gap from BSD Average | G44: =if(isnumber(G$31)=true,if(isnumber(G42)=true,G42-G$31,"N/A"),"N/A") -> -0.453 | H44: =if(isnumber(H$31)=true,if(isnumber(H42)=true,H42-H$31,"N/A"),"N/A") -> -0.445 | I44: =if(isnumber(I$31)=true,if(isnumber(I42)=true,I42-I$31,"N/A"),"N/A") -> -0.431 | J44: =if(isnumber(J$31)=true,if(isnumber(J42)=true,J42-J$31,"N/A"),"N/A") -> -0.357 | K44: =if(isnumber(K$31)=true,if(isnumber(K42)=true,K42-K$31,"N/A"),"N/A") -> -0.306
A45: Students experiencing poverty | B45: BSD | J45: 0.191 | K45: 0.196
B46: Change from Previous Year | C46: Data not available | K46: =K45-J45 -> 0.005
B47: Gap from BSD Average | J47: =if(isnumber(J$31)=true,if(isnumber(J45)=true,J45-J$31,"N/A"),"N/A") -> -0.336 | K47: =if(isnumber(K$31)=true,if(isnumber(K45)=true,K45-K$31,"N/A"),"N/A") -> -0.284
A48: Students with disabilities | B48: BSD | C48: 0.334 | D48: 0.349 | E48: 0.344 | F48: 0.328 | G48: 0.359 | H48: 0.34 | I48: 0.331 | J48: 0.289 | K48: 0.309
B49: Change from Previous Year | D49: =if(isnumber(C48)=true,if(isnumber(D48)=true,D48-C48,"N/A"),"N/A") -> 0.015 | E49: =if(isnumber(D48)=true,if(isnumber(E48)=true,E48-D48,"N/A"),"N/A") -> -0.005 | F49: =if(isnumber(E48)=true,if(isnumber(F48)=true,F48-E48,"N/A"),"N/A") -> -0.016 | G49: =if(isnumber(F48)=true,if(isnumber(G48)=true,G48-F48,"N/A"),"N/A") -> 0.031 | H49: =if(isnumber(G48)=true,if(isnumber(H48)=true,H48-G48,"N/A"),"N/A") -> -0.019 | I49: =if(isnumber(H48)=true,if(isnumber(I48)=true,I48-H48,"N/A"),"N/A") -> -0.009 | J49: =if(isnumber(I48)=true,if(isnumber(J48)=true,J48-I48,"N/A"),"N/A") -> -0.042 | K49: =K48-J48 -> 0.02
B50: Gap from BSD Average | C50: =if(isnumber(C$31)=true,if(isnumber(C48)=true,C48-C$31,"N/A"),"N/A") -> -0.308 | D50: =if(isnumber(D$31)=true,if(isnumber(D48)=true,D48-D$31,"N/A"),"N/A") -> -0.299 | E50: =if(isnumber(E$31)=true,if(isnumber(E48)=true,E48-E$31,"N/A"),"N/A") -> -0.293 | F50: =if(isnumber(F$31)=true,if(isnumber(F48)=true,F48-F$31,"N/A"),"N/A") -> -0.303 | G50: =if(isnumber(G$31)=true,if(isnumber(G48)=true,G48-G$31,"N/A"),"N/A") -> -0.273 | H50: =if(isnumber(H$31)=true,if(isnumber(H48)=true,H48-H$31,"N/A"),"N/A") -> -0.202 | I50: =if(isnumber(I$31)=true,if(isnumber(I48)=true,I48-I$31,"N/A"),"N/A") -> -0.236 | J50: =if(isnumber(J$31)=true,if(isnumber(J48)=true,J48-J$31,"N/A"),"N/A") -> -0.238 | K50: =if(isnumber(K$31)=true,if(isnumber(K48)=true,K48-K$31,"N/A"),"N/A") -> -0.171
A51: Talented and Gifted | B51: BSD | C51: 0.987 | D51: 0.997 | E51: 0.997 | F51: 0.993 | G51: 0.994 | H51: 0.972 | I51: 0.99 | J51: 0.994 | K51: 0.976
B52: Change from Previous Year | D52: =if(isnumber(C51)=true,if(isnumber(D51)=true,D51-C51,"N/A"),"N/A") -> 0.01 | E52: =if(isnumber(D51)=true,if(isnumber(E51)=true,E51-D51,"N/A"),"N/A") -> 0 | F52: =if(isnumber(E51)=true,if(isnumber(F51)=true,F51-E51,"N/A"),"N/A") -> -0.004 | G52: =if(isnumber(F51)=true,if(isnumber(G51)=true,G51-F51,"N/A"),"N/A") -> 0.001 | H52: =if(isnumber(G51)=true,if(isnumber(H51)=true,H51-G51,"N/A"),"N/A") -> -0.022 | I52: =if(isnumber(H51)=true,if(isnumber(I51)=true,I51-H51,"N/A"),"N/A") -> 0.018 | J52: =if(isnumber(I51)=true,if(isnumber(J51)=true,J51-I51,"N/A"),"N/A") -> 0.004 | K52: =K51-J51 -> -0.018
B53: Gap from BSD Average | C53: =if(isnumber(C$31)=true,if(isnumber(C51)=true,C51-C$31,"N/A"),"N/A") -> 0.345 | D53: =if(isnumber(D$31)=true,if(isnumber(D51)=true,D51-D$31,"N/A"),"N/A") -> 0.349 | E53: =if(isnumber(E$31)=true,if(isnumber(E51)=true,E51-E$31,"N/A"),"N/A") -> 0.36 | F53: =if(isnumber(F$31)=true,if(isnumber(F51)=true,F51-F$31,"N/A"),"N/A") -> 0.362 | G53: =if(isnumber(G$31)=true,if(isnumber(G51)=true,G51-G$31,"N/A"),"N/A") -> 0.362 | H53: =if(isnumber(H$31)=true,if(isnumber(H51)=true,H51-H$31,"N/A"),"N/A") -> 0.43 | I53: =if(isnumber(I$31)=true,if(isnumber(I51)=true,I51-I$31,"N/A"),"N/A") -> 0.423 | J53: =if(isnumber(J$31)=true,if(isnumber(J51)=true,J51-J$31,"N/A"),"N/A") -> 0.467 | K53: =if(isnumber(K$31)=true,if(isnumber(K51)=true,K51-K$31,"N/A"),"N/A") -> 0.496
A54: *Prior to 2024-25, ODE counted students taking extended assessments as not proficient in these assessment reports. However, ODE received approval from the U.S. Department of Education to count as proficient those students who met the alternate standard on Extended Assessments.
A56: Gender
C57: =C30 -> 2014-15 | D57: =D30 -> 2015-16 | E57: =E30 -> 2016-17 | F57: =F30 -> 2017-18 | G57: =G30 -> 2018-19 | H57: =H30 -> 2021-22 | I57: =I30 -> 2022-23 | J57: =J30 -> 2023-24 | K57: =K30 -> 2024-25*
A58: Grade 3 BSD Average | B58: BSD | C58: =C31 -> 0.642 | D58: =D31 -> 0.648 | E58: =E31 -> 0.637 | F58: =F31 -> 0.631 | G58: =G31 -> 0.632 | H58: =H31 -> 0.542 | I58: =I31 -> 0.567 | J58: =J31 -> 0.527 | K58: =K31 -> 0.48
B59: Change from Previous Year | D59: =D58-C58 -> 0.006 | E59: =E58-D58 -> -0.011 | F59: =F58-E58 -> -0.006 | G59: =G58-F58 -> 0.001 | H59: =H58-G58 -> -0.09 | I59: =I58-H58 -> 0.025 | J59: =J58-I58 -> -0.04 | K59: =K58-J58 -> -0.047
A60: F | B60: BSD | C60: 0.641 | D60: 0.65 | E60: 0.63 | F60: 0.609 | G60: 0.608 | H60: 0.535 | I60: 0.564 | J60: 0.491 | K60: 0.45
B61: Change from Previous Year | D61: =if(isnumber(C60)=true,if(isnumber(D60)=true,D60-C60,"N/A"),"N/A") -> 0.009 | E61: =if(isnumber(D60)=true,if(isnumber(E60)=true,E60-D60,"N/A"),"N/A") -> -0.02 | F61: =if(isnumber(E60)=true,if(isnumber(F60)=true,F60-E60,"N/A"),"N/A") -> -0.021 | G61: =if(isnumber(F60)=true,if(isnumber(G60)=true,G60-F60,"N/A"),"N/A") -> -0.001 | H61: =if(isnumber(G60)=true,if(isnumber(H60)=true,H60-G60,"N/A"),"N/A") -> -0.073 | I61: =if(isnumber(H60)=true,if(isnumber(I60)=true,I60-H60,"N/A"),"N/A") -> 0.029 | J61: =if(isnumber(I60)=true,if(isnumber(J60)=true,J60-I60,"N/A"),"N/A") -> -0.073 | K61: =K60-J60 -> -0.041
B62: Gap from BSD Average | C62: =if(isnumber(C$58)=true,if(isnumber(C60)=true,C60-C$58,"N/A"),"N/A") -> -0.001 | D62: =if(isnumber(D$58)=true,if(isnumber(D60)=true,D60-D$58,"N/A"),"N/A") -> 0.002 | E62: =if(isnumber(E$58)=true,if(isnumber(E60)=true,E60-E$58,"N/A"),"N/A") -> -0.007 | F62: =if(isnumber(F$58)=true,if(isnumber(F60)=true,F60-F$58,"N/A"),"N/A") -> -0.022 | G62: =if(isnumber(G$58)=true,if(isnumber(G60)=true,G60-G$58,"N/A"),"N/A") -> -0.024 | H62: =if(isnumber(H$58)=true,if(isnumber(H60)=true,H60-H$58,"N/A"),"N/A") -> -0.007 | I62: =if(isnumber(I$58)=true,if(isnumber(I60)=true,I60-I$58,"N/A"),"N/A") -> -0.003 | J62: =if(isnumber(J$58)=true,if(isnumber(J60)=true,J60-J$58,"N/A"),"N/A") -> -0.036 | K62: =if(isnumber(K$58)=true,if(isnumber(K60)=true,K60-K$58,"N/A"),"N/A") -> -0.03
A63: M | B63: BSD | C63: 0.643 | D63: 0.647 | E63: 0.643 | F63: 0.649 | G63: 0.654 | H63: 0.55 | I63: 0.57 | J63: 0.56 | K63: 0.508
B64: Change from Previous Year | D64: =if(isnumber(C63)=true,if(isnumber(D63)=true,D63-C63,"N/A"),"N/A") -> 0.004 | E64: =if(isnumber(D63)=true,if(isnumber(E63)=true,E63-D63,"N/A"),"N/A") -> -0.004 | F64: =if(isnumber(E63)=true,if(isnumber(F63)=true,F63-E63,"N/A"),"N/A") -> 0.006 | G64: =if(isnumber(F63)=true,if(isnumber(G63)=true,G63-F63,"N/A"),"N/A") -> 0.005 | H64: =if(isnumber(G63)=true,if(isnumber(H63)=true,H63-G63,"N/A"),"N/A") -> -0.104 | I64: =if(isnumber(H63)=true,if(isnumber(I63)=true,I63-H63,"N/A"),"N/A") -> 0.02 | J64: =if(isnumber(I63)=true,if(isnumber(J63)=true,J63-I63,"N/A"),"N/A") -> -0.01 | K64: =K63-J63 -> -0.052
B65: Gap from BSD Average | C65: =if(isnumber(C$58)=true,if(isnumber(C63)=true,C63-C$58,"N/A"),"N/A") -> 0.001 | D65: =if(isnumber(D$58)=true,if(isnumber(D63)=true,D63-D$58,"N/A"),"N/A") -> -0.001 | E65: =if(isnumber(E$58)=true,if(isnumber(E63)=true,E63-E$58,"N/A"),"N/A") -> 0.006 | F65: =if(isnumber(F$58)=true,if(isnumber(F63)=true,F63-F$58,"N/A"),"N/A") -> 0.018 | G65: =if(isnumber(G$58)=true,if(isnumber(G63)=true,G63-G$58,"N/A"),"N/A") -> 0.022 | H65: =if(isnumber(H$58)=true,if(isnumber(H63)=true,H63-H$58,"N/A"),"N/A") -> 0.008 | I65: =if(isnumber(I$58)=true,if(isnumber(I63)=true,I63-I$58,"N/A"),"N/A") -> 0.003 | J65: =if(isnumber(J$58)=true,if(isnumber(J63)=true,J63-J$58,"N/A"),"N/A") -> 0.033 | K65: =if(isnumber(K$58)=true,if(isnumber(K63)=true,K63-K$58,"N/A"),"N/A") -> 0.028
A66: X | B66: BSD
B67: Change from Previous Year | C67: Data withheld to protect privacy
B68: Gap from BSD Average
A69: *Prior to 2024-25, ODE counted students taking extended assessments as not proficient in these assessment reports. However, ODE received approval from the U.S. Department of Education to count as proficient those students who met the alternate standard on Extended Assessments.

Sheet Grade 4 with Demographics
A1: OSAS Grade 4 Math Proficiency
A2: Race/Ethnicity
C3: ='Overall Math Proficiency'!C3 -> 2014-15 | D3: ='Overall Math Proficiency'!D3 -> 2015-16 | E3: ='Overall Math Proficiency'!E3 -> 2016-17 | F3: ='Overall Math Proficiency'!F3 -> 2017-18 | G3: ='Overall Math Proficiency'!G3 -> 2018-19 | H3: ='Overall Math Proficiency'!H3 -> 2021-22 | I3: ='Overall Math Proficiency'!I3 -> 2022-23 | J3: ='Overall Math Proficiency'!J3 -> 2023-24 | K3: ='Overall Math Proficiency'!K3 -> 2024-25*
A4: Grade 4 BSD Average | B4: BSD | C4: ='Overall Math Proficiency'!C10 -> 0.62 | D4: ='Overall Math Proficiency'!D10 -> 0.601 | E4: ='Overall Math Proficiency'!E10 -> 0.592 | F4: ='Overall Math Proficiency'!F10 -> 0.589 | G4: ='Overall Math Proficiency'!G10 -> 0.59 | H4: ='Overall Math Proficiency'!H10 -> 0.493 | I4: ='Overall Math Proficiency'!I10 -> 0.52 | J4: ='Overall Math Proficiency'!J10 -> 0.535 | K4: ='Overall Math Proficiency'!K10 -> 0.483
B5: Change from Previous Year | D5: =D4-C4 -> -0.019 | E5: =E4-D4 -> -0.009 | F5: =F4-E4 -> -0.003 | G5: =G4-F4 -> 0.001 | H5: =H4-G4 -> -0.097 | I5: =I4-H4 -> 0.027 | J5: =J4-I4 -> 0.015 | K5: =K4-J4 -> -0.052
A6: Asian | B6: BSD | C6: 0.87 | D6: 0.846 | E6: 0.852 | F6: 0.874 | G6: 0.865 | H6: 0.775 | I6: 0.776 | J6: 0.792 | K6: 0.763
B7: Change from Previous Year | D7: =if(isnumber(C6)=true,if(isnumber(D6)=true,D6-C6,"N/A"),"N/A") -> -0.024 | E7: =if(isnumber(D6)=true,if(isnumber(E6)=true,E6-D6,"N/A"),"N/A") -> 0.006 | F7: =if(isnumber(E6)=true,if(isnumber(F6)=true,F6-E6,"N/A"),"N/A") -> 0.022 | G7: =if(isnumber(F6)=true,if(isnumber(G6)=true,G6-F6,"N/A"),"N/A") -> -0.009 | H7: =if(isnumber(G6)=true,if(isnumber(H6)=true,H6-G6,"N/A"),"N/A") -> -0.09 | I7: =if(isnumber(H6)=true,if(isnumber(I6)=true,I6-H6,"N/A"),"N/A") -> 0.001 | J7: =if(isnumber(I6)=true,if(isnumber(J6)=true,J6-I6,"N/A"),"N/A") -> 0.016 | K7: =K6-J6 -> -0.029
B8: Gap from BSD Average | C8: =if(isnumber(C$4)=true,if(isnumber(C6)=true,C6-C$4,"N/A"),"N/A") -> 0.25 | D8: =if(isnumber(D$4)=true,if(isnumber(D6)=true,D6-D$4,"N/A"),"N/A") -> 0.245 | E8: =if(isnumber(E$4)=true,if(isnumber(E6)=true,E6-E$4,"N/A"),"N/A") -> 0.26 | F8: =if(isnumber(F$4)=true,if(isnumber(F6)=true,F6-F$4,"N/A"),"N/A") -> 0.285 | G8: =if(isnumber(G$4)=true,if(isnumber(G6)=true,G6-G$4,"N/A"),"N/A") -> 0.275 | H8: =if(isnumber(H$4)=true,if(isnumber(H6)=true,H6-H$4,"N/A"),"N/A") -> 0.282 | I8: =if(isnumber(I$4)=true,if(isnumber(I6)=true,I6-I$4,"N/A"),"N/A") -> 0.256 | J8: =if(isnumber(J$4)=true,if(isnumber(J6)=true,J6-J$4,"N/A"),"N/A") -> 0.257 | K8: =if(isnumber(K$4)=true,if(isnumber(K6)=true,K6-K$4,"N/A"),"N/A") -> 0.28
A9: Black/African American | B9: BSD | C9: 0.476 | D9: 0.414 | E9: 0.323 | F9: 0.329 | G9: 0.309 | H9: 0.264 | I9: 0.304 | J9: 0.307 | K9: 0.34
B10: Change from Previous Year | D10: =if(isnumber(C9)=true,if(isnumber(D9)=true,D9-C9,"N/A"),"N/A") -> -0.062 | E10: =if(isnumber(D9)=true,if(isnumber(E9)=true,E9-D9,"N/A"),"N/A") -> -0.091 | F10: =if(isnumber(E9)=true,if(isnumber(F9)=true,F9-E9,"N/A"),"N/A") -> 0.006 | G10: =if(isnumber(F9)=true,if(isnumber(G9)=true,G9-F9,"N/A"),"N/A") -> -0.02 | H10: =if(isnumber(G9)=true,if(isnumber(H9)=true,H9-G9,"N/A"),"N/A") -> -0.045 | I10: =if(isnumber(H9)=true,if(isnumber(I9)=true,I9-H9,"N/A"),"N/A") -> 0.04 | J10: =if(isnumber(I9)=true,if(isnumber(J9)=true,J9-I9,"N/A"),"N/A") -> 0.003 | K10: =K9-J9 -> 0.033
B11: Gap from BSD Average | C11: =if(isnumber(C$4)=true,if(isnumber(C9)=true,C9-C$4,"N/A"),"N/A") -> -0.144 | D11: =if(isnumber(D$4)=true,if(isnumber(D9)=true,D9-D$4,"N/A"),"N/A") -> -0.187 | E11: =if(isnumber(E$4)=true,if(isnumber(E9)=true,E9-E$4,"N/A"),"N/A") -> -0.269 | F11: =if(isnumber(F$4)=true,if(isnumber(F9)=true,F9-F$4,"N/A"),"N/A") -> -0.26 | G11: =if(isnumber(G$4)=true,if(isnumber(G9)=true,G9-G$4,"N/A"),"N/A") -> -0.281 | H11: =if(isnumber(H$4)=true,if(isnumber(H9)=true,H9-H$4,"N/A"),"N/A") -> -0.229 | I11: =if(isnumber(I$4)=true,if(isnumber(I9)=true,I9-I$4,"N/A"),"N/A") -> -0.216 | J11: =if(isnumber(J$4)=true,if(isnumber(J9)=true,J9-J$4,"N/A"),"N/A") -> -0.228 | K11: =if(isnumber(K$4)=true,if(isnumber(K9)=true,K9-K$4,"N/A"),"N/A") -> -0.143
A12: Hispanic/Latino | B12: BSD | C12: 0.344 | D12: 0.365 | E12: 0.333 | F12: 0.294 | G12: 0.319 | H12: 0.195 | I12: 0.219 | J12: 0.239 | K12: 0.175
B13: Change from Previous Year | D13: =if(isnumber(C12)=true,if(isnumber(D12)=true,D12-C12,"N/A"),"N/A") -> 0.021 | E13: =if(isnumber(D12)=true,if(isnumber(E12)=true,E12-D12,"N/A"),"N/A") -> -0.032 | F13: =if(isnumber(E12)=true,if(isnumber(F12)=true,F12-E12,"N/A"),"N/A") -> -0.039 | G13: =if(isnumber(F12)=true,if(isnumber(G12)=true,G12-F12,"N/A"),"N/A") -> 0.025 | H13: =if(isnumber(G12)=true,if(isnumber(H12)=true,H12-G12,"N/A"),"N/A") -> -0.124 | I13: =if(isnumber(H12)=true,if(isnumber(I12)=true,I12-H12,"N/A"),"N/A") -> 0.024 | J13: =if(isnumber(I12)=true,if(isnumber(J12)=true,J12-I12,"N/A"),"N/A") -> 0.02 | K13: =K12-J12 -> -0.064
B14: Gap from BSD Average | C14: =if(isnumber(C$4)=true,if(isnumber(C12)=true,C12-C$4,"N/A"),"N/A") -> -0.276 | D14: =if(isnumber(D$4)=true,if(isnumber(D12)=true,D12-D$4,"N/A"),"N/A") -> -0.236 | E14: =if(isnumber(E$4)=true,if(isnumber(E12)=true,E12-E$4,"N/A"),"N/A") -> -0.259 | F14: =if(isnumber(F$4)=true,if(isnumber(F12)=true,F12-F$4,"N/A"),"N/A") -> -0.295 | G14: =if(isnumber(G$4)=true,if(isnumber(G12)=true,G12-G$4,"N/A"),"N/A") -> -0.271 | H14: =if(isnumber(H$4)=true,if(isnumber(H12)=true,H12-H$4,"N/A"),"N/A") -> -0.298 | I14: =if(isnumber(I$4)=true,if(isnumber(I12)=true,I12-I$4,"N/A"),"N/A") -> -0.301 | J14: =if(isnumber(J$4)=true,if(isnumber(J12)=true,J12-J$4,"N/A"),"N/A") -> -0.296 | K14: =if(isnumber(K$4)=true,if(isnumber(K12)=true,K12-K$4,"N/A"),"N/A") -> -0.308
A15: Multiracial | B15: BSD | C15: 0.695 | D15: 0.655 | E15: 0.638 | F15: 0.664 | G15: 0.586 | H15: 0.548 | I15: 0.657 | J15: 0.648 | K15: 0.571
B16: Change from Previous Year | D16: =if(isnumber(C15)=true,if(isnumber(D15)=true,D15-C15,"N/A"),"N/A") -> -0.04 | E16: =if(isnumber(D15)=true,if(isnumber(E15)=true,E15-D15,"N/A"),"N/A") -> -0.017 | F16: =if(isnumber(E15)=true,if(isnumber(F15)=true,F15-E15,"N/A"),"N/A") -> 0.026 | G16: =if(isnumber(F15)=true,if(isnumber(G15)=true,G15-F15,"N/A"),"N/A") -> -0.078 | H16: =if(isnumber(G15)=true,if(isnumber(H15)=true,H15-G15,"N/A"),"N/A") -> -0.038 | I16: =if(isnumber(H15)=true,if(isnumber(I15)=true,I15-H15,"N/A"),"N/A") -> 0.109 | J16: =if(isnumber(I15)=true,if(isnumber(J15)=true,J15-I15,"N/A"),"N/A") -> -0.009 | K16: =K15-J15 -> -0.077
B17: Gap from BSD Average | C17: =if(isnumber(C$4)=true,if(isnumber(C15)=true,C15-C$4,"N/A"),"N/A") -> 0.075 | D17: =if(isnumber(D$4)=true,if(isnumber(D15)=true,D15-D$4,"N/A"),"N/A") -> 0.054 | E17: =if(isnumber(E$4)=true,if(isnumber(E15)=true,E15-E$4,"N/A"),"N/A") -> 0.046 | F17: =if(isnumber(F$4)=true,if(isnumber(F15)=true,F15-F$4,"N/A"),"N/A") -> 0.075 | G17: =if(isnumber(G$4)=true,if(isnumber(G15)=true,G15-G$4,"N/A"),"N/A") -> -0.004 | H17: =if(isnumber(H$4)=true,if(isnumber(H15)=true,H15-H$4,"N/A"),"N/A") -> 0.055 | I17: =if(isnumber(I$4)=true,if(isnumber(I15)=true,I15-I$4,"N/A"),"N/A") -> 0.137 | J17: =if(isnumber(J$4)=true,if(isnumber(J15)=true,J15-J$4,"N/A"),"N/A") -> 0.113 | K17: =if(isnumber(K$4)=true,if(isnumber(K15)=true,K15-K$4,"N/A"),"N/A") -> 0.088
A18: Native American/Alaska Native | B18: BSD | C18: 0.533 | D18: 0.471 | E18: 0.5 | F18: * | G18: 0.438 | H18: 0.222 | I18: 0.385 | J18: * | K18: 0.308
B19: Change from Previous Year | D19: =if(isnumber(C18)=true,if(isnumber(D18)=true,D18-C18,"N/A"),"N/A") -> -0.062 | E19: =if(isnumber(D18)=true,if(isnumber(E18)=true,E18-D18,"N/A"),"N/A") -> 0.029 | F19: =if(isnumber(E18)=true,if(isnumber(F18)=true,F18-E18,"N/A"),"N/A") -> N/A | G19: =if(isnumber(F18)=true,if(isnumber(G18)=true,G18-F18,"N/A"),"N/A") -> N/A | H19: =if(isnumber(G18)=true,if(isnumber(H18)=true,H18-G18,"N/A"),"N/A") -> -0.216 | I19: =if(isnumber(H18)=true,if(isnumber(I18)=true,I18-H18,"N/A"),"N/A") -> 0.163 | J19: =if(isnumber(I18)=true,if(isnumber(J18)=true,J18-I18,"N/A"),"N/A") -> N/A | K19: =K18-J18 -> #VALUE!
B20: Gap from BSD Average | C20: =if(isnumber(C$4)=true,if(isnumber(C18)=true,C18-C$4,"N/A"),"N/A") -> -0.087 | D20: =if(isnumber(D$4)=true,if(isnumber(D18)=true,D18-D$4,"N/A"),"N/A") -> -0.13 | E20: =if(isnumber(E$4)=true,if(isnumber(E18)=true,E18-E$4,"N/A"),"N/A") -> -0.092 | F20: =if(isnumber(F$4)=true,if(isnumber(F18)=true,F18-F$4,"N/A"),"N/A") -> N/A | G20: =if(isnumber(G$4)=true,if(isnumber(G18)=true,G18-G$4,"N/A"),"N/A") -> -0.152 | H20: =if(isnumber(H$4)=true,if(isnumber(H18)=true,H18-H$4,"N/A"),"N/A") -> -0.271 | I20: =if(isnumber(I$4)=true,if(isnumber(I18)=true,I18-I$4,"N/A"),"N/A") -> -0.135 | J20: =if(isnumber(J$4)=true,if(isnumber(J18)=true,J18-J$4,"N/A"),"N/A") -> N/A | K20: =if(isnumber(K$4)=true,if(isnumber(K18)=true,K18-K$4,"N/A"),"N/A") -> -0.175
A21: Native Hawaiian/Pacific Islander | B21: BSD | C21: 0.37 | D21: 0.211 | E21: 0.6 | F21: 0.333 | G21: 0.4 | H21: 0.105 | I21: 0.2 | J21: 0.231 | K21: 0.056
B22: Change from Previous Year | D22: =if(isnumber(C21)=true,if(isnumber(D21)=true,D21-C21,"N/A"),"N/A") -> -0.159 | E22: =if(isnumber(D21)=true,if(isnumber(E21)=true,E21-D21,"N/A"),"N/A") -> 0.389 | F22: =if(isnumber(E21)=true,if(isnumber(F21)=true,F21-E21,"N/A"),"N/A") -> -0.267 | G22: =if(isnumber(F21)=true,if(isnumber(G21)=true,G21-F21,"N/A"),"N/A") -> 0.067 | H22: =if(isnumber(G21)=true,if(isnumber(H21)=true,H21-G21,"N/A"),"N/A") -> -0.295 | I22: =if(isnumber(H21)=true,if(isnumber(I21)=true,I21-H21,"N/A"),"N/A") -> 0.095 | J22: =if(isnumber(I21)=true,if(isnumber(J21)=true,J21-I21,"N/A"),"N/A") -> 0.031 | K22: =K21-J21 -> -0.175
B23: Gap from BSD Average | C23: =if(isnumber(C$4)=true,if(isnumber(C21)=true,C21-C$4,"N/A"),"N/A") -> -0.25 | D23: =if(isnumber(D$4)=true,if(isnumber(D21)=true,D21-D$4,"N/A"),"N/A") -> -0.39 | E23: =if(isnumber(E$4)=true,if(isnumber(E21)=true,E21-E$4,"N/A"),"N/A") -> 0.008 | F23: =if(isnumber(F$4)=true,if(isnumber(F21)=true,F21-F$4,"N/A"),"N/A") -> -0.256 | G23: =if(isnumber(G$4)=true,if(isnumber(G21)=true,G21-G$4,"N/A"),"N/A") -> -0.19 | H23: =if(isnumber(H$4)=true,if(isnumber(H21)=true,H21-H$4,"N/A"),"N/A") -> -0.388 | I23: =if(isnumber(I$4)=true,if(isnumber(I21)=true,I21-I$4,"N/A"),"N/A") -> -0.32 | J23: =if(isnumber(J$4)=true,if(isnumber(J21)=true,J21-J$4,"N/A"),"N/A") -> -0.304 | K23: =if(isnumber(K$4)=true,if(isnumber(K21)=true,K21-K$4,"N/A"),"N/A") -> -0.427
A24: White | B24: BSD | C24: 0.69 | D24: 0.665 | E24: 0.651 | F24: 0.656 | G24: 0.653 | H24: 0.559 | I24: 0.575 | J24: 0.609 | K24: 0.57
B25: Change from Previous Year | D25: =if(isnumber(C24)=true,if(isnumber(D24)=true,D24-C24,"N/A"),"N/A") -> -0.025 | E25: =if(isnumber(D24)=true,if(isnumber(E24)=true,E24-D24,"N/A"),"N/A") -> -0.014 | F25: =if(isnumber(E24)=true,if(isnumber(F24)=true,F24-E24,"N/A"),"N/A") -> 0.005 | G25: =if(isnumber(F24)=true,if(isnumber(G24)=true,G24-F24,"N/A"),"N/A") -> -0.003 | H25: =if(isnumber(G24)=true,if(isnumber(H24)=true,H24-G24,"N/A"),"N/A") -> -0.094 | I25: =if(isnumber(H24)=true,if(isnumber(I24)=true,I24-H24,"N/A"),"N/A") -> 0.016 | J25: =if(isnumber(I24)=true,if(isnumber(J24)=true,J24-I24,"N/A"),"N/A") -> 0.034 | K25: =K24-J24 -> -0.039
B26: Gap from BSD Average | C26: =if(isnumber(C$4)=true,if(isnumber(C24)=true,C24-C$4,"N/A"),"N/A") -> 0.07 | D26: =if(isnumber(D$4)=true,if(isnumber(D24)=true,D24-D$4,"N/A"),"N/A") -> 0.064 | E26: =if(isnumber(E$4)=true,if(isnumber(E24)=true,E24-E$4,"N/A"),"N/A") -> 0.059 | F26: =if(isnumber(F$4)=true,if(isnumber(F24)=true,F24-F$4,"N/A"),"N/A") -> 0.067 | G26: =if(isnumber(G$4)=true,if(isnumber(G24)=true,G24-G$4,"N/A"),"N/A") -> 0.063 | H26: =if(isnumber(H$4)=true,if(isnumber(H24)=true,H24-H$4,"N/A"),"N/A") -> 0.066 | I26: =if(isnumber(I$4)=true,if(isnumber(I24)=true,I24-I$4,"N/A"),"N/A") -> 0.055 | J26: =if(isnumber(J$4)=true,if(isnumber(J24)=true,J24-J$4,"N/A"),"N/A") -> 0.074 | K26: =if(isnumber(K$4)=true,if(isnumber(K24)=true,K24-K$4,"N/A"),"N/A") -> 0.087
A27: *Prior to 2024-25, ODE counted students taking extended assessments as not proficient in these assessment reports. However, ODE received approval from the U.S. Department of Education to count as proficient those students who met the alternate standard on Extended Assessments.
A29: Student Group
C30: =C3 -> 2014-15 | D30: =D3 -> 2015-16 | E30: =E3 -> 2016-17 | F30: =F3 -> 2017-18 | G30: =G3 -> 2018-19 | H30: =H3 -> 2021-22 | I30: =I3 -> 2022-23 | J30: =J3 -> 2023-24 | K30: =K3 -> 2024-25*
A31: Grade 4 BSD Average | B31: BSD | C31: =C4 -> 0.62 | D31: =D4 -> 0.601 | E31: =E4 -> 0.592 | F31: =F4 -> 0.589 | G31: =G4 -> 0.59 | H31: =H4 -> 0.493 | I31: =I4 -> 0.52 | J31: =J4 -> 0.535 | K31: =K4 -> 0.483
B32: Change from Previous Year | D32: =D31-C31 -> -0.019 | E32: =E31-D31 -> -0.009 | F32: =F31-E31 -> -0.003 | G32: =G31-F31 -> 0.001 | H32: =H31-G31 -> -0.097 | I32: =I31-H31 -> 0.027 | J32: =J31-I31 -> 0.015 | K32: =K31-J31 -> -0.052
A33: English Learners | B33: BSD | C33: 0.203 | D33: 0.19 | E33: 0.237 | F33: 0.181 | G33: 0.165 | H33: 0.103 | I33: 0.098 | J33: 0.141 | K33: 0.074
B34: Change from Previous Year | D34: =if(isnumber(C33)=true,if(isnumber(D33)=true,D33-C33,"N/A"),"N/A") -> -0.013 | E34: =if(isnumber(D33)=true,if(isnumber(E33)=true,E33-D33,"N/A"),"N/A") -> 0.047 | F34: =if(isnumber(E33)=true,if(isnumber(F33)=true,F33-E33,"N/A"),"N/A") -> -0.056 | G34: =if(isnumber(F33)=true,if(isnumber(G33)=true,G33-F33,"N/A"),"N/A") -> -0.016 | H34: =if(isnumber(G33)=true,if(isnumber(H33)=true,H33-G33,"N/A"),"N/A") -> -0.062 | I34: =if(isnumber(H33)=true,if(isnumber(I33)=true,I33-H33,"N/A"),"N/A") -> -0.005 | J34: =if(isnumber(I33)=true,if(isnumber(J33)=true,J33-I33,"N/A"),"N/A") -> 0.043 | K34: =K33-J33 -> -0.067
B35: Gap from BSD Average | C35: =if(isnumber(C$31)=true,if(isnumber(C33)=true,C33-C$31,"N/A"),"N/A") -> -0.417 | D35: =if(isnumber(D$31)=true,if(isnumber(D33)=true,D33-D$31,"N/A"),"N/A") -> -0.411 | E35: =if(isnumber(E$31)=true,if(isnumber(E33)=true,E33-E$31,"N/A"),"N/A") -> -0.355 | F35: =if(isnumber(F$31)=true,if(isnumber(F33)=true,F33-F$31,"N/A"),"N/A") -> -0.408 | G35: =if(isnumber(G$31)=true,if(isnumber(G33)=true,G33-G$31,"N/A"),"N/A") -> -0.425 | H35: =if(isnumber(H$31)=true,if(isnumber(H33)=true,H33-H$31,"N/A"),"N/A") -> -0.39 | I35: =if(isnumber(I$31)=true,if(isnumber(I33)=true,I33-I$31,"N/A"),"N/A") -> -0.422 | J35: =if(isnumber(J$31)=true,if(isnumber(J33)=true,J33-J$31,"N/A"),"N/A") -> -0.394 | K35: =if(isnumber(K$31)=true,if(isnumber(K33)=true,K33-K$31,"N/A"),"N/A") -> -0.409
A36: Indian Education | B36: BSD | J36: 0.364 | K36: *
B37: Change from Previous Year | C37: Data withheld to protect privacy | J37: =if(isnumber(I36)=true,if(isnumber(J36)=true,J36-I36,"N/A"),"N/A") -> N/A | K37: N/A
B38: Gap from BSD Average | J38: =if(isnumber(J$31)=true,if(isnumber(J36)=true,J36-J$31,"N/A"),"N/A") -> -0.171 | K38: =if(isnumber(K$31)=true,if(isnumber(K36)=true,K36-K$31,"N/A"),"N/A") -> N/A
A39: Migrant Students | B39: BSD | C39: 0.2 | D39: 0.225 | E39: 0.25 | F39: 0.207 | G39: 0.219 | H39: 0.063 | I39: 0.25 | J39: 0.154 | K39: 0
B40: Change from Previous Year | D40: =if(isnumber(C39)=true,if(isnumber(D39)=true,D39-C39,"N/A"),"N/A") -> 0.025 | E40: =if(isnumber(D39)=true,if(isnumber(E39)=true,E39-D39,"N/A"),"N/A") -> 0.025 | F40: =if(isnumber(E39)=true,if(isnumber(F39)=true,F39-E39,"N/A"),"N/A") -> -0.043 | G40: =if(isnumber(F39)=true,if(isnumber(G39)=true,G39-F39,"N/A"),"N/A") -> 0.012 | H40: =if(isnumber(G39)=true,if(isnumber(H39)=true,H39-G39,"N/A"),"N/A") -> -0.156 | I40: =if(isnumber(H39)=true,if(isnumber(I39)=true,I39-H39,"N/A"),"N/A") -> 0.187 | J40: =if(isnumber(I39)=true,if(isnumber(J39)=true,J39-I39,"N/A"),"N/A") -> -0.096 | K40: =K39-J39 -> -0.154
B41: Gap from BSD Average | C41: =if(isnumber(C$31)=true,if(isnumber(C39)=true,C39-C$31,"N/A"),"N/A") -> -0.42 | D41: =if(isnumber(D$31)=true,if(isnumber(D39)=true,D39-D$31,"N/A"),"N/A") -> -0.376 | E41: =if(isnumber(E$31)=true,if(isnumber(E39)=true,E39-E$31,"N/A"),"N/A") -> -0.342 | F41: =if(isnumber(F$31)=true,if(isnumber(F39)=true,F39-F$31,"N/A"),"N/A") -> -0.382 | G41: =if(isnumber(G$31)=true,if(isnumber(G39)=true,G39-G$31,"N/A"),"N/A") -> -0.371 | H41: =if(isnumber(H$31)=true,if(isnumber(H39)=true,H39-H$31,"N/A"),"N/A") -> -0.43 | I41: =if(isnumber(I$31)=true,if(isnumber(I39)=true,I39-I$31,"N/A"),"N/A") -> -0.27 | J41: =if(isnumber(J$31)=true,if(isnumber(J39)=true,J39-J$31,"N/A"),"N/A") -> -0.381 | K41: =if(isnumber(K$31)=true,if(isnumber(K39)=true,K39-K$31,"N/A"),"N/A") -> -0.483
A42: Students experiencing homelessness | B42: BSD | G42: 0.262 | H42: 0.111 | I42: 0.128 | J42: 0.16 | K42: 0.106
B43: Change from Previous Year | C43: Data not available | G43: =if(isnumber(F42)=true,if(isnumber(G42)=true,G42-F42,"N/A"),"N/A") -> N/A | H43: =if(isnumber(G42)=true,if(isnumber(H42)=true,H42-G42,"N/A"),"N/A") -> -0.151 | I43: =if(isnumber(H42)=true,if(isnumber(I42)=true,I42-H42,"N/A"),"N/A") -> 0.017 | J43: =if(isnumber(I42)=true,if(isnumber(J42)=true,J42-I42,"N/A"),"N/A") -> 0.032 | K43: =K42-J42 -> -0.054
B44: Gap from BSD Average | G44: =if(isnumber(G$31)=true,if(isnumber(G42)=true,G42-G$31,"N/A"),"N/A") -> -0.328 | H44: =if(isnumber(H$31)=true,if(isnumber(H42)=true,H42-H$31,"N/A"),"N/A") -> -0.382 | I44: =if(isnumber(I$31)=true,if(isnumber(I42)=true,I42-I$31,"N/A"),"N/A") -> -0.392 | J44: =if(isnumber(J$31)=true,if(isnumber(J42)=true,J42-J$31,"N/A"),"N/A") -> -0.375 | K44: =if(isnumber(K$31)=true,if(isnumber(K42)=true,K42-K$31,"N/A"),"N/A") -> -0.377
A45: Students experiencing poverty | B45: BSD | J45: 0.223 | K45: 0.146
B46: Change from Previous Year | C46: Data not available | K46: =K45-J45 -> -0.077
B47: Gap from BSD Average | J47: =if(isnumber(J$31)=true,if(isnumber(J45)=true,J45-J$31,"N/A"),"N/A") -> -0.312 | K47: =if(isnumber(K$31)=true,if(isnumber(K45)=true,K45-K$31,"N/A"),"N/A") -> -0.337
A48: Students with disabilities | B48: BSD | C48: 0.291 | D48: 0.244 | E48: 0.275 | F48: 0.271 | G48: 0.261 | H48: 0.246 | I48: 0.302 | J48: 0.293 | K48: 0.233
B49: Change from Previous Year | D49: =if(isnumber(C48)=true,if(isnumber(D48)=true,D48-C48,"N/A"),"N/A") -> -0.047 | E49: =if(isnumber(D48)=true,if(isnumber(E48)=true,E48-D48,"N/A"),"N/A") -> 0.031 | F49: =if(isnumber(E48)=true,if(isnumber(F48)=true,F48-E48,"N/A"),"N/A") -> -0.004 | G49: =if(isnumber(F48)=true,if(isnumber(G48)=true,G48-F48,"N/A"),"N/A") -> -0.01 | H49: =if(isnumber(G48)=true,if(isnumber(H48)=true,H48-G48,"N/A"),"N/A") -> -0.015 | I49: =if(isnumber(H48)=true,if(isnumber(I48)=true,I48-H48,"N/A"),"N/A") -> 0.056 | J49: =if(isnumber(I48)=true,if(isnumber(J48)=true,J48-I48,"N/A"),"N/A") -> -0.009 | K49: =K48-J48 -> -0.06
B50: Gap from BSD Average | C50: =if(isnumber(C$31)=true,if(isnumber(C48)=true,C48-C$31,"N/A"),"N/A") -> -0.329 | D50: =if(isnumber(D$31)=true,if(isnumber(D48)=true,D48-D$31,"N/A"),"N/A") -> -0.357 | E50: =if(isnumber(E$31)=true,if(isnumber(E48)=true,E48-E$31,"N/A"),"N/A") -> -0.317 | F50: =if(isnumber(F$31)=true,if(isnumber(F48)=true,F48-F$31,"N/A"),"N/A") -> -0.318 | G50: =if(isnumber(G$31)=true,if(isnumber(G48)=true,G48-G$31,"N/A"),"N/A") -> -0.329 | H50: =if(isnumber(H$31)=true,if(isnumber(H48)=true,H48-H$31,"N/A"),"N/A") -> -0.247 | I50: =if(isnumber(I$31)=true,if(isnumber(I48)=true,I48-I$31,"N/A"),"N/A") -> -0.218 | J50: =if(isnumber(J$31)=true,if(isnumber(J48)=true,J48-J$31,"N/A"),"N/A") -> -0.242 | K50: =if(isnumber(K$31)=true,if(isnumber(K48)=true,K48-K$31,"N/A"),"N/A") -> -0.25
A51: Talented and Gifted | B51: BSD | C51: 0.995 | D51: 0.991 | E51: 0.99 | F51: 0.995 | G51: 0.994 | H51: 0.971 | I51: 0.979 | J51: 0.992 | K51: 0.985
B52: Change from Previous Year | D52: =if(isnumber(C51)=true,if(isnumber(D51)=true,D51-C51,"N/A"),"N/A") -> -0.004 | E52: =if(isnumber(D51)=true,if(isnumber(E51)=true,E51-D51,"N/A"),"N/A") -> -0.001 | F52: =if(isnumber(E51)=true,if(isnumber(F51)=true,F51-E51,"N/A"),"N/A") -> 0.005 | G52: =if(isnumber(F51)=true,if(isnumber(G51)=true,G51-F51,"N/A"),"N/A") -> -0.001 | H52: =if(isnumber(G51)=true,if(isnumber(H51)=true,H51-G51,"N/A"),"N/A") -> -0.023 | I52: =if(isnumber(H51)=true,if(isnumber(I51)=true,I51-H51,"N/A"),"N/A") -> 0.008 | J52: =if(isnumber(I51)=true,if(isnumber(J51)=true,J51-I51,"N/A"),"N/A") -> 0.013 | K52: =K51-J51 -> -0.007
B53: Gap from BSD Average | C53: =if(isnumber(C$31)=true,if(isnumber(C51)=true,C51-C$31,"N/A"),"N/A") -> 0.375 | D53: =if(isnumber(D$31)=true,if(isnumber(D51)=true,D51-D$31,"N/A"),"N/A") -> 0.39 | E53: =if(isnumber(E$31)=true,if(isnumber(E51)=true,E51-E$31,"N/A"),"N/A") -> 0.398 | F53: =if(isnumber(F$31)=true,if(isnumber(F51)=true,F51-F$31,"N/A"),"N/A") -> 0.406 | G53: =if(isnumber(G$31)=true,if(isnumber(G51)=true,G51-G$31,"N/A"),"N/A") -> 0.404 | H53: =if(isnumber(H$31)=true,if(isnumber(H51)=true,H51-H$31,"N/A"),"N/A") -> 0.478 | I53: =if(isnumber(I$31)=true,if(isnumber(I51)=true,I51-I$31,"N/A"),"N/A") -> 0.459 | J53: =if(isnumber(J$31)=true,if(isnumber(J51)=true,J51-J$31,"N/A"),"N/A") -> 0.457 | K53: =if(isnumber(K$31)=true,if(isnumber(K51)=true,K51-K$31,"N/A"),"N/A") -> 0.502
A54: *Prior to 2024-25, ODE counted students taking extended assessments as not proficient in these assessment reports. However, ODE received approval from the U.S. Department of Education to count as proficient those students who met the alternate standard on Extended Assessments.
A56: Gender
C57: =C30 -> 2014-15 | D57: =D30 -> 2015-16 | E57: =E30 -> 2016-17 | F57: =F30 -> 2017-18 | G57: =G30 -> 2018-19 | H57: =H30 -> 2021-22 | I57: =I30 -> 2022-23 | J57: =J30 -> 2023-24 | K57: =K30 -> 2024-25*
A58: Grade 4 BSD Average | B58: BSD | C58: =C31 -> 0.62 | D58: =D31 -> 0.601 | E58: =E31 -> 0.592 | F58: =F31 -> 0.589 | G58: =G31 -> 0.59 | H58: =H31 -> 0.493 | I58: =I31 -> 0.52 | J58: =J31 -> 0.535 | K58: =K31 -> 0.483
B59: Change from Previous Year | D59: =D58-C58 -> -0.019 | E59: =E58-D58 -> -0.009 | F59: =F58-E58 -> -0.003 | G59: =G58-F58 -> 0.001 | H59: =H58-G58 -> -0.097 | I59: =I58-H58 -> 0.027 | J59: =J58-I58 -> 0.015 | K59: =K58-J58 -> -0.052
A60: F | B60: BSD | C60: 0.615 | D60: 0.598 | E60: 0.59 | F60: 0.571 | G60: 0.578 | H60: 0.481 | I60: 0.508 | J60: 0.522 | K60: 0.45
B61: Change from Previous Year | D61: =if(isnumber(C60)=true,if(isnumber(D60)=true,D60-C60,"N/A"),"N/A") -> -0.017 | E61: =if(isnumber(D60)=true,if(isnumber(E60)=true,E60-D60,"N/A"),"N/A") -> -0.008 | F61: =if(isnumber(E60)=true,if(isnumber(F60)=true,F60-E60,"N/A"),"N/A") -> -0.019 | G61: =if(isnumber(F60)=true,if(isnumber(G60)=true,G60-F60,"N/A"),"N/A") -> 0.007 | H61: =if(isnumber(G60)=true,if(isnumber(H60)=true,H60-G60,"N/A"),"N/A") -> -0.097 | I61: =if(isnumber(H60)=true,if(isnumber(I60)=true,I60-H60,"N/A"),"N/A") -> 0.027 | J61: =if(isnumber(I60)=true,if(isnumber(J60)=true,J60-I60,"N/A"),"N/A") -> 0.014 | K61: =K60-J60 -> -0.072
B62: Gap from BSD Average | C62: =if(isnumber(C$58)=true,if(isnumber(C60)=true,C60-C$58,"N/A"),"N/A") -> -0.005 | D62: =if(isnumber(D$58)=true,if(isnumber(D60)=true,D60-D$58,"N/A"),"N/A") -> -0.003 | E62: =if(isnumber(E$58)=true,if(isnumber(E60)=true,E60-E$58,"N/A"),"N/A") -> -0.002 | F62: =if(isnumber(F$58)=true,if(isnumber(F60)=true,F60-F$58,"N/A"),"N/A") -> -0.018 | G62: =if(isnumber(G$58)=true,if(isnumber(G60)=true,G60-G$58,"N/A"),"N/A") -> -0.012 | H62: =if(isnumber(H$58)=true,if(isnumber(H60)=true,H60-H$58,"N/A"),"N/A") -> -0.012 | I62: =if(isnumber(I$58)=true,if(isnumber(I60)=true,I60-I$58,"N/A"),"N/A") -> -0.012 | J62: =if(isnumber(J$58)=true,if(isnumber(J60)=true,J60-J$58,"N/A"),"N/A") -> -0.013 | K62: =if(isnumber(K$58)=true,if(isnumber(K60)=true,K60-K$58,"N/A"),"N/A") -> -0.033
A63: M | B63: BSD | C63: 0.626 | D63: 0.605 | E63: 0.593 | F63: 0.608 | G63: 0.601 | H63: 0.504 | I63: 0.531 | J63: 0.548 | K63: 0.513
B64: Change from Previous Year | D64: =if(isnumber(C63)=true,if(isnumber(D63)=true,D63-C63,"N/A"),"N/A") -> -0.021 | E64: =if(isnumber(D63)=true,if(isnumber(E63)=true,E63-D63,"N/A"),"N/A") -> -0.012 | F64: =if(isnumber(E63)=true,if(isnumber(F63)=true,F63-E63,"N/A"),"N/A") -> 0.015 | G64: =if(isnumber(F63)=true,if(isnumber(G63)=true,G63-F63,"N/A"),"N/A") -> -0.007 | H64: =if(isnumber(G63)=true,if(isnumber(H63)=true,H63-G63,"N/A"),"N/A") -> -0.097 | I64: =if(isnumber(H63)=true,if(isnumber(I63)=true,I63-H63,"N/A"),"N/A") -> 0.027 | J64: =if(isnumber(I63)=true,if(isnumber(J63)=true,J63-I63,"N/A"),"N/A") -> 0.017 | K64: =K63-J63 -> -0.035
B65: Gap from BSD Average | C65: =if(isnumber(C$58)=true,if(isnumber(C63)=true,C63-C$58,"N/A"),"N/A") -> 0.006 | D65: =if(isnumber(D$58)=true,if(isnumber(D63)=true,D63-D$58,"N/A"),"N/A") -> 0.004 | E65: =if(isnumber(E$58)=true,if(isnumber(E63)=true,E63-E$58,"N/A"),"N/A") -> 0.001 | F65: =if(isnumber(F$58)=true,if(isnumber(F63)=true,F63-F$58,"N/A"),"N/A") -> 0.019 | G65: =if(isnumber(G$58)=true,if(isnumber(G63)=true,G63-G$58,"N/A"),"N/A") -> 0.011 | H65: =if(isnumber(H$58)=true,if(isnumber(H63)=true,H63-H$58,"N/A"),"N/A") -> 0.011 | I65: =if(isnumber(I$58)=true,if(isnumber(I63)=true,I63-I$58,"N/A"),"N/A") -> 0.011 | J65: =if(isnumber(J$58)=true,if(isnumber(J63)=true,J63-J$58,"N/A"),"N/A") -> 0.013 | K65: =if(isnumber(K$58)=true,if(isnumber(K63)=true,K63-K$58,"N/A"),"N/A") -> 0.03
A66: X | B66: BSD
B67: Change from Previous Year | C67: Data withheld to protect privacy
B68: Gap from BSD Average
A69: *Prior to 2024-25, ODE counted students taking extended assessments as not proficient in these assessment reports. However, ODE received approval from the U.S. Department of Education to count as proficient those students who met the alternate standard on Extended Assessments.

Sheet Grade 5 with Demographics
A1: OSAS Grade 5 Math Proficiency
A2: Race/Ethnicity
C3: ='Overall Math Proficiency'!C3 -> 2014-15 | D3: ='Overall Math Proficiency'!D3 -> 2015-16 | E3: ='Overall Math Proficiency'!E3 -> 2016-17 | F3: ='Overall Math Proficiency'!F3 -> 2017-18 | G3: ='Overall Math Proficiency'!G3 -> 2018-19 | H3: ='Overall Math Proficiency'!H3 -> 2021-22 | I3: ='Overall Math Proficiency'!I3 -> 2022-23 | J3: ='Overall Math Proficiency'!J3 -> 2023-24 | K3: ='Overall Math Proficiency'!K3 -> 2024-25*
A4: Grade 5 BSD Average | B4: BSD | C4: ='Overall Math Proficiency'!C13 -> 0.578 | D4: ='Overall Math Proficiency'!D13 -> 0.544 | E4: ='Overall Math Proficiency'!E13 -> 0.545 | F4: ='Overall Math Proficiency'!F13 -> 0.543 | G4: ='Overall Math Proficiency'!G13 -> 0.524 | H4: ='Overall Math Proficiency'!H13 -> 0.464 | I4: ='Overall Math Proficiency'!I13 -> 0.472 | J4: ='Overall Math Proficiency'!J13 -> 0.483 | K4: ='Overall Math Proficiency'!K13 -> 0.478
B5: Change from Previous Year | D5: =D4-C4 -> -0.034 | E5: =E4-D4 -> 0.001 | F5: =F4-E4 -> -0.002 | G5: =G4-F4 -> -0.019 | H5: =H4-G4 -> -0.06 | I5: =I4-H4 -> 0.008 | J5: =J4-I4 -> 0.011 | K5: =K4-J4 -> -0.005
A6: Asian | B6: BSD | C6: 0.852 | D6: 0.822 | E6: 0.804 | F6: 0.825 | G6: 0.809 | H6: 0.784 | I6: 0.745 | J6: 0.738 | K6: 0.728
B7: Change from Previous Year | D7: =if(isnumber(C6)=true,if(isnumber(D6)=true,D6-C6,"N/A"),"N/A") -> -0.03 | E7: =if(isnumber(D6)=true,if(isnumber(E6)=true,E6-D6,"N/A"),"N/A") -> -0.018 | F7: =if(isnumber(E6)=true,if(isnumber(F6)=true,F6-E6,"N/A"),"N/A") -> 0.021 | G7: =if(isnumber(F6)=true,if(isnumber(G6)=true,G6-F6,"N/A"),"N/A") -> -0.016 | H7: =if(isnumber(G6)=true,if(isnumber(H6)=true,H6-G6,"N/A"),"N/A") -> -0.025 | I7: =if(isnumber(H6)=true,if(isnumber(I6)=true,I6-H6,"N/A"),"N/A") -> -0.039 | J7: =if(isnumber(I6)=true,if(isnumber(J6)=true,J6-I6,"N/A"),"N/A") -> -0.007 | K7: =K6-J6 -> -0.01
B8: Gap from BSD Average | C8: =if(isnumber(C$4)=true,if(isnumber(C6)=true,C6-C$4,"N/A"),"N/A") -> 0.274 | D8: =if(isnumber(D$4)=true,if(isnumber(D6)=true,D6-D$4,"N/A"),"N/A") -> 0.278 | E8: =if(isnumber(E$4)=true,if(isnumber(E6)=true,E6-E$4,"N/A"),"N/A") -> 0.259 | F8: =if(isnumber(F$4)=true,if(isnumber(F6)=true,F6-F$4,"N/A"),"N/A") -> 0.282 | G8: =if(isnumber(G$4)=true,if(isnumber(G6)=true,G6-G$4,"N/A"),"N/A") -> 0.285 | H8: =if(isnumber(H$4)=true,if(isnumber(H6)=true,H6-H$4,"N/A"),"N/A") -> 0.32 | I8: =if(isnumber(I$4)=true,if(isnumber(I6)=true,I6-I$4,"N/A"),"N/A") -> 0.273 | J8: =if(isnumber(J$4)=true,if(isnumber(J6)=true,J6-J$4,"N/A"),"N/A") -> 0.255 | K8: =if(isnumber(K$4)=true,if(isnumber(K6)=true,K6-K$4,"N/A"),"N/A") -> 0.25
A9: Black/African American | B9: BSD | C9: 0.343 | D9: 0.356 | E9: 0.311 | F9: 0.245 | G9: 0.259 | H9: 0.275 | I9: 0.211 | J9: 0.266 | K9: 0.267
B10: Change from Previous Year | D10: =if(isnumber(C9)=true,if(isnumber(D9)=true,D9-C9,"N/A"),"N/A") -> 0.013 | E10: =if(isnumber(D9)=true,if(isnumber(E9)=true,E9-D9,"N/A"),"N/A") -> -0.045 | F10: =if(isnumber(E9)=true,if(isnumber(F9)=true,F9-E9,"N/A"),"N/A") -> -0.066 | G10: =if(isnumber(F9)=true,if(isnumber(G9)=true,G9-F9,"N/A"),"N/A") -> 0.014 | H10: =if(isnumber(G9)=true,if(isnumber(H9)=true,H9-G9,"N/A"),"N/A") -> 0.016 | I10: =if(isnumber(H9)=true,if(isnumber(I9)=true,I9-H9,"N/A"),"N/A") -> -0.064 | J10: =if(isnumber(I9)=true,if(isnumber(J9)=true,J9-I9,"N/A"),"N/A") -> 0.055 | K10: =K9-J9 -> 0.001
B11: Gap from BSD Average | C11: =if(isnumber(C$4)=true,if(isnumber(C9)=true,C9-C$4,"N/A"),"N/A") -> -0.235 | D11: =if(isnumber(D$4)=true,if(isnumber(D9)=true,D9-D$4,"N/A"),"N/A") -> -0.188 | E11: =if(isnumber(E$4)=true,if(isnumber(E9)=true,E9-E$4,"N/A"),"N/A") -> -0.234 | F11: =if(isnumber(F$4)=true,if(isnumber(F9)=true,F9-F$4,"N/A"),"N/A") -> -0.298 | G11: =if(isnumber(G$4)=true,if(isnumber(G9)=true,G9-G$4,"N/A"),"N/A") -> -0.265 | H11: =if(isnumber(H$4)=true,if(isnumber(H9)=true,H9-H$4,"N/A"),"N/A") -> -0.189 | I11: =if(isnumber(I$4)=true,if(isnumber(I9)=true,I9-I$4,"N/A"),"N/A") -> -0.261 | J11: =if(isnumber(J$4)=true,if(isnumber(J9)=true,J9-J$4,"N/A"),"N/A") -> -0.217 | K11: =if(isnumber(K$4)=true,if(isnumber(K9)=true,K9-K$4,"N/A"),"N/A") -> -0.211
A12: Hispanic/Latino | B12: BSD | C12: 0.314 | D12: 0.271 | E12: 0.299 | F12: 0.293 | G12: 0.257 | H12: 0.202 | I12: 0.187 | J12: 0.184 | K12: 0.212
B13: Change from Previous Year | D13: =if(isnumber(C12)=true,if(isnumber(D12)=true,D12-C12,"N/A"),"N/A") -> -0.043 | E13: =if(isnumber(D12)=true,if(isnumber(E12)=true,E12-D12,"N/A"),"N/A") -> 0.028 | F13: =if(isnumber(E12)=true,if(isnumber(F12)=true,F12-E12,"N/A"),"N/A") -> -0.006 | G13: =if(isnumber(F12)=true,if(isnumber(G12)=true,G12-F12,"N/A"),"N/A") -> -0.036 | H13: =if(isnumber(G12)=true,if(isnumber(H12)=true,H12-G12,"N/A"),"N/A") -> -0.055 | I13: =if(isnumber(H12)=true,if(isnumber(I12)=true,I12-H12,"N/A"),"N/A") -> -0.015 | J13: =if(isnumber(I12)=true,if(isnumber(J12)=true,J12-I12,"N/A"),"N/A") -> -0.003 | K13: =K12-J12 -> 0.028
B14: Gap from BSD Average | C14: =if(isnumber(C$4)=true,if(isnumber(C12)=true,C12-C$4,"N/A"),"N/A") -> -0.264 | D14: =if(isnumber(D$4)=true,if(isnumber(D12)=true,D12-D$4,"N/A"),"N/A") -> -0.273 | E14: =if(isnumber(E$4)=true,if(isnumber(E12)=true,E12-E$4,"N/A"),"N/A") -> -0.246 | F14: =if(isnumber(F$4)=true,if(isnumber(F12)=true,F12-F$4,"N/A"),"N/A") -> -0.25 | G14: =if(isnumber(G$4)=true,if(isnumber(G12)=true,G12-G$4,"N/A"),"N/A") -> -0.267 | H14: =if(isnumber(H$4)=true,if(isnumber(H12)=true,H12-H$4,"N/A"),"N/A") -> -0.262 | I14: =if(isnumber(I$4)=true,if(isnumber(I12)=true,I12-I$4,"N/A"),"N/A") -> -0.285 | J14: =if(isnumber(J$4)=true,if(isnumber(J12)=true,J12-J$4,"N/A"),"N/A") -> -0.299 | K14: =if(isnumber(K$4)=true,if(isnumber(K12)=true,K12-K$4,"N/A"),"N/A") -> -0.266
A15: Multiracial | B15: BSD | C15: 0.633 | D15: 0.585 | E15: 0.571 | F15: 0.617 | G15: 0.552 | H15: 0.477 | I15: 0.549 | J15: 0.563 | K15: 0.568
B16: Change from Previous Year | D16: =if(isnumber(C15)=true,if(isnumber(D15)=true,D15-C15,"N/A"),"N/A") -> -0.048 | E16: =if(isnumber(D15)=true,if(isnumber(E15)=true,E15-D15,"N/A"),"N/A") -> -0.014 | F16: =if(isnumber(E15)=true,if(isnumber(F15)=true,F15-E15,"N/A"),"N/A") -> 0.046 | G16: =if(isnumber(F15)=true,if(isnumber(G15)=true,G15-F15,"N/A"),"N/A") -> -0.065 | H16: =if(isnumber(G15)=true,if(isnumber(H15)=true,H15-G15,"N/A"),"N/A") -> -0.075 | I16: =if(isnumber(H15)=true,if(isnumber(I15)=true,I15-H15,"N/A"),"N/A") -> 0.072 | J16: =if(isnumber(I15)=true,if(isnumber(J15)=true,J15-I15,"N/A"),"N/A") -> 0.014 | K16: =K15-J15 -> 0.005
B17: Gap from BSD Average | C17: =if(isnumber(C$4)=true,if(isnumber(C15)=true,C15-C$4,"N/A"),"N/A") -> 0.055 | D17: =if(isnumber(D$4)=true,if(isnumber(D15)=true,D15-D$4,"N/A"),"N/A") -> 0.041 | E17: =if(isnumber(E$4)=true,if(isnumber(E15)=true,E15-E$4,"N/A"),"N/A") -> 0.026 | F17: =if(isnumber(F$4)=true,if(isnumber(F15)=true,F15-F$4,"N/A"),"N/A") -> 0.074 | G17: =if(isnumber(G$4)=true,if(isnumber(G15)=true,G15-G$4,"N/A"),"N/A") -> 0.028 | H17: =if(isnumber(H$4)=true,if(isnumber(H15)=true,H15-H$4,"N/A"),"N/A") -> 0.013 | I17: =if(isnumber(I$4)=true,if(isnumber(I15)=true,I15-I$4,"N/A"),"N/A") -> 0.077 | J17: =if(isnumber(J$4)=true,if(isnumber(J15)=true,J15-J$4,"N/A"),"N/A") -> 0.08 | K17: =if(isnumber(K$4)=true,if(isnumber(K15)=true,K15-K$4,"N/A"),"N/A") -> 0.09
A18: Native American/Alaska Native | B18: BSD | C18: 0.462 | D18: 0.333 | E18: 0.176 | F18: 0.333 | G18: * | H18: 0.3 | I18: 0.308 | J18: 0.385 | K18: *
B19: Change from Previous Year | D19: =if(isnumber(C18)=true,if(isnumber(D18)=true,D18-C18,"N/A"),"N/A") -> -0.129 | E19: =if(isnumber(D18)=true,if(isnumber(E18)=true,E18-D18,"N/A"),"N/A") -> -0.157 | F19: =if(isnumber(E18)=true,if(isnumber(F18)=true,F18-E18,"N/A"),"N/A") -> 0.157 | G19: =if(isnumber(F18)=true,if(isnumber(G18)=true,G18-F18,"N/A"),"N/A") -> N/A | H19: =if(isnumber(G18)=true,if(isnumber(H18)=true,H18-G18,"N/A"),"N/A") -> N/A | I19: =if(isnumber(H18)=true,if(isnumber(I18)=true,I18-H18,"N/A"),"N/A") -> 0.008 | J19: =if(isnumber(I18)=true,if(isnumber(J18)=true,J18-I18,"N/A"),"N/A") -> 0.077 | K19: =K18-J18 -> #VALUE!
B20: Gap from BSD Average | C20: =if(isnumber(C$4)=true,if(isnumber(C18)=true,C18-C$4,"N/A"),"N/A") -> -0.116 | D20: =if(isnumber(D$4)=true,if(isnumber(D18)=true,D18-D$4,"N/A"),"N/A") -> -0.211 | E20: =if(isnumber(E$4)=true,if(isnumber(E18)=true,E18-E$4,"N/A"),"N/A") -> -0.369 | F20: =if(isnumber(F$4)=true,if(isnumber(F18)=true,F18-F$4,"N/A"),"N/A") -> -0.21 | G20: =if(isnumber(G$4)=true,if(isnumber(G18)=true,G18-G$4,"N/A"),"N/A") -> N/A | H20: =if(isnumber(H$4)=true,if(isnumber(H18)=true,H18-H$4,"N/A"),"N/A") -> -0.164 | I20: =if(isnumber(I$4)=true,if(isnumber(I18)=true,I18-I$4,"N/A"),"N/A") -> -0.164 | J20: =if(isnumber(J$4)=true,if(isnumber(J18)=true,J18-J$4,"N/A"),"N/A") -> -0.098 | K20: =if(isnumber(K$4)=true,if(isnumber(K18)=true,K18-K$4,"N/A"),"N/A") -> N/A
A21: Native Hawaiian/Pacific Islander | B21: BSD | C21: 0.433 | D21: 0.294 | E21: 0.278 | F21: 0.438 | G21: 0.25 | H21: 0.111 | I21: 0.048 | J21: 0.222 | K21: 0.175
B22: Change from Previous Year | D22: =if(isnumber(C21)=true,if(isnumber(D21)=true,D21-C21,"N/A"),"N/A") -> -0.139 | E22: =if(isnumber(D21)=true,if(isnumber(E21)=true,E21-D21,"N/A"),"N/A") -> -0.016 | F22: =if(isnumber(E21)=true,if(isnumber(F21)=true,F21-E21,"N/A"),"N/A") -> 0.16 | G22: =if(isnumber(F21)=true,if(isnumber(G21)=true,G21-F21,"N/A"),"N/A") -> -0.188 | H22: =if(isnumber(G21)=true,if(isnumber(H21)=true,H21-G21,"N/A"),"N/A") -> -0.139 | I22: =if(isnumber(H21)=true,if(isnumber(I21)=true,I21-H21,"N/A"),"N/A") -> -0.063 | J22: =if(isnumber(I21)=true,if(isnumber(J21)=true,J21-I21,"N/A"),"N/A") -> 0.174 | K22: =K21-J21 -> -0.047
B23: Gap from BSD Average | C23: =if(isnumber(C$4)=true,if(isnumber(C21)=true,C21-C$4,"N/A"),"N/A") -> -0.145 | D23: =if(isnumber(D$4)=true,if(isnumber(D21)=true,D21-D$4,"N/A"),"N/A") -> -0.25 | E23: =if(isnumber(E$4)=true,if(isnumber(E21)=true,E21-E$4,"N/A"),"N/A") -> -0.267 | F23: =if(isnumber(F$4)=true,if(isnumber(F21)=true,F21-F$4,"N/A"),"N/A") -> -0.105 | G23: =if(isnumber(G$4)=true,if(isnumber(G21)=true,G21-G$4,"N/A"),"N/A") -> -0.274 | H23: =if(isnumber(H$4)=true,if(isnumber(H21)=true,H21-H$4,"N/A"),"N/A") -> -0.353 | I23: =if(isnumber(I$4)=true,if(isnumber(I21)=true,I21-I$4,"N/A"),"N/A") -> -0.424 | J23: =if(isnumber(J$4)=true,if(isnumber(J21)=true,J21-J$4,"N/A"),"N/A") -> -0.261 | K23: =if(isnumber(K$4)=true,if(isnumber(K21)=true,K21-K$4,"N/A"),"N/A") -> -0.303
A24: White | B24: BSD | C24: 0.642 | D24: 0.611 | E24: 0.61 | F24: 0.586 | G24: 0.587 | H24: 0.504 | I24: 0.539 | J24: 0.546 | K24: 0.553
B25: Change from Previous Year | D25: =if(isnumber(C24)=true,if(isnumber(D24)=true,D24-C24,"N/A"),"N/A") -> -0.031 | E25: =if(isnumber(D24)=true,if(isnumber(E24)=true,E24-D24,"N/A"),"N/A") -> -0.001 | F25: =if(isnumber(E24)=true,if(isnumber(F24)=true,F24-E24,"N/A"),"N/A") -> -0.024 | G25: =if(isnumber(F24)=true,if(isnumber(G24)=true,G24-F24,"N/A"),"N/A") -> 0.001 | H25: =if(isnumber(G24)=true,if(isnumber(H24)=true,H24-G24,"N/A"),"N/A") -> -0.083 | I25: =if(isnumber(H24)=true,if(isnumber(I24)=true,I24-H24,"N/A"),"N/A") -> 0.035 | J25: =if(isnumber(I24)=true,if(isnumber(J24)=true,J24-I24,"N/A"),"N/A") -> 0.007 | K25: =K24-J24 -> 0.007
B26: Gap from BSD Average | C26: =if(isnumber(C$4)=true,if(isnumber(C24)=true,C24-C$4,"N/A"),"N/A") -> 0.064 | D26: =if(isnumber(D$4)=true,if(isnumber(D24)=true,D24-D$4,"N/A"),"N/A") -> 0.067 | E26: =if(isnumber(E$4)=true,if(isnumber(E24)=true,E24-E$4,"N/A"),"N/A") -> 0.065 | F26: =if(isnumber(F$4)=true,if(isnumber(F24)=true,F24-F$4,"N/A"),"N/A") -> 0.043 | G26: =if(isnumber(G$4)=true,if(isnumber(G24)=true,G24-G$4,"N/A"),"N/A") -> 0.063 | H26: =if(isnumber(H$4)=true,if(isnumber(H24)=true,H24-H$4,"N/A"),"N/A") -> 0.04 | I26: =if(isnumber(I$4)=true,if(isnumber(I24)=true,I24-I$4,"N/A"),"N/A") -> 0.067 | J26: =if(isnumber(J$4)=true,if(isnumber(J24)=true,J24-J$4,"N/A"),"N/A") -> 0.063 | K26: =if(isnumber(K$4)=true,if(isnumber(K24)=true,K24-K$4,"N/A"),"N/A") -> 0.075
A27: *Prior to 2024-25, ODE counted students taking extended assessments as not proficient in these assessment reports. However, ODE received approval from the U.S. Department of Education to count as proficient those students who met the alternate standard on Extended Assessments.
A29: Student Group
C30: =C3 -> 2014-15 | D30: =D3 -> 2015-16 | E30: =E3 -> 2016-17 | F30: =F3 -> 2017-18 | G30: =G3 -> 2018-19 | H30: =H3 -> 2021-22 | I30: =I3 -> 2022-23 | J30: =J3 -> 2023-24 | K30: =K3 -> 2024-25*
A31: Grade 5 BSD Average | B31: BSD | C31: =C4 -> 0.578 | D31: =D4 -> 0.544 | E31: =E4 -> 0.545 | F31: =F4 -> 0.543 | G31: =G4 -> 0.524 | H31: =H4 -> 0.464 | I31: =I4 -> 0.472 | J31: =J4 -> 0.483 | K31: =K4 -> 0.478
B32: Change from Previous Year | D32: =D31-C31 -> -0.034 | E32: =E31-D31 -> 0.001 | F32: =F31-E31 -> -0.002 | G32: =G31-F31 -> -0.019 | H32: =H31-G31 -> -0.06 | I32: =I31-H31 -> 0.008 | J32: =J31-I31 -> 0.011 | K32: =K31-J31 -> -0.005
A33: English Learners | B33: BSD | C33: 0.137 | D33: 0.102 | E33: 0.176 | F33: 0.151 | G33: 0.123 | H33: 0.068 | I33: 0.071 | J33: 0.057 | K33: 0.083
B34: Change from Previous Year | D34: =if(isnumber(C33)=true,if(isnumber(D33)=true,D33-C33,"N/A"),"N/A") -> -0.035 | E34: =if(isnumber(D33)=true,if(isnumber(E33)=true,E33-D33,"N/A"),"N/A") -> 0.074 | F34: =if(isnumber(E33)=true,if(isnumber(F33)=true,F33-E33,"N/A"),"N/A") -> -0.025 | G34: =if(isnumber(F33)=true,if(isnumber(G33)=true,G33-F33,"N/A"),"N/A") -> -0.028 | H34: =if(isnumber(G33)=true,if(isnumber(H33)=true,H33-G33,"N/A"),"N/A") -> -0.055 | I34: =if(isnumber(H33)=true,if(isnumber(I33)=true,I33-H33,"N/A"),"N/A") -> 0.003 | J34: =if(isnumber(I33)=true,if(isnumber(J33)=true,J33-I33,"N/A"),"N/A") -> -0.014 | K34: =K33-J33 -> 0.026
B35: Gap from BSD Average | C35: =if(isnumber(C$31)=true,if(isnumber(C33)=true,C33-C$31,"N/A"),"N/A") -> -0.441 | D35: =if(isnumber(D$31)=true,if(isnumber(D33)=true,D33-D$31,"N/A"),"N/A") -> -0.442 | E35: =if(isnumber(E$31)=true,if(isnumber(E33)=true,E33-E$31,"N/A"),"N/A") -> -0.369 | F35: =if(isnumber(F$31)=true,if(isnumber(F33)=true,F33-F$31,"N/A"),"N/A") -> -0.392 | G35: =if(isnumber(G$31)=true,if(isnumber(G33)=true,G33-G$31,"N/A"),"N/A") -> -0.401 | H35: =if(isnumber(H$31)=true,if(isnumber(H33)=true,H33-H$31,"N/A"),"N/A") -> -0.396 | I35: =if(isnumber(I$31)=true,if(isnumber(I33)=true,I33-I$31,"N/A"),"N/A") -> -0.401 | J35: =if(isnumber(J$31)=true,if(isnumber(J33)=true,J33-J$31,"N/A"),"N/A") -> -0.426 | K35: =if(isnumber(K$31)=true,if(isnumber(K33)=true,K33-K$31,"N/A"),"N/A") -> -0.395
A36: Indian Education | B36: BSD | J36: 0.286 | K36: 0.273
B37: Change from Previous Year | C37: Data withheld to protect privacy | J37: =if(isnumber(I36)=true,if(isnumber(J36)=true,J36-I36,"N/A"),"N/A") -> N/A | K37: =K36-J36 -> -0.013
B38: Gap from BSD Average | J38: =if(isnumber(J$31)=true,if(isnumber(J36)=true,J36-J$31,"N/A"),"N/A") -> -0.197 | K38: =if(isnumber(K$31)=true,if(isnumber(K36)=true,K36-K$31,"N/A"),"N/A") -> -0.205
A39: Migrant Students | B39: BSD | C39: 0.083 | D39: 0.24 | E39: 0.2 | F39: 0.167 | G39: 0.105 | H39: 0.042 | I39: 0.08 | J39: 0.095 | K39: 0.111
B40: Change from Previous Year | D40: =if(isnumber(C39)=true,if(isnumber(D39)=true,D39-C39,"N/A"),"N/A") -> 0.157 | E40: =if(isnumber(D39)=true,if(isnumber(E39)=true,E39-D39,"N/A"),"N/A") -> -0.04 | F40: =if(isnumber(E39)=true,if(isnumber(F39)=true,F39-E39,"N/A"),"N/A") -> -0.033 | G40: =if(isnumber(F39)=true,if(isnumber(G39)=true,G39-F39,"N/A"),"N/A") -> -0.062 | H40: =if(isnumber(G39)=true,if(isnumber(H39)=true,H39-G39,"N/A"),"N/A") -> -0.063 | I40: =if(isnumber(H39)=true,if(isnumber(I39)=true,I39-H39,"N/A"),"N/A") -> 0.038 | J40: =if(isnumber(I39)=true,if(isnumber(J39)=true,J39-I39,"N/A"),"N/A") -> 0.015 | K40: =K39-J39 -> 0.016
B41: Gap from BSD Average | C41: =if(isnumber(C$31)=true,if(isnumber(C39)=true,C39-C$31,"N/A"),"N/A") -> -0.495 | D41: =if(isnumber(D$31)=true,if(isnumber(D39)=true,D39-D$31,"N/A"),"N/A") -> -0.304 | E41: =if(isnumber(E$31)=true,if(isnumber(E39)=true,E39-E$31,"N/A"),"N/A") -> -0.345 | F41: =if(isnumber(F$31)=true,if(isnumber(F39)=true,F39-F$31,"N/A"),"N/A") -> -0.376 | G41: =if(isnumber(G$31)=true,if(isnumber(G39)=true,G39-G$31,"N/A"),"N/A") -> -0.419 | H41: =if(isnumber(H$31)=true,if(isnumber(H39)=true,H39-H$31,"N/A"),"N/A") -> -0.422 | I41: =if(isnumber(I$31)=true,if(isnumber(I39)=true,I39-I$31,"N/A"),"N/A") -> -0.392 | J41: =if(isnumber(J$31)=true,if(isnumber(J39)=true,J39-J$31,"N/A"),"N/A") -> -0.388 | K41: =if(isnumber(K$31)=true,if(isnumber(K39)=true,K39-K$31,"N/A"),"N/A") -> -0.367
A42: Students experiencing homelessness | B42: BSD | G42: 0.145 | H42: 0.098 | I42: 0.174 | J42: 0.157 | K42: 0.128
B43: Change from Previous Year | C43: Data not available | G43: =if(isnumber(F42)=true,if(isnumber(G42)=true,G42-F42,"N/A"),"N/A") -> N/A | H43: =if(isnumber(G42)=true,if(isnumber(H42)=true,H42-G42,"N/A"),"N/A") -> -0.047 | I43: =if(isnumber(H42)=true,if(isnumber(I42)=true,I42-H42,"N/A"),"N/A") -> 0.076 | J43: =if(isnumber(I42)=true,if(isnumber(J42)=true,J42-I42,"N/A"),"N/A") -> -0.017 | K43: =K42-J42 -> -0.029
B44: Gap from BSD Average | G44: =if(isnumber(G$31)=true,if(isnumber(G42)=true,G42-G$31,"N/A"),"N/A") -> -0.379 | H44: =if(isnumber(H$31)=true,if(isnumber(H42)=true,H42-H$31,"N/A"),"N/A") -> -0.366 | I44: =if(isnumber(I$31)=true,if(isnumber(I42)=true,I42-I$31,"N/A"),"N/A") -> -0.298 | J44: =if(isnumber(J$31)=true,if(isnumber(J42)=true,J42-J$31,"N/A"),"N/A") -> -0.326 | K44: =if(isnumber(K$31)=true,if(isnumber(K42)=true,K42-K$31,"N/A"),"N/A") -> -0.35
A45: Students experiencing poverty | B45: BSD | J45: 0.172 | K45: 0.192
B46: Change from Previous Year | C46: Data not available | K46: =K45-J45 -> 0.02
B47: Gap from BSD Average | J47: =if(isnumber(J$31)=true,if(isnumber(J45)=true,J45-J$31,"N/A"),"N/A") -> -0.311 | K47: =if(isnumber(K$31)=true,if(isnumber(K45)=true,K45-K$31,"N/A"),"N/A") -> -0.286
A48: Students with disabilities | B48: BSD | C48: 0.218 | D48: 0.198 | E48: 0.203 | F48: 0.214 | G48: 0.226 | H48: 0.201 | I48: 0.173 | J48: 0.265 | K48: 0.222
B49: Change from Previous Year | D49: =if(isnumber(C48)=true,if(isnumber(D48)=true,D48-C48,"N/A"),"N/A") -> -0.02 | E49: =if(isnumber(D48)=true,if(isnumber(E48)=true,E48-D48,"N/A"),"N/A") -> 0.005 | F49: =if(isnumber(E48)=true,if(isnumber(F48)=true,F48-E48,"N/A"),"N/A") -> 0.011 | G49: =if(isnumber(F48)=true,if(isnumber(G48)=true,G48-F48,"N/A"),"N/A") -> 0.012 | H49: =if(isnumber(G48)=true,if(isnumber(H48)=true,H48-G48,"N/A"),"N/A") -> -0.025 | I49: =if(isnumber(H48)=true,if(isnumber(I48)=true,I48-H48,"N/A"),"N/A") -> -0.028 | J49: =if(isnumber(I48)=true,if(isnumber(J48)=true,J48-I48,"N/A"),"N/A") -> 0.092 | K49: =K48-J48 -> -0.043
B50: Gap from BSD Average | C50: =if(isnumber(C$31)=true,if(isnumber(C48)=true,C48-C$31,"N/A"),"N/A") -> -0.36 | D50: =if(isnumber(D$31)=true,if(isnumber(D48)=true,D48-D$31,"N/A"),"N/A") -> -0.346 | E50: =if(isnumber(E$31)=true,if(isnumber(E48)=true,E48-E$31,"N/A"),"N/A") -> -0.342 | F50: =if(isnumber(F$31)=true,if(isnumber(F48)=true,F48-F$31,"N/A"),"N/A") -> -0.329 | G50: =if(isnumber(G$31)=true,if(isnumber(G48)=true,G48-G$31,"N/A"),"N/A") -> -0.298 | H50: =if(isnumber(H$31)=true,if(isnumber(H48)=true,H48-H$31,"N/A"),"N/A") -> -0.263 | I50: =if(isnumber(I$31)=true,if(isnumber(I48)=true,I48-I$31,"N/A"),"N/A") -> -0.299 | J50: =if(isnumber(J$31)=true,if(isnumber(J48)=true,J48-J$31,"N/A"),"N/A") -> -0.218 | K50: =if(isnumber(K$31)=true,if(isnumber(K48)=true,K48-K$31,"N/A"),"N/A") -> -0.256
A51: Talented and Gifted | B51: BSD | C51: 0.989 | D51: 0.987 | E51: 0.987 | F51: 0.989 | G51: 0.983 | H51: 0.96 | I51: 0.953 | J51: 0.965 | K51: 0.964
B52: Change from Previous Year | D52: =if(isnumber(C51)=true,if(isnumber(D51)=true,D51-C51,"N/A"),"N/A") -> -0.002 | E52: =if(isnumber(D51)=true,if(isnumber(E51)=true,E51-D51,"N/A"),"N/A") -> 0 | F52: =if(isnumber(E51)=true,if(isnumber(F51)=true,F51-E51,"N/A"),"N/A") -> 0.002 | G52: =if(isnumber(F51)=true,if(isnumber(G51)=true,G51-F51,"N/A"),"N/A") -> -0.006 | H52: =if(isnumber(G51)=true,if(isnumber(H51)=true,H51-G51,"N/A"),"N/A") -> -0.023 | I52: =if(isnumber(H51)=true,if(isnumber(I51)=true,I51-H51,"N/A"),"N/A") -> -0.007 | J52: =if(isnumber(I51)=true,if(isnumber(J51)=true,J51-I51,"N/A"),"N/A") -> 0.012 | K52: =K51-J51 -> -0.001
B53: Gap from BSD Average | C53: =if(isnumber(C$31)=true,if(isnumber(C51)=true,C51-C$31,"N/A"),"N/A") -> 0.411 | D53: =if(isnumber(D$31)=true,if(isnumber(D51)=true,D51-D$31,"N/A"),"N/A") -> 0.443 | E53: =if(isnumber(E$31)=true,if(isnumber(E51)=true,E51-E$31,"N/A"),"N/A") -> 0.442 | F53: =if(isnumber(F$31)=true,if(isnumber(F51)=true,F51-F$31,"N/A"),"N/A") -> 0.446 | G53: =if(isnumber(G$31)=true,if(isnumber(G51)=true,G51-G$31,"N/A"),"N/A") -> 0.459 | H53: =if(isnumber(H$31)=true,if(isnumber(H51)=true,H51-H$31,"N/A"),"N/A") -> 0.496 | I53: =if(isnumber(I$31)=true,if(isnumber(I51)=true,I51-I$31,"N/A"),"N/A") -> 0.481 | J53: =if(isnumber(J$31)=true,if(isnumber(J51)=true,J51-J$31,"N/A"),"N/A") -> 0.482 | K53: =if(isnumber(K$31)=true,if(isnumber(K51)=true,K51-K$31,"N/A"),"N/A") -> 0.486
A54: *Prior to 2024-25, ODE counted students taking extended assessments as not proficient in these assessment reports. However, ODE received approval from the U.S. Department of Education to count as proficient those students who met the alternate standard on Extended Assessments.
A56: Gender
C57: =C30 -> 2014-15 | D57: =D30 -> 2015-16 | E57: =E30 -> 2016-17 | F57: =F30 -> 2017-18 | G57: =G30 -> 2018-19 | H57: =H30 -> 2021-22 | I57: =I30 -> 2022-23 | J57: =J30 -> 2023-24 | K57: =K30 -> 2024-25*
A58: Grade 5 BSD Average | B58: BSD | C58: =C31 -> 0.578 | D58: =D31 -> 0.544 | E58: =E31 -> 0.545 | F58: =F31 -> 0.543 | G58: =G31 -> 0.524 | H58: =H31 -> 0.464 | I58: =I31 -> 0.472 | J58: =J31 -> 0.483 | K58: =K31 -> 0.478
B59: Change from Previous Year | D59: =D58-C58 -> -0.034 | E59: =E58-D58 -> 0.001 | F59: =F58-E58 -> -0.002 | G59: =G58-F58 -> -0.019 | H59: =H58-G58 -> -0.06 | I59: =I58-H58 -> 0.008 | J59: =J58-I58 -> 0.011 | K59: =K58-J58 -> -0.005
A60: F | B60: BSD | C60: 0.586 | D60: 0.546 | E60: 0.535 | F60: 0.528 | G60: 0.499 | H60: 0.435 | I60: 0.467 | J60: 0.466 | K60: 0.455
B61: Change from Previous Year | D61: =if(isnumber(C60)=true,if(isnumber(D60)=true,D60-C60,"N/A"),"N/A") -> -0.04 | E61: =if(isnumber(D60)=true,if(isnumber(E60)=true,E60-D60,"N/A"),"N/A") -> -0.011 | F61: =if(isnumber(E60)=true,if(isnumber(F60)=true,F60-E60,"N/A"),"N/A") -> -0.007 | G61: =if(isnumber(F60)=true,if(isnumber(G60)=true,G60-F60,"N/A"),"N/A") -> -0.029 | H61: =if(isnumber(G60)=true,if(isnumber(H60)=true,H60-G60,"N/A"),"N/A") -> -0.064 | I61: =if(isnumber(H60)=true,if(isnumber(I60)=true,I60-H60,"N/A"),"N/A") -> 0.032 | J61: =if(isnumber(I60)=true,if(isnumber(J60)=true,J60-I60,"N/A"),"N/A") -> -0.001 | K61: =K60-J60 -> -0.011
B62: Gap from BSD Average | C62: =if(isnumber(C$58)=true,if(isnumber(C60)=true,C60-C$58,"N/A"),"N/A") -> 0.008 | D62: =if(isnumber(D$58)=true,if(isnumber(D60)=true,D60-D$58,"N/A"),"N/A") -> 0.002 | E62: =if(isnumber(E$58)=true,if(isnumber(E60)=true,E60-E$58,"N/A"),"N/A") -> -0.01 | F62: =if(isnumber(F$58)=true,if(isnumber(F60)=true,F60-F$58,"N/A"),"N/A") -> -0.015 | G62: =if(isnumber(G$58)=true,if(isnumber(G60)=true,G60-G$58,"N/A"),"N/A") -> -0.025 | H62: =if(isnumber(H$58)=true,if(isnumber(H60)=true,H60-H$58,"N/A"),"N/A") -> -0.029 | I62: =if(isnumber(I$58)=true,if(isnumber(I60)=true,I60-I$58,"N/A"),"N/A") -> -0.005 | J62: =if(isnumber(J$58)=true,if(isnumber(J60)=true,J60-J$58,"N/A"),"N/A") -> -0.017 | K62: =if(isnumber(K$58)=true,if(isnumber(K60)=true,K60-K$58,"N/A"),"N/A") -> -0.023
A63: M | B63: BSD | C63: 0.571 | D63: 0.541 | E63: 0.555 | F63: 0.557 | G63: 0.548 | H63: 0.491 | I63: 0.476 | J63: 0.499 | K63: 0.502
B64: Change from Previous Year | D64: =if(isnumber(C63)=true,if(isnumber(D63)=true,D63-C63,"N/A"),"N/A") -> -0.03 | E64: =if(isnumber(D63)=true,if(isnumber(E63)=true,E63-D63,"N/A"),"N/A") -> 0.014 | F64: =if(isnumber(E63)=true,if(isnumber(F63)=true,F63-E63,"N/A"),"N/A") -> 0.002 | G64: =if(isnumber(F63)=true,if(isnumber(G63)=true,G63-F63,"N/A"),"N/A") -> -0.009 | H64: =if(isnumber(G63)=true,if(isnumber(H63)=true,H63-G63,"N/A"),"N/A") -> -0.057 | I64: =if(isnumber(H63)=true,if(isnumber(I63)=true,I63-H63,"N/A"),"N/A") -> -0.015 | J64: =if(isnumber(I63)=true,if(isnumber(J63)=true,J63-I63,"N/A"),"N/A") -> 0.023 | K64: =K63-J63 -> 0.003
B65: Gap from BSD Average | C65: =if(isnumber(C$58)=true,if(isnumber(C63)=true,C63-C$58,"N/A"),"N/A") -> -0.007 | D65: =if(isnumber(D$58)=true,if(isnumber(D63)=true,D63-D$58,"N/A"),"N/A") -> -0.003 | E65: =if(isnumber(E$58)=true,if(isnumber(E63)=true,E63-E$58,"N/A"),"N/A") -> 0.01 | F65: =if(isnumber(F$58)=true,if(isnumber(F63)=true,F63-F$58,"N/A"),"N/A") -> 0.014 | G65: =if(isnumber(G$58)=true,if(isnumber(G63)=true,G63-G$58,"N/A"),"N/A") -> 0.024 | H65: =if(isnumber(H$58)=true,if(isnumber(H63)=true,H63-H$58,"N/A"),"N/A") -> 0.027 | I65: =if(isnumber(I$58)=true,if(isnumber(I63)=true,I63-I$58,"N/A"),"N/A") -> 0.004 | J65: =if(isnumber(J$58)=true,if(isnumber(J63)=true,J63-J$58,"N/A"),"N/A") -> 0.016 | K65: =if(isnumber(K$58)=true,if(isnumber(K63)=true,K63-K$58,"N/A"),"N/A") -> 0.024
A66: X | B66: BSD
B67: Change from Previous Year | C67: Data withheld to protect privacy
B68: Gap from BSD Average
A69: *Prior to 2024-25, ODE counted students taking extended assessments as not proficient in these assessment reports. However, ODE received approval from the U.S. Department of Education to count as proficient those students who met the alternate standard on Extended Assessments.

Sheet Grade 6 with Demographics
A1: OSAS Grade 6 Math Proficiency
A2: Race/Ethnicity
C3: ='Overall Math Proficiency'!C3 -> 2014-15 | D3: ='Overall Math Proficiency'!D3 -> 2015-16 | E3: ='Overall Math Proficiency'!E3 -> 2016-17 | F3: ='Overall Math Proficiency'!F3 -> 2017-18 | G3: ='Overall Math Proficiency'!G3 -> 2018-19 | H3: ='Overall Math Proficiency'!H3 -> 2021-22 | I3: ='Overall Math Proficiency'!I3 -> 2022-23 | J3: ='Overall Math Proficiency'!J3 -> 2023-24 | K3: ='Overall Math Proficiency'!K3 -> 2024-25*
A4: Grade 6 BSD Average | B4: BSD | C4: ='Overall Math Proficiency'!C16 -> 0.533 | D4: ='Overall Math Proficiency'!D16 -> 0.532 | E4: ='Overall Math Proficiency'!E16 -> 0.509 | F4: ='Overall Math Proficiency'!F16 -> 0.521 | G4: ='Overall Math Proficiency'!G16 -> 0.491 | H4: ='Overall Math Proficiency'!H16 -> 0.399 | I4: ='Overall Math Proficiency'!I16 -> 0.408 | J4: ='Overall Math Proficiency'!J16 -> 0.431 | K4: ='Overall Math Proficiency'!K16 -> 0.407
B5: Change from Previous Year | D5: =D4-C4 -> -0.001 | E5: =E4-D4 -> -0.023 | F5: =F4-E4 -> 0.012 | G5: =G4-F4 -> -0.03 | H5: =H4-G4 -> -0.092 | I5: =I4-H4 -> 0.009 | J5: =J4-I4 -> 0.023 | K5: =K4-J4 -> -0.024
A6: Asian | B6: BSD | C6: 0.784 | D6: 0.812 | E6: 0.82 | F6: 0.831 | G6: 0.809 | H6: 0.737 | I6: 0.767 | J6: 0.747 | K6: 0.73
B7: Change from Previous Year | D7: =if(isnumber(C6)=true,if(isnumber(D6)=true,D6-C6,"N/A"),"N/A") -> 0.028 | E7: =if(isnumber(D6)=true,if(isnumber(E6)=true,E6-D6,"N/A"),"N/A") -> 0.008 | F7: =if(isnumber(E6)=true,if(isnumber(F6)=true,F6-E6,"N/A"),"N/A") -> 0.011 | G7: =if(isnumber(F6)=true,if(isnumber(G6)=true,G6-F6,"N/A"),"N/A") -> -0.022 | H7: =if(isnumber(G6)=true,if(isnumber(H6)=true,H6-G6,"N/A"),"N/A") -> -0.072 | I7: =if(isnumber(H6)=true,if(isnumber(I6)=true,I6-H6,"N/A"),"N/A") -> 0.03 | J7: =if(isnumber(I6)=true,if(isnumber(J6)=true,J6-I6,"N/A"),"N/A") -> -0.02 | K7: =K6-J6 -> -0.017
B8: Gap from BSD Average | C8: =if(isnumber(C$4)=true,if(isnumber(C6)=true,C6-C$4,"N/A"),"N/A") -> 0.251 | D8: =if(isnumber(D$4)=true,if(isnumber(D6)=true,D6-D$4,"N/A"),"N/A") -> 0.28 | E8: =if(isnumber(E$4)=true,if(isnumber(E6)=true,E6-E$4,"N/A"),"N/A") -> 0.311 | F8: =if(isnumber(F$4)=true,if(isnumber(F6)=true,F6-F$4,"N/A"),"N/A") -> 0.31 | G8: =if(isnumber(G$4)=true,if(isnumber(G6)=true,G6-G$4,"N/A"),"N/A") -> 0.318 | H8: =if(isnumber(H$4)=true,if(isnumber(H6)=true,H6-H$4,"N/A"),"N/A") -> 0.338 | I8: =if(isnumber(I$4)=true,if(isnumber(I6)=true,I6-I$4,"N/A"),"N/A") -> 0.359 | J8: =if(isnumber(J$4)=true,if(isnumber(J6)=true,J6-J$4,"N/A"),"N/A") -> 0.316 | K8: =if(isnumber(K$4)=true,if(isnumber(K6)=true,K6-K$4,"N/A"),"N/A") -> 0.323
A9: Black/African American | B9: BSD | C9: 0.25 | D9: 0.312 | E9: 0.292 | F9: 0.341 | G9: 0.24 | H9: 0.161 | I9: 0.225 | J9: 0.184 | K9: 0.189
B10: Change from Previous Year | D10: =if(isnumber(C9)=true,if(isnumber(D9)=true,D9-C9,"N/A"),"N/A") -> 0.062 | E10: =if(isnumber(D9)=true,if(isnumber(E9)=true,E9-D9,"N/A"),"N/A") -> -0.02 | F10: =if(isnumber(E9)=true,if(isnumber(F9)=true,F9-E9,"N/A"),"N/A") -> 0.049 | G10: =if(isnumber(F9)=true,if(isnumber(G9)=true,G9-F9,"N/A"),"N/A") -> -0.101 | H10: =if(isnumber(G9)=true,if(isnumber(H9)=true,H9-G9,"N/A"),"N/A") -> -0.079 | I10: =if(isnumber(H9)=true,if(isnumber(I9)=true,I9-H9,"N/A"),"N/A") -> 0.064 | J10: =if(isnumber(I9)=true,if(isnumber(J9)=true,J9-I9,"N/A"),"N/A") -> -0.041 | K10: =K9-J9 -> 0.005
B11: Gap from BSD Average | C11: =if(isnumber(C$4)=true,if(isnumber(C9)=true,C9-C$4,"N/A"),"N/A") -> -0.283 | D11: =if(isnumber(D$4)=true,if(isnumber(D9)=true,D9-D$4,"N/A"),"N/A") -> -0.22 | E11: =if(isnumber(E$4)=true,if(isnumber(E9)=true,E9-E$4,"N/A"),"N/A") -> -0.217 | F11: =if(isnumber(F$4)=true,if(isnumber(F9)=true,F9-F$4,"N/A"),"N/A") -> -0.18 | G11: =if(isnumber(G$4)=true,if(isnumber(G9)=true,G9-G$4,"N/A"),"N/A") -> -0.251 | H11: =if(isnumber(H$4)=true,if(isnumber(H9)=true,H9-H$4,"N/A"),"N/A") -> -0.238 | I11: =if(isnumber(I$4)=true,if(isnumber(I9)=true,I9-I$4,"N/A"),"N/A") -> -0.183 | J11: =if(isnumber(J$4)=true,if(isnumber(J9)=true,J9-J$4,"N/A"),"N/A") -> -0.247 | K11: =if(isnumber(K$4)=true,if(isnumber(K9)=true,K9-K$4,"N/A"),"N/A") -> -0.218
A12: Hispanic/Latino | B12: BSD | C12: 0.231 | D12: 0.246 | E12: 0.221 | F12: 0.243 | G12: 0.228 | H12: 0.141 | I12: 0.14 | J12: 0.147 | K12: 0.141
B13: Change from Previous Year | D13: =if(isnumber(C12)=true,if(isnumber(D12)=true,D12-C12,"N/A"),"N/A") -> 0.015 | E13: =if(isnumber(D12)=true,if(isnumber(E12)=true,E12-D12,"N/A"),"N/A") -> -0.025 | F13: =if(isnumber(E12)=true,if(isnumber(F12)=true,F12-E12,"N/A"),"N/A") -> 0.022 | G13: =if(isnumber(F12)=true,if(isnumber(G12)=true,G12-F12,"N/A"),"N/A") -> -0.015 | H13: =if(isnumber(G12)=true,if(isnumber(H12)=true,H12-G12,"N/A"),"N/A") -> -0.087 | I13: =if(isnumber(H12)=true,if(isnumber(I12)=true,I12-H12,"N/A"),"N/A") -> -0.001 | J13: =if(isnumber(I12)=true,if(isnumber(J12)=true,J12-I12,"N/A"),"N/A") -> 0.007 | K13: =K12-J12 -> -0.006
B14: Gap from BSD Average | C14: =if(isnumber(C$4)=true,if(isnumber(C12)=true,C12-C$4,"N/A"),"N/A") -> -0.302 | D14: =if(isnumber(D$4)=true,if(isnumber(D12)=true,D12-D$4,"N/A"),"N/A") -> -0.286 | E14: =if(isnumber(E$4)=true,if(isnumber(E12)=true,E12-E$4,"N/A"),"N/A") -> -0.288 | F14: =if(isnumber(F$4)=true,if(isnumber(F12)=true,F12-F$4,"N/A"),"N/A") -> -0.278 | G14: =if(isnumber(G$4)=true,if(isnumber(G12)=true,G12-G$4,"N/A"),"N/A") -> -0.263 | H14: =if(isnumber(H$4)=true,if(isnumber(H12)=true,H12-H$4,"N/A"),"N/A") -> -0.258 | I14: =if(isnumber(I$4)=true,if(isnumber(I12)=true,I12-I$4,"N/A"),"N/A") -> -0.268 | J14: =if(isnumber(J$4)=true,if(isnumber(J12)=true,J12-J$4,"N/A"),"N/A") -> -0.284 | K14: =if(isnumber(K$4)=true,if(isnumber(K12)=true,K12-K$4,"N/A"),"N/A") -> -0.266
A15: Multiracial | B15: BSD | C15: 0.596 | D15: 0.585 | E15: 0.576 | F15: 0.571 | G15: 0.575 | H15: 0.458 | I15: 0.44 | J15: 0.488 | K15: 0.472
B16: Change from Previous Year | D16: =if(isnumber(C15)=true,if(isnumber(D15)=true,D15-C15,"N/A"),"N/A") -> -0.011 | E16: =if(isnumber(D15)=true,if(isnumber(E15)=true,E15-D15,"N/A"),"N/A") -> -0.009 | F16: =if(isnumber(E15)=true,if(isnumber(F15)=true,F15-E15,"N/A"),"N/A") -> -0.005 | G16: =if(isnumber(F15)=true,if(isnumber(G15)=true,G15-F15,"N/A"),"N/A") -> 0.004 | H16: =if(isnumber(G15)=true,if(isnumber(H15)=true,H15-G15,"N/A"),"N/A") -> -0.117 | I16: =if(isnumber(H15)=true,if(isnumber(I15)=true,I15-H15,"N/A"),"N/A") -> -0.018 | J16: =if(isnumber(I15)=true,if(isnumber(J15)=true,J15-I15,"N/A"),"N/A") -> 0.048 | K16: =K15-J15 -> -0.016
B17: Gap from BSD Average | C17: =if(isnumber(C$4)=true,if(isnumber(C15)=true,C15-C$4,"N/A"),"N/A") -> 0.063 | D17: =if(isnumber(D$4)=true,if(isnumber(D15)=true,D15-D$4,"N/A"),"N/A") -> 0.053 | E17: =if(isnumber(E$4)=true,if(isnumber(E15)=true,E15-E$4,"N/A"),"N/A") -> 0.067 | F17: =if(isnumber(F$4)=true,if(isnumber(F15)=true,F15-F$4,"N/A"),"N/A") -> 0.05 | G17: =if(isnumber(G$4)=true,if(isnumber(G15)=true,G15-G$4,"N/A"),"N/A") -> 0.084 | H17: =if(isnumber(H$4)=true,if(isnumber(H15)=true,H15-H$4,"N/A"),"N/A") -> 0.059 | I17: =if(isnumber(I$4)=true,if(isnumber(I15)=true,I15-I$4,"N/A"),"N/A") -> 0.032 | J17: =if(isnumber(J$4)=true,if(isnumber(J15)=true,J15-J$4,"N/A"),"N/A") -> 0.057 | K17: =if(isnumber(K$4)=true,if(isnumber(K15)=true,K15-K$4,"N/A"),"N/A") -> 0.065
A18: Native American/Alaska Native | B18: BSD | C18: 0.2 | D18: * | E18: * | F18: 0.214 | G18: 0.308 | H18: * | I18: * | J18: 0.267 | K18: 0.364
B19: Change from Previous Year | D19: =if(isnumber(C18)=true,if(isnumber(D18)=true,D18-C18,"N/A"),"N/A") -> N/A | E19: =if(isnumber(D18)=true,if(isnumber(E18)=true,E18-D18,"N/A"),"N/A") -> N/A | F19: =if(isnumber(E18)=true,if(isnumber(F18)=true,F18-E18,"N/A"),"N/A") -> N/A | G19: =if(isnumber(F18)=true,if(isnumber(G18)=true,G18-F18,"N/A"),"N/A") -> 0.094 | H19: =if(isnumber(G18)=true,if(isnumber(H18)=true,H18-G18,"N/A"),"N/A") -> N/A | I19: =if(isnumber(H18)=true,if(isnumber(I18)=true,I18-H18,"N/A"),"N/A") -> N/A | J19: =if(isnumber(I18)=true,if(isnumber(J18)=true,J18-I18,"N/A"),"N/A") -> N/A | K19: =K18-J18 -> 0.097
B20: Gap from BSD Average | C20: =if(isnumber(C$4)=true,if(isnumber(C18)=true,C18-C$4,"N/A"),"N/A") -> -0.333 | D20: =if(isnumber(D$4)=true,if(isnumber(D18)=true,D18-D$4,"N/A"),"N/A") -> N/A | E20: =if(isnumber(E$4)=true,if(isnumber(E18)=true,E18-E$4,"N/A"),"N/A") -> N/A | F20: =if(isnumber(F$4)=true,if(isnumber(F18)=true,F18-F$4,"N/A"),"N/A") -> -0.307 | G20: =if(isnumber(G$4)=true,if(isnumber(G18)=true,G18-G$4,"N/A"),"N/A") -> -0.183 | H20: =if(isnumber(H$4)=true,if(isnumber(H18)=true,H18-H$4,"N/A"),"N/A") -> N/A | I20: =if(isnumber(I$4)=true,if(isnumber(I18)=true,I18-I$4,"N/A"),"N/A") -> N/A | J20: =if(isnumber(J$4)=true,if(isnumber(J18)=true,J18-J$4,"N/A"),"N/A") -> -0.164 | K20: =if(isnumber(K$4)=true,if(isnumber(K18)=true,K18-K$4,"N/A"),"N/A") -> -0.043
A21: Native Hawaiian/Pacific Islander | B21: BSD | C21: 0.158 | D21: 0.429 | E21: 0.212 | F21: 0.467 | G21: 0.316 | H21: 0.143 | I21: 0.103 | J21: 0.053 | K21: 0.056
B22: Change from Previous Year | D22: =if(isnumber(C21)=true,if(isnumber(D21)=true,D21-C21,"N/A"),"N/A") -> 0.271 | E22: =if(isnumber(D21)=true,if(isnumber(E21)=true,E21-D21,"N/A"),"N/A") -> -0.217 | F22: =if(isnumber(E21)=true,if(isnumber(F21)=true,F21-E21,"N/A"),"N/A") -> 0.255 | G22: =if(isnumber(F21)=true,if(isnumber(G21)=true,G21-F21,"N/A"),"N/A") -> -0.151 | H22: =if(isnumber(G21)=true,if(isnumber(H21)=true,H21-G21,"N/A"),"N/A") -> -0.173 | I22: =if(isnumber(H21)=true,if(isnumber(I21)=true,I21-H21,"N/A"),"N/A") -> -0.04 | J22: =if(isnumber(I21)=true,if(isnumber(J21)=true,J21-I21,"N/A"),"N/A") -> -0.05 | K22: =K21-J21 -> 0.003
B23: Gap from BSD Average | C23: =if(isnumber(C$4)=true,if(isnumber(C21)=true,C21-C$4,"N/A"),"N/A") -> -0.375 | D23: =if(isnumber(D$4)=true,if(isnumber(D21)=true,D21-D$4,"N/A"),"N/A") -> -0.103 | E23: =if(isnumber(E$4)=true,if(isnumber(E21)=true,E21-E$4,"N/A"),"N/A") -> -0.297 | F23: =if(isnumber(F$4)=true,if(isnumber(F21)=true,F21-F$4,"N/A"),"N/A") -> -0.054 | G23: =if(isnumber(G$4)=true,if(isnumber(G21)=true,G21-G$4,"N/A"),"N/A") -> -0.175 | H23: =if(isnumber(H$4)=true,if(isnumber(H21)=true,H21-H$4,"N/A"),"N/A") -> -0.256 | I23: =if(isnumber(I$4)=true,if(isnumber(I21)=true,I21-I$4,"N/A"),"N/A") -> -0.305 | J23: =if(isnumber(J$4)=true,if(isnumber(J21)=true,J21-J$4,"N/A"),"N/A") -> -0.378 | K23: =if(isnumber(K$4)=true,if(isnumber(K21)=true,K21-K$4,"N/A"),"N/A") -> -0.351
A24: White | B24: BSD | C24: 0.623 | D24: 0.598 | E24: 0.569 | F24: 0.575 | G24: 0.528 | H24: 0.417 | I24: 0.434 | J24: 0.483 | K24: 0.432
B25: Change from Previous Year | D25: =if(isnumber(C24)=true,if(isnumber(D24)=true,D24-C24,"N/A"),"N/A") -> -0.025 | E25: =if(isnumber(D24)=true,if(isnumber(E24)=true,E24-D24,"N/A"),"N/A") -> -0.029 | F25: =if(isnumber(E24)=true,if(isnumber(F24)=true,F24-E24,"N/A"),"N/A") -> 0.006 | G25: =if(isnumber(F24)=true,if(isnumber(G24)=true,G24-F24,"N/A"),"N/A") -> -0.047 | H25: =if(isnumber(G24)=true,if(isnumber(H24)=true,H24-G24,"N/A"),"N/A") -> -0.111 | I25: =if(isnumber(H24)=true,if(isnumber(I24)=true,I24-H24,"N/A"),"N/A") -> 0.017 | J25: =if(isnumber(I24)=true,if(isnumber(J24)=true,J24-I24,"N/A"),"N/A") -> 0.049 | K25: =K24-J24 -> -0.051
B26: Gap from BSD Average | C26: =if(isnumber(C$4)=true,if(isnumber(C24)=true,C24-C$4,"N/A"),"N/A") -> 0.09 | D26: =if(isnumber(D$4)=true,if(isnumber(D24)=true,D24-D$4,"N/A"),"N/A") -> 0.066 | E26: =if(isnumber(E$4)=true,if(isnumber(E24)=true,E24-E$4,"N/A"),"N/A") -> 0.06 | F26: =if(isnumber(F$4)=true,if(isnumber(F24)=true,F24-F$4,"N/A"),"N/A") -> 0.054 | G26: =if(isnumber(G$4)=true,if(isnumber(G24)=true,G24-G$4,"N/A"),"N/A") -> 0.037 | H26: =if(isnumber(H$4)=true,if(isnumber(H24)=true,H24-H$4,"N/A"),"N/A") -> 0.018 | I26: =if(isnumber(I$4)=true,if(isnumber(I24)=true,I24-I$4,"N/A"),"N/A") -> 0.026 | J26: =if(isnumber(J$4)=true,if(isnumber(J24)=true,J24-J$4,"N/A"),"N/A") -> 0.052 | K26: =if(isnumber(K$4)=true,if(isnumber(K24)=true,K24-K$4,"N/A"),"N/A") -> 0.025
A27: *Prior to 2024-25, ODE counted students taking extended assessments as not proficient in these assessment reports. However, ODE received approval from the U.S. Department of Education to count as proficient those students who met the alternate standard on Extended Assessments.
A29: Student Group
C30: =C3 -> 2014-15 | D30: =D3 -> 2015-16 | E30: =E3 -> 2016-17 | F30: =F3 -> 2017-18 | G30: =G3 -> 2018-19 | H30: =H3 -> 2021-22 | I30: =I3 -> 2022-23 | J30: =J3 -> 2023-24 | K30: =K3 -> 2024-25*
A31: Grade 6 BSD Average | B31: BSD | C31: =C4 -> 0.533 | D31: =D4 -> 0.532 | E31: =E4 -> 0.509 | F31: =F4 -> 0.521 | G31: =G4 -> 0.491 | H31: =H4 -> 0.399 | I31: =I4 -> 0.408 | J31: =J4 -> 0.431 | K31: =K4 -> 0.407
B32: Change from Previous Year | D32: =D31-C31 -> -0.001 | E32: =E31-D31 -> -0.023 | F32: =F31-E31 -> 0.012 | G32: =G31-F31 -> -0.03 | H32: =H31-G31 -> -0.092 | I32: =I31-H31 -> 0.009 | J32: =J31-I31 -> 0.023 | K32: =K31-J31 -> -0.024
A33: English Learners | B33: BSD | C33: 0.054 | D33: 0.084 | E33: 0.106 | F33: 0.073 | G33: 0.053 | H33: 0.043 | I33: 0.031 | J33: 0.056 | K33: 0.066
B34: Change from Previous Year | D34: =if(isnumber(C33)=true,if(isnumber(D33)=true,D33-C33,"N/A"),"N/A") -> 0.03 | E34: =if(isnumber(D33)=true,if(isnumber(E33)=true,E33-D33,"N/A"),"N/A") -> 0.022 | F34: =if(isnumber(E33)=true,if(isnumber(F33)=true,F33-E33,"N/A"),"N/A") -> -0.033 | G34: =if(isnumber(F33)=true,if(isnumber(G33)=true,G33-F33,"N/A"),"N/A") -> -0.02 | H34: =if(isnumber(G33)=true,if(isnumber(H33)=true,H33-G33,"N/A"),"N/A") -> -0.01 | I34: =if(isnumber(H33)=true,if(isnumber(I33)=true,I33-H33,"N/A"),"N/A") -> -0.012 | J34: =if(isnumber(I33)=true,if(isnumber(J33)=true,J33-I33,"N/A"),"N/A") -> 0.025 | K34: =K33-J33 -> 0.01
B35: Gap from BSD Average | C35: =if(isnumber(C$31)=true,if(isnumber(C33)=true,C33-C$31,"N/A"),"N/A") -> -0.479 | D35: =if(isnumber(D$31)=true,if(isnumber(D33)=true,D33-D$31,"N/A"),"N/A") -> -0.448 | E35: =if(isnumber(E$31)=true,if(isnumber(E33)=true,E33-E$31,"N/A"),"N/A") -> -0.403 | F35: =if(isnumber(F$31)=true,if(isnumber(F33)=true,F33-F$31,"N/A"),"N/A") -> -0.448 | G35: =if(isnumber(G$31)=true,if(isnumber(G33)=true,G33-G$31,"N/A"),"N/A") -> -0.438 | H35: =if(isnumber(H$31)=true,if(isnumber(H33)=true,H33-H$31,"N/A"),"N/A") -> -0.356 | I35: =if(isnumber(I$31)=true,if(isnumber(I33)=true,I33-I$31,"N/A"),"N/A") -> -0.377 | J35: =if(isnumber(J$31)=true,if(isnumber(J33)=true,J33-J$31,"N/A"),"N/A") -> -0.375 | K35: =if(isnumber(K$31)=true,if(isnumber(K33)=true,K33-K$31,"N/A"),"N/A") -> -0.341
A36: Indian Education | B36: BSD | K36: 0.231
B37: Change from Previous Year | C37: Data withheld to protect privacy | K37: N/A
B38: Gap from BSD Average | K38: =if(isnumber(K$31)=true,if(isnumber(K36)=true,K36-K$31,"N/A"),"N/A") -> -0.176
A39: Migrant Students | B39: BSD | C39: 0.171 | D39: 0.154 | E39: 0.2 | F39: 0.205 | G39: 0.162 | H39: 0.115 | I39: 0.053 | J39: 0 | K39: 0.087
B40: Change from Previous Year | D40: =if(isnumber(C39)=true,if(isnumber(D39)=true,D39-C39,"N/A"),"N/A") -> -0.017 | E40: =if(isnumber(D39)=true,if(isnumber(E39)=true,E39-D39,"N/A"),"N/A") -> 0.046 | F40: =if(isnumber(E39)=true,if(isnumber(F39)=true,F39-E39,"N/A"),"N/A") -> 0.005 | G40: =if(isnumber(F39)=true,if(isnumber(G39)=true,G39-F39,"N/A"),"N/A") -> -0.043 | H40: =if(isnumber(G39)=true,if(isnumber(H39)=true,H39-G39,"N/A"),"N/A") -> -0.047 | I40: =if(isnumber(H39)=true,if(isnumber(I39)=true,I39-H39,"N/A"),"N/A") -> -0.062 | J40: =if(isnumber(I39)=true,if(isnumber(J39)=true,J39-I39,"N/A"),"N/A") -> -0.053 | K40: =K39-J39 -> 0.087
B41: Gap from BSD Average | C41: =if(isnumber(C$31)=true,if(isnumber(C39)=true,C39-C$31,"N/A"),"N/A") -> -0.362 | D41: =if(isnumber(D$31)=true,if(isnumber(D39)=true,D39-D$31,"N/A"),"N/A") -> -0.378 | E41: =if(isnumber(E$31)=true,if(isnumber(E39)=true,E39-E$31,"N/A"),"N/A") -> -0.309 | F41: =if(isnumber(F$31)=true,if(isnumber(F39)=true,F39-F$31,"N/A"),"N/A") -> -0.316 | G41: =if(isnumber(G$31)=true,if(isnumber(G39)=true,G39-G$31,"N/A"),"N/A") -> -0.329 | H41: =if(isnumber(H$31)=true,if(isnumber(H39)=true,H39-H$31,"N/A"),"N/A") -> -0.284 | I41: =if(isnumber(I$31)=true,if(isnumber(I39)=true,I39-I$31,"N/A"),"N/A") -> -0.355 | J41: =if(isnumber(J$31)=true,if(isnumber(J39)=true,J39-J$31,"N/A"),"N/A") -> -0.431 | K41: =if(isnumber(K$31)=true,if(isnumber(K39)=true,K39-K$31,"N/A"),"N/A") -> -0.32
A42: Students experiencing homelessness | B42: BSD | G42: 0.1 | H42: 0.071 | I42: 0.095 | J42: 0.08 | K42: 0.074
B43: Change from Previous Year | C43: Data not available | G43: =if(isnumber(F42)=true,if(isnumber(G42)=true,G42-F42,"N/A"),"N/A") -> N/A | H43: =if(isnumber(G42)=true,if(isnumber(H42)=true,H42-G42,"N/A"),"N/A") -> -0.029 | I43: =if(isnumber(H42)=true,if(isnumber(I42)=true,I42-H42,"N/A"),"N/A") -> 0.024 | J43: =if(isnumber(I42)=true,if(isnumber(J42)=true,J42-I42,"N/A"),"N/A") -> -0.015 | K43: =K42-J42 -> -0.006
B44: Gap from BSD Average | G44: =if(isnumber(G$31)=true,if(isnumber(G42)=true,G42-G$31,"N/A"),"N/A") -> -0.391 | H44: =if(isnumber(H$31)=true,if(isnumber(H42)=true,H42-H$31,"N/A"),"N/A") -> -0.328 | I44: =if(isnumber(I$31)=true,if(isnumber(I42)=true,I42-I$31,"N/A"),"N/A") -> -0.313 | J44: =if(isnumber(J$31)=true,if(isnumber(J42)=true,J42-J$31,"N/A"),"N/A") -> -0.351 | K44: =if(isnumber(K$31)=true,if(isnumber(K42)=true,K42-K$31,"N/A"),"N/A") -> -0.333
A45: Students experiencing poverty | B45: BSD | J45: 0.113 | K45: 0.119
B46: Change from Previous Year | C46: Data not available | K46: =K45-J45 -> 0.006
B47: Gap from BSD Average | J47: =if(isnumber(J$31)=true,if(isnumber(J45)=true,J45-J$31,"N/A"),"N/A") -> -0.318 | K47: =if(isnumber(K$31)=true,if(isnumber(K45)=true,K45-K$31,"N/A"),"N/A") -> -0.288
A48: Students with disabilities | B48: BSD | C48: 0.163 | D48: 0.112 | E48: 0.135 | F48: 0.11 | G48: 0.126 | H48: 0.131 | I48: 0.158 | J48: 0.125 | K48: 0.188
B49: Change from Previous Year | D49: =if(isnumber(C48)=true,if(isnumber(D48)=true,D48-C48,"N/A"),"N/A") -> -0.051 | E49: =if(isnumber(D48)=true,if(isnumber(E48)=true,E48-D48,"N/A"),"N/A") -> 0.023 | F49: =if(isnumber(E48)=true,if(isnumber(F48)=true,F48-E48,"N/A"),"N/A") -> -0.025 | G49: =if(isnumber(F48)=true,if(isnumber(G48)=true,G48-F48,"N/A"),"N/A") -> 0.016 | H49: =if(isnumber(G48)=true,if(isnumber(H48)=true,H48-G48,"N/A"),"N/A") -> 0.005 | I49: =if(isnumber(H48)=true,if(isnumber(I48)=true,I48-H48,"N/A"),"N/A") -> 0.027 | J49: =if(isnumber(I48)=true,if(isnumber(J48)=true,J48-I48,"N/A"),"N/A") -> -0.033 | K49: =K48-J48 -> 0.063
B50: Gap from BSD Average | C50: =if(isnumber(C$31)=true,if(isnumber(C48)=true,C48-C$31,"N/A"),"N/A") -> -0.37 | D50: =if(isnumber(D$31)=true,if(isnumber(D48)=true,D48-D$31,"N/A"),"N/A") -> -0.42 | E50: =if(isnumber(E$31)=true,if(isnumber(E48)=true,E48-E$31,"N/A"),"N/A") -> -0.374 | F50: =if(isnumber(F$31)=true,if(isnumber(F48)=true,F48-F$31,"N/A"),"N/A") -> -0.411 | G50: =if(isnumber(G$31)=true,if(isnumber(G48)=true,G48-G$31,"N/A"),"N/A") -> -0.365 | H50: =if(isnumber(H$31)=true,if(isnumber(H48)=true,H48-H$31,"N/A"),"N/A") -> -0.268 | I50: =if(isnumber(I$31)=true,if(isnumber(I48)=true,I48-I$31,"N/A"),"N/A") -> -0.25 | J50: =if(isnumber(J$31)=true,if(isnumber(J48)=true,J48-J$31,"N/A"),"N/A") -> -0.306 | K50: =if(isnumber(K$31)=true,if(isnumber(K48)=true,K48-K$31,"N/A"),"N/A") -> -0.219
A51: Talented and Gifted | B51: BSD | C51: 0.967 | D51: 0.974 | E51: 0.975 | F51: 0.971 | G51: 0.969 | H51: 0.895 | I51: 0.912 | J51: 0.927 | K51: 0.912
B52: Change from Previous Year | D52: =if(isnumber(C51)=true,if(isnumber(D51)=true,D51-C51,"N/A"),"N/A") -> 0.007 | E52: =if(isnumber(D51)=true,if(isnumber(E51)=true,E51-D51,"N/A"),"N/A") -> 0.001 | F52: =if(isnumber(E51)=true,if(isnumber(F51)=true,F51-E51,"N/A"),"N/A") -> -0.004 | G52: =if(isnumber(F51)=true,if(isnumber(G51)=true,G51-F51,"N/A"),"N/A") -> -0.002 | H52: =if(isnumber(G51)=true,if(isnumber(H51)=true,H51-G51,"N/A"),"N/A") -> -0.074 | I52: =if(isnumber(H51)=true,if(isnumber(I51)=true,I51-H51,"N/A"),"N/A") -> 0.017 | J52: =if(isnumber(I51)=true,if(isnumber(J51)=true,J51-I51,"N/A"),"N/A") -> 0.015 | K52: =K51-J51 -> -0.015
B53: Gap from BSD Average | C53: =if(isnumber(C$31)=true,if(isnumber(C51)=true,C51-C$31,"N/A"),"N/A") -> 0.434 | D53: =if(isnumber(D$31)=true,if(isnumber(D51)=true,D51-D$31,"N/A"),"N/A") -> 0.442 | E53: =if(isnumber(E$31)=true,if(isnumber(E51)=true,E51-E$31,"N/A"),"N/A") -> 0.466 | F53: =if(isnumber(F$31)=true,if(isnumber(F51)=true,F51-F$31,"N/A"),"N/A") -> 0.45 | G53: =if(isnumber(G$31)=true,if(isnumber(G51)=true,G51-G$31,"N/A"),"N/A") -> 0.478 | H53: =if(isnumber(H$31)=true,if(isnumber(H51)=true,H51-H$31,"N/A"),"N/A") -> 0.496 | I53: =if(isnumber(I$31)=true,if(isnumber(I51)=true,I51-I$31,"N/A"),"N/A") -> 0.504 | J53: =if(isnumber(J$31)=true,if(isnumber(J51)=true,J51-J$31,"N/A"),"N/A") -> 0.496 | K53: =if(isnumber(K$31)=true,if(isnumber(K51)=true,K51-K$31,"N/A"),"N/A") -> 0.505
A54: *Prior to 2024-25, ODE counted students taking extended assessments as not proficient in these assessment reports. However, ODE received approval from the U.S. Department of Education to count as proficient those students who met the alternate standard on Extended Assessments.
A56: Gender
C57: =C30 -> 2014-15 | D57: =D30 -> 2015-16 | E57: =E30 -> 2016-17 | F57: =F30 -> 2017-18 | G57: =G30 -> 2018-19 | H57: =H30 -> 2021-22 | I57: =I30 -> 2022-23 | J57: =J30 -> 2023-24 | K57: =K30 -> 2024-25*
A58: Grade 6 BSD Average | B58: BSD | C58: =C31 -> 0.533 | D58: =D31 -> 0.532 | E58: =E31 -> 0.509 | F58: =F31 -> 0.521 | G58: =G31 -> 0.491 | H58: =H31 -> 0.399 | I58: =I31 -> 0.408 | J58: =J31 -> 0.431 | K58: =K31 -> 0.407
B59: Change from Previous Year | D59: =D58-C58 -> -0.001 | E59: =E58-D58 -> -0.023 | F59: =F58-E58 -> 0.012 | G59: =G58-F58 -> -0.03 | H59: =H58-G58 -> -0.092 | I59: =I58-H58 -> 0.009 | J59: =J58-I58 -> 0.023 | K59: =K58-J58 -> -0.024
A60: F | B60: BSD | C60: 0.537 | D60: 0.556 | E60: 0.522 | F60: 0.533 | G60: 0.498 | H60: 0.367 | I60: 0.384 | J60: 0.426 | K60: 0.389
B61: Change from Previous Year | D61: =if(isnumber(C60)=true,if(isnumber(D60)=true,D60-C60,"N/A"),"N/A") -> 0.019 | E61: =if(isnumber(D60)=true,if(isnumber(E60)=true,E60-D60,"N/A"),"N/A") -> -0.034 | F61: =if(isnumber(E60)=true,if(isnumber(F60)=true,F60-E60,"N/A"),"N/A") -> 0.011 | G61: =if(isnumber(F60)=true,if(isnumber(G60)=true,G60-F60,"N/A"),"N/A") -> -0.035 | H61: =if(isnumber(G60)=true,if(isnumber(H60)=true,H60-G60,"N/A"),"N/A") -> -0.131 | I61: =if(isnumber(H60)=true,if(isnumber(I60)=true,I60-H60,"N/A"),"N/A") -> 0.017 | J61: =if(isnumber(I60)=true,if(isnumber(J60)=true,J60-I60,"N/A"),"N/A") -> 0.042 | K61: =K60-J60 -> -0.037
B62: Gap from BSD Average | C62: =if(isnumber(C$58)=true,if(isnumber(C60)=true,C60-C$58,"N/A"),"N/A") -> 0.004 | D62: =if(isnumber(D$58)=true,if(isnumber(D60)=true,D60-D$58,"N/A"),"N/A") -> 0.024 | E62: =if(isnumber(E$58)=true,if(isnumber(E60)=true,E60-E$58,"N/A"),"N/A") -> 0.013 | F62: =if(isnumber(F$58)=true,if(isnumber(F60)=true,F60-F$58,"N/A"),"N/A") -> 0.012 | G62: =if(isnumber(G$58)=true,if(isnumber(G60)=true,G60-G$58,"N/A"),"N/A") -> 0.007 | H62: =if(isnumber(H$58)=true,if(isnumber(H60)=true,H60-H$58,"N/A"),"N/A") -> -0.032 | I62: =if(isnumber(I$58)=true,if(isnumber(I60)=true,I60-I$58,"N/A"),"N/A") -> -0.024 | J62: =if(isnumber(J$58)=true,if(isnumber(J60)=true,J60-J$58,"N/A"),"N/A") -> -0.005 | K62: =if(isnumber(K$58)=true,if(isnumber(K60)=true,K60-K$58,"N/A"),"N/A") -> -0.018
A63: M | B63: BSD | C63: 0.529 | D63: 0.511 | E63: 0.496 | F63: 0.509 | G63: 0.483 | H63: 0.429 | I63: 0.43 | J63: 0.436 | K63: 0.424
B64: Change from Previous Year | D64: =if(isnumber(C63)=true,if(isnumber(D63)=true,D63-C63,"N/A"),"N/A") -> -0.018 | E64: =if(isnumber(D63)=true,if(isnumber(E63)=true,E63-D63,"N/A"),"N/A") -> -0.015 | F64: =if(isnumber(E63)=true,if(isnumber(F63)=true,F63-E63,"N/A"),"N/A") -> 0.013 | G64: =if(isnumber(F63)=true,if(isnumber(G63)=true,G63-F63,"N/A"),"N/A") -> -0.026 | H64: =if(isnumber(G63)=true,if(isnumber(H63)=true,H63-G63,"N/A"),"N/A") -> -0.054 | I64: =if(isnumber(H63)=true,if(isnumber(I63)=true,I63-H63,"N/A"),"N/A") -> 0.001 | J64: =if(isnumber(I63)=true,if(isnumber(J63)=true,J63-I63,"N/A"),"N/A") -> 0.006 | K64: =K63-J63 -> -0.012
B65: Gap from BSD Average | C65: =if(isnumber(C$58)=true,if(isnumber(C63)=true,C63-C$58,"N/A"),"N/A") -> -0.004 | D65: =if(isnumber(D$58)=true,if(isnumber(D63)=true,D63-D$58,"N/A"),"N/A") -> -0.021 | E65: =if(isnumber(E$58)=true,if(isnumber(E63)=true,E63-E$58,"N/A"),"N/A") -> -0.013 | F65: =if(isnumber(F$58)=true,if(isnumber(F63)=true,F63-F$58,"N/A"),"N/A") -> -0.012 | G65: =if(isnumber(G$58)=true,if(isnumber(G63)=true,G63-G$58,"N/A"),"N/A") -> -0.008 | H65: =if(isnumber(H$58)=true,if(isnumber(H63)=true,H63-H$58,"N/A"),"N/A") -> 0.03 | I65: =if(isnumber(I$58)=true,if(isnumber(I63)=true,I63-I$58,"N/A"),"N/A") -> 0.022 | J65: =if(isnumber(J$58)=true,if(isnumber(J63)=true,J63-J$58,"N/A"),"N/A") -> 0.005 | K65: =if(isnumber(K$58)=true,if(isnumber(K63)=true,K63-K$58,"N/A"),"N/A") -> 0.017
A66: X | B66: BSD
B67: Change from Previous Year | C67: Data withheld to protect privacy
B68: Gap from BSD Average
A69: *Prior to 2024-25, ODE counted students taking extended assessments as not proficient in these assessment reports. However, ODE received approval from the U.S. Department of Education to count as proficient those students who met the alternate standard on Extended Assessments.

Sheet Grade 7 with Demographics
A1: OSAS Grade 7 Math Proficiency
A2: Race/Ethnicity
C3: ='Overall Math Proficiency'!C3 -> 2014-15 | D3: ='Overall Math Proficiency'!D3 -> 2015-16 | E3: ='Overall Math Proficiency'!E3 -> 2016-17 | F3: ='Overall Math Proficiency'!F3 -> 2017-18 | G3: ='Overall Math Proficiency'!G3 -> 2018-19 | H3: ='Overall Math Proficiency'!H3 -> 2021-22 | I3: ='Overall Math Proficiency'!I3 -> 2022-23 | J3: ='Overall Math Proficiency'!J3 -> 2023-24 | K3: ='Overall Math Proficiency'!K3 -> 2024-25*
A4: Grade 7 BSD Average | B4: BSD | C4: ='Overall Math Proficiency'!C19 -> 0.57 | D4: ='Overall Math Proficiency'!D19 -> 0.581 | E4: ='Overall Math Proficiency'!E19 -> 0.56 | F4: ='Overall Math Proficiency'!F19 -> 0.562 | G4: ='Overall Math Proficiency'!G19 -> 0.559 | H4: ='Overall Math Proficiency'!H19 -> 0.432 | I4: ='Overall Math Proficiency'!I19 -> 0.415 | J4: ='Overall Math Proficiency'!J19 -> 0.43 | K4: ='Overall Math Proficiency'!K19 -> 0.437
B5: Change from Previous Year | D5: =D4-C4 -> 0.011 | E5: =E4-D4 -> -0.021 | F5: =F4-E4 -> 0.002 | G5: =G4-F4 -> -0.003 | H5: =H4-G4 -> -0.127 | I5: =I4-H4 -> -0.017 | J5: =J4-I4 -> 0.015 | K5: =K4-J4 -> 0.007
A6: Asian | B6: BSD | C6: 0.815 | D6: 0.836 | E6: 0.837 | F6: 0.81 | G6: 0.847 | H6: 0.806 | I6: 0.738 | J6: 0.768 | K6: 0.759
B7: Change from Previous Year | D7: =if(isnumber(C6)=true,if(isnumber(D6)=true,D6-C6,"N/A"),"N/A") -> 0.021 | E7: =if(isnumber(D6)=true,if(isnumber(E6)=true,E6-D6,"N/A"),"N/A") -> 0.001 | F7: =if(isnumber(E6)=true,if(isnumber(F6)=true,F6-E6,"N/A"),"N/A") -> -0.027 | G7: =if(isnumber(F6)=true,if(isnumber(G6)=true,G6-F6,"N/A"),"N/A") -> 0.037 | H7: =if(isnumber(G6)=true,if(isnumber(H6)=true,H6-G6,"N/A"),"N/A") -> -0.041 | I7: =if(isnumber(H6)=true,if(isnumber(I6)=true,I6-H6,"N/A"),"N/A") -> -0.068 | J7: =if(isnumber(I6)=true,if(isnumber(J6)=true,J6-I6,"N/A"),"N/A") -> 0.03 | K7: =K6-J6 -> -0.009
B8: Gap from BSD Average | C8: =if(isnumber(C$4)=true,if(isnumber(C6)=true,C6-C$4,"N/A"),"N/A") -> 0.245 | D8: =if(isnumber(D$4)=true,if(isnumber(D6)=true,D6-D$4,"N/A"),"N/A") -> 0.255 | E8: =if(isnumber(E$4)=true,if(isnumber(E6)=true,E6-E$4,"N/A"),"N/A") -> 0.277 | F8: =if(isnumber(F$4)=true,if(isnumber(F6)=true,F6-F$4,"N/A"),"N/A") -> 0.248 | G8: =if(isnumber(G$4)=true,if(isnumber(G6)=true,G6-G$4,"N/A"),"N/A") -> 0.288 | H8: =if(isnumber(H$4)=true,if(isnumber(H6)=true,H6-H$4,"N/A"),"N/A") -> 0.374 | I8: =if(isnumber(I$4)=true,if(isnumber(I6)=true,I6-I$4,"N/A"),"N/A") -> 0.323 | J8: =if(isnumber(J$4)=true,if(isnumber(J6)=true,J6-J$4,"N/A"),"N/A") -> 0.338 | K8: =if(isnumber(K$4)=true,if(isnumber(K6)=true,K6-K$4,"N/A"),"N/A") -> 0.322
A9: Black/African American | B9: BSD | C9: 0.357 | D9: 0.34 | E9: 0.347 | F9: 0.368 | G9: 0.319 | H9: 0.169 | I9: 0.208 | J9: 0.184 | K9: 0.189
B10: Change from Previous Year | D10: =if(isnumber(C9)=true,if(isnumber(D9)=true,D9-C9,"N/A"),"N/A") -> -0.017 | E10: =if(isnumber(D9)=true,if(isnumber(E9)=true,E9-D9,"N/A"),"N/A") -> 0.007 | F10: =if(isnumber(E9)=true,if(isnumber(F9)=true,F9-E9,"N/A"),"N/A") -> 0.021 | G10: =if(isnumber(F9)=true,if(isnumber(G9)=true,G9-F9,"N/A"),"N/A") -> -0.049 | H10: =if(isnumber(G9)=true,if(isnumber(H9)=true,H9-G9,"N/A"),"N/A") -> -0.15 | I10: =if(isnumber(H9)=true,if(isnumber(I9)=true,I9-H9,"N/A"),"N/A") -> 0.039 | J10: =if(isnumber(I9)=true,if(isnumber(J9)=true,J9-I9,"N/A"),"N/A") -> -0.024 | K10: =K9-J9 -> 0.005
B11: Gap from BSD Average | C11: =if(isnumber(C$4)=true,if(isnumber(C9)=true,C9-C$4,"N/A"),"N/A") -> -0.213 | D11: =if(isnumber(D$4)=true,if(isnumber(D9)=true,D9-D$4,"N/A"),"N/A") -> -0.241 | E11: =if(isnumber(E$4)=true,if(isnumber(E9)=true,E9-E$4,"N/A"),"N/A") -> -0.213 | F11: =if(isnumber(F$4)=true,if(isnumber(F9)=true,F9-F$4,"N/A"),"N/A") -> -0.194 | G11: =if(isnumber(G$4)=true,if(isnumber(G9)=true,G9-G$4,"N/A"),"N/A") -> -0.24 | H11: =if(isnumber(H$4)=true,if(isnumber(H9)=true,H9-H$4,"N/A"),"N/A") -> -0.263 | I11: =if(isnumber(I$4)=true,if(isnumber(I9)=true,I9-I$4,"N/A"),"N/A") -> -0.207 | J11: =if(isnumber(J$4)=true,if(isnumber(J9)=true,J9-J$4,"N/A"),"N/A") -> -0.246 | K11: =if(isnumber(K$4)=true,if(isnumber(K9)=true,K9-K$4,"N/A"),"N/A") -> -0.248
A12: Hispanic/Latino | B12: BSD | C12: 0.32 | D12: 0.301 | E12: 0.283 | F12: 0.3 | G12: 0.295 | H12: 0.176 | I12: 0.134 | J12: 0.134 | K12: 0.154
B13: Change from Previous Year | D13: =if(isnumber(C12)=true,if(isnumber(D12)=true,D12-C12,"N/A"),"N/A") -> -0.019 | E13: =if(isnumber(D12)=true,if(isnumber(E12)=true,E12-D12,"N/A"),"N/A") -> -0.018 | F13: =if(isnumber(E12)=true,if(isnumber(F12)=true,F12-E12,"N/A"),"N/A") -> 0.017 | G13: =if(isnumber(F12)=true,if(isnumber(G12)=true,G12-F12,"N/A"),"N/A") -> -0.005 | H13: =if(isnumber(G12)=true,if(isnumber(H12)=true,H12-G12,"N/A"),"N/A") -> -0.119 | I13: =if(isnumber(H12)=true,if(isnumber(I12)=true,I12-H12,"N/A"),"N/A") -> -0.042 | J13: =if(isnumber(I12)=true,if(isnumber(J12)=true,J12-I12,"N/A"),"N/A") -> 0 | K13: =K12-J12 -> 0.02
B14: Gap from BSD Average | C14: =if(isnumber(C$4)=true,if(isnumber(C12)=true,C12-C$4,"N/A"),"N/A") -> -0.25 | D14: =if(isnumber(D$4)=true,if(isnumber(D12)=true,D12-D$4,"N/A"),"N/A") -> -0.28 | E14: =if(isnumber(E$4)=true,if(isnumber(E12)=true,E12-E$4,"N/A"),"N/A") -> -0.277 | F14: =if(isnumber(F$4)=true,if(isnumber(F12)=true,F12-F$4,"N/A"),"N/A") -> -0.262 | G14: =if(isnumber(G$4)=true,if(isnumber(G12)=true,G12-G$4,"N/A"),"N/A") -> -0.264 | H14: =if(isnumber(H$4)=true,if(isnumber(H12)=true,H12-H$4,"N/A"),"N/A") -> -0.256 | I14: =if(isnumber(I$4)=true,if(isnumber(I12)=true,I12-I$4,"N/A"),"N/A") -> -0.281 | J14: =if(isnumber(J$4)=true,if(isnumber(J12)=true,J12-J$4,"N/A"),"N/A") -> -0.296 | K14: =if(isnumber(K$4)=true,if(isnumber(K12)=true,K12-K$4,"N/A"),"N/A") -> -0.283
A15: Multiracial | B15: BSD | C15: 0.594 | D15: 0.632 | E15: 0.595 | F15: 0.623 | G15: 0.629 | H15: 0.419 | I15: 0.471 | J15: 0.444 | K15: 0.498
B16: Change from Previous Year | D16: =if(isnumber(C15)=true,if(isnumber(D15)=true,D15-C15,"N/A"),"N/A") -> 0.038 | E16: =if(isnumber(D15)=true,if(isnumber(E15)=true,E15-D15,"N/A"),"N/A") -> -0.037 | F16: =if(isnumber(E15)=true,if(isnumber(F15)=true,F15-E15,"N/A"),"N/A") -> 0.028 | G16: =if(isnumber(F15)=true,if(isnumber(G15)=true,G15-F15,"N/A"),"N/A") -> 0.006 | H16: =if(isnumber(G15)=true,if(isnumber(H15)=true,H15-G15,"N/A"),"N/A") -> -0.21 | I16: =if(isnumber(H15)=true,if(isnumber(I15)=true,I15-H15,"N/A"),"N/A") -> 0.052 | J16: =if(isnumber(I15)=true,if(isnumber(J15)=true,J15-I15,"N/A"),"N/A") -> -0.027 | K16: =K15-J15 -> 0.054
B17: Gap from BSD Average | C17: =if(isnumber(C$4)=true,if(isnumber(C15)=true,C15-C$4,"N/A"),"N/A") -> 0.024 | D17: =if(isnumber(D$4)=true,if(isnumber(D15)=true,D15-D$4,"N/A"),"N/A") -> 0.051 | E17: =if(isnumber(E$4)=true,if(isnumber(E15)=true,E15-E$4,"N/A"),"N/A") -> 0.035 | F17: =if(isnumber(F$4)=true,if(isnumber(F15)=true,F15-F$4,"N/A"),"N/A") -> 0.061 | G17: =if(isnumber(G$4)=true,if(isnumber(G15)=true,G15-G$4,"N/A"),"N/A") -> 0.07 | H17: =if(isnumber(H$4)=true,if(isnumber(H15)=true,H15-H$4,"N/A"),"N/A") -> -0.013 | I17: =if(isnumber(I$4)=true,if(isnumber(I15)=true,I15-I$4,"N/A"),"N/A") -> 0.056 | J17: =if(isnumber(J$4)=true,if(isnumber(J15)=true,J15-J$4,"N/A"),"N/A") -> 0.014 | K17: =if(isnumber(K$4)=true,if(isnumber(K15)=true,K15-K$4,"N/A"),"N/A") -> 0.061
A18: Native American/Alaska Native | B18: BSD | C18: 0.467 | D18: 0.25 | E18: * | F18: * | G18: 0.273 | H18: 0.25 | I18: * | J18: * | K18: 0.231
B19: Change from Previous Year | D19: =if(isnumber(C18)=true,if(isnumber(D18)=true,D18-C18,"N/A"),"N/A") -> -0.217 | E19: =if(isnumber(D18)=true,if(isnumber(E18)=true,E18-D18,"N/A"),"N/A") -> N/A | F19: =if(isnumber(E18)=true,if(isnumber(F18)=true,F18-E18,"N/A"),"N/A") -> N/A | G19: =if(isnumber(F18)=true,if(isnumber(G18)=true,G18-F18,"N/A"),"N/A") -> N/A | H19: =if(isnumber(G18)=true,if(isnumber(H18)=true,H18-G18,"N/A"),"N/A") -> -0.023 | I19: =if(isnumber(H18)=true,if(isnumber(I18)=true,I18-H18,"N/A"),"N/A") -> N/A | J19: =if(isnumber(I18)=true,if(isnumber(J18)=true,J18-I18,"N/A"),"N/A") -> N/A | K19: =K18-J18 -> #VALUE!
B20: Gap from BSD Average | C20: =if(isnumber(C$4)=true,if(isnumber(C18)=true,C18-C$4,"N/A"),"N/A") -> -0.103 | D20: =if(isnumber(D$4)=true,if(isnumber(D18)=true,D18-D$4,"N/A"),"N/A") -> -0.331 | E20: =if(isnumber(E$4)=true,if(isnumber(E18)=true,E18-E$4,"N/A"),"N/A") -> N/A | F20: =if(isnumber(F$4)=true,if(isnumber(F18)=true,F18-F$4,"N/A"),"N/A") -> N/A | G20: =if(isnumber(G$4)=true,if(isnumber(G18)=true,G18-G$4,"N/A"),"N/A") -> -0.286 | H20: =if(isnumber(H$4)=true,if(isnumber(H18)=true,H18-H$4,"N/A"),"N/A") -> -0.182 | I20: =if(isnumber(I$4)=true,if(isnumber(I18)=true,I18-I$4,"N/A"),"N/A") -> N/A | J20: =if(isnumber(J$4)=true,if(isnumber(J18)=true,J18-J$4,"N/A"),"N/A") -> N/A | K20: =if(isnumber(K$4)=true,if(isnumber(K18)=true,K18-K$4,"N/A"),"N/A") -> -0.206
A21: Native Hawaiian/Pacific Islander | B21: BSD | C21: 0.417 | D21: 0.304 | E21: 0.452 | F21: 0.344 | G21: 0.385 | H21: 0.158 | I21: 0.087 | J21: 0.115 | K21: 0.063
B22: Change from Previous Year | D22: =if(isnumber(C21)=true,if(isnumber(D21)=true,D21-C21,"N/A"),"N/A") -> -0.113 | E22: =if(isnumber(D21)=true,if(isnumber(E21)=true,E21-D21,"N/A"),"N/A") -> 0.148 | F22: =if(isnumber(E21)=true,if(isnumber(F21)=true,F21-E21,"N/A"),"N/A") -> -0.108 | G22: =if(isnumber(F21)=true,if(isnumber(G21)=true,G21-F21,"N/A"),"N/A") -> 0.041 | H22: =if(isnumber(G21)=true,if(isnumber(H21)=true,H21-G21,"N/A"),"N/A") -> -0.227 | I22: =if(isnumber(H21)=true,if(isnumber(I21)=true,I21-H21,"N/A"),"N/A") -> -0.071 | J22: =if(isnumber(I21)=true,if(isnumber(J21)=true,J21-I21,"N/A"),"N/A") -> 0.028 | K22: =K21-J21 -> -0.052
B23: Gap from BSD Average | C23: =if(isnumber(C$4)=true,if(isnumber(C21)=true,C21-C$4,"N/A"),"N/A") -> -0.153 | D23: =if(isnumber(D$4)=true,if(isnumber(D21)=true,D21-D$4,"N/A"),"N/A") -> -0.277 | E23: =if(isnumber(E$4)=true,if(isnumber(E21)=true,E21-E$4,"N/A"),"N/A") -> -0.108 | F23: =if(isnumber(F$4)=true,if(isnumber(F21)=true,F21-F$4,"N/A"),"N/A") -> -0.218 | G23: =if(isnumber(G$4)=true,if(isnumber(G21)=true,G21-G$4,"N/A"),"N/A") -> -0.174 | H23: =if(isnumber(H$4)=true,if(isnumber(H21)=true,H21-H$4,"N/A"),"N/A") -> -0.274 | I23: =if(isnumber(I$4)=true,if(isnumber(I21)=true,I21-I$4,"N/A"),"N/A") -> -0.328 | J23: =if(isnumber(J$4)=true,if(isnumber(J21)=true,J21-J$4,"N/A"),"N/A") -> -0.315 | K23: =if(isnumber(K$4)=true,if(isnumber(K21)=true,K21-K$4,"N/A"),"N/A") -> -0.374
A24: White | B24: BSD | C24: 0.633 | D24: 0.653 | E24: 0.621 | F24: 0.627 | G24: 0.607 | H24: 0.449 | I24: 0.456 | J24: 0.489 | K24: 0.492
B25: Change from Previous Year | D25: =if(isnumber(C24)=true,if(isnumber(D24)=true,D24-C24,"N/A"),"N/A") -> 0.02 | E25: =if(isnumber(D24)=true,if(isnumber(E24)=true,E24-D24,"N/A"),"N/A") -> -0.032 | F25: =if(isnumber(E24)=true,if(isnumber(F24)=true,F24-E24,"N/A"),"N/A") -> 0.006 | G25: =if(isnumber(F24)=true,if(isnumber(G24)=true,G24-F24,"N/A"),"N/A") -> -0.02 | H25: =if(isnumber(G24)=true,if(isnumber(H24)=true,H24-G24,"N/A"),"N/A") -> -0.158 | I25: =if(isnumber(H24)=true,if(isnumber(I24)=true,I24-H24,"N/A"),"N/A") -> 0.007 | J25: =if(isnumber(I24)=true,if(isnumber(J24)=true,J24-I24,"N/A"),"N/A") -> 0.033 | K25: =K24-J24 -> 0.003
B26: Gap from BSD Average | C26: =if(isnumber(C$4)=true,if(isnumber(C24)=true,C24-C$4,"N/A"),"N/A") -> 0.063 | D26: =if(isnumber(D$4)=true,if(isnumber(D24)=true,D24-D$4,"N/A"),"N/A") -> 0.072 | E26: =if(isnumber(E$4)=true,if(isnumber(E24)=true,E24-E$4,"N/A"),"N/A") -> 0.061 | F26: =if(isnumber(F$4)=true,if(isnumber(F24)=true,F24-F$4,"N/A"),"N/A") -> 0.065 | G26: =if(isnumber(G$4)=true,if(isnumber(G24)=true,G24-G$4,"N/A"),"N/A") -> 0.048 | H26: =if(isnumber(H$4)=true,if(isnumber(H24)=true,H24-H$4,"N/A"),"N/A") -> 0.017 | I26: =if(isnumber(I$4)=true,if(isnumber(I24)=true,I24-I$4,"N/A"),"N/A") -> 0.041 | J26: =if(isnumber(J$4)=true,if(isnumber(J24)=true,J24-J$4,"N/A"),"N/A") -> 0.059 | K26: =if(isnumber(K$4)=true,if(isnumber(K24)=true,K24-K$4,"N/A"),"N/A") -> 0.055
A27: *Prior to 2024-25, ODE counted students taking extended assessments as not proficient in these assessment reports. However, ODE received approval from the U.S. Department of Education to count as proficient those students who met the alternate standard on Extended Assessments.
A29: Student Group
C30: =C3 -> 2014-15 | D30: =D3 -> 2015-16 | E30: =E3 -> 2016-17 | F30: =F3 -> 2017-18 | G30: =G3 -> 2018-19 | H30: =H3 -> 2021-22 | I30: =I3 -> 2022-23 | J30: =J3 -> 2023-24 | K30: =K3 -> 2024-25*
A31: Grade 7 BSD Average | B31: BSD | C31: =C4 -> 0.57 | D31: =D4 -> 0.581 | E31: =E4 -> 0.56 | F31: =F4 -> 0.562 | G31: =G4 -> 0.559 | H31: =H4 -> 0.432 | I31: =I4 -> 0.415 | J31: =J4 -> 0.43 | K31: =K4 -> 0.437
B32: Change from Previous Year | D32: =D31-C31 -> 0.011 | E32: =E31-D31 -> -0.021 | F32: =F31-E31 -> 0.002 | G32: =G31-F31 -> -0.003 | H32: =H31-G31 -> -0.127 | I32: =I31-H31 -> -0.017 | J32: =J31-I31 -> 0.015 | K32: =K31-J31 -> 0.007
A33: English Learners | B33: BSD | C33: 0.082 | D33: 0.073 | E33: 0.148 | F33: 0.104 | G33: 0.063 | H33: 0.08 | I33: 0.036 | J33: 0.034 | K33: 0.047
B34: Change from Previous Year | D34: =if(isnumber(C33)=true,if(isnumber(D33)=true,D33-C33,"N/A"),"N/A") -> -0.009 | E34: =if(isnumber(D33)=true,if(isnumber(E33)=true,E33-D33,"N/A"),"N/A") -> 0.075 | F34: =if(isnumber(E33)=true,if(isnumber(F33)=true,F33-E33,"N/A"),"N/A") -> -0.044 | G34: =if(isnumber(F33)=true,if(isnumber(G33)=true,G33-F33,"N/A"),"N/A") -> -0.041 | H34: =if(isnumber(G33)=true,if(isnumber(H33)=true,H33-G33,"N/A"),"N/A") -> 0.017 | I34: =if(isnumber(H33)=true,if(isnumber(I33)=true,I33-H33,"N/A"),"N/A") -> -0.044 | J34: =if(isnumber(I33)=true,if(isnumber(J33)=true,J33-I33,"N/A"),"N/A") -> -0.002 | K34: =K33-J33 -> 0.013
B35: Gap from BSD Average | C35: =if(isnumber(C$31)=true,if(isnumber(C33)=true,C33-C$31,"N/A"),"N/A") -> -0.488 | D35: =if(isnumber(D$31)=true,if(isnumber(D33)=true,D33-D$31,"N/A"),"N/A") -> -0.508 | E35: =if(isnumber(E$31)=true,if(isnumber(E33)=true,E33-E$31,"N/A"),"N/A") -> -0.412 | F35: =if(isnumber(F$31)=true,if(isnumber(F33)=true,F33-F$31,"N/A"),"N/A") -> -0.458 | G35: =if(isnumber(G$31)=true,if(isnumber(G33)=true,G33-G$31,"N/A"),"N/A") -> -0.496 | H35: =if(isnumber(H$31)=true,if(isnumber(H33)=true,H33-H$31,"N/A"),"N/A") -> -0.352 | I35: =if(isnumber(I$31)=true,if(isnumber(I33)=true,I33-I$31,"N/A"),"N/A") -> -0.379 | J35: =if(isnumber(J$31)=true,if(isnumber(J33)=true,J33-J$31,"N/A"),"N/A") -> -0.396 | K35: =if(isnumber(K$31)=true,if(isnumber(K33)=true,K33-K$31,"N/A"),"N/A") -> -0.39
A36: Indian Education | B36: BSD
B37: Change from Previous Year | C37: Data withheld to protect privacy
B38: Gap from BSD Average
A39: Migrant Students | B39: BSD | C39: 0.182 | D39: 0.242 | E39: 0.257 | F39: 0.222 | G39: 0.143 | H39: 0.061 | I39: 0.192 | J39: 0.143 | K39: 0.033
B40: Change from Previous Year | D40: =if(isnumber(C39)=true,if(isnumber(D39)=true,D39-C39,"N/A"),"N/A") -> 0.06 | E40: =if(isnumber(D39)=true,if(isnumber(E39)=true,E39-D39,"N/A"),"N/A") -> 0.015 | F40: =if(isnumber(E39)=true,if(isnumber(F39)=true,F39-E39,"N/A"),"N/A") -> -0.035 | G40: =if(isnumber(F39)=true,if(isnumber(G39)=true,G39-F39,"N/A"),"N/A") -> -0.079 | H40: =if(isnumber(G39)=true,if(isnumber(H39)=true,H39-G39,"N/A"),"N/A") -> -0.082 | I40: =if(isnumber(H39)=true,if(isnumber(I39)=true,I39-H39,"N/A"),"N/A") -> 0.131 | J40: =if(isnumber(I39)=true,if(isnumber(J39)=true,J39-I39,"N/A"),"N/A") -> -0.049 | K40: =K39-J39 -> -0.11
B41: Gap from BSD Average | C41: =if(isnumber(C$31)=true,if(isnumber(C39)=true,C39-C$31,"N/A"),"N/A") -> -0.388 | D41: =if(isnumber(D$31)=true,if(isnumber(D39)=true,D39-D$31,"N/A"),"N/A") -> -0.339 | E41: =if(isnumber(E$31)=true,if(isnumber(E39)=true,E39-E$31,"N/A"),"N/A") -> -0.303 | F41: =if(isnumber(F$31)=true,if(isnumber(F39)=true,F39-F$31,"N/A"),"N/A") -> -0.34 | G41: =if(isnumber(G$31)=true,if(isnumber(G39)=true,G39-G$31,"N/A"),"N/A") -> -0.416 | H41: =if(isnumber(H$31)=true,if(isnumber(H39)=true,H39-H$31,"N/A"),"N/A") -> -0.371 | I41: =if(isnumber(I$31)=true,if(isnumber(I39)=true,I39-I$31,"N/A"),"N/A") -> -0.223 | J41: =if(isnumber(J$31)=true,if(isnumber(J39)=true,J39-J$31,"N/A"),"N/A") -> -0.287 | K41: =if(isnumber(K$31)=true,if(isnumber(K39)=true,K39-K$31,"N/A"),"N/A") -> -0.404
A42: Students experiencing homelessness | B42: BSD | G42: 0.191 | H42: 0.073 | I42: 0.097 | J42: 0.037 | K42: 0.045
B43: Change from Previous Year | C43: Data not available | G43: =if(isnumber(F42)=true,if(isnumber(G42)=true,G42-F42,"N/A"),"N/A") -> N/A | H43: =if(isnumber(G42)=true,if(isnumber(H42)=true,H42-G42,"N/A"),"N/A") -> -0.118 | I43: =if(isnumber(H42)=true,if(isnumber(I42)=true,I42-H42,"N/A"),"N/A") -> 0.024 | J43: =if(isnumber(I42)=true,if(isnumber(J42)=true,J42-I42,"N/A"),"N/A") -> -0.06 | K43: =K42-J42 -> 0.008
B44: Gap from BSD Average | G44: =if(isnumber(G$31)=true,if(isnumber(G42)=true,G42-G$31,"N/A"),"N/A") -> -0.368 | H44: =if(isnumber(H$31)=true,if(isnumber(H42)=true,H42-H$31,"N/A"),"N/A") -> -0.359 | I44: =if(isnumber(I$31)=true,if(isnumber(I42)=true,I42-I$31,"N/A"),"N/A") -> -0.318 | J44: =if(isnumber(J$31)=true,if(isnumber(J42)=true,J42-J$31,"N/A"),"N/A") -> -0.393 | K44: =if(isnumber(K$31)=true,if(isnumber(K42)=true,K42-K$31,"N/A"),"N/A") -> -0.392
A45: Students experiencing poverty | B45: BSD | J45: 0.116 | K45: 0.119
B46: Change from Previous Year | C46: Data not available | K46: =K45-J45 -> 0.003
B47: Gap from BSD Average | J47: =if(isnumber(J$31)=true,if(isnumber(J45)=true,J45-J$31,"N/A"),"N/A") -> -0.314 | K47: =if(isnumber(K$31)=true,if(isnumber(K45)=true,K45-K$31,"N/A"),"N/A") -> -0.318
A48: Students with disabilities | B48: BSD | C48: 0.141 | D48: 0.157 | E48: 0.116 | F48: 0.151 | G48: 0.162 | H48: 0.107 | I48: 0.129 | J48: 0.178 | K48: 0.131
B49: Change from Previous Year | D49: =if(isnumber(C48)=true,if(isnumber(D48)=true,D48-C48,"N/A"),"N/A") -> 0.016 | E49: =if(isnumber(D48)=true,if(isnumber(E48)=true,E48-D48,"N/A"),"N/A") -> -0.041 | F49: =if(isnumber(E48)=true,if(isnumber(F48)=true,F48-E48,"N/A"),"N/A") -> 0.035 | G49: =if(isnumber(F48)=true,if(isnumber(G48)=true,G48-F48,"N/A"),"N/A") -> 0.011 | H49: =if(isnumber(G48)=true,if(isnumber(H48)=true,H48-G48,"N/A"),"N/A") -> -0.055 | I49: =if(isnumber(H48)=true,if(isnumber(I48)=true,I48-H48,"N/A"),"N/A") -> 0.022 | J49: =if(isnumber(I48)=true,if(isnumber(J48)=true,J48-I48,"N/A"),"N/A") -> 0.049 | K49: =K48-J48 -> -0.047
B50: Gap from BSD Average | C50: =if(isnumber(C$31)=true,if(isnumber(C48)=true,C48-C$31,"N/A"),"N/A") -> -0.429 | D50: =if(isnumber(D$31)=true,if(isnumber(D48)=true,D48-D$31,"N/A"),"N/A") -> -0.424 | E50: =if(isnumber(E$31)=true,if(isnumber(E48)=true,E48-E$31,"N/A"),"N/A") -> -0.444 | F50: =if(isnumber(F$31)=true,if(isnumber(F48)=true,F48-F$31,"N/A"),"N/A") -> -0.411 | G50: =if(isnumber(G$31)=true,if(isnumber(G48)=true,G48-G$31,"N/A"),"N/A") -> -0.397 | H50: =if(isnumber(H$31)=true,if(isnumber(H48)=true,H48-H$31,"N/A"),"N/A") -> -0.325 | I50: =if(isnumber(I$31)=true,if(isnumber(I48)=true,I48-I$31,"N/A"),"N/A") -> -0.286 | J50: =if(isnumber(J$31)=true,if(isnumber(J48)=true,J48-J$31,"N/A"),"N/A") -> -0.252 | K50: =if(isnumber(K$31)=true,if(isnumber(K48)=true,K48-K$31,"N/A"),"N/A") -> -0.306
A51: Talented and Gifted | B51: BSD | C51: 0.989 | D51: 0.975 | E51: 0.979 | F51: 0.984 | G51: 0.977 | H51: 0.921 | I51: 0.896 | J51: 0.911 | K51: 0.911
B52: Change from Previous Year | D52: =if(isnumber(C51)=true,if(isnumber(D51)=true,D51-C51,"N/A"),"N/A") -> -0.014 | E52: =if(isnumber(D51)=true,if(isnumber(E51)=true,E51-D51,"N/A"),"N/A") -> 0.004 | F52: =if(isnumber(E51)=true,if(isnumber(F51)=true,F51-E51,"N/A"),"N/A") -> 0.005 | G52: =if(isnumber(F51)=true,if(isnumber(G51)=true,G51-F51,"N/A"),"N/A") -> -0.007 | H52: =if(isnumber(G51)=true,if(isnumber(H51)=true,H51-G51,"N/A"),"N/A") -> -0.056 | I52: =if(isnumber(H51)=true,if(isnumber(I51)=true,I51-H51,"N/A"),"N/A") -> -0.025 | J52: =if(isnumber(I51)=true,if(isnumber(J51)=true,J51-I51,"N/A"),"N/A") -> 0.015 | K52: =K51-J51 -> 0
B53: Gap from BSD Average | C53: =if(isnumber(C$31)=true,if(isnumber(C51)=true,C51-C$31,"N/A"),"N/A") -> 0.419 | D53: =if(isnumber(D$31)=true,if(isnumber(D51)=true,D51-D$31,"N/A"),"N/A") -> 0.394 | E53: =if(isnumber(E$31)=true,if(isnumber(E51)=true,E51-E$31,"N/A"),"N/A") -> 0.419 | F53: =if(isnumber(F$31)=true,if(isnumber(F51)=true,F51-F$31,"N/A"),"N/A") -> 0.422 | G53: =if(isnumber(G$31)=true,if(isnumber(G51)=true,G51-G$31,"N/A"),"N/A") -> 0.418 | H53: =if(isnumber(H$31)=true,if(isnumber(H51)=true,H51-H$31,"N/A"),"N/A") -> 0.489 | I53: =if(isnumber(I$31)=true,if(isnumber(I51)=true,I51-I$31,"N/A"),"N/A") -> 0.481 | J53: =if(isnumber(J$31)=true,if(isnumber(J51)=true,J51-J$31,"N/A"),"N/A") -> 0.481 | K53: =if(isnumber(K$31)=true,if(isnumber(K51)=true,K51-K$31,"N/A"),"N/A") -> 0.474
A54: *Prior to 2024-25, ODE counted students taking extended assessments as not proficient in these assessment reports. However, ODE received approval from the U.S. Department of Education to count as proficient those students who met the alternate standard on Extended Assessments.
A56: Gender
C57: =C30 -> 2014-15 | D57: =D30 -> 2015-16 | E57: =E30 -> 2016-17 | F57: =F30 -> 2017-18 | G57: =G30 -> 2018-19 | H57: =H30 -> 2021-22 | I57: =I30 -> 2022-23 | J57: =J30 -> 2023-24 | K57: =K30 -> 2024-25*
A58: Grade 7 BSD Average | B58: BSD | C58: =C31 -> 0.57 | D58: =D31 -> 0.581 | E58: =E31 -> 0.56 | F58: =F31 -> 0.562 | G58: =G31 -> 0.559 | H58: =H31 -> 0.432 | I58: =I31 -> 0.415 | J58: =J31 -> 0.43 | K58: =K31 -> 0.437
B59: Change from Previous Year | D59: =D58-C58 -> 0.011 | E59: =E58-D58 -> -0.021 | F59: =F58-E58 -> 0.002 | G59: =G58-F58 -> -0.003 | H59: =H58-G58 -> -0.127 | I59: =I58-H58 -> -0.017 | J59: =J58-I58 -> 0.015 | K59: =K58-J58 -> 0.007
A60: F | B60: BSD | C60: 0.575 | D60: 0.58 | E60: 0.573 | F60: 0.555 | G60: 0.568 | H60: 0.408 | I60: 0.385 | J60: 0.404 | K60: 0.427
B61: Change from Previous Year | D61: =if(isnumber(C60)=true,if(isnumber(D60)=true,D60-C60,"N/A"),"N/A") -> 0.005 | E61: =if(isnumber(D60)=true,if(isnumber(E60)=true,E60-D60,"N/A"),"N/A") -> -0.007 | F61: =if(isnumber(E60)=true,if(isnumber(F60)=true,F60-E60,"N/A"),"N/A") -> -0.018 | G61: =if(isnumber(F60)=true,if(isnumber(G60)=true,G60-F60,"N/A"),"N/A") -> 0.013 | H61: =if(isnumber(G60)=true,if(isnumber(H60)=true,H60-G60,"N/A"),"N/A") -> -0.16 | I61: =if(isnumber(H60)=true,if(isnumber(I60)=true,I60-H60,"N/A"),"N/A") -> -0.023 | J61: =if(isnumber(I60)=true,if(isnumber(J60)=true,J60-I60,"N/A"),"N/A") -> 0.019 | K61: =K60-J60 -> 0.023
B62: Gap from BSD Average | C62: =if(isnumber(C$58)=true,if(isnumber(C60)=true,C60-C$58,"N/A"),"N/A") -> 0.005 | D62: =if(isnumber(D$58)=true,if(isnumber(D60)=true,D60-D$58,"N/A"),"N/A") -> -0.001 | E62: =if(isnumber(E$58)=true,if(isnumber(E60)=true,E60-E$58,"N/A"),"N/A") -> 0.013 | F62: =if(isnumber(F$58)=true,if(isnumber(F60)=true,F60-F$58,"N/A"),"N/A") -> -0.007 | G62: =if(isnumber(G$58)=true,if(isnumber(G60)=true,G60-G$58,"N/A"),"N/A") -> 0.009 | H62: =if(isnumber(H$58)=true,if(isnumber(H60)=true,H60-H$58,"N/A"),"N/A") -> -0.024 | I62: =if(isnumber(I$58)=true,if(isnumber(I60)=true,I60-I$58,"N/A"),"N/A") -> -0.03 | J62: =if(isnumber(J$58)=true,if(isnumber(J60)=true,J60-J$58,"N/A"),"N/A") -> -0.026 | K62: =if(isnumber(K$58)=true,if(isnumber(K60)=true,K60-K$58,"N/A"),"N/A") -> -0.01
A63: M | B63: BSD | C63: 0.566 | D63: 0.582 | E63: 0.549 | F63: 0.568 | G63: 0.55 | H63: 0.452 | I63: 0.442 | J63: 0.453 | K63: 0.447
B64: Change from Previous Year | D64: =if(isnumber(C63)=true,if(isnumber(D63)=true,D63-C63,"N/A"),"N/A") -> 0.016 | E64: =if(isnumber(D63)=true,if(isnumber(E63)=true,E63-D63,"N/A"),"N/A") -> -0.033 | F64: =if(isnumber(E63)=true,if(isnumber(F63)=true,F63-E63,"N/A"),"N/A") -> 0.019 | G64: =if(isnumber(F63)=true,if(isnumber(G63)=true,G63-F63,"N/A"),"N/A") -> -0.018 | H64: =if(isnumber(G63)=true,if(isnumber(H63)=true,H63-G63,"N/A"),"N/A") -> -0.098 | I64: =if(isnumber(H63)=true,if(isnumber(I63)=true,I63-H63,"N/A"),"N/A") -> -0.01 | J64: =if(isnumber(I63)=true,if(isnumber(J63)=true,J63-I63,"N/A"),"N/A") -> 0.011 | K64: =K63-J63 -> -0.006
B65: Gap from BSD Average | C65: =if(isnumber(C$58)=true,if(isnumber(C63)=true,C63-C$58,"N/A"),"N/A") -> -0.004 | D65: =if(isnumber(D$58)=true,if(isnumber(D63)=true,D63-D$58,"N/A"),"N/A") -> 0.001 | E65: =if(isnumber(E$58)=true,if(isnumber(E63)=true,E63-E$58,"N/A"),"N/A") -> -0.011 | F65: =if(isnumber(F$58)=true,if(isnumber(F63)=true,F63-F$58,"N/A"),"N/A") -> 0.006 | G65: =if(isnumber(G$58)=true,if(isnumber(G63)=true,G63-G$58,"N/A"),"N/A") -> -0.009 | H65: =if(isnumber(H$58)=true,if(isnumber(H63)=true,H63-H$58,"N/A"),"N/A") -> 0.02 | I65: =if(isnumber(I$58)=true,if(isnumber(I63)=true,I63-I$58,"N/A"),"N/A") -> 0.027 | J65: =if(isnumber(J$58)=true,if(isnumber(J63)=true,J63-J$58,"N/A"),"N/A") -> 0.023 | K65: =if(isnumber(K$58)=true,if(isnumber(K63)=true,K63-K$58,"N/A"),"N/A") -> 0.01
A66: X | B66: BSD
B67: Change from Previous Year | C67: Data withheld to protect privacy
B68: Gap from BSD Average
A69: *Prior to 2024-25, ODE counted students taking extended assessments as not proficient in these assessment reports. However, ODE received approval from the U.S. Department of Education to count as proficient those students who met the alternate standard on Extended Assessments.

Sheet Grade 8 with Demographics
A1: OSAS Grade 8 Math Proficiency
A2: Race/Ethnicity
C3: ='Overall Math Proficiency'!C3 -> 2014-15 | D3: ='Overall Math Proficiency'!D3 -> 2015-16 | E3: ='Overall Math Proficiency'!E3 -> 2016-17 | F3: ='Overall Math Proficiency'!F3 -> 2017-18 | G3: ='Overall Math Proficiency'!G3 -> 2018-19 | H3: ='Overall Math Proficiency'!H3 -> 2021-22 | I3: ='Overall Math Proficiency'!I3 -> 2022-23 | J3: ='Overall Math Proficiency'!J3 -> 2023-24 | K3: ='Overall Math Proficiency'!K3 -> 2024-25*
A4: Grade 8 BSD Average | B4: BSD | C4: ='Overall Math Proficiency'!C22 -> 0.587 | D4: ='Overall Math Proficiency'!D22 -> 0.553 | E4: ='Overall Math Proficiency'!E22 -> 0.53 | F4: ='Overall Math Proficiency'!F22 -> 0.534 | G4: ='Overall Math Proficiency'!G22 -> 0.529 | H4: ='Overall Math Proficiency'!H22 -> 0.388 | I4: ='Overall Math Proficiency'!I22 -> 0.369 | J4: ='Overall Math Proficiency'!J22 -> 0.355 | K4: ='Overall Math Proficiency'!K22 -> 0.394
B5: Change from Previous Year | D5: =D4-C4 -> -0.034 | E5: =E4-D4 -> -0.023 | F5: =F4-E4 -> 0.004 | G5: =G4-F4 -> -0.005 | H5: =H4-G4 -> -0.141 | I5: =I4-H4 -> -0.019 | J5: =J4-I4 -> -0.014 | K5: =K4-J4 -> 0.039
A6: Asian | B6: BSD | C6: 0.864 | D6: 0.824 | E6: 0.818 | F6: 0.841 | G6: 0.82 | H6: 0.747 | I6: 0.734 | J6: 0.7 | K6: 0.736
B7: Change from Previous Year | D7: =if(isnumber(C6)=true,if(isnumber(D6)=true,D6-C6,"N/A"),"N/A") -> -0.04 | E7: =if(isnumber(D6)=true,if(isnumber(E6)=true,E6-D6,"N/A"),"N/A") -> -0.006 | F7: =if(isnumber(E6)=true,if(isnumber(F6)=true,F6-E6,"N/A"),"N/A") -> 0.023 | G7: =if(isnumber(F6)=true,if(isnumber(G6)=true,G6-F6,"N/A"),"N/A") -> -0.021 | H7: =if(isnumber(G6)=true,if(isnumber(H6)=true,H6-G6,"N/A"),"N/A") -> -0.073 | I7: =if(isnumber(H6)=true,if(isnumber(I6)=true,I6-H6,"N/A"),"N/A") -> -0.013 | J7: =if(isnumber(I6)=true,if(isnumber(J6)=true,J6-I6,"N/A"),"N/A") -> -0.034 | K7: =K6-J6 -> 0.036
B8: Gap from BSD Average | C8: =if(isnumber(C$4)=true,if(isnumber(C6)=true,C6-C$4,"N/A"),"N/A") -> 0.277 | D8: =if(isnumber(D$4)=true,if(isnumber(D6)=true,D6-D$4,"N/A"),"N/A") -> 0.271 | E8: =if(isnumber(E$4)=true,if(isnumber(E6)=true,E6-E$4,"N/A"),"N/A") -> 0.288 | F8: =if(isnumber(F$4)=true,if(isnumber(F6)=true,F6-F$4,"N/A"),"N/A") -> 0.307 | G8: =if(isnumber(G$4)=true,if(isnumber(G6)=true,G6-G$4,"N/A"),"N/A") -> 0.291 | H8: =if(isnumber(H$4)=true,if(isnumber(H6)=true,H6-H$4,"N/A"),"N/A") -> 0.359 | I8: =if(isnumber(I$4)=true,if(isnumber(I6)=true,I6-I$4,"N/A"),"N/A") -> 0.365 | J8: =if(isnumber(J$4)=true,if(isnumber(J6)=true,J6-J$4,"N/A"),"N/A") -> 0.345 | K8: =if(isnumber(K$4)=true,if(isnumber(K6)=true,K6-K$4,"N/A"),"N/A") -> 0.342
A9: Black/African American | B9: BSD | C9: 0.404 | D9: 0.26 | E9: 0.308 | F9: 0.2 | G9: 0.298 | H9: 0.15 | I9: 0.156 | J9: 0.153 | K9: 0.229
B10: Change from Previous Year | D10: =if(isnumber(C9)=true,if(isnumber(D9)=true,D9-C9,"N/A"),"N/A") -> -0.144 | E10: =if(isnumber(D9)=true,if(isnumber(E9)=true,E9-D9,"N/A"),"N/A") -> 0.048 | F10: =if(isnumber(E9)=true,if(isnumber(F9)=true,F9-E9,"N/A"),"N/A") -> -0.108 | G10: =if(isnumber(F9)=true,if(isnumber(G9)=true,G9-F9,"N/A"),"N/A") -> 0.098 | H10: =if(isnumber(G9)=true,if(isnumber(H9)=true,H9-G9,"N/A"),"N/A") -> -0.148 | I10: =if(isnumber(H9)=true,if(isnumber(I9)=true,I9-H9,"N/A"),"N/A") -> 0.006 | J10: =if(isnumber(I9)=true,if(isnumber(J9)=true,J9-I9,"N/A"),"N/A") -> -0.003 | K10: =K9-J9 -> 0.076
B11: Gap from BSD Average | C11: =if(isnumber(C$4)=true,if(isnumber(C9)=true,C9-C$4,"N/A"),"N/A") -> -0.183 | D11: =if(isnumber(D$4)=true,if(isnumber(D9)=true,D9-D$4,"N/A"),"N/A") -> -0.293 | E11: =if(isnumber(E$4)=true,if(isnumber(E9)=true,E9-E$4,"N/A"),"N/A") -> -0.222 | F11: =if(isnumber(F$4)=true,if(isnumber(F9)=true,F9-F$4,"N/A"),"N/A") -> -0.334 | G11: =if(isnumber(G$4)=true,if(isnumber(G9)=true,G9-G$4,"N/A"),"N/A") -> -0.231 | H11: =if(isnumber(H$4)=true,if(isnumber(H9)=true,H9-H$4,"N/A"),"N/A") -> -0.238 | I11: =if(isnumber(I$4)=true,if(isnumber(I9)=true,I9-I$4,"N/A"),"N/A") -> -0.213 | J11: =if(isnumber(J$4)=true,if(isnumber(J9)=true,J9-J$4,"N/A"),"N/A") -> -0.202 | K11: =if(isnumber(K$4)=true,if(isnumber(K9)=true,K9-K$4,"N/A"),"N/A") -> -0.165
A12: Hispanic/Latino | B12: BSD | C12: 0.317 | D12: 0.299 | E12: 0.246 | F12: 0.282 | G12: 0.278 | H12: 0.153 | I12: 0.116 | J12: 0.108 | K12: 0.128
B13: Change from Previous Year | D13: =if(isnumber(C12)=true,if(isnumber(D12)=true,D12-C12,"N/A"),"N/A") -> -0.018 | E13: =if(isnumber(D12)=true,if(isnumber(E12)=true,E12-D12,"N/A"),"N/A") -> -0.053 | F13: =if(isnumber(E12)=true,if(isnumber(F12)=true,F12-E12,"N/A"),"N/A") -> 0.036 | G13: =if(isnumber(F12)=true,if(isnumber(G12)=true,G12-F12,"N/A"),"N/A") -> -0.004 | H13: =if(isnumber(G12)=true,if(isnumber(H12)=true,H12-G12,"N/A"),"N/A") -> -0.125 | I13: =if(isnumber(H12)=true,if(isnumber(I12)=true,I12-H12,"N/A"),"N/A") -> -0.037 | J13: =if(isnumber(I12)=true,if(isnumber(J12)=true,J12-I12,"N/A"),"N/A") -> -0.008 | K13: =K12-J12 -> 0.02
B14: Gap from BSD Average | C14: =if(isnumber(C$4)=true,if(isnumber(C12)=true,C12-C$4,"N/A"),"N/A") -> -0.27 | D14: =if(isnumber(D$4)=true,if(isnumber(D12)=true,D12-D$4,"N/A"),"N/A") -> -0.254 | E14: =if(isnumber(E$4)=true,if(isnumber(E12)=true,E12-E$4,"N/A"),"N/A") -> -0.284 | F14: =if(isnumber(F$4)=true,if(isnumber(F12)=true,F12-F$4,"N/A"),"N/A") -> -0.252 | G14: =if(isnumber(G$4)=true,if(isnumber(G12)=true,G12-G$4,"N/A"),"N/A") -> -0.251 | H14: =if(isnumber(H$4)=true,if(isnumber(H12)=true,H12-H$4,"N/A"),"N/A") -> -0.235 | I14: =if(isnumber(I$4)=true,if(isnumber(I12)=true,I12-I$4,"N/A"),"N/A") -> -0.253 | J14: =if(isnumber(J$4)=true,if(isnumber(J12)=true,J12-J$4,"N/A"),"N/A") -> -0.247 | K14: =if(isnumber(K$4)=true,if(isnumber(K12)=true,K12-K$4,"N/A"),"N/A") -> -0.266
A15: Multiracial | B15: BSD | C15: 0.704 | D15: 0.59 | E15: 0.638 | F15: 0.534 | G15: 0.536 | H15: 0.496 | I15: 0.373 | J15: 0.388 | K15: 0.43
B16: Change from Previous Year | D16: =if(isnumber(C15)=true,if(isnumber(D15)=true,D15-C15,"N/A"),"N/A") -> -0.114 | E16: =if(isnumber(D15)=true,if(isnumber(E15)=true,E15-D15,"N/A"),"N/A") -> 0.048 | F16: =if(isnumber(E15)=true,if(isnumber(F15)=true,F15-E15,"N/A"),"N/A") -> -0.104 | G16: =if(isnumber(F15)=true,if(isnumber(G15)=true,G15-F15,"N/A"),"N/A") -> 0.002 | H16: =if(isnumber(G15)=true,if(isnumber(H15)=true,H15-G15,"N/A"),"N/A") -> -0.04 | I16: =if(isnumber(H15)=true,if(isnumber(I15)=true,I15-H15,"N/A"),"N/A") -> -0.123 | J16: =if(isnumber(I15)=true,if(isnumber(J15)=true,J15-I15,"N/A"),"N/A") -> 0.015 | K16: =K15-J15 -> 0.042
B17: Gap from BSD Average | C17: =if(isnumber(C$4)=true,if(isnumber(C15)=true,C15-C$4,"N/A"),"N/A") -> 0.117 | D17: =if(isnumber(D$4)=true,if(isnumber(D15)=true,D15-D$4,"N/A"),"N/A") -> 0.037 | E17: =if(isnumber(E$4)=true,if(isnumber(E15)=true,E15-E$4,"N/A"),"N/A") -> 0.108 | F17: =if(isnumber(F$4)=true,if(isnumber(F15)=true,F15-F$4,"N/A"),"N/A") -> 0 | G17: =if(isnumber(G$4)=true,if(isnumber(G15)=true,G15-G$4,"N/A"),"N/A") -> 0.007 | H17: =if(isnumber(H$4)=true,if(isnumber(H15)=true,H15-H$4,"N/A"),"N/A") -> 0.108 | I17: =if(isnumber(I$4)=true,if(isnumber(I15)=true,I15-I$4,"N/A"),"N/A") -> 0.004 | J17: =if(isnumber(J$4)=true,if(isnumber(J15)=true,J15-J$4,"N/A"),"N/A") -> 0.033 | K17: =if(isnumber(K$4)=true,if(isnumber(K15)=true,K15-K$4,"N/A"),"N/A") -> 0.036
A18: Native American/Alaska Native | B18: BSD | C18: 0.6 | D18: * | E18: 0.5 | F18: * | G18: * | H18: * | I18: 0.25 | J18: * | K18: *
B19: Change from Previous Year | D19: =if(isnumber(C18)=true,if(isnumber(D18)=true,D18-C18,"N/A"),"N/A") -> N/A | E19: =if(isnumber(D18)=true,if(isnumber(E18)=true,E18-D18,"N/A"),"N/A") -> N/A | F19: =if(isnumber(E18)=true,if(isnumber(F18)=true,F18-E18,"N/A"),"N/A") -> N/A | G19: =if(isnumber(F18)=true,if(isnumber(G18)=true,G18-F18,"N/A"),"N/A") -> N/A | H19: =if(isnumber(G18)=true,if(isnumber(H18)=true,H18-G18,"N/A"),"N/A") -> N/A | I19: =if(isnumber(H18)=true,if(isnumber(I18)=true,I18-H18,"N/A"),"N/A") -> N/A | J19: =if(isnumber(I18)=true,if(isnumber(J18)=true,J18-I18,"N/A"),"N/A") -> N/A | K19: =K18-J18 -> #VALUE!
B20: Gap from BSD Average | C20: =if(isnumber(C$4)=true,if(isnumber(C18)=true,C18-C$4,"N/A"),"N/A") -> 0.013 | D20: =if(isnumber(D$4)=true,if(isnumber(D18)=true,D18-D$4,"N/A"),"N/A") -> N/A | E20: =if(isnumber(E$4)=true,if(isnumber(E18)=true,E18-E$4,"N/A"),"N/A") -> -0.03 | F20: =if(isnumber(F$4)=true,if(isnumber(F18)=true,F18-F$4,"N/A"),"N/A") -> N/A | G20: =if(isnumber(G$4)=true,if(isnumber(G18)=true,G18-G$4,"N/A"),"N/A") -> N/A | H20: =if(isnumber(H$4)=true,if(isnumber(H18)=true,H18-H$4,"N/A"),"N/A") -> N/A | I20: =if(isnumber(I$4)=true,if(isnumber(I18)=true,I18-I$4,"N/A"),"N/A") -> -0.119 | J20: =if(isnumber(J$4)=true,if(isnumber(J18)=true,J18-J$4,"N/A"),"N/A") -> N/A | K20: =if(isnumber(K$4)=true,if(isnumber(K18)=true,K18-K$4,"N/A"),"N/A") -> N/A
A21: Native Hawaiian/Pacific Islander | B21: BSD | C21: 0.407 | D21: 0.241 | E21: 0.19 | F21: 0.452 | G21: 0.267 | H21: 0.13 | I21: 0.188 | J21: 0.077 | K21: 0.138
B22: Change from Previous Year | D22: =if(isnumber(C21)=true,if(isnumber(D21)=true,D21-C21,"N/A"),"N/A") -> -0.166 | E22: =if(isnumber(D21)=true,if(isnumber(E21)=true,E21-D21,"N/A"),"N/A") -> -0.051 | F22: =if(isnumber(E21)=true,if(isnumber(F21)=true,F21-E21,"N/A"),"N/A") -> 0.262 | G22: =if(isnumber(F21)=true,if(isnumber(G21)=true,G21-F21,"N/A"),"N/A") -> -0.185 | H22: =if(isnumber(G21)=true,if(isnumber(H21)=true,H21-G21,"N/A"),"N/A") -> -0.137 | I22: =if(isnumber(H21)=true,if(isnumber(I21)=true,I21-H21,"N/A"),"N/A") -> 0.058 | J22: =if(isnumber(I21)=true,if(isnumber(J21)=true,J21-I21,"N/A"),"N/A") -> -0.111 | K22: =K21-J21 -> 0.061
B23: Gap from BSD Average | C23: =if(isnumber(C$4)=true,if(isnumber(C21)=true,C21-C$4,"N/A"),"N/A") -> -0.18 | D23: =if(isnumber(D$4)=true,if(isnumber(D21)=true,D21-D$4,"N/A"),"N/A") -> -0.312 | E23: =if(isnumber(E$4)=true,if(isnumber(E21)=true,E21-E$4,"N/A"),"N/A") -> -0.34 | F23: =if(isnumber(F$4)=true,if(isnumber(F21)=true,F21-F$4,"N/A"),"N/A") -> -0.082 | G23: =if(isnumber(G$4)=true,if(isnumber(G21)=true,G21-G$4,"N/A"),"N/A") -> -0.262 | H23: =if(isnumber(H$4)=true,if(isnumber(H21)=true,H21-H$4,"N/A"),"N/A") -> -0.258 | I23: =if(isnumber(I$4)=true,if(isnumber(I21)=true,I21-I$4,"N/A"),"N/A") -> -0.181 | J23: =if(isnumber(J$4)=true,if(isnumber(J21)=true,J21-J$4,"N/A"),"N/A") -> -0.278 | K23: =if(isnumber(K$4)=true,if(isnumber(K21)=true,K21-K$4,"N/A"),"N/A") -> -0.256
A24: White | B24: BSD | C24: 0.632 | D24: 0.62 | E24: 0.588 | F24: 0.586 | G24: 0.586 | H24: 0.384 | I24: 0.376 | J24: 0.367 | K24: 0.434
B25: Change from Previous Year | D25: =if(isnumber(C24)=true,if(isnumber(D24)=true,D24-C24,"N/A"),"N/A") -> -0.012 | E25: =if(isnumber(D24)=true,if(isnumber(E24)=true,E24-D24,"N/A"),"N/A") -> -0.032 | F25: =if(isnumber(E24)=true,if(isnumber(F24)=true,F24-E24,"N/A"),"N/A") -> -0.002 | G25: =if(isnumber(F24)=true,if(isnumber(G24)=true,G24-F24,"N/A"),"N/A") -> 0 | H25: =if(isnumber(G24)=true,if(isnumber(H24)=true,H24-G24,"N/A"),"N/A") -> -0.202 | I25: =if(isnumber(H24)=true,if(isnumber(I24)=true,I24-H24,"N/A"),"N/A") -> -0.008 | J25: =if(isnumber(I24)=true,if(isnumber(J24)=true,J24-I24,"N/A"),"N/A") -> -0.009 | K25: =K24-J24 -> 0.067
B26: Gap from BSD Average | C26: =if(isnumber(C$4)=true,if(isnumber(C24)=true,C24-C$4,"N/A"),"N/A") -> 0.045 | D26: =if(isnumber(D$4)=true,if(isnumber(D24)=true,D24-D$4,"N/A"),"N/A") -> 0.067 | E26: =if(isnumber(E$4)=true,if(isnumber(E24)=true,E24-E$4,"N/A"),"N/A") -> 0.058 | F26: =if(isnumber(F$4)=true,if(isnumber(F24)=true,F24-F$4,"N/A"),"N/A") -> 0.052 | G26: =if(isnumber(G$4)=true,if(isnumber(G24)=true,G24-G$4,"N/A"),"N/A") -> 0.057 | H26: =if(isnumber(H$4)=true,if(isnumber(H24)=true,H24-H$4,"N/A"),"N/A") -> -0.004 | I26: =if(isnumber(I$4)=true,if(isnumber(I24)=true,I24-I$4,"N/A"),"N/A") -> 0.007 | J26: =if(isnumber(J$4)=true,if(isnumber(J24)=true,J24-J$4,"N/A"),"N/A") -> 0.012 | K26: =if(isnumber(K$4)=true,if(isnumber(K24)=true,K24-K$4,"N/A"),"N/A") -> 0.04
A27: *Prior to 2024-25, ODE counted students taking extended assessments as not proficient in these assessment reports. However, ODE received approval from the U.S. Department of Education to count as proficient those students who met the alternate standard on Extended Assessments.
A29: Student Group
C30: =C3 -> 2014-15 | D30: =D3 -> 2015-16 | E30: =E3 -> 2016-17 | F30: =F3 -> 2017-18 | G30: =G3 -> 2018-19 | H30: =H3 -> 2021-22 | I30: =I3 -> 2022-23 | J30: =J3 -> 2023-24 | K30: =K3 -> 2024-25*
A31: Grade 8 BSD Average | B31: BSD | C31: =C4 -> 0.587 | D31: =D4 -> 0.553 | E31: =E4 -> 0.53 | F31: =F4 -> 0.534 | G31: =G4 -> 0.529 | H31: =H4 -> 0.388 | I31: =I4 -> 0.369 | J31: =J4 -> 0.355 | K31: =K4 -> 0.394
B32: Change from Previous Year | D32: =D31-C31 -> -0.034 | E32: =E31-D31 -> -0.023 | F32: =F31-E31 -> 0.004 | G32: =G31-F31 -> -0.005 | H32: =H31-G31 -> -0.141 | I32: =I31-H31 -> -0.019 | J32: =J31-I31 -> -0.014 | K32: =K31-J31 -> 0.039
A33: English Learners | B33: BSD | C33: 0.116 | D33: 0.085 | E33: 0.09 | F33: 0.103 | G33: 0.095 | H33: 0.07 | I33: 0.061 | J33: 0.024 | K33: 0.042
B34: Change from Previous Year | D34: =if(isnumber(C33)=true,if(isnumber(D33)=true,D33-C33,"N/A"),"N/A") -> -0.031 | E34: =if(isnumber(D33)=true,if(isnumber(E33)=true,E33-D33,"N/A"),"N/A") -> 0.005 | F34: =if(isnumber(E33)=true,if(isnumber(F33)=true,F33-E33,"N/A"),"N/A") -> 0.013 | G34: =if(isnumber(F33)=true,if(isnumber(G33)=true,G33-F33,"N/A"),"N/A") -> -0.008 | H34: =if(isnumber(G33)=true,if(isnumber(H33)=true,H33-G33,"N/A"),"N/A") -> -0.025 | I34: =if(isnumber(H33)=true,if(isnumber(I33)=true,I33-H33,"N/A"),"N/A") -> -0.009 | J34: =if(isnumber(I33)=true,if(isnumber(J33)=true,J33-I33,"N/A"),"N/A") -> -0.037 | K34: =K33-J33 -> 0.018
B35: Gap from BSD Average | C35: =if(isnumber(C$31)=true,if(isnumber(C33)=true,C33-C$31,"N/A"),"N/A") -> -0.471 | D35: =if(isnumber(D$31)=true,if(isnumber(D33)=true,D33-D$31,"N/A"),"N/A") -> -0.468 | E35: =if(isnumber(E$31)=true,if(isnumber(E33)=true,E33-E$31,"N/A"),"N/A") -> -0.44 | F35: =if(isnumber(F$31)=true,if(isnumber(F33)=true,F33-F$31,"N/A"),"N/A") -> -0.431 | G35: =if(isnumber(G$31)=true,if(isnumber(G33)=true,G33-G$31,"N/A"),"N/A") -> -0.434 | H35: =if(isnumber(H$31)=true,if(isnumber(H33)=true,H33-H$31,"N/A"),"N/A") -> -0.318 | I35: =if(isnumber(I$31)=true,if(isnumber(I33)=true,I33-I$31,"N/A"),"N/A") -> -0.308 | J35: =if(isnumber(J$31)=true,if(isnumber(J33)=true,J33-J$31,"N/A"),"N/A") -> -0.331 | K35: =if(isnumber(K$31)=true,if(isnumber(K33)=true,K33-K$31,"N/A"),"N/A") -> -0.352
A36: Indian Education | B36: BSD | C36: 0.588 | D36: 0.25 | E36: * | F36: 0.462 | G36: * | H36: 0.231 | I36: * | J36: 0.2 | K36: *
B37: Change from Previous Year | D37: =if(isnumber(C36)=true,if(isnumber(D36)=true,D36-C36,"N/A"),"N/A") -> -0.338 | E37: =if(isnumber(D36)=true,if(isnumber(E36)=true,E36-D36,"N/A"),"N/A") -> N/A | F37: =if(isnumber(E36)=true,if(isnumber(F36)=true,F36-E36,"N/A"),"N/A") -> N/A | G37: =if(isnumber(F36)=true,if(isnumber(G36)=true,G36-F36,"N/A"),"N/A") -> N/A | H37: =if(isnumber(G36)=true,if(isnumber(H36)=true,H36-G36,"N/A"),"N/A") -> N/A | I37: =if(isnumber(H36)=true,if(isnumber(I36)=true,I36-H36,"N/A"),"N/A") -> N/A | J37: =if(isnumber(I36)=true,if(isnumber(J36)=true,J36-I36,"N/A"),"N/A") -> N/A | K37: =K36-J36 -> #VALUE!
B38: Gap from BSD Average | C38: =if(isnumber(C$31)=true,if(isnumber(C36)=true,C36-C$31,"N/A"),"N/A") -> 0.001 | D38: =if(isnumber(D$31)=true,if(isnumber(D36)=true,D36-D$31,"N/A"),"N/A") -> -0.303 | E38: =if(isnumber(E$31)=true,if(isnumber(E36)=true,E36-E$31,"N/A"),"N/A") -> N/A | F38: =if(isnumber(F$31)=true,if(isnumber(F36)=true,F36-F$31,"N/A"),"N/A") -> -0.072 | G38: =if(isnumber(G$31)=true,if(isnumber(G36)=true,G36-G$31,"N/A"),"N/A") -> N/A | H38: =if(isnumber(H$31)=true,if(isnumber(H36)=true,H36-H$31,"N/A"),"N/A") -> -0.157 | I38: =if(isnumber(I$31)=true,if(isnumber(I36)=true,I36-I$31,"N/A"),"N/A") -> N/A | J38: =if(isnumber(J$31)=true,if(isnumber(J36)=true,J36-J$31,"N/A"),"N/A") -> -0.155 | K38: =if(isnumber(K$31)=true,if(isnumber(K36)=true,K36-K$31,"N/A"),"N/A") -> N/A
A39: Migrant Students | B39: BSD | C39: 0.219 | D39: 0.154 | E39: 0.278 | F39: 0.27 | G39: 0.206 | H39: 0.114 | I39: 0.08 | J39: 0.152 | K39: 0.083
B40: Change from Previous Year | D40: =if(isnumber(C39)=true,if(isnumber(D39)=true,D39-C39,"N/A"),"N/A") -> -0.065 | E40: =if(isnumber(D39)=true,if(isnumber(E39)=true,E39-D39,"N/A"),"N/A") -> 0.124 | F40: =if(isnumber(E39)=true,if(isnumber(F39)=true,F39-E39,"N/A"),"N/A") -> -0.008 | G40: =if(isnumber(F39)=true,if(isnumber(G39)=true,G39-F39,"N/A"),"N/A") -> -0.064 | H40: =if(isnumber(G39)=true,if(isnumber(H39)=true,H39-G39,"N/A"),"N/A") -> -0.092 | I40: =if(isnumber(H39)=true,if(isnumber(I39)=true,I39-H39,"N/A"),"N/A") -> -0.034 | J40: =if(isnumber(I39)=true,if(isnumber(J39)=true,J39-I39,"N/A"),"N/A") -> 0.072 | K40: =K39-J39 -> -0.069
B41: Gap from BSD Average | C41: =if(isnumber(C$31)=true,if(isnumber(C39)=true,C39-C$31,"N/A"),"N/A") -> -0.368 | D41: =if(isnumber(D$31)=true,if(isnumber(D39)=true,D39-D$31,"N/A"),"N/A") -> -0.399 | E41: =if(isnumber(E$31)=true,if(isnumber(E39)=true,E39-E$31,"N/A"),"N/A") -> -0.252 | F41: =if(isnumber(F$31)=true,if(isnumber(F39)=true,F39-F$31,"N/A"),"N/A") -> -0.264 | G41: =if(isnumber(G$31)=true,if(isnumber(G39)=true,G39-G$31,"N/A"),"N/A") -> -0.323 | H41: =if(isnumber(H$31)=true,if(isnumber(H39)=true,H39-H$31,"N/A"),"N/A") -> -0.274 | I41: =if(isnumber(I$31)=true,if(isnumber(I39)=true,I39-I$31,"N/A"),"N/A") -> -0.289 | J41: =if(isnumber(J$31)=true,if(isnumber(J39)=true,J39-J$31,"N/A"),"N/A") -> -0.203 | K41: =if(isnumber(K$31)=true,if(isnumber(K39)=true,K39-K$31,"N/A"),"N/A") -> -0.311
A42: Students experiencing homelessness | B42: BSD | G42: 0.189 | H42: 0 | I42: 0.016 | J42: 0.04 | K42: 0.068
B43: Change from Previous Year | C43: Data not available | G43: =if(isnumber(F42)=true,if(isnumber(G42)=true,G42-F42,"N/A"),"N/A") -> N/A | H43: =if(isnumber(G42)=true,if(isnumber(H42)=true,H42-G42,"N/A"),"N/A") -> -0.189 | I43: =if(isnumber(H42)=true,if(isnumber(I42)=true,I42-H42,"N/A"),"N/A") -> 0.016 | J43: =if(isnumber(I42)=true,if(isnumber(J42)=true,J42-I42,"N/A"),"N/A") -> 0.024 | K43: =K42-J42 -> 0.028
B44: Gap from BSD Average | G44: =if(isnumber(G$31)=true,if(isnumber(G42)=true,G42-G$31,"N/A"),"N/A") -> -0.34 | H44: =if(isnumber(H$31)=true,if(isnumber(H42)=true,H42-H$31,"N/A"),"N/A") -> -0.388 | I44: =if(isnumber(I$31)=true,if(isnumber(I42)=true,I42-I$31,"N/A"),"N/A") -> -0.353 | J44: =if(isnumber(J$31)=true,if(isnumber(J42)=true,J42-J$31,"N/A"),"N/A") -> -0.315 | K44: =if(isnumber(K$31)=true,if(isnumber(K42)=true,K42-K$31,"N/A"),"N/A") -> -0.326
A45: Students experiencing poverty | B45: BSD | J45: 0.084 | K45: 0.123
B46: Change from Previous Year | C46: Data not available | K46: =K45-J45 -> 0.039
B47: Gap from BSD Average | J47: =if(isnumber(J$31)=true,if(isnumber(J45)=true,J45-J$31,"N/A"),"N/A") -> -0.271 | K47: =if(isnumber(K$31)=true,if(isnumber(K45)=true,K45-K$31,"N/A"),"N/A") -> -0.271
A48: Students with disabilities | B48: BSD | C48: 0.157 | D48: 0.105 | E48: 0.125 | F48: 0.101 | G48: 0.127 | H48: 0.101 | I48: 0.072 | J48: 0.062 | K48: 0.142
B49: Change from Previous Year | D49: =if(isnumber(C48)=true,if(isnumber(D48)=true,D48-C48,"N/A"),"N/A") -> -0.052 | E49: =if(isnumber(D48)=true,if(isnumber(E48)=true,E48-D48,"N/A"),"N/A") -> 0.02 | F49: =if(isnumber(E48)=true,if(isnumber(F48)=true,F48-E48,"N/A"),"N/A") -> -0.024 | G49: =if(isnumber(F48)=true,if(isnumber(G48)=true,G48-F48,"N/A"),"N/A") -> 0.026 | H49: =if(isnumber(G48)=true,if(isnumber(H48)=true,H48-G48,"N/A"),"N/A") -> -0.026 | I49: =if(isnumber(H48)=true,if(isnumber(I48)=true,I48-H48,"N/A"),"N/A") -> -0.029 | J49: =if(isnumber(I48)=true,if(isnumber(J48)=true,J48-I48,"N/A"),"N/A") -> -0.01 | K49: =K48-J48 -> 0.08
B50: Gap from BSD Average | C50: =if(isnumber(C$31)=true,if(isnumber(C48)=true,C48-C$31,"N/A"),"N/A") -> -0.43 | D50: =if(isnumber(D$31)=true,if(isnumber(D48)=true,D48-D$31,"N/A"),"N/A") -> -0.448 | E50: =if(isnumber(E$31)=true,if(isnumber(E48)=true,E48-E$31,"N/A"),"N/A") -> -0.405 | F50: =if(isnumber(F$31)=true,if(isnumber(F48)=true,F48-F$31,"N/A"),"N/A") -> -0.433 | G50: =if(isnumber(G$31)=true,if(isnumber(G48)=true,G48-G$31,"N/A"),"N/A") -> -0.402 | H50: =if(isnumber(H$31)=true,if(isnumber(H48)=true,H48-H$31,"N/A"),"N/A") -> -0.287 | I50: =if(isnumber(I$31)=true,if(isnumber(I48)=true,I48-I$31,"N/A"),"N/A") -> -0.297 | J50: =if(isnumber(J$31)=true,if(isnumber(J48)=true,J48-J$31,"N/A"),"N/A") -> -0.293 | K50: =if(isnumber(K$31)=true,if(isnumber(K48)=true,K48-K$31,"N/A"),"N/A") -> -0.252
A51: Talented and Gifted | B51: BSD | C51: 0.978 | D51: 0.985 | E51: 0.957 | F51: 0.972 | G51: 0.972 | H51: 0.878 | I51: 0.862 | J51: 0.855 | K51: 0.862
B52: Change from Previous Year | D52: =if(isnumber(C51)=true,if(isnumber(D51)=true,D51-C51,"N/A"),"N/A") -> 0.007 | E52: =if(isnumber(D51)=true,if(isnumber(E51)=true,E51-D51,"N/A"),"N/A") -> -0.028 | F52: =if(isnumber(E51)=true,if(isnumber(F51)=true,F51-E51,"N/A"),"N/A") -> 0.015 | G52: =if(isnumber(F51)=true,if(isnumber(G51)=true,G51-F51,"N/A"),"N/A") -> 0 | H52: =if(isnumber(G51)=true,if(isnumber(H51)=true,H51-G51,"N/A"),"N/A") -> -0.094 | I52: =if(isnumber(H51)=true,if(isnumber(I51)=true,I51-H51,"N/A"),"N/A") -> -0.016 | J52: =if(isnumber(I51)=true,if(isnumber(J51)=true,J51-I51,"N/A"),"N/A") -> -0.007 | K52: =K51-J51 -> 0.007
B53: Gap from BSD Average | C53: =if(isnumber(C$31)=true,if(isnumber(C51)=true,C51-C$31,"N/A"),"N/A") -> 0.391 | D53: =if(isnumber(D$31)=true,if(isnumber(D51)=true,D51-D$31,"N/A"),"N/A") -> 0.432 | E53: =if(isnumber(E$31)=true,if(isnumber(E51)=true,E51-E$31,"N/A"),"N/A") -> 0.427 | F53: =if(isnumber(F$31)=true,if(isnumber(F51)=true,F51-F$31,"N/A"),"N/A") -> 0.438 | G53: =if(isnumber(G$31)=true,if(isnumber(G51)=true,G51-G$31,"N/A"),"N/A") -> 0.443 | H53: =if(isnumber(H$31)=true,if(isnumber(H51)=true,H51-H$31,"N/A"),"N/A") -> 0.49 | I53: =if(isnumber(I$31)=true,if(isnumber(I51)=true,I51-I$31,"N/A"),"N/A") -> 0.493 | J53: =if(isnumber(J$31)=true,if(isnumber(J51)=true,J51-J$31,"N/A"),"N/A") -> 0.5 | K53: =if(isnumber(K$31)=true,if(isnumber(K51)=true,K51-K$31,"N/A"),"N/A") -> 0.468
A54: *Prior to 2024-25, ODE counted students taking extended assessments as not proficient in these assessment reports. However, ODE received approval from the U.S. Department of Education to count as proficient those students who met the alternate standard on Extended Assessments.
A56: Gender
C57: =C30 -> 2014-15 | D57: =D30 -> 2015-16 | E57: =E30 -> 2016-17 | F57: =F30 -> 2017-18 | G57: =G30 -> 2018-19 | H57: =H30 -> 2021-22 | I57: =I30 -> 2022-23 | J57: =J30 -> 2023-24 | K57: =K30 -> 2024-25*
A58: Grade 8 BSD Average | B58: BSD | C58: =C31 -> 0.587 | D58: =D31 -> 0.553 | E58: =E31 -> 0.53 | F58: =F31 -> 0.534 | G58: =G31 -> 0.529 | H58: =H31 -> 0.388 | I58: =I31 -> 0.369 | J58: =J31 -> 0.355 | K58: =K31 -> 0.394
B59: Change from Previous Year | D59: =D58-C58 -> -0.034 | E59: =E58-D58 -> -0.023 | F59: =F58-E58 -> 0.004 | G59: =G58-F58 -> -0.005 | H59: =H58-G58 -> -0.141 | I59: =I58-H58 -> -0.019 | J59: =J58-I58 -> -0.014 | K59: =K58-J58 -> 0.039
A60: F | B60: BSD | C60: 0.596 | D60: 0.56 | E60: 0.549 | F60: 0.561 | G60: 0.544 | H60: 0.367 | I60: 0.364 | J60: 0.341 | K60: 0.38
B61: Change from Previous Year | D61: =if(isnumber(C60)=true,if(isnumber(D60)=true,D60-C60,"N/A"),"N/A") -> -0.036 | E61: =if(isnumber(D60)=true,if(isnumber(E60)=true,E60-D60,"N/A"),"N/A") -> -0.011 | F61: =if(isnumber(E60)=true,if(isnumber(F60)=true,F60-E60,"N/A"),"N/A") -> 0.012 | G61: =if(isnumber(F60)=true,if(isnumber(G60)=true,G60-F60,"N/A"),"N/A") -> -0.017 | H61: =if(isnumber(G60)=true,if(isnumber(H60)=true,H60-G60,"N/A"),"N/A") -> -0.177 | I61: =if(isnumber(H60)=true,if(isnumber(I60)=true,I60-H60,"N/A"),"N/A") -> -0.003 | J61: =if(isnumber(I60)=true,if(isnumber(J60)=true,J60-I60,"N/A"),"N/A") -> -0.023 | K61: =K60-J60 -> 0.039
B62: Gap from BSD Average | C62: =if(isnumber(C$58)=true,if(isnumber(C60)=true,C60-C$58,"N/A"),"N/A") -> 0.009 | D62: =if(isnumber(D$58)=true,if(isnumber(D60)=true,D60-D$58,"N/A"),"N/A") -> 0.007 | E62: =if(isnumber(E$58)=true,if(isnumber(E60)=true,E60-E$58,"N/A"),"N/A") -> 0.019 | F62: =if(isnumber(F$58)=true,if(isnumber(F60)=true,F60-F$58,"N/A"),"N/A") -> 0.027 | G62: =if(isnumber(G$58)=true,if(isnumber(G60)=true,G60-G$58,"N/A"),"N/A") -> 0.015 | H62: =if(isnumber(H$58)=true,if(isnumber(H60)=true,H60-H$58,"N/A"),"N/A") -> -0.021 | I62: =if(isnumber(I$58)=true,if(isnumber(I60)=true,I60-I$58,"N/A"),"N/A") -> -0.005 | J62: =if(isnumber(J$58)=true,if(isnumber(J60)=true,J60-J$58,"N/A"),"N/A") -> -0.014 | K62: =if(isnumber(K$58)=true,if(isnumber(K60)=true,K60-K$58,"N/A"),"N/A") -> -0.014
A63: M | B63: BSD | C63: 0.578 | D63: 0.546 | E63: 0.513 | F63: 0.509 | G63: 0.516 | H63: 0.407 | I63: 0.372 | J63: 0.367 | K63: 0.408
B64: Change from Previous Year | D64: =if(isnumber(C63)=true,if(isnumber(D63)=true,D63-C63,"N/A"),"N/A") -> -0.032 | E64: =if(isnumber(D63)=true,if(isnumber(E63)=true,E63-D63,"N/A"),"N/A") -> -0.033 | F64: =if(isnumber(E63)=true,if(isnumber(F63)=true,F63-E63,"N/A"),"N/A") -> -0.004 | G64: =if(isnumber(F63)=true,if(isnumber(G63)=true,G63-F63,"N/A"),"N/A") -> 0.007 | H64: =if(isnumber(G63)=true,if(isnumber(H63)=true,H63-G63,"N/A"),"N/A") -> -0.109 | I64: =if(isnumber(H63)=true,if(isnumber(I63)=true,I63-H63,"N/A"),"N/A") -> -0.035 | J64: =if(isnumber(I63)=true,if(isnumber(J63)=true,J63-I63,"N/A"),"N/A") -> -0.005 | K64: =K63-J63 -> 0.041
B65: Gap from BSD Average | C65: =if(isnumber(C$58)=true,if(isnumber(C63)=true,C63-C$58,"N/A"),"N/A") -> -0.009 | D65: =if(isnumber(D$58)=true,if(isnumber(D63)=true,D63-D$58,"N/A"),"N/A") -> -0.007 | E65: =if(isnumber(E$58)=true,if(isnumber(E63)=true,E63-E$58,"N/A"),"N/A") -> -0.017 | F65: =if(isnumber(F$58)=true,if(isnumber(F63)=true,F63-F$58,"N/A"),"N/A") -> -0.025 | G65: =if(isnumber(G$58)=true,if(isnumber(G63)=true,G63-G$58,"N/A"),"N/A") -> -0.013 | H65: =if(isnumber(H$58)=true,if(isnumber(H63)=true,H63-H$58,"N/A"),"N/A") -> 0.019 | I65: =if(isnumber(I$58)=true,if(isnumber(I63)=true,I63-I$58,"N/A"),"N/A") -> 0.003 | J65: =if(isnumber(J$58)=true,if(isnumber(J63)=true,J63-J$58,"N/A"),"N/A") -> 0.012 | K65: =if(isnumber(K$58)=true,if(isnumber(K63)=true,K63-K$58,"N/A"),"N/A") -> 0.014
A66: X | B66: BSD
B67: Change from Previous Year | C67: Data withheld to protect privacy
B68: Gap from BSD Average
A69: *Prior to 2024-25, ODE counted students taking extended assessments as not proficient in these assessment reports. However, ODE received approval from the U.S. Department of Education to count as proficient those students who met the alternate standard on Extended Assessments.

Sheet Grade 11 with Demographics
A1: OSAS Grade 11 Math Proficiency
A2: Race/Ethnicity
C3: ='Overall Math Proficiency'!C3 -> 2014-15 | D3: ='Overall Math Proficiency'!D3 -> 2015-16 | E3: ='Overall Math Proficiency'!E3 -> 2016-17 | F3: ='Overall Math Proficiency'!F3 -> 2017-18 | G3: ='Overall Math Proficiency'!G3 -> 2018-19 | H3: ='Overall Math Proficiency'!H3 -> 2021-22 | I3: ='Overall Math Proficiency'!I3 -> 2022-23 | J3: ='Overall Math Proficiency'!J3 -> 2023-24 | K3: ='Overall Math Proficiency'!K3 -> 2024-25*
A4: Grade 11 BSD Average | B4: BSD | C4: ='Overall Math Proficiency'!C25 -> 0.45 | D4: ='Overall Math Proficiency'!D25 -> 0.468 | E4: ='Overall Math Proficiency'!E25 -> 0.435 | F4: ='Overall Math Proficiency'!F25 -> 0.409 | G4: ='Overall Math Proficiency'!G25 -> 0.389 | H4: ='Overall Math Proficiency'!H25 -> 0.372 | I4: ='Overall Math Proficiency'!I25 -> 0.328 | J4: ='Overall Math Proficiency'!J25 -> 0.272 | K4: ='Overall Math Proficiency'!K25 -> 0.303
B5: Change from Previous Year | D5: =D4-C4 -> 0.018 | E5: =E4-D4 -> -0.033 | F5: =F4-E4 -> -0.026 | G5: =G4-F4 -> -0.02 | H5: =H4-G4 -> -0.017 | I5: =I4-H4 -> -0.044 | J5: =J4-I4 -> -0.056 | K5: =K4-J4 -> 0.031
A6: Asian | B6: BSD | C6: 0.718 | D6: 0.715 | E6: 0.618 | F6: 0.685 | G6: 0.602 | H6: 0.691 | I6: 0.59 | J6: 0.464 | K6: 0.542
B7: Change from Previous Year | D7: =if(isnumber(C6)=true,if(isnumber(D6)=true,D6-C6,"N/A"),"N/A") -> -0.003 | E7: =if(isnumber(D6)=true,if(isnumber(E6)=true,E6-D6,"N/A"),"N/A") -> -0.097 | F7: =if(isnumber(E6)=true,if(isnumber(F6)=true,F6-E6,"N/A"),"N/A") -> 0.067 | G7: =if(isnumber(F6)=true,if(isnumber(G6)=true,G6-F6,"N/A"),"N/A") -> -0.083 | H7: =if(isnumber(G6)=true,if(isnumber(H6)=true,H6-G6,"N/A"),"N/A") -> 0.089 | I7: =if(isnumber(H6)=true,if(isnumber(I6)=true,I6-H6,"N/A"),"N/A") -> -0.101 | J7: =if(isnumber(I6)=true,if(isnumber(J6)=true,J6-I6,"N/A"),"N/A") -> -0.126 | K7: =K6-J6 -> 0.078
B8: Gap from BSD Average | C8: =if(isnumber(C$4)=true,if(isnumber(C6)=true,C6-C$4,"N/A"),"N/A") -> 0.268 | D8: =if(isnumber(D$4)=true,if(isnumber(D6)=true,D6-D$4,"N/A"),"N/A") -> 0.247 | E8: =if(isnumber(E$4)=true,if(isnumber(E6)=true,E6-E$4,"N/A"),"N/A") -> 0.183 | F8: =if(isnumber(F$4)=true,if(isnumber(F6)=true,F6-F$4,"N/A"),"N/A") -> 0.276 | G8: =if(isnumber(G$4)=true,if(isnumber(G6)=true,G6-G$4,"N/A"),"N/A") -> 0.213 | H8: =if(isnumber(H$4)=true,if(isnumber(H6)=true,H6-H$4,"N/A"),"N/A") -> 0.319 | I8: =if(isnumber(I$4)=true,if(isnumber(I6)=true,I6-I$4,"N/A"),"N/A") -> 0.262 | J8: =if(isnumber(J$4)=true,if(isnumber(J6)=true,J6-J$4,"N/A"),"N/A") -> 0.192 | K8: =if(isnumber(K$4)=true,if(isnumber(K6)=true,K6-K$4,"N/A"),"N/A") -> 0.239
A9: Black/African American | B9: BSD | C9: 0.217 | D9: 0.224 | E9: 0.293 | F9: 0.207 | G9: 0.189 | H9: 0.259 | I9: 0.167 | J9: 0.065 | K9: 0.08
B10: Change from Previous Year | D10: =if(isnumber(C9)=true,if(isnumber(D9)=true,D9-C9,"N/A"),"N/A") -> 0.007 | E10: =if(isnumber(D9)=true,if(isnumber(E9)=true,E9-D9,"N/A"),"N/A") -> 0.069 | F10: =if(isnumber(E9)=true,if(isnumber(F9)=true,F9-E9,"N/A"),"N/A") -> -0.086 | G10: =if(isnumber(F9)=true,if(isnumber(G9)=true,G9-F9,"N/A"),"N/A") -> -0.018 | H10: =if(isnumber(G9)=true,if(isnumber(H9)=true,H9-G9,"N/A"),"N/A") -> 0.07 | I10: =if(isnumber(H9)=true,if(isnumber(I9)=true,I9-H9,"N/A"),"N/A") -> -0.092 | J10: =if(isnumber(I9)=true,if(isnumber(J9)=true,J9-I9,"N/A"),"N/A") -> -0.102 | K10: =K9-J9 -> 0.015
B11: Gap from BSD Average | C11: =if(isnumber(C$4)=true,if(isnumber(C9)=true,C9-C$4,"N/A"),"N/A") -> -0.233 | D11: =if(isnumber(D$4)=true,if(isnumber(D9)=true,D9-D$4,"N/A"),"N/A") -> -0.244 | E11: =if(isnumber(E$4)=true,if(isnumber(E9)=true,E9-E$4,"N/A"),"N/A") -> -0.142 | F11: =if(isnumber(F$4)=true,if(isnumber(F9)=true,F9-F$4,"N/A"),"N/A") -> -0.202 | G11: =if(isnumber(G$4)=true,if(isnumber(G9)=true,G9-G$4,"N/A"),"N/A") -> -0.2 | H11: =if(isnumber(H$4)=true,if(isnumber(H9)=true,H9-H$4,"N/A"),"N/A") -> -0.113 | I11: =if(isnumber(I$4)=true,if(isnumber(I9)=true,I9-I$4,"N/A"),"N/A") -> -0.161 | J11: =if(isnumber(J$4)=true,if(isnumber(J9)=true,J9-J$4,"N/A"),"N/A") -> -0.207 | K11: =if(isnumber(K$4)=true,if(isnumber(K9)=true,K9-K$4,"N/A"),"N/A") -> -0.223
A12: Hispanic/Latino | B12: BSD | C12: 0.22 | D12: 0.231 | E12: 0.244 | F12: 0.205 | G12: 0.195 | H12: 0.173 | I12: 0.119 | J12: 0.1 | K12: 0.106
B13: Change from Previous Year | D13: =if(isnumber(C12)=true,if(isnumber(D12)=true,D12-C12,"N/A"),"N/A") -> 0.011 | E13: =if(isnumber(D12)=true,if(isnumber(E12)=true,E12-D12,"N/A"),"N/A") -> 0.013 | F13: =if(isnumber(E12)=true,if(isnumber(F12)=true,F12-E12,"N/A"),"N/A") -> -0.039 | G13: =if(isnumber(F12)=true,if(isnumber(G12)=true,G12-F12,"N/A"),"N/A") -> -0.01 | H13: =if(isnumber(G12)=true,if(isnumber(H12)=true,H12-G12,"N/A"),"N/A") -> -0.022 | I13: =if(isnumber(H12)=true,if(isnumber(I12)=true,I12-H12,"N/A"),"N/A") -> -0.054 | J13: =if(isnumber(I12)=true,if(isnumber(J12)=true,J12-I12,"N/A"),"N/A") -> -0.019 | K13: =K12-J12 -> 0.006
B14: Gap from BSD Average | C14: =if(isnumber(C$4)=true,if(isnumber(C12)=true,C12-C$4,"N/A"),"N/A") -> -0.23 | D14: =if(isnumber(D$4)=true,if(isnumber(D12)=true,D12-D$4,"N/A"),"N/A") -> -0.237 | E14: =if(isnumber(E$4)=true,if(isnumber(E12)=true,E12-E$4,"N/A"),"N/A") -> -0.191 | F14: =if(isnumber(F$4)=true,if(isnumber(F12)=true,F12-F$4,"N/A"),"N/A") -> -0.204 | G14: =if(isnumber(G$4)=true,if(isnumber(G12)=true,G12-G$4,"N/A"),"N/A") -> -0.194 | H14: =if(isnumber(H$4)=true,if(isnumber(H12)=true,H12-H$4,"N/A"),"N/A") -> -0.199 | I14: =if(isnumber(I$4)=true,if(isnumber(I12)=true,I12-I$4,"N/A"),"N/A") -> -0.209 | J14: =if(isnumber(J$4)=true,if(isnumber(J12)=true,J12-J$4,"N/A"),"N/A") -> -0.172 | K14: =if(isnumber(K$4)=true,if(isnumber(K12)=true,K12-K$4,"N/A"),"N/A") -> -0.197
A15: Multiracial | B15: BSD | C15: 0.549 | D15: 0.547 | E15: 0.5 | F15: 0.529 | G15: 0.446 | H15: 0.453 | I15: 0.451 | J15: 0.28 | K15: 0.397
B16: Change from Previous Year | D16: =if(isnumber(C15)=true,if(isnumber(D15)=true,D15-C15,"N/A"),"N/A") -> -0.002 | E16: =if(isnumber(D15)=true,if(isnumber(E15)=true,E15-D15,"N/A"),"N/A") -> -0.047 | F16: =if(isnumber(E15)=true,if(isnumber(F15)=true,F15-E15,"N/A"),"N/A") -> 0.029 | G16: =if(isnumber(F15)=true,if(isnumber(G15)=true,G15-F15,"N/A"),"N/A") -> -0.083 | H16: =if(isnumber(G15)=true,if(isnumber(H15)=true,H15-G15,"N/A"),"N/A") -> 0.007 | I16: =if(isnumber(H15)=true,if(isnumber(I15)=true,I15-H15,"N/A"),"N/A") -> -0.002 | J16: =if(isnumber(I15)=true,if(isnumber(J15)=true,J15-I15,"N/A"),"N/A") -> -0.171 | K16: =K15-J15 -> 0.117
B17: Gap from BSD Average | C17: =if(isnumber(C$4)=true,if(isnumber(C15)=true,C15-C$4,"N/A"),"N/A") -> 0.099 | D17: =if(isnumber(D$4)=true,if(isnumber(D15)=true,D15-D$4,"N/A"),"N/A") -> 0.079 | E17: =if(isnumber(E$4)=true,if(isnumber(E15)=true,E15-E$4,"N/A"),"N/A") -> 0.065 | F17: =if(isnumber(F$4)=true,if(isnumber(F15)=true,F15-F$4,"N/A"),"N/A") -> 0.12 | G17: =if(isnumber(G$4)=true,if(isnumber(G15)=true,G15-G$4,"N/A"),"N/A") -> 0.057 | H17: =if(isnumber(H$4)=true,if(isnumber(H15)=true,H15-H$4,"N/A"),"N/A") -> 0.081 | I17: =if(isnumber(I$4)=true,if(isnumber(I15)=true,I15-I$4,"N/A"),"N/A") -> 0.123 | J17: =if(isnumber(J$4)=true,if(isnumber(J15)=true,J15-J$4,"N/A"),"N/A") -> 0.008 | K17: =if(isnumber(K$4)=true,if(isnumber(K15)=true,K15-K$4,"N/A"),"N/A") -> 0.094
A18: Native American/Alaska Native | B18: BSD | C18: 0.385 | D18: * | E18: * | F18: 0.333 | G18: * | H18: * | I18: * | J18: 0.154 | K18: *
B19: Change from Previous Year | D19: =if(isnumber(C18)=true,if(isnumber(D18)=true,D18-C18,"N/A"),"N/A") -> N/A | E19: =if(isnumber(D18)=true,if(isnumber(E18)=true,E18-D18,"N/A"),"N/A") -> N/A | F19: =if(isnumber(E18)=true,if(isnumber(F18)=true,F18-E18,"N/A"),"N/A") -> N/A | G19: =if(isnumber(F18)=true,if(isnumber(G18)=true,G18-F18,"N/A"),"N/A") -> N/A | H19: =if(isnumber(G18)=true,if(isnumber(H18)=true,H18-G18,"N/A"),"N/A") -> N/A | I19: =if(isnumber(H18)=true,if(isnumber(I18)=true,I18-H18,"N/A"),"N/A") -> N/A | J19: =if(isnumber(I18)=true,if(isnumber(J18)=true,J18-I18,"N/A"),"N/A") -> N/A | K19: =K18-J18 -> #VALUE!
B20: Gap from BSD Average | C20: =if(isnumber(C$4)=true,if(isnumber(C18)=true,C18-C$4,"N/A"),"N/A") -> -0.065 | D20: =if(isnumber(D$4)=true,if(isnumber(D18)=true,D18-D$4,"N/A"),"N/A") -> N/A | E20: =if(isnumber(E$4)=true,if(isnumber(E18)=true,E18-E$4,"N/A"),"N/A") -> N/A | F20: =if(isnumber(F$4)=true,if(isnumber(F18)=true,F18-F$4,"N/A"),"N/A") -> -0.076 | G20: =if(isnumber(G$4)=true,if(isnumber(G18)=true,G18-G$4,"N/A"),"N/A") -> N/A | H20: =if(isnumber(H$4)=true,if(isnumber(H18)=true,H18-H$4,"N/A"),"N/A") -> N/A | I20: =if(isnumber(I$4)=true,if(isnumber(I18)=true,I18-I$4,"N/A"),"N/A") -> N/A | J20: =if(isnumber(J$4)=true,if(isnumber(J18)=true,J18-J$4,"N/A"),"N/A") -> -0.118 | K20: =if(isnumber(K$4)=true,if(isnumber(K18)=true,K18-K$4,"N/A"),"N/A") -> N/A
A21: Native Hawaiian/Pacific Islander | B21: BSD | C21: 0.435 | D21: * | E21: * | F21: 0.12 | G21: 0.182 | H21: * | I21: * | J21: 0 | K21: 0.133
B22: Change from Previous Year | D22: =if(isnumber(C21)=true,if(isnumber(D21)=true,D21-C21,"N/A"),"N/A") -> N/A | E22: =if(isnumber(D21)=true,if(isnumber(E21)=true,E21-D21,"N/A"),"N/A") -> N/A | F22: =if(isnumber(E21)=true,if(isnumber(F21)=true,F21-E21,"N/A"),"N/A") -> N/A | G22: =if(isnumber(F21)=true,if(isnumber(G21)=true,G21-F21,"N/A"),"N/A") -> 0.062 | H22: =if(isnumber(G21)=true,if(isnumber(H21)=true,H21-G21,"N/A"),"N/A") -> N/A | I22: =if(isnumber(H21)=true,if(isnumber(I21)=true,I21-H21,"N/A"),"N/A") -> N/A | J22: =if(isnumber(I21)=true,if(isnumber(J21)=true,J21-I21,"N/A"),"N/A") -> N/A | K22: =K21-J21 -> 0.133
B23: Gap from BSD Average | C23: =if(isnumber(C$4)=true,if(isnumber(C21)=true,C21-C$4,"N/A"),"N/A") -> -0.015 | D23: =if(isnumber(D$4)=true,if(isnumber(D21)=true,D21-D$4,"N/A"),"N/A") -> N/A | E23: =if(isnumber(E$4)=true,if(isnumber(E21)=true,E21-E$4,"N/A"),"N/A") -> N/A | F23: =if(isnumber(F$4)=true,if(isnumber(F21)=true,F21-F$4,"N/A"),"N/A") -> -0.289 | G23: =if(isnumber(G$4)=true,if(isnumber(G21)=true,G21-G$4,"N/A"),"N/A") -> -0.207 | H23: =if(isnumber(H$4)=true,if(isnumber(H21)=true,H21-H$4,"N/A"),"N/A") -> N/A | I23: =if(isnumber(I$4)=true,if(isnumber(I21)=true,I21-I$4,"N/A"),"N/A") -> N/A | J23: =if(isnumber(J$4)=true,if(isnumber(J21)=true,J21-J$4,"N/A"),"N/A") -> -0.272 | K23: =if(isnumber(K$4)=true,if(isnumber(K21)=true,K21-K$4,"N/A"),"N/A") -> -0.17
A24: White | B24: BSD | C24: 0.475 | D24: 0.532 | E24: 0.489 | F24: 0.47 | G24: 0.473 | H24: 0.406 | I24: 0.354 | J24: 0.317 | K24: 0.336
B25: Change from Previous Year | D25: =if(isnumber(C24)=true,if(isnumber(D24)=true,D24-C24,"N/A"),"N/A") -> 0.057 | E25: =if(isnumber(D24)=true,if(isnumber(E24)=true,E24-D24,"N/A"),"N/A") -> -0.043 | F25: =if(isnumber(E24)=true,if(isnumber(F24)=true,F24-E24,"N/A"),"N/A") -> -0.019 | G25: =if(isnumber(F24)=true,if(isnumber(G24)=true,G24-F24,"N/A"),"N/A") -> 0.003 | H25: =if(isnumber(G24)=true,if(isnumber(H24)=true,H24-G24,"N/A"),"N/A") -> -0.067 | I25: =if(isnumber(H24)=true,if(isnumber(I24)=true,I24-H24,"N/A"),"N/A") -> -0.052 | J25: =if(isnumber(I24)=true,if(isnumber(J24)=true,J24-I24,"N/A"),"N/A") -> -0.037 | K25: =K24-J24 -> 0.019
B26: Gap from BSD Average | C26: =if(isnumber(C$4)=true,if(isnumber(C24)=true,C24-C$4,"N/A"),"N/A") -> 0.025 | D26: =if(isnumber(D$4)=true,if(isnumber(D24)=true,D24-D$4,"N/A"),"N/A") -> 0.064 | E26: =if(isnumber(E$4)=true,if(isnumber(E24)=true,E24-E$4,"N/A"),"N/A") -> 0.054 | F26: =if(isnumber(F$4)=true,if(isnumber(F24)=true,F24-F$4,"N/A"),"N/A") -> 0.061 | G26: =if(isnumber(G$4)=true,if(isnumber(G24)=true,G24-G$4,"N/A"),"N/A") -> 0.084 | H26: =if(isnumber(H$4)=true,if(isnumber(H24)=true,H24-H$4,"N/A"),"N/A") -> 0.034 | I26: =if(isnumber(I$4)=true,if(isnumber(I24)=true,I24-I$4,"N/A"),"N/A") -> 0.026 | J26: =if(isnumber(J$4)=true,if(isnumber(J24)=true,J24-J$4,"N/A"),"N/A") -> 0.045 | K26: =if(isnumber(K$4)=true,if(isnumber(K24)=true,K24-K$4,"N/A"),"N/A") -> 0.033
A27: *Prior to 2024-25, ODE counted students taking extended assessments as not proficient in these assessment reports. However, ODE received approval from the U.S. Department of Education to count as proficient those students who met the alternate standard on Extended Assessments.
A29: Student Group
C30: =C3 -> 2014-15 | D30: =D3 -> 2015-16 | E30: =E3 -> 2016-17 | F30: =F3 -> 2017-18 | G30: =G3 -> 2018-19 | H30: =H3 -> 2021-22 | I30: =I3 -> 2022-23 | J30: =J3 -> 2023-24 | K30: =K3 -> 2024-25*
A31: Grade 11 BSD Average | B31: BSD | C31: =C4 -> 0.45 | D31: =D4 -> 0.468 | E31: =E4 -> 0.435 | F31: =F4 -> 0.409 | G31: =G4 -> 0.389 | H31: =H4 -> 0.372 | I31: =I4 -> 0.328 | J31: =J4 -> 0.272 | K31: =K4 -> 0.303
B32: Change from Previous Year | D32: =D31-C31 -> 0.018 | E32: =E31-D31 -> -0.033 | F32: =F31-E31 -> -0.026 | G32: =G31-F31 -> -0.02 | H32: =H31-G31 -> -0.017 | I32: =I31-H31 -> -0.044 | J32: =J31-I31 -> -0.056 | K32: =K31-J31 -> 0.031
A33: English Learners | B33: BSD | C33: 0.099 | D33: 0.102 | E33: 0.075 | F33: 0.033 | G33: 0.048 | H33: 0.076 | I33: 0.052 | J33: 0.023 | K33: 0.024
B34: Change from Previous Year | D34: =if(isnumber(C33)=true,if(isnumber(D33)=true,D33-C33,"N/A"),"N/A") -> 0.003 | E34: =if(isnumber(D33)=true,if(isnumber(E33)=true,E33-D33,"N/A"),"N/A") -> -0.027 | F34: =if(isnumber(E33)=true,if(isnumber(F33)=true,F33-E33,"N/A"),"N/A") -> -0.042 | G34: =if(isnumber(F33)=true,if(isnumber(G33)=true,G33-F33,"N/A"),"N/A") -> 0.015 | H34: =if(isnumber(G33)=true,if(isnumber(H33)=true,H33-G33,"N/A"),"N/A") -> 0.028 | I34: =if(isnumber(H33)=true,if(isnumber(I33)=true,I33-H33,"N/A"),"N/A") -> -0.024 | J34: =if(isnumber(I33)=true,if(isnumber(J33)=true,J33-I33,"N/A"),"N/A") -> -0.029 | K34: =K33-J33 -> 0.001
B35: Gap from BSD Average | C35: =if(isnumber(C$31)=true,if(isnumber(C33)=true,C33-C$31,"N/A"),"N/A") -> -0.351 | D35: =if(isnumber(D$31)=true,if(isnumber(D33)=true,D33-D$31,"N/A"),"N/A") -> -0.366 | E35: =if(isnumber(E$31)=true,if(isnumber(E33)=true,E33-E$31,"N/A"),"N/A") -> -0.36 | F35: =if(isnumber(F$31)=true,if(isnumber(F33)=true,F33-F$31,"N/A"),"N/A") -> -0.376 | G35: =if(isnumber(G$31)=true,if(isnumber(G33)=true,G33-G$31,"N/A"),"N/A") -> -0.341 | H35: =if(isnumber(H$31)=true,if(isnumber(H33)=true,H33-H$31,"N/A"),"N/A") -> -0.296 | I35: =if(isnumber(I$31)=true,if(isnumber(I33)=true,I33-I$31,"N/A"),"N/A") -> -0.276 | J35: =if(isnumber(J$31)=true,if(isnumber(J33)=true,J33-J$31,"N/A"),"N/A") -> -0.249 | K35: =if(isnumber(K$31)=true,if(isnumber(K33)=true,K33-K$31,"N/A"),"N/A") -> -0.279
A36: Indian Education | B36: BSD
B37: Change from Previous Year | C37: Data withheld to protect privacy
B38: Gap from BSD Average
A39: Migrant Students | B39: BSD | C39: 0.08 | D39: 0.086 | E39: 0.158 | F39: 0.161 | G39: 0.121 | H39: 0.154 | I39: 0.143 | J39: 0 | K39: 0.038
B40: Change from Previous Year | D40: =if(isnumber(C39)=true,if(isnumber(D39)=true,D39-C39,"N/A"),"N/A") -> 0.006 | E40: =if(isnumber(D39)=true,if(isnumber(E39)=true,E39-D39,"N/A"),"N/A") -> 0.072 | F40: =if(isnumber(E39)=true,if(isnumber(F39)=true,F39-E39,"N/A"),"N/A") -> 0.003 | G40: =if(isnumber(F39)=true,if(isnumber(G39)=true,G39-F39,"N/A"),"N/A") -> -0.04 | H40: =if(isnumber(G39)=true,if(isnumber(H39)=true,H39-G39,"N/A"),"N/A") -> 0.033 | I40: =if(isnumber(H39)=true,if(isnumber(I39)=true,I39-H39,"N/A"),"N/A") -> -0.011 | J40: =if(isnumber(I39)=true,if(isnumber(J39)=true,J39-I39,"N/A"),"N/A") -> -0.143 | K40: =K39-J39 -> 0.038
B41: Gap from BSD Average | C41: =if(isnumber(C$31)=true,if(isnumber(C39)=true,C39-C$31,"N/A"),"N/A") -> -0.37 | D41: =if(isnumber(D$31)=true,if(isnumber(D39)=true,D39-D$31,"N/A"),"N/A") -> -0.382 | E41: =if(isnumber(E$31)=true,if(isnumber(E39)=true,E39-E$31,"N/A"),"N/A") -> -0.277 | F41: =if(isnumber(F$31)=true,if(isnumber(F39)=true,F39-F$31,"N/A"),"N/A") -> -0.248 | G41: =if(isnumber(G$31)=true,if(isnumber(G39)=true,G39-G$31,"N/A"),"N/A") -> -0.268 | H41: =if(isnumber(H$31)=true,if(isnumber(H39)=true,H39-H$31,"N/A"),"N/A") -> -0.218 | I41: =if(isnumber(I$31)=true,if(isnumber(I39)=true,I39-I$31,"N/A"),"N/A") -> -0.185 | J41: =if(isnumber(J$31)=true,if(isnumber(J39)=true,J39-J$31,"N/A"),"N/A") -> -0.272 | K41: =if(isnumber(K$31)=true,if(isnumber(K39)=true,K39-K$31,"N/A"),"N/A") -> -0.265
A42: Students experiencing homelessness | B42: BSD | G42: 0.08 | H42: 0.063 | I42: 0.057 | J42: 0.017 | K42: 0
B43: Change from Previous Year | C43: Data not available | G43: =if(isnumber(F42)=true,if(isnumber(G42)=true,G42-F42,"N/A"),"N/A") -> N/A | H43: =if(isnumber(G42)=true,if(isnumber(H42)=true,H42-G42,"N/A"),"N/A") -> -0.017 | I43: =if(isnumber(H42)=true,if(isnumber(I42)=true,I42-H42,"N/A"),"N/A") -> -0.006 | J43: =if(isnumber(I42)=true,if(isnumber(J42)=true,J42-I42,"N/A"),"N/A") -> -0.04 | K43: =K42-J42 -> -0.017
B44: Gap from BSD Average | G44: =if(isnumber(G$31)=true,if(isnumber(G42)=true,G42-G$31,"N/A"),"N/A") -> -0.309 | H44: =if(isnumber(H$31)=true,if(isnumber(H42)=true,H42-H$31,"N/A"),"N/A") -> -0.309 | I44: =if(isnumber(I$31)=true,if(isnumber(I42)=true,I42-I$31,"N/A"),"N/A") -> -0.271 | J44: =if(isnumber(J$31)=true,if(isnumber(J42)=true,J42-J$31,"N/A"),"N/A") -> -0.255 | K44: =if(isnumber(K$31)=true,if(isnumber(K42)=true,K42-K$31,"N/A"),"N/A") -> -0.303
A45: Students experiencing poverty | B45: BSD | J45: 0.071 | K45: 0.074
B46: Change from Previous Year | C46: Data not available | K46: =K45-J45 -> 0.003
B47: Gap from BSD Average | J47: =if(isnumber(J$31)=true,if(isnumber(J45)=true,J45-J$31,"N/A"),"N/A") -> -0.201 | K47: =if(isnumber(K$31)=true,if(isnumber(K45)=true,K45-K$31,"N/A"),"N/A") -> -0.229
A48: Students with disabilities | B48: BSD | C48: 0.127 | D48: 0.092 | E48: 0.065 | F48: 0.095 | G48: 0.07 | H48: 0.108 | I48: 0.044 | J48: 0.113 | K48: 0.108
B49: Change from Previous Year | D49: =if(isnumber(C48)=true,if(isnumber(D48)=true,D48-C48,"N/A"),"N/A") -> -0.035 | E49: =if(isnumber(D48)=true,if(isnumber(E48)=true,E48-D48,"N/A"),"N/A") -> -0.027 | F49: =if(isnumber(E48)=true,if(isnumber(F48)=true,F48-E48,"N/A"),"N/A") -> 0.03 | G49: =if(isnumber(F48)=true,if(isnumber(G48)=true,G48-F48,"N/A"),"N/A") -> -0.025 | H49: =if(isnumber(G48)=true,if(isnumber(H48)=true,H48-G48,"N/A"),"N/A") -> 0.038 | I49: =if(isnumber(H48)=true,if(isnumber(I48)=true,I48-H48,"N/A"),"N/A") -> -0.064 | J49: =if(isnumber(I48)=true,if(isnumber(J48)=true,J48-I48,"N/A"),"N/A") -> 0.069 | K49: =K48-J48 -> -0.005
B50: Gap from BSD Average | C50: =if(isnumber(C$31)=true,if(isnumber(C48)=true,C48-C$31,"N/A"),"N/A") -> -0.323 | D50: =if(isnumber(D$31)=true,if(isnumber(D48)=true,D48-D$31,"N/A"),"N/A") -> -0.376 | E50: =if(isnumber(E$31)=true,if(isnumber(E48)=true,E48-E$31,"N/A"),"N/A") -> -0.37 | F50: =if(isnumber(F$31)=true,if(isnumber(F48)=true,F48-F$31,"N/A"),"N/A") -> -0.314 | G50: =if(isnumber(G$31)=true,if(isnumber(G48)=true,G48-G$31,"N/A"),"N/A") -> -0.319 | H50: =if(isnumber(H$31)=true,if(isnumber(H48)=true,H48-H$31,"N/A"),"N/A") -> -0.264 | I50: =if(isnumber(I$31)=true,if(isnumber(I48)=true,I48-I$31,"N/A"),"N/A") -> -0.284 | J50: =if(isnumber(J$31)=true,if(isnumber(J48)=true,J48-J$31,"N/A"),"N/A") -> -0.159 | K50: =if(isnumber(K$31)=true,if(isnumber(K48)=true,K48-K$31,"N/A"),"N/A") -> -0.195
A51: Talented and Gifted | B51: BSD | C51: 0.923 | D51: 0.888 | E51: 0.882 | F51: 0.926 | G51: 0.897 | H51: 0.791 | I51: 0.696 | J51: 0.696 | K51: 0.723
