Workbook

Sheet Math Summary
A1: Assessment Results for the 2023-2024 School Year - Math, all districts - from Excel file "S:\Instruction\Data\Data requests\Kristie\State Comparisons\Math.xlsx"
A2: Percent Proficient | H2: Percent Proficient | O2: Percent Proficient | V2: Percent Proficient
A3: Total Population (All Students) | H3: Total Population (All Students) | O3: Total Population (All Students) | V3: Total Population (All Students)
A4: All Grades | H4: All Grades | O4: All Grades | V4: All Grades
B5: 2018-19 | C5: 2021-22 | D5: 2022-23 | E5: 2023-24 | F5: 2024-25 | I5: 2018-19 | J5: 2021-22 | K5: 2022-23 | L5: 2023-24 | M5: 2024-25 | P5: 2018-19 | Q5: 2021-22 | R5: 2022-23 | S5: 2023-24 | T5: 2024-25 | W5: 2018-19 | X5: 2021-22 | Y5: 2022-23 | Z5: 2023-24 | AA5: 2024-25
A6: Beaverton SD 48J | B6: 0.537 | C6: 0.449 | D6: 0.449 | E6: 0.44 | F6: 0.43 | H6: Beaverton SD 48J | I6: 0.537 | J6: 0.449 | K6: 0.449 | L6: 0.44 | M6: 0.43 | O6: Beaverton SD 48J | P6: 0.537 | Q6: 0.449 | R6: 0.449 | S6: 0.44 | T6: 0.43 | V6: Beaverton SD 48J | W6: 0.537 | X6: 0.449 | Y6: 0.449 | Z6: 0.44 | AA6: 0.43
A7: Hillsboro SD 1J | B7: 0.39 | C7: 0.293 | D7: 0.301 | E7: 0.29 | F7: 0.294 | H7: Hillsboro SD 1J | I7: 0.39 | J7: 0.293 | K7: 0.301 | L7: 0.29 | M7: 0.294 | O7: Hillsboro SD 1J | P7: 0.39 | Q7: 0.293 | R7: 0.301 | S7: 0.29 | T7: 0.294 | V7: Hillsboro SD 1J | W7: 0.39 | X7: 0.293 | Y7: 0.301 | Z7: 0.29 | AA7: 0.294
A8: Portland SD 1J | B8: 0.458 | C8: 0.438 | D8: 0.462 | E8: 0.464 | F8: 0.485 | H8: Portland SD 1J | I8: 0.458 | J8: 0.438 | K8: 0.462 | L8: 0.464 | M8: 0.485 | O8: Portland SD 1J | P8: 0.458 | Q8: 0.438 | R8: 0.462 | S8: 0.464 | T8: 0.485 | V8: Portland SD 1J | W8: 0.458 | X8: 0.438 | Y8: 0.462 | Z8: 0.464 | AA8: 0.485
A9: Salem-Keizer SD 24J | B9: 0.331 | C9: 0.21 | D9: 0.202 | E9: 0.2 | F9: 0.209 | H9: Salem-Keizer SD 24J | I9: 0.331 | J9: 0.21 | K9: 0.202 | L9: 0.2 | M9: 0.209 | O9: Salem-Keizer SD 24J | P9: 0.331 | Q9: 0.21 | R9: 0.202 | S9: 0.2 | T9: 0.209 | V9: Salem-Keizer SD 24J | W9: 0.331 | X9: 0.21 | Y9: 0.202 | Z9: 0.2 | AA9: 0.209
A10: State | B10: 0.394 | C10: 0.304 | D10: 0.306 | E10: 0.31 | F10: 0.315 | H10: State | I10: 0.394 | J10: 0.304 | K10: 0.306 | L10: 0.31 | M10: 0.315 | O10: State | P10: 0.394 | Q10: 0.304 | R10: 0.306 | S10: 0.31 | T10: 0.315 | V10: State | W10: 0.394 | X10: 0.304 | Y10: 0.306 | Z10: 0.31 | AA10: 0.315
A12: Percent Proficient | H12: Percent Proficient | O12: Percent Proficient | V12: Percent Proficient
A13: Total Population (All Students) | H13: American Indian/Alaskan Native | O13: Female | V13: English Learners
A14: Grade 3 | H14: All Grades | O14: All Grades | V14: All Grades
B15: 2018-19 | C15: 2021-22 | D15: 2022-23 | E15: 2023-24 | F15: 2024-25 | I15: 2018-19 | J15: 2021-22 | K15: 2022-23 | L15: 2023-24 | M15: 2024-25 | P15: 2018-19 | Q15: 2021-22 | R15: 2022-23 | S15: 2023-24 | T15: 2024-25 | W15: 2018-19 | X15: 2021-22 | Y15: 2022-23 | Z15: 2023-24 | AA15: 2024-25
A16: Beaverton SD 48J | B16: 0.632 | C16: 0.542 | D16: 0.567 | E16: 0.527 | F16: 0.48 | H16: Beaverton SD 48J | I16: 0.375 | J16: 0.312 | K16: 0.318 | L16: 0.301 | M16: 0.268 | O16: Beaverton SD 48J | P16: 0.532 | Q16: 0.428 | R16: 0.44 | S16: 0.422 | T16: 0.41 | V16: Beaverton SD 48J | W16: 0.132 | X16: 0.093 | Y16: 0.087 | Z16: 0.077 | AA16: 0.073
A17: Hillsboro SD 1J | B17: 0.446 | C17: 0.377 | D17: 0.39 | E17: 0.403 | F17: 0.386 | H17: Hillsboro SD 1J | I17: 0.24 | J17: 0.146 | K17: 0.233 | L17: 0.214 | M17: 0.273 | O17: Hillsboro SD 1J | P17: 0.38 | Q17: 0.273 | R17: 0.283 | S17: 0.276 | T17: 0.271 | V17: Hillsboro SD 1J | W17: 0.062 | X17: < 5.0% | Y17: < 5.0% | Z17: < 5.0% | AA17: < 5.0%
A18: Portland SD 1J | B18: 0.528 | C18: 0.554 | D18: 0.562 | E18: 0.57 | F18: 0.558 | H18: Portland SD 1J | I18: 0.207 | J18: 0.131 | K18: 0.116 | L18: 0.101 | M18: 0.187 | O18: Portland SD 1J | P18: 0.446 | Q18: 0.419 | R18: 0.441 | S18: 0.446 | T18: 0.46 | V18: Portland SD 1J | W18: 0.054 | X18: 0.08 | Y18: 0.074 | Z18: 0.082 | AA18: 0.087
A19: Salem-Keizer SD 24J | B19: 0.37 | C19: 0.26 | D19: 0.227 | E19: 0.25 | F19: 0.258 | H19: Salem-Keizer SD 24J | I19: 0.188 | J19: 0.132 | K19: 0.085 | L19: 0.087 | M19: 0.125 | O19: Salem-Keizer SD 24J | P19: 0.327 | Q19: 0.194 | R19: 0.182 | S19: 0.181 | T19: 0.186 | V19: Salem-Keizer SD 24J | W19: 0.07 | X19: < 5.0% | Y19: < 5.0% | Z19: < 5.0% | AA19: < 5.0%
A20: State | B20: 0.464 | C20: 0.394 | D20: 0.397 | E20: 0.399 | F20: 0.401 | H20: State | I20: 0.225 | J20: 0.143 | K20: 0.136 | L20: 0.145 | M20: 0.159 | O20: State | P20: 0.389 | Q20: 0.286 | R20: 0.285 | S20: 0.289 | T20: 0.29 | V20: State | W20: 0.071 | X20: < 5.0% | Y20: < 5.0% | Z20: 0.051 | AA20: 0.053
A22: Percent Proficient | H22: Percent Proficient | O22: Percent Proficient | V22: Percent Proficient
A23: Total Population (All Students) | H23: Asian | O23: Male | V23: Students with Disabilities (SWD)
A24: Grade 4 | H24: All Grades | O24: All Grades | V24: All Grades
B25: 2018-19 | C25: 2021-22 | D25: 2022-23 | E25: 2023-24 | F25: 2024-25 | I25: 2018-19 | J25: 2021-22 | K25: 2022-23 | L25: 2023-24 | M25: 2024-25 | P25: 2018-19 | Q25: 2021-22 | R25: 2022-23 | S25: 2023-24 | T25: 2024-25 | W25: 2018-19 | X25: 2021-22 | Y25: 2022-23 | Z25: 2023-24 | AA25: 2024-25
A26: Beaverton SD 48J | B26: 0.59 | C26: 0.493 | D26: 0.52 | E26: 0.535 | F26: 0.481 | H26: Beaverton SD 48J | I26: 0.82 | J26: 0.769 | K26: 0.752 | L26: 0.725 | M26: 0.718 | O26: Beaverton SD 48J | P26: 0.541 | Q26: 0.468 | R26: 0.457 | S26: 0.457 | T26: 0.449 | V26: Beaverton SD 48J | W26: 0.197 | X26: 0.186 | Y26: 0.188 | Z26: 0.199 | AA26: 0.202
A27: Hillsboro SD 1J | B27: 0.41 | C27: 0.348 | D27: 0.353 | E27: 0.352 | F27: 0.353 | H27: Hillsboro SD 1J | I27: 0.643 | J27: 0.528 | K27: 0.53 | L27: 0.491 | M27: 0.509 | O27: Hillsboro SD 1J | P27: 0.4 | Q27: 0.311 | R27: 0.317 | S27: 0.303 | T27: 0.314 | V27: Hillsboro SD 1J | W27: 0.145 | X27: 0.126 | Y27: 0.116 | Z27: 0.123 | AA27: 0.152
A28: Portland SD 1J | B28: 0.48 | C28: 0.516 | D28: 0.543 | E28: 0.542 | F28: 0.558 | H28: Portland SD 1J | I28: 0.547 | J28: 0.451 | K28: 0.478 | L28: 0.479 | M28: 0.506 | O28: Portland SD 1J | P28: 0.47 | Q28: 0.456 | R28: 0.48 | S28: 0.479 | T28: 0.506 | V28: Portland SD 1J | W28: 0.219 | X28: 0.244 | Y28: 0.265 | Z28: 0.274 | AA28: 0.288
A29: Salem-Keizer SD 24J | B29: 0.331 | C29: 0.235 | D29: 0.246 | E29: 0.227 | F29: 0.226 | H29: Salem-Keizer SD 24J | I29: 0.593 | J29: 0.455 | K29: 0.445 | L29: 0.382 | M29: 0.433 | O29: Salem-Keizer SD 24J | P29: 0.336 | Q29: 0.223 | R29: 0.22 | S29: 0.217 | T29: 0.229 | V29: Salem-Keizer SD 24J | W29: 0.108 | X29: 0.08 | Y29: 0.08 | Z29: 0.077 | AA29: 0.101
A30: State | B30: 0.432 | C30: 0.361 | D30: 0.376 | E30: 0.377 | F30: 0.369 | H30: State | I30: 0.661 | J30: 0.568 | K30: 0.564 | L30: 0.557 | M30: 0.554 | O30: State | P30: 0.399 | Q30: 0.319 | R30: 0.325 | S30: 0.328 | T30: 0.337 | V30: State | W30: 0.127 | X30: 0.116 | Y30: 0.121 | Z30: 0.13 | AA30: 0.142
A32: Percent Proficient | H32: Percent Proficient | O32: Percent Proficient | V32: Percent Proficient
A33: Total Population (All Students) | H33: Black/African American | O33: Non-Binary | V33: Students Experiencing Poverty
A34: Grade 5 | H34: All Grades | O34: All Grades | V34: All Grades
B35: 2018-19 | C35: 2021-22 | D35: 2022-23 | E35: 2023-24 | F35: 2024-25 | I35: 2018-19 | J35: 2021-22 | K35: 2022-23 | L35: 2023-24 | M35: 2024-25 | P35: 2018-19 | Q35: 2021-22 | R35: 2022-23 | S35: 2023-24 | T35: 2024-25 | W35: 2018-19 | X35: 2021-22 | Y35: 2022-23 | Z35: 2023-24 | AA35: 2024-25
A36: Beaverton SD 48J | B36: 0.524 | C36: 0.464 | D36: 0.472 | E36: 0.483 | F36: 0.478 | H36: Beaverton SD 48J | I36: 0.271 | J36: 0.222 | K36: 0.241 | L36: 0.231 | M36: 0.23 | O36: Beaverton SD 48J | P36: * | Q36: 0.333 | R36: 0.545 | S36: 0.5 | T36: 0.464 | V36: Beaverton SD 48J | W36: #N/A | X36: #N/A | Y36: #N/A | Z36: 0.144 | AA36: 0.144
A37: Hillsboro SD 1J | B37: 0.373 | C37: 0.302 | D37: 0.298 | E37: 0.289 | F37: 0.267 | H37: Hillsboro SD 1J | I37: 0.239 | J37: 0.182 | K37: 0.215 | L37: 0.248 | M37: 0.254 | O37: Hillsboro SD 1J | P37: * | Q37: 0.25 | R37: 0.37 | S37: 0.357 | T37: 0.516 | V37: Hillsboro SD 1J | W37: #N/A | X37: #N/A | Y37: #N/A | Z37: 0.122 | AA37: 0.135
A38: Portland SD 1J | B38: 0.432 | C38: 0.431 | D38: 0.465 | E38: 0.468 | F38: 0.487 | H38: Portland SD 1J | I38: 0.091 | J38: 0.082 | K38: 0.092 | L38: 0.092 | M38: 0.113 | O38: Portland SD 1J | P38: 0.5 | Q38: 0.406 | R38: 0.478 | S38: 0.49 | T38: 0.558 | V38: Portland SD 1J | W38: #N/A | X38: #N/A | Y38: #N/A | Z38: 0.16 | AA38: 0.185
A39: Salem-Keizer SD 24J | B39: 0.299 | C39: 0.202 | D39: 0.202 | E39: 0.206 | F39: 0.193 | H39: Salem-Keizer SD 24J | I39: 0.158 | J39: 0.139 | K39: 0.142 | L39: 0.148 | M39: 0.151 | O39: Salem-Keizer SD 24J | P39: * | Q39: 0.315 | R39: 0.294 | S39: 0.182 | T39: 0.382 | V39: Salem-Keizer SD 24J | W39: #N/A | X39: #N/A | Y39: #N/A | Z39: 0.103 | AA39: 0.118
A40: State | B40: 0.378 | C40: 0.3 | D40: 0.307 | E40: 0.314 | F40: 0.313 | H40: State | I40: 0.167 | J40: 0.129 | K40: 0.133 | L40: 0.145 | M40: 0.153 | O40: State | P40: 0.328 | Q40: 0.332 | R40: 0.36 | S40: 0.377 | T40: 0.441 | V40: State | W40: #N/A | X40: #N/A | Y40: #N/A | Z40: 0.154 | AA40: 0.164
A42: Percent Proficient | H42: Percent Proficient | V42: Percent Proficient
A43: Total Population (All Students) | H43: Hispanic/Latino | V43: Homeless
A44: Grade 6 | H44: All Grades | V44: All Grades
B45: 2018-19 | C45: 2021-22 | D45: 2022-23 | E45: 2023-24 | F45: 2024-25 | I45: 2018-19 | J45: 2021-22 | K45: 2022-23 | L45: 2023-24 | M45: 2024-25 | W45: 2018-19 | X45: 2021-22 | Y45: 2022-23 | Z45: 2023-24 | AA45: 2024-25
A46: Beaverton SD 48J | B46: 0.491 | C46: 0.399 | D46: 0.408 | E46: 0.431 | F46: 0.407 | H46: Beaverton SD 48J | I46: 0.279 | J46: 0.188 | K46: 0.174 | L46: 0.167 | M46: 0.164 | V46: Beaverton SD 48J | W46: 0.164 | X46: 0.078 | Y46: 0.109 | Z46: 0.101 | AA46: 0.089
A47: Hillsboro SD 1J | B47: 0.4 | C47: 0.3 | D47: 0.327 | E47: 0.29 | F47: 0.294 | H47: Hillsboro SD 1J | I47: 0.208 | J47: 0.13 | K47: 0.137 | L47: 0.124 | M47: 0.124 | V47: Hillsboro SD 1J | W47: 0.208 | X47: 0.077 | Y47: 0.073 | Z47: 0.074 | AA47: 0.078
A48: Portland SD 1J | B48: 0.426 | C48: 0.385 | D48: 0.426 | E48: 0.444 | F48: 0.464 | H48: Portland SD 1J | I48: 0.233 | J48: 0.208 | K48: 0.232 | L48: 0.24 | M48: 0.246 | V48: Portland SD 1J | W48: 0.094 | X48: 0.069 | Y48: 0.074 | Z48: 0.092 | AA48: 0.099
A49: Salem-Keizer SD 24J | B49: 0.294 | C49: 0.204 | D49: 0.194 | E49: 0.185 | F49: 0.222 | H49: Salem-Keizer SD 24J | I49: 0.216 | J49: 0.119 | K49: 0.112 | L49: 0.115 | M49: 0.123 | V49: Salem-Keizer SD 24J | W49: 0.133 | X49: 0.075 | Y49: 0.06 | Z49: 0.064 | AA49: 0.076
A50: State | B50: 0.371 | C50: 0.275 | D50: 0.281 | E50: 0.284 | F50: 0.293 | H50: State | I50: 0.236 | J50: 0.151 | K50: 0.151 | L50: 0.153 | M50: 0.16 | V50: State | W50: 0.171 | X50: 0.108 | Y50: 0.102 | Z50: 0.107 | AA50: 0.113
A52: Percent Proficient | H52: Percent Proficient | V52: Percent Proficient
A53: Total Population (All Students) | H53: Multi-Racial | V53: Migrant Education
A54: Grade 7 | H54: All Grades | V54: All Grades
B55: 2018-19 | C55: 2021-22 | D55: 2022-23 | E55: 2023-24 | F55: 2024-25 | I55: 2018-19 | J55: 2021-22 | K55: 2022-23 | L55: 2023-24 | M55: 2024-25 | W55: 2018-19 | X55: 2021-22 | Y55: 2022-23 | Z55: 2023-24 | AA55: 2024-25
A56: Beaverton SD 48J | B56: 0.559 | C56: 0.432 | D56: 0.415 | E56: 0.43 | F56: 0.437 | H56: Beaverton SD 48J | I56: 0.583 | J56: 0.512 | K56: 0.521 | L56: 0.499 | M56: 0.503 | V56: Beaverton SD 48J | W56: 0.177 | X56: 0.103 | Y56: 0.153 | Z56: 0.098 | AA56: 0.064
A57: Hillsboro SD 1J | B57: 0.406 | C57: 0.269 | D57: 0.297 | E57: 0.308 | F57: 0.293 | H57: Hillsboro SD 1J | I57: 0.514 | J57: 0.412 | K57: 0.422 | L57: 0.404 | M57: 0.415 | V57: Hillsboro SD 1J | W57: 0.153 | X57: 0.066 | Y57: 0.082 | Z57: 0.082 | AA57: 0.078
A58: Portland SD 1J | B58: 0.494 | C58: 0.424 | D58: 0.463 | E58: 0.469 | F58: 0.501 | H58: Portland SD 1J | I58: 0.457 | J58: 0.447 | K58: 0.473 | L58: 0.472 | M58: 0.49 | V58: Portland SD 1J | W58: 0.05 | X58: 0.091 | Y58: 0.143 | Z58: 0.167 | AA58: 0.151
A59: Salem-Keizer SD 24J | B59: 0.339 | C59: 0.209 | D59: 0.222 | E59: 0.208 | F59: 0.231 | H59: Salem-Keizer SD 24J | I59: 0.377 | J59: 0.269 | K59: 0.262 | L59: 0.244 | M59: 0.26 | V59: Salem-Keizer SD 24J | W59: 0.201 | X59: 0.103 | Y59: 0.109 | Z59: 0.074 | AA59: 0.083
A60: State | B60: 0.401 | C60: 0.295 | D60: 0.296 | E60: 0.305 | F60: 0.315 | H60: State | I60: 0.427 | J60: 0.344 | K60: 0.354 | L60: 0.354 | M60: 0.362 | V60: State | W60: 0.188 | X60: 0.113 | Y60: 0.11 | Z60: 0.111 | AA60: 0.103
A62: Percent Proficient | H62: Percent Proficient
A63: Total Population (All Students) | H63: Pacific Islander
A64: Grade 8 | H64: All Grades
B65: 2018-19 | C65: 2021-22 | D65: 2022-23 | E65: 2023-24 | F65: 2024-25 | I65: 2018-19 | J65: 2021-22 | K65: 2022-23 | L65: 2023-24 | M65: 2024-25
A66: Beaverton SD 48J | B66: 0.529 | C66: 0.388 | D66: 0.369 | E66: 0.355 | F66: 0.394 | H66: Beaverton SD 48J | I66: 0.297 | J66: 0.119 | K66: 0.13 | L66: 0.128 | M66: 0.124
A67: Hillsboro SD 1J | B67: 0.369 | C67: 0.237 | D67: 0.219 | E67: 0.222 | F67: 0.28 | H67: Hillsboro SD 1J | I67: 0.279 | J67: 0.34 | K67: 0.207 | L67: 0.302 | M67: 0.188
A68: Portland SD 1J | B68: 0.47 | C68: 0.372 | D68: 0.401 | E68: 0.406 | F68: 0.458 | H68: Portland SD 1J | I68: 0.166 | J68: 0.066 | K68: 0.08 | L68: 0.098 | M68: 0.129
A69: Salem-Keizer SD 24J | B69: 0.344 | C69: 0.208 | D69: 0.193 | E69: 0.202 | F69: 0.227 | H69: Salem-Keizer SD 24J | I69: 0.165 | J69: 0.058 | K69: 0.066 | L69: 0.058 | M69: 0.063
A70: State | B70: 0.383 | C70: 0.259 | D70: 0.255 | E70: 0.264 | F70: 0.289 | H70: State | I70: 0.213 | J70: 0.116 | K70: 0.114 | L70: 0.11 | M70: 0.109
A72: Percent Proficient | H72: Percent Proficient
A73: Total Population (All Students) | H73: White
A74: Grade HS (11) | H74: All Grades
B75: 2018-19 | C75: 2021-22 | D75: 2022-23 | E75: 2023-24 | F75: 2024-25 | I75: 2018-19 | J75: 2021-22 | K75: 2022-23 | L75: 2023-24 | M75: 2024-25
A76: Beaverton SD 48J | B76: 0.389 | C76: 0.372 | D76: 0.328 | E76: 0.272 | F76: 0.303 | H76: Beaverton SD 48J | I76: 0.593 | J76: 0.478 | K76: 0.492 | L76: 0.493 | M76: 0.488
A77: Hillsboro SD 1J | B77: 0.322 | C77: 0.183 | D77: 0.199 | E77: 0.143 | F77: 0.162 | H77: Hillsboro SD 1J | I77: 0.504 | J77: 0.406 | K77: 0.423 | L77: 0.418 | M77: 0.428
A78: Portland SD 1J | B78: 0.306 | C78: 0.221 | D78: 0.273 | E78: 0.266 | F78: 0.299 | H78: Portland SD 1J | I78: 0.576 | J78: 0.556 | K78: 0.584 | L78: 0.583 | M78: 0.613
A79: Salem-Keizer SD 24J | B79: 0.35 | C79: 0.135 | D79: 0.124 | E79: 0.111 | F79: 0.101 | H79: Salem-Keizer SD 24J | I79: 0.436 | J79: 0.302 | K79: 0.297 | L79: 0.299 | M79: 0.312
A80: State | B80: 0.321 | C80: 0.204 | D80: 0.204 | E80: 0.2 | F80: 0.203 | H80: State | I80: 0.45 | J80: 0.36 | K80: 0.364 | L80: 0.369 | M80: 0.377
A82: Number Tested Proficient
A83: Total Population (All Students)
A84: Grade 3, Grade 4, Grade 5
B85: 2018-19 | C85: 2021-22 | D85: 2022-23 | E85: 2023-24 | F85: 2024-25
A86: Beaverton SD 48J | B86: 5398 | C86: 4049 | D86: 4264 | E86: 4154 | F86: 3953
A87: Hillsboro SD 1J | B87: 1896 | C87: 1368 | D87: 1406 | E87: 1391 | F87: 1340
A88: Portland SD 1J | B88: 5407 | C88: 4932 | D88: 5123 | E88: 5084 | F88: 5085
A89: Salem-Keizer SD 24J | B89: 3258 | C89: 1976 | D89: 1905 | E89: 1889 | F89: 1857
A90: State | B90: 54880 | C90: 39619 | D90: 41372 | E90: 41312 | F90: 41482
A92: Number Tested
A93: Total Population (All Students)
A94: Grade 3, Grade 4, Grade 5
B95: 2018-19 | C95: 2021-22 | D95: 2022-23 | E95: 2023-24 | F95: 2024-25
A96: Beaverton SD 48J | B96: 9283 | C96: 8103 | D96: 8206 | E96: 8065 | F96: 8238
A97: Hillsboro SD 1J | B97: 4636 | C97: 3988 | D97: 4063 | E97: 4004 | F97: 4009
A98: Portland SD 1J | B98: 11269 | C98: 9863 | D98: 9781 | E98: 9669 | F98: 9524
A99: Salem-Keizer SD 24J | B99: 9791 | C99: 8503 | D99: 8458 | E99: 8308 | F99: 8236
A100: State | B100: 129523 | C100: 112793 | D100: 114791 | E100: 113840 | F100: 114952
A102: Percent Proficient
A103: Total Population (All Students)
A104: Grade 3, Grade 4, Grade 5
B105: 2018-19 | C105: 2021-22 | D105: 2022-23 | E105: 2023-24 | F105: 2024-25
A106: Beaverton SD 48J | B106: 0.581 | C106: 0.5 | D106: 0.52 | E106: 0.515 | F106: 0.48
A107: Hillsboro SD 1J | B107: 0.409 | C107: 0.343 | D107: 0.346 | E107: 0.347 | F107: 0.334
A108: Portland SD 1J | B108: 0.48 | C108: 0.5 | D108: 0.524 | E108: 0.526 | F108: 0.534
A109: Salem-Keizer SD 24J | B109: 0.333 | C109: 0.232 | D109: 0.225 | E109: 0.227 | F109: 0.225
A110: State | B110: 0.424 | C110: 0.351 | D110: 0.36 | E110: 0.363 | F110: 0.361
...

Sheet 2425 Math Proficiency by Demogr
A1: 2024-25 OSAS Math Proficiency
B2: 2024-25 OSAS Math Proficiency All Students by Grade Level
C3: State | D3: Beaverton SD | E3: Hillsboro SD | F3: Portland SD | G3: Salem Keizer SD
B4: Grade 3 | C4: ='Math Summary'!F20 -> 0.401 | D4: ='Math Summary'!F16 -> 0.48 | E4: ='Math Summary'!F17 -> 0.386 | F4: ='Math Summary'!F18 -> 0.558 | G4: ='Math Summary'!F19 -> 0.258
B5: Grade 4 | C5: ='Math Summary'!F30 -> 0.369 | D5: ='Math Summary'!F26 -> 0.481 | E5: ='Math Summary'!F27 -> 0.353 | F5: ='Math Summary'!F28 -> 0.558 | G5: ='Math Summary'!F29 -> 0.226
B6: Grade 5 | C6: ='Math Summary'!F40 -> 0.313 | D6: ='Math Summary'!F36 -> 0.478 | E6: ='Math Summary'!F37 -> 0.267 | F6: ='Math Summary'!F38 -> 0.487 | G6: ='Math Summary'!F39 -> 0.193
B7: Grade 6 | C7: ='Math Summary'!F50 -> 0.293 | D7: ='Math Summary'!F46 -> 0.407 | E7: ='Math Summary'!F47 -> 0.294 | F7: ='Math Summary'!F48 -> 0.464 | G7: ='Math Summary'!F49 -> 0.222
B8: Grade 7 | C8: ='Math Summary'!F60 -> 0.315 | D8: ='Math Summary'!F56 -> 0.437 | E8: ='Math Summary'!F57 -> 0.293 | F8: ='Math Summary'!F58 -> 0.501 | G8: ='Math Summary'!F59 -> 0.231
B9: Grade 8 | C9: ='Math Summary'!F70 -> 0.289 | D9: ='Math Summary'!F66 -> 0.394 | E9: ='Math Summary'!F67 -> 0.28 | F9: ='Math Summary'!F68 -> 0.458 | G9: ='Math Summary'!F69 -> 0.227
B10: Grade 11 | C10: ='Math Summary'!F80 -> 0.203 | D10: ='Math Summary'!F76 -> 0.303 | E10: ='Math Summary'!F77 -> 0.162 | F10: ='Math Summary'!F78 -> 0.299 | G10: ='Math Summary'!F79 -> 0.101
B38: 2024-25 OSAS Math Proficiency All Students by Race/Ethnicity
C39: State | D39: Beaverton SD | E39: Hillsboro SD | F39: Portland SD | G39: Salem Keizer SD
B40: American Indian/Alaskan Native | C40: ='Math Summary'!M20 -> 0.159 | D40: ='Math Summary'!M16 -> 0.268 | E40: ='Math Summary'!M17 -> 0.273 | F40: ='Math Summary'!M18 -> 0.187 | G40: ='Math Summary'!M19 -> 0.125
B41: Asian | C41: ='Math Summary'!M30 -> 0.554 | D41: ='Math Summary'!M26 -> 0.718 | E41: ='Math Summary'!M27 -> 0.509 | F41: ='Math Summary'!M28 -> 0.506 | G41: ='Math Summary'!M29 -> 0.433
B42: Black/African American | C42: ='Math Summary'!M40 -> 0.153 | D42: ='Math Summary'!M36 -> 0.23 | E42: ='Math Summary'!M37 -> 0.254 | F42: ='Math Summary'!M38 -> 0.113 | G42: ='Math Summary'!M39 -> 0.151
B43: Hispanic/Latinx | C43: ='Math Summary'!M50 -> 0.16 | D43: ='Math Summary'!M46 -> 0.164 | E43: ='Math Summary'!M47 -> 0.124 | F43: ='Math Summary'!M48 -> 0.246 | G43: ='Math Summary'!M49 -> 0.123
B44: Multi-Racial | C44: ='Math Summary'!M60 -> 0.362 | D44: ='Math Summary'!M56 -> 0.503 | E44: ='Math Summary'!M57 -> 0.415 | F44: ='Math Summary'!M58 -> 0.49 | G44: ='Math Summary'!M59 -> 0.26
B45: Pacific Islander | C45: ='Math Summary'!M70 -> 0.109 | D45: ='Math Summary'!M66 -> 0.124 | E45: ='Math Summary'!M67 -> 0.188 | F45: ='Math Summary'!M68 -> 0.129 | G45: ='Math Summary'!M69 -> 0.063
B46: White | C46: ='Math Summary'!M80 -> 0.377 | D46: ='Math Summary'!M76 -> 0.488 | E46: ='Math Summary'!M77 -> 0.428 | F46: ='Math Summary'!M78 -> 0.613 | G46: ='Math Summary'!M79 -> 0.312
B74: 2024-25 OSAS Math Proficiency All Students by Student Group
C75: State | D75: Beaverton SD | E75: Hillsboro SD | F75: Portland SD | G75: Salem Keizer SD
B76: English Learners | C76: ='Math Summary'!AA20 -> 0.053 | D76: ='Math Summary'!AA16 -> 0.073 | E76: ='Math Summary'!AA17 -> < 5.0% | F76: ='Math Summary'!AA18 -> 0.087 | G76: ='Math Summary'!AA19 -> < 5.0%
B77: Students with Disabilities | C77: ='Math Summary'!AA30 -> 0.142 | D77: ='Math Summary'!AA26 -> 0.202 | E77: ='Math Summary'!AA27 -> 0.152 | F77: ='Math Summary'!AA28 -> 0.288 | G77: ='Math Summary'!AA29 -> 0.101
B78: Students Experiencing Poverty | C78: ='Math Summary'!AA40 -> 0.164 | D78: ='Math Summary'!AA36 -> 0.144 | E78: ='Math Summary'!AA37 -> 0.135 | F78: ='Math Summary'!AA38 -> 0.185 | G78: ='Math Summary'!AA39 -> 0.118
B79: Homeless Students | C79: ='Math Summary'!AA50 -> 0.113 | D79: ='Math Summary'!AA46 -> 0.089 | E79: ='Math Summary'!AA47 -> 0.078 | F79: ='Math Summary'!AA48 -> 0.099 | G79: ='Math Summary'!AA49 -> 0.076
B80: Migrant Education Students | C80: ='Math Summary'!AA60 -> 0.103 | D80: ='Math Summary'!AA56 -> 0.064 | E80: ='Math Summary'!AA57 -> 0.078 | F80: ='Math Summary'!AA58 -> 0.151 | G80: ='Math Summary'!AA59 -> 0.083

Sheet Math Proficiency by Grade
A1: OSAS Math Proficiency
B2: *Prior to 2024-25, ODE counted students taking extended assessments as not proficient in these assessment reports. However, ODE received approval from the U.S. Department of Education to count as proficient those students who met the alternate standard on Extended Assessments.
B3: Total Population (All Students) | K3: Grade 6
C4: ='Math Summary'!B5 -> 2018-19 | D4: ='Math Summary'!C5 -> 2021-22 | E4: ='Math Summary'!D5 -> 2022-23 | F4: ='Math Summary'!E5 -> 2023-24 | G4: ='Math Summary'!F5 -> 2024-25 | L4: =C4 -> 2018-19 | M4: =D4 -> 2021-22 | N4: =E4 -> 2022-23 | O4: =F4 -> 2023-24 | P4: =G4 -> 2024-25
B5: State | C5: ='Math Summary'!$B$10 -> 0.394 | D5: ='Math Summary'!$C$10 -> 0.304 | E5: ='Math Summary'!$D$10 -> 0.306 | F5: ='Math Summary'!$E$10 -> 0.31 | G5: ='Math Summary'!$F$10 -> 0.315 | K5: State | L5: ='Math Summary'!$B$50 -> 0.371 | M5: ='Math Summary'!$C$50 -> 0.275 | N5: ='Math Summary'!$D$50 -> 0.281 | O5: ='Math Summary'!$E$50 -> 0.284 | P5: ='Math Summary'!$F$50 -> 0.293
B6: Change from Previous Year | D6: =D5-C5 -> -0.09 | E6: =E5-D5 -> 0.002 | F6: =F5-E5 -> 0.004 | G6: =G5-F5 -> 0.005 | K6: Change from Previous Year | M6: =M5-L5 -> -0.096 | N6: =N5-M5 -> 0.006 | O6: =O5-N5 -> 0.003 | P6: =P5-O5 -> 0.009
B7: Beaverton SD | C7: ='Math Summary'!$B$6 -> 0.537 | D7: ='Math Summary'!$C$6 -> 0.449 | E7: ='Math Summary'!$D$6 -> 0.449 | F7: ='Math Summary'!$E$6 -> 0.44 | G7: ='Math Summary'!$F$6 -> 0.43 | K7: Beaverton SD | L7: ='Math Summary'!$B$46 -> 0.491 | M7: ='Math Summary'!$C$46 -> 0.399 | N7: ='Math Summary'!$D$46 -> 0.408 | O7: ='Math Summary'!$E$46 -> 0.431 | P7: ='Math Summary'!$F$46 -> 0.407
B8: Change from Previous Year | D8: =D7-C7 -> -0.088 | E8: =E7-D7 -> 0 | F8: =F7-E7 -> -0.009 | G8: =G7-F7 -> -0.01 | K8: Change from Previous Year | M8: =M7-L7 -> -0.092 | N8: =N7-M7 -> 0.009 | O8: =O7-N7 -> 0.023 | P8: =P7-O7 -> -0.024
B9: Hillsboro SD | C9: ='Math Summary'!$B$7 -> 0.39 | D9: ='Math Summary'!$C$7 -> 0.293 | E9: ='Math Summary'!$D$7 -> 0.301 | F9: ='Math Summary'!$E$7 -> 0.29 | G9: ='Math Summary'!$F$7 -> 0.294 | K9: Hillsboro SD | L9: ='Math Summary'!$B$47 -> 0.4 | M9: ='Math Summary'!$C$47 -> 0.3 | N9: ='Math Summary'!$D$47 -> 0.327 | O9: ='Math Summary'!$E$47 -> 0.29 | P9: ='Math Summary'!$F$47 -> 0.294
B10: Change from Previous Year | D10: =if(isnumber(C9)=true,if(isnumber(D9)=true,D9-C9,"N/A"),"N/A") -> -0.097 | E10: =if(isnumber(D9)=true,if(isnumber(E9)=true,E9-D9,"N/A"),"N/A") -> 0.008 | F10: =if(isnumber(E9)=true,if(isnumber(F9)=true,F9-E9,"N/A"),"N/A") -> -0.011 | G10: =G9-F9 -> 0.004 | K10: Change from Previous Year | M10: =if(isnumber(L9)=true,if(isnumber(M9)=true,M9-L9,"N/A"),"N/A") -> -0.1 | N10: =if(isnumber(M9)=true,if(isnumber(N9)=true,N9-M9,"N/A"),"N/A") -> 0.027 | O10: =if(isnumber(N9)=true,if(isnumber(O9)=true,O9-N9,"N/A"),"N/A") -> -0.037 | P10: =P9-O9 -> 0.004
B11: Gap from Beaverton | C11: =if(isnumber(C$7)=true,if(isnumber(C9)=true,C9-C$7,"N/A"),"N/A") -> -0.147 | D11: =if(isnumber(D$7)=true,if(isnumber(D9)=true,D9-D$7,"N/A"),"N/A") -> -0.156 | E11: =if(isnumber(E$7)=true,if(isnumber(E9)=true,E9-E$7,"N/A"),"N/A") -> -0.148 | F11: =if(isnumber(F$7)=true,if(isnumber(F9)=true,F9-F$7,"N/A"),"N/A") -> -0.15 | G11: =if(isnumber(G$7)=true,if(isnumber(G9)=true,G9-G$7,"N/A"),"N/A") -> -0.136 | K11: Gap from Beaverton | L11: =if(isnumber(L$7)=true,if(isnumber(L9)=true,L9-L$7,"N/A"),"N/A") -> -0.091 | M11: =if(isnumber(M$7)=true,if(isnumber(M9)=true,M9-M$7,"N/A"),"N/A") -> -0.099 | N11: =if(isnumber(N$7)=true,if(isnumber(N9)=true,N9-N$7,"N/A"),"N/A") -> -0.081 | O11: =if(isnumber(O$7)=true,if(isnumber(O9)=true,O9-O$7,"N/A"),"N/A") -> -0.141 | P11: =if(isnumber(P$7)=true,if(isnumber(P9)=true,P9-P$7,"N/A"),"N/A") -> -0.113
B12: Portland SD | C12: ='Math Summary'!$B$8 -> 0.458 | D12: ='Math Summary'!$C$8 -> 0.438 | E12: ='Math Summary'!$D$8 -> 0.462 | F12: ='Math Summary'!$E$8 -> 0.464 | G12: ='Math Summary'!$F$8 -> 0.485 | K12: Portland SD | L12: ='Math Summary'!$B$48 -> 0.426 | M12: ='Math Summary'!$C$48 -> 0.385 | N12: ='Math Summary'!$D$48 -> 0.426 | O12: ='Math Summary'!$E$48 -> 0.444 | P12: ='Math Summary'!$F$48 -> 0.464
B13: Change from Previous Year | D13: =if(isnumber(C12)=true,if(isnumber(D12)=true,D12-C12,"N/A"),"N/A") -> -0.02 | E13: =if(isnumber(D12)=true,if(isnumber(E12)=true,E12-D12,"N/A"),"N/A") -> 0.024 | F13: =if(isnumber(E12)=true,if(isnumber(F12)=true,F12-E12,"N/A"),"N/A") -> 0.002 | G13: =G12-F12 -> 0.021 | K13: Change from Previous Year | M13: =if(isnumber(L12)=true,if(isnumber(M12)=true,M12-L12,"N/A"),"N/A") -> -0.041 | N13: =if(isnumber(M12)=true,if(isnumber(N12)=true,N12-M12,"N/A"),"N/A") -> 0.041 | O13: =if(isnumber(N12)=true,if(isnumber(O12)=true,O12-N12,"N/A"),"N/A") -> 0.018 | P13: =P12-O12 -> 0.02
B14: Gap from Beaverton | C14: =if(isnumber(C$7)=true,if(isnumber(C12)=true,C12-C$7,"N/A"),"N/A") -> -0.079 | D14: =if(isnumber(D$7)=true,if(isnumber(D12)=true,D12-D$7,"N/A"),"N/A") -> -0.011 | E14: =if(isnumber(E$7)=true,if(isnumber(E12)=true,E12-E$7,"N/A"),"N/A") -> 0.013 | F14: =if(isnumber(F$7)=true,if(isnumber(F12)=true,F12-F$7,"N/A"),"N/A") -> 0.024 | G14: =if(isnumber(G$7)=true,if(isnumber(G12)=true,G12-G$7,"N/A"),"N/A") -> 0.055 | K14: Gap from Beaverton | L14: =if(isnumber(L$7)=true,if(isnumber(L12)=true,L12-L$7,"N/A"),"N/A") -> -0.065 | M14: =if(isnumber(M$7)=true,if(isnumber(M12)=true,M12-M$7,"N/A"),"N/A") -> -0.014 | N14: =if(isnumber(N$7)=true,if(isnumber(N12)=true,N12-N$7,"N/A"),"N/A") -> 0.018 | O14: =if(isnumber(O$7)=true,if(isnumber(O12)=true,O12-O$7,"N/A"),"N/A") -> 0.013 | P14: =if(isnumber(P$7)=true,if(isnumber(P12)=true,P12-P$7,"N/A"),"N/A") -> 0.057
B15: Salem Keizer SD | C15: ='Math Summary'!$B$9 -> 0.331 | D15: ='Math Summary'!$C$9 -> 0.21 | E15: ='Math Summary'!$D$9 -> 0.202 | F15: ='Math Summary'!$E$9 -> 0.2 | G15: ='Math Summary'!$F$9 -> 0.209 | K15: Salem Keizer SD | L15: ='Math Summary'!$B$49 -> 0.294 | M15: ='Math Summary'!$C$49 -> 0.204 | N15: ='Math Summary'!$D$49 -> 0.194 | O15: ='Math Summary'!$E$49 -> 0.185 | P15: ='Math Summary'!$F$49 -> 0.222
B16: Change from Previous Year | D16: =if(isnumber(C15)=true,if(isnumber(D15)=true,D15-C15,"N/A"),"N/A") -> -0.121 | E16: =if(isnumber(D15)=true,if(isnumber(E15)=true,E15-D15,"N/A"),"N/A") -> -0.008 | F16: =if(isnumber(E15)=true,if(isnumber(F15)=true,F15-E15,"N/A"),"N/A") -> -0.002 | G16: =G15-F15 -> 0.009 | K16: Change from Previous Year | M16: =if(isnumber(L15)=true,if(isnumber(M15)=true,M15-L15,"N/A"),"N/A") -> -0.09 | N16: =if(isnumber(M15)=true,if(isnumber(N15)=true,N15-M15,"N/A"),"N/A") -> -0.01 | O16: =if(isnumber(N15)=true,if(isnumber(O15)=true,O15-N15,"N/A"),"N/A") -> -0.009 | P16: =P15-O15 -> 0.037
B17: Gap from Beaverton | C17: =if(isnumber(C$7)=true,if(isnumber(C15)=true,C15-C$7,"N/A"),"N/A") -> -0.206 | D17: =if(isnumber(D$7)=true,if(isnumber(D15)=true,D15-D$7,"N/A"),"N/A") -> -0.239 | E17: =if(isnumber(E$7)=true,if(isnumber(E15)=true,E15-E$7,"N/A"),"N/A") -> -0.247 | F17: =if(isnumber(F$7)=true,if(isnumber(F15)=true,F15-F$7,"N/A"),"N/A") -> -0.24 | G17: =if(isnumber(G$7)=true,if(isnumber(G15)=true,G15-G$7,"N/A"),"N/A") -> -0.221 | K17: Gap from Beaverton | L17: =if(isnumber(L$7)=true,if(isnumber(L15)=true,L15-L$7,"N/A"),"N/A") -> -0.197 | M17: =if(isnumber(M$7)=true,if(isnumber(M15)=true,M15-M$7,"N/A"),"N/A") -> -0.195 | N17: =if(isnumber(N$7)=true,if(isnumber(N15)=true,N15-N$7,"N/A"),"N/A") -> -0.214 | O17: =if(isnumber(O$7)=true,if(isnumber(O15)=true,O15-O$7,"N/A"),"N/A") -> -0.246 | P17: =if(isnumber(P$7)=true,if(isnumber(P15)=true,P15-P$7,"N/A"),"N/A") -> -0.185
B44: Grade 3 | K44: Grade 7
C45: =C4 -> 2018-19 | D45: =D4 -> 2021-22 | E45: =E4 -> 2022-23 | F45: =F4 -> 2023-24 | G45: =G4 -> 2024-25 | L45: =L4 -> 2018-19 | M45: =M4 -> 2021-22 | N45: =N4 -> 2022-23 | O45: =O4 -> 2023-24 | P45: =P4 -> 2024-25
B46: State | C46: ='Math Summary'!$B$20 -> 0.464 | D46: ='Math Summary'!$C$20 -> 0.394 | E46: ='Math Summary'!$D$20 -> 0.397 | F46: ='Math Summary'!$E$20 -> 0.399 | G46: ='Math Summary'!$F$20 -> 0.401 | K46: State | L46: ='Math Summary'!$B$60 -> 0.401 | M46: ='Math Summary'!$C$60 -> 0.295 | N46: ='Math Summary'!$D$60 -> 0.296 | O46: ='Math Summary'!$E$60 -> 0.305 | P46: ='Math Summary'!$F$60 -> 0.315
B47: Change from Previous Year | D47: =D46-C46 -> -0.07 | E47: =E46-D46 -> 0.003 | F47: =F46-E46 -> 0.002 | G47: =G46-F46 -> 0.002 | K47: Change from Previous Year | M47: =M46-L46 -> -0.106 | N47: =N46-M46 -> 0.001 | O47: =O46-N46 -> 0.009 | P47: =P46-O46 -> 0.01
B48: Beaverton SD | C48: ='Math Summary'!$B$16 -> 0.632 | D48: ='Math Summary'!$C$16 -> 0.542 | E48: ='Math Summary'!$D$16 -> 0.567 | F48: ='Math Summary'!$E$16 -> 0.527 | G48: ='Math Summary'!$F$16 -> 0.48 | K48: Beaverton SD | L48: ='Math Summary'!$B$56 -> 0.559 | M48: ='Math Summary'!$C$56 -> 0.432 | N48: ='Math Summary'!$D$56 -> 0.415 | O48: ='Math Summary'!$E$56 -> 0.43 | P48: ='Math Summary'!$F$56 -> 0.437
B49: Change from Previous Year | D49: =D48-C48 -> -0.09 | E49: =E48-D48 -> 0.025 | F49: =F48-E48 -> -0.04 | G49: =G48-F48 -> -0.047 | K49: Change from Previous Year | M49: =M48-L48 -> -0.127 | N49: =N48-M48 -> -0.017 | O49: =O48-N48 -> 0.015 | P49: =P48-O48 -> 0.007
B50: Hillsboro SD | C50: ='Math Summary'!$B$17 -> 0.446 | D50: ='Math Summary'!$C$17 -> 0.377 | E50: ='Math Summary'!$D$17 -> 0.39 | F50: ='Math Summary'!$E$17 -> 0.403 | G50: ='Math Summary'!$F$17 -> 0.386 | K50: Hillsboro SD | L50: ='Math Summary'!$B$57 -> 0.406 | M50: ='Math Summary'!$C$57 -> 0.269 | N50: ='Math Summary'!$D$57 -> 0.297 | O50: ='Math Summary'!$E$57 -> 0.308 | P50: ='Math Summary'!$F$57 -> 0.293
B51: Change from Previous Year | D51: =if(isnumber(C50)=true,if(isnumber(D50)=true,D50-C50,"N/A"),"N/A") -> -0.069 | E51: =if(isnumber(D50)=true,if(isnumber(E50)=true,E50-D50,"N/A"),"N/A") -> 0.013 | F51: =if(isnumber(E50)=true,if(isnumber(F50)=true,F50-E50,"N/A"),"N/A") -> 0.013 | G51: =G50-F50 -> -0.017 | K51: Change from Previous Year | M51: =if(isnumber(L50)=true,if(isnumber(M50)=true,M50-L50,"N/A"),"N/A") -> -0.137 | N51: =if(isnumber(M50)=true,if(isnumber(N50)=true,N50-M50,"N/A"),"N/A") -> 0.028 | O51: =if(isnumber(N50)=true,if(isnumber(O50)=true,O50-N50,"N/A"),"N/A") -> 0.011 | P51: =P50-O50 -> -0.015
B52: Gap from Beaverton | C52: =if(isnumber(C$48)=true,if(isnumber(C50)=true,C50-C$48,"N/A"),"N/A") -> -0.186 | D52: =if(isnumber(D$48)=true,if(isnumber(D50)=true,D50-D$48,"N/A"),"N/A") -> -0.165 | E52: =if(isnumber(E$48)=true,if(isnumber(E50)=true,E50-E$48,"N/A"),"N/A") -> -0.177 | F52: =if(isnumber(F$48)=true,if(isnumber(F50)=true,F50-F$48,"N/A"),"N/A") -> -0.124 | G52: =if(isnumber(G$48)=true,if(isnumber(G50)=true,G50-G$48,"N/A"),"N/A") -> -0.094 | K52: Gap from Beaverton | L52: =if(isnumber(L$48)=true,if(isnumber(L50)=true,L50-L$48,"N/A"),"N/A") -> -0.153 | M52: =if(isnumber(M$48)=true,if(isnumber(M50)=true,M50-M$48,"N/A"),"N/A") -> -0.163 | N52: =if(isnumber(N$48)=true,if(isnumber(N50)=true,N50-N$48,"N/A"),"N/A") -> -0.118 | O52: =if(isnumber(O$48)=true,if(isnumber(O50)=true,O50-O$48,"N/A"),"N/A") -> -0.122 | P52: =if(isnumber(P$48)=true,if(isnumber(P50)=true,P50-P$48,"N/A"),"N/A") -> -0.144
B53: Portland SD | C53: ='Math Summary'!$B$18 -> 0.528 | D53: ='Math Summary'!$C$18 -> 0.554 | E53: ='Math Summary'!$D$18 -> 0.562 | F53: ='Math Summary'!$E$18 -> 0.57 | G53: ='Math Summary'!$F$18 -> 0.558 | K53: Portland SD | L53: ='Math Summary'!$B$58 -> 0.494 | M53: ='Math Summary'!$C$58 -> 0.424 | N53: ='Math Summary'!$D$58 -> 0.463 | O53: ='Math Summary'!$E$58 -> 0.469 | P53: ='Math Summary'!$F$58 -> 0.501
B54: Change from Previous Year | D54: =if(isnumber(C53)=true,if(isnumber(D53)=true,D53-C53,"N/A"),"N/A") -> 0.026 | E54: =if(isnumber(D53)=true,if(isnumber(E53)=true,E53-D53,"N/A"),"N/A") -> 0.008 | F54: =if(isnumber(E53)=true,if(isnumber(F53)=true,F53-E53,"N/A"),"N/A") -> 0.008 | G54: =G53-F53 -> -0.012 | K54: Change from Previous Year | M54: =if(isnumber(L53)=true,if(isnumber(M53)=true,M53-L53,"N/A"),"N/A") -> -0.07 | N54: =if(isnumber(M53)=true,if(isnumber(N53)=true,N53-M53,"N/A"),"N/A") -> 0.039 | O54: =if(isnumber(N53)=true,if(isnumber(O53)=true,O53-N53,"N/A"),"N/A") -> 0.006 | P54: =P53-O53 -> 0.032
B55: Gap from Beaverton | C55: =if(isnumber(C$48)=true,if(isnumber(C53)=true,C53-C$48,"N/A"),"N/A") -> -0.104 | D55: =if(isnumber(D$48)=true,if(isnumber(D53)=true,D53-D$48,"N/A"),"N/A") -> 0.012 | E55: =if(isnumber(E$48)=true,if(isnumber(E53)=true,E53-E$48,"N/A"),"N/A") -> -0.005 | F55: =if(isnumber(F$48)=true,if(isnumber(F53)=true,F53-F$48,"N/A"),"N/A") -> 0.043 | G55: =if(isnumber(G$48)=true,if(isnumber(G53)=true,G53-G$48,"N/A"),"N/A") -> 0.078 | K55: Gap from Beaverton | L55: =if(isnumber(L$48)=true,if(isnumber(L53)=true,L53-L$48,"N/A"),"N/A") -> -0.065 | M55: =if(isnumber(M$48)=true,if(isnumber(M53)=true,M53-M$48,"N/A"),"N/A") -> -0.008 | N55: =if(isnumber(N$48)=true,if(isnumber(N53)=true,N53-N$48,"N/A"),"N/A") -> 0.048 | O55: =if(isnumber(O$48)=true,if(isnumber(O53)=true,O53-O$48,"N/A"),"N/A") -> 0.039 | P55: =if(isnumber(P$48)=true,if(isnumber(P53)=true,P53-P$48,"N/A"),"N/A") -> 0.064
B56: Salem Keizer SD | C56: ='Math Summary'!$B$19 -> 0.37 | D56: ='Math Summary'!$C$19 -> 0.26 | E56: ='Math Summary'!$D$19 -> 0.227 | F56: ='Math Summary'!$E$19 -> 0.25 | G56: ='Math Summary'!$F$19 -> 0.258 | K56: Salem Keizer SD | L56: ='Math Summary'!$B$59 -> 0.339 | M56: ='Math Summary'!$C$59 -> 0.209 | N56: ='Math Summary'!$D$59 -> 0.222 | O56: ='Math Summary'!$E$59 -> 0.208 | P56: ='Math Summary'!$F$59 -> 0.231
B57: Change from Previous Year | D57: =if(isnumber(C56)=true,if(isnumber(D56)=true,D56-C56,"N/A"),"N/A") -> -0.11 | E57: =if(isnumber(D56)=true,if(isnumber(E56)=true,E56-D56,"N/A"),"N/A") -> -0.033 | F57: =if(isnumber(E56)=true,if(isnumber(F56)=true,F56-E56,"N/A"),"N/A") -> 0.023 | G57: =G56-F56 -> 0.008 | K57: Change from Previous Year | M57: =if(isnumber(L56)=true,if(isnumber(M56)=true,M56-L56,"N/A"),"N/A") -> -0.13 | N57: =if(isnumber(M56)=true,if(isnumber(N56)=true,N56-M56,"N/A"),"N/A") -> 0.013 | O57: =if(isnumber(N56)=true,if(isnumber(O56)=true,O56-N56,"N/A"),"N/A") -> -0.014 | P57: =P56-O56 -> 0.023
B58: Gap from Beaverton | C58: =if(isnumber(C$48)=true,if(isnumber(C56)=true,C56-C$48,"N/A"),"N/A") -> -0.262 | D58: =if(isnumber(D$48)=true,if(isnumber(D56)=true,D56-D$48,"N/A"),"N/A") -> -0.282 | E58: =if(isnumber(E$48)=true,if(isnumber(E56)=true,E56-E$48,"N/A"),"N/A") -> -0.34 | F58: =if(isnumber(F$48)=true,if(isnumber(F56)=true,F56-F$48,"N/A"),"N/A") -> -0.277 | G58: =if(isnumber(G$48)=true,if(isnumber(G56)=true,G56-G$48,"N/A"),"N/A") -> -0.222 | K58: Gap from Beaverton | L58: =if(isnumber(L$48)=true,if(isnumber(L56)=true,L56-L$48,"N/A"),"N/A") -> -0.22 | M58: =if(isnumber(M$48)=true,if(isnumber(M56)=true,M56-M$48,"N/A"),"N/A") -> -0.223 | N58: =if(isnumber(N$48)=true,if(isnumber(N56)=true,N56-N$48,"N/A"),"N/A") -> -0.193 | O58: =if(isnumber(O$48)=true,if(isnumber(O56)=true,O56-O$48,"N/A"),"N/A") -> -0.222 | P58: =if(isnumber(P$48)=true,if(isnumber(P56)=true,P56-P$48,"N/A"),"N/A") -> -0.206
B85: Grade 4 | K85: Grade 8
C86: =C45 -> 2018-19 | D86: =D45 -> 2021-22 | E86: =E45 -> 2022-23 | F86: =F45 -> 2023-24 | G86: =G45 -> 2024-25 | L86: =L45 -> 2018-19 | M86: =M45 -> 2021-22 | N86: =N45 -> 2022-23 | O86: =O45 -> 2023-24 | P86: =P45 -> 2024-25
B87: State | C87: ='Math Summary'!$B$30 -> 0.432 | D87: ='Math Summary'!$C$30 -> 0.361 | E87: ='Math Summary'!$D$30 -> 0.376 | F87: ='Math Summary'!$E$30 -> 0.377 | G87: ='Math Summary'!$F$30 -> 0.369 | K87: State | L87: ='Math Summary'!$B$70 -> 0.383 | M87: ='Math Summary'!$C$70 -> 0.259 | N87: ='Math Summary'!$D$70 -> 0.255 | O87: ='Math Summary'!$E$70 -> 0.264 | P87: ='Math Summary'!$F$70 -> 0.289
B88: Change from Previous Year | D88: =D87-C87 -> -0.071 | E88: =E87-D87 -> 0.015 | F88: =F87-E87 -> 0.001 | G88: =G87-F87 -> -0.008 | K88: Change from Previous Year | M88: =M87-L87 -> -0.124 | N88: =N87-M87 -> -0.004 | O88: =O87-N87 -> 0.009 | P88: =P87-O87 -> 0.025
B89: Beaverton SD | C89: ='Math Summary'!$B$26 -> 0.59 | D89: ='Math Summary'!$C$26 -> 0.493 | E89: ='Math Summary'!$D$26 -> 0.52 | F89: ='Math Summary'!$E$26 -> 0.535 | G89: ='Math Summary'!$F$26 -> 0.481 | K89: Beaverton SD | L89: ='Math Summary'!$B$66 -> 0.529 | M89: ='Math Summary'!$C$66 -> 0.388 | N89: ='Math Summary'!$D$66 -> 0.369 | O89: ='Math Summary'!$E$66 -> 0.355 | P89: ='Math Summary'!$F$66 -> 0.394
B90: Change from Previous Year | D90: =D89-C89 -> -0.097 | E90: =E89-D89 -> 0.027 | F90: =F89-E89 -> 0.015 | G90: =G89-F89 -> -0.054 | K90: Change from Previous Year | M90: =M89-L89 -> -0.141 | N90: =N89-M89 -> -0.019 | O90: =O89-N89 -> -0.014 | P90: =P89-O89 -> 0.039
B91: Hillsboro SD | C91: ='Math Summary'!$B$27 -> 0.41 | D91: ='Math Summary'!$C$27 -> 0.348 | E91: ='Math Summary'!$D$27 -> 0.353 | F91: ='Math Summary'!$E$27 -> 0.352 | G91: ='Math Summary'!$F$27 -> 0.353 | K91: Hillsboro SD | L91: ='Math Summary'!$B$67 -> 0.369 | M91: ='Math Summary'!$C$67 -> 0.237 | N91: ='Math Summary'!$D$67 -> 0.219 | O91: ='Math Summary'!$E$67 -> 0.222 | P91: ='Math Summary'!$F$67 -> 0.28
B92: Change from Previous Year | D92: =if(isnumber(C91)=true,if(isnumber(D91)=true,D91-C91,"N/A"),"N/A") -> -0.062 | E92: =if(isnumber(D91)=true,if(isnumber(E91)=true,E91-D91,"N/A"),"N/A") -> 0.005 | F92: =if(isnumber(E91)=true,if(isnumber(F91)=true,F91-E91,"N/A"),"N/A") -> -0.001 | G92: =G91-F91 -> 0.001 | K92: Change from Previous Year | M92: =if(isnumber(L91)=true,if(isnumber(M91)=true,M91-L91,"N/A"),"N/A") -> -0.132 | N92: =if(isnumber(M91)=true,if(isnumber(N91)=true,N91-M91,"N/A"),"N/A") -> -0.018 | O92: =if(isnumber(N91)=true,if(isnumber(O91)=true,O91-N91,"N/A"),"N/A") -> 0.003 | P92: =P91-O91 -> 0.058
B93: Gap from Beaverton | C93: =if(isnumber(C$89)=true,if(isnumber(C91)=true,C91-C$89,"N/A"),"N/A") -> -0.18 | D93: =if(isnumber(D$89)=true,if(isnumber(D91)=true,D91-D$89,"N/A"),"N/A") -> -0.145 | E93: =if(isnumber(E$89)=true,if(isnumber(E91)=true,E91-E$89,"N/A"),"N/A") -> -0.167 | F93: =if(isnumber(F$89)=true,if(isnumber(F91)=true,F91-F$89,"N/A"),"N/A") -> -0.183 | G93: =if(isnumber(G$89)=true,if(isnumber(G91)=true,G91-G$89,"N/A"),"N/A") -> -0.128 | K93: Gap from Beaverton | L93: =if(isnumber(L$89)=true,if(isnumber(L91)=true,L91-L$89,"N/A"),"N/A") -> -0.16 | M93: =if(isnumber(M$89)=true,if(isnumber(M91)=true,M91-M$89,"N/A"),"N/A") -> -0.151 | N93: =if(isnumber(N$89)=true,if(isnumber(N91)=true,N91-N$89,"N/A"),"N/A") -> -0.15 | O93: =if(isnumber(O$89)=true,if(isnumber(O91)=true,O91-O$89,"N/A"),"N/A") -> -0.133 | P93: =if(isnumber(P$89)=true,if(isnumber(P91)=true,P91-P$89,"N/A"),"N/A") -> -0.114
B94: Portland SD | C94: ='Math Summary'!$B$28 -> 0.48 | D94: ='Math Summary'!$C$28 -> 0.516 | E94: ='Math Summary'!$D$28 -> 0.543 | F94: ='Math Summary'!$E$28 -> 0.542 | G94: ='Math Summary'!$F$28 -> 0.558 | K94: Portland SD | L94: ='Math Summary'!$B$68 -> 0.47 | M94: ='Math Summary'!$C$68 -> 0.372 | N94: ='Math Summary'!$D$68 -> 0.401 | O94: ='Math Summary'!$E$68 -> 0.406 | P94: ='Math Summary'!$F$68 -> 0.458
B95: Change from Previous Year | D95: =if(isnumber(C94)=true,if(isnumber(D94)=true,D94-C94,"N/A"),"N/A") -> 0.036 | E95: =if(isnumber(D94)=true,if(isnumber(E94)=true,E94-D94,"N/A"),"N/A") -> 0.027 | F95: =if(isnumber(E94)=true,if(isnumber(F94)=true,F94-E94,"N/A"),"N/A") -> -0.001 | G95: =G94-F94 -> 0.016 | K95: Change from Previous Year | M95: =if(isnumber(L94)=true,if(isnumber(M94)=true,M94-L94,"N/A"),"N/A") -> -0.098 | N95: =if(isnumber(M94)=true,if(isnumber(N94)=true,N94-M94,"N/A"),"N/A") -> 0.029 | O95: =if(isnumber(N94)=true,if(isnumber(O94)=true,O94-N94,"N/A"),"N/A") -> 0.005 | P95: =P94-O94 -> 0.052
B96: Gap from Beaverton | C96: =if(isnumber(C$89)=true,if(isnumber(C94)=true,C94-C$89,"N/A"),"N/A") -> -0.11 | D96: =if(isnumber(D$89)=true,if(isnumber(D94)=true,D94-D$89,"N/A"),"N/A") -> 0.023 | E96: =if(isnumber(E$89)=true,if(isnumber(E94)=true,E94-E$89,"N/A"),"N/A") -> 0.023 | F96: =if(isnumber(F$89)=true,if(isnumber(F94)=true,F94-F$89,"N/A"),"N/A") -> 0.007 | G96: =if(isnumber(G$89)=true,if(isnumber(G94)=true,G94-G$89,"N/A"),"N/A") -> 0.077 | K96: Gap from Beaverton | L96: =if(isnumber(L$89)=true,if(isnumber(L94)=true,L94-L$89,"N/A"),"N/A") -> -0.059 | M96: =if(isnumber(M$89)=true,if(isnumber(M94)=true,M94-M$89,"N/A"),"N/A") -> -0.016 | N96: =if(isnumber(N$89)=true,if(isnumber(N94)=true,N94-N$89,"N/A"),"N/A") -> 0.032 | O96: =if(isnumber(O$89)=true,if(isnumber(O94)=true,O94-O$89,"N/A"),"N/A") -> 0.051 | P96: =if(isnumber(P$89)=true,if(isnumber(P94)=true,P94-P$89,"N/A"),"N/A") -> 0.064
B97: Salem Keizer SD | C97: ='Math Summary'!$B$29 -> 0.331 | D97: ='Math Summary'!$C$29 -> 0.235 | E97: ='Math Summary'!$D$29 -> 0.246 | F97: ='Math Summary'!$E$29 -> 0.227 | G97: ='Math Summary'!$F$29 -> 0.226 | K97: Salem Keizer SD | L97: ='Math Summary'!$B$69 -> 0.344 | M97: ='Math Summary'!$C$69 -> 0.208 | N97: ='Math Summary'!$D$69 -> 0.193 | O97: ='Math Summary'!$E$69 -> 0.202 | P97: ='Math Summary'!$F$69 -> 0.227
B98: Change from Previous Year | D98: =if(isnumber(C97)=true,if(isnumber(D97)=true,D97-C97,"N/A"),"N/A") -> -0.096 | E98: =if(isnumber(D97)=true,if(isnumber(E97)=true,E97-D97,"N/A"),"N/A") -> 0.011 | F98: =if(isnumber(E97)=true,if(isnumber(F97)=true,F97-E97,"N/A"),"N/A") -> -0.019 | G98: =G97-F97 -> -0.001 | K98: Change from Previous Year | M98: =if(isnumber(L97)=true,if(isnumber(M97)=true,M97-L97,"N/A"),"N/A") -> -0.136 | N98: =if(isnumber(M97)=true,if(isnumber(N97)=true,N97-M97,"N/A"),"N/A") -> -0.015 | O98: =if(isnumber(N97)=true,if(isnumber(O97)=true,O97-N97,"N/A"),"N/A") -> 0.009 | P98: =P97-O97 -> 0.025
B99: Gap from Beaverton | C99: =if(isnumber(C$89)=true,if(isnumber(C97)=true,C97-C$89,"N/A"),"N/A") -> -0.259 | D99: =if(isnumber(D$89)=true,if(isnumber(D97)=true,D97-D$89,"N/A"),"N/A") -> -0.258 | E99: =if(isnumber(E$89)=true,if(isnumber(E97)=true,E97-E$89,"N/A"),"N/A") -> -0.274 | F99: =if(isnumber(F$89)=true,if(isnumber(F97)=true,F97-F$89,"N/A"),"N/A") -> -0.308 | G99: =if(isnumber(G$89)=true,if(isnumber(G97)=true,G97-G$89,"N/A"),"N/A") -> -0.255 | K99: Gap from Beaverton | L99: =if(isnumber(L$89)=true,if(isnumber(L97)=true,L97-L$89,"N/A"),"N/A") -> -0.185 | M99: =if(isnumber(M$89)=true,if(isnumber(M97)=true,M97-M$89,"N/A"),"N/A") -> -0.18 | N99: =if(isnumber(N$89)=true,if(isnumber(N97)=true,N97-N$89,"N/A"),"N/A") -> -0.176 | O99: =if(isnumber(O$89)=true,if(isnumber(O97)=true,O97-O$89,"N/A"),"N/A") -> -0.153 | P99: =if(isnumber(P$89)=true,if(isnumber(P97)=true,P97-P$89,"N/A"),"N/A") -> -0.167
B126: Grade 5 | K126: High School (Grade 11)
C127: =C86 -> 2018-19 | D127: =D86 -> 2021-22 | E127: =E86 -> 2022-23 | F127: =F86 -> 2023-24 | G127: =G86 -> 2024-25 | L127: =L86 -> 2018-19 | M127: =M86 -> 2021-22 | N127: =N86 -> 2022-23 | O127: =O86 -> 2023-24 | P127: =P86 -> 2024-25
B128: State | C128: ='Math Summary'!$B$40 -> 0.378 | D128: ='Math Summary'!$C$40 -> 0.3 | E128: ='Math Summary'!$D$40 -> 0.307 | F128: ='Math Summary'!$E$40 -> 0.314 | G128: ='Math Summary'!$F$40 -> 0.313 | K128: State | L128: ='Math Summary'!$B$80 -> 0.321 | M128: ='Math Summary'!$C$80 -> 0.204 | N128: ='Math Summary'!$D$80 -> 0.204 | O128: ='Math Summary'!$E$80 -> 0.2 | P128: ='Math Summary'!$F$80 -> 0.203
B129: Change from Previous Year | D129: =D128-C128 -> -0.078 | E129: =E128-D128 -> 0.007 | F129: =F128-E128 -> 0.007 | G129: =G128-F128 -> -0.001 | K129: Change from Previous Year | M129: =M128-L128 -> -0.117 | N129: =N128-M128 -> 0 | O129: =O128-N128 -> -0.004 | P129: =P128-O128 -> 0.003
B130: Beaverton SD | C130: ='Math Summary'!$B$36 -> 0.524 | D130: ='Math Summary'!$C$36 -> 0.464 | E130: ='Math Summary'!$D$36 -> 0.472 | F130: ='Math Summary'!$E$36 -> 0.483 | G130: ='Math Summary'!$F$36 -> 0.478 | K130: Beaverton SD | L130: ='Math Summary'!$B$76 -> 0.389 | M130: ='Math Summary'!$C$76 -> 0.372 | N130: ='Math Summary'!$D$76 -> 0.328 | O130: ='Math Summary'!$E$76 -> 0.272 | P130: ='Math Summary'!$F$76 -> 0.303
B131: Change from Previous Year | D131: =D130-C130 -> -0.06 | E131: =E130-D130 -> 0.008 | F131: =F130-E130 -> 0.011 | G131: =G130-F130 -> -0.005 | K131: Change from Previous Year | M131: =M130-L130 -> -0.017 | N131: =N130-M130 -> -0.044 | O131: =O130-N130 -> -0.056 | P131: =P130-O130 -> 0.031
B132: Hillsboro SD | C132: ='Math Summary'!$B$37 -> 0.373 | D132: ='Math Summary'!$C$37 -> 0.302 | E132: ='Math Summary'!$D$37 -> 0.298 | F132: ='Math Summary'!$E$37 -> 0.289 | G132: ='Math Summary'!$F$37 -> 0.267 | K132: Hillsboro SD | L132: ='Math Summary'!$B$77 -> 0.322 | M132: ='Math Summary'!$C$77 -> 0.183 | N132: ='Math Summary'!$D$77 -> 0.199 | O132: ='Math Summary'!$E$77 -> 0.143 | P132: ='Math Summary'!$F$77 -> 0.162
B133: Change from Previous Year | D133: =if(isnumber(C132)=true,if(isnumber(D132)=true,D132-C132,"N/A"),"N/A") -> -0.071 | E133: =if(isnumber(D132)=true,if(isnumber(E132)=true,E132-D132,"N/A"),"N/A") -> -0.004 | F133: =if(isnumber(E132)=true,if(isnumber(F132)=true,F132-E132,"N/A"),"N/A") -> -0.009 | G133: =G132-F132 -> -0.022 | K133: Change from Previous Year | M133: =if(isnumber(L132)=true,if(isnumber(M132)=true,M132-L132,"N/A"),"N/A") -> -0.139 | N133: =if(isnumber(M132)=true,if(isnumber(N132)=true,N132-M132,"N/A"),"N/A") -> 0.016 | O133: =if(isnumber(N132)=true,if(isnumber(O132)=true,O132-N132,"N/A"),"N/A") -> -0.056 | P133: =P132-O132 -> 0.019
B134: Gap from Beaverton | C134: =if(isnumber(C$130)=true,if(isnumber(C132)=true,C132-C$130,"N/A"),"N/A") -> -0.151 | D134: =if(isnumber(D$130)=true,if(isnumber(D132)=true,D132-D$130,"N/A"),"N/A") -> -0.162 | E134: =if(isnumber(E$130)=true,if(isnumber(E132)=true,E132-E$130,"N/A"),"N/A") -> -0.174 | F134: =if(isnumber(F$130)=true,if(isnumber(F132)=true,F132-F$130,"N/A"),"N/A") -> -0.194 | G134: =if(isnumber(G$130)=true,if(isnumber(G132)=true,G132-G$130,"N/A"),"N/A") -> -0.211 | K134: Gap from Beaverton | L134: =if(isnumber(L$130)=true,if(isnumber(L132)=true,L132-L$130,"N/A"),"N/A") -> -0.067 | M134: =if(isnumber(M$130)=true,if(isnumber(M132)=true,M132-M$130,"N/A"),"N/A") -> -0.189 | N134: =if(isnumber(N$130)=true,if(isnumber(N132)=true,N132-N$130,"N/A"),"N/A") -> -0.129 | O134: =if(isnumber(O$130)=true,if(isnumber(O132)=true,O132-O$130,"N/A"),"N/A") -> -0.129 | P134: =if(isnumber(P$130)=true,if(isnumber(P132)=true,P132-P$130,"N/A"),"N/A") -> -0.141
B135: Portland SD | C135: ='Math Summary'!$B$38 -> 0.432 | D135: ='Math Summary'!$C$38 -> 0.431 | E135: ='Math Summary'!$D$38 -> 0.465 | F135: ='Math Summary'!$E$38 -> 0.468 | G135: ='Math Summary'!$F$38 -> 0.487 | K135: Portland SD | L135: ='Math Summary'!$B$78 -> 0.306 | M135: ='Math Summary'!$C$78 -> 0.221 | N135: ='Math Summary'!$D$78 -> 0.273 | O135: ='Math Summary'!$E$78 -> 0.266 | P135: ='Math Summary'!$F$78 -> 0.299
B136: Change from Previous Year | D136: =if(isnumber(C135)=true,if(isnumber(D135)=true,D135-C135,"N/A"),"N/A") -> -0.001 | E136: =if(isnumber(D135)=true,if(isnumber(E135)=true,E135-D135,"N/A"),"N/A") -> 0.034 | F136: =if(isnumber(E135)=true,if(isnumber(F135)=true,F135-E135,"N/A"),"N/A") -> 0.003 | G136: =G135-F135 -> 0.019 | K136: Change from Previous Year | M136: =if(isnumber(L135)=true,if(isnumber(M135)=true,M135-L135,"N/A"),"N/A") -> -0.085 | N136: =if(isnumber(M135)=true,if(isnumber(N135)=true,N135-M135,"N/A"),"N/A") -> 0.052 | O136: =if(isnumber(N135)=true,if(isnumber(O135)=true,O135-N135,"N/A"),"N/A") -> -0.007 | P136: =P135-O135 -> 0.033
B137: Gap from Beaverton | C137: =if(isnumber(C$130)=true,if(isnumber(C135)=true,C135-C$130,"N/A"),"N/A") -> -0.092 | D137: =if(isnumber(D$130)=true,if(isnumber(D135)=true,D135-D$130,"N/A"),"N/A") -> -0.033 | E137: =if(isnumber(E$130)=true,if(isnumber(E135)=true,E135-E$130,"N/A"),"N/A") -> -0.007 | F137: =if(isnumber(F$130)=true,if(isnumber(F135)=true,F135-F$130,"N/A"),"N/A") -> -0.015 | G137: =if(isnumber(G$130)=true,if(isnumber(G135)=true,G135-G$130,"N/A"),"N/A") -> 0.009 | K137: Gap from Beaverton | L137: =if(isnumber(L$130)=true,if(isnumber(L135)=true,L135-L$130,"N/A"),"N/A") -> -0.083 | M137: =if(isnumber(M$130)=true,if(isnumber(M135)=true,M135-M$130,"N/A"),"N/A") -> -0.151 | N137: =if(isnumber(N$130)=true,if(isnumber(N135)=true,N135-N$130,"N/A"),"N/A") -> -0.055 | O137: =if(isnumber(O$130)=true,if(isnumber(O135)=true,O135-O$130,"N/A"),"N/A") -> -0.006 | P137: =if(isnumber(P$130)=true,if(isnumber(P135)=true,P135-P$130,"N/A"),"N/A") -> -0.004
B138: Salem Keizer SD | C138: ='Math Summary'!$B$39 -> 0.299 | D138: ='Math Summary'!$C$39 -> 0.202 | E138: ='Math Summary'!$D$39 -> 0.202 | F138: ='Math Summary'!$E$39 -> 0.206 | G138: ='Math Summary'!$F$39 -> 0.193 | K138: Salem Keizer SD | L138: ='Math Summary'!$B$79 -> 0.35 | M138: ='Math Summary'!$C$79 -> 0.135 | N138: ='Math Summary'!$D$79 -> 0.124 | O138: ='Math Summary'!$E$79 -> 0.111 | P138: ='Math Summary'!$F$79 -> 0.101
B139: Change from Previous Year | D139: =if(isnumber(C138)=true,if(isnumber(D138)=true,D138-C138,"N/A"),"N/A") -> -0.097 | E139: =if(isnumber(D138)=true,if(isnumber(E138)=true,E138-D138,"N/A"),"N/A") -> 0 | F139: =if(isnumber(E138)=true,if(isnumber(F138)=true,F138-E138,"N/A"),"N/A") -> 0.004 | G139: =G138-F138 -> -0.013 | K139: Change from Previous Year | M139: =if(isnumber(L138)=true,if(isnumber(M138)=true,M138-L138,"N/A"),"N/A") -> -0.215 | N139: =if(isnumber(M138)=true,if(isnumber(N138)=true,N138-M138,"N/A"),"N/A") -> -0.011 | O139: =if(isnumber(N138)=true,if(isnumber(O138)=true,O138-N138,"N/A"),"N/A") -> -0.013 | P139: =P138-O138 -> -0.01
B140: Gap from Beaverton | C140: =if(isnumber(C$130)=true,if(isnumber(C138)=true,C138-C$130,"N/A"),"N/A") -> -0.225 | D140: =if(isnumber(D$130)=true,if(isnumber(D138)=true,D138-D$130,"N/A"),"N/A") -> -0.262 | E140: =if(isnumber(E$130)=true,if(isnumber(E138)=true,E138-E$130,"N/A"),"N/A") -> -0.27 | F140: =if(isnumber(F$130)=true,if(isnumber(F138)=true,F138-F$130,"N/A"),"N/A") -> -0.277 | G140: =if(isnumber(G$130)=true,if(isnumber(G138)=true,G138-G$130,"N/A"),"N/A") -> -0.285 | K140: Gap from Beaverton | L140: =if(isnumber(L$130)=true,if(isnumber(L138)=true,L138-L$130,"N/A"),"N/A") -> -0.039 | M140: =if(isnumber(M$130)=true,if(isnumber(M138)=true,M138-M$130,"N/A"),"N/A") -> -0.237 | N140: =if(isnumber(N$130)=true,if(isnumber(N138)=true,N138-N$130,"N/A"),"N/A") -> -0.204 | O140: =if(isnumber(O$130)=true,if(isnumber(O138)=true,O138-O$130,"N/A"),"N/A") -> -0.161 | P140: =if(isnumber(P$130)=true,if(isnumber(P138)=true,P138-P$130,"N/A"),"N/A") -> -0.202
B167: Elementary School (Grades 3, 4, 5) | K167: Middle School (Grades 6, 7, 8)
C168: =C127 -> 2018-19 | D168: =D127 -> 2021-22 | E168: =E127 -> 2022-23 | F168: =F127 -> 2023-24 | G168: =G127 -> 2024-25 | L168: =L127 -> 2018-19 | M168: =M127 -> 2021-22 | N168: =N127 -> 2022-23 | O168: =O127 -> 2023-24 | P168: =P127 -> 2024-25
B169: State | C169: ='Math Summary'!B110 -> 0.424 | D169: ='Math Summary'!C110 -> 0.351 | E169: ='Math Summary'!D110 -> 0.36 | F169: ='Math Summary'!E110 -> 0.363 | G169: ='Math Summary'!F110 -> 0.361 | K169: State | L169: ='Math Summary'!B140 -> 0.385 | M169: ='Math Summary'!C140 -> 0.277 | N169: ='Math Summary'!D140 -> 0.278 | O169: ='Math Summary'!E140 -> 0.284 | P169: ='Math Summary'!F140 -> 0.299
B170: Change from Previous Year | D170: =D169-C169 -> -0.073 | E170: =E169-D169 -> 0.009 | F170: =F169-E169 -> 0.003 | G170: =G169-F169 -> -0.002 | K170: Change from Previous Year | M170: =M169-L169 -> -0.108 | N170: =N169-M169 -> 0.001 | O170: =O169-N169 -> 0.006 | P170: =P169-O169 -> 0.015
B171: Beaverton SD | C171: ='Math Summary'!B106 -> 0.581 | D171: ='Math Summary'!C106 -> 0.5 | E171: ='Math Summary'!D106 -> 0.52 | F171: ='Math Summary'!E106 -> 0.515 | G171: ='Math Summary'!F106 -> 0.48 | K171: Beaverton SD | L171: ='Math Summary'!B136 -> 0.526 | M171: ='Math Summary'!C136 -> 0.406 | N171: ='Math Summary'!D136 -> 0.397 | O171: ='Math Summary'!E136 -> 0.405 | P171: ='Math Summary'!F136 -> 0.413
B172: Change from Previous Year | D172: =D171-C171 -> -0.081 | E172: =E171-D171 -> 0.02 | F172: =F171-E171 -> -0.005 | G172: =G171-F171 -> -0.035 | K172: Change from Previous Year | M172: =M171-L171 -> -0.12 | N172: =N171-M171 -> -0.009 | O172: =O171-N171 -> 0.008 | P172: =P171-O171 -> 0.008
B173: Hillsboro SD | C173: ='Math Summary'!B107 -> 0.409 | D173: ='Math Summary'!C107 -> 0.343 | E173: ='Math Summary'!D107 -> 0.346 | F173: ='Math Summary'!E107 -> 0.347 | G173: ='Math Summary'!F107 -> 0.334 | K173: Hillsboro SD | L173: ='Math Summary'!B137 -> 0.392 | M173: ='Math Summary'!C137 -> 0.269 | N173: ='Math Summary'!D137 -> 0.281 | O173: ='Math Summary'!E137 -> 0.274 | P173: ='Math Summary'!F137 -> 0.289
B174: Change from Previous Year | D174: =if(isnumber(C173)=true,if(isnumber(D173)=true,D173-C173,"N/A"),"N/A") -> -0.066 | E174: =if(isnumber(D173)=true,if(isnumber(E173)=true,E173-D173,"N/A"),"N/A") -> 0.003 | F174: =if(isnumber(E173)=true,if(isnumber(F173)=true,F173-E173,"N/A"),"N/A") -> 0.001 | G174: =G173-F173 -> -0.013 | K174: Change from Previous Year | M174: =if(isnumber(L173)=true,if(isnumber(M173)=true,M173-L173,"N/A"),"N/A") -> -0.123 | N174: =if(isnumber(M173)=true,if(isnumber(N173)=true,N173-M173,"N/A"),"N/A") -> 0.012 | O174: =if(isnumber(N173)=true,if(isnumber(O173)=true,O173-N173,"N/A"),"N/A") -> -0.007 | P174: =P173-O173 -> 0.015
B175: Gap from Beaverton | C175: =if(isnumber(C$171)=true,if(isnumber(C173)=true,C173-C$130,"N/A"),"N/A") -> -0.115 | D175: =if(isnumber(D$171)=true,if(isnumber(D173)=true,D173-D$130,"N/A"),"N/A") -> -0.121 | E175: =if(isnumber(E$171)=true,if(isnumber(E173)=true,E173-E$130,"N/A"),"N/A") -> -0.126 | F175: =if(isnumber(F$171)=true,if(isnumber(F173)=true,F173-F$130,"N/A"),"N/A") -> -0.136 | G175: =if(isnumber(G$171)=true,if(isnumber(G173)=true,G173-G$130,"N/A"),"N/A") -> -0.144 | K175: Gap from Beaverton | L175: =if(isnumber(L$171)=true,if(isnumber(L173)=true,L173-L$130,"N/A"),"N/A") -> 0.003 | M175: =if(isnumber(M$171)=true,if(isnumber(M173)=true,M173-M$130,"N/A"),"N/A") -> -0.103 | N175: =if(isnumber(N$171)=true,if(isnumber(N173)=true,N173-N$130,"N/A"),"N/A") -> -0.047 | O175: =if(isnumber(O$171)=true,if(isnumber(O173)=true,O173-O$130,"N/A"),"N/A") -> 0.002 | P175: =if(isnumber(P$171)=true,if(isnumber(P173)=true,P173-P$130,"N/A"),"N/A") -> -0.014
B176: Portland SD | C176: ='Math Summary'!B108 -> 0.48 | D176: ='Math Summary'!C108 -> 0.5 | E176: ='Math Summary'!D108 -> 0.524 | F176: ='Math Summary'!E108 -> 0.526 | G176: ='Math Summary'!F108 -> 0.534 | K176: Portland SD | L176: ='Math Summary'!B138 -> 0.462 | M176: ='Math Summary'!C138 -> 0.393 | N176: ='Math Summary'!D138 -> 0.43 | O176: ='Math Summary'!E138 -> 0.44 | P176: ='Math Summary'!F138 -> 0.474
B177: Change from Previous Year | D177: =if(isnumber(C176)=true,if(isnumber(D176)=true,D176-C176,"N/A"),"N/A") -> 0.02 | E177: =if(isnumber(D176)=true,if(isnumber(E176)=true,E176-D176,"N/A"),"N/A") -> 0.024 | F177: =if(isnumber(E176)=true,if(isnumber(F176)=true,F176-E176,"N/A"),"N/A") -> 0.002 | G177: =G176-F176 -> 0.008 | K177: Change from Previous Year | M177: =if(isnumber(L176)=true,if(isnumber(M176)=true,M176-L176,"N/A"),"N/A") -> -0.069 | N177: =if(isnumber(M176)=true,if(isnumber(N176)=true,N176-M176,"N/A"),"N/A") -> 0.037 | O177: =if(isnumber(N176)=true,if(isnumber(O176)=true,O176-N176,"N/A"),"N/A") -> 0.01 | P177: =P176-O176 -> 0.034
B178: Gap from Beaverton | C178: =if(isnumber(C$171)=true,if(isnumber(C176)=true,C176-C$130,"N/A"),"N/A") -> -0.044 | D178: =if(isnumber(D$171)=true,if(isnumber(D176)=true,D176-D$130,"N/A"),"N/A") -> 0.036 | E178: =if(isnumber(E$171)=true,if(isnumber(E176)=true,E176-E$130,"N/A"),"N/A") -> 0.052 | F178: =if(isnumber(F$171)=true,if(isnumber(F176)=true,F176-F$130,"N/A"),"N/A") -> 0.043 | G178: =if(isnumber(G$171)=true,if(isnumber(G176)=true,G176-G$130,"N/A"),"N/A") -> 0.056 | K178: Gap from Beaverton | L178: =if(isnumber(L$171)=true,if(isnumber(L176)=true,L176-L$130,"N/A"),"N/A") -> 0.073 | M178: =if(isnumber(M$171)=true,if(isnumber(M176)=true,M176-M$130,"N/A"),"N/A") -> 0.021 | N178: =if(isnumber(N$171)=true,if(isnumber(N176)=true,N176-N$130,"N/A"),"N/A") -> 0.102 | O178: =if(isnumber(O$171)=true,if(isnumber(O176)=true,O176-O$130,"N/A"),"N/A") -> 0.168 | P178: =if(isnumber(P$171)=true,if(isnumber(P176)=true,P176-P$130,"N/A"),"N/A") -> 0.171
B179: Salem Keizer SD | C179: ='Math Summary'!B109 -> 0.333 | D179: ='Math Summary'!C109 -> 0.232 | E179: ='Math Summary'!D109 -> 0.225 | F179: ='Math Summary'!E109 -> 0.227 | G179: ='Math Summary'!F109 -> 0.225 | K179: Salem Keizer SD | L179: ='Math Summary'!B139 -> 0.325 | M179: ='Math Summary'!C139 -> 0.207 | N179: ='Math Summary'!D139 -> 0.203 | O179: ='Math Summary'!E139 -> 0.199 | P179: ='Math Summary'!F139 -> 0.227
B180: Change from Previous Year | D180: =if(isnumber(C179)=true,if(isnumber(D179)=true,D179-C179,"N/A"),"N/A") -> -0.101 | E180: =if(isnumber(D179)=true,if(isnumber(E179)=true,E179-D179,"N/A"),"N/A") -> -0.007 | F180: =if(isnumber(E179)=true,if(isnumber(F179)=true,F179-E179,"N/A"),"N/A") -> 0.002 | G180: =G179-F179 -> -0.002 | K180: Change from Previous Year | M180: =if(isnumber(L179)=true,if(isnumber(M179)=true,M179-L179,"N/A"),"N/A") -> -0.118 | N180: =if(isnumber(M179)=true,if(isnumber(N179)=true,N179-M179,"N/A"),"N/A") -> -0.004 | O180: =if(isnumber(N179)=true,if(isnumber(O179)=true,O179-N179,"N/A"),"N/A") -> -0.004 | P180: =P179-O179 -> 0.028
B181: Gap from Beaverton | C181: =if(isnumber(C$171)=true,if(isnumber(C179)=true,C179-C$130,"N/A"),"N/A") -> -0.191 | D181: =if(isnumber(D$171)=true,if(isnumber(D179)=true,D179-D$130,"N/A"),"N/A") -> -0.232 | E181: =if(isnumber(E$171)=true,if(isnumber(E179)=true,E179-E$130,"N/A"),"N/A") -> -0.247 | F181: =if(isnumber(F$171)=true,if(isnumber(F179)=true,F179-F$130,"N/A"),"N/A") -> -0.256 | G181: =if(isnumber(G$171)=true,if(isnumber(G179)=true,G179-G$130,"N/A"),"N/A") -> -0.253 | K181: Gap from Beaverton | L181: =if(isnumber(L$171)=true,if(isnumber(L179)=true,L179-L$130,"N/A"),"N/A") -> -0.064 | M181: =if(isnumber(M$171)=true,if(isnumber(M179)=true,M179-M$130,"N/A"),"N/A") -> -0.165 | N181: =if(isnumber(N$171)=true,if(isnumber(N179)=true,N179-N$130,"N/A"),"N/A") -> -0.125 | O181: =if(isnumber(O$171)=true,if(isnumber(O179)=true,O179-O$130,"N/A"),"N/A") -> -0.073 | P181: =if(isnumber(P$171)=true,if(isnumber(P179)=true,P179-P$130,"N/A"),"N/A") -> -0.076

Sheet Math Proficiency by Race
A1: OSAS Math Proficiency
B2: *Prior to 2024-25, ODE counted students taking extended assessments as not proficient in these assessment reports. However, ODE received approval from the U.S. Department of Education to count as proficient those students who met the alternate standard on Extended Assessments.
B3: Total Population (All Students) | K3: Hispanic/Latino Students
C4: ='Math Proficiency by Grade'!C4 -> 2018-19 | D4: ='Math Proficiency by Grade'!D4 -> 2021-22 | E4: ='Math Proficiency by Grade'!E4 -> 2022-23 | F4: ='Math Proficiency by Grade'!F4 -> 2023-24 | G4: ='Math Proficiency by Grade'!G4 -> 2024-25 | L4: ='Math Proficiency by Grade'!L4 -> 2018-19 | M4: ='Math Proficiency by Grade'!M4 -> 2021-22 | N4: ='Math Proficiency by Grade'!N4 -> 2022-23 | O4: ='Math Proficiency by Grade'!O4 -> 2023-24 | P4: ='Math Proficiency by Grade'!P4 -> 2024-25
B5: State | C5: ='Math Summary'!$I$10 -> 0.394 | D5: ='Math Summary'!$J$10 -> 0.304 | E5: ='Math Summary'!$K$10 -> 0.306 | F5: ='Math Summary'!$L$10 -> 0.31 | G5: ='Math Summary'!$M$10 -> 0.315 | K5: State | L5: ='Math Summary'!$I$50 -> 0.236 | M5: ='Math Summary'!$J$50 -> 0.151 | N5: ='Math Summary'!$K$50 -> 0.151 | O5: ='Math Summary'!$L$50 -> 0.153 | P5: ='Math Summary'!$M$50 -> 0.16
B6: Change from Previous Year | D6: =if(isnumber(C5)=true,if(isnumber(D5)=true,D5-C5,"N/A"),"N/A") -> -0.09 | E6: =if(isnumber(D5)=true,if(isnumber(E5)=true,E5-D5,"N/A"),"N/A") -> 0.002 | F6: =if(isnumber(E5)=true,if(isnumber(F5)=true,F5-E5,"N/A"),"N/A") -> 0.004 | G6: =if(isnumber(F5)=true,if(isnumber(G5)=true,G5-F5,"N/A"),"N/A") -> 0.005 | K6: Change from Previous Year | M6: =if(isnumber(L5)=true,if(isnumber(M5)=true,M5-L5,"N/A"),"N/A") -> -0.085 | N6: =if(isnumber(M5)=true,if(isnumber(N5)=true,N5-M5,"N/A"),"N/A") -> 0 | O6: =if(isnumber(N5)=true,if(isnumber(O5)=true,O5-N5,"N/A"),"N/A") -> 0.002 | P6: =if(isnumber(O5)=true,if(isnumber(P5)=true,P5-O5,"N/A"),"N/A") -> 0.007
B7: Beaverton SD | C7: ='Math Summary'!$I$6 -> 0.537 | D7: ='Math Summary'!$J$6 -> 0.449 | E7: ='Math Summary'!$K$6 -> 0.449 | F7: ='Math Summary'!$L$6 -> 0.44 | G7: ='Math Summary'!$M$6 -> 0.43 | K7: Beaverton SD | L7: ='Math Summary'!$I$46 -> 0.279 | M7: ='Math Summary'!$J$46 -> 0.188 | N7: ='Math Summary'!$K$46 -> 0.174 | O7: ='Math Summary'!$L$46 -> 0.167 | P7: ='Math Summary'!$M$46 -> 0.164
B8: Change from Previous Year | D8: =if(isnumber(C7)=true,if(isnumber(D7)=true,D7-C7,"N/A"),"N/A") -> -0.088 | E8: =if(isnumber(D7)=true,if(isnumber(E7)=true,E7-D7,"N/A"),"N/A") -> 0 | F8: =if(isnumber(E7)=true,if(isnumber(F7)=true,F7-E7,"N/A"),"N/A") -> -0.009 | G8: =if(isnumber(F7)=true,if(isnumber(G7)=true,G7-F7,"N/A"),"N/A") -> -0.01 | K8: Change from Previous Year | M8: =if(isnumber(L7)=true,if(isnumber(M7)=true,M7-L7,"N/A"),"N/A") -> -0.091 | N8: =if(isnumber(M7)=true,if(isnumber(N7)=true,N7-M7,"N/A"),"N/A") -> -0.014 | O8: =if(isnumber(N7)=true,if(isnumber(O7)=true,O7-N7,"N/A"),"N/A") -> -0.007 | P8: =if(isnumber(O7)=true,if(isnumber(P7)=true,P7-O7,"N/A"),"N/A") -> -0.003
B9: Hillsboro SD | C9: ='Math Summary'!$I$7 -> 0.39 | D9: ='Math Summary'!$J$7 -> 0.293 | E9: ='Math Summary'!$K$7 -> 0.301 | F9: ='Math Summary'!$L$7 -> 0.29 | G9: ='Math Summary'!$M$7 -> 0.294 | K9: Hillsboro SD | L9: ='Math Summary'!$I$47 -> 0.208 | M9: ='Math Summary'!$J$47 -> 0.13 | N9: ='Math Summary'!$K$47 -> 0.137 | O9: ='Math Summary'!$L$47 -> 0.124 | P9: ='Math Summary'!$M$47 -> 0.124
B10: Change from Previous Year | D10: =if(isnumber(C9)=true,if(isnumber(D9)=true,D9-C9,"N/A"),"N/A") -> -0.097 | E10: =if(isnumber(D9)=true,if(isnumber(E9)=true,E9-D9,"N/A"),"N/A") -> 0.008 | F10: =if(isnumber(E9)=true,if(isnumber(F9)=true,F9-E9,"N/A"),"N/A") -> -0.011 | G10: =if(isnumber(F9)=true,if(isnumber(G9)=true,G9-F9,"N/A"),"N/A") -> 0.004 | K10: Change from Previous Year | M10: =if(isnumber(L9)=true,if(isnumber(M9)=true,M9-L9,"N/A"),"N/A") -> -0.078 | N10: =if(isnumber(M9)=true,if(isnumber(N9)=true,N9-M9,"N/A"),"N/A") -> 0.007 | O10: =if(isnumber(N9)=true,if(isnumber(O9)=true,O9-N9,"N/A"),"N/A") -> -0.013 | P10: =if(isnumber(O9)=true,if(isnumber(P9)=true,P9-O9,"N/A"),"N/A") -> 0
B11: Gap from Beaverton | C11: =if(isnumber(C$7)=true,if(isnumber(C9)=true,C9-C$7,"N/A"),"N/A") -> -0.147 | D11: =if(isnumber(D$7)=true,if(isnumber(D9)=true,D9-D$7,"N/A"),"N/A") -> -0.156 | E11: =if(isnumber(E$7)=true,if(isnumber(E9)=true,E9-E$7,"N/A"),"N/A") -> -0.148 | F11: =if(isnumber(F$7)=true,if(isnumber(F9)=true,F9-F$7,"N/A"),"N/A") -> -0.15 | G11: =if(isnumber(G$7)=true,if(isnumber(G9)=true,G9-G$7,"N/A"),"N/A") -> -0.136 | K11: Gap from Beaverton | L11: =if(isnumber(L$7)=true,if(isnumber(L9)=true,L9-L$7,"N/A"),"N/A") -> -0.071 | M11: =if(isnumber(M$7)=true,if(isnumber(M9)=true,M9-M$7,"N/A"),"N/A") -> -0.058 | N11: =if(isnumber(N$7)=true,if(isnumber(N9)=true,N9-N$7,"N/A"),"N/A") -> -0.037 | O11: =if(isnumber(O$7)=true,if(isnumber(O9)=true,O9-O$7,"N/A"),"N/A") -> -0.043 | P11: =if(isnumber(P$7)=true,if(isnumber(P9)=true,P9-P$7,"N/A"),"N/A") -> -0.04
B12: Portland SD | C12: ='Math Summary'!$I$8 -> 0.458 | D12: ='Math Summary'!$J$8 -> 0.438 | E12: ='Math Summary'!$K$8 -> 0.462 | F12: ='Math Summary'!$L$8 -> 0.464 | G12: ='Math Summary'!$M$8 -> 0.485 | K12: Portland SD | L12: ='Math Summary'!$I$48 -> 0.233 | M12: ='Math Summary'!$J$48 -> 0.208 | N12: ='Math Summary'!$K$48 -> 0.232 | O12: ='Math Summary'!$L$48 -> 0.24 | P12: ='Math Summary'!$M$48 -> 0.246
B13: Change from Previous Year | D13: =if(isnumber(C12)=true,if(isnumber(D12)=true,D12-C12,"N/A"),"N/A") -> -0.02 | E13: =if(isnumber(D12)=true,if(isnumber(E12)=true,E12-D12,"N/A"),"N/A") -> 0.024 | F13: =if(isnumber(E12)=true,if(isnumber(F12)=true,F12-E12,"N/A"),"N/A") -> 0.002 | G13: =if(isnumber(F12)=true,if(isnumber(G12)=true,G12-F12,"N/A"),"N/A") -> 0.021 | K13: Change from Previous Year | M13: =if(isnumber(L12)=true,if(isnumber(M12)=true,M12-L12,"N/A"),"N/A") -> -0.025 | N13: =if(isnumber(M12)=true,if(isnumber(N12)=true,N12-M12,"N/A"),"N/A") -> 0.024 | O13: =if(isnumber(N12)=true,if(isnumber(O12)=true,O12-N12,"N/A"),"N/A") -> 0.008 | P13: =if(isnumber(O12)=true,if(isnumber(P12)=true,P12-O12,"N/A"),"N/A") -> 0.006
B14: Gap from Beaverton | C14: =if(isnumber(C$7)=true,if(isnumber(C12)=true,C12-C$7,"N/A"),"N/A") -> -0.079 | D14: =if(isnumber(D$7)=true,if(isnumber(D12)=true,D12-D$7,"N/A"),"N/A") -> -0.011 | E14: =if(isnumber(E$7)=true,if(isnumber(E12)=true,E12-E$7,"N/A"),"N/A") -> 0.013 | F14: =if(isnumber(F$7)=true,if(isnumber(F12)=true,F12-F$7,"N/A"),"N/A") -> 0.024 | G14: =if(isnumber(G$7)=true,if(isnumber(G12)=true,G12-G$7,"N/A"),"N/A") -> 0.055 | K14: Gap from Beaverton | L14: =if(isnumber(L$7)=true,if(isnumber(L12)=true,L12-L$7,"N/A"),"N/A") -> -0.046 | M14: =if(isnumber(M$7)=true,if(isnumber(M12)=true,M12-M$7,"N/A"),"N/A") -> 0.02 | N14: =if(isnumber(N$7)=true,if(isnumber(N12)=true,N12-N$7,"N/A"),"N/A") -> 0.058 | O14: =if(isnumber(O$7)=true,if(isnumber(O12)=true,O12-O$7,"N/A"),"N/A") -> 0.073 | P14: =if(isnumber(P$7)=true,if(isnumber(P12)=true,P12-P$7,"N/A"),"N/A") -> 0.082
B15: Salem Keizer SD | C15: ='Math Summary'!$I$9 -> 0.331 | D15: ='Math Summary'!$J$9 -> 0.21 | E15: ='Math Summary'!$K$9 -> 0.202 | F15: ='Math Summary'!$L$9 -> 0.2 | G15: ='Math Summary'!$M$9 -> 0.209 | K15: Salem Keizer SD | L15: ='Math Summary'!$I$49 -> 0.216 | M15: ='Math Summary'!$J$49 -> 0.119 | N15: ='Math Summary'!$K$49 -> 0.112 | O15: ='Math Summary'!$L$49 -> 0.115 | P15: ='Math Summary'!$M$49 -> 0.123
B16: Change from Previous Year | D16: =if(isnumber(C15)=true,if(isnumber(D15)=true,D15-C15,"N/A"),"N/A") -> -0.121 | E16: =if(isnumber(D15)=true,if(isnumber(E15)=true,E15-D15,"N/A"),"N/A") -> -0.008 | F16: =if(isnumber(E15)=true,if(isnumber(F15)=true,F15-E15,"N/A"),"N/A") -> -0.002 | G16: =if(isnumber(F15)=true,if(isnumber(G15)=true,G15-F15,"N/A"),"N/A") -> 0.009 | K16: Change from Previous Year | M16: =if(isnumber(L15)=true,if(isnumber(M15)=true,M15-L15,"N/A"),"N/A") -> -0.097 | N16: =if(isnumber(M15)=true,if(isnumber(N15)=true,N15-M15,"N/A"),"N/A") -> -0.007 | O16: =if(isnumber(N15)=true,if(isnumber(O15)=true,O15-N15,"N/A"),"N/A") -> 0.003 | P16: =if(isnumber(O15)=true,if(isnumber(P15)=true,P15-O15,"N/A"),"N/A") -> 0.008
B17: Gap from Beaverton | C17: =if(isnumber(C$7)=true,if(isnumber(C15)=true,C15-C$7,"N/A"),"N/A") -> -0.206 | D17: =if(isnumber(D$7)=true,if(isnumber(D15)=true,D15-D$7,"N/A"),"N/A") -> -0.239 | E17: =if(isnumber(E$7)=true,if(isnumber(E15)=true,E15-E$7,"N/A"),"N/A") -> -0.247 | F17: =if(isnumber(F$7)=true,if(isnumber(F15)=true,F15-F$7,"N/A"),"N/A") -> -0.24 | G17: =if(isnumber(G$7)=true,if(isnumber(G15)=true,G15-G$7,"N/A"),"N/A") -> -0.221 | K17: Gap from Beaverton | L17: =if(isnumber(L$7)=true,if(isnumber(L15)=true,L15-L$7,"N/A"),"N/A") -> -0.063 | M17: =if(isnumber(M$7)=true,if(isnumber(M15)=true,M15-M$7,"N/A"),"N/A") -> -0.069 | N17: =if(isnumber(N$7)=true,if(isnumber(N15)=true,N15-N$7,"N/A"),"N/A") -> -0.062 | O17: =if(isnumber(O$7)=true,if(isnumber(O15)=true,O15-O$7,"N/A"),"N/A") -> -0.052 | P17: =if(isnumber(P$7)=true,if(isnumber(P15)=true,P15-P$7,"N/A"),"N/A") -> -0.041
B44: American Indian/Alaskan Native Students | K44: Multi-Racial Students
C45: ='Math Proficiency by Grade'!C45 -> 2018-19 | D45: ='Math Proficiency by Grade'!D45 -> 2021-22 | E45: ='Math Proficiency by Grade'!E45 -> 2022-23 | F45: ='Math Proficiency by Grade'!F45 -> 2023-24 | G45: ='Math Proficiency by Grade'!G45 -> 2024-25 | L45: ='Math Proficiency by Grade'!L45 -> 2018-19 | M45: ='Math Proficiency by Grade'!M45 -> 2021-22 | N45: ='Math Proficiency by Grade'!N45 -> 2022-23 | O45: ='Math Proficiency by Grade'!O45 -> 2023-24 | P45: ='Math Proficiency by Grade'!P45 -> 2024-25
B46: State | C46: ='Math Summary'!$I$20 -> 0.225 | D46: ='Math Summary'!$J$20 -> 0.143 | E46: ='Math Summary'!$K$20 -> 0.136 | F46: ='Math Summary'!$L$20 -> 0.145 | G46: ='Math Summary'!$M$20 -> 0.159 | K46: State | L46: ='Math Summary'!$I$60 -> 0.427 | M46: ='Math Summary'!$J$60 -> 0.344 | N46: ='Math Summary'!$K$60 -> 0.354 | O46: ='Math Summary'!$L$60 -> 0.354 | P46: ='Math Summary'!$M$60 -> 0.362
B47: Change from Previous Year | D47: =if(isnumber(C46)=true,if(isnumber(D46)=true,D46-C46,"N/A"),"N/A") -> -0.082 | E47: =if(isnumber(D46)=true,if(isnumber(E46)=true,E46-D46,"N/A"),"N/A") -> -0.007 | F47: =if(isnumber(E46)=true,if(isnumber(F46)=true,F46-E46,"N/A"),"N/A") -> 0.009 | G47: =if(isnumber(F46)=true,if(isnumber(G46)=true,G46-F46,"N/A"),"N/A") -> 0.014 | K47: Change from Previous Year | M47: =if(isnumber(L46)=true,if(isnumber(M46)=true,M46-L46,"N/A"),"N/A") -> -0.083 | N47: =if(isnumber(M46)=true,if(isnumber(N46)=true,N46-M46,"N/A"),"N/A") -> 0.01 | O47: =if(isnumber(N46)=true,if(isnumber(O46)=true,O46-N46,"N/A"),"N/A") -> 0 | P47: =if(isnumber(O46)=true,if(isnumber(P46)=true,P46-O46,"N/A"),"N/A") -> 0.008
B48: Beaverton SD | C48: ='Math Summary'!$I$16 -> 0.375 | D48: ='Math Summary'!$J$16 -> 0.312 | E48: ='Math Summary'!$K$16 -> 0.318 | F48: ='Math Summary'!$L$16 -> 0.301 | G48: ='Math Summary'!$M$16 -> 0.268 | K48: Beaverton SD | L48: ='Math Summary'!$I$56 -> 0.583 | M48: ='Math Summary'!$J$56 -> 0.512 | N48: ='Math Summary'!$K$56 -> 0.521 | O48: ='Math Summary'!$L$56 -> 0.499 | P48: ='Math Summary'!$M$56 -> 0.503
B49: Change from Previous Year | D49: =if(isnumber(C48)=true,if(isnumber(D48)=true,D48-C48,"N/A"),"N/A") -> -0.063 | E49: =if(isnumber(D48)=true,if(isnumber(E48)=true,E48-D48,"N/A"),"N/A") -> 0.006 | F49: =if(isnumber(E48)=true,if(isnumber(F48)=true,F48-E48,"N/A"),"N/A") -> -0.017 | G49: =if(isnumber(F48)=true,if(isnumber(G48)=true,G48-F48,"N/A"),"N/A") -> -0.033 | K49: Change from Previous Year | M49: =if(isnumber(L48)=true,if(isnumber(M48)=true,M48-L48,"N/A"),"N/A") -> -0.071 | N49: =if(isnumber(M48)=true,if(isnumber(N48)=true,N48-M48,"N/A"),"N/A") -> 0.009 | O49: =if(isnumber(N48)=true,if(isnumber(O48)=true,O48-N48,"N/A"),"N/A") -> -0.022 | P49: =if(isnumber(O48)=true,if(isnumber(P48)=true,P48-O48,"N/A"),"N/A") -> 0.004
B50: Hillsboro SD | C50: ='Math Summary'!$I$17 -> 0.24 | D50: ='Math Summary'!$J$17 -> 0.146 | E50: ='Math Summary'!$K$17 -> 0.233 | F50: ='Math Summary'!$L$17 -> 0.214 | G50: ='Math Summary'!$M$17 -> 0.273 | K50: Hillsboro SD | L50: ='Math Summary'!$I$57 -> 0.514 | M50: ='Math Summary'!$J$57 -> 0.412 | N50: ='Math Summary'!$K$57 -> 0.422 | O50: ='Math Summary'!$L$57 -> 0.404 | P50: ='Math Summary'!$M$57 -> 0.415
B51: Change from Previous Year | D51: =if(isnumber(C50)=true,if(isnumber(D50)=true,D50-C50,"N/A"),"N/A") -> -0.094 | E51: =if(isnumber(D50)=true,if(isnumber(E50)=true,E50-D50,"N/A"),"N/A") -> 0.087 | F51: =if(isnumber(E50)=true,if(isnumber(F50)=true,F50-E50,"N/A"),"N/A") -> -0.019 | G51: =if(isnumber(F50)=true,if(isnumber(G50)=true,G50-F50,"N/A"),"N/A") -> 0.059 | K51: Change from Previous Year | M51: =if(isnumber(L50)=true,if(isnumber(M50)=true,M50-L50,"N/A"),"N/A") -> -0.102 | N51: =if(isnumber(M50)=true,if(isnumber(N50)=true,N50-M50,"N/A"),"N/A") -> 0.01 | O51: =if(isnumber(N50)=true,if(isnumber(O50)=true,O50-N50,"N/A"),"N/A") -> -0.018 | P51: =if(isnumber(O50)=true,if(isnumber(P50)=true,P50-O50,"N/A"),"N/A") -> 0.011
B52: Gap from Beaverton | C52: =if(isnumber(C$48)=true,if(isnumber(C50)=true,C50-C$48,"N/A"),"N/A") -> -0.135 | D52: =if(isnumber(D$48)=true,if(isnumber(D50)=true,D50-D$48,"N/A"),"N/A") -> -0.166 | E52: =if(isnumber(E$48)=true,if(isnumber(E50)=true,E50-E$48,"N/A"),"N/A") -> -0.085 | F52: =if(isnumber(F$48)=true,if(isnumber(F50)=true,F50-F$48,"N/A"),"N/A") -> -0.087 | G52: =if(isnumber(G$48)=true,if(isnumber(G50)=true,G50-G$48,"N/A"),"N/A") -> 0.005 | K52: Gap from Beaverton | L52: =if(isnumber(L$48)=true,if(isnumber(L50)=true,L50-L$48,"N/A"),"N/A") -> -0.069 | M52: =if(isnumber(M$48)=true,if(isnumber(M50)=true,M50-M$48,"N/A"),"N/A") -> -0.1 | N52: =if(isnumber(N$48)=true,if(isnumber(N50)=true,N50-N$48,"N/A"),"N/A") -> -0.099 | O52: =if(isnumber(O$48)=true,if(isnumber(O50)=true,O50-O$48,"N/A"),"N/A") -> -0.095 | P52: =if(isnumber(P$48)=true,if(isnumber(P50)=true,P50-P$48,"N/A"),"N/A") -> -0.088
B53: Portland SD | C53: ='Math Summary'!$I$18 -> 0.207 | D53: ='Math Summary'!$J$18 -> 0.131 | E53: ='Math Summary'!$K$18 -> 0.116 | F53: ='Math Summary'!$L$18 -> 0.101 | G53: ='Math Summary'!$M$18 -> 0.187 | K53: Portland SD | L53: ='Math Summary'!$I$58 -> 0.457 | M53: ='Math Summary'!$J$58 -> 0.447 | N53: ='Math Summary'!$K$58 -> 0.473 | O53: ='Math Summary'!$L$58 -> 0.472 | P53: ='Math Summary'!$M$58 -> 0.49
B54: Change from Previous Year | D54: =if(isnumber(C53)=true,if(isnumber(D53)=true,D53-C53,"N/A"),"N/A") -> -0.076 | E54: =if(isnumber(D53)=true,if(isnumber(E53)=true,E53-D53,"N/A"),"N/A") -> -0.015 | F54: =if(isnumber(E53)=true,if(isnumber(F53)=true,F53-E53,"N/A"),"N/A") -> -0.015 | G54: =if(isnumber(F53)=true,if(isnumber(G53)=true,G53-F53,"N/A"),"N/A") -> 0.086 | K54: Change from Previous Year | M54: =if(isnumber(L53)=true,if(isnumber(M53)=true,M53-L53,"N/A"),"N/A") -> -0.01 | N54: =if(isnumber(M53)=true,if(isnumber(N53)=true,N53-M53,"N/A"),"N/A") -> 0.026 | O54: =if(isnumber(N53)=true,if(isnumber(O53)=true,O53-N53,"N/A"),"N/A") -> -0.001 | P54: =if(isnumber(O53)=true,if(isnumber(P53)=true,P53-O53,"N/A"),"N/A") -> 0.018
B55: Gap from Beaverton | C55: =if(isnumber(C$48)=true,if(isnumber(C53)=true,C53-C$48,"N/A"),"N/A") -> -0.168 | D55: =if(isnumber(D$48)=true,if(isnumber(D53)=true,D53-D$48,"N/A"),"N/A") -> -0.181 | E55: =if(isnumber(E$48)=true,if(isnumber(E53)=true,E53-E$48,"N/A"),"N/A") -> -0.202 | F55: =if(isnumber(F$48)=true,if(isnumber(F53)=true,F53-F$48,"N/A"),"N/A") -> -0.2 | G55: =if(isnumber(G$48)=true,if(isnumber(G53)=true,G53-G$48,"N/A"),"N/A") -> -0.081 | K55: Gap from Beaverton | L55: =if(isnumber(L$48)=true,if(isnumber(L53)=true,L53-L$48,"N/A"),"N/A") -> -0.126 | M55: =if(isnumber(M$48)=true,if(isnumber(M53)=true,M53-M$48,"N/A"),"N/A") -> -0.065 | N55: =if(isnumber(N$48)=true,if(isnumber(N53)=true,N53-N$48,"N/A"),"N/A") -> -0.048 | O55: =if(isnumber(O$48)=true,if(isnumber(O53)=true,O53-O$48,"N/A"),"N/A") -> -0.027 | P55: =if(isnumber(P$48)=true,if(isnumber(P53)=true,P53-P$48,"N/A"),"N/A") -> -0.013
B56: Salem Keizer SD | C56: ='Math Summary'!$I$19 -> 0.188 | D56: ='Math Summary'!$J$19 -> 0.132 | E56: ='Math Summary'!$K$19 -> 0.085 | F56: ='Math Summary'!$L$19 -> 0.087 | G56: ='Math Summary'!$M$19 -> 0.125 | K56: Salem Keizer SD | L56: ='Math Summary'!$I$59 -> 0.377 | M56: ='Math Summary'!$J$59 -> 0.269 | N56: ='Math Summary'!$K$59 -> 0.262 | O56: ='Math Summary'!$L$59 -> 0.244 | P56: ='Math Summary'!$M$59 -> 0.26
B57: Change from Previous Year | D57: =if(isnumber(C56)=true,if(isnumber(D56)=true,D56-C56,"N/A"),"N/A") -> -0.056 | E57: =if(isnumber(D56)=true,if(isnumber(E56)=true,E56-D56,"N/A"),"N/A") -> -0.047 | F57: =if(isnumber(E56)=true,if(isnumber(F56)=true,F56-E56,"N/A"),"N/A") -> 0.002 | G57: =if(isnumber(F56)=true,if(isnumber(G56)=true,G56-F56,"N/A"),"N/A") -> 0.038 | K57: Change from Previous Year | M57: =if(isnumber(L56)=true,if(isnumber(M56)=true,M56-L56,"N/A"),"N/A") -> -0.108 | N57: =if(isnumber(M56)=true,if(isnumber(N56)=true,N56-M56,"N/A"),"N/A") -> -0.007 | O57: =if(isnumber(N56)=true,if(isnumber(O56)=true,O56-N56,"N/A"),"N/A") -> -0.018 | P57: =if(isnumber(O56)=true,if(isnumber(P56)=true,P56-O56,"N/A"),"N/A") -> 0.016
B58: Gap from Beaverton | C58: =if(isnumber(C$48)=true,if(isnumber(C56)=true,C56-C$48,"N/A"),"N/A") -> -0.187 | D58: =if(isnumber(D$48)=true,if(isnumber(D56)=true,D56-D$48,"N/A"),"N/A") -> -0.18 | E58: =if(isnumber(E$48)=true,if(isnumber(E56)=true,E56-E$48,"N/A"),"N/A") -> -0.233 | F58: =if(isnumber(F$48)=true,if(isnumber(F56)=true,F56-F$48,"N/A"),"N/A") -> -0.214 | G58: =if(isnumber(G$48)=true,if(isnumber(G56)=true,G56-G$48,"N/A"),"N/A") -> -0.143 | K58: Gap from Beaverton | L58: =if(isnumber(L$48)=true,if(isnumber(L56)=true,L56-L$48,"N/A"),"N/A") -> -0.206 | M58: =if(isnumber(M$48)=true,if(isnumber(M56)=true,M56-M$48,"N/A"),"N/A") -> -0.243 | N58: =if(isnumber(N$48)=true,if(isnumber(N56)=true,N56-N$48,"N/A"),"N/A") -> -0.259 | O58: =if(isnumber(O$48)=true,if(isnumber(O56)=true,O56-O$48,"N/A"),"N/A") -> -0.255 | P58: =if(isnumber(P$48)=true,if(isnumber(P56)=true,P56-P$48,"N/A"),"N/A") -> -0.243
B85: Asian Students | K85: Pacific Islander Students
C86: ='Math Proficiency by Grade'!C86 -> 2018-19 | D86: ='Math Proficiency by Grade'!D86 -> 2021-22 | E86: ='Math Proficiency by Grade'!E86 -> 2022-23 | F86: ='Math Proficiency by Grade'!F86 -> 2023-24 | G86: ='Math Proficiency by Grade'!G86 -> 2024-25 | L86: ='Math Proficiency by Grade'!L86 -> 2018-19 | M86: ='Math Proficiency by Grade'!M86 -> 2021-22 | N86: ='Math Proficiency by Grade'!N86 -> 2022-23 | O86: ='Math Proficiency by Grade'!O86 -> 2023-24 | P86: ='Math Proficiency by Grade'!P86 -> 2024-25
B87: State | C87: ='Math Summary'!$I$30 -> 0.661 | D87: ='Math Summary'!$J$30 -> 0.568 | E87: ='Math Summary'!$K$30 -> 0.564 | F87: ='Math Summary'!$L$30 -> 0.557 | G87: ='Math Summary'!$M$30 -> 0.554 | K87: State | L87: ='Math Summary'!$I$70 -> 0.213 | M87: ='Math Summary'!$J$70 -> 0.116 | N87: ='Math Summary'!$K$70 -> 0.114 | O87: ='Math Summary'!$L$70 -> 0.11 | P87: ='Math Summary'!$M$70 -> 0.109
B88: Change from Previous Year | D88: =if(isnumber(C87)=true,if(isnumber(D87)=true,D87-C87,"N/A"),"N/A") -> -0.093 | E88: =if(isnumber(D87)=true,if(isnumber(E87)=true,E87-D87,"N/A"),"N/A") -> -0.004 | F88: =if(isnumber(E87)=true,if(isnumber(F87)=true,F87-E87,"N/A"),"N/A") -> -0.007 | G88: =if(isnumber(F87)=true,if(isnumber(G87)=true,G87-F87,"N/A"),"N/A") -> -0.003 | K88: Change from Previous Year | M88: =if(isnumber(L87)=true,if(isnumber(M87)=true,M87-L87,"N/A"),"N/A") -> -0.097 | N88: =if(isnumber(M87)=true,if(isnumber(N87)=true,N87-M87,"N/A"),"N/A") -> -0.002 | O88: =if(isnumber(N87)=true,if(isnumber(O87)=true,O87-N87,"N/A"),"N/A") -> -0.004 | P88: =if(isnumber(O87)=true,if(isnumber(P87)=true,P87-O87,"N/A"),"N/A") -> -0.001
B89: Beaverton SD | C89: ='Math Summary'!$I$26 -> 0.82 | D89: ='Math Summary'!$J$26 -> 0.769 | E89: ='Math Summary'!$K$26 -> 0.752 | F89: ='Math Summary'!$L$26 -> 0.725 | G89: ='Math Summary'!$M$26 -> 0.718 | K89: Beaverton SD | L89: ='Math Summary'!$I$66 -> 0.297 | M89: ='Math Summary'!$J$66 -> 0.119 | N89: ='Math Summary'!$K$66 -> 0.13 | O89: ='Math Summary'!$L$66 -> 0.128 | P89: ='Math Summary'!$M$66 -> 0.124
B90: Change from Previous Year | D90: =if(isnumber(C89)=true,if(isnumber(D89)=true,D89-C89,"N/A"),"N/A") -> -0.051 | E90: =if(isnumber(D89)=true,if(isnumber(E89)=true,E89-D89,"N/A"),"N/A") -> -0.017 | F90: =if(isnumber(E89)=true,if(isnumber(F89)=true,F89-E89,"N/A"),"N/A") -> -0.027 | G90: =if(isnumber(F89)=true,if(isnumber(G89)=true,G89-F89,"N/A"),"N/A") -> -0.007 | K90: Change from Previous Year | M90: =if(isnumber(L89)=true,if(isnumber(M89)=true,M89-L89,"N/A"),"N/A") -> -0.178 | N90: =if(isnumber(M89)=true,if(isnumber(N89)=true,N89-M89,"N/A"),"N/A") -> 0.011 | O90: =if(isnumber(N89)=true,if(isnumber(O89)=true,O89-N89,"N/A"),"N/A") -> -0.002 | P90: =if(isnumber(O89)=true,if(isnumber(P89)=true,P89-O89,"N/A"),"N/A") -> -0.004
B91: Hillsboro SD | C91: ='Math Summary'!$I$27 -> 0.643 | D91: ='Math Summary'!$J$27 -> 0.528 | E91: ='Math Summary'!$K$27 -> 0.53 | F91: ='Math Summary'!$L$27 -> 0.491 | G91: ='Math Summary'!$M$27 -> 0.509 | K91: Hillsboro SD | L91: ='Math Summary'!$I$67 -> 0.279 | M91: ='Math Summary'!$J$67 -> 0.34 | N91: ='Math Summary'!$K$67 -> 0.207 | O91: ='Math Summary'!$L$67 -> 0.302 | P91: ='Math Summary'!$M$67 -> 0.188
B92: Change from Previous Year | D92: =if(isnumber(C91)=true,if(isnumber(D91)=true,D91-C91,"N/A"),"N/A") -> -0.115 | E92: =if(isnumber(D91)=true,if(isnumber(E91)=true,E91-D91,"N/A"),"N/A") -> 0.002 | F92: =if(isnumber(E91)=true,if(isnumber(F91)=true,F91-E91,"N/A"),"N/A") -> -0.039 | G92: =if(isnumber(F91)=true,if(isnumber(G91)=true,G91-F91,"N/A"),"N/A") -> 0.018 | K92: Change from Previous Year | M92: =if(isnumber(L91)=true,if(isnumber(M91)=true,M91-L91,"N/A"),"N/A") -> 0.061 | N92: =if(isnumber(M91)=true,if(isnumber(N91)=true,N91-M91,"N/A"),"N/A") -> -0.133 | O92: =if(isnumber(N91)=true,if(isnumber(O91)=true,O91-N91,"N/A"),"N/A") -> 0.095 | P92: =if(isnumber(O91)=true,if(isnumber(P91)=true,P91-O91,"N/A"),"N/A") -> -0.114
B93: Gap from Beaverton | C93: =if(isnumber(C$89)=true,if(isnumber(C91)=true,C91-C$89,"N/A"),"N/A") -> -0.177 | D93: =if(isnumber(D$89)=true,if(isnumber(D91)=true,D91-D$89,"N/A"),"N/A") -> -0.241 | E93: =if(isnumber(E$89)=true,if(isnumber(E91)=true,E91-E$89,"N/A"),"N/A") -> -0.222 | F93: =if(isnumber(F$89)=true,if(isnumber(F91)=true,F91-F$89,"N/A"),"N/A") -> -0.234 | G93: =if(isnumber(G$89)=true,if(isnumber(G91)=true,G91-G$89,"N/A"),"N/A") -> -0.209 | K93: Gap from Beaverton | L93: =if(isnumber(L$89)=true,if(isnumber(L91)=true,L91-L$89,"N/A"),"N/A") -> -0.018 | M93: =if(isnumber(M$89)=true,if(isnumber(M91)=true,M91-M$89,"N/A"),"N/A") -> 0.221 | N93: =if(isnumber(N$89)=true,if(isnumber(N91)=true,N91-N$89,"N/A"),"N/A") -> 0.077 | O93: =if(isnumber(O$89)=true,if(isnumber(O91)=true,O91-O$89,"N/A"),"N/A") -> 0.174 | P93: =if(isnumber(P$89)=true,if(isnumber(P91)=true,P91-P$89,"N/A"),"N/A") -> 0.064
B94: Portland SD | C94: ='Math Summary'!$I$28 -> 0.547 | D94: ='Math Summary'!$J$28 -> 0.451 | E94: ='Math Summary'!$K$28 -> 0.478 | F94: ='Math Summary'!$L$28 -> 0.479 | G94: ='Math Summary'!$M$28 -> 0.506 | K94: Portland SD | L94: ='Math Summary'!$I$68 -> 0.166 | M94: ='Math Summary'!$J$68 -> 0.066 | N94: ='Math Summary'!$K$68 -> 0.08 | O94: ='Math Summary'!$L$68 -> 0.098 | P94: ='Math Summary'!$M$68 -> 0.129
B95: Change from Previous Year | D95: =if(isnumber(C94)=true,if(isnumber(D94)=true,D94-C94,"N/A"),"N/A") -> -0.096 | E95: =if(isnumber(D94)=true,if(isnumber(E94)=true,E94-D94,"N/A"),"N/A") -> 0.027 | F95: =if(isnumber(E94)=true,if(isnumber(F94)=true,F94-E94,"N/A"),"N/A") -> 0.001 | G95: =if(isnumber(F94)=true,if(isnumber(G94)=true,G94-F94,"N/A"),"N/A") -> 0.027 | K95: Change from Previous Year | M95: =if(isnumber(L94)=true,if(isnumber(M94)=true,M94-L94,"N/A"),"N/A") -> -0.1 | N95: =if(isnumber(M94)=true,if(isnumber(N94)=true,N94-M94,"N/A"),"N/A") -> 0.014 | O95: =if(isnumber(N94)=true,if(isnumber(O94)=true,O94-N94,"N/A"),"N/A") -> 0.018 | P95: =if(isnumber(O94)=true,if(isnumber(P94)=true,P94-O94,"N/A"),"N/A") -> 0.031
B96: Gap from Beaverton | C96: =if(isnumber(C$89)=true,if(isnumber(C94)=true,C94-C$89,"N/A"),"N/A") -> -0.273 | D96: =if(isnumber(D$89)=true,if(isnumber(D94)=true,D94-D$89,"N/A"),"N/A") -> -0.318 | E96: =if(isnumber(E$89)=true,if(isnumber(E94)=true,E94-E$89,"N/A"),"N/A") -> -0.274 | F96: =if(isnumber(F$89)=true,if(isnumber(F94)=true,F94-F$89,"N/A"),"N/A") -> -0.246 | G96: =if(isnumber(G$89)=true,if(isnumber(G94)=true,G94-G$89,"N/A"),"N/A") -> -0.212 | K96: Gap from Beaverton | L96: =if(isnumber(L$89)=true,if(isnumber(L94)=true,L94-L$89,"N/A"),"N/A") -> -0.131 | M96: =if(isnumber(M$89)=true,if(isnumber(M94)=true,M94-M$89,"N/A"),"N/A") -> -0.053 | N96: =if(isnumber(N$89)=true,if(isnumber(N94)=true,N94-N$89,"N/A"),"N/A") -> -0.05 | O96: =if(isnumber(O$89)=true,if(isnumber(O94)=true,O94-O$89,"N/A"),"N/A") -> -0.03 | P96: =if(isnumber(P$89)=true,if(isnumber(P94)=true,P94-P$89,"N/A"),"N/A") -> 0.005
B97: Salem Keizer SD | C97: ='Math Summary'!$I$29 -> 0.593 | D97: ='Math Summary'!$J$29 -> 0.455 | E97: ='Math Summary'!$K$29 -> 0.445 | F97: ='Math Summary'!$L$29 -> 0.382 | G97: ='Math Summary'!$M$29 -> 0.433 | K97: Salem Keizer SD | L97: ='Math Summary'!$I$69 -> 0.165 | M97: ='Math Summary'!$J$69 -> 0.058 | N97: ='Math Summary'!$K$69 -> 0.066 | O97: ='Math Summary'!$L$69 -> 0.058 | P97: ='Math Summary'!$M$69 -> 0.063
B98: Change from Previous Year | D98: =if(isnumber(C97)=true,if(isnumber(D97)=true,D97-C97,"N/A"),"N/A") -> -0.138 | E98: =if(isnumber(D97)=true,if(isnumber(E97)=true,E97-D97,"N/A"),"N/A") -> -0.01 | F98: =if(isnumber(E97)=true,if(isnumber(F97)=true,F97-E97,"N/A"),"N/A") -> -0.063 | G98: =if(isnumber(F97)=true,if(isnumber(G97)=true,G97-F97,"N/A"),"N/A") -> 0.051 | K98: Change from Previous Year | M98: =if(isnumber(L97)=true,if(isnumber(M97)=true,M97-L97,"N/A"),"N/A") -> -0.107 | N98: =if(isnumber(M97)=true,if(isnumber(N97)=true,N97-M97,"N/A"),"N/A") -> 0.008 | O98: =if(isnumber(N97)=true,if(isnumber(O97)=true,O97-N97,"N/A"),"N/A") -> -0.008 | P98: =if(isnumber(O97)=true,if(isnumber(P97)=true,P97-O97,"N/A"),"N/A") -> 0.005
B99: Gap from Beaverton | C99: =if(isnumber(C$89)=true,if(isnumber(C97)=true,C97-C$89,"N/A"),"N/A") -> -0.227 | D99: =if(isnumber(D$89)=true,if(isnumber(D97)=true,D97-D$89,"N/A"),"N/A") -> -0.314 | E99: =if(isnumber(E$89)=true,if(isnumber(E97)=true,E97-E$89,"N/A"),"N/A") -> -0.307 | F99: =if(isnumber(F$89)=true,if(isnumber(F97)=true,F97-F$89,"N/A"),"N/A") -> -0.343 | G99: =if(isnumber(G$89)=true,if(isnumber(G97)=true,G97-G$89,"N/A"),"N/A") -> -0.285 | K99: Gap from Beaverton | L99: =if(isnumber(L$89)=true,if(isnumber(L97)=true,L97-L$89,"N/A"),"N/A") -> -0.132 | M99: =if(isnumber(M$89)=true,if(isnumber(M97)=true,M97-M$89,"N/A"),"N/A") -> -0.061 | N99: =if(isnumber(N$89)=true,if(isnumber(N97)=true,N97-N$89,"N/A"),"N/A") -> -0.064 | O99: =if(isnumber(O$89)=true,if(isnumber(O97)=true,O97-O$89,"N/A"),"N/A") -> -0.07 | P99: =if(isnumber(P$89)=true,if(isnumber(P97)=true,P97-P$89,"N/A"),"N/A") -> -0.061
B126: Black/African American Students | K126: White Students
C127: ='Math Proficiency by Grade'!C127 -> 2018-19 | D127: ='Math Proficiency by Grade'!D127 -> 2021-22 | E127: ='Math Proficiency by Grade'!E127 -> 2022-23 | F127: ='Math Proficiency by Grade'!F127 -> 2023-24 | G127: ='Math Proficiency by Grade'!G127 -> 2024-25 | L127: ='Math Proficiency by Grade'!L127 -> 2018-19 | M127: ='Math Proficiency by Grade'!M127 -> 2021-22 | N127: ='Math Proficiency by Grade'!N127 -> 2022-23 | O127: ='Math Proficiency by Grade'!O127 -> 2023-24 | P127: ='Math Proficiency by Grade'!P127 -> 2024-25
B128: State | C128: ='Math Summary'!$I$40 -> 0.167 | D128: ='Math Summary'!$J$40 -> 0.129 | E128: ='Math Summary'!$K$40 -> 0.133 | F128: ='Math Summary'!$L$40 -> 0.145 | G128: ='Math Summary'!$M$40 -> 0.153 | K128: State | L128: ='Math Summary'!$I$80 -> 0.45 | M128: ='Math Summary'!$J$80 -> 0.36 | N128: ='Math Summary'!$K$80 -> 0.364 | O128: ='Math Summary'!$L$80 -> 0.369 | P128: ='Math Summary'!$M$80 -> 0.377
B129: Change from Previous Year | D129: =if(isnumber(C128)=true,if(isnumber(D128)=true,D128-C128,"N/A"),"N/A") -> -0.038 | E129: =if(isnumber(D128)=true,if(isnumber(E128)=true,E128-D128,"N/A"),"N/A") -> 0.004 | F129: =if(isnumber(E128)=true,if(isnumber(F128)=true,F128-E128,"N/A"),"N/A") -> 0.012 | G129: =if(isnumber(F128)=true,if(isnumber(G128)=true,G128-F128,"N/A"),"N/A") -> 0.008 | K129: Change from Previous Year | M129: =if(isnumber(L128)=true,if(isnumber(M128)=true,M128-L128,"N/A"),"N/A") -> -0.09 | N129: =if(isnumber(M128)=true,if(isnumber(N128)=true,N128-M128,"N/A"),"N/A") -> 0.004 | O129: =if(isnumber(N128)=true,if(isnumber(O128)=true,O128-N128,"N/A"),"N/A") -> 0.005 | P129: =if(isnumber(O128)=true,if(isnumber(P128)=true,P128-O128,"N/A"),"N/A") -> 0.008
B130: Beaverton SD | C130: ='Math Summary'!$I$36 -> 0.271 | D130: ='Math Summary'!$J$36 -> 0.222 | E130: ='Math Summary'!$K$36 -> 0.241 | F130: ='Math Summary'!$L$36 -> 0.231 | G130: ='Math Summary'!$M$36 -> 0.23 | K130: Beaverton SD | L130: ='Math Summary'!$I$76 -> 0.593 | M130: ='Math Summary'!$J$76 -> 0.478 | N130: ='Math Summary'!$K$76 -> 0.492 | O130: ='Math Summary'!$L$76 -> 0.493 | P130: ='Math Summary'!$M$76 -> 0.488
B131: Change from Previous Year | D131: =if(isnumber(C130)=true,if(isnumber(D130)=true,D130-C130,"N/A"),"N/A") -> -0.049 | E131: =if(isnumber(D130)=true,if(isnumber(E130)=true,E130-D130,"N/A"),"N/A") -> 0.019 | F131: =if(isnumber(E130)=true,if(isnumber(F130)=true,F130-E130,"N/A"),"N/A") -> -0.01 | G131: =if(isnumber(F130)=true,if(isnumber(G130)=true,G130-F130,"N/A"),"N/A") -> -0.001 | K131: Change from Previous Year | M131: =if(isnumber(L130)=true,if(isnumber(M130)=true,M130-L130,"N/A"),"N/A") -> -0.115 | N131: =if(isnumber(M130)=true,if(isnumber(N130)=true,N130-M130,"N/A"),"N/A") -> 0.014 | O131: =if(isnumber(N130)=true,if(isnumber(O130)=true,O130-N130,"N/A"),"N/A") -> 0.001 | P131: =if(isnumber(O130)=true,if(isnumber(P130)=true,P130-O130,"N/A"),"N/A") -> -0.005
B132: Hillsboro SD | C132: ='Math Summary'!$I$37 -> 0.239 | D132: ='Math Summary'!$J$37 -> 0.182 | E132: ='Math Summary'!$K$37 -> 0.215 | F132: ='Math Summary'!$L$37 -> 0.248 | G132: ='Math Summary'!$M$37 -> 0.254 | K132: Hillsboro SD | L132: ='Math Summary'!$I$77 -> 0.504 | M132: ='Math Summary'!$J$77 -> 0.406 | N132: ='Math Summary'!$K$77 -> 0.423 | O132: ='Math Summary'!$L$77 -> 0.418 | P132: ='Math Summary'!$M$77 -> 0.428
B133: Change from Previous Year | D133: =if(isnumber(C132)=true,if(isnumber(D132)=true,D132-C132,"N/A"),"N/A") -> -0.057 | E133: =if(isnumber(D132)=true,if(isnumber(E132)=true,E132-D132,"N/A"),"N/A") -> 0.033 | F133: =if(isnumber(E132)=true,if(isnumber(F132)=true,F132-E132,"N/A"),"N/A") -> 0.033 | G133: =if(isnumber(F132)=true,if(isnumber(G132)=true,G132-F132,"N/A"),"N/A") -> 0.006 | K133: Change from Previous Year | M133: =if(isnumber(L132)=true,if(isnumber(M132)=true,M132-L132,"N/A"),"N/A") -> -0.098 | N133: =if(isnumber(M132)=true,if(isnumber(N132)=true,N132-M132,"N/A"),"N/A") -> 0.017 | O133: =if(isnumber(N132)=true,if(isnumber(O132)=true,O132-N132,"N/A"),"N/A") -> -0.005 | P133: =if(isnumber(O132)=true,if(isnumber(P132)=true,P132-O132,"N/A"),"N/A") -> 0.01
B134: Gap from Beaverton | C134: =if(isnumber(C$130)=true,if(isnumber(C132)=true,C132-C$130,"N/A"),"N/A") -> -0.032 | D134: =if(isnumber(D$130)=true,if(isnumber(D132)=true,D132-D$130,"N/A"),"N/A") -> -0.04 | E134: =if(isnumber(E$130)=true,if(isnumber(E132)=true,E132-E$130,"N/A"),"N/A") -> -0.026 | F134: =if(isnumber(F$130)=true,if(isnumber(F132)=true,F132-F$130,"N/A"),"N/A") -> 0.017 | G134: =if(isnumber(G$130)=true,if(isnumber(G132)=true,G132-G$130,"N/A"),"N/A") -> 0.024 | K134: Gap from Beaverton | L134: =if(isnumber(L$130)=true,if(isnumber(L132)=true,L132-L$130,"N/A"),"N/A") -> -0.089 | M134: =if(isnumber(M$130)=true,if(isnumber(M132)=true,M132-M$130,"N/A"),"N/A") -> -0.072 | N134: =if(isnumber(N$130)=true,if(isnumber(N132)=true,N132-N$130,"N/A"),"N/A") -> -0.069 | O134: =if(isnumber(O$130)=true,if(isnumber(O132)=true,O132-O$130,"N/A"),"N/A") -> -0.075 | P134: =if(isnumber(P$130)=true,if(isnumber(P132)=true,P132-P$130,"N/A"),"N/A") -> -0.06
B135: Portland SD | C135: ='Math Summary'!$I$38 -> 0.091 | D135: ='Math Summary'!$J$38 -> 0.082 | E135: ='Math Summary'!$K$38 -> 0.092 | F135: ='Math Summary'!$L$38 -> 0.092 | G135: ='Math Summary'!$M$38 -> 0.113 | K135: Portland SD | L135: ='Math Summary'!$I$78 -> 0.576 | M135: ='Math Summary'!$J$78 -> 0.556 | N135: ='Math Summary'!$K$78 -> 0.584 | O135: ='Math Summary'!$L$78 -> 0.583 | P135: ='Math Summary'!$M$78 -> 0.613
B136: Change from Previous Year | D136: =if(isnumber(C135)=true,if(isnumber(D135)=true,D135-C135,"N/A"),"N/A") -> -0.009 | E136: =if(isnumber(D135)=true,if(isnumber(E135)=true,E135-D135,"N/A"),"N/A") -> 0.01 | F136: =if(isnumber(E135)=true,if(isnumber(F135)=true,F135-E135,"N/A"),"N/A") -> 0 | G136: =if(isnumber(F135)=true,if(isnumber(G135)=true,G135-F135,"N/A"),"N/A") -> 0.021 | K136: Change from Previous Year | M136: =if(isnumber(L135)=true,if(isnumber(M135)=true,M135-L135,"N/A"),"N/A") -> -0.02 | N136: =if(isnumber(M135)=true,if(isnumber(N135)=true,N135-M135,"N/A"),"N/A") -> 0.028 | O136: =if(isnumber(N135)=true,if(isnumber(O135)=true,O135-N135,"N/A"),"N/A") -> -0.001 | P136: =if(isnumber(O135)=true,if(isnumber(P135)=true,P135-O135,"N/A"),"N/A") -> 0.03
B137: Gap from Beaverton | C137: =if(isnumber(C$130)=true,if(isnumber(C135)=true,C135-C$130,"N/A"),"N/A") -> -0.18 | D137: =if(isnumber(D$130)=true,if(isnumber(D135)=true,D135-D$130,"N/A"),"N/A") -> -0.14 | E137: =if(isnumber(E$130)=true,if(isnumber(E135)=true,E135-E$130,"N/A"),"N/A") -> -0.149 | F137: =if(isnumber(F$130)=true,if(isnumber(F135)=true,F135-F$130,"N/A"),"N/A") -> -0.139 | G137: =if(isnumber(G$130)=true,if(isnumber(G135)=true,G135-G$130,"N/A"),"N/A") -> -0.117 | K137: Gap from Beaverton | L137: =if(isnumber(L$130)=true,if(isnumber(L135)=true,L135-L$130,"N/A"),"N/A") -> -0.017 | M137: =if(isnumber(M$130)=true,if(isnumber(M135)=true,M135-M$130,"N/A"),"N/A") -> 0.078 | N137: =if(isnumber(N$130)=true,if(isnumber(N135)=true,N135-N$130,"N/A"),"N/A") -> 0.092 | O137: =if(isnumber(O$130)=true,if(isnumber(O135)=true,O135-O$130,"N/A"),"N/A") -> 0.09 | P137: =if(isnumber(P$130)=true,if(isnumber(P135)=true,P135-P$130,"N/A"),"N/A") -> 0.125
B138: Salem Keizer SD | C138: ='Math Summary'!$I$39 -> 0.158 | D138: ='Math Summary'!$J$39 -> 0.139 | E138: ='Math Summary'!$K$39 -> 0.142 | F138: ='Math Summary'!$L$39 -> 0.148 | G138: ='Math Summary'!$M$39 -> 0.151 | K138: Salem Keizer SD | L138: ='Math Summary'!$I$79 -> 0.436 | M138: ='Math Summary'!$J$79 -> 0.302 | N138: ='Math Summary'!$K$79 -> 0.297 | O138: ='Math Summary'!$L$79 -> 0.299 | P138: ='Math Summary'!$M$79 -> 0.312
B139: Change from Previous Year | D139: =if(isnumber(C138)=true,if(isnumber(D138)=true,D138-C138,"N/A"),"N/A") -> -0.019 | E139: =if(isnumber(D138)=true,if(isnumber(E138)=true,E138-D138,"N/A"),"N/A") -> 0.003 | F139: =if(isnumber(E138)=true,if(isnumber(F138)=true,F138-E138,"N/A"),"N/A") -> 0.006 | G139: =if(isnumber(F138)=true,if(isnumber(G138)=true,G138-F138,"N/A"),"N/A") -> 0.003 | K139: Change from Previous Year | M139: =if(isnumber(L138)=true,if(isnumber(M138)=true,M138-L138,"N/A"),"N/A") -> -0.134 | N139: =if(isnumber(M138)=true,if(isnumber(N138)=true,N138-M138,"N/A"),"N/A") -> -0.005 | O139: =if(isnumber(N138)=true,if(isnumber(O138)=true,O138-N138,"N/A"),"N/A") -> 0.002 | P139: =if(isnumber(O138)=true,if(isnumber(P138)=true,P138-O138,"N/A"),"N/A") -> 0.013
B140: Gap from Beaverton | C140: =if(isnumber(C$130)=true,if(isnumber(C138)=true,C138-C$130,"N/A"),"N/A") -> -0.113 | D140: =if(isnumber(D$130)=true,if(isnumber(D138)=true,D138-D$130,"N/A"),"N/A") -> -0.083 | E140: =if(isnumber(E$130)=true,if(isnumber(E138)=true,E138-E$130,"N/A"),"N/A") -> -0.099 | F140: =if(isnumber(F$130)=true,if(isnumber(F138)=true,F138-F$130,"N/A"),"N/A") -> -0.083 | G140: =if(isnumber(G$130)=true,if(isnumber(G138)=true,G138-G$130,"N/A"),"N/A") -> -0.079 | K140: Gap from Beaverton | L140: =if(isnumber(L$130)=true,if(isnumber(L138)=true,L138-L$130,"N/A"),"N/A") -> -0.157 | M140: =if(isnumber(M$130)=true,if(isnumber(M138)=true,M138-M$130,"N/A"),"N/A") -> -0.176 | N140: =if(isnumber(N$130)=true,if(isnumber(N138)=true,N138-N$130,"N/A"),"N/A") -> -0.195 | O140: =if(isnumber(O$130)=true,if(isnumber(O138)=true,O138-O$130,"N/A"),"N/A") -> -0.194 | P140: =if(isnumber(P$130)=true,if(isnumber(P138)=true,P138-P$130,"N/A"),"N/A") -> -0.176

Sheet Math Proficiency by Student Gro
A1: OSAS Math Proficiency
B2: *Prior to 2024-25, ODE counted students taking extended assessments as not proficient in these assessment reports. However, ODE received approval from the U.S. Department of Education to count as proficient those students who met the alternate standard on Extended Assessments.
B3: Total Population (All Students) | K3: Students Experiencing Poverty
C4: ='Math Proficiency by Grade'!C4 -> 2018-19 | D4: ='Math Proficiency by Grade'!D4 -> 2021-22 | E4: ='Math Proficiency by Grade'!E4 -> 2022-23 | F4: ='Math Proficiency by Grade'!F4 -> 2023-24 | G4: ='Math Proficiency by Grade'!G4 -> 2024-25 | L4: ='Math Proficiency by Grade'!L4 -> 2018-19 | M4: ='Math Proficiency by Grade'!M4 -> 2021-22 | N4: ='Math Proficiency by Grade'!N4 -> 2022-23 | O4: ='Math Proficiency by Grade'!O4 -> 2023-24 | P4: ='Math Proficiency by Grade'!P4 -> 2024-25
B5: State | C5: ='Math Summary'!$W$10 -> 0.394 | D5: ='Math Summary'!$X$10 -> 0.304 | E5: ='Math Summary'!$Y$10 -> 0.306 | F5: ='Math Summary'!$Z$10 -> 0.31 | G5: ='Math Summary'!$AA$10 -> 0.315 | K5: State | L5: ='Math Summary'!$W$40 -> #N/A | M5: ='Math Summary'!$X$40 -> #N/A | N5: ='Math Summary'!$Y$40 -> #N/A | O5: ='Math Summary'!$Z$40 -> 0.154 | P5: ='Math Summary'!$AA$40 -> 0.164
B6: Change from Previous Year | D6: =if(isnumber(C5)=true,if(isnumber(D5)=true,D5-C5,"N/A"),"N/A") -> -0.09 | E6: =if(isnumber(D5)=true,if(isnumber(E5)=true,E5-D5,"N/A"),"N/A") -> 0.002 | F6: =if(isnumber(E5)=true,if(isnumber(F5)=true,F5-E5,"N/A"),"N/A") -> 0.004 | G6: =if(isnumber(F5)=true,if(isnumber(G5)=true,G5-F5,"N/A"),"N/A") -> 0.005 | K6: Change from Previous Year | M6: =if(isnumber(L5)=true,if(isnumber(M5)=true,M5-L5,"N/A"),"N/A") -> N/A | N6: =if(isnumber(M5)=true,if(isnumber(N5)=true,N5-M5,"N/A"),"N/A") -> N/A | O6: =if(isnumber(N5)=true,if(isnumber(O5)=true,O5-N5,"N/A"),"N/A") -> N/A | P6: =if(isnumber(O5)=true,if(isnumber(P5)=true,P5-O5,"N/A"),"N/A") -> 0.01
B7: Beaverton SD | C7: ='Math Summary'!$W$6 -> 0.537 | D7: ='Math Summary'!$X$6 -> 0.449 | E7: ='Math Summary'!$Y$6 -> 0.449 | F7: ='Math Summary'!$Z$6 -> 0.44 | G7: ='Math Summary'!$AA$6 -> 0.43 | K7: Beaverton SD | L7: ='Math Summary'!$W$36 -> #N/A | M7: ='Math Summary'!$X$36 -> #N/A | N7: ='Math Summary'!$Y$36 -> #N/A | O7: ='Math Summary'!$Z$36 -> 0.144 | P7: ='Math Summary'!$AA$36 -> 0.144
B8: Change from Previous Year | D8: =if(isnumber(C7)=true,if(isnumber(D7)=true,D7-C7,"N/A"),"N/A") -> -0.088 | E8: =if(isnumber(D7)=true,if(isnumber(E7)=true,E7-D7,"N/A"),"N/A") -> 0 | F8: =if(isnumber(E7)=true,if(isnumber(F7)=true,F7-E7,"N/A"),"N/A") -> -0.009 | G8: =if(isnumber(F7)=true,if(isnumber(G7)=true,G7-F7,"N/A"),"N/A") -> -0.01 | K8: Change from Previous Year | M8: =if(isnumber(L7)=true,if(isnumber(M7)=true,M7-L7,"N/A"),"N/A") -> N/A | N8: =if(isnumber(M7)=true,if(isnumber(N7)=true,N7-M7,"N/A"),"N/A") -> N/A | O8: =if(isnumber(N7)=true,if(isnumber(O7)=true,O7-N7,"N/A"),"N/A") -> N/A | P8: =if(isnumber(O7)=true,if(isnumber(P7)=true,P7-O7,"N/A"),"N/A") -> 0
B9: Hillsboro SD | C9: ='Math Summary'!$W$7 -> 0.39 | D9: ='Math Summary'!$X$7 -> 0.293 | E9: ='Math Summary'!$Y$7 -> 0.301 | F9: ='Math Summary'!$Z$7 -> 0.29 | G9: ='Math Summary'!$AA$7 -> 0.294 | K9: Hillsboro SD | L9: ='Math Summary'!$W$37 -> #N/A | M9: ='Math Summary'!$X$37 -> #N/A | N9: ='Math Summary'!$Y$37 -> #N/A | O9: ='Math Summary'!$Z$37 -> 0.122 | P9: ='Math Summary'!$AA$37 -> 0.135
B10: Change from Previous Year | D10: =if(isnumber(C9)=true,if(isnumber(D9)=true,D9-C9,"N/A"),"N/A") -> -0.097 | E10: =if(isnumber(D9)=true,if(isnumber(E9)=true,E9-D9,"N/A"),"N/A") -> 0.008 | F10: =if(isnumber(E9)=true,if(isnumber(F9)=true,F9-E9,"N/A"),"N/A") -> -0.011 | G10: =if(isnumber(F9)=true,if(isnumber(G9)=true,G9-F9,"N/A"),"N/A") -> 0.004 | K10: Change from Previous Year | M10: =if(isnumber(L9)=true,if(isnumber(M9)=true,M9-L9,"N/A"),"N/A") -> N/A | N10: =if(isnumber(M9)=true,if(isnumber(N9)=true,N9-M9,"N/A"),"N/A") -> N/A | O10: =if(isnumber(N9)=true,if(isnumber(O9)=true,O9-N9,"N/A"),"N/A") -> N/A | P10: =if(isnumber(O9)=true,if(isnumber(P9)=true,P9-O9,"N/A"),"N/A") -> 0.013
B11: Gap from Beaverton | C11: =if(isnumber(C$7)=true,if(isnumber(C9)=true,C9-C$7,"N/A"),"N/A") -> -0.147 | D11: =if(isnumber(D$7)=true,if(isnumber(D9)=true,D9-D$7,"N/A"),"N/A") -> -0.156 | E11: =if(isnumber(E$7)=true,if(isnumber(E9)=true,E9-E$7,"N/A"),"N/A") -> -0.148 | F11: =if(isnumber(F$7)=true,if(isnumber(F9)=true,F9-F$7,"N/A"),"N/A") -> -0.15 | G11: =if(isnumber(G$7)=true,if(isnumber(G9)=true,G9-G$7,"N/A"),"N/A") -> -0.136 | K11: Gap from Beaverton | L11: =if(isnumber(L$7)=true,if(isnumber(L9)=true,L9-L$7,"N/A"),"N/A") -> N/A | M11: =if(isnumber(M$7)=true,if(isnumber(M9)=true,M9-M$7,"N/A"),"N/A") -> N/A | N11: =if(isnumber(N$7)=true,if(isnumber(N9)=true,N9-N$7,"N/A"),"N/A") -> N/A | O11: =if(isnumber(O$7)=true,if(isnumber(O9)=true,O9-O$7,"N/A"),"N/A") -> -0.022 | P11: =if(isnumber(P$7)=true,if(isnumber(P9)=true,P9-P$7,"N/A"),"N/A") -> -0.009
B12: Portland SD | C12: ='Math Summary'!$W$8 -> 0.458 | D12: ='Math Summary'!$X$8 -> 0.438 | E12: ='Math Summary'!$Y$8 -> 0.462 | F12: ='Math Summary'!$Z$8 -> 0.464 | G12: ='Math Summary'!$AA$8 -> 0.485 | K12: Portland SD | L12: ='Math Summary'!$W$38 -> #N/A | M12: ='Math Summary'!$X$38 -> #N/A | N12: ='Math Summary'!$Y$38 -> #N/A | O12: ='Math Summary'!$Z$38 -> 0.16 | P12: ='Math Summary'!$AA$38 -> 0.185
B13: Change from Previous Year | D13: =if(isnumber(C12)=true,if(isnumber(D12)=true,D12-C12,"N/A"),"N/A") -> -0.02 | E13: =if(isnumber(D12)=true,if(isnumber(E12)=true,E12-D12,"N/A"),"N/A") -> 0.024 | F13: =if(isnumber(E12)=true,if(isnumber(F12)=true,F12-E12,"N/A"),"N/A") -> 0.002 | G13: =if(isnumber(F12)=true,if(isnumber(G12)=true,G12-F12,"N/A"),"N/A") -> 0.021 | K13: Change from Previous Year | M13: =if(isnumber(L12)=true,if(isnumber(M12)=true,M12-L12,"N/A"),"N/A") -> N/A | N13: =if(isnumber(M12)=true,if(isnumber(N12)=true,N12-M12,"N/A"),"N/A") -> N/A | O13: =if(isnumber(N12)=true,if(isnumber(O12)=true,O12-N12,"N/A"),"N/A") -> N/A | P13: =if(isnumber(O12)=true,if(isnumber(P12)=true,P12-O12,"N/A"),"N/A") -> 0.025
B14: Gap from Beaverton | C14: =if(isnumber(C$7)=true,if(isnumber(C12)=true,C12-C$7,"N/A"),"N/A") -> -0.079 | D14: =if(isnumber(D$7)=true,if(isnumber(D12)=true,D12-D$7,"N/A"),"N/A") -> -0.011 | E14: =if(isnumber(E$7)=true,if(isnumber(E12)=true,E12-E$7,"N/A"),"N/A") -> 0.013 | F14: =if(isnumber(F$7)=true,if(isnumber(F12)=true,F12-F$7,"N/A"),"N/A") -> 0.024 | G14: =if(isnumber(G$7)=true,if(isnumber(G12)=true,G12-G$7,"N/A"),"N/A") -> 0.055 | K14: Gap from Beaverton | L14: =if(isnumber(L$7)=true,if(isnumber(L12)=true,L12-L$7,"N/A"),"N/A") -> N/A | M14: =if(isnumber(M$7)=true,if(isnumber(M12)=true,M12-M$7,"N/A"),"N/A") -> N/A | N14: =if(isnumber(N$7)=true,if(isnumber(N12)=true,N12-N$7,"N/A"),"N/A") -> N/A | O14: =if(isnumber(O$7)=true,if(isnumber(O12)=true,O12-O$7,"N/A"),"N/A") -> 0.016 | P14: =if(isnumber(P$7)=true,if(isnumber(P12)=true,P12-P$7,"N/A"),"N/A") -> 0.041
B15: Salem Keizer SD | C15: ='Math Summary'!$W$9 -> 0.331 | D15: ='Math Summary'!$X$9 -> 0.21 | E15: ='Math Summary'!$Y$9 -> 0.202 | F15: ='Math Summary'!$Y$9 -> 0.202 | G15: ='Math Summary'!$AA$9 -> 0.209 | K15: Salem Keizer SD | L15: ='Math Summary'!$W$39 -> #N/A | M15: ='Math Summary'!$X$39 -> #N/A | N15: ='Math Summary'!$Y$39 -> #N/A | O15: ='Math Summary'!$Z$39 -> 0.103 | P15: ='Math Summary'!$AA$39 -> 0.118
B16: Change from Previous Year | D16: =if(isnumber(C15)=true,if(isnumber(D15)=true,D15-C15,"N/A"),"N/A") -> -0.121 | E16: =if(isnumber(D15)=true,if(isnumber(E15)=true,E15-D15,"N/A"),"N/A") -> -0.008 | F16: =if(isnumber(E15)=true,if(isnumber(F15)=true,F15-E15,"N/A"),"N/A") -> 0 | G16: =if(isnumber(F15)=true,if(isnumber(G15)=true,G15-F15,"N/A"),"N/A") -> 0.007 | K16: Change from Previous Year | M16: =if(isnumber(L15)=true,if(isnumber(M15)=true,M15-L15,"N/A"),"N/A") -> N/A | N16: =if(isnumber(M15)=true,if(isnumber(N15)=true,N15-M15,"N/A"),"N/A") -> N/A | O16: =if(isnumber(N15)=true,if(isnumber(O15)=true,O15-N15,"N/A"),"N/A") -> N/A | P16: =if(isnumber(O15)=true,if(isnumber(P15)=true,P15-O15,"N/A"),"N/A") -> 0.015
B17: Gap from Beaverton | C17: =if(isnumber(C$7)=true,if(isnumber(C15)=true,C15-C$7,"N/A"),"N/A") -> -0.206 | D17: =if(isnumber(D$7)=true,if(isnumber(D15)=true,D15-D$7,"N/A"),"N/A") -> -0.239 | E17: =if(isnumber(E$7)=true,if(isnumber(E15)=true,E15-E$7,"N/A"),"N/A") -> -0.247 | F17: =if(isnumber(F$7)=true,if(isnumber(F15)=true,F15-F$7,"N/A"),"N/A") -> -0.238 | G17: =if(isnumber(G$7)=true,if(isnumber(G15)=true,G15-G$7,"N/A"),"N/A") -> -0.221 | K17: Gap from Beaverton | L17: =if(isnumber(L$7)=true,if(isnumber(L15)=true,L15-L$7,"N/A"),"N/A") -> N/A | M17: =if(isnumber(M$7)=true,if(isnumber(M15)=true,M15-M$7,"N/A"),"N/A") -> N/A | N17: =if(isnumber(N$7)=true,if(isnumber(N15)=true,N15-N$7,"N/A"),"N/A") -> N/A | O17: =if(isnumber(O$7)=true,if(isnumber(O15)=true,O15-O$7,"N/A"),"N/A") -> -0.041 | P17: =if(isnumber(P$7)=true,if(isnumber(P15)=true,P15-P$7,"N/A"),"N/A") -> -0.026
B44: English Learners | K44: Students Experiencing Homelessness
C45: ='Math Proficiency by Grade'!C45 -> 2018-19 | D45: ='Math Proficiency by Grade'!D45 -> 2021-22 | E45: ='Math Proficiency by Grade'!E45 -> 2022-23 | F45: ='Math Proficiency by Grade'!F45 -> 2023-24 | G45: ='Math Proficiency by Grade'!G45 -> 2024-25 | L45: ='Math Proficiency by Grade'!L45 -> 2018-19 | M45: ='Math Proficiency by Grade'!M45 -> 2021-22 | N45: ='Math Proficiency by Grade'!N45 -> 2022-23 | O45: ='Math Proficiency by Grade'!O45 -> 2023-24 | P45: ='Math Proficiency by Grade'!P45 -> 2024-25
B46: State | C46: ='Math Summary'!$W$20 -> 0.071 | D46: ='Math Summary'!$X$20 -> < 5.0% | E46: ='Math Summary'!$Y$20 -> < 5.0% | F46: ='Math Summary'!$Z$20 -> 0.051 | G46: ='Math Summary'!$AA$20 -> 0.053 | K46: State | L46: ='Math Summary'!$W$50 -> 0.171 | M46: ='Math Summary'!$X$50 -> 0.108 | N46: ='Math Summary'!$Y$50 -> 0.102 | O46: ='Math Summary'!$Z$50 -> 0.107 | P46: ='Math Summary'!$AA$50 -> 0.113
B47: Change from Previous Year | D47: =if(isnumber(C46)=true,if(isnumber(D46)=true,D46-C46,"N/A"),"N/A") -> N/A | E47: =if(isnumber(D46)=true,if(isnumber(E46)=true,E46-D46,"N/A"),"N/A") -> N/A | F47: =if(isnumber(E46)=true,if(isnumber(F46)=true,F46-E46,"N/A"),"N/A") -> N/A | G47: =if(isnumber(F46)=true,if(isnumber(G46)=true,G46-F46,"N/A"),"N/A") -> 0.002 | K47: Change from Previous Year | M47: =if(isnumber(L46)=true,if(isnumber(M46)=true,M46-L46,"N/A"),"N/A") -> -0.063 | N47: =if(isnumber(M46)=true,if(isnumber(N46)=true,N46-M46,"N/A"),"N/A") -> -0.006 | O47: =if(isnumber(N46)=true,if(isnumber(O46)=true,O46-N46,"N/A"),"N/A") -> 0.005 | P47: =if(isnumber(O46)=true,if(isnumber(P46)=true,P46-O46,"N/A"),"N/A") -> 0.006
B48: Beaverton SD | C48: ='Math Summary'!$W$16 -> 0.132 | D48: ='Math Summary'!$X$16 -> 0.093 | E48: ='Math Summary'!$Y$16 -> 0.087 | F48: ='Math Summary'!$Z$16 -> 0.077 | G48: ='Math Summary'!$AA$16 -> 0.073 | K48: Beaverton SD | L48: ='Math Summary'!$W$46 -> 0.164 | M48: ='Math Summary'!$X$46 -> 0.078 | N48: ='Math Summary'!$Y$46 -> 0.109 | O48: ='Math Summary'!$Z$46 -> 0.101 | P48: ='Math Summary'!$AA$46 -> 0.089
B49: Change from Previous Year | D49: =if(isnumber(C48)=true,if(isnumber(D48)=true,D48-C48,"N/A"),"N/A") -> -0.039 | E49: =if(isnumber(D48)=true,if(isnumber(E48)=true,E48-D48,"N/A"),"N/A") -> -0.006 | F49: =if(isnumber(E48)=true,if(isnumber(F48)=true,F48-E48,"N/A"),"N/A") -> -0.01 | G49: =if(isnumber(F48)=true,if(isnumber(G48)=true,G48-F48,"N/A"),"N/A") -> -0.004 | K49: Change from Previous Year | M49: =if(isnumber(L48)=true,if(isnumber(M48)=true,M48-L48,"N/A"),"N/A") -> -0.086 | N49: =if(isnumber(M48)=true,if(isnumber(N48)=true,N48-M48,"N/A"),"N/A") -> 0.031 | O49: =if(isnumber(N48)=true,if(isnumber(O48)=true,O48-N48,"N/A"),"N/A") -> -0.008 | P49: =if(isnumber(O48)=true,if(isnumber(P48)=true,P48-O48,"N/A"),"N/A") -> -0.012
B50: Hillsboro SD | C50: ='Math Summary'!$W$17 -> 0.062 | D50: ='Math Summary'!$X$17 -> < 5.0% | E50: ='Math Summary'!$Y$17 -> < 5.0% | F50: ='Math Summary'!$Z$17 -> < 5.0% | G50: ='Math Summary'!$AA$17 -> < 5.0% | K50: Hillsboro SD | L50: ='Math Summary'!$W$47 -> 0.208 | M50: ='Math Summary'!$X$47 -> 0.077 | N50: ='Math Summary'!$Y$47 -> 0.073 | O50: ='Math Summary'!$Z$47 -> 0.074 | P50: ='Math Summary'!$AA$47 -> 0.078
B51: Change from Previous Year | D51: =if(isnumber(C50)=true,if(isnumber(D50)=true,D50-C50,"N/A"),"N/A") -> N/A | E51: =if(isnumber(D50)=true,if(isnumber(E50)=true,E50-D50,"N/A"),"N/A") -> N/A | F51: =if(isnumber(E50)=true,if(isnumber(F50)=true,F50-E50,"N/A"),"N/A") -> N/A | G51: =if(isnumber(F50)=true,if(isnumber(G50)=true,G50-F50,"N/A"),"N/A") -> N/A | K51: Change from Previous Year | M51: =if(isnumber(L50)=true,if(isnumber(M50)=true,M50-L50,"N/A"),"N/A") -> -0.131 | N51: =if(isnumber(M50)=true,if(isnumber(N50)=true,N50-M50,"N/A"),"N/A") -> -0.004 | O51: =if(isnumber(N50)=true,if(isnumber(O50)=true,O50-N50,"N/A"),"N/A") -> 0.001 | P51: =if(isnumber(O50)=true,if(isnumber(P50)=true,P50-O50,"N/A"),"N/A") -> 0.004
B52: Gap from Beaverton | C52: =if(isnumber(C$48)=true,if(isnumber(C50)=true,C50-C$48,"N/A"),"N/A") -> -0.07 | D52: =if(isnumber(D$48)=true,if(isnumber(D50)=true,D50-D$48,"N/A"),"N/A") -> N/A | E52: =if(isnumber(E$48)=true,if(isnumber(E50)=true,E50-E$48,"N/A"),"N/A") -> N/A | F52: =if(isnumber(F$48)=true,if(isnumber(F50)=true,F50-F$48,"N/A"),"N/A") -> N/A | G52: =if(isnumber(G$48)=true,if(isnumber(G50)=true,G50-G$48,"N/A"),"N/A") -> N/A | K52: Gap from Beaverton | L52: =if(isnumber(L$48)=true,if(isnumber(L50)=true,L50-L$48,"N/A"),"N/A") -> 0.044 | M52: =if(isnumber(M$48)=true,if(isnumber(M50)=true,M50-M$48,"N/A"),"N/A") -> -0.001 | N52: =if(isnumber(N$48)=true,if(isnumber(N50)=true,N50-N$48,"N/A"),"N/A") -> -0.036 | O52: =if(isnumber(O$48)=true,if(isnumber(O50)=true,O50-O$48,"N/A"),"N/A") -> -0.027 | P52: =if(isnumber(P$48)=true,if(isnumber(P50)=true,P50-P$48,"N/A"),"N/A") -> -0.011
B53: Portland SD | C53: ='Math Summary'!$W$18 -> 0.054 | D53: ='Math Summary'!$X$18 -> 0.08 | E53: ='Math Summary'!$Y$18 -> 0.074 | F53: ='Math Summary'!$Z$18 -> 0.082 | G53: ='Math Summary'!$AA$18 -> 0.087 | K53: Portland SD | L53: ='Math Summary'!$W$48 -> 0.094 | M53: ='Math Summary'!$X$48 -> 0.069 | N53: ='Math Summary'!$Y$48 -> 0.074 | O53: ='Math Summary'!$Z$48 -> 0.092 | P53: ='Math Summary'!$AA$48 -> 0.099
B54: Change from Previous Year | D54: =if(isnumber(C53)=true,if(isnumber(D53)=true,D53-C53,"N/A"),"N/A") -> 0.026 | E54: =if(isnumber(D53)=true,if(isnumber(E53)=true,E53-D53,"N/A"),"N/A") -> -0.006 | F54: =if(isnumber(E53)=true,if(isnumber(F53)=true,F53-E53,"N/A"),"N/A") -> 0.008 | G54: =if(isnumber(F53)=true,if(isnumber(G53)=true,G53-F53,"N/A"),"N/A") -> 0.005 | K54: Change from Previous Year | M54: =if(isnumber(L53)=true,if(isnumber(M53)=true,M53-L53,"N/A"),"N/A") -> -0.025 | N54: =if(isnumber(M53)=true,if(isnumber(N53)=true,N53-M53,"N/A"),"N/A") -> 0.005 | O54: =if(isnumber(N53)=true,if(isnumber(O53)=true,O53-N53,"N/A"),"N/A") -> 0.018 | P54: =if(isnumber(O53)=true,if(isnumber(P53)=true,P53-O53,"N/A"),"N/A") -> 0.007
B55: Gap from Beaverton | C55: =if(isnumber(C$48)=true,if(isnumber(C53)=true,C53-C$48,"N/A"),"N/A") -> -0.078 | D55: =if(isnumber(D$48)=true,if(isnumber(D53)=true,D53-D$48,"N/A"),"N/A") -> -0.013 | E55: =if(isnumber(E$48)=true,if(isnumber(E53)=true,E53-E$48,"N/A"),"N/A") -> -0.013 | F55: =if(isnumber(F$48)=true,if(isnumber(F53)=true,F53-F$48,"N/A"),"N/A") -> 0.005 | G55: =if(isnumber(G$48)=true,if(isnumber(G53)=true,G53-G$48,"N/A"),"N/A") -> 0.014 | K55: Gap from Beaverton | L55: =if(isnumber(L$48)=true,if(isnumber(L53)=true,L53-L$48,"N/A"),"N/A") -> -0.07 | M55: =if(isnumber(M$48)=true,if(isnumber(M53)=true,M53-M$48,"N/A"),"N/A") -> -0.009 | N55: =if(isnumber(N$48)=true,if(isnumber(N53)=true,N53-N$48,"N/A"),"N/A") -> -0.035 | O55: =if(isnumber(O$48)=true,if(isnumber(O53)=true,O53-O$48,"N/A"),"N/A") -> -0.009 | P55: =if(isnumber(P$48)=true,if(isnumber(P53)=true,P53-P$48,"N/A"),"N/A") -> 0.01
B56: Salem Keizer SD | C56: ='Math Summary'!$W$19 -> 0.07 | D56: ='Math Summary'!$X$19 -> < 5.0% | E56: ='Math Summary'!$Y$19 -> < 5.0% | F56: ='Math Summary'!$Z$19 -> < 5.0% | G56: ='Math Summary'!$AA$19 -> < 5.0% | K56: Salem Keizer SD | L56: ='Math Summary'!$W$49 -> 0.133 | M56: ='Math Summary'!$X$49 -> 0.075 | N56: ='Math Summary'!$Y$49 -> 0.06 | O56: ='Math Summary'!$Z$49 -> 0.064 | P56: ='Math Summary'!$AA$49 -> 0.076
B57: Change from Previous Year | D57: =if(isnumber(C56)=true,if(isnumber(D56)=true,D56-C56,"N/A"),"N/A") -> N/A | E57: =if(isnumber(D56)=true,if(isnumber(E56)=true,E56-D56,"N/A"),"N/A") -> N/A | F57: =if(isnumber(E56)=true,if(isnumber(F56)=true,F56-E56,"N/A"),"N/A") -> N/A | G57: =if(isnumber(F56)=true,if(isnumber(G56)=true,G56-F56,"N/A"),"N/A") -> N/A | K57: Change from Previous Year | M57: =if(isnumber(L56)=true,if(isnumber(M56)=true,M56-L56,"N/A"),"N/A") -> -0.058 | N57: =if(isnumber(M56)=true,if(isnumber(N56)=true,N56-M56,"N/A"),"N/A") -> -0.015 | O57: =if(isnumber(N56)=true,if(isnumber(O56)=true,O56-N56,"N/A"),"N/A") -> 0.004 | P57: =if(isnumber(O56)=true,if(isnumber(P56)=true,P56-O56,"N/A"),"N/A") -> 0.012
B58: Gap from Beaverton | C58: =if(isnumber(C$48)=true,if(isnumber(C56)=true,C56-C$48,"N/A"),"N/A") -> -0.062 | D58: =if(isnumber(D$48)=true,if(isnumber(D56)=true,D56-D$48,"N/A"),"N/A") -> N/A | E58: =if(isnumber(E$48)=true,if(isnumber(E56)=true,E56-E$48,"N/A"),"N/A") -> N/A | F58: =if(isnumber(F$48)=true,if(isnumber(F56)=true,F56-F$48,"N/A"),"N/A") -> N/A | G58: =if(isnumber(G$48)=true,if(isnumber(G56)=true,G56-G$48,"N/A"),"N/A") -> N/A | K58: Gap from Beaverton | L58: =if(isnumber(L$48)=true,if(isnumber(L56)=true,L56-L$48,"N/A"),"N/A") -> -0.031 | M58: =if(isnumber(M$48)=true,if(isnumber(M56)=true,M56-M$48,"N/A"),"N/A") -> -0.003 | N58: =if(isnumber(N$48)=true,if(isnumber(N56)=true,N56-N$48,"N/A"),"N/A") -> -0.049 | O58: =if(isnumber(O$48)=true,if(isnumber(O56)=true,O56-O$48,"N/A"),"N/A") -> -0.037 | P58: =if(isnumber(P$48)=true,if(isnumber(P56)=true,P56-P$48,"N/A"),"N/A") -> -0.013
B85: Students with Disabilities | K85: Migrant Education
C86: ='Math Proficiency by Grade'!C86 -> 2018-19 | D86: ='Math Proficiency by Grade'!D86 -> 2021-22 | E86: ='Math Proficiency by Grade'!E86 -> 2022-23 | F86: ='Math Proficiency by Grade'!F86 -> 2023-24 | G86: ='Math Proficiency by Grade'!G86 -> 2024-25 | L86: ='Math Proficiency by Grade'!L86 -> 2018-19 | M86: ='Math Proficiency by Grade'!M86 -> 2021-22 | N86: ='Math Proficiency by Grade'!N86 -> 2022-23 | O86: ='Math Proficiency by Grade'!O86 -> 2023-24 | P86: ='Math Proficiency by Grade'!P86 -> 2024-25
B87: State | C87: ='Math Summary'!$W$30 -> 0.127 | D87: ='Math Summary'!$X$30 -> 0.116 | E87: ='Math Summary'!$Y$30 -> 0.121 | F87: ='Math Summary'!$Z$30 -> 0.13 | G87: ='Math Summary'!$AA$30 -> 0.142 | K87: State | L87: ='Math Summary'!$W$50 -> 0.171 | M87: ='Math Summary'!$X$50 -> 0.108 | N87: ='Math Summary'!$Y$50 -> 0.102 | O87: ='Math Summary'!$Z$50 -> 0.107 | P87: ='Math Summary'!$AA$50 -> 0.113
B88: Change from Previous Year | D88: =if(isnumber(C87)=true,if(isnumber(D87)=true,D87-C87,"N/A"),"N/A") -> -0.011 | E88: =if(isnumber(D87)=true,if(isnumber(E87)=true,E87-D87,"N/A"),"N/A") -> 0.005 | F88: =if(isnumber(E87)=true,if(isnumber(F87)=true,F87-E87,"N/A"),"N/A") -> 0.009 | G88: =if(isnumber(F87)=true,if(isnumber(G87)=true,G87-F87,"N/A"),"N/A") -> 0.012 | K88: Change from Previous Year | M88: =if(isnumber(L87)=true,if(isnumber(M87)=true,M87-L87,"N/A"),"N/A") -> -0.063 | N88: =if(isnumber(M87)=true,if(isnumber(N87)=true,N87-M87,"N/A"),"N/A") -> -0.006 | O88: =if(isnumber(N87)=true,if(isnumber(O87)=true,O87-N87,"N/A"),"N/A") -> 0.005 | P88: =if(isnumber(O87)=true,if(isnumber(P87)=true,P87-O87,"N/A"),"N/A") -> 0.006
B89: Beaverton SD | C89: ='Math Summary'!$W$26 -> 0.197 | D89: ='Math Summary'!$X$26 -> 0.186 | E89: ='Math Summary'!$Y$26 -> 0.188 | F89: ='Math Summary'!$Z$26 -> 0.199 | G89: ='Math Summary'!$AA$26 -> 0.202 | K89: Beaverton SD | L89: ='Math Summary'!$W$56 -> 0.177 | M89: ='Math Summary'!$X$56 -> 0.103 | N89: ='Math Summary'!$Y$56 -> 0.153 | O89: ='Math Summary'!$Z$56 -> 0.098 | P89: ='Math Summary'!$AA$56 -> 0.064
B90: Change from Previous Year | D90: =if(isnumber(C89)=true,if(isnumber(D89)=true,D89-C89,"N/A"),"N/A") -> -0.011 | E90: =if(isnumber(D89)=true,if(isnumber(E89)=true,E89-D89,"N/A"),"N/A") -> 0.002 | F90: =if(isnumber(E89)=true,if(isnumber(F89)=true,F89-E89,"N/A"),"N/A") -> 0.011 | G90: =if(isnumber(F89)=true,if(isnumber(G89)=true,G89-F89,"N/A"),"N/A") -> 0.003 | K90: Change from Previous Year | M90: =if(isnumber(L89)=true,if(isnumber(M89)=true,M89-L89,"N/A"),"N/A") -> -0.074 | N90: =if(isnumber(M89)=true,if(isnumber(N89)=true,N89-M89,"N/A"),"N/A") -> 0.05 | O90: =if(isnumber(N89)=true,if(isnumber(O89)=true,O89-N89,"N/A"),"N/A") -> -0.055 | P90: =if(isnumber(O89)=true,if(isnumber(P89)=true,P89-O89,"N/A"),"N/A") -> -0.034
B91: Hillsboro SD | C91: ='Math Summary'!$W$27 -> 0.145 | D91: ='Math Summary'!$X$27 -> 0.126 | E91: ='Math Summary'!$Y$27 -> 0.116 | F91: ='Math Summary'!$Z$27 -> 0.123 | G91: ='Math Summary'!$AA$27 -> 0.152 | K91: Hillsboro SD | L91: ='Math Summary'!$W$57 -> 0.153 | M91: ='Math Summary'!$X$57 -> 0.066 | N91: ='Math Summary'!$Y$57 -> 0.082 | O91: ='Math Summary'!$Z$57 -> 0.082 | P91: ='Math Summary'!$AA$57 -> 0.078
B92: Change from Previous Year | D92: =if(isnumber(C91)=true,if(isnumber(D91)=true,D91-C91,"N/A"),"N/A") -> -0.019 | E92: =if(isnumber(D91)=true,if(isnumber(E91)=true,E91-D91,"N/A"),"N/A") -> -0.01 | F92: =if(isnumber(E91)=true,if(isnumber(F91)=true,F91-E91,"N/A"),"N/A") -> 0.007 | G92: =if(isnumber(F91)=true,if(isnumber(G91)=true,G91-F91,"N/A"),"N/A") -> 0.029 | K92: Change from Previous Year | M92: =if(isnumber(L91)=true,if(isnumber(M91)=true,M91-L91,"N/A"),"N/A") -> -0.087 | N92: =if(isnumber(M91)=true,if(isnumber(N91)=true,N91-M91,"N/A"),"N/A") -> 0.016 | O92: =if(isnumber(N91)=true,if(isnumber(O91)=true,O91-N91,"N/A"),"N/A") -> 0 | P92: =if(isnumber(O91)=true,if(isnumber(P91)=true,P91-O91,"N/A"),"N/A") -> -0.004
B93: Gap from Beaverton | C93: =if(isnumber(C$89)=true,if(isnumber(C91)=true,C91-C$89,"N/A"),"N/A") -> -0.052 | D93: =if(isnumber(D$89)=true,if(isnumber(D91)=true,D91-D$89,"N/A"),"N/A") -> -0.06 | E93: =if(isnumber(E$89)=true,if(isnumber(E91)=true,E91-E$89,"N/A"),"N/A") -> -0.072 | F93: =if(isnumber(F$89)=true,if(isnumber(F91)=true,F91-F$89,"N/A"),"N/A") -> -0.076 | G93: =if(isnumber(G$89)=true,if(isnumber(G91)=true,G91-G$89,"N/A"),"N/A") -> -0.05 | K93: Gap from Beaverton | L93: =if(isnumber(L$89)=true,if(isnumber(L91)=true,L91-L$89,"N/A"),"N/A") -> -0.024 | M93: =if(isnumber(M$89)=true,if(isnumber(M91)=true,M91-M$89,"N/A"),"N/A") -> -0.037 | N93: =if(isnumber(N$89)=true,if(isnumber(N91)=true,N91-N$89,"N/A"),"N/A") -> -0.071 | O93: =if(isnumber(O$89)=true,if(isnumber(O91)=true,O91-O$89,"N/A"),"N/A") -> -0.016 | P93: =if(isnumber(P$89)=true,if(isnumber(P91)=true,P91-P$89,"N/A"),"N/A") -> 0.014
B94: Portland SD | C94: ='Math Summary'!$W$28 -> 0.219 | D94: ='Math Summary'!$X$28 -> 0.244 | E94: ='Math Summary'!$Y$28 -> 0.265 | F94: ='Math Summary'!$Z$28 -> 0.274 | G94: ='Math Summary'!$AA$28 -> 0.288 | K94: Portland SD | L94: ='Math Summary'!$W$58 -> 0.05 | M94: ='Math Summary'!$X$58 -> 0.091 | N94: ='Math Summary'!$Y$58 -> 0.143 | O94: ='Math Summary'!$Z$58 -> 0.167 | P94: ='Math Summary'!$AA$58 -> 0.151
B95: Change from Previous Year | D95: =if(isnumber(C94)=true,if(isnumber(D94)=true,D94-C94,"N/A"),"N/A") -> 0.025 | E95: =if(isnumber(D94)=true,if(isnumber(E94)=true,E94-D94,"N/A"),"N/A") -> 0.021 | F95: =if(isnumber(E94)=true,if(isnumber(F94)=true,F94-E94,"N/A"),"N/A") -> 0.009 | G95: =if(isnumber(F94)=true,if(isnumber(G94)=true,G94-F94,"N/A"),"N/A") -> 0.014 | K95: Change from Previous Year | M95: =if(isnumber(L94)=true,if(isnumber(M94)=true,M94-L94,"N/A"),"N/A") -> 0.041 | N95: =if(isnumber(M94)=true,if(isnumber(N94)=true,N94-M94,"N/A"),"N/A") -> 0.052 | O95: =if(isnumber(N94)=true,if(isnumber(O94)=true,O94-N94,"N/A"),"N/A") -> 0.024 | P95: =if(isnumber(O94)=true,if(isnumber(P94)=true,P94-O94,"N/A"),"N/A") -> -0.016
B96: Gap from Beaverton | C96: =if(isnumber(C$89)=true,if(isnumber(C94)=true,C94-C$89,"N/A"),"N/A") -> 0.022 | D96: =if(isnumber(D$89)=true,if(isnumber(D94)=true,D94-D$89,"N/A"),"N/A") -> 0.058 | E96: =if(isnumber(E$89)=true,if(isnumber(E94)=true,E94-E$89,"N/A"),"N/A") -> 0.077 | F96: =if(isnumber(F$89)=true,if(isnumber(F94)=true,F94-F$89,"N/A"),"N/A") -> 0.075 | G96: =if(isnumber(G$89)=true,if(isnumber(G94)=true,G94-G$89,"N/A"),"N/A") -> 0.086 | K96: Gap from Beaverton | L96: =if(isnumber(L$89)=true,if(isnumber(L94)=true,L94-L$89,"N/A"),"N/A") -> -0.127 | M96: =if(isnumber(M$89)=true,if(isnumber(M94)=true,M94-M$89,"N/A"),"N/A") -> -0.012 | N96: =if(isnumber(N$89)=true,if(isnumber(N94)=true,N94-N$89,"N/A"),"N/A") -> -0.01 | O96: =if(isnumber(O$89)=true,if(isnumber(O94)=true,O94-O$89,"N/A"),"N/A") -> 0.069 | P96: =if(isnumber(P$89)=true,if(isnumber(P94)=true,P94-P$89,"N/A"),"N/A") -> 0.087
B97: Salem Keizer SD | C97: ='Math Summary'!$W$29 -> 0.108 | D97: ='Math Summary'!$X$29 -> 0.08 | E97: ='Math Summary'!$Y$29 -> 0.08 | F97: ='Math Summary'!$Z$29 -> 0.077 | G97: ='Math Summary'!$AA$29 -> 0.101 | K97: Salem Keizer SD | L97: ='Math Summary'!$W$59 -> 0.201 | M97: ='Math Summary'!$X$59 -> 0.103 | N97: ='Math Summary'!$Y$59 -> 0.109 | O97: ='Math Summary'!$Z$59 -> 0.074 | P97: ='Math Summary'!$AA$59 -> 0.083
B98: Change from Previous Year | D98: =if(isnumber(C97)=true,if(isnumber(D97)=true,D97-C97,"N/A"),"N/A") -> -0.028 | E98: =if(isnumber(D97)=true,if(isnumber(E97)=true,E97-D97,"N/A"),"N/A") -> 0 | F98: =if(isnumber(E97)=true,if(isnumber(F97)=true,F97-E97,"N/A"),"N/A") -> -0.003 | G98: =if(isnumber(F97)=true,if(isnumber(G97)=true,G97-F97,"N/A"),"N/A") -> 0.024 | K98: Change from Previous Year | M98: =if(isnumber(L97)=true,if(isnumber(M97)=true,M97-L97,"N/A"),"N/A") -> -0.098 | N98: =if(isnumber(M97)=true,if(isnumber(N97)=true,N97-M97,"N/A"),"N/A") -> 0.006 | O98: =if(isnumber(N97)=true,if(isnumber(O97)=true,O97-N97,"N/A"),"N/A") -> -0.035 | P98: =if(isnumber(O97)=true,if(isnumber(P97)=true,P97-O97,"N/A"),"N/A") -> 0.009
B99: Gap from Beaverton | C99: =if(isnumber(C$89)=true,if(isnumber(C97)=true,C97-C$89,"N/A"),"N/A") -> -0.089 | D99: =if(isnumber(D$89)=true,if(isnumber(D97)=true,D97-D$89,"N/A"),"N/A") -> -0.106 | E99: =if(isnumber(E$89)=true,if(isnumber(E97)=true,E97-E$89,"N/A"),"N/A") -> -0.108 | F99: =if(isnumber(F$89)=true,if(isnumber(F97)=true,F97-F$89,"N/A"),"N/A") -> -0.122 | G99: =if(isnumber(G$89)=true,if(isnumber(G97)=true,G97-G$89,"N/A"),"N/A") -> -0.101 | K99: Gap from Beaverton | L99: =if(isnumber(L$89)=true,if(isnumber(L97)=true,L97-L$89,"N/A"),"N/A") -> 0.024 | M99: =if(isnumber(M$89)=true,if(isnumber(M97)=true,M97-M$89,"N/A"),"N/A") -> 0 | N99: =if(isnumber(N$89)=true,if(isnumber(N97)=true,N97-N$89,"N/A"),"N/A") -> -0.044 | O99: =if(isnumber(O$89)=true,if(isnumber(O97)=true,O97-O$89,"N/A"),"N/A") -> -0.024 | P99: =if(isnumber(P$89)=true,if(isnumber(P97)=true,P97-P$89,"N/A"),"N/A") -> 0.019

Sheet Math Proficiency by Gender
A1: OSAS Math Proficiency
A2: *Prior to 2024-25, ODE counted students taking extended assessments as not proficient in these assessment reports. However, ODE received approval from the U.S. Department of Education to count as proficient those students who met the alternate standard on Extended Assessments.
B5: Total Population (All Students)
C6: ='Math Proficiency by Grade'!C4 -> 2018-19 | D6: ='Math Proficiency by Grade'!D4 -> 2021-22 | E6: ='Math Proficiency by Grade'!E4 -> 2022-23 | F6: ='Math Proficiency by Grade'!F4 -> 2023-24 | G6: ='Math Proficiency by Grade'!G4 -> 2024-25
B7: State | C7: ='Math Summary'!$P$10 -> 0.394 | D7: ='Math Summary'!$Q$10 -> 0.304 | E7: ='Math Summary'!$R$10 -> 0.306 | F7: ='Math Summary'!$S$10 -> 0.31 | G7: ='Math Summary'!$T$10 -> 0.315
B8: Change from Previous Year | D8: =if(isnumber(C7)=true,if(isnumber(D7)=true,D7-C7,"N/A"),"N/A") -> -0.09 | E8: =if(isnumber(D7)=true,if(isnumber(E7)=true,E7-D7,"N/A"),"N/A") -> 0.002 | F8: =if(isnumber(E7)=true,if(isnumber(F7)=true,F7-E7,"N/A"),"N/A") -> 0.004 | G8: =if(isnumber(F7)=true,if(isnumber(G7)=true,G7-F7,"N/A"),"N/A") -> 0.005
B9: Beaverton SD | C9: ='Math Summary'!$P$6 -> 0.537 | D9: ='Math Summary'!$Q$6 -> 0.449 | E9: ='Math Summary'!$R$6 -> 0.449 | F9: ='Math Summary'!$S$6 -> 0.44 | G9: ='Math Summary'!$T$6 -> 0.43
B10: Change from Previous Year | D10: =if(isnumber(C9)=true,if(isnumber(D9)=true,D9-C9,"N/A"),"N/A") -> -0.088 | E10: =if(isnumber(D9)=true,if(isnumber(E9)=true,E9-D9,"N/A"),"N/A") -> 0 | F10: =if(isnumber(E9)=true,if(isnumber(F9)=true,F9-E9,"N/A"),"N/A") -> -0.009 | G10: =if(isnumber(F9)=true,if(isnumber(G9)=true,G9-F9,"N/A"),"N/A") -> -0.01
B11: Hillsboro SD | C11: ='Math Summary'!$P$7 -> 0.39 | D11: ='Math Summary'!$Q$7 -> 0.293 | E11: ='Math Summary'!$R$7 -> 0.301 | F11: ='Math Summary'!$S$7 -> 0.29 | G11: ='Math Summary'!$T$7 -> 0.294
B12: Change from Previous Year | D12: =if(isnumber(C11)=true,if(isnumber(D11)=true,D11-C11,"N/A"),"N/A") -> -0.097 | E12: =if(isnumber(D11)=true,if(isnumber(E11)=true,E11-D11,"N/A"),"N/A") -> 0.008 | F12: =if(isnumber(E11)=true,if(isnumber(F11)=true,F11-E11,"N/A"),"N/A") -> -0.011 | G12: =if(isnumber(F11)=true,if(isnumber(G11)=true,G11-F11,"N/A"),"N/A") -> 0.004
B13: Gap from Beaverton | C13: =if(isnumber(C$9)=true,if(isnumber(C11)=true,C11-C$9,"N/A"),"N/A") -> -0.147 | D13: =if(isnumber(D$9)=true,if(isnumber(D11)=true,D11-D$9,"N/A"),"N/A") -> -0.156 | E13: =if(isnumber(E$9)=true,if(isnumber(E11)=true,E11-E$9,"N/A"),"N/A") -> -0.148 | F13: =if(isnumber(F$9)=true,if(isnumber(F11)=true,F11-F$9,"N/A"),"N/A") -> -0.15 | G13: =if(isnumber(G$9)=true,if(isnumber(G11)=true,G11-G$9,"N/A"),"N/A") -> -0.136
B14: Portland SD | C14: ='Math Summary'!$P$8 -> 0.458 | D14: ='Math Summary'!$Q$8 -> 0.438 | E14: ='Math Summary'!$R$8 -> 0.462 | F14: ='Math Summary'!$S$8 -> 0.464 | G14: ='Math Summary'!$T$8 -> 0.485
B15: Change from Previous Year | D15: =if(isnumber(C14)=true,if(isnumber(D14)=true,D14-C14,"N/A"),"N/A") -> -0.02 | E15: =if(isnumber(D14)=true,if(isnumber(E14)=true,E14-D14,"N/A"),"N/A") -> 0.024 | F15: =if(isnumber(E14)=true,if(isnumber(F14)=true,F14-E14,"N/A"),"N/A") -> 0.002 | G15: =if(isnumber(F14)=true,if(isnumber(G14)=true,G14-F14,"N/A"),"N/A") -> 0.021
B16: Gap from Beaverton | C16: =if(isnumber(C$9)=true,if(isnumber(C14)=true,C14-C$9,"N/A"),"N/A") -> -0.079 | D16: =if(isnumber(D$9)=true,if(isnumber(D14)=true,D14-D$9,"N/A"),"N/A") -> -0.011 | E16: =if(isnumber(E$9)=true,if(isnumber(E14)=true,E14-E$9,"N/A"),"N/A") -> 0.013 | F16: =if(isnumber(F$9)=true,if(isnumber(F14)=true,F14-F$9,"N/A"),"N/A") -> 0.024 | G16: =if(isnumber(G$9)=true,if(isnumber(G14)=true,G14-G$9,"N/A"),"N/A") -> 0.055
B17: Salem Keizer SD | C17: ='Math Summary'!$P$9 -> 0.331 | D17: ='Math Summary'!$Q$9 -> 0.21 | E17: ='Math Summary'!$R$9 -> 0.202 | F17: ='Math Summary'!$S$9 -> 0.2 | G17: ='Math Summary'!$T$9 -> 0.209
B18: Change from Previous Year | D18: =if(isnumber(C17)=true,if(isnumber(D17)=true,D17-C17,"N/A"),"N/A") -> -0.121 | E18: =if(isnumber(D17)=true,if(isnumber(E17)=true,E17-D17,"N/A"),"N/A") -> -0.008 | F18: =if(isnumber(E17)=true,if(isnumber(F17)=true,F17-E17,"N/A"),"N/A") -> -0.002 | G18: =if(isnumber(F17)=true,if(isnumber(G17)=true,G17-F17,"N/A"),"N/A") -> 0.009
B19: Gap from Beaverton | C19: =if(isnumber(C$9)=true,if(isnumber(C17)=true,C17-C$9,"N/A"),"N/A") -> -0.206 | D19: =if(isnumber(D$9)=true,if(isnumber(D17)=true,D17-D$9,"N/A"),"N/A") -> -0.239 | E19: =if(isnumber(E$9)=true,if(isnumber(E17)=true,E17-E$9,"N/A"),"N/A") -> -0.247 | F19: =if(isnumber(F$9)=true,if(isnumber(F17)=true,F17-F$9,"N/A"),"N/A") -> -0.24 | G19: =if(isnumber(G$9)=true,if(isnumber(G17)=true,G17-G$9,"N/A"),"N/A") -> -0.221
B46: Female Students
C47: ='Math Proficiency by Grade'!C45 -> 2018-19 | D47: ='Math Proficiency by Grade'!D45 -> 2021-22 | E47: ='Math Proficiency by Grade'!E45 -> 2022-23 | F47: ='Math Proficiency by Grade'!F45 -> 2023-24 | G47: ='Math Proficiency by Grade'!G45 -> 2024-25
B48: State | C48: ='Math Summary'!$P$20 -> 0.389 | D48: ='Math Summary'!$Q$20 -> 0.286 | E48: ='Math Summary'!$R$20 -> 0.285 | F48: ='Math Summary'!$S$20 -> 0.289 | G48: ='Math Summary'!$T$20 -> 0.29
B49: Change from Previous Year | D49: =if(isnumber(C48)=true,if(isnumber(D48)=true,D48-C48,"N/A"),"N/A") -> -0.103 | E49: =if(isnumber(D48)=true,if(isnumber(E48)=true,E48-D48,"N/A"),"N/A") -> -0.001 | F49: =if(isnumber(E48)=true,if(isnumber(F48)=true,F48-E48,"N/A"),"N/A") -> 0.004 | G49: =if(isnumber(F48)=true,if(isnumber(G48)=true,G48-F48,"N/A"),"N/A") -> 0.001
B50: Beaverton SD | C50: ='Math Summary'!$P$16 -> 0.532 | D50: ='Math Summary'!$Q$16 -> 0.428 | E50: ='Math Summary'!$R$16 -> 0.44 | F50: ='Math Summary'!$S$16 -> 0.422 | G50: ='Math Summary'!$T$16 -> 0.41
B51: Change from Previous Year | D51: =if(isnumber(C50)=true,if(isnumber(D50)=true,D50-C50,"N/A"),"N/A") -> -0.104 | E51: =if(isnumber(D50)=true,if(isnumber(E50)=true,E50-D50,"N/A"),"N/A") -> 0.012 | F51: =if(isnumber(E50)=true,if(isnumber(F50)=true,F50-E50,"N/A"),"N/A") -> -0.018 | G51: =if(isnumber(F50)=true,if(isnumber(G50)=true,G50-F50,"N/A"),"N/A") -> -0.012
B52: Hillsboro SD | C52: ='Math Summary'!$P$17 -> 0.38 | D52: ='Math Summary'!$Q$17 -> 0.273 | E52: ='Math Summary'!$R$17 -> 0.283 | F52: ='Math Summary'!$S$17 -> 0.276 | G52: ='Math Summary'!$T$17 -> 0.271
B53: Change from Previous Year | D53: =if(isnumber(C52)=true,if(isnumber(D52)=true,D52-C52,"N/A"),"N/A") -> -0.107 | E53: =if(isnumber(D52)=true,if(isnumber(E52)=true,E52-D52,"N/A"),"N/A") -> 0.01 | F53: =if(isnumber(E52)=true,if(isnumber(F52)=true,F52-E52,"N/A"),"N/A") -> -0.007 | G53: =if(isnumber(F52)=true,if(isnumber(G52)=true,G52-F52,"N/A"),"N/A") -> -0.005
B54: Gap from Beaverton | C54: =if(isnumber(C$50)=true,if(isnumber(C52)=true,C52-C$50,"N/A"),"N/A") -> -0.152 | D54: =if(isnumber(D$50)=true,if(isnumber(D52)=true,D52-D$50,"N/A"),"N/A") -> -0.155 | E54: =if(isnumber(E$50)=true,if(isnumber(E52)=true,E52-E$50,"N/A"),"N/A") -> -0.157 | F54: =if(isnumber(F$50)=true,if(isnumber(F52)=true,F52-F$50,"N/A"),"N/A") -> -0.146 | G54: =if(isnumber(G$50)=true,if(isnumber(G52)=true,G52-G$50,"N/A"),"N/A") -> -0.139
B55: Portland SD | C55: ='Math Summary'!$P$18 -> 0.446 | D55: ='Math Summary'!$Q$18 -> 0.419 | E55: ='Math Summary'!$R$18 -> 0.441 | F55: ='Math Summary'!$S$18 -> 0.446 | G55: ='Math Summary'!$T$18 -> 0.46
B56: Change from Previous Year | D56: =if(isnumber(C55)=true,if(isnumber(D55)=true,D55-C55,"N/A"),"N/A") -> -0.027 | E56: =if(isnumber(D55)=true,if(isnumber(E55)=true,E55-D55,"N/A"),"N/A") -> 0.022 | F56: =if(isnumber(E55)=true,if(isnumber(F55)=true,F55-E55,"N/A"),"N/A") -> 0.005 | G56: =if(isnumber(F55)=true,if(isnumber(G55)=true,G55-F55,"N/A"),"N/A") -> 0.014
B57: Gap from Beaverton | C57: =if(isnumber(C$50)=true,if(isnumber(C55)=true,C55-C$50,"N/A"),"N/A") -> -0.086 | D57: =if(isnumber(D$50)=true,if(isnumber(D55)=true,D55-D$50,"N/A"),"N/A") -> -0.009 | E57: =if(isnumber(E$50)=true,if(isnumber(E55)=true,E55-E$50,"N/A"),"N/A") -> 0.001 | F57: =if(isnumber(F$50)=true,if(isnumber(F55)=true,F55-F$50,"N/A"),"N/A") -> 0.024 | G57: =if(isnumber(G$50)=true,if(isnumber(G55)=true,G55-G$50,"N/A"),"N/A") -> 0.05
B58: Salem Keizer SD | C58: ='Math Summary'!$P$19 -> 0.327 | D58: ='Math Summary'!$Q$19 -> 0.194 | E58: ='Math Summary'!$R$19 -> 0.182 | F58: ='Math Summary'!$S$19 -> 0.181 | G58: ='Math Summary'!$T$19 -> 0.186
B59: Change from Previous Year | D59: =if(isnumber(C58)=true,if(isnumber(D58)=true,D58-C58,"N/A"),"N/A") -> -0.133 | E59: =if(isnumber(D58)=true,if(isnumber(E58)=true,E58-D58,"N/A"),"N/A") -> -0.012 | F59: =if(isnumber(E58)=true,if(isnumber(F58)=true,F58-E58,"N/A"),"N/A") -> -0.001 | G59: =if(isnumber(F58)=true,if(isnumber(G58)=true,G58-F58,"N/A"),"N/A") -> 0.005
B60: Gap from Beaverton | C60: =if(isnumber(C$50)=true,if(isnumber(C58)=true,C58-C$50,"N/A"),"N/A") -> -0.205 | D60: =if(isnumber(D$50)=true,if(isnumber(D58)=true,D58-D$50,"N/A"),"N/A") -> -0.234 | E60: =if(isnumber(E$50)=true,if(isnumber(E58)=true,E58-E$50,"N/A"),"N/A") -> -0.258 | F60: =if(isnumber(F$50)=true,if(isnumber(F58)=true,F58-F$50,"N/A"),"N/A") -> -0.241 | G60: =if(isnumber(G$50)=true,if(isnumber(G58)=true,G58-G$50,"N/A"),"N/A") -> -0.224
B87: Male Students
C88: ='Math Proficiency by Grade'!C86 -> 2018-19 | D88: ='Math Proficiency by Grade'!D86 -> 2021-22 | E88: ='Math Proficiency by Grade'!E86 -> 2022-23 | F88: ='Math Proficiency by Grade'!F86 -> 2023-24 | G88: ='Math Proficiency by Grade'!G86 -> 2024-25
B89: State | C89: ='Math Summary'!$P$30 -> 0.399 | D89: ='Math Summary'!$Q$30 -> 0.319 | E89: ='Math Summary'!$R$30 -> 0.325 | F89: ='Math Summary'!$S$30 -> 0.328 | G89: ='Math Summary'!$T$30 -> 0.337
B90: Change from Previous Year | D90: =if(isnumber(C89)=true,if(isnumber(D89)=true,D89-C89,"N/A"),"N/A") -> -0.08 | E90: =if(isnumber(D89)=true,if(isnumber(E89)=true,E89-D89,"N/A"),"N/A") -> 0.006 | F90: =if(isnumber(E89)=true,if(isnumber(F89)=true,F89-E89,"N/A"),"N/A") -> 0.003 | G90: =if(isnumber(F89)=true,if(isnumber(G89)=true,G89-F89,"N/A"),"N/A") -> 0.009
B91: Beaverton SD | C91: ='Math Summary'!$P$26 -> 0.541 | D91: ='Math Summary'!$Q$26 -> 0.468 | E91: ='Math Summary'!$R$26 -> 0.457 | F91: ='Math Summary'!$S$26 -> 0.457 | G91: ='Math Summary'!$T$26 -> 0.449
B92: Change from Previous Year | D92: =if(isnumber(C91)=true,if(isnumber(D91)=true,D91-C91,"N/A"),"N/A") -> -0.073 | E92: =if(isnumber(D91)=true,if(isnumber(E91)=true,E91-D91,"N/A"),"N/A") -> -0.011 | F92: =if(isnumber(E91)=true,if(isnumber(F91)=true,F91-E91,"N/A"),"N/A") -> 0 | G92: =if(isnumber(F91)=true,if(isnumber(G91)=true,G91-F91,"N/A"),"N/A") -> -0.008
B93: Hillsboro SD | C93: ='Math Summary'!$P$27 -> 0.4 | D93: ='Math Summary'!$Q$27 -> 0.311 | E93: ='Math Summary'!$R$27 -> 0.317 | F93: ='Math Summary'!$S$27 -> 0.303 | G93: ='Math Summary'!$T$27 -> 0.314
B94: Change from Previous Year | D94: =if(isnumber(C93)=true,if(isnumber(D93)=true,D93-C93,"N/A"),"N/A") -> -0.089 | E94: =if(isnumber(D93)=true,if(isnumber(E93)=true,E93-D93,"N/A"),"N/A") -> 0.006 | F94: =if(isnumber(E93)=true,if(isnumber(F93)=true,F93-E93,"N/A"),"N/A") -> -0.014 | G94: =if(isnumber(F93)=true,if(isnumber(G93)=true,G93-F93,"N/A"),"N/A") -> 0.011
B95: Gap from Beaverton | C95: =if(isnumber(C$91)=true,if(isnumber(C93)=true,C93-C$91,"N/A"),"N/A") -> -0.141 | D95: =if(isnumber(D$91)=true,if(isnumber(D93)=true,D93-D$91,"N/A"),"N/A") -> -0.157 | E95: =if(isnumber(E$91)=true,if(isnumber(E93)=true,E93-E$91,"N/A"),"N/A") -> -0.14 | F95: =if(isnumber(F$91)=true,if(isnumber(F93)=true,F93-F$91,"N/A"),"N/A") -> -0.154 | G95: =if(isnumber(G$91)=true,if(isnumber(G93)=true,G93-G$91,"N/A"),"N/A") -> -0.135
B96: Portland SD | C96: ='Math Summary'!$P$28 -> 0.47 | D96: ='Math Summary'!$Q$28 -> 0.456 | E96: ='Math Summary'!$R$28 -> 0.48 | F96: ='Math Summary'!$S$28 -> 0.479 | G96: ='Math Summary'!$T$28 -> 0.506
B97: Change from Previous Year | D97: =if(isnumber(C96)=true,if(isnumber(D96)=true,D96-C96,"N/A"),"N/A") -> -0.014 | E97: =if(isnumber(D96)=true,if(isnumber(E96)=true,E96-D96,"N/A"),"N/A") -> 0.024 | F97: =if(isnumber(E96)=true,if(isnumber(F96)=true,F96-E96,"N/A"),"N/A") -> -0.001 | G97: =if(isnumber(F96)=true,if(isnumber(G96)=true,G96-F96,"N/A"),"N/A") -> 0.027
B98: Gap from Beaverton | C98: =if(isnumber(C$91)=true,if(isnumber(C96)=true,C96-C$91,"N/A"),"N/A") -> -0.071 | D98: =if(isnumber(D$91)=true,if(isnumber(D96)=true,D96-D$91,"N/A"),"N/A") -> -0.012 | E98: =if(isnumber(E$91)=true,if(isnumber(E96)=true,E96-E$91,"N/A"),"N/A") -> 0.023 | F98: =if(isnumber(F$91)=true,if(isnumber(F96)=true,F96-F$91,"N/A"),"N/A") -> 0.022 | G98: =if(isnumber(G$91)=true,if(isnumber(G96)=true,G96-G$91,"N/A"),"N/A") -> 0.057
B99: Salem Keizer SD | C99: ='Math Summary'!$P$29 -> 0.336 | D99: ='Math Summary'!$Q$29 -> 0.223 | E99: ='Math Summary'!$R$29 -> 0.22 | F99: ='Math Summary'!$S$29 -> 0.217 | G99: ='Math Summary'!$T$29 -> 0.229
B100: Change from Previous Year | D100: =if(isnumber(C99)=true,if(isnumber(D99)=true,D99-C99,"N/A"),"N/A") -> -0.113 | E100: =if(isnumber(D99)=true,if(isnumber(E99)=true,E99-D99,"N/A"),"N/A") -> -0.003 | F100: =if(isnumber(E99)=true,if(isnumber(F99)=true,F99-E99,"N/A"),"N/A") -> -0.003 | G100: =if(isnumber(F99)=true,if(isnumber(G99)=true,G99-F99,"N/A"),"N/A") -> 0.012
B101: Gap from Beaverton | C101: =if(isnumber(C$91)=true,if(isnumber(C99)=true,C99-C$91,"N/A"),"N/A") -> -0.205 | D101: =if(isnumber(D$91)=true,if(isnumber(D99)=true,D99-D$91,"N/A"),"N/A") -> -0.245 | E101: =if(isnumber(E$91)=true,if(isnumber(E99)=true,E99-E$91,"N/A"),"N/A") -> -0.237 | F101: =if(isnumber(F$91)=true,if(isnumber(F99)=true,F99-F$91,"N/A"),"N/A") -> -0.24 | G101: =if(isnumber(G$91)=true,if(isnumber(G99)=true,G99-G$91,"N/A"),"N/A") -> -0.22
B128: Students Identifying Gender as X
C129: ='Math Proficiency by Grade'!C127 -> 2018-19 | D129: ='Math Proficiency by Grade'!D127 -> 2021-22 | E129: ='Math Proficiency by Grade'!E127 -> 2022-23 | F129: ='Math Proficiency by Grade'!F127 -> 2023-24 | G129: ='Math Proficiency by Grade'!G127 -> 2024-25
B130: State | C130: ='Math Summary'!$P$40 -> 0.328 | D130: ='Math Summary'!$Q$40 -> 0.332 | E130: ='Math Summary'!$R$40 -> 0.36 | F130: ='Math Summary'!$S$40 -> 0.377 | G130: ='Math Summary'!$T$40 -> 0.441
B131: Change from Previous Year | D131: =if(isnumber(C130)=true,if(isnumber(D130)=true,D130-C130,"N/A"),"N/A") -> 0.004 | E131: =if(isnumber(D130)=true,if(isnumber(E130)=true,E130-D130,"N/A"),"N/A") -> 0.028 | F131: =if(isnumber(E130)=true,if(isnumber(F130)=true,F130-E130,"N/A"),"N/A") -> 0.017 | G131: =if(isnumber(F130)=true,if(isnumber(G130)=true,G130-F130,"N/A"),"N/A") -> 0.064
B132: Beaverton SD | C132: ='Math Summary'!$P$36 -> * | D132: ='Math Summary'!$Q$36 -> 0.333 | E132: ='Math Summary'!$R$36 -> 0.545 | F132: ='Math Summary'!$S$36 -> 0.5 | G132: ='Math Summary'!$T$36 -> 0.464
B133: Change from Previous Year | D133: =if(isnumber(C132)=true,if(isnumber(D132)=true,D132-C132,"N/A"),"N/A") -> N/A | E133: =if(isnumber(D132)=true,if(isnumber(E132)=true,E132-D132,"N/A"),"N/A") -> 0.212 | F133: =if(isnumber(E132)=true,if(isnumber(F132)=true,F132-E132,"N/A"),"N/A") -> -0.045 | G133: =if(isnumber(F132)=true,if(isnumber(G132)=true,G132-F132,"N/A"),"N/A") -> -0.036
B134: Hillsboro SD | C134: ='Math Summary'!$P$37 -> * | D134: ='Math Summary'!$Q$37 -> 0.25 | E134: ='Math Summary'!$R$37 -> 0.37 | F134: ='Math Summary'!$S$37 -> 0.357 | G134: ='Math Summary'!$T$37 -> 0.516
B135: Change from Previous Year | D135: =if(isnumber(C134)=true,if(isnumber(D134)=true,D134-C134,"N/A"),"N/A") -> N/A | E135: =if(isnumber(D134)=true,if(isnumber(E134)=true,E134-D134,"N/A"),"N/A") -> 0.12 | F135: =if(isnumber(E134)=true,if(isnumber(F134)=true,F134-E134,"N/A"),"N/A") -> -0.013 | G135: =if(isnumber(F134)=true,if(isnumber(G134)=true,G134-F134,"N/A"),"N/A") -> 0.159
B136: Gap from Beaverton | C136: =if(isnumber(C$132)=true,if(isnumber(C134)=true,C134-C$132,"N/A"),"N/A") -> N/A | D136: =if(isnumber(D$132)=true,if(isnumber(D134)=true,D134-D$132,"N/A"),"N/A") -> -0.083 | E136: =if(isnumber(E$132)=true,if(isnumber(E134)=true,E134-E$132,"N/A"),"N/A") -> -0.175 | F136: =if(isnumber(F$132)=true,if(isnumber(F134)=true,F134-F$132,"N/A"),"N/A") -> -0.143 | G136: =if(isnumber(G$132)=true,if(isnumber(G134)=true,G134-G$132,"N/A"),"N/A") -> 0.052
B137: Portland SD | C137: ='Math Summary'!$P$38 -> 0.5 | D137: ='Math Summary'!$Q$38 -> 0.406 | E137: ='Math Summary'!$R$38 -> 0.478 | F137: ='Math Summary'!$S$38 -> 0.49 | G137: ='Math Summary'!$T$38 -> 0.558
B138: Change from Previous Year | D138: =if(isnumber(C137)=true,if(isnumber(D137)=true,D137-C137,"N/A"),"N/A") -> -0.094 | E138: =if(isnumber(D137)=true,if(isnumber(E137)=true,E137-D137,"N/A"),"N/A") -> 0.072 | F138: =if(isnumber(E137)=true,if(isnumber(F137)=true,F137-E137,"N/A"),"N/A") -> 0.012 | G138: =if(isnumber(F137)=true,if(isnumber(G137)=true,G137-F137,"N/A"),"N/A") -> 0.068
B139: Gap from Beaverton | C139: =if(isnumber(C$132)=true,if(isnumber(C137)=true,C137-C$132,"N/A"),"N/A") -> N/A | D139: =if(isnumber(D$132)=true,if(isnumber(D137)=true,D137-D$132,"N/A"),"N/A") -> 0.073 | E139: =if(isnumber(E$132)=true,if(isnumber(E137)=true,E137-E$132,"N/A"),"N/A") -> -0.067 | F139: =if(isnumber(F$132)=true,if(isnumber(F137)=true,F137-F$132,"N/A"),"N/A") -> -0.01 | G139: =if(isnumber(G$132)=true,if(isnumber(G137)=true,G137-G$132,"N/A"),"N/A") -> 0.094
B140: Salem Keizer SD | C140: ='Math Summary'!$P$39 -> * | D140: ='Math Summary'!$Q$39 -> 0.315 | E140: ='Math Summary'!$R$39 -> 0.294 | F140: ='Math Summary'!$S$39 -> 0.182 | G140: ='Math Summary'!$T$39 -> 0.382
B141: Change from Previous Year | D141: =if(isnumber(C140)=true,if(isnumber(D140)=true,D140-C140,"N/A"),"N/A") -> N/A | E141: =if(isnumber(D140)=true,if(isnumber(E140)=true,E140-D140,"N/A"),"N/A") -> -0.021 | F141: =if(isnumber(E140)=true,if(isnumber(F140)=true,F140-E140,"N/A"),"N/A") -> -0.112 | G141: =if(isnumber(F140)=true,if(isnumber(G140)=true,G140-F140,"N/A"),"N/A") -> 0.2
B142: Gap from Beaverton | C142: =if(isnumber(C$132)=true,if(isnumber(C140)=true,C140-C$132,"N/A"),"N/A") -> N/A | D142: =if(isnumber(D$132)=true,if(isnumber(D140)=true,D140-D$132,"N/A"),"N/A") -> -0.018 | E142: =if(isnumber(E$132)=true,if(isnumber(E140)=true,E140-E$132,"N/A"),"N/A") -> -0.251 | F142: =if(isnumber(F$132)=true,if(isnumber(F140)=true,F140-F$132,"N/A"),"N/A") -> -0.318 | G142: =if(isnumber(G$132)=true,if(isnumber(G140)=true,G140-G$132,"N/A"),"N/A") -> -0.082
