Workbook

Sheet Math Summary
A1: Assessment Results for the 2023-2024 School Year - Math, all districts - from Excel file "S:\Instruction\Data\Data requests\Kristie\State Comparisons\Math.xlsx"
A2: Percent Proficient | H2: Percent Proficient | O2: Percent Proficient | V2: Percent Proficient
A3: Total Population (All Students) | H3: Total Population (All Students) | O3: Total Population (All Students) | V3: Total Population (All Students)
A4: All Grades | H4: All Grades | O4: All Grades | V4: All Grades
B5: 2018-19 | C5: 2021-22 | D5: 2022-23 | E5: 2023-24 | F5: 2024-25 | I5: 2018-19 | J5: 2021-22 | K5: 2022-23 | L5: 2023-24 | M5: 2024-25 | P5: 2018-19 | Q5: 2021-22 | R5: 2022-23 | S5: 2023-24 | T5: 2024-25 | W5: 2018-19 | X5: 2021-22 | Y5: 2022-23 | Z5: 2023-24 | AA5: 2024-25
A6: Beaverton SD 48J | B6: 0.537 | C6: 0.449 | D6: 0.449 | E6: 0.44 | F6: 0.43 | H6: Beaverton SD 48J | I6: 0.537 | J6: 0.449 | K6: 0.449 | L6: 0.44 | M6: 0.43 | O6: Beaverton SD 48J | P6: 0.537 | Q6: 0.449 | R6: 0.449 | S6: 0.44 | T6: 0.43 | V6: Beaverton SD 48J | W6: 0.537 | X6: 0.449 | Y6: 0.449 | Z6: 0.44 | AA6: 0.43
A7: Hillsboro SD 1J | B7: 0.39 | C7: 0.293 | D7: 0.301 | E7: 0.29 | F7: 0.294 | H7: Hillsboro SD 1J | I7: 0.39 | J7: 0.293 | K7: 0.301 | L7: 0.29 | M7: 0.294 | O7: Hillsboro SD 1J | P7: 0.39 | Q7: 0.293 | R7: 0.301 | S7: 0.29 | T7: 0.294 | V7: Hillsboro SD 1J | W7: 0.39 | X7: 0.293 | Y7: 0.301 | Z7: 0.29 | AA7: 0.294
A8: Portland SD 1J | B8: 0.458 | C8: 0.438 | D8: 0.462 | E8: 0.464 | F8: 0.485 | H8: Portland SD 1J | I8: 0.458 | J8: 0.438 | K8: 0.462 | L8: 0.464 | M8: 0.485 | O8: Portland SD 1J | P8: 0.458 | Q8: 0.438 | R8: 0.462 | S8: 0.464 | T8: 0.485 | V8: Portland SD 1J | W8: 0.458 | X8: 0.438 | Y8: 0.462 | Z8: 0.464 | AA8: 0.485
A9: Salem-Keizer SD 24J | B9: 0.331 | C9: 0.21 | D9: 0.202 | E9: 0.2 | F9: 0.209 | H9: Salem-Keizer SD 24J | I9: 0.331 | J9: 0.21 | K9: 0.202 | L9: 0.2 | M9: 0.209 | O9: Salem-Keizer SD 24J | P9: 0.331 | Q9: 0.21 | R9: 0.202 | S9: 0.2 | T9: 0.209 | V9: Salem-Keizer SD 24J | W9: 0.331 | X9: 0.21 | Y9: 0.202 | Z9: 0.2 | AA9: 0.209
A10: State | B10: 0.394 | C10: 0.304 | D10: 0.306 | E10: 0.31 | F10: 0.315 | H10: State | I10: 0.394 | J10: 0.304 | K10: 0.306 | L10: 0.31 | M10: 0.315 | O10: State | P10: 0.394 | Q10: 0.304 | R10: 0.306 | S10: 0.31 | T10: 0.315 | V10: State | W10: 0.394 | X10: 0.304 | Y10: 0.306 | Z10: 0.31 | AA10: 0.315
A12: Percent Proficient | H12: Percent Proficient | O12: Percent Proficient | V12: Percent Proficient
A13: Total Population (All Students) | H13: American Indian/Alaskan Native | O13: Female | V13: English Learners
A14: Grade 3 | H14: All Grades | O14: All Grades | V14: All Grades
B15: 2018-19 | C15: 2021-22 | D15: 2022-23 | E15: 2023-24 | F15: 2024-25 | I15: 2018-19 | J15: 2021-22 | K15: 2022-23 | L15: 2023-24 | M15: 2024-25 | P15: 2018-19 | Q15: 2021-22 | R15: 2022-23 | S15: 2023-24 | T15: 2024-25 | W15: 2018-19 | X15: 2021-22 | Y15: 2022-23 | Z15: 2023-24 | AA15: 2024-25
A16: Beaverton SD 48J | B16: 0.632 | C16: 0.542 | D16: 0.567 | E16: 0.527 | F16: 0.48 | H16: Beaverton SD 48J | I16: 0.375 | J16: 0.312 | K16: 0.318 | L16: 0.301 | M16: 0.268 | O16: Beaverton SD 48J | P16: 0.532 | Q16: 0.428 | R16: 0.44 | S16: 0.422 | T16: 0.41 | V16: Beaverton SD 48J | W16: 0.132 | X16: 0.093 | Y16: 0.087 | Z16: 0.077 | AA16: 0.073
A17: Hillsboro SD 1J | B17: 0.446 | C17: 0.377 | D17: 0.39 | E17: 0.403 | F17: 0.386 | H17: Hillsboro SD 1J | I17: 0.24 | J17: 0.146 | K17: 0.233 | L17: 0.214 | M17: 0.273 | O17: Hillsboro SD 1J | P17: 0.38 | Q17: 0.273 | R17: 0.283 | S17: 0.276 | T17: 0.271 | V17: Hillsboro SD 1J | W17: 0.062 | X17: < 5.0% | Y17: < 5.0% | Z17: < 5.0% | AA17: < 5.0%
A18: Portland SD 1J | B18: 0.528 | C18: 0.554 | D18: 0.562 | E18: 0.57 | F18: 0.558 | H18: Portland SD 1J | I18: 0.207 | J18: 0.131 | K18: 0.116 | L18: 0.101 | M18: 0.187 | O18: Portland SD 1J | P18: 0.446 | Q18: 0.419 | R18: 0.441 | S18: 0.446 | T18: 0.46 | V18: Portland SD 1J | W18: 0.054 | X18: 0.08 | Y18: 0.074 | Z18: 0.082 | AA18: 0.087
A19: Salem-Keizer SD 24J | B19: 0.37 | C19: 0.26 | D19: 0.227 | E19: 0.25 | F19: 0.258 | H19: Salem-Keizer SD 24J | I19: 0.188 | J19: 0.132 | K19: 0.085 | L19: 0.087 | M19: 0.125 | O19: Salem-Keizer SD 24J | P19: 0.327 | Q19: 0.194 | R19: 0.182 | S19: 0.181 | T19: 0.186 | V19: Salem-Keizer SD 24J | W19: 0.07 | X19: < 5.0% | Y19: < 5.0% | Z19: < 5.0% | AA19: < 5.0%
A20: State | B20: 0.464 | C20: 0.394 | D20: 0.397 | E20: 0.399 | F20: 0.401 | H20: State | I20: 0.225 | J20: 0.143 | K20: 0.136 | L20: 0.145 | M20: 0.159 | O20: State | P20: 0.389 | Q20: 0.286 | R20: 0.285 | S20: 0.289 | T20: 0.29 | V20: State | W20: 0.071 | X20: < 5.0% | Y20: < 5.0% | Z20: 0.051 | AA20: 0.053
A22: Percent Proficient | H22: Percent Proficient | O22: Percent Proficient | V22: Percent Proficient
A23: Total Population (All Students) | H23: Asian | O23: Male | V23: Students with Disabilities (SWD)
A24: Grade 4 | H24: All Grades | O24: All Grades | V24: All Grades
B25: 2018-19 | C25: 2021-22 | D25: 2022-23 | E25: 2023-24 | F25: 2024-25 | I25: 2018-19 | J25: 2021-22 | K25: 2022-23 | L25: 2023-24 | M25: 2024-25 | P25: 2018-19 | Q25: 2021-22 | R25: 2022-23 | S25: 2023-24 | T25: 2024-25 | W25: 2018-19 | X25: 2021-22 | Y25: 2022-23 | Z25: 2023-24 | AA25: 2024-25
A26: Beaverton SD 48J | B26: 0.59 | C26: 0.493 | D26: 0.52 | E26: 0.535 | F26: 0.481 | H26: Beaverton SD 48J | I26: 0.82 | J26: 0.769 | K26: 0.752 | L26: 0.725 | M26: 0.718 | O26: Beaverton SD 48J | P26: 0.541 | Q26: 0.468 | R26: 0.457 | S26: 0.457 | T26: 0.449 | V26: Beaverton SD 48J | W26: 0.197 | X26: 0.186 | Y26: 0.188 | Z26: 0.199 | AA26: 0.202
A27: Hillsboro SD 1J | B27: 0.41 | C27: 0.348 | D27: 0.353 | E27: 0.352 | F27: 0.353 | H27: Hillsboro SD 1J | I27: 0.643 | J27: 0.528 | K27: 0.53 | L27: 0.491 | M27: 0.509 | O27: Hillsboro SD 1J | P27: 0.4 | Q27: 0.311 | R27: 0.317 | S27: 0.303 | T27: 0.314 | V27: Hillsboro SD 1J | W27: 0.145 | X27: 0.126 | Y27: 0.116 | Z27: 0.123 | AA27: 0.152
A28: Portland SD 1J | B28: 0.48 | C28: 0.516 | D28: 0.543 | E28: 0.542 | F28: 0.558 | H28: Portland SD 1J | I28: 0.547 | J28: 0.451 | K28: 0.478 | L28: 0.479 | M28: 0.506 | O28: Portland SD 1J | P28: 0.47 | Q28: 0.456 | R28: 0.48 | S28: 0.479 | T28: 0.506 | V28: Portland SD 1J | W28: 0.219 | X28: 0.244 | Y28: 0.265 | Z28: 0.274 | AA28: 0.288
A29: Salem-Keizer SD 24J | B29: 0.331 | C29: 0.235 | D29: 0.246 | E29: 0.227 | F29: 0.226 | H29: Salem-Keizer SD 24J | I29: 0.593 | J29: 0.455 | K29: 0.445 | L29: 0.382 | M29: 0.433 | O29: Salem-Keizer SD 24J | P29: 0.336 | Q29: 0.223 | R29: 0.22 | S29: 0.217 | T29: 0.229 | V29: Salem-Keizer SD 24J | W29: 0.108 | X29: 0.08 | Y29: 0.08 | Z29: 0.077 | AA29: 0.101
A30: State | B30: 0.432 | C30: 0.361 | D30: 0.376 | E30: 0.377 | F30: 0.369 | H30: State | I30: 0.661 | J30: 0.568 | K30: 0.564 | L30: 0.557 | M30: 0.554 | O30: State | P30: 0.399 | Q30: 0.319 | R30: 0.325 | S30: 0.328 | T30: 0.337 | V30: State | W30: 0.127 | X30: 0.116 | Y30: 0.121 | Z30: 0.13 | AA30: 0.142
A32: Percent Proficient | H32: Percent Proficient | O32: Percent Proficient | V32: Percent Proficient
A33: Total Population (All Students) | H33: Black/African American | O33: Non-Binary | V33: Students Experiencing Poverty
A34: Grade 5 | H34: All Grades | O34: All Grades | V34: All Grades
B35: 2018-19 | C35: 2021-22 | D35: 2022-23 | E35: 2023-24 | F35: 2024-25 | I35: 2018-19 | J35: 2021-22 | K35: 2022-23 | L35: 2023-24 | M35: 2024-25 | P35: 2018-19 | Q35: 2021-22 | R35: 2022-23 | S35: 2023-24 | T35: 2024-25 | W35: 2018-19 | X35: 2021-22 | Y35: 2022-23 | Z35: 2023-24 | AA35: 2024-25
A36: Beaverton SD 48J | B36: 0.524 | C36: 0.464 | D36: 0.472 | E36: 0.483 | F36: 0.478 | H36: Beaverton SD 48J | I36: 0.271 | J36: 0.222 | K36: 0.241 | L36: 0.231 | M36: 0.23 | O36: Beaverton SD 48J | P36: * | Q36: 0.333 | R36: 0.545 | S36: 0.5 | T36: 0.464 | V36: Beaverton SD 48J | W36: #N/A | X36: #N/A | Y36: #N/A | Z36: 0.144 | AA36: 0.144
A37: Hillsboro SD 1J | B37: 0.373 | C37: 0.302 | D37: 0.298 | E37: 0.289 | F37: 0.267 | H37: Hillsboro SD 1J | I37: 0.239 | J37: 0.182 | K37: 0.215 | L37: 0.248 | M37: 0.254 | O37: Hillsboro SD 1J | P37: * | Q37: 0.25 | R37: 0.37 | S37: 0.357 | T37: 0.516 | V37: Hillsboro SD 1J | W37: #N/A | X37: #N/A | Y37: #N/A | Z37: 0.122 | AA37: 0.135
A38: Portland SD 1J | B38: 0.432 | C38: 0.431 | D38: 0.465 | E38: 0.468 | F38: 0.487 | H38: Portland SD 1J | I38: 0.091 | J38: 0.082 | K38: 0.092 | L38: 0.092 | M38: 0.113 | O38: Portland SD 1J | P38: 0.5 | Q38: 0.406 | R38: 0.478 | S38: 0.49 | T38: 0.558 | V38: Portland SD 1J | W38: #N/A | X38: #N/A | Y38: #N/A | Z38: 0.16 | AA38: 0.185
A39: Salem-Keizer SD 24J | B39: 0.299 | C39: 0.202 | D39: 0.202 | E39: 0.206 | F39: 0.193 | H39: Salem-Keizer SD 24J | I39: 0.158 | J39: 0.139 | K39: 0.142 | L39: 0.148 | M39: 0.151 | O39: Salem-Keizer SD 24J | P39: * | Q39: 0.315 | R39: 0.294 | S39: 0.182 | T39: 0.382 | V39: Salem-Keizer SD 24J | W39: #N/A | X39: #N/A | Y39: #N/A | Z39: 0.103 | AA39: 0.118
A40: State | B40: 0.378 | C40: 0.3 | D40: 0.307 | E40: 0.314 | F40: 0.313 | H40: State | I40: 0.167 | J40: 0.129 | K40: 0.133 | L40: 0.145 | M40: 0.153 | O40: State | P40: 0.328 | Q40: 0.332 | R40: 0.36 | S40: 0.377 | T40: 0.441 | V40: State | W40: #N/A | X40: #N/A | Y40: #N/A | Z40: 0.154 | AA40: 0.164
A42: Percent Proficient | H42: Percent Proficient | V42: Percent Proficient
A43: Total Population (All Students) | H43: Hispanic/Latino | V43: Homeless
A44: Grade 6 | H44: All Grades | V44: All Grades
...

Sheet 2425 Math Proficiency by Demogr
A1: 2024-25 OSAS Math Proficiency
B2: 2024-25 OSAS Math Proficiency All Students by Grade Level
C3: State | D3: Beaverton SD | E3: Hillsboro SD | F3: Portland SD | G3: Salem Keizer SD
B4: Grade 3 | C4: ='Math Summary'!F20 -> 0.401 | D4: ='Math Summary'!F16 -> 0.48 | E4: ='Math Summary'!F17 -> 0.386 | F4: ='Math Summary'!F18 -> 0.558 | G4: ='Math Summary'!F19 -> 0.258
B5: Grade 4 | C5: ='Math Summary'!F30 -> 0.369 | D5: ='Math Summary'!F26 -> 0.481 | E5: ='Math Summary'!F27 -> 0.353 | F5: ='Math Summary'!F28 -> 0.558 | G5: ='Math Summary'!F29 -> 0.226
B6: Grade 5 | C6: ='Math Summary'!F40 -> 0.313 | D6: ='Math Summary'!F36 -> 0.478 | E6: ='Math Summary'!F37 -> 0.267 | F6: ='Math Summary'!F38 -> 0.487 | G6: ='Math Summary'!F39 -> 0.193
B7: Grade 6 | C7: ='Math Summary'!F50 -> 0.293 | D7: ='Math Summary'!F46 -> 0.407 | E7: ='Math Summary'!F47 -> 0.294 | F7: ='Math Summary'!F48 -> 0.464 | G7: ='Math Summary'!F49 -> 0.222
B8: Grade 7 | C8: ='Math Summary'!F60 -> 0.315 | D8: ='Math Summary'!F56 -> 0.437 | E8: ='Math Summary'!F57 -> 0.293 | F8: ='Math Summary'!F58 -> 0.501 | G8: ='Math Summary'!F59 -> 0.231
B9: Grade 8 | C9: ='Math Summary'!F70 -> 0.289 | D9: ='Math Summary'!F66 -> 0.394 | E9: ='Math Summary'!F67 -> 0.28 | F9: ='Math Summary'!F68 -> 0.458 | G9: ='Math Summary'!F69 -> 0.227
B10: Grade 11 | C10: ='Math Summary'!F80 -> 0.203 | D10: ='Math Summary'!F76 -> 0.303 | E10: ='Math Summary'!F77 -> 0.162 | F10: ='Math Summary'!F78 -> 0.299 | G10: ='Math Summary'!F79 -> 0.101
B38: 2024-25 OSAS Math Proficiency All Students by Race/Ethnicity
C39: State | D39: Beaverton SD | E39: Hillsboro SD | F39: Portland SD | G39: Salem Keizer SD
B40: American Indian/Alaskan Native | C40: ='Math Summary'!M20 -> 0.159 | D40: ='Math Summary'!M16 -> 0.268 | E40: ='Math Summary'!M17 -> 0.273 | F40: ='Math Summary'!M18 -> 0.187 | G40: ='Math Summary'!M19 -> 0.125
B41: Asian | C41: ='Math Summary'!M30 -> 0.554 | D41: ='Math Summary'!M26 -> 0.718 | E41: ='Math Summary'!M27 -> 0.509 | F41: ='Math Summary'!M28 -> 0.506 | G41: ='Math Summary'!M29 -> 0.433
B42: Black/African American | C42: ='Math Summary'!M40 -> 0.153 | D42: ='Math Summary'!M36 -> 0.23 | E42: ='Math Summary'!M37 -> 0.254 | F42: ='Math Summary'!M38 -> 0.113 | G42: ='Math Summary'!M39 -> 0.151
B43: Hispanic/Latinx | C43: ='Math Summary'!M50 -> 0.16 | D43: ='Math Summary'!M46 -> 0.164 | E43: ='Math Summary'!M47 -> 0.124 | F43: ='Math Summary'!M48 -> 0.246 | G43: ='Math Summary'!M49 -> 0.123
B44: Multi-Racial | C44: ='Math Summary'!M60 -> 0.362 | D44: ='Math Summary'!M56 -> 0.503 | E44: ='Math Summary'!M57 -> 0.415 | F44: ='Math Summary'!M58 -> 0.49 | G44: ='Math Summary'!M59 -> 0.26
B45: Pacific Islander | C45: ='Math Summary'!M70 -> 0.109 | D45: ='Math Summary'!M66 -> 0.124 | E45: ='Math Summary'!M67 -> 0.188 | F45: ='Math Summary'!M68 -> 0.129 | G45: ='Math Summary'!M69 -> 0.063
B46: White | C46: ='Math Summary'!M80 -> 0.377 | D46: ='Math Summary'!M76 -> 0.488 | E46: ='Math Summary'!M77 -> 0.428 | F46: ='Math Summary'!M78 -> 0.613 | G46: ='Math Summary'!M79 -> 0.312
B74: 2024-25 OSAS Math Proficiency All Students by Student Group
C75: State | D75: Beaverton SD | E75: Hillsboro SD | F75: Portland SD | G75: Salem Keizer SD
B76: English Learners | C76: ='Math Summary'!AA20 -> 0.053 | D76: ='Math Summary'!AA16 -> 0.073 | E76: ='Math Summary'!AA17 -> < 5.0% | F76: ='Math Summary'!AA18 -> 0.087 | G76: ='Math Summary'!AA19 -> < 5.0%
B77: Students with Disabilities | C77: ='Math Summary'!AA30 -> 0.142 | D77: ='Math Summary'!AA26 -> 0.202 | E77: ='Math Summary'!AA27 -> 0.152 | F77: ='Math Summary'!AA28 -> 0.288 | G77: ='Math Summary'!AA29 -> 0.101
B78: Students Experiencing Poverty | C78: ='Math Summary'!AA40 -> 0.164 | D78: ='Math Summary'!AA36 -> 0.144 | E78: ='Math Summary'!AA37 -> 0.135 | F78: ='Math Summary'!AA38 -> 0.185 | G78: ='Math Summary'!AA39 -> 0.118
B79: Homeless Students | C79: ='Math Summary'!AA50 -> 0.113 | D79: ='Math Summary'!AA46 -> 0.089 | E79: ='Math Summary'!AA47 -> 0.078 | F79: ='Math Summary'!AA48 -> 0.099 | G79: ='Math Summary'!AA49 -> 0.076
B80: Migrant Education Students | C80: ='Math Summary'!AA60 -> 0.103 | D80: ='Math Summary'!AA56 -> 0.064 | E80: ='Math Summary'!AA57 -> 0.078 | F80: ='Math Summary'!AA58 -> 0.151 | G80: ='Math Summary'!AA59 -> 0.083

Sheet Math Proficiency by Grade
A1: OSAS Math Proficiency
B2: *Prior to 2024-25, ODE counted students taking extended assessments as not proficient in these assessment reports. However, ODE received approval from the U.S. Department of Education to count as proficient those students who met the alternate standard on Extended Assessments.
B3: Total Population (All Students) | K3: Grade 6
C4: ='Math Summary'!B5 -> 2018-19 | D4: ='Math Summary'!C5 -> 2021-22 | E4: ='Math Summary'!D5 -> 2022-23 | F4: ='Math Summary'!E5 -> 2023-24 | G4: ='Math Summary'!F5 -> 2024-25 | L4: =C4 -> 2018-19 | M4: =D4 -> 2021-22 | N4: =E4 -> 2022-23 | O4: =F4 -> 2023-24 | P4: =G4 -> 2024-25
B5: State | C5: ='Math Summary'!$B$10 -> 0.394 | D5: ='Math Summary'!$C$10 -> 0.304 | E5: ='Math Summary'!$D$10 -> 0.306 | F5: ='Math Summary'!$E$10 -> 0.31 | G5: ='Math Summary'!$F$10 -> 0.315 | K5: State | L5: ='Math Summary'!$B$50 -> 0.371 | M5: ='Math Summary'!$C$50 -> 0.275 | N5: ='Math Summary'!$D$50 -> 0.281 | O5: ='Math Summary'!$E$50 -> 0.284 | P5: ='Math Summary'!$F$50 -> 0.293
B6: Change from Previous Year | D6: =D5-C5 -> -0.09 | E6: =E5-D5 -> 0.002 | F6: =F5-E5 -> 0.004 | G6: =G5-F5 -> 0.005 | K6: Change from Previous Year | M6: =M5-L5 -> -0.096 | N6: =N5-M5 -> 0.006 | O6: =O5-N5 -> 0.003 | P6: =P5-O5 -> 0.009
B7: Beaverton SD | C7: ='Math Summary'!$B$6 -> 0.537 | D7: ='Math Summary'!$C$6 -> 0.449 | E7: ='Math Summary'!$D$6 -> 0.449 | F7: ='Math Summary'!$E$6 -> 0.44 | G7: ='Math Summary'!$F$6 -> 0.43 | K7: Beaverton SD | L7: ='Math Summary'!$B$46 -> 0.491 | M7: ='Math Summary'!$C$46 -> 0.399 | N7: ='Math Summary'!$D$46 -> 0.408 | O7: ='Math Summary'!$E$46 -> 0.431 | P7: ='Math Summary'!$F$46 -> 0.407
B8: Change from Previous Year | D8: =D7-C7 -> -0.088 | E8: =E7-D7 -> 0 | F8: =F7-E7 -> -0.009 | G8: =G7-F7 -> -0.01 | K8: Change from Previous Year | M8: =M7-L7 -> -0.092 | N8: =N7-M7 -> 0.009 | O8: =O7-N7 -> 0.023 | P8: =P7-O7 -> -0.024
B9: Hillsboro SD | C9: ='Math Summary'!$B$7 -> 0.39 | D9: ='Math Summary'!$C$7 -> 0.293 | E9: ='Math Summary'!$D$7 -> 0.301 | F9: ='Math Summary'!$E$7 -> 0.29 | G9: ='Math Summary'!$F$7 -> 0.294 | K9: Hillsboro SD | L9: ='Math Summary'!$B$47 -> 0.4 | M9: ='Math Summary'!$C$47 -> 0.3 | N9: ='Math Summary'!$D$47 -> 0.327 | O9: ='Math Summary'!$E$47 -> 0.29 | P9: ='Math Summary'!$F$47 -> 0.294
B10: Change from Previous Year | D10: =if(isnumber(C9)=true,if(isnumber(D9)=true,D9-C9,"N/A"),"N/A") -> -0.097 | E10: =if(isnumber(D9)=true,if(isnumber(E9)=true,E9-D9,"N/A"),"N/A") -> 0.008 | F10: =if(isnumber(E9)=true,if(isnumber(F9)=true,F9-E9,"N/A"),"N/A") -> -0.011 | G10: =G9-F9 -> 0.004 | K10: Change from Previous Year | M10: =if(isnumber(L9)=true,if(isnumber(M9)=true,M9-L9,"N/A"),"N/A") -> -0.1 | N10: =if(isnumber(M9)=true,if(isnumber(N9)=true,N9-M9,"N/A"),"N/A") -> 0.027 | O10: =if(isnumber(N9)=true,if(isnumber(O9)=true,O9-N9,"N/A"),"N/A") -> -0.037 | P10: =P9-O9 -> 0.004
B11: Gap from Beaverton | C11: =if(isnumber(C$7)=true,if(isnumber(C9)=true,C9-C$7,"N/A"),"N/A") -> -0.147 | D11: =if(isnumber(D$7)=true,if(isnumber(D9)=true,D9-D$7,"N/A"),"N/A") -> -0.156 | E11: =if(isnumber(E$7)=true,if(isnumber(E9)=true,E9-E$7,"N/A"),"N/A") -> -0.148 | F11: =if(isnumber(F$7)=true,if(isnumber(F9)=true,F9-F$7,"N/A"),"N/A") -> -0.15 | G11: =if(isnumber(G$7)=true,if(isnumber(G9)=true,G9-G$7,"N/A"),"N/A") -> -0.136 | K11: Gap from Beaverton | L11: =if(isnumber(L$7)=true,if(isnumber(L9)=true,L9-L$7,"N/A"),"N/A") -> -0.091 | M11: =if(isnumber(M$7)=true,if(isnumber(M9)=true,M9-M$7,"N/A"),"N/A") -> -0.099 | N11: =if(isnumber(N$7)=true,if(isnumber(N9)=true,N9-N$7,"N/A"),"N/A") -> -0.081 | O11: =if(isnumber(O$7)=true,if(isnumber(O9)=true,O9-O$7,"N/A"),"N/A") -> -0.141 | P11: =if(isnumber(P$7)=true,if(isnumber(P9)=true,P9-P$7,"N/A"),"N/A") -> -0.113
B12: Portland SD | C12: ='Math Summary'!$B$8 -> 0.458 | D12: ='Math Summary'!$C$8 -> 0.438 | E12: ='Math Summary'!$D$8 -> 0.462 | F12: ='Math Summary'!$E$8 -> 0.464 | G12: ='Math Summary'!$F$8 -> 0.485 | K12: Portland SD | L12: ='Math Summary'!$B$48 -> 0.426 | M12: ='Math Summary'!$C$48 -> 0.385 | N12: ='Math Summary'!$D$48 -> 0.426 | O12: ='Math Summary'!$E$48 -> 0.444 | P12: ='Math Summary'!$F$48 -> 0.464
B13: Change from Previous Year | D13: =if(isnumber(C12)=true,if(isnumber(D12)=true,D12-C12,"N/A"),"N/A") -> -0.02 | E13: =if(isnumber(D12)=true,if(isnumber(E12)=true,E12-D12,"N/A"),"N/A") -> 0.024 | F13: =if(isnumber(E12)=true,if(isnumber(F12)=true,F12-E12,"N/A"),"N/A") -> 0.002 | G13: =G12-F12 -> 0.021 | K13: Change from Previous Year | M13: =if(isnumber(L12)=true,if(isnumber(M12)=true,M12-L12,"N/A"),"N/A") -> -0.041 | N13: =if(isnumber(M12)=true,if(isnumber(N12)=true,N12-M12,"N/A"),"N/A") -> 0.041 | O13: =if(isnumber(N12)=true,if(isnumber(O12)=true,O12-N12,"N/A"),"N/A") -> 0.018 | P13: =P12-O12 -> 0.02
B14: Gap from Beaverton | C14: =if(isnumber(C$7)=true,if(isnumber(C12)=true,C12-C$7,"N/A"),"N/A") -> -0.079 | D14: =if(isnumber(D$7)=true,if(isnumber(D12)=true,D12-D$7,"N/A"),"N/A") -> -0.011 | E14: =if(isnumber(E$7)=true,if(isnumber(E12)=true,E12-E$7,"N/A"),"N/A") -> 0.013 | F14: =if(isnumber(F$7)=true,if(isnumber(F12)=true,F12-F$7,"N/A"),"N/A") -> 0.024 | G14: =if(isnumber(G$7)=true,if(isnumber(G12)=true,G12-G$7,"N/A"),"N/A") -> 0.055 | K14: Gap from Beaverton | L14: =if(isnumber(L$7)=true,if(isnumber(L12)=true,L12-L$7,"N/A"),"N/A") -> -0.065 | M14: =if(isnumber(M$7)=true,if(isnumber(M12)=true,M12-M$7,"N/A"),"N/A") -> -0.014 | N14: =if(isnumber(N$7)=true,if(isnumber(N12)=true,N12-N$7,"N/A"),"N/A") -> 0.018 | O14: =if(isnumber(O$7)=true,if(isnumber(O12)=true,O12-O$7,"N/A"),"N/A") -> 0.013 | P14: =if(isnumber(P$7)=true,if(isnumber(P12)=true,P12-P$7,"N/A"),"N/A") -> 0.057
B15: Salem Keizer SD | C15: ='Math Summary'!$B$9 -> 0.331 | D15: ='Math Summary'!$C$9 -> 0.21 | E15: ='Math Summary'!$D$9 -> 0.202 | F15: ='Math Summary'!$E$9 -> 0.2 | G15: ='Math Summary'!$F$9 -> 0.209 | K15: Salem Keizer SD | L15: ='Math Summary'!$B$49 -> 0.294 | M15: ='Math Summary'!$C$49 -> 0.204 | N15: ='Math Summary'!$D$49 -> 0.194 | O15: ='Math Summary'!$E$49 -> 0.185 | P15: ='Math Summary'!$F$49 -> 0.222
B16: Change from Previous Year | D16: =if(isnumber(C15)=true,if(isnumber(D15)=true,D15-C15,"N/A"),"N/A") -> -0.121 | E16: =if(isnumber(D15)=true,if(isnumber(E15)=true,E15-D15,"N/A"),"N/A") -> -0.008 | F16: =if(isnumber(E15)=true,if(isnumber(F15)=true,F15-E15,"N/A"),"N/A") -> -0.002 | G16: =G15-F15 -> 0.009 | K16: Change from Previous Year | M16: =if(isnumber(L15)=true,if(isnumber(M15)=true,M15-L15,"N/A"),"N/A") -> -0.09 | N16: =if(isnumber(M15)=true,if(isnumber(N15)=true,N15-M15,"N/A"),"N/A") -> -0.01 | O16: =if(isnumber(N15)=true,if(isnumber(O15)=true,O15-N15,"N/A"),"N/A") -> -0.009 | P16: =P15-O15 -> 0.037
B17: Gap from Beaverton | C17: =if(isnumber(C$7)=true,if(isnumber(C15)=true,C15-C$7,"N/A"),"N/A") -> -0.206 | D17: =if(isnumber(D$7)=true,if(isnumber(D15)=true,D15-D$7,"N/A"),"N/A") -> -0.239 | E17: =if(isnumber(E$7)=true,if(isnumber(E15)=true,E15-E$7,"N/A"),"N/A") -> -0.247 | F17: =if(isnumber(F$7)=true,if(isnumber(F15)=true,F15-F$7,"N/A"),"N/A") -> -0.24 | G17: =if(isnumber(G$7)=true,if(isnumber(G15)=true,G15-G$7,"N/A"),"N/A") -> -0.221 | K17: Gap from Beaverton | L17: =if(isnumber(L$7)=true,if(isnumber(L15)=true,L15-L$7,"N/A"),"N/A") -> -0.197 | M17: =if(isnumber(M$7)=true,if(isnumber(M15)=true,M15-M$7,"N/A"),"N/A") -> -0.195 | N17: =if(isnumber(N$7)=true,if(isnumber(N15)=true,N15-N$7,"N/A"),"N/A") -> -0.214 | O17: =if(isnumber(O$7)=true,if(isnumber(O15)=true,O15-O$7,"N/A"),"N/A") -> -0.246 | P17: =if(isnumber(P$7)=true,if(isnumber(P15)=true,P15-P$7,"N/A"),"N/A") -> -0.185
B44: Grade 3 | K44: Grade 7
C45: =C4 -> 2018-19 | D45: =D4 -> 2021-22 | E45: =E4 -> 2022-23 | F45: =F4 -> 2023-24 | G45: =G4 -> 2024-25 | L45: =L4 -> 2018-19 | M45: =M4 -> 2021-22 | N45: =N4 -> 2022-23 | O45: =O4 -> 2023-24 | P45: =P4 -> 2024-25
B46: State | C46: ='Math Summary'!$B$20 -> 0.464 | D46: ='Math Summary'!$C$20 -> 0.394 | E46: ='Math Summary'!$D$20 -> 0.397 | F46: ='Math Summary'!$E$20 -> 0.399 | G46: ='Math Summary'!$F$20 -> 0.401 | K46: State | L46: ='Math Summary'!$B$60 -> 0.401 | M46: ='Math Summary'!$C$60 -> 0.295 | N46: ='Math Summary'!$D$60 -> 0.296 | O46: ='Math Summary'!$E$60 -> 0.305 | P46: ='Math Summary'!$F$60 -> 0.315
B47: Change from Previous Year | D47: =D46-C46 -> -0.07 | E47: =E46-D46 -> 0.003 | F47: =F46-E46 -> 0.002 | G47: =G46-F46 -> 0.002 | K47: Change from Previous Year | M47: =M46-L46 -> -0.106 | N47: =N46-M46 -> 0.001 | O47: =O46-N46 -> 0.009 | P47: =P46-O46 -> 0.01
B48: Beaverton SD | C48: ='Math Summary'!$B$16 -> 0.632 | D48: ='Math Summary'!$C$16 -> 0.542 | E48: ='Math Summary'!$D$16 -> 0.567 | F48: ='Math Summary'!$E$16 -> 0.527 | G48: ='Math Summary'!$F$16 -> 0.48 | K48: Beaverton SD | L48: ='Math Summary'!$B$56 -> 0.559 | M48: ='Math Summary'!$C$56 -> 0.432 | N48: ='Math Summary'!$D$56 -> 0.415 | O48: ='Math Summary'!$E$56 -> 0.43 | P48: ='Math Summary'!$F$56 -> 0.437
B49: Change from Previous Year | D49: =D48-C48 -> -0.09 | E49: =E48-D48 -> 0.025 | F49: =F48-E48 -> -0.04 | G49: =G48-F48 -> -0.047 | K49: Change from Previous Year | M49: =M48-L48 -> -0.127 | N49: =N48-M48 -> -0.017 | O49: =O48-N48 -> 0.015 | P49: =P48-O48 -> 0.007
B50: Hillsboro SD | C50: ='Math Summary'!$B$17 -> 0.446 | D50: ='Math Summary'!$C$17 -> 0.377 | E50: ='Math Summary'!$D$17 -> 0.39 | F50: ='Math Summary'!$E$17 -> 0.403 | G50: ='Math Summary'!$F$17 -> 0.386 | K50: Hillsboro SD | L50: ='Math Summary'!$B$57 -> 0.406 | M50: ='Math Summary'!$C$57 -> 0.269 | N50: ='Math Summary'!$D$57 -> 0.297 | O50: ='Math Summary'!$E$57 -> 0.308 | P50: ='Math Summary'!$F$57 -> 0.293
B51: Change from Previous Year | D51: =if(isnumber(C50)=true,if(isnumber(D50)=true,D50-C50,"N/A"),"N/A") -> -0.069 | E51: =if(isnumber(D50)=true,if(isnumber(E50)=true,E50-D50,"N/A"),"N/A") -> 0.013 | F51: =if(isnumber(E50)=true,if(isnumber(F50)=true,F50-E50,"N/A"),"N/A") -> 0.013 | G51: =G50-F50 -> -0.017 | K51: Change from Previous Year | M51: =if(isnumber(L50)=true,if(isnumber(M50)=true,M50-L50,"N/A"),"N/A") -> -0.137 | N51: =if(isnumber(M50)=true,if(isnumber(N50)=true,N50-M50,"N/A"),"N/A") -> 0.028 | O51: =if(isnumber(N50)=true,if(isnumber(O50)=true,O50-N50,"N/A"),"N/A") -> 0.011 | P51: =P50-O50 -> -0.015
B52: Gap from Beaverton | C52: =if(isnumber(C$48)=true,if(isnumber(C50)=true,C50-C$48,"N/A"),"N/A") -> -0.186 | D52: =if(isnumber(D$48)=true,if(isnumber(D50)=true,D50-D$48,"N/A"),"N/A") -> -0.165 | E52: =if(isnumber(E$48)=true,if(isnumber(E50)=true,E50-E$48,"N/A"),"N/A") -> -0.177 | F52: =if(isnumber(F$48)=true,if(isnumber(F50)=true,F50-F$48,"N/A"),"N/A") -> -0.124 | G52: =if(isnumber(G$48)=true,if(isnumber(G50)=true,G50-G$48,"N/A"),"N/A") -> -0.094 | K52: Gap from Beaverton | L52: =if(isnumber(L$48)=true,if(isnumber(L50)=true,L50-L$48,"N/A"),"N/A") -> -0.153 | M52: =if(isnumber(M$48)=true,if(isnumber(M50)=true,M50-M$48,"N/A"),"N/A") -> -0.163 | N52: =if(isnumber(N$48)=true,if(isnumber(N50)=true,N50-N$48,"N/A"),"N/A") -> -0.118 | O52: =if(isnumber(O$48)=true,if(isnumber(O50)=true,O50-O$48,"N/A"),"N/A") -> -0.122 | P52: =if(isnumber(P$48)=true,if(isnumber(P50)=true,P50-P$48,"N/A"),"N/A") -> -0.144
B53: Portland SD | C53: ='Math Summary'!$B$18 -> 0.528 | D53: ='Math Summary'!$C$18 -> 0.554 | E53: ='Math Summary'!$D$18 -> 0.562 | F53: ='Math Summary'!$E$18 -> 0.57 | G53: ='Math Summary'!$F$18 -> 0.558 | K53: Portland SD | L53: ='Math Summary'!$B$58 -> 0.494 | M53: ='Math Summary'!$C$58 -> 0.424 | N53: ='Math Summary'!$D$58 -> 0.463 | O53: ='Math Summary'!$E$58 -> 0.469 | P53: ='Math Summary'!$F$58 -> 0.501
B54: Change from Previous Year | D54: =if(isnumber(C53)=true,if(isnumber(D53)=true,D53-C53,"N/A"),"N/A") -> 0.026 | E54: =if(isnumber(D53)=true,if(isnumber(E53)=true,E53-D53,"N/A"),"N/A") -> 0.008 | F54: =if(isnumber(E53)=true,if(isnumber(F53)=true,F53-E53,"N/A"),"N/A") -> 0.008 | G54: =G53-F53 -> -0.012 | K54: Change from Previous Year | M54: =if(isnumber(L53)=true,if(isnumber(M53)=true,M53-L53,"N/A"),"N/A") -> -0.07 | N54: =if(isnumber(M53)=true,if(isnumber(N53)=true,N53-M53,"N/A"),"N/A") -> 0.039 | O54: =if(isnumber(N53)=true,if(isnumber(O53)=true,O53-N53,"N/A"),"N/A") -> 0.006 | P54: =P53-O53 -> 0.032
B55: Gap from Beaverton | C55: =if(isnumber(C$48)=true,if(isnumber(C53)=true,C53-C$48,"N/A"),"N/A") -> -0.104 | D55: =if(isnumber(D$48)=true,if(isnumber(D53)=true,D53-D$48,"N/A"),"N/A") -> 0.012 | E55: =if(isnumber(E$48)=true,if(isnumber(E53)=true,E53-E$48,"N/A"),"N/A") -> -0.005 | F55: =if(isnumber(F$48)=true,if(isnumber(F53)=true,F53-F$48,"N/A"),"N/A") -> 0.043 | G55: =if(isnumber(G$48)=true,if(isnumber(G53)=true,G53-G$48,"N/A"),"N/A") -> 0.078 | K55: Gap from Beaverton | L55: =if(isnumber(L$48)=true,if(isnumber(L53)=true,L53-L$48,"N/A"),"N/A") -> -0.065 | M55: =if(isnumber(M$48)=true,if(isnumber(M53)=true,M53-M$48,"N/A"),"N/A") -> -0.008 | N55: =if(isnumber(N$48)=true,if(isnumber(N53)=true,N53-N$48,"N/A"),"N/A") -> 0.048 | O55: =if(isnumber(O$48)=true,if(isnumber(O53)=true,O53-O$48,"N/A"),"N/A") -> 0.039 | P55: =if(isnumber(P$48)=true,if(isnumber(P53)=true,P53-P$48,"N/A"),"N/A") -> 0.064
B56: Salem Keizer SD | C56: ='Math Summary'!$B$19 -> 0.37 | D56: ='Math Summary'!$C$19 -> 0.26 | E56: ='Math Summary'!$D$19 -> 0.227 | F56: ='Math Summary'!$E$19 -> 0.25 | G56: ='Math Summary'!$F$19 -> 0.258 | K56: Salem Keizer SD | L56: ='Math Summary'!$B$59 -> 0.339 | M56: ='Math Summary'!$C$59 -> 0.209 | N56: ='Math Summary'!$D$59 -> 0.222 | O56: ='Math Summary'!$E$59 -> 0.208 | P56: ='Math Summary'!$F$59 -> 0.231
B57: Change from Previous Year | D57: =if(isnumber(C56)=true,if(isnumber(D56)=true,D56-C56,"N/A"),"N/A") -> -0.11 | E57: =if(isnumber(D56)=true,if(isnumber(E56)=true,E56-D56,"N/A"),"N/A") -> -0.033 | F57: =if(isnumber(E56)=true,if(isnumber(F56)=true,F56-E56,"N/A"),"N/A") -> 0.023 | G57: =G56-F56 -> 0.008 | K57: Change from Previous Year | M57: =if(isnumber(L56)=true,if(isnumber(M56)=true,M56-L56,"N/A"),"N/A") -> -0.13 | N57: =if(isnumber(M56)=true,if(isnumber(N56)=true,N56-M56,"N/A"),"N/A") -> 0.013 | O57: =if(isnumber(N56)=true,if(isnumber(O56)=true,O56-N56,"N/A"),"N/A") -> -0.014 | P57: =P56-O56 -> 0.023
B58: Gap from Beaverton | C58: =if(isnumber(C$48)=true,if(isnumber(C56)=true,C56-C$48,"N/A"),"N/A") -> -0.262 | D58: =if(isnumber(D$48)=true,if(isnumber(D56)=true,D56-D$48,"N/A"),"N/A") -> -0.282 | E58: =if(isnumber(E$48)=true,if(isnumber(E56)=true,E56-E$48,"N/A"),"N/A") -> -0.34 | F58: =if(isnumber(F$48)=true,if(isnumber(F56)=true,F56-F$48,"N/A"),"N/A") -> -0.277 | G58: =if(isnumber(G$48)=true,if(isnumber(G56)=true,G56-G$48,"N/A"),"N/A") -> -0.222 | K58: Gap from Beaverton | L58: =if(isnumber(L$48)=true,if(isnumber(L56)=true,L56-L$48,"N/A"),"N/A") -> -0.22 | M58: =if(isnumber(M$48)=true,if(isnumber(M56)=true,M56-M$48,"N/A"),"N/A") -> -0.223 | N58: =if(isnumber(N$48)=true,if(isnumber(N56)=true,N56-N$48,"N/A"),"N/A") -> -0.193 | O58: =if(isnumber(O$48)=true,if(isnumber(O56)=true,O56-O$48,"N/A"),"N/A") -> -0.222 | P58: =if(isnumber(P$48)=true,if(isnumber(P56)=true,P56-P$48,"N/A"),"N/A") -> -0.206
B85: Grade 4 | K85: Grade 8
C86: =C45 -> 2018-19 | D86: =D45 -> 2021-22 | E86: =E45 -> 2022-23 | F86: =F45 -> 2023-24 | G86: =G45 -> 2024-25 | L86: =L45 -> 2018-19 | M86: =M45 -> 2021-22 | N86: =N45 -> 2022-23 | O86: =O45 -> 2023-24 | P86: =P45 -> 2024-25
B87: State | C87: ='Math Summary'!$B$30 -> 0.432 | D87: ='Math Summary'!$C$30 -> 0.361 | E87: ='Math Summary'!$D$30 -> 0.376 | F87: ='Math Summary'!$E$30 -> 0.377 | G87: ='Math Summary'!$F$30 -> 0.369 | K87: State | L87: ='Math Summary'!$B$70 -> 0.383 | M87: ='Math Summary'!$C$70 -> 0.259 | N87: ='Math Summary'!$D$70 -> 0.255 | O87: ='Math Summary'!$E$70 -> 0.264 | P87: ='Math Summary'!$F$70 -> 0.289
B88: Change from Previous Year | D88: =D87-C87 -> -0.071 | E88: =E87-D87 -> 0.015 | F88: =F87-E87 -> 0.001 | G88: =G87-F87 -> -0.008 | K88: Change from Previous Year | M88: =M87-L87 -> -0.124 | N88: =N87-M87 -> -0.004 | O88: =O87-N87 -> 0.009 | P88: =P87-O87 -> 0.025
B89: Beaverton SD | C89: ='Math Summary'!$B$26 -> 0.59 | D89: ='Math Summary'!$C$26 -> 0.493 | E89: ='Math Summary'!$D$26 -> 0.52 | F89: ='Math Summary'!$E$26 -> 0.535 | G89: ='Math Summary'!$F$26 -> 0.481 | K89: Beaverton SD | L89: ='Math Summary'!$B$66 -> 0.529 | M89: ='Math Summary'!$C$66 -> 0.388 | N89: ='Math Summary'!$D$66 -> 0.369 | O89: ='Math Summary'!$E$66 -> 0.355 | P89: ='Math Summary'!$F$66 -> 0.394
B90: Change from Previous Year | D90: =D89-C89 -> -0.097 | E90: =E89-D89 -> 0.027 | F90: =F89-E89 -> 0.015 | G90: =G89-F89 -> -0.054 | K90: Change from Previous Year | M90: =M89-L89 -> -0.141 | N90: =N89-M89 -> -0.019 | O90: =O89-N89 -> -0.014 | P90: =P89-O89 -> 0.039
B91: Hillsboro SD | C91: ='Math Summary'!$B$27 -> 0.41 | D91: ='Math Summary'!$C$27 -> 0.348 | E91: ='Math Summary'!$D$27 -> 0.353 | F91: ='Math Summary'!$E$27 -> 0.352 | G91: ='Math Summary'!$F$27 -> 0.353 | K91: Hillsboro SD | L91: ='Math Summary'!$B$67 -> 0.369 | M91: ='Math Summary'!$C$67 -> 0.237 | N91: ='Math Summary'!$D$67 -> 0.219 | O91: ='Math Summary'!$E$67 -> 0.222 | P91: ='Math Summary'!$F$67 -> 0.28
B92: Change from Previous Year | D92: =if(isnumber(C91)=true,if(isnumber(D91)=true,D91-C91,"N/A"),"N/A") -> -0.062 | E92: =if(isnumber(D91)=true,if(isnumber(E91)=true,E91-D91,"N/A"),"N/A") -> 0.005 | F92: =if(isnumber(E91)=true,if(isnumber(F91)=true,F91-E91,"N/A"),"N/A") -> -0.001 | G92: =G91-F91 -> 0.001 | K92: Change from Previous Year | M92: =if(isnumber(L91)=true,if(isnumber(M91)=true,M91-L91,"N/A"),"N/A") -> -0.132 | N92: =if(isnumber(M91)=true,if(isnumber(N91)=true,N91-M91,"N/A"),"N/A") -> -0.018 | O92: =if(isnumber(N91)=true,if(isnumber(O91)=true,O91-N91,"N/A"),"N/A") -> 0.003 | P92: =P91-O91 -> 0.058
...

Sheet Math Proficiency by Race
A1: OSAS Math Proficiency
B2: *Prior to 2024-25, ODE counted students taking extended assessments as not proficient in these assessment reports. However, ODE received approval from the U.S. Department of Education to count as proficient those students who met the alternate standard on Extended Assessments.
B3: Total Population (All Students) | K3: Hispanic/Latino Students
C4: ='Math Proficiency by Grade'!C4 -> 2018-19 | D4: ='Math Proficiency by Grade'!D4 -> 2021-22 | E4: ='Math Proficiency by Grade'!E4 -> 2022-23 | F4: ='Math Proficiency by Grade'!F4 -> 2023-24 | G4: ='Math Proficiency by Grade'!G4 -> 2024-25 | L4: ='Math Proficiency by Grade'!L4 -> 2018-19 | M4: ='Math Proficiency by Grade'!M4 -> 2021-22 | N4: ='Math Proficiency by Grade'!N4 -> 2022-23 | O4: ='Math Proficiency by Grade'!O4 -> 2023-24 | P4: ='Math Proficiency by Grade'!P4 -> 2024-25
B5: State | C5: ='Math Summary'!$I$10 -> 0.394 | D5: ='Math Summary'!$J$10 -> 0.304 | E5: ='Math Summary'!$K$10 -> 0.306 | F5: ='Math Summary'!$L$10 -> 0.31 | G5: ='Math Summary'!$M$10 -> 0.315 | K5: State | L5: ='Math Summary'!$I$50 -> 0.236 | M5: ='Math Summary'!$J$50 -> 0.151 | N5: ='Math Summary'!$K$50 -> 0.151 | O5: ='Math Summary'!$L$50 -> 0.153 | P5: ='Math Summary'!$M$50 -> 0.16
B6: Change from Previous Year | D6: =if(isnumber(C5)=true,if(isnumber(D5)=true,D5-C5,"N/A"),"N/A") -> -0.09 | E6: =if(isnumber(D5)=true,if(isnumber(E5)=true,E5-D5,"N/A"),"N/A") -> 0.002 | F6: =if(isnumber(E5)=true,if(isnumber(F5)=true,F5-E5,"N/A"),"N/A") -> 0.004 | G6: =if(isnumber(F5)=true,if(isnumber(G5)=true,G5-F5,"N/A"),"N/A") -> 0.005 | K6: Change from Previous Year | M6: =if(isnumber(L5)=true,if(isnumber(M5)=true,M5-L5,"N/A"),"N/A") -> -0.085 | N6: =if(isnumber(M5)=true,if(isnumber(N5)=true,N5-M5,"N/A"),"N/A") -> 0 | O6: =if(isnumber(N5)=true,if(isnumber(O5)=true,O5-N5,"N/A"),"N/A") -> 0.002 | P6: =if(isnumber(O5)=true,if(isnumber(P5)=true,P5-O5,"N/A"),"N/A") -> 0.007
B7: Beaverton SD | C7: ='Math Summary'!$I$6 -> 0.537 | D7: ='Math Summary'!$J$6 -> 0.449 | E7: ='Math Summary'!$K$6 -> 0.449 | F7: ='Math Summary'!$L$6 -> 0.44 | G7: ='Math Summary'!$M$6 -> 0.43 | K7: Beaverton SD | L7: ='Math Summary'!$I$46 -> 0.279 | M7: ='Math Summary'!$J$46 -> 0.188 | N7: ='Math Summary'!$K$46 -> 0.174 | O7: ='Math Summary'!$L$46 -> 0.167 | P7: ='Math Summary'!$M$46 -> 0.164
B8: Change from Previous Year | D8: =if(isnumber(C7)=true,if(isnumber(D7)=true,D7-C7,"N/A"),"N/A") -> -0.088 | E8: =if(isnumber(D7)=true,if(isnumber(E7)=true,E7-D7,"N/A"),"N/A") -> 0 | F8: =if(isnumber(E7)=true,if(isnumber(F7)=true,F7-E7,"N/A"),"N/A") -> -0.009 | G8: =if(isnumber(F7)=true,if(isnumber(G7)=true,G7-F7,"N/A"),"N/A") -> -0.01 | K8: Change from Previous Year | M8: =if(isnumber(L7)=true,if(isnumber(M7)=true,M7-L7,"N/A"),"N/A") -> -0.091 | N8: =if(isnumber(M7)=true,if(isnumber(N7)=true,N7-M7,"N/A"),"N/A") -> -0.014 | O8: =if(isnumber(N7)=true,if(isnumber(O7)=true,O7-N7,"N/A"),"N/A") -> -0.007 | P8: =if(isnumber(O7)=true,if(isnumber(P7)=true,P7-O7,"N/A"),"N/A") -> -0.003
B9: Hillsboro SD | C9: ='Math Summary'!$I$7 -> 0.39 | D9: ='Math Summary'!$J$7 -> 0.293 | E9: ='Math Summary'!$K$7 -> 0.301 | F9: ='Math Summary'!$L$7 -> 0.29 | G9: ='Math Summary'!$M$7 -> 0.294 | K9: Hillsboro SD | L9: ='Math Summary'!$I$47 -> 0.208 | M9: ='Math Summary'!$J$47 -> 0.13 | N9: ='Math Summary'!$K$47 -> 0.137 | O9: ='Math Summary'!$L$47 -> 0.124 | P9: ='Math Summary'!$M$47 -> 0.124
B10: Change from Previous Year | D10: =if(isnumber(C9)=true,if(isnumber(D9)=true,D9-C9,"N/A"),"N/A") -> -0.097 | E10: =if(isnumber(D9)=true,if(isnumber(E9)=true,E9-D9,"N/A"),"N/A") -> 0.008 | F10: =if(isnumber(E9)=true,if(isnumber(F9)=true,F9-E9,"N/A"),"N/A") -> -0.011 | G10: =if(isnumber(F9)=true,if(isnumber(G9)=true,G9-F9,"N/A"),"N/A") -> 0.004 | K10: Change from Previous Year | M10: =if(isnumber(L9)=true,if(isnumber(M9)=true,M9-L9,"N/A"),"N/A") -> -0.078 | N10: =if(isnumber(M9)=true,if(isnumber(N9)=true,N9-M9,"N/A"),"N/A") -> 0.007 | O10: =if(isnumber(N9)=true,if(isnumber(O9)=true,O9-N9,"N/A"),"N/A") -> -0.013 | P10: =if(isnumber(O9)=true,if(isnumber(P9)=true,P9-O9,"N/A"),"N/A") -> 0
B11: Gap from Beaverton | C11: =if(isnumber(C$7)=true,if(isnumber(C9)=true,C9-C$7,"N/A"),"N/A") -> -0.147 | D11: =if(isnumber(D$7)=true,if(isnumber(D9)=true,D9-D$7,"N/A"),"N/A") -> -0.156 | E11: =if(isnumber(E$7)=true,if(isnumber(E9)=true,E9-E$7,"N/A"),"N/A") -> -0.148 | F11: =if(isnumber(F$7)=true,if(isnumber(F9)=true,F9-F$7,"N/A"),"N/A") -> -0.15 | G11: =if(isnumber(G$7)=true,if(isnumber(G9)=true,G9-G$7,"N/A"),"N/A") -> -0.136 | K11: Gap from Beaverton | L11: =if(isnumber(L$7)=true,if(isnumber(L9)=true,L9-L$7,"N/A"),"N/A") -> -0.071 | M11: =if(isnumber(M$7)=true,if(isnumber(M9)=true,M9-M$7,"N/A"),"N/A") -> -0.058 | N11: =if(isnumber(N$7)=true,if(isnumber(N9)=true,N9-N$7,"N/A"),"N/A") -> -0.037 | O11: =if(isnumber(O$7)=true,if(isnumber(O9)=true,O9-O$7,"N/A"),"N/A") -> -0.043 | P11: =if(isnumber(P$7)=true,if(isnumber(P9)=true,P9-P$7,"N/A"),"N/A") -> -0.04
B12: Portland SD | C12: ='Math Summary'!$I$8 -> 0.458 | D12: ='Math Summary'!$J$8 -> 0.438 | E12: ='Math Summary'!$K$8 -> 0.462 | F12: ='Math Summary'!$L$8 -> 0.464 | G12: ='Math Summary'!$M$8 -> 0.485 | K12: Portland SD | L12: ='Math Summary'!$I$48 -> 0.233 | M12: ='Math Summary'!$J$48 -> 0.208 | N12: ='Math Summary'!$K$48 -> 0.232 | O12: ='Math Summary'!$L$48 -> 0.24 | P12: ='Math Summary'!$M$48 -> 0.246
B13: Change from Previous Year | D13: =if(isnumber(C12)=true,if(isnumber(D12)=true,D12-C12,"N/A"),"N/A") -> -0.02 | E13: =if(isnumber(D12)=true,if(isnumber(E12)=true,E12-D12,"N/A"),"N/A") -> 0.024 | F13: =if(isnumber(E12)=true,if(isnumber(F12)=true,F12-E12,"N/A"),"N/A") -> 0.002 | G13: =if(isnumber(F12)=true,if(isnumber(G12)=true,G12-F12,"N/A"),"N/A") -> 0.021 | K13: Change from Previous Year | M13: =if(isnumber(L12)=true,if(isnumber(M12)=true,M12-L12,"N/A"),"N/A") -> -0.025 | N13: =if(isnumber(M12)=true,if(isnumber(N12)=true,N12-M12,"N/A"),"N/A") -> 0.024 | O13: =if(isnumber(N12)=true,if(isnumber(O12)=true,O12-N12,"N/A"),"N/A") -> 0.008 | P13: =if(isnumber(O12)=true,if(isnumber(P12)=true,P12-O12,"N/A"),"N/A") -> 0.006
B14: Gap from Beaverton | C14: =if(isnumber(C$7)=true,if(isnumber(C12)=true,C12-C$7,"N/A"),"N/A") -> -0.079 | D14: =if(isnumber(D$7)=true,if(isnumber(D12)=true,D12-D$7,"N/A"),"N/A") -> -0.011 | E14: =if(isnumber(E$7)=true,if(isnumber(E12)=true,E12-E$7,"N/A"),"N/A") -> 0.013 | F14: =if(isnumber(F$7)=true,if(isnumber(F12)=true,F12-F$7,"N/A"),"N/A") -> 0.024 | G14: =if(isnumber(G$7)=true,if(isnumber(G12)=true,G12-G$7,"N/A"),"N/A") -> 0.055 | K14: Gap from Beaverton | L14: =if(isnumber(L$7)=true,if(isnumber(L12)=true,L12-L$7,"N/A"),"N/A") -> -0.046 | M14: =if(isnumber(M$7)=true,if(isnumber(M12)=true,M12-M$7,"N/A"),"N/A") -> 0.02 | N14: =if(isnumber(N$7)=true,if(isnumber(N12)=true,N12-N$7,"N/A"),"N/A") -> 0.058 | O14: =if(isnumber(O$7)=true,if(isnumber(O12)=true,O12-O$7,"N/A"),"N/A") -> 0.073 | P14: =if(isnumber(P$7)=true,if(isnumber(P12)=true,P12-P$7,"N/A"),"N/A") -> 0.082
B15: Salem Keizer SD | C15: ='Math Summary'!$I$9 -> 0.331 | D15: ='Math Summary'!$J$9 -> 0.21 | E15: ='Math Summary'!$K$9 -> 0.202 | F15: ='Math Summary'!$L$9 -> 0.2 | G15: ='Math Summary'!$M$9 -> 0.209 | K15: Salem Keizer SD | L15: ='Math Summary'!$I$49 -> 0.216 | M15: ='Math Summary'!$J$49 -> 0.119 | N15: ='Math Summary'!$K$49 -> 0.112 | O15: ='Math Summary'!$L$49 -> 0.115 | P15: ='Math Summary'!$M$49 -> 0.123
B16: Change from Previous Year | D16: =if(isnumber(C15)=true,if(isnumber(D15)=true,D15-C15,"N/A"),"N/A") -> -0.121 | E16: =if(isnumber(D15)=true,if(isnumber(E15)=true,E15-D15,"N/A"),"N/A") -> -0.008 | F16: =if(isnumber(E15)=true,if(isnumber(F15)=true,F15-E15,"N/A"),"N/A") -> -0.002 | G16: =if(isnumber(F15)=true,if(isnumber(G15)=true,G15-F15,"N/A"),"N/A") -> 0.009 | K16: Change from Previous Year | M16: =if(isnumber(L15)=true,if(isnumber(M15)=true,M15-L15,"N/A"),"N/A") -> -0.097 | N16: =if(isnumber(M15)=true,if(isnumber(N15)=true,N15-M15,"N/A"),"N/A") -> -0.007 | O16: =if(isnumber(N15)=true,if(isnumber(O15)=true,O15-N15,"N/A"),"N/A") -> 0.003 | P16: =if(isnumber(O15)=true,if(isnumber(P15)=true,P15-O15,"N/A"),"N/A") -> 0.008
B17: Gap from Beaverton | C17: =if(isnumber(C$7)=true,if(isnumber(C15)=true,C15-C$7,"N/A"),"N/A") -> -0.206 | D17: =if(isnumber(D$7)=true,if(isnumber(D15)=true,D15-D$7,"N/A"),"N/A") -> -0.239 | E17: =if(isnumber(E$7)=true,if(isnumber(E15)=true,E15-E$7,"N/A"),"N/A") -> -0.247 | F17: =if(isnumber(F$7)=true,if(isnumber(F15)=true,F15-F$7,"N/A"),"N/A") -> -0.24 | G17: =if(isnumber(G$7)=true,if(isnumber(G15)=true,G15-G$7,"N/A"),"N/A") -> -0.221 | K17: Gap from Beaverton | L17: =if(isnumber(L$7)=true,if(isnumber(L15)=true,L15-L$7,"N/A"),"N/A") -> -0.063 | M17: =if(isnumber(M$7)=true,if(isnumber(M15)=true,M15-M$7,"N/A"),"N/A") -> -0.069 | N17: =if(isnumber(N$7)=true,if(isnumber(N15)=true,N15-N$7,"N/A"),"N/A") -> -0.062 | O17: =if(isnumber(O$7)=true,if(isnumber(O15)=true,O15-O$7,"N/A"),"N/A") -> -0.052 | P17: =if(isnumber(P$7)=true,if(isnumber(P15)=true,P15-P$7,"N/A"),"N/A") -> -0.041
B44: American Indian/Alaskan Native Students | K44: Multi-Racial Students
C45: ='Math Proficiency by Grade'!C45 -> 2018-19 | D45: ='Math Proficiency by Grade'!D45 -> 2021-22 | E45: ='Math Proficiency by Grade'!E45 -> 2022-23 | F45: ='Math Proficiency by Grade'!F45 -> 2023-24 | G45: ='Math Proficiency by Grade'!G45 -> 2024-25 | L45: ='Math Proficiency by Grade'!L45 -> 2018-19 | M45: ='Math Proficiency by Grade'!M45 -> 2021-22 | N45: ='Math Proficiency by Grade'!N45 -> 2022-23 | O45: ='Math Proficiency by Grade'!O45 -> 2023-24 | P45: ='Math Proficiency by Grade'!P45 -> 2024-25
B46: State | C46: ='Math Summary'!$I$20 -> 0.225 | D46: ='Math Summary'!$J$20 -> 0.143 | E46: ='Math Summary'!$K$20 -> 0.136 | F46: ='Math Summary'!$L$20 -> 0.145 | G46: ='Math Summary'!$M$20 -> 0.159 | K46: State | L46: ='Math Summary'!$I$60 -> 0.427 | M46: ='Math Summary'!$J$60 -> 0.344 | N46: ='Math Summary'!$K$60 -> 0.354 | O46: ='Math Summary'!$L$60 -> 0.354 | P46: ='Math Summary'!$M$60 -> 0.362
B47: Change from Previous Year | D47: =if(isnumber(C46)=true,if(isnumber(D46)=true,D46-C46,"N/A"),"N/A") -> -0.082 | E47: =if(isnumber(D46)=true,if(isnumber(E46)=true,E46-D46,"N/A"),"N/A") -> -0.007 | F47: =if(isnumber(E46)=true,if(isnumber(F46)=true,F46-E46,"N/A"),"N/A") -> 0.009 | G47: =if(isnumber(F46)=true,if(isnumber(G46)=true,G46-F46,"N/A"),"N/A") -> 0.014 | K47: Change from Previous Year | M47: =if(isnumber(L46)=true,if(isnumber(M46)=true,M46-L46,"N/A"),"N/A") -> -0.083 | N47: =if(isnumber(M46)=true,if(isnumber(N46)=true,N46-M46,"N/A"),"N/A") -> 0.01 | O47: =if(isnumber(N46)=true,if(isnumber(O46)=true,O46-N46,"N/A"),"N/A") -> 0 | P47: =if(isnumber(O46)=true,if(isnumber(P46)=true,P46-O46,"N/A"),"N/A") -> 0.008
B48: Beaverton SD | C48: ='Math Summary'!$I$16 -> 0.375 | D48: ='Math Summary'!$J$16 -> 0.312 | E48: ='Math Summary'!$K$16 -> 0.318 | F48: ='Math Summary'!$L$16 -> 0.301 | G48: ='Math Summary'!$M$16 -> 0.268 | K48: Beaverton SD | L48: ='Math Summary'!$I$56 -> 0.583 | M48: ='Math Summary'!$J$56 -> 0.512 | N48: ='Math Summary'!$K$56 -> 0.521 | O48: ='Math Summary'!$L$56 -> 0.499 | P48: ='Math Summary'!$M$56 -> 0.503
B49: Change from Previous Year | D49: =if(isnumber(C48)=true,if(isnumber(D48)=true,D48-C48,"N/A"),"N/A") -> -0.063 | E49: =if(isnumber(D48)=true,if(isnumber(E48)=true,E48-D48,"N/A"),"N/A") -> 0.006 | F49: =if(isnumber(E48)=true,if(isnumber(F48)=true,F48-E48,"N/A"),"N/A") -> -0.017 | G49: =if(isnumber(F48)=true,if(isnumber(G48)=true,G48-F48,"N/A"),"N/A") -> -0.033 | K49: Change from Previous Year | M49: =if(isnumber(L48)=true,if(isnumber(M48)=true,M48-L48,"N/A"),"N/A") -> -0.071 | N49: =if(isnumber(M48)=true,if(isnumber(N48)=true,N48-M48,"N/A"),"N/A") -> 0.009 | O49: =if(isnumber(N48)=true,if(isnumber(O48)=true,O48-N48,"N/A"),"N/A") -> -0.022 | P49: =if(isnumber(O48)=true,if(isnumber(P48)=true,P48-O48,"N/A"),"N/A") -> 0.004
B50: Hillsboro SD | C50: ='Math Summary'!$I$17 -> 0.24 | D50: ='Math Summary'!$J$17 -> 0.146 | E50: ='Math Summary'!$K$17 -> 0.233 | F50: ='Math Summary'!$L$17 -> 0.214 | G50: ='Math Summary'!$M$17 -> 0.273 | K50: Hillsboro SD | L50: ='Math Summary'!$I$57 -> 0.514 | M50: ='Math Summary'!$J$57 -> 0.412 | N50: ='Math Summary'!$K$57 -> 0.422 | O50: ='Math Summary'!$L$57 -> 0.404 | P50: ='Math Summary'!$M$57 -> 0.415
B51: Change from Previous Year | D51: =if(isnumber(C50)=true,if(isnumber(D50)=true,D50-C50,"N/A"),"N/A") -> -0.094 | E51: =if(isnumber(D50)=true,if(isnumber(E50)=true,E50-D50,"N/A"),"N/A") -> 0.087 | F51: =if(isnumber(E50)=true,if(isnumber(F50)=true,F50-E50,"N/A"),"N/A") -> -0.019 | G51: =if(isnumber(F50)=true,if(isnumber(G50)=true,G50-F50,"N/A"),"N/A") -> 0.059 | K51: Change from Previous Year | M51: =if(isnumber(L50)=true,if(isnumber(M50)=true,M50-L50,"N/A"),"N/A") -> -0.102 | N51: =if(isnumber(M50)=true,if(isnumber(N50)=true,N50-M50,"N/A"),"N/A") -> 0.01 | O51: =if(isnumber(N50)=true,if(isnumber(O50)=true,O50-N50,"N/A"),"N/A") -> -0.018 | P51: =if(isnumber(O50)=true,if(isnumber(P50)=true,P50-O50,"N/A"),"N/A") -> 0.011
B52: Gap from Beaverton | C52: =if(isnumber(C$48)=true,if(isnumber(C50)=true,C50-C$48,"N/A"),"N/A") -> -0.135 | D52: =if(isnumber(D$48)=true,if(isnumber(D50)=true,D50-D$48,"N/A"),"N/A") -> -0.166 | E52: =if(isnumber(E$48)=true,if(isnumber(E50)=true,E50-E$48,"N/A"),"N/A") -> -0.085 | F52: =if(isnumber(F$48)=true,if(isnumber(F50)=true,F50-F$48,"N/A"),"N/A") -> -0.087 | G52: =if(isnumber(G$48)=true,if(isnumber(G50)=true,G50-G$48,"N/A"),"N/A") -> 0.005 | K52: Gap from Beaverton | L52: =if(isnumber(L$48)=true,if(isnumber(L50)=true,L50-L$48,"N/A"),"N/A") -> -0.069 | M52: =if(isnumber(M$48)=true,if(isnumber(M50)=true,M50-M$48,"N/A"),"N/A") -> -0.1 | N52: =if(isnumber(N$48)=true,if(isnumber(N50)=true,N50-N$48,"N/A"),"N/A") -> -0.099 | O52: =if(isnumber(O$48)=true,if(isnumber(O50)=true,O50-O$48,"N/A"),"N/A") -> -0.095 | P52: =if(isnumber(P$48)=true,if(isnumber(P50)=true,P50-P$48,"N/A"),"N/A") -> -0.088
B53: Portland SD | C53: ='Math Summary'!$I$18 -> 0.207 | D53: ='Math Summary'!$J$18 -> 0.131 | E53: ='Math Summary'!$K$18 -> 0.116 | F53: ='Math Summary'!$L$18 -> 0.101 | G53: ='Math Summary'!$M$18 -> 0.187 | K53: Portland SD | L53: ='Math Summary'!$I$58 -> 0.457 | M53: ='Math Summary'!$J$58 -> 0.447 | N53: ='Math Summary'!$K$58 -> 0.473 | O53: ='Math Summary'!$L$58 -> 0.472 | P53: ='Math Summary'!$M$58 -> 0.49
B54: Change from Previous Year | D54: =if(isnumber(C53)=true,if(isnumber(D53)=true,D53-C53,"N/A"),"N/A") -> -0.076 | E54: =if(isnumber(D53)=true,if(isnumber(E53)=true,E53-D53,"N/A"),"N/A") -> -0.015 | F54: =if(isnumber(E53)=true,if(isnumber(F53)=true,F53-E53,"N/A"),"N/A") -> -0.015 | G54: =if(isnumber(F53)=true,if(isnumber(G53)=true,G53-F53,"N/A"),"N/A") -> 0.086 | K54: Change from Previous Year | M54: =if(isnumber(L53)=true,if(isnumber(M53)=true,M53-L53,"N/A"),"N/A") -> -0.01 | N54: =if(isnumber(M53)=true,if(isnumber(N53)=true,N53-M53,"N/A"),"N/A") -> 0.026 | O54: =if(isnumber(N53)=true,if(isnumber(O53)=true,O53-N53,"N/A"),"N/A") -> -0.001 | P54: =if(isnumber(O53)=true,if(isnumber(P53)=true,P53-O53,"N/A"),"N/A") -> 0.018
B55: Gap from Beaverton | C55: =if(isnumber(C$48)=true,if(isnumber(C53)=true,C53-C$48,"N/A"),"N/A") -> -0.168 | D55: =if(isnumber(D$48)=true,if(isnumber(D53)=true,D53-D$48,"N/A"),"N/A") -> -0.181 | E55: =if(isnumber(E$48)=true,if(isnumber(E53)=true,E53-E$48,"N/A"),"N/A") -> -0.202 | F55: =if(isnumber(F$48)=true,if(isnumber(F53)=true,F53-F$48,"N/A"),"N/A") -> -0.2 | G55: =if(isnumber(G$48)=true,if(isnumber(G53)=true,G53-G$48,"N/A"),"N/A") -> -0.081 | K55: Gap from Beaverton | L55: =if(isnumber(L$48)=true,if(isnumber(L53)=true,L53-L$48,"N/A"),"N/A") -> -0.126 | M55: =if(isnumber(M$48)=true,if(isnumber(M53)=true,M53-M$48,"N/A"),"N/A") -> -0.065 | N55: =if(isnumber(N$48)=true,if(isnumber(N53)=true,N53-N$48,"N/A"),"N/A") -> -0.048 | O55: =if(isnumber(O$48)=true,if(isnumber(O53)=true,O53-O$48,"N/A"),"N/A") -> -0.027 | P55: =if(isnumber(P$48)=true,if(isnumber(P53)=true,P53-P$48,"N/A"),"N/A") -> -0.013
B56: Salem Keizer SD | C56: ='Math Summary'!$I$19 -> 0.188 | D56: ='Math Summary'!$J$19 -> 0.132 | E56: ='Math Summary'!$K$19 -> 0.085 | F56: ='Math Summary'!$L$19 -> 0.087 | G56: ='Math Summary'!$M$19 -> 0.125 | K56: Salem Keizer SD | L56: ='Math Summary'!$I$59 -> 0.377 | M56: ='Math Summary'!$J$59 -> 0.269 | N56: ='Math Summary'!$K$59 -> 0.262 | O56: ='Math Summary'!$L$59 -> 0.244 | P56: ='Math Summary'!$M$59 -> 0.26
B57: Change from Previous Year | D57: =if(isnumber(C56)=true,if(isnumber(D56)=true,D56-C56,"N/A"),"N/A") -> -0.056 | E57: =if(isnumber(D56)=true,if(isnumber(E56)=true,E56-D56,"N/A"),"N/A") -> -0.047 | F57: =if(isnumber(E56)=true,if(isnumber(F56)=true,F56-E56,"N/A"),"N/A") -> 0.002 | G57: =if(isnumber(F56)=true,if(isnumber(G56)=true,G56-F56,"N/A"),"N/A") -> 0.038 | K57: Change from Previous Year | M57: =if(isnumber(L56)=true,if(isnumber(M56)=true,M56-L56,"N/A"),"N/A") -> -0.108 | N57: =if(isnumber(M56)=true,if(isnumber(N56)=true,N56-M56,"N/A"),"N/A") -> -0.007 | O57: =if(isnumber(N56)=true,if(isnumber(O56)=true,O56-N56,"N/A"),"N/A") -> -0.018 | P57: =if(isnumber(O56)=true,if(isnumber(P56)=true,P56-O56,"N/A"),"N/A") -> 0.016
B58: Gap from Beaverton | C58: =if(isnumber(C$48)=true,if(isnumber(C56)=true,C56-C$48,"N/A"),"N/A") -> -0.187 | D58: =if(isnumber(D$48)=true,if(isnumber(D56)=true,D56-D$48,"N/A"),"N/A") -> -0.18 | E58: =if(isnumber(E$48)=true,if(isnumber(E56)=true,E56-E$48,"N/A"),"N/A") -> -0.233 | F58: =if(isnumber(F$48)=true,if(isnumber(F56)=true,F56-F$48,"N/A"),"N/A") -> -0.214 | G58: =if(isnumber(G$48)=true,if(isnumber(G56)=true,G56-G$48,"N/A"),"N/A") -> -0.143 | K58: Gap from Beaverton | L58: =if(isnumber(L$48)=true,if(isnumber(L56)=true,L56-L$48,"N/A"),"N/A") -> -0.206 | M58: =if(isnumber(M$48)=true,if(isnumber(M56)=true,M56-M$48,"N/A"),"N/A") -> -0.243 | N58: =if(isnumber(N$48)=true,if(isnumber(N56)=true,N56-N$48,"N/A"),"N/A") -> -0.259 | O58: =if(isnumber(O$48)=true,if(isnumber(O56)=true,O56-O$48,"N/A"),"N/A") -> -0.255 | P58: =if(isnumber(P$48)=true,if(isnumber(P56)=true,P56-P$48,"N/A"),"N/A") -> -0.243
B85: Asian Students | K85: Pacific Islander Students
C86: ='Math Proficiency by Grade'!C86 -> 2018-19 | D86: ='Math Proficiency by Grade'!D86 -> 2021-22 | E86: ='Math Proficiency by Grade'!E86 -> 2022-23 | F86: ='Math Proficiency by Grade'!F86 -> 2023-24 | G86: ='Math Proficiency by Grade'!G86 -> 2024-25 | L86: ='Math Proficiency by Grade'!L86 -> 2018-19 | M86: ='Math Proficiency by Grade'!M86 -> 2021-22 | N86: ='Math Proficiency by Grade'!N86 -> 2022-23 | O86: ='Math Proficiency by Grade'!O86 -> 2023-24 | P86: ='Math Proficiency by Grade'!P86 -> 2024-25
B87: State | C87: ='Math Summary'!$I$30 -> 0.661 | D87: ='Math Summary'!$J$30 -> 0.568 | E87: ='Math Summary'!$K$30 -> 0.564 | F87: ='Math Summary'!$L$30 -> 0.557 | G87: ='Math Summary'!$M$30 -> 0.554 | K87: State | L87: ='Math Summary'!$I$70 -> 0.213 | M87: ='Math Summary'!$J$70 -> 0.116 | N87: ='Math Summary'!$K$70 -> 0.114 | O87: ='Math Summary'!$L$70 -> 0.11 | P87: ='Math Summary'!$M$70 -> 0.109
B88: Change from Previous Year | D88: =if(isnumber(C87)=true,if(isnumber(D87)=true,D87-C87,"N/A"),"N/A") -> -0.093 | E88: =if(isnumber(D87)=true,if(isnumber(E87)=true,E87-D87,"N/A"),"N/A") -> -0.004 | F88: =if(isnumber(E87)=true,if(isnumber(F87)=true,F87-E87,"N/A"),"N/A") -> -0.007 | G88: =if(isnumber(F87)=true,if(isnumber(G87)=true,G87-F87,"N/A"),"N/A") -> -0.003 | K88: Change from Previous Year | M88: =if(isnumber(L87)=true,if(isnumber(M87)=true,M87-L87,"N/A"),"N/A") -> -0.097 | N88: =if(isnumber(M87)=true,if(isnumber(N87)=true,N87-M87,"N/A"),"N/A") -> -0.002 | O88: =if(isnumber(N87)=true,if(isnumber(O87)=true,O87-N87,"N/A"),"N/A") -> -0.004 | P88: =if(isnumber(O87)=true,if(isnumber(P87)=true,P87-O87,"N/A"),"N/A") -> -0.001
B89: Beaverton SD | C89: ='Math Summary'!$I$26 -> 0.82 | D89: ='Math Summary'!$J$26 -> 0.769 | E89: ='Math Summary'!$K$26 -> 0.752 | F89: ='Math Summary'!$L$26 -> 0.725 | G89: ='Math Summary'!$M$26 -> 0.718 | K89: Beaverton SD | L89: ='Math Summary'!$I$66 -> 0.297 | M89: ='Math Summary'!$J$66 -> 0.119 | N89: ='Math Summary'!$K$66 -> 0.13 | O89: ='Math Summary'!$L$66 -> 0.128 | P89: ='Math Summary'!$M$66 -> 0.124
B90: Change from Previous Year | D90: =if(isnumber(C89)=true,if(isnumber(D89)=true,D89-C89,"N/A"),"N/A") -> -0.051 | E90: =if(isnumber(D89)=true,if(isnumber(E89)=true,E89-D89,"N/A"),"N/A") -> -0.017 | F90: =if(isnumber(E89)=true,if(isnumber(F89)=true,F89-E89,"N/A"),"N/A") -> -0.027 | G90: =if(isnumber(F89)=true,if(isnumber(G89)=true,G89-F89,"N/A"),"N/A") -> -0.007 | K90: Change from Previous Year | M90: =if(isnumber(L89)=true,if(isnumber(M89)=true,M89-L89,"N/A"),"N/A") -> -0.178 | N90: =if(isnumber(M89)=true,if(isnumber(N89)=true,N89-M89,"N/A"),"N/A") -> 0.011 | O90: =if(isnumber(N89)=true,if(isnumber(O89)=true,O89-N89,"N/A"),"N/A") -> -0.002 | P90: =if(isnumber(O89)=true,if(isnumber(P89)=true,P89-O89,"N/A"),"N/A") -> -0.004
B91: Hillsboro SD | C91: ='Math Summary'!$I$27 -> 0.643 | D91: ='Math Summary'!$J$27 -> 0.528 | E91: ='Math Summary'!$K$27 -> 0.53 | F91: ='Math Summary'!$L$27 -> 0.491 | G91: ='Math Summary'!$M$27 -> 0.509 | K91: Hillsboro SD | L91: ='Math Summary'!$I$67 -> 0.279 | M91: ='Math Summary'!$J$67 -> 0.34 | N91: ='Math Summary'!$K$67 -> 0.207 | O91: ='Math Summary'!$L$67 -> 0.302 | P91: ='Math Summary'!$M$67 -> 0.188
B92: Change from Previous Year | D92: =if(isnumber(C91)=true,if(isnumber(D91)=true,D91-C91,"N/A"),"N/A") -> -0.115 | E92: =if(isnumber(D91)=true,if(isnumber(E91)=true,E91-D91,"N/A"),"N/A") -> 0.002 | F92: =if(isnumber(E91)=true,if(isnumber(F91)=true,F91-E91,"N/A"),"N/A") -> -0.039 | G92: =if(isnumber(F91)=true,if(isnumber(G91)=true,G91-F91,"N/A"),"N/A") -> 0.018 | K92: Change from Previous Year | M92: =if(isnumber(L91)=true,if(isnumber(M91)=true,M91-L91,"N/A"),"N/A") -> 0.061 | N92: =if(isnumber(M91)=true,if(isnumber(N91)=true,N91-M91,"N/A"),"N/A") -> -0.133 | O92: =if(isnumber(N91)=true,if(isnumber(O91)=true,O91-N91,"N/A"),"N/A") -> 0.095 | P92: =if(isnumber(O91)=true,if(isnumber(P91)=true,P91-O91,"N/A"),"N/A") -> -0.114
...

Sheet Math Proficiency by Student Gro
A1: OSAS Math Proficiency
B2: *Prior to 2024-25, ODE counted students taking extended assessments as not proficient in these assessment reports. However, ODE received approval from the U.S. Department of Education to count as proficient those students who met the alternate standard on Extended Assessments.
B3: Total Population (All Students) | K3: Students Experiencing Poverty
C4: ='Math Proficiency by Grade'!C4 -> 2018-19 | D4: ='Math Proficiency by Grade'!D4 -> 2021-22 | E4: ='Math Proficiency by Grade'!E4 -> 2022-23 | F4: ='Math Proficiency by Grade'!F4 -> 2023-24 | G4: ='Math Proficiency by Grade'!G4 -> 2024-25 | L4: ='Math Proficiency by Grade'!L4 -> 2018-19 | M4: ='Math Proficiency by Grade'!M4 -> 2021-22 | N4: ='Math Proficiency by Grade'!N4 -> 2022-23 | O4: ='Math Proficiency by Grade'!O4 -> 2023-24 | P4: ='Math Proficiency by Grade'!P4 -> 2024-25
B5: State | C5: ='Math Summary'!$W$10 -> 0.394 | D5: ='Math Summary'!$X$10 -> 0.304 | E5: ='Math Summary'!$Y$10 -> 0.306 | F5: ='Math Summary'!$Z$10 -> 0.31 | G5: ='Math Summary'!$AA$10 -> 0.315 | K5: State | L5: ='Math Summary'!$W$40 -> #N/A | M5: ='Math Summary'!$X$40 -> #N/A | N5: ='Math Summary'!$Y$40 -> #N/A | O5: ='Math Summary'!$Z$40 -> 0.154 | P5: ='Math Summary'!$AA$40 -> 0.164
B6: Change from Previous Year | D6: =if(isnumber(C5)=true,if(isnumber(D5)=true,D5-C5,"N/A"),"N/A") -> -0.09 | E6: =if(isnumber(D5)=true,if(isnumber(E5)=true,E5-D5,"N/A"),"N/A") -> 0.002 | F6: =if(isnumber(E5)=true,if(isnumber(F5)=true,F5-E5,"N/A"),"N/A") -> 0.004 | G6: =if(isnumber(F5)=true,if(isnumber(G5)=true,G5-F5,"N/A"),"N/A") -> 0.005 | K6: Change from Previous Year | M6: =if(isnumber(L5)=true,if(isnumber(M5)=true,M5-L5,"N/A"),"N/A") -> N/A | N6: =if(isnumber(M5)=true,if(isnumber(N5)=true,N5-M5,"N/A"),"N/A") -> N/A | O6: =if(isnumber(N5)=true,if(isnumber(O5)=true,O5-N5,"N/A"),"N/A") -> N/A | P6: =if(isnumber(O5)=true,if(isnumber(P5)=true,P5-O5,"N/A"),"N/A") -> 0.01
B7: Beaverton SD | C7: ='Math Summary'!$W$6 -> 0.537 | D7: ='Math Summary'!$X$6 -> 0.449 | E7: ='Math Summary'!$Y$6 -> 0.449 | F7: ='Math Summary'!$Z$6 -> 0.44 | G7: ='Math Summary'!$AA$6 -> 0.43 | K7: Beaverton SD | L7: ='Math Summary'!$W$36 -> #N/A | M7: ='Math Summary'!$X$36 -> #N/A | N7: ='Math Summary'!$Y$36 -> #N/A | O7: ='Math Summary'!$Z$36 -> 0.144 | P7: ='Math Summary'!$AA$36 -> 0.144
B8: Change from Previous Year | D8: =if(isnumber(C7)=true,if(isnumber(D7)=true,D7-C7,"N/A"),"N/A") -> -0.088 | E8: =if(isnumber(D7)=true,if(isnumber(E7)=true,E7-D7,"N/A"),"N/A") -> 0 | F8: =if(isnumber(E7)=true,if(isnumber(F7)=true,F7-E7,"N/A"),"N/A") -> -0.009 | G8: =if(isnumber(F7)=true,if(isnumber(G7)=true,G7-F7,"N/A"),"N/A") -> -0.01 | K8: Change from Previous Year | M8: =if(isnumber(L7)=true,if(isnumber(M7)=true,M7-L7,"N/A"),"N/A") -> N/A | N8: =if(isnumber(M7)=true,if(isnumber(N7)=true,N7-M7,"N/A"),"N/A") -> N/A | O8: =if(isnumber(N7)=true,if(isnumber(O7)=true,O7-N7,"N/A"),"N/A") -> N/A | P8: =if(isnumber(O7)=true,if(isnumber(P7)=true,P7-O7,"N/A"),"N/A") -> 0
B9: Hillsboro SD | C9: ='Math Summary'!$W$7 -> 0.39 | D9: ='Math Summary'!$X$7 -> 0.293 | E9: ='Math Summary'!$Y$7 -> 0.301 | F9: ='Math Summary'!$Z$7 -> 0.29 | G9: ='Math Summary'!$AA$7 -> 0.294 | K9: Hillsboro SD | L9: ='Math Summary'!$W$37 -> #N/A | M9: ='Math Summary'!$X$37 -> #N/A | N9: ='Math Summary'!$Y$37 -> #N/A | O9: ='Math Summary'!$Z$37 -> 0.122 | P9: ='Math Summary'!$AA$37 -> 0.135
B10: Change from Previous Year | D10: =if(isnumber(C9)=true,if(isnumber(D9)=true,D9-C9,"N/A"),"N/A") -> -0.097 | E10: =if(isnumber(D9)=true,if(isnumber(E9)=true,E9-D9,"N/A"),"N/A") -> 0.008 | F10: =if(isnumber(E9)=true,if(isnumber(F9)=true,F9-E9,"N/A"),"N/A") -> -0.011 | G10: =if(isnumber(F9)=true,if(isnumber(G9)=true,G9-F9,"N/A"),"N/A") -> 0.004 | K10: Change from Previous Year | M10: =if(isnumber(L9)=true,if(isnumber(M9)=true,M9-L9,"N/A"),"N/A") -> N/A | N10: =if(isnumber(M9)=true,if(isnumber(N9)=true,N9-M9,"N/A"),"N/A") -> N/A | O10: =if(isnumber(N9)=true,if(isnumber(O9)=true,O9-N9,"N/A"),"N/A") -> N/A | P10: =if(isnumber(O9)=true,if(isnumber(P9)=true,P9-O9,"N/A"),"N/A") -> 0.013
B11: Gap from Beaverton | C11: =if(isnumber(C$7)=true,if(isnumber(C9)=true,C9-C$7,"N/A"),"N/A") -> -0.147 | D11: =if(isnumber(D$7)=true,if(isnumber(D9)=true,D9-D$7,"N/A"),"N/A") -> -0.156 | E11: =if(isnumber(E$7)=true,if(isnumber(E9)=true,E9-E$7,"N/A"),"N/A") -> -0.148 | F11: =if(isnumber(F$7)=true,if(isnumber(F9)=true,F9-F$7,"N/A"),"N/A") -> -0.15 | G11: =if(isnumber(G$7)=true,if(isnumber(G9)=true,G9-G$7,"N/A"),"N/A") -> -0.136 | K11: Gap from Beaverton | L11: =if(isnumber(L$7)=true,if(isnumber(L9)=true,L9-L$7,"N/A"),"N/A") -> N/A | M11: =if(isnumber(M$7)=true,if(isnumber(M9)=true,M9-M$7,"N/A"),"N/A") -> N/A | N11: =if(isnumber(N$7)=true,if(isnumber(N9)=true,N9-N$7,"N/A"),"N/A") -> N/A | O11: =if(isnumber(O$7)=true,if(isnumber(O9)=true,O9-O$7,"N/A"),"N/A") -> -0.022 | P11: =if(isnumber(P$7)=true,if(isnumber(P9)=true,P9-P$7,"N/A"),"N/A") -> -0.009
B12: Portland SD | C12: ='Math Summary'!$W$8 -> 0.458 | D12: ='Math Summary'!$X$8 -> 0.438 | E12: ='Math Summary'!$Y$8 -> 0.462 | F12: ='Math Summary'!$Z$8 -> 0.464 | G12: ='Math Summary'!$AA$8 -> 0.485 | K12: Portland SD | L12: ='Math Summary'!$W$38 -> #N/A | M12: ='Math Summary'!$X$38 -> #N/A | N12: ='Math Summary'!$Y$38 -> #N/A | O12: ='Math Summary'!$Z$38 -> 0.16 | P12: ='Math Summary'!$AA$38 -> 0.185
B13: Change from Previous Year | D13: =if(isnumber(C12)=true,if(isnumber(D12)=true,D12-C12,"N/A"),"N/A") -> -0.02 | E13: =if(isnumber(D12)=true,if(isnumber(E12)=true,E12-D12,"N/A"),"N/A") -> 0.024 | F13: =if(isnumber(E12)=true,if(isnumber(F12)=true,F12-E12,"N/A"),"N/A") -> 0.002 | G13: =if(isnumber(F12)=true,if(isnumber(G12)=true,G12-F12,"N/A"),"N/A") -> 0.021 | K13: Change from Previous Year | M13: =if(isnumber(L12)=true,if(isnumber(M12)=true,M12-L12,"N/A"),"N/A") -> N/A | N13: =if(isnumber(M12)=true,if(isnumber(N12)=true,N12-M12,"N/A"),"N/A") -> N/A | O13: =if(isnumber(N12)=true,if(isnumber(O12)=true,O12-N12,"N/A"),"N/A") -> N/A | P13: =if(isnumber(O12)=true,if(isnumber(P12)=true,P12-O12,"N/A"),"N/A") -> 0.025
