Workbook
Name _PAV2: 'Data Entry'!$L$95
Name _QL912: 'BSA55'!$G$165
Name AccommRCL05: 'Data Entry'!$L$146
Name AccommRCL10: 'Data Entry'!$L$145
Name AccommTransCheck: 'Data Entry'!$C$142
Name ActAuditExpend: 'Data Entry'!$C$67
Name ActDisabilityRM: 'Data Entry'!$L$76
Name ActivTripLvlFactor: 'BSA55'!$E$86
Name AdjacentWays: Instructions!$C$38
Name AdjBaseSuppLvl: 'BSA55'!$H$69
Name AdjFYTRCL: 'BSA55'!$C$104
Name AdjTNTBaseLimit: 'Truth in Tax'!$I$7
Name AdjWaysLevy: 'Page 5'!$E$29
Name AllFundAuditBudg6330: 'Page 2'!$O$9
Name AmtOUBudgSSA: 'Truth in Tax'!$I$21
Name AnnualExpforBusPass: 'Data Entry'!$L$75
Name AnnualExpforBusToken: 'Data Entry'!$L$74
Name AOIFTFundFactor: 'BSA55'!$F$47
Name AOIFTGrBAddOnWgtdADM: 'BSA55'!$H$35
Name AOIFTRegEdWgtdADM: 'BSA55'!$H$12
Name AOIFTStudCnt912CY: 'Data Entry'!$I$32
Name AOIFTStudCntDD.ED.MIID.SLD.SLI.OHI: 'Data Entry'!$H$50
Name AOIFTStudCntEDP: 'Data Entry'!$H$51
Name AOIFTStudCntELL: 'Data Entry'!$H$40
Name AOIFTStudCntFRPL: 'Data Entry'!$H$54
Name AOIFTStudCntG: 'Data Entry'!$H$55
Name AOIFTStudCntHI: 'Data Entry'!$H$43
Name AOIFTStudCntK3: 'Data Entry'!$H$41
Name AOIFTStudCntK3R: 'Data Entry'!$H$42
Name AOIFTStudCntK8CY: 'Data Entry'!$H$32
Name AOIFTStudCntMDR.AR.SIDR: 'Data Entry'!$H$44
Name AOIFTStudCntMDSC.ASC.SIDSC: 'Data Entry'!$H$45
Name AOIFTStudCntMDSSI: 'Data Entry'!$H$46
Name AOIFTStudCntMOID: 'Data Entry'!$H$52
Name AOIFTStudCntOIR: 'Data Entry'!$H$47
Name AOIFTStudCntOISC: 'Data Entry'!$H$48
Name AOIFTStudCntP.SD: 'Data Entry'!$H$49
Name AOIFTStudCntPSDCY: 'Data Entry'!$G$32
Name AOIFTStudCntVI: 'Data Entry'!$H$53
Name AOIPTFundFactor: 'BSA55'!$H$47
Name AOIPTGrBAddOnWgtdADM: 'BSA55'!$I$35
Name AOIPTRegEdWgtdADM: 'BSA55'!$I$12
Name AOIPTStudCnt912CY: 'Data Entry'!$I$33
Name AOIPTStudCntDD.ED.MIID.SLD.SLI.OHI: 'Data Entry'!$I$50
Name AOIPTStudCntEDP: 'Data Entry'!$I$51
Name AOIPTStudCntELL: 'Data Entry'!$I$40
Name AOIPTStudCntFRPL: 'Data Entry'!$I$54
Name AOIPTStudCntG: 'Data Entry'!$I$55
Name AOIPTStudCntHI: 'Data Entry'!$I$43
Name AOIPTStudCntK3: 'Data Entry'!$I$41
Name AOIPTStudCntK3R: 'Data Entry'!$I$42
Name AOIPTStudCntK8CY: 'Data Entry'!$H$33
Name AOIPTStudCntMDR.AR.SIDR: 'Data Entry'!$I$44
Name AOIPTStudCntMDSC.ASC.SIDSC: 'Data Entry'!$I$45
Name AOIPTStudCntMDSSI: 'Data Entry'!$I$46
Name AOIPTStudCntMOID: 'Data Entry'!$I$52
Name AOIPTStudCntOIR: 'Data Entry'!$I$47
Name AOIPTStudCntOISC: 'Data Entry'!$I$48
Name AOIPTStudCntP.SD: 'Data Entry'!$I$49
Name AOIPTStudCntPSDCY: 'Data Entry'!$G$33

Sheet Cover
B1: District Name | C1: Murphy Elementary School District #21 | G1: County | H1: Maricopa | R1: CTD number | S1: 070421000
R2: =0/0 -> #DIV/0!
D3: FY | E3: 2026 | K3: Revenues and property taxation
A4: State of Arizona | K4: 1. | L4: Total budgeted revenues for fiscal year 2025 $ | O4: 18000000
A5: School District Annual Expenditure Budget | K5: 2. | L5: Estimated revenues by source for fiscal year 2026 (excluding property taxes)
A6: Districtwide Budget | L6: Local | M6: 1000 $ | N6: 5800000
L7: Intermediate | M7: 2000 $ | N7: 3000
C8: Proposed | L8: State | M8: 3000 $ | N8: 6000000 | O8: =IF(OR('Page 7'!J10>'Page 7'!H10,'Page 7'!J17>'Page 7'!H17),"Please correct error on Page 7","")
C9: Version | L9: Federal | M9: 4000 $ | N9: 4300000 | O9: =IF('Data Entry'!G16="","Please enter a SIS Vendor on the Data Entry Tab","")
A10: By the Governing Board | L10: TOTAL | M10: $ | N10: =SUM(N6:N9) -> 16103000
K11: 3. | L11: District tax rates for prior and budget fiscal years (A.R.S. §15-903.D.4)
A12: We hereby certify that the Budget for the Fiscal Year 2026 was | N12: Prior FY 2025 | Q12: Est. Budget FY 2026
C13: Proposed | E13: 45817 | G13: =IF(AND(OR(ISNUMBER(SEARCH("Proposed*",C8)),ISNUMBER(SEARCH("Adopted*",C8)),ISNUMBER(SEARCH("Revised*",C8))),E13=""),"Please enter a Proposed Date","") | L13: Primary Tax Rate: | N13: 1.6881 | Q13: 1.734 | S13: =IF('Page 7'!J10>'Page 7'!H10,"Please correct error on Page 7","")
C14: Adopted | G14: =IF(AND(OR(ISNUMBER(SEARCH("Adopted*",C8)),ISNUMBER(SEARCH("Revised*",C8))),E14=""),"Please enter an Adopted Date","") | L14: Secondary Tax Rates:
C15: Revised | G15: =IF(AND(ISNUMBER(SEARCH("Revised*",C8)),E15=""),"Please enter a Revised Date","") | L15: M&O Override | N15: 0.8949 | Q15: 0.8577
E16: Date | L16: Special Program Override | Q16: 0.6953
C17: District website link of posted budget | E17: https://www.msdaz.org/apps/pages/index.jsp?uREC_ID=3223185&type=d&pREC_ID=2362638 | L17: Capital Override | N17: 0.3837
L18: Class A Bonds
L19: Class B Bonds | N19: 0.6999 | Q19: 0.6832
L20: CTED
L21: Desegregation
L22: Total Secondary Tax Rate | N22: =SUM(N15:N21) -> 1.9785 | Q22: =SUM(Q15:Q21) -> 2.2362
K23: Total budgeted expenditures and aggregate school district budget limit (A.R.S. §15-905.H)
Q24: Budgeted Expenditures | S24: Budgeted Carryforward | U24: Budget Limit
K25: 1. | L25: Maintenance and Operation Fund (from pages 1, lines 30-31 and 7, line 10) | P25: $ | Q25: =F001TotalExp -> 11154364 | R25: $ | S25: =F001Carryforward -> 4920125 | T25: $ | U25: =GBLBudgFY -> 16074489 | V25: =IF((Q25+S25)>U25,"GBL Exceeded","")
C26: Signed | F26: Signed | K26: 2. | L26: Unrestricted Capital Fund (from pages 4, lines 10-11 and 8, line 12) | P26: $ | Q26: =F610TotalBudgFY -> 1278960 | R26: $ | S26: =F610Carryforward -> 326392 | T26: $ | U26: =UCBLBudgFY -> 1605352 | V26: =IF((Q26+S26)>U26,"UCBL Exceeded","")
K27: 3. | L27: Federal projects other than Impact Aid (from budget, page 6, Federal Projects, minus 378 [lines 18 and 20]) | T27: $ | U27: =TotFedProjFundBudgFY-F378BudgFY -> 2084637
C28: The FY 2026 budget file for the version described above will be uploaded via | K28: 4. | L28: Total aggregate school district budget limit (sum of lines 1 through 3) | T28: $ | U28: =SUM(U25+U26+U27) -> 19764478
C29: the School Finance Budget System on ADE’s website by | F29: 45818 | H29: .
F30: Date | K30: Average teacher salaries (A.R.S. §15-903.E)
F31: =IF(F29="","Please enter upload by date",IF(F29>=MAX(E13,E14,E15),"","Revise upload date for current submission")) | K31: 1. | L31: Average salary of all teachers employed in FY 2026 (budget year) | P31: =IF(V32<>"","",IF(OR(S31=0,S32=0),"Average salary information is not complete","")) | R31: $ | S31: 56200 | T31: =IF(V32<>"","",IF(OR(S31=0,S32=0),1/ERROR,""))
K32: 2. | L32: Average salary of all teachers employed in FY 2025 (prior year) | R32: $ | S32: 55067 | W32: Check this box if your district has no teachers (transporting districts and some CTEDs).
B33: Superintendent signature | F33: Business Manager signature | K33: 3. | L33: Increase in average teacher salary from the prior year | R33: $ | S33: =BudgetYearSalary-PriorYearSalary -> 1133
K34: 4. | L34: Percentage increase | S34: =IF(PriorYearSalary>0,SalaryIncrease/PriorYearSalary,0) -> 0.02
B35: Nathan Dettmar | F35: Linda M. Cordova | K35: Comments on average salary calculation (Optional):
B36: Superintendent name (typed name) | F36: Business Manager name (typed name)
B38: District contact employee: | D38: Linda M. Cordova
V39: =E3-1 -> 2025
B40: Telephone: | C40: 602-353-5058 | F40: Email: | G40: lcordova@msdaz.org | V40: =E3-2 -> 2024

Sheet Page 1
A1: District name | B1: =DistrictName -> Murphy Elementary School District #21 | F1: County | G1: =Cover!H1 -> Maricopa | I1: CTD number | J1: =CTD -> 070421000 | L1: Version | M1: =Cover!C8 -> Proposed
A2: Fund 001 (M&O) | D2: Maintenance and Operation (M&O) Fund
G3: Employee | H3: Purchased | K3: Totals
D4: FTE | F4: Salaries | G4: Benefits | H4: Services | I4: Supplies | J4: Other | K4: Prior | L4: Budget | M4: %
A5: Expenditures | D5: Prior | E5: Budget | H5: 6300, 6400, | K5: FY | L5: FY | M5: Increase/
D6: FY | E6: FY | F6: 6100 | G6: 6200 | H6: 6500 | I6: 6600 | J6: 6800 | K6: =PriorFiscalYear -> 2025 | L6: =Cover!E3 -> 2026 | M6: Decrease
A7: 100 Regular Education
A8: 1000 Instruction | C8: 1. | D8: =[1]!F001P100F1000Personnel -> 51 | E8: 50 | F8: 2554734 | G8: 990870 | H8: 10000 | I8: 15000 | K8: =[1]!F001P100F1000 -> 4835732 | L8: =SUM(F8:J8) -> 3570604 | M8: =IF(K8=L8,0,IF(K8>0,(L8-K8)/K8,"")) -> -0.262 | N8: 1.
A9: 2000 Support Services
A10: 2100 Students | C10: 2. | D10: =[1]!F001P100F2100Personnel -> 8 | E10: 8 | F10: 400000 | G10: 158539 | H10: 50000 | I10: 25000 | J10: 1000 | K10: =[1]!F001P100F2100 -> 736949 | L10: =SUM(F10:J10) -> 634539 | M10: =IF(K10=L10,0,IF(K10>0,(L10-K10)/K10,"")) -> -0.139 | N10: 2.
A11: 2200 Instructional Staff | C11: 3. | D11: =[1]!F001P100F2200Personnel -> 1 | E11: 1.5 | F11: 81000 | G11: 31000 | H11: 15000 | I11: 5000 | K11: =[1]!F001P100F2200 -> 184000 | L11: =SUM(F11:J11) -> 132000 | M11: =IF(K11=L11,0,IF(K11>0,(L11-K11)/K11,"")) -> -0.283 | N11: 3.
A12: 2300 General Administration | C12: 4. | D12: =[1]!F001P100F2300Personnel -> 3 | E12: 3 | F12: 300000 | G12: 91000 | H12: 65000 | I12: 15000 | J12: 15000 | K12: =[1]!F001P100F2300 -> 708000 | L12: =SUM(F12:J12) -> 486000 | M12: =IF(K12=L12,0,IF(K12>0,(L12-K12)/K12,"")) -> -0.314 | N12: 4.
A13: 2400 School Administration | C13: 5. | D13: =[1]!F001P100F2400Personnel -> 6 | E13: 4 | F13: 275000 | G13: 96000 | H13: 46743 | I13: 20000 | K13: =[1]!F001P100F2400 -> 494743 | L13: =SUM(F13:J13) -> 437743 | M13: =IF(K13=L13,0,IF(K13>0,(L13-K13)/K13,"")) -> -0.115 | N13: 5.
A14: 2500 Central Services | C14: 6. | D14: =[1]!F001P100F2500Personnel -> 7.5 | E14: 5 | F14: 365000 | G14: 124000 | H14: 50000 | I14: 25000 | J14: 10000 | K14: =[1]!F001P100F2500 -> 1361793 | L14: =SUM(F14:J14) -> 574000 | M14: =IF(K14=L14,0,IF(K14>0,(L14-K14)/K14,"")) -> -0.578 | N14: 6.
A15: 2600 Operation & Maintenance of Plant | C15: 7. | D15: =[1]!F001P100F2600Personnel -> 17.5 | E15: 15 | F15: 610000 | G15: 275000 | H15: 700000 | I15: 800000 | J15: 8000 | K15: =[1]!F001P100F2600 -> 3677250 | L15: =SUM(F15:J15) -> 2393000 | M15: =IF(K15=L15,0,IF(K15>0,(L15-K15)/K15,"")) -> -0.349 | N15: 7.
A16: 2900 Other | C16: 8. | D16: =[1]!F001P100F2900Personnel -> 0 | K16: =[1]!F001P100F2900 -> 0 | L16: =SUM(F16:J16) -> 0 | M16: =IF(K16=L16,0,IF(K16>0,(L16-K16)/K16,"")) -> 0 | N16: 8.
A17: 3000 Operation of Noninstructional Services | C17: 9. | D17: =[1]!F001P100F3000Personnel -> 0 | I17: 10000 | J17: 20750 | K17: =[1]!F001P100F3000 -> 30750 | L17: =SUM(F17:J17) -> 30750 | M17: =IF(K17=L17,0,IF(K17>0,(L17-K17)/K17,"")) -> 0 | N17: 9.
A18: 610 School-Sponsored Cocurricular Activities | C18: 10. | D18: =[1]!F001P610Personnel -> 0 | K18: =[1]!F001P610 -> 0 | L18: =SUM(F18:J18) -> 0 | M18: =IF(K18=L18,0,IF(K18>0,(L18-K18)/K18,"")) -> 0 | N18: 10.
A19: 620 School-Sponsored Athletics | C19: 11. | D19: =[1]!F001P620Personnel -> 5 | E19: 5 | F19: 20000 | G19: 5000 | I19: 15000 | J19: 5000 | K19: =[1]!F001P620 -> 115000 | L19: =SUM(F19:J19) -> 45000 | M19: =IF(K19=L19,0,IF(K19>0,(L19-K19)/K19,"")) -> -0.609 | N19: 11.
A20: 630 Other Instructional Programs | C20: 12. | D20: =[1]!F001P630Personnel -> 0 | K20: =[1]!F001P630 -> 0 | L20: =SUM(F20:J20) -> 0 | M20: =IF(K20=L20,0,IF(K20>0,(L20-K20)/K20,"")) -> 0 | N20: 12.
A21: 700, 800, 900 Other Programs | C21: 13. | D21: =[1]!F001P700800900Personnel -> 0 | K21: =[1]!F001P700800900 -> 0 | L21: =SUM(F21:J21) -> 0 | M21: =IF(K21=L21,0,IF(K21>0,(L21-K21)/K21,"")) -> 0 | N21: 13.
A22: Regular Education Subsection Subtotal (lines 1-13) | C22: 14. | D22: =SUM(D8:D21) -> 99 | E22: =E8+SUM(E10:E21) -> 91.5 | F22: =F8+SUM(F10:F21) -> 4605734 | G22: =G8+SUM(G10:G21) -> 1771409 | H22: =H8+SUM(H10:H21) -> 936743 | I22: =I8+SUM(I10:I21) -> 930000 | J22: =J8+SUM(J10:J21) -> 59750 | K22: =SUM(K8:K21) -> 12144217 | L22: =SUM(L8:L21) -> 8303636 | M22: =IF(K22=L22,0,IF(K22>0,(L22-K22)/K22,"")) -> -0.316 | N22: 14.
A23: 200 and 300 Special Education
A24: 1000 Instruction | C24: 15. | D24: =[1]!F001P200F1000Personnel -> 11.5 | E24: 11.5 | F24: 345000 | G24: 131000 | H24: 750000 | I24: 5000 | K24: =[1]!F001P200F1000 -> 1231000 | L24: =SUM(F24:J24) -> 1231000 | M24: =IF(K24=L24,0,IF(K24>0,(L24-K24)/K24,"")) -> 0 | N24: 15.
A25: 2000 Support Services
A26: 2100 Students | C26: 16. | D26: =[1]!F001P200F2100Personnel -> 3 | E26: 3 | F26: 310000 | G26: 93000 | H26: 107916 | I26: 5000 | J26: 1000 | K26: =[1]!F001P200F2100 -> 516916 | L26: =SUM(F26:J26) -> 516916 | M26: =IF(K26=L26,0,IF(K26>0,(L26-K26)/K26,"")) -> 0 | N26: 16.
A27: 2200 Instructional Staff | C27: 17. | D27: =[1]!F001P200F2200Personnel -> 1 | E27: 1 | F27: 97850 | G27: 30462 | H27: 2500 | J27: 1000 | K27: =[1]!F001P200F2200 -> 131812 | L27: =SUM(F27:J27) -> 131812 | M27: =IF(K27=L27,0,IF(K27>0,(L27-K27)/K27,"")) -> 0 | N27: 17.
A28: 2300 General Administration | C28: 18. | D28: =[1]!F001P200F2300Personnel -> 0 | E28: 0 | K28: =[2]!F001P200F2300 -> 0 | L28: =SUM(F28:J28) -> 0 | M28: =IF(K28=L28,0,IF(K28>0,(L28-K28)/K28,"")) -> 0 | N28: 18.
A29: 2400 School Administration | C29: 19. | D29: =[1]!F001P200F2400Personnel -> 0 | E29: 0 | K29: =[2]!F001P200F2400 -> 0 | L29: =SUM(F29:J29) -> 0 | M29: =IF(K29=L29,0,IF(K29>0,(L29-K29)/K29,"")) -> 0 | N29: 19.
A30: 2500 Central Services | C30: 20. | D30: =[1]!F001P200F2500Personnel -> 0 | E30: 0 | H30: 4000 | K30: =[1]!F001P200F2500 -> 4000 | L30: =SUM(F30:J30) -> 4000 | M30: =IF(K30=L30,0,IF(K30>0,(L30-K30)/K30,"")) -> 0 | N30: 20.
A31: 2600 Operation & Maintenance of Plant | C31: 21. | D31: =[1]!F001P200F2600Personnel -> 0 | E31: 0 | K31: =[2]!F001P200F2600 -> 0 | L31: =SUM(F31:J31) -> 0 | M31: =IF(K31=L31,0,IF(K31>0,(L31-K31)/K31,"")) -> 0 | N31: 21.
A32: 2900 Other | C32: 22. | D32: =[1]!F001P200F2900Personnel -> 0 | E32: 0 | K32: =[2]!F001P200F2900 -> 0 | L32: =SUM(F32:J32) -> 0 | M32: =IF(K32=L32,0,IF(K32>0,(L32-K32)/K32,"")) -> 0 | N32: 22.
A33: 3000 Operation of Noninstructional Services | C33: 23. | D33: =[1]!F001P200F3000Personnel -> 0 | E33: 0 | K33: =[2]!F001P200F3000 -> 0 | L33: =SUM(F33:J33) -> 0 | M33: =IF(K33=L33,0,IF(K33>0,(L33-K33)/K33,"")) -> 0 | N33: 23.
A34: Subtotal (lines 15-23) | C34: 24. | D34: =SUM(D24:D33) -> 15.5 | E34: =E24+SUM(E26:E33) -> 15.5 | F34: =F24+SUM(F26:F33) -> 752850 | G34: =G24+SUM(G26:G33) -> 254462 | H34: =H24+SUM(H26:H33) -> 864416 | I34: =I24+SUM(I26:I33) -> 10000 | J34: =J24+SUM(J26:J33) -> 2000 | K34: =SUM(K24:K33) -> 1883728 | L34: =SUM(L24:L33) -> 1883728 | M34: =IF(K34=L34,0,IF(K34>0,(L34-K34)/K34,"")) -> 0 | N34: 24.
A35: 400 Pupil Transportation | C35: 25. | D35: =[1]!F001P400Personnel -> 6 | E35: 6 | F35: 220000 | G35: 105000 | H35: 500000 | I35: 50000 | K35: =[1]!F001P400 -> 2400000 | L35: =SUM(F35:J35) -> 875000 | M35: =IF(K35=L35,0,IF(K35>0,(L35-K35)/K35,"")) -> -0.635 | N35: 25.
A36: 510 Desegregation (from Districtwide Desegregation
A37: Budget, page 2, line 44) | C37: 26. | D37: =[3]!DesegFTEPY -> 0 | E37: =[4]!DesegFTEBY -> 0 | F37: =[4]!DesegTotalMOO6100 -> 0 | G37: =[4]!DesegTotalMOO6200 -> 0 | H37: =[4]!DesegTotalMOO630064006500 -> 0 | I37: =[4]!DesegTotalMOO6600 -> 0 | J37: =[4]!DesegTotalMOO6800 -> 0 | K37: =[4]!DesegTotalMOPY -> 0 | L37: =[4]!DesegTotalMOBY -> 0 | M37: =[3]!DesegTotalMOPercent -> 0 | N37: 26.
A38: 530 Dropout Prevention Programs | C38: 27. | D38: =[1]!F001P530Personnel -> 0 | K38: =[2]!F001P530 -> 0 | L38: =SUM(F38:J38) -> 0 | M38: =IF(K38=L38,0,IF(K38>0,(L38-K38)/K38,"")) -> 0 | N38: 27.
A39: 540 Joint Career and Technical Education and Vocational
A40: Education Center | C40: 28. | D40: =[1]!F001P540Personnel -> 0 | E40: 0 | F40: 0 | G40: 0 | H40: 0 | I40: 0 | J40: 0 | K40: =[2]!F001P540 -> 0 | L40: =SUM(F40:J40) -> 0 | M40: =IF(K40=L40,0,IF(K40>0,(L40-K40)/K40,"")) -> 0 | N40: 28.
...

Sheet Page 2
A1: District name | C1: =DistrictName -> Murphy Elementary School District #21 | H1: County | I1: =Cover!H1 -> Maricopa | N1: CTD number | O1: =CTD -> 070421000 | Q1: Version | R1: =Cover!C8 -> Proposed
A4: Special education programs by type (M&O Fund Programs 200 and 300)
A6: (A.R.S. §§ 15-761 and 15-903) | F6: Prior FY | G6: Budget FY
A7: 1. | B7: Total all disability classifications | F7: =[1]!F001P200Subtotal -> 1818728 | G7: 1818728 | H7: 1. | K7: Expenditures budgeted for audit services
A8: 2. | B8: Gifted Education | F8: =[1]!SPEDGiftedEdBudgFY -> 0 | H8: 2. | K8: M&O Fund - Nonfederal | N8: 6350 | O8: 49000
A9: 3. | B9: Remedial Education | F9: =[1]!SPEDRemedialEdBudgFY -> 0 | H9: 3. | K9: All Funds - Federal | N9: 6330 | O9: 4300
A10: 4. | B10: ELL Incremental Costs | F10: =[1]!SPEDELLIncCostBudgFY -> 0 | H10: 4.
A11: 5. | B11: ELL Compensatory Instruction | F11: =[1]!SPEDELLCompInstrBudgFY -> 65000 | G11: 65000 | H11: 5.
A12: 6. | B12: Vocational and Technical Education (non-CTED) | F12: =[1]!SPEDVocTechEdBudgFY -> 0 | H12: 6. | K12: FY 2026 Performance Pay (A.R.S. Section 15-920)
A13: 7. | B13: Career Education (non-CTED) | F13: =[1]!SPEDCareerEdBudgFY -> 0 | H13: 7. | K13: Amount Budgeted in M&O Fund for a Performance Pay Component | R13: 0
A14: 8. | B14: Career Technical Education (CTED) | F14: =[1]!JTEDBudgFY -> 0 | H14: 8. | I14: =IF(SUM(G7:G14)=SUM('Page 1'!L34:L34),"","Invalid. The amount should equal the total budgeted amount reported on line 24, page 1.")
A15: 9. | B15: Total (lines 1 through 8. Must equal | K15: Do not report budgeted amounts for the Performance Pay Component of the Classroom Site Fund on this line.
B16: total of line 24, page 1) | F16: =SUM(F7:F14) -> 1883728 | G16: =SUM(G7:G14) -> 1883728 | H16: 9.
A18: 10. | B18: IEP required pupil transportation costs | K18: Expenditures budgeted in the M&O Fund for food service
B19: coded within Program 400 | F19: {=[1]!IEPTransportCosts} -> 0 | H19: 10. | K19: Amount budgeted in M&O for Food Service (Fund 001, Function 3100) | R19: 36048
K20: (This amount will be used to determine district compliance with state matching
K21: requirements pursuant to Code of Federal Regulations (CFR) Title 7, §210.17(a)]
A22: Proposed ratios for special education
A23: (A.R.S. §§15-903.E.1 and 15-764.A.5) | F23: Teacher-Pupil 1 to | G23: =SPEDTeacher -> 31
F24: Staff-Pupil 1 to | G24: =SPEDStaff -> 10

Sheet Page 3
A1: District name | B1: =DistrictName -> Murphy Elementary School District #21 | F1: County | G1: =Cover!H1 -> Maricopa | J1: CTD number | K1: =Cover!S1 -> 070421000 | M1: Version | N1: =Cover!C8 -> Proposed
A2: Fund 010 (CSF) | D2: Classroom Site Fund (CSF) and CSF Budget Limit (A.R.S. §§ 15-977 and 15-978)
I3: Debt service | J3: Totals | L3: %
A4: Expenditures | D4: Salaries | E4: Employee benefits | F4: Purchased services | G4: Supplies | H4: Property | I4: and miscellaneous | J4: Prior FY | K4: Budget FY | L4: Increase/
D5: 6100 | E5: 6200 | F5: 6300, 6400, 6500 | G5: 6600 | H5: 6700 | I5: 6800 | J5: =PriorFiscalYear -> 2025 | K5: =Cover!E3 -> 2026 | L5: Decrease
A6: 1000 Instruction | C6: 1. | D6: 810000 | E6: 168000 | F6: 30000 | G6: 28526 | J6: {=[1]!F010F1000} -> 1154134 | K6: =SUM(D6:I6) -> 1036526 | L6: =IF(J6=K6,0,IF(J6>0,(K6-J6)/J6,"")) -> -0.102 | M6: 1.
A7: 2100 Support services - students | C7: 2. | D7: 50000 | E7: 40000 | F7: 45000 | G7: 22500 | J7: {=[1]!F010F2100} -> 923230 | K7: =SUM(D7:I7) -> 157500 | L7: =IF(J7=K7,0,IF(J7>0,(K7-J7)/J7,"")) -> -0.829 | M7: 2.
A8: 2200 Support services - instructional staff | C8: 3. | J8: {=[1]!F010F2200} -> 0 | K8: =SUM(D8:I8) -> 0 | L8: =IF(J8=K8,0,IF(J8>0,(K8-J8)/J8,"")) -> 0 | M8: 3.
A9: 2300 Support services - general administration | C9: 4. | J9: {=[1]!F010F2310} -> 0 | K9: =SUM(D9:I9) -> 0 | L9: =IF(J9=K9,0,IF(J9>0,(K9-J9)/J9,"")) -> 0 | M9: 4.
A10: 2500 Central services | C10: 5. | J10: {=[1]!F010F2510} -> 0 | K10: =SUM(D10:I10) -> 0 | L10: =IF(J10=K10,0,IF(J10>0,(K10-J10)/J10,"")) -> 0 | M10: 5.
A11: 3300 Community services Ooerations | C11: 6. | J11: {=[1]!F010F3300} -> 0 | K11: =SUM(D11:I11) -> 0 | L11: =IF(J11=K11,0,IF(J11>0,(K11-J11)/J11,"")) -> 0 | M11: 6.
A12: 4000 Facilities acquisition and construction | C12: 7. | J12: {=[1]!F010F4000} -> 0 | K12: =SUM(D12:I12) -> 0 | M12: 7.
A13: 5000 Debt service | C13: 8. | J13: {=[1]!F010F5000} -> 0 | K13: =SUM(D13:I13) -> 0 | M13: 8.
A14: Budgeted expenditures (lines 1-8) | C14: 9. | D14: =SUM(D6:D13) -> 860000 | E14: =SUM(E6:E13) -> 208000 | F14: =SUM(F6:F13) -> 75000 | G14: =SUM(G6:G13) -> 51026 | H14: =SUM(H6:H13) -> 0 | I14: =SUM(I6:I13) -> 0 | J14: =SUM(J6:J13) -> 2077364 | K14: =SUM(K6:K13) -> 1194026 | L14: =IF(J14=K14,0,IF(J14>0,(K14-J14)/J14,"")) -> -0.425 | M14: 9.
A15: Maintained for spending after FY 2026 (budgeted carryforward) | C15: 10. | K15: 950000 | M15: 10.
A16: Total budget limit expenditures (lines 10-11) | C16: 11. | D16: =D14 -> 860000 | E16: =E14 -> 208000 | F16: =F14 -> 75000 | G16: =G14 -> 51026 | H16: =H14 -> 0 | I16: =I14 -> 0 | J16: =F010TotalExpPY -> 2077364 | K16: =F010TotalExp+F010Carryforward -> 2144026 | L16: =IF(J16=K16,0,IF(J16>0,(K16-J16)/J16,"")) -> 0.032 | M16: 11.
L17: =IF(ROUND(K16,0)<ROUND(CSFBLBudgFY,0),CONCATENATE("The district has budgeted an amount in Fund 010 which is less than the Classroom Site Fund Budget Limit as calculated below by ",TEXT(CSFBLBudgFY-K16,"$#,###"),"."),IF(ROUND(K16,0)>ROUND(CSFBLBudgFY,0),CONCATENATE("The district has budgeted greater in Fund 010 than the Classroom Site Fund Budget Limit as calculated below by ",TEXT(-CSFBLBudgFY+K16,"$#,###"),"."),IF(ROUND(K16,0)=ROUND(CSFBLBudgFY,0),CONCATENATE("The district has budgeted an amount in Fund 010 equal to the Classroom Site Fund Budget Limit as calculated below.")))) -> The district has budgeted an amount in Fund 010 equal to the Classroom Site Fund Budget Limit as calculated below.
A31: Classroom Site Fund Budget Limit Calculation
A32: FY 2025 Classroom Site Fund Budget Limit (from FY 2025 latest revised Budget, page 3, line 16) | C32: 12. | D32: {='[1]Page 3'!CSFBLBudgFY} -> 2077364
A33: FY 2025 Actual expenditures (For budget adoption use actual expenditures to date plus estimated expenditures through fiscal year-end.) | C33: 13. | D33: 907498 | E33: =IF(AND(CSFBLCurrFY<>0,CSFActualCurrFY=""),"Please enter prior year CSF actual expenditures on line 11.","")
A34: Unexpended Budget Balance (line 12 minus 13) | C34: 14. | D34: =D32-D33 -> 1169866
A35: Interest earned in the Classroom Site Fund in FY 2025 | C35: 15. | D35: 34864
A36: FY 2026 Classroom Site Fund allocation, provided by ADE based on: | B36: =CSFAllocation -> 842 | C36: 16. | D36: 939296
A37: Adjustments to FY 2026 Classroom Site Fund Budget Limit (1) | C37: 17.
A39: FY 2026 Classroom Site Fund Budget Limit (Sum of lines 12 through 17) (2) | C39: 18. | D39: =SUM(D34:D37) -> 2144026
A41: (1) This line may be used to recapture lost CSF budget capacity that resulted from underbudgeting in prior fiscal years.
A42: (2) The amounts budgeted on line 11 cannot exceed the respective amounts on this line.

Sheet Page 4
A1: District name | B1: =DistrictName -> Murphy Elementary School District #21 | G1: County | H1: =Cover!H1 -> Maricopa | K1: CTD number | L1: =Cover!S1 -> 070421000 | M1: Version | N1: =Cover!C8 -> Proposed
A3: Fund 610 (UCO) | D3: Unrestricted Capital Outlay (UCO) Fund
D4: Rentals | E4: Library books, textbooks, | F4: Short-term noninstructional software subscription | G4: Property (2) | H4: Redemption of principal (3) | I4: Interest (4) | K4: Totals
E5: & instructional | J5: All other | K5: Prior | L5: Budget | M5: %
A6: Expenditures | E6: aids (2) | J6: object codes | K6: FY | L6: FY | M6: Increase/
D7: 6440 | E7: 6641-6643 | F7: 6655 | G7: 6700 | H7: 6831, 6832, 6833 | I7: 6841, 6842, 6843, 6850 | J7: (excluding 6900) | K7: =PriorFiscalYear -> 2025 | L7: =Cover!E3 -> 2026 | M7: Decrease
A8: Unrestricted Capital Outlay Override (1) | C8: 1. | E8: 200000 | F8: 10000 | G8: 290000 | K8: =[1]!F610Override -> 500000 | L8: =SUM(D8:J8) -> 500000 | M8: =IF(K8=L8,0,IF(K8>0,(L8-K8)/K8,"")) -> 0 | N8: 1.
A9: Unrestricted Capital Outlay Fund 610 (6)
A10: 1000 Instruction | C10: 2. | E10: 50000 | G10: 150000 | K10: =[1]!F610F1000 -> 419396 | L10: =SUM(D10:J10) -> 200000 | M10: =IF(K10=L10,0,IF(K10>0,(L10-K10)/K10,"")) -> -0.523 | N10: 2.
A11: 2000 Support Services
A12: 2100, 2200 Students and Instructional Staff | C12: 3. | F12: 35000 | G12: 150000 | K12: =[1]!F610F21002200 -> 235000 | L12: =SUM(D12:J12) -> 185000 | M12: =IF(K12=L12,0,IF(K12>0,(L12-K12)/K12,"")) -> -0.213 | N12: 3.
A13: 2300, 2400, 2500, 2900 Administration | C13: 4. | F13: 30000 | G13: 243960 | K13: =[1]!F610F2300240025002900 -> 240000 | L13: =SUM(D13:J13) -> 273960 | M13: =IF(K13=L13,0,IF(K13>0,(L13-K13)/K13,"")) -> 0.142 | N13: 4.
A14: 2600 Operation & Maintenance of Plant | C14: 5. | G14: 150000 | K14: =[1]!F610F2600 -> 365856 | L14: =SUM(D14:J14) -> 150000 | M14: =IF(K14=L14,0,IF(K14>0,(L14-K14)/K14,"")) -> -0.59 | N14: 5.
A15: 2700 Student Transportation | C15: 6. | G15: 370000 | K15: =[1]!F610F2700 -> 360660 | L15: =SUM(D15:J15) -> 370000 | M15: =IF(K15=L15,0,IF(K15>0,(L15-K15)/K15,"")) -> 0.026 | N15: 6.
A16: 3000 Operation of Noninstructional Services (5) | C16: 7. | K16: =[1]!F610F3000 -> 322000 | L16: =SUM(D16:J16) -> 0 | M16: =IF(K16=L16,0,IF(K16>0,(L16-K16)/K16,"")) -> -1 | N16: 7.
A17: 4000 Facilities Acquisition and Construction | C17: 8. | G17: 100000 | K17: =[1]!F610F4000 -> 350000 | L17: =SUM(D17:J17) -> 100000 | M17: =IF(K17=L17,0,IF(K17>0,(L17-K17)/K17,"")) -> -0.714 | N17: 8.
A18: 5000 Debt Service | C18: 9. | K18: =[1]!F610F5000 -> 0 | L18: =SUM(D18:J18) -> 0 | M18: =IF(K18=L18,0,IF(K18>0,(L18-K18)/K18,"")) -> 0 | N18: 9.
A19: Budgeted expenditures (lines 2-9) | C19: 10. | D19: =D10+SUM(D12:D18) -> 0 | E19: =E10+SUM(E12:E18) -> 50000 | F19: =F10+SUM(F12:F18) -> 65000 | G19: =G10+SUM(G12:G18) -> 1163960 | H19: =H10+SUM(H12:H18) -> 0 | I19: =I10+SUM(I12:I18) -> 0 | J19: =J10+SUM(J12:J18) -> 0 | K19: =K10+SUM(K12:K18) -> 2292912 | L19: =L10+SUM(L12:L18) -> 1278960 | M19: =IF(K19=L19,0,IF(K19>0,(L19-K19)/K19,"")) -> -0.442 | N19: 10.
A20: Maintained for spending after FY 2026 (budgeted carryforward) | C20: 11. | L20: 326392 | N20: 11.
A21: Total budget limit expenditures (lines 10-11) (Cannot exceed page 8, line 12) | C21: 12. | D21: =D19 -> 0 | E21: =E19 -> 50000 | F21: =F19 -> 65000 | G21: =G19 -> 1163960 | H21: =H19 -> 0 | I21: =I19 -> 0 | J21: =J19 -> 0 | K21: =K19 -> 2292912 | L21: =F610TotalBudgFY+F610Carryforward -> 1605352 | M21: =IF(K21=L21,0,IF(K21>0,(L21-K21)/K21,"")) -> -0.3 | N21: 12.
F22: =IF(ROUND('Page 4'!L21,0)<ROUND('Page 8'!K32,0),CONCATENATE("The district has budgeted an amount in the UCO Fund which is less than the Unrestricted Capital Budget Limit as calculated on Page 8 of 8 by ",TEXT('Page 8'!K32-'Page 4'!L21,"$#,###"),"."),IF(ROUND('Page 4'!L21,0)>ROUND('Page 8'!K32,0),CONCATENATE("The district has budgeted greater in the UCO Fund than the Unrestricted Capital Budget Limit as calculated on Page 8 of 8 by ",TEXT(-'Page 8'!K32+'Page 4'!L21,"$#,###"),"."),IF(ROUND('Page 4'!L21,0)=ROUND('Page 8'!K32,0),CONCATENATE("The district has budgeted an amount in the UCO Fund equal to the Unrestricted Capital Budget Limit as calculated on Page 8 of 8.")))) -> The district has budgeted an amount in the UCO Fund equal to the Unrestricted Capital Budget Limit as calculated on Page 8 of 8.
A24: (1) Amounts in the Unrestricted Capital Outlay Override line 1 above must be included in the appropriate individual line items for Fund 610 and in the budget year total column. | E24: (5) | F24: Expenditures budgeted in Unrestricted Capital Outlay (UCO) Fund for food service
F26: Enter the amount budgeted in UCO for food service [amount will be used to determine district
F27: compliance with state matching requirements pursuant to CFR Title 7, §210.17(a)]
A28: (2) Detail by object code:
B29: Unrestricted Capital Outlay
A31: 6641 Library Books | B31: 25000 | E31: (6) | F31: Expenditures, if any, budgeted in the Unrestricted Capital Outlay Fund on lines 2-9 for the K-3 Reading Program as described in A.R.S. §15-211.
A32: 6642 Textbooks | B32: 93960
A33: 6643 Instructional Aids | B33: 125000
A34: 673X Furniture and Equipment | B34: 350000
A35: 673X Vehicles | B35: 370000
A36: 673X Tech Hardware & Software | B36: 641392
A38: (3) Includes principal on Capital Equity Fund loans of | E38: , principal on leases of | H38: , and principal on bonds of | K38: .
A40: (4) Includes interest on Capital Equity Fund loans of | E40: , interest on leases of | H40: , and interest on bonds of | K40: .

Sheet Page 5
A1: District name | B1: =DistrictName -> Murphy Elementary School District #21 | G1: County | H1: =Cover!H1 -> Maricopa | J1: CTD number | K1: =Cover!S1 -> 070421000 | M1: Version | N1: =Cover!C8 -> Proposed
A3: Other funds—required capital expenditure detail [(A.R.S. §15-904.(B)]
D5: Unrestricted Capital Outlay | F5: Bond Building | H5: New School Facilities | J5: Adjacent Ways
A6: Expenditures | D6: Fund 610 | F6: Fund 630 | H6: Fund 695 | J6: Fund 620 (2)
D7: Prior FY | E7: Budget FY | F7: Prior FY | G7: Budget FY | H7: Prior FY | I7: Budget FY | J7: Prior FY | K7: Budget FY
A8: Total Fund Expenditures | C8: 1. | D8: =F610TotalCurrFY -> 2292912 | E8: =F610TotalBudgFY -> 1278960 | F8: =[1]!F630TotalBudgFY -> 0 | H8: =[1]!F695TotalBudgFY -> 0 | J8: =[1]!F620TotalBudgFY -> 900000 | K8: 900000 | L8: 1.
A9: Select Object Codes Detail (1)
A10: 6150 Classified Salaries | C10: 2. | D10: =[1]!F610BudgFYO6150 -> 0 | F10: =[1]!F630BudgFYO6150 -> 0 | H10: =[1]!F695BudgFYO6150 -> 0 | J10: =[1]!F620BudgFYO6150 -> 0 | L10: 2.
A11: 6200 Employee Benefits | C11: 3. | D11: =[1]!F610BudgFYO6200 -> 0 | F11: =[1]!F630BudgFYO6200 -> 0 | H11: =[1]!F695BudgFYO6200 -> 0 | J11: =[1]!F620BudgFYO6200 -> 0 | L11: 3.
A12: 6450 Construction Services | C12: 4. | D12: =[1]!F610BudgFYO6450 -> 0 | F12: =[1]!F630BudgFYO6450 -> 0 | H12: =[1]!F695BudgFYO6450 -> 0 | J12: =[1]!F620BudgFYO6450 -> 0 | L12: 4.
A13: 6655 Short-term Noninstructional Software Subscription | C13: 5. | L13: 5.
A14: 6710 Land and Improvements | C14: 6. | D14: =[1]!F610BudgFYO6710 -> 0 | F14: =[1]!F630BudgFYO6710 -> 0 | H14: =[1]!F695BudgFYO6710 -> 0 | J14: =[1]!F620BudgFYO6710 -> 0 | L14: 6.
A15: 6720 Buildings and Improvements | C15: 7. | D15: =[1]!F610BudgFYO6720 -> 0 | F15: =[1]!F630BudgFYO6720 -> 0 | H15: =[1]!F695BudgFYO6720 -> 0 | J15: =[1]!F620BudgFYO6720 -> 900000 | K15: 900000 | L15: 7.
A16: 673X Furniture and Equipment | C16: 8. | D16: =[1]!F610BudgFYO6731 -> 481185 | E16: =F610O6731 -> 350000 | F16: =[1]!F630BudgFYO6731 -> 0 | H16: =[1]!F695BudgFYO6731 -> 0 | J16: =[1]!F620BudgFYO6731 | L16: 8.
A17: 673X Vehicles | C17: 9. | D17: =[1]!F610BudgFYO6734 -> 700000 | E17: =F610O6734 -> 370000 | F17: =[1]!F630BudgFYO6734 -> 0 | H17: =[1]!F695BudgFYO6734 -> 0 | J17: =[1]!F620BudgFYO6734 -> 0 | L17: 9.
A18: 673X Technology Hardware & Software | C18: 10. | D18: =[1]!F610BudgFYO6737 -> 300000 | E18: =F610O6737 -> 641392 | F18: =[1]!F630BudgFYO6737 -> 0 | H18: =[1]!F695BudgFYO6737 -> 0 | J18: =[1]!F620BudgFYO6737 -> 0 | L18: 10.
A19: 6831, 6832, 6833 Redemption of Principal | C19: 11. | D19: =[1]!F610BudgFYO6831 -> 0 | F19: =[1]!F630BudgFYO6831 -> 0 | H19: =[1]!F695BudgFYO6831 -> 0 | J19: =[1]!F620BudgFYO6831 -> 0 | L19: 11.
A20: 6841, 6842, 6843, 6850, 6860 Interest and Debt-Issuance Costs | C20: 12. | D20: =[1]!F610BudgFYO6841 -> 0 | F20: =[1]!F630BudgFYO6841 -> 0 | H20: =[1]!F695BudgFYO6841 -> 0 | J20: =[1]!F620BudgFYO6841 -> 0 | L20: 12.
A21: Total (lines 2-12) | C21: 13. | D21: =SUM(D10:D20) -> 1481185 | E21: =SUM(E10:E20) -> 1361392 | F21: =SUM(F10:F20) -> 0 | G21: =SUM(G10:G20) -> 0 | H21: =SUM(H10:H20) -> 0 | I21: =SUM(I10:I20) -> 0 | J21: =SUM(J10:J20) -> 900000 | K21: =SUM(K10:K20) -> 900000 | L21: 13.
A22: Total amounts reported on lines 2-12 above for:
A23: Renovation | C23: 14. | D23: =[1]!F610BudgFYRenovation -> 350000 | E23: 350000 | F23: =[1]!F630BudgFYRenovation -> 0 | J23: =[1]!F620BudgFYRenovation -> 600000 | K23: 600000 | L23: 14.
A24: New Construction | C24: 15. | D24: =[1]!F610BudgFYNewConstruction -> 0 | F24: =[1]!F630BudgFYNewConstruction -> 0 | H24: =[1]!F695BudgFYNewConstruction -> 0 | J24: =[1]!F620BudgFYNewConstruction -> 300000 | K24: 300000 | L24: 15.
A25: Other | C25: 16. | D25: =[1]!F610BudgFYOther -> 1131185 | E25: 1011392 | F25: =[1]!F630BudgFYOther -> 0 | H25: =[1]!F695BudgFYOther -> 0 | J25: =[1]!F620BudgFYOther -> 0 | L25: 16.
A26: Total (lines 14-16, must equal line 13) | C26: 17. | D26: =SUM(D23:D25) -> 1481185 | E26: =SUM(E23:E25) -> 1361392 | F26: =SUM(F23:F25) -> 0 | G26: =SUM(G23:G25) -> 0 | H26: =SUM(H24:H25) -> 0 | I26: =SUM(I24:I25) -> 0 | J26: =SUM(J23:J25) -> 900000 | K26: =SUM(K23:K25) -> 900000 | L26: 17.
E27: =IF(SUM(E23:E25)=E21,"","Check line 12") | G27: =IF(SUM(G23:G25)=G21,"","Check line 12") | I27: =IF(SUM(I24:I25)=I21,"","Check line 12") | K27: =IF(SUM(K23:K25)=K21,"","Check line 12")
A28: (1) Lines 2-12 may not include all budgeted expenditures of the fund. Total budgeted expenditures for each fund should be included on Line 1.
A29: (2) Amount budgeted on line 1 for the Adjacent Ways Fund that will result in a tax levy in FY 2026
A30: =IF((E29>0),"Districts that are levying any amount for adjacent ways must fill in the Truth in Taxation Worksheet and follow the requirements of A.R.S. Sec. 15-905.01. The amount reported in footnote 2 above pulls to the Truth in Taxation Worksheet, Line 12.","")

Sheet Page 6
C1: District name | D1: =DistrictName -> Murphy Elementary School District #21 | I1: County | J1: =Cover!H1 -> Maricopa | O1: CTD number | P1: =Cover!S1 -> 070421000 | S1: Version | T1: =Cover!C8 -> Proposed
B3: Special projects | M3: Other funds expenditures
S4: Prior FY | T4: Budget FY
F5: FTE | I5: Total all functions | M5: 1. | O5: 050 County, City, and Town Grants | S5: =[1]!F050BudgFY -> 0 | U5: 1.
A6: Federal projects FTE & expenditures | F6: Prior FY | G6: Budget FY | I6: Prior FY | J6: Budget FY | M6: 2. | O6: 071 English Language Learner (1) | S6: =F071CurrFY -> 0 | T6: =F071BudgFY -> 0 | U6: 2.
A7: 1. | C7: 100-130 ESEA Title I - Helping Disadvantaged Children | F7: =[1]!F100130Personnel -> 14 | I7: =[1]!F100130BudgFY -> 1481537 | J7: 1423472 | K7: 1. | M7: 3. | O7: 072 Compensatory Instruction (1) | S7: =F072CurrFY -> 0 | T7: =F072BudgFY -> 0 | U7: 3.
A8: 2. | C8: 140-150 ESEA Title II - Prof. Dev. and Technology | F8: =[1]!F140150Personnel -> 1 | I8: =[1]!F140150BudgFY -> 201758 | J8: 138366 | K8: 2. | M8: 4. | O8: 500 School Plant (2) | S8: =[1]!F500BudgFY -> 1000000 | T8: 500000 | U8: 4.
A9: 3. | C9: 160 ESEA Title IV - 21st Century Schools | F9: =[1]!F160Personnel -> 0 | I9: =[1]!F160BudgFY -> 0 | K9: 3. | M9: 5. | O9: 510 Food Service | S9: =[1]!F510BudgFY -> 1500000 | T9: 1600000 | U9: 5.
A10: 4. | C10: 170-180 ESEA Title V - Promote Informed Parent Choice | F10: =[1]!F170180Personnel -> 0 | I10: =[1]!F170180BudgFY -> 0 | K10: 4. | M10: 6. | O10: 515 Civic Center | S10: =[1]!F515BudgFY -> 35000 | T10: 150000 | U10: 6.
A11: 5. | C11: 190 ESEA Title III - Limited Eng. & Immigrant Students | F11: =[1]!F190Personnel -> 1 | I11: =[1]!F190BudgFY -> 105631 | J11: 106240 | K11: 5. | M11: 7. | O11: 520 Community School | S11: =[1]!F520BudgFY -> 2250 | T11: 2300 | U11: 7.
A12: 6. | C12: 200 ESEA Title VII - Indian Education | F12: =[1]!F200Personnel -> 0 | I12: =[1]!F200BudgFY -> 0 | K12: 6. | M12: 8. | O12: 525 Auxiliary Operations | S12: =[1]!F525BudgFY -> 1950 | T12: 2000 | U12: 8.
A13: 7. | C13: 210 ESEA Title VI - Flexibility and Accountability | F13: =[1]!F210Personnel -> 0 | I13: =[1]!F210BudgFY -> 0 | K13: 7. | M13: 9. | O13: 526 Extracurricular Activities Fees Tax Credit | S13: =[1]!F526BudgFY -> 102000 | T13: 102000 | U13: 9.
A14: 8. | C14: 220 IDEA Part B | F14: =[1]!F220Personnel -> 6 | I14: =[1]!F220BudgFY -> 436853 | J14: 416559 | K14: 8. | M14: 10. | O14: 530 Gifts and Donations | S14: =[1]!F530BudgFY -> 0 | T14: 0 | U14: 10.
A15: 9. | C15: 230 Johnson-O'Malley | F15: =[1]!F230Personnel -> 0 | I15: =[1]!F230BudgFY -> 0 | K15: 9. | M15: 11. | O15: 535 Career & Technical Education Projects | S15: =[1]!F535BudgFY -> 0 | T15: 0 | U15: 11.
A16: 10. | C16: 240 Workforce Investment Act | F16: =[1]!F240Personnel -> 0 | I16: =[1]!F240BudgFY -> 0 | K16: 10. | M16: 12. | O16: 540 Fingerprint | S16: =[1]!F540BudgFY -> 800 | T16: 800 | U16: 12.
A17: 11. | C17: 250 AEA - Adult Education | F17: =[1]!F250Personnel -> 0 | I17: =[1]!F250BudgFY -> 0 | K17: 11. | M17: 13. | O17: 545 School Opening | S17: =[1]!F545BudgFY -> 0 | T17: 0 | U17: 13.
A18: 12. | C18: 260-270 Vocational Education - Basic Grants | F18: =[1]!F260270Personnel -> 0 | I18: =[1]!F260270BudgFY -> 0 | K18: 12. | M18: 14. | O18: 550 Insurance Proceeds | S18: =[1]!F550BudgFY -> 57000 | T18: 25000 | U18: 14.
A19: 13. | C19: 280 ESEA Title X - Homeless Education | F19: =[1]!F280Personnel -> 0 | I19: =[1]!F280BudgFY -> 0 | K19: 13. | M19: 15. | O19: 555 Textbooks | S19: =[1]!F555BudgFY -> 11000 | T19: 11000 | U19: 15.
A20: 14. | C20: 290 Medicaid Reimbursement | F20: =[1]!F290Personnel -> 0 | I20: =[1]!F290BudgFY -> 0 | K20: 14. | M20: 16. | O20: 565 Litigation Recovery | S20: =[1]!F565BudgFY -> 450 | T20: 450 | U20: 16.
A21: 15. | C21: 349 National Forest Fees | F21: =[1]!F349Personnel -> 0 | I21: =[1]!F349BudFY -> 0 | K21: 15. | M21: 17. | O21: 570 Indirect Costs | S21: =[1]!F570BudgFY -> 1000000 | T21: 1000000 | U21: 17.
A22: 16. | C22: 353 Taylor Grazing Fees | F22: =[1]!F353Personnel -> 0 | I22: =[1]!F353BudgFY -> 0 | K22: 16. | M22: 18. | O22: 575 Unemployment Insurance | S22: =[1]!F575BudgFY -> 199000 | T22: 200000 | U22: 18.
A23: 17. | C23: 374 E-Rate | F23: =[1]!F374Personnel -> 0 | I23: =[1]!F374BudgFY -> 0 | K23: 17. | M23: 19. | O23: 580 Teacherage | S23: =[1]!F580BudgFY -> 0 | T23: 0 | U23: 19.
A24: 18. | C24: 378 Impact Aid | F24: =[1]!F378Personnel -> 0 | I24: =[1]!F378BudgFY -> 0 | K24: 18. | M24: 20. | O24: 585 Insurance Refund | S24: =[1]!F585BudgFY -> 0 | T24: 0 | U24: 20.
A25: 19. | C25: 300-399 Other Federal Projects | F25: =[1]!F300399OtherPersonnel -> 0 | I25: =[1]!F300399OtherBudgFY -> 1485731 | J25: 0 | K25: 19. | M25: 21. | O25: 590 Grants and Gifts to Teachers | S25: =[1]!F590BudgFY -> 0 | T25: 0 | U25: 21.
A26: 20. | C26: 699 Federal Impact Aid (Construction) | F26: =[1]!F699Personnel -> 0 | I26: =[1]!F699BudgFY -> 0 | K26: 20. | M26: 22. | O26: 595 Advertisement | S26: =[1]!F595BudgFY -> 0 | T26: 0 | U26: 22.
A27: 21. | C27: Total Federal Project Funds (lines 1-20) | F27: =SUM(F7:F25) -> 22 | G27: =SUM(G7:H25) -> 0 | I27: =SUM(I7:I25) -> 3711510 | J27: =SUM(J7:J25) -> 2084637 | K27: 21. | M27: 23. | O27: 596 Career Technical Education | S27: =[1]!F596BudgFY -> 0 | T27: 0 | U27: 23.
A28: State projects FTE & expenditures | M28: 24. | O28: 597 Arizona Industry Credentials Incentive | S28: =[1]!F597BudgFY -> 0 | T28: 0 | U28: 24
A29: 22. | C29: 400 Vocational Education | F29: =[1]!F400Personnel -> 0 | I29: =[1]!F400BudgFY -> 0 | K29: 22. | M29: 25. | O29: 639 Impact Aid Revenue Bond Building | S29: =[1]!F639BudgFY -> 0 | T29: 0 | U29: 25.
A30: 23. | C30: 410 Early Childhood Block Grant | F30: =[1]!F410Personnel -> 0 | I30: =[1]!F410BudgFY -> 0 | K30: 23. | M30: 26. | O30: 650 Gifts and Donations-Capital | S30: =[1]!F650BudgFY -> 17000 | T30: 2000 | U30: 26.
A31: 24. | C31: 420 Ext. School Yr. - Pupils with Disabilities | F31: =[1]!F420Personnel -> 0 | I31: =[1]!F420BudgFY -> 0 | K31: 24. | M31: 27. | O31: 660 Condemnation | S31: =[1]!F660BudgFY -> 0 | T31: 0 | U31: 27.
A32: 25. | C32: 425 Adult Basic Education | F32: =[1]!F425Personnel -> 0 | I32: =[1]!F425BudgFY -> 0 | K32: 25. | M32: 28. | O32: 665 Energy and Water Savings | S32: =[1]!F665BudgFY -> 0 | T32: 0 | U32: 28.
A33: 26. | C33: 430 Chemical Abuse Prevention Programs | F33: =[1]!F430Personnel -> 0 | I33: =[1]!F430BudgFY -> 0 | K33: 26. | M33: 29. | O33: 686 Emergency Deficiencies Correction | S33: =[1]!F686BudgFY -> 0 | T33: 0 | U33: 29.
A34: 27. | C34: 435 Academic Contests | F34: =[1]!F435Personnel -> 0 | I34: =[1]!F435BudgFY -> 0 | K34: 27. | M34: 30. | O34: 691 Building Renewal Grant | S34: =[1]!F691BudgFY -> 16582 | T34: 700 | U34: 30.
A35: 28. | C35: 450 Gifted Education | F35: =[1]!F450Personnel -> 0 | I35: =[1]!F450BudgFY -> 0 | K35: 28. | M35: 31. | O35: 700 Debt Service | S35: =[1]!F700BudgFY -> 922992 | T35: 850000 | U35: 31.
A36: 29. | C36: 456 College Credit Exam Incentives | F36: {=[1]!F456Personnel} -> 0 | I36: {=[1]!F456BudgFY} -> 0 | K36: 29. | M36: 32. | O36: 720 Impact Aid Revenue Bond Debt Service | S36: =[1]!F720BudgFY -> 0 | T36: 0 | U36: 32.
A37: 30. | C37: 460 Environmental Special Plate | F37: =[1]!F460Personnel -> 0 | I37: =[1]!F460BudgFY -> 0 | K37: 30. | M37: 33. | O37: 850 Student Activities | S37: =[1]!F850BudgFY -> 25000 | T37: 25000 | U37: 33.
A38: 31. | C38: Other State Projects | F38: =[1]!F465499Personnel -> 0 | I38: =[1]!F465499BudgFY -> 330330 | J38: 436819 | K38: 31. | M38: 34. | O38: Other Employee Medical Insurance | S38: =[1]!OtherFundsBudgFY -> 1200000 | T38: 1200000 | U38: 34.
A39: 32. | C39: Total State Project Funds (lines 22-31) | F39: =SUM(F29:F38) -> 0 | G39: =SUM(G29:H38) -> 0 | I39: =SUM(I29:I38) -> 330330 | J39: =SUM(J29:J38) -> 436819 | K39: 32. | O39: Internal Service Funds 950-989
A40: 33. | C40: Total Special Projects (lines 21 and 32) | F40: =F27+F39 -> 22 | G40: =G27+G39 -> 0 | I40: =I27+I39 -> 4041840 | J40: =J27+J39 -> 2521456 | K40: 33. | M40: 1. | O40: 9___ Self-Insurance | S40: =[1]!F9__SelfInsBudgFY -> 0 | T40: 0 | U40: 1.
M41: 2. | O41: 955 Intergovernmental Agreements | S41: =[1]!F955BudgFY -> 0 | T41: 0 | U41: 2.
...

Sheet Page 7
C1: District name | D1: =DistrictName -> Murphy Elementary School District #21 | F1: County | G1: =Cover!H1 -> Maricopa | L1: CTD number | M1: =Cover!S1 -> 070421000
L2: Version | M2: =Cover!C8 -> Proposed
A3: Calculation of FY 2026 General Budget Limit
A4: (A.R.S. §15-947.C)
J6: A. | M6: B.
J7: Maintenance | M7: Unrestricted
J8: and Operation | M8: Capital Outlay
A9: *1. | B9: FY 2026 Revenue Control Limit (RCL) | N9: =IF((H10-J10)>=0,"","The RCL amount allocated to the M&O Fund exceeds the calculated RCL amount.")
B10: (from BSA55 tab, page 3; includes FRPL and DAA onetime supplements) | G10: $ | H10: =RCL -> 7318545 | I10: $ | J10: 7318545 | L10: $ | M10: =IF((H10-J10)<0,"Error",H10-J10) -> 0
A14: *2. | B14: (a) | C14: FY 2026 District Additional Assistance (DAA) (from BSA55 tab, page 4) | G14: $ | H14: =PreAdjDAA -> 528154
B15: (b) | C15: DAA Adjustment (from BSA55 tab, page 4) | G15: $ | H15: =TotalDAAAdj -> 0 | N15: =IF((H17-J17)>=0,"","The DAA amount allocated to the M&O Fund exceeds the calculated DAA amount.")
B17: (c) | C17: Total DAA (line 2.a plus 2.b) | G17: $ | H17: =H14+H15 -> 528154 | M17: =IF((H17-J17)<0,"Error",H17-J17) -> 528154
A18: *3. | B18: FY 2026 Override Authorization (A.R.S. Sections 15-481 and 15-482 or 15-949 if small school adjustment phase down applies, see Calculations page, Calculation of Maximum Override for a District No Longer Eligible for a Small School Adjustment, line 6 and Calculation of Small School Adjustment Phase Down Limit, line 6) | AA18: Calculation of Maximum Override for a District No Longer Eligible for a Small School Adjustment, line 6 and Calculation of Small School Adjustment Phase Down Limit, line 6)
B19: (a) | C19: Maintenance and Operation | J19: 1150912
B20: (b) | C20: Unrestricted Capital Outlay | M20: 500000
B21: (c) | C21: Special Program
A22: *4. | B22: Small School Adjustment for Districts with a Student Count of 125 or less in K-8 or 100 or less in 9-12 (A.R.S. §15-949) (Up to $50,000 if no election is chosen for phase down, see Calculations page, Calculation of Small School Adjustment Phase Down Limit, line 6) | O22: =IF(AND('Data Entry'!J34>0,OR(AND(UnweightedStudCntK8PY>0,UnweightedStudCntK8PY<=125),AND(UnweightedStudCnt912PY>0,UnweightedStudCnt912PY<=100)),(AND(SSA_MO=0,SSA_UCO=0))),_xlfn.CONCAT("Reported FY ",TwoYearsPrior," ADM for K-8 and/or 9-12 is eligible for a small school adjustment. Amounts cannot be added or increased on line 4 after budget adoption."),"")
A24: *5. | B24: Tuition Revenue (A.R.S. §§15-823 and 15-824)
B25: (Do not include full-day kindergarten or summer school tuition)
B26: (a) | C26: Individuals and Other Private Sources
B27: (b) | C27: Other Arizona Districts
B28: (c) | C28: Out-of-State Districts and Other Governments
B29: (d) | C29: Certificates of Educational Convenience (A.R.S. §§15-825, 15-825.01, and 15-825.02)
A30: *6. | B30: State Assistance (A.R.S. §15-976) and Special Ed. Voucher Payments Received (A.R.S. §15-1204)
A31: *7. | B31: Increase Authorized by County School Superintendent for Accommodation Schools
B32: [not to exceed amount on Calculations page, Calculation of M&O Fund Budget Balance Carryforward, line 15(e)] (A.R.S. §15-974.B)
A33: 8. | B33: Budget Increase for:
B34: (a) | C34: Desegregation Expenditures (A.R.S. §15-910.G-K)
A35: * | B35: (b) | C35: Budget Balance Carryforward (from Calculations page, Calculation of M&O Fund Budget Balance Carryforward, line 13) (A.R.S. §15-943.01) | J35: =Calculations!R104 -> 7605032
B36: (c) | C36: Dropout Prevention Programs (Laws 1992, Ch. 305, §32 and Laws 2000, Ch. 398, §2)
B37: (d) | C37: Registered Warrant or Tax Anticipation Note Interest Expense Incurred in | N37: =IF(AND(OR(J38>0,M38>0),T37<>"X"),_xlfn.CONCAT("Districts with amounts on this line should have a FY ",TwoYearsPrior," Request Letter on file with ADE. Use the check box in T39 after verifying that ADE has the letter."),"")
C38: FY 2024 (A.R.S. Section 15-910.M, as amended by Laws 2022, Ch. 285, §3)
A39: * | B39: (e) | C39: Joint Career and Technical Education and Vocational Education Center (A.R.S. §15-910.01)
A40: * | B40: (f) | C40: FY 2025 Performance Pay Unexpended Budget Carryforward (from Calculation page,
C41: Calculation of M&O Fund Budget Balance Carryforward, line 10.e) (A.R.S. §15-920) | J41: =Calculations!R100 -> 0
B42: (g) | C42: Excessive Property Tax Assessed Valuation Judgments (A.R.S. §§42-16213 and 42-16214)
A43: * | B43: (h) | C43: Transportation Revenues for Attendance of Nonresident Pupils (A.R.S. §§15-923 and 15-947)
A44: *9. | B44: Adjustment to the General Budget Limit (A.R.S. §§15-272, 15-905.M, 15-910.02, and 15-915) Include year(s) and descriptions, as applicable.
B45: (a) | C45: Prior Year Over Expenditures/Resolutions:
B47: (b) | C47: Decrease for Transfer from M&O to Energy and Water Savings Fund
...

Sheet Page 8
A1: District name | E1: =DistrictName -> Murphy Elementary School District #21 | F1: County | G1: =Cover!H1 -> Maricopa | J1: CTD number | K1: =Cover!S1 -> 070421000
J2: Version | K2: =Cover!C8 -> Proposed
A3: Calculation of FY 2026 Unrestricted Capital Budget Limit (A.R.S. Section 15-947.D)
A6: Unrestricted Capital Budget Limit
B7: 1. | C7: FY 2025 Unrestricted Capital Budget Limit (UCBL)
C8: (from FY 2025 latest revised Budget, page 8, line 12) | J8: $ | K8: =[1]!UCBLBudgFY -> 2292912
B9: 2. | C9: Total UCBL Adjustment for prior years as notified by ADE on BUDG75 report (For budget
C10: adoption, use zero.) | J10: $
B11: 3. | C11: Adjusted Amount Available for FY 2025 Capital Expenditures (line 1 + 2) | J11: $ | K11: =K8+K10 -> 2292912
B12: 4. | C12: Amount Budgeted in Fund 610 in FY 2025
C13: (from FY 2025 latest revised Budget, page 4, line 10) | J13: $ | K13: =[1]!F610TotalBudgFY -> 2292912
B14: 5. | C14: Lesser of line 3 or the sum of line 4 and any positive adjustment on line 2 | J14: $ | K14: =IF(K10>0,MIN(K13+K10,K11),MIN(K11,K13)) -> 2292912
B15: 6. | C15: FY 2025 Fund 610 Actual Expenditures (For budget adoption use actual expenditures
C16: to date plus estimated expenditures through fiscal year-end.) | J16: $ | K16: 1759674
B17: 7. | C17: Unexpended Budget Balance in Fund 610 (line 5 minus 6) If negative, use zero in
C18: calculation, but show negative amount here in parentheses. | G18: =IF((K14-K16)<0,K14-K16,"") | H18: =IF(G18<0,"OVEREXPENDED"," ") | J18: $ | K18: =IF(K14-K16>0,K14-K16,0) -> 533238
B19: 8. | C19: Interest Earned in Fund 610 in FY 2025 | J19: $ | K19: 43960
B20: 9. | C20: Monies deposited in Fund 610 from Division of School Facilities for donated land (A.R.S. §41-5741.F) | J20: $
B22: 10. | C22: Adjustment to UCBL for FY 2026 (A.R.S. Section 15-905.M) Include year(s) and descriptions, as applicable.
C23: (a) | D23: Prior Year Over Expenditures/Resolutions:
J24: $
C27: (b) | D27: ADM/Transportation Audit Adjustment | J27: $
C28: (c) | D28: Other: | J28: $
B30: 11. | C30: Amount to be used for capital expenditures (from page 7, line 11) | J30: $ | K30: =TotAmtCapExped -> 1028154
B32: 12. | C32: FY 2026 Unrestricted Capital Budget Limit (lines 7 through 11) (1) | J32: $ | K32: =SUM(K18:K30) -> 1605352
A35: (1) | B35: The amount budgeted on page 4, line 10 cannot exceed this amount.

Sheet Supplement
A1: District name | B1: =DistrictName -> Murphy Elementary School District #21 | F1: County | G1: =Cover!H1 -> Maricopa | J1: CTD number | K1: =Cover!S1 -> 070421000 | M1: Version | N1: =Cover!C8 -> Proposed
A2: Supplement to school district annual expenditure budget for districts that budget for English language learners (A.R.S. §§15-756.04 and 15-756.11)
G3: Employee | H3: Purchased | L3: Totals
A4: English Language Learners Supplement | D4: FTE | F4: Salaries | G4: benefits | H4: services | I4: Supplies | J4: Property | K4: Other | L4: Prior | M4: Budget | N4: %
D5: Prior | E5: Budget | H5: 6300, 6400, | L5: FY | M5: FY | N5: Increase/
A6: Expenditures | D6: FY | E6: FY | F6: 6100 | G6: 6200 | H6: 6500 | I6: 6600 | J6: 6700 | K6: 6800 | L6: =PriorFiscalYear -> 2025 | M6: =Cover!E3 -> 2026 | N6: Decrease
A7: English Language Learner Fund 071 (A.R.S. §15-756.04)
A8: 1000 Instruction | C8: 1. | D8: =[1]!F071F1000Personnel -> 0 | L8: =[1]!F071F1000 -> 0 | M8: =SUM(F8:K8) -> 0 | N8: =IF(L8=M8,0,IF(L8>0,(M8-L8)/L8,"")) -> 0 | O8: 1.
A9: 2000 Support Services
A10: 2100 Students | C10: 2. | D10: =[1]!F071F2100Personnel -> 0 | L10: =[1]!F071F2100 -> 0 | M10: =SUM(F10:K10) -> 0 | N10: =IF(L10=M10,0,IF(L10>0,(M10-L10)/L10,"")) -> 0 | O10: 2.
A11: 2200 Instructional Staff | C11: 3. | D11: =[1]!F071F2200Personnel -> 0 | L11: =[1]!F071F2200 -> 0 | M11: =SUM(F11:K11) -> 0 | N11: =IF(L11=M11,0,IF(L11>0,(M11-L11)/L11,"")) -> 0 | O11: 3.
A12: 2300 General Administration | C12: 4. | D12: =[1]!F071F2300Personnel -> 0 | L12: =[1]!F071F2300 -> 0 | M12: =SUM(F12:K12) -> 0 | N12: =IF(L12=M12,0,IF(L12>0,(M12-L12)/L12,"")) -> 0 | O12: 4.
A13: 2400 School Administration | C13: 5. | D13: =[1]!F071F2400Personnel -> 0 | L13: =[1]!F071F2400 -> 0 | M13: =SUM(F13:K13) -> 0 | N13: =IF(L13=M13,0,IF(L13>0,(M13-L13)/L13,"")) -> 0 | O13: 5.
A14: 2500 Central Services | C14: 6. | D14: =[1]!F071F2500Personnel -> 0 | L14: =[1]!F071F2500 -> 0 | M14: =SUM(F14:K14) -> 0 | N14: =IF(L14=M14,0,IF(L14>0,(M14-L14)/L14,"")) -> 0 | O14: 6.
A15: 2600 Operation & Maintenance of Plant | C15: 7. | D15: =[1]!F071F2600Personnel -> 0 | L15: =[1]!F071F2600 -> 0 | M15: =SUM(F15:K15) -> 0 | N15: =IF(L15=M15,0,IF(L15>0,(M15-L15)/L15,"")) -> 0 | O15: 7.
A16: 2700 Student Transportation | C16: 8. | D16: =[1]!F071F2700Personnel -> 0 | L16: =[1]!F071F2700 -> 0 | M16: =SUM(F16:K16) -> 0 | N16: =IF(L16=M16,0,IF(L16>0,(M16-L16)/L16,"")) -> 0 | O16: 8.
A17: 2900 Other | C17: 9. | D17: =[1]!F071F2900Personnel -> 0 | L17: =[1]!F071F2900 -> 0 | M17: =SUM(F17:K17) -> 0 | N17: =IF(L17=M17,0,IF(L17>0,(M17-L17)/L17,"")) -> 0 | O17: 9.
A18: Total (lines 1-9) (to Budget, page 6, Other Funds, line 2) | C18: 10. | D18: =SUM(D8:D17) -> 0 | E18: =E8+SUM(E10:E17) -> 0 | F18: =F8+SUM(F10:F17) -> 0 | G18: =G8+SUM(G10:G17) -> 0 | H18: =H8+SUM(H10:H17) -> 0 | I18: =I8+SUM(I10:I17) -> 0 | K18: =K8+SUM(K10:K17) -> 0 | L18: =SUM(L8:L17) -> 0 | M18: =SUM(M8:M17) -> 0 | N18: =IF(L18=M18,0,IF(L18>0,(M18-L18)/L18,"")) -> 0 | O18: 10.
A19: Compensatory Instruction Fund 072 (A.R.S. §15-756.11)
A20: 1000 Instruction | C20: 11. | D20: =[1]!F072F1000Personnel -> 0 | L20: =[1]!F072F1000 -> 0 | M20: =SUM(F20:K20) -> 0 | N20: =IF(L20=M20,0,IF(L20>0,(M20-L20)/L20,"")) -> 0 | O20: 11.
A21: 2000 Support Services
A22: 2100 Students | C22: 12. | D22: =[1]!F072F2100Personnel -> 0 | L22: =[1]!F072F2100 -> 0 | M22: =SUM(F22:K22) -> 0 | N22: =IF(L22=M22,0,IF(L22>0,(M22-L22)/L22,"")) -> 0 | O22: 12.
A23: 2200 Instructional Staff | C23: 13. | D23: =[1]!F072F2200Personnel -> 0 | L23: =[1]!F072F2200 -> 0 | M23: =SUM(F23:K23) -> 0 | N23: =IF(L23=M23,0,IF(L23>0,(M23-L23)/L23,"")) -> 0 | O23: 13.
A24: 2300 General Administration | C24: 14. | D24: =[1]!F072F2300Personnel -> 0 | L24: =[1]!F072F2300 -> 0 | M24: =SUM(F24:K24) -> 0 | N24: =IF(L24=M24,0,IF(L24>0,(M24-L24)/L24,"")) -> 0 | O24: 14.
A25: 2400 School Administration | C25: 15. | D25: =[1]!F072F2400Personnel -> 0 | L25: =[1]!F072F2400 -> 0 | M25: =SUM(F25:K25) -> 0 | N25: =IF(L25=M25,0,IF(L25>0,(M25-L25)/L25,"")) -> 0 | O25: 15.
A26: 2500 Central Services | C26: 16. | D26: =[1]!F072F2500Personnel -> 0 | L26: =[1]!F072F2500 -> 0 | M26: =SUM(F26:K26) -> 0 | N26: =IF(L26=M26,0,IF(L26>0,(M26-L26)/L26,"")) -> 0 | O26: 16.
A27: 2600 Operation & Maintenance of Plant | C27: 17. | D27: =[1]!F072F2600Personnel -> 0 | L27: =[1]!F072F2600 -> 0 | M27: =SUM(F27:K27) -> 0 | N27: =IF(L27=M27,0,IF(L27>0,(M27-L27)/L27,"")) -> 0 | O27: 17.
A28: 2700 Student Transportation | C28: 18. | D28: =[1]!F072F2700Personnel -> 0 | L28: =[1]!F072F2700 -> 0 | M28: =SUM(F28:K28) -> 0 | N28: =IF(L28=M28,0,IF(L28>0,(M28-L28)/L28,"")) -> 0 | O28: 18.
A29: 2900 Other | C29: 19. | D29: =[1]!F072F2900Personnel -> 0 | L29: =[1]!F072F2900 -> 0 | M29: =SUM(F29:K29) -> 0 | N29: =IF(L29=M29,0,IF(L29>0,(M29-L29)/L29,"")) -> 0 | O29: 19.
A30: Total (lines 11-19) (to Budget, page 6, Other Funds, line 3) | C30: 20. | D30: =SUM(D20:D29) -> 0 | E30: =E20+SUM(E22:E29) -> 0 | F30: =F20+SUM(F22:F29) -> 0 | G30: =G20+SUM(G22:G29) -> 0 | H30: =H20+SUM(H22:H29) -> 0 | I30: =I20+SUM(I22:I29) -> 0 | K30: =K20+SUM(K22:K29) -> 0 | L30: =SUM(L20:L29) -> 0 | M30: =SUM(M20:M29) -> 0 | N30: =IF(L30=M30,0,IF(L30>0,(M30-L30)/L30,"")) -> 0 | O30: 20.

Sheet Summary Page 1
A1: =IF(OR(Version="Proposed",Version=""),"Summary of School District Proposed Expenditure Budget",IF(Version="Adopted","Summary of School District Adopted Expenditure Budget","Summary of School District Revised Expenditure Budget")) -> Summary of School District Proposed Expenditure Budget | H1: CTD number | I1: =CTD -> 070421000 | K1: proposed by the Governing Board on,
H2: Version | I2: =Cover!C8 -> Proposed | K2: revised by the Governing Board on, | L2: adopted by the Governing Board on,
A3: I certify that the budget of | B3: Murphy Elementary School | E3: District, | F3: 21 | G3: County for fiscal year 2026 was officially | K3: , and that the complete Proposed Expenditure Budget may be reviewed by contacting | L3: , and that the complete Adopted Expenditure Budget may be reviewed by contacting
A4: =IF(OR(I2="Proposed",I2=0),K1,IF(I2="Adopted",L2,K2)) -> proposed by the Governing Board on, | C4: =IF(ISNUMBER(SEARCH("Revised*",I2)),Cover!E15,IF(ISNUMBER(SEARCH("Proposed*",I2)),Cover!E13,IF(ISNUMBER(SEARCH("Adopted*",I2)),Cover!E14,""))) -> 45817 | D4: =IF(OR(I2="Proposed",I2=0),K3,IF(I2="Adopted",L3,K4)) -> , and that the complete Proposed Expenditure Budget may be reviewed by contacting | E4: =IF(ISNUMBER(SEARCH("Revised*",M2)),O2,O1) -> 0 | F4: =IF(ISNUMBER(SEARCH("Revised*",N2)),P2,P1) -> 0 | G4: =IF(ISNUMBER(SEARCH("Revised*",O2)),Q2,Q1) -> 0 | H4: =IF(ISNUMBER(SEARCH("Revised*",P2)),R2,R1) -> 0 | I4: =IF(ISNUMBER(SEARCH("Revised*",Q2)),S2,S1) -> 0 | K4: , and that the complete Revised Expenditure Budget may be reviewed by contacting
A5: Linda M. Cordova | B5: at the District Office, telephone | D5: 602-353-5058 | F5: during normal business hours. | I5: =IF(I10<1,"Enter average salaries on Budget Cover","") | K5: =IF(AND(ISNUMBER(SEARCH("Revised*",I2)),Cover!E15=""),"Enter revised date on Budget Cover",IF(AND(ISNUMBER(SEARCH("Proposed*",I2)),Cover!E13=""),"Enter proposed date on Budget Cover",""))
E7: President of the Governing Board
A9: 1. Average Daily Membership: | C9: Prior year | D9: Budget year | E9: 4. Average teacher salaries (A.R.S. §15-903.E)
B10: 2024 ADM | C10: 2025 ADM | D10: 2026 ADM | E10: 1. Average salary of all teachers employed in FY 2026 (budget year) | I10: =BudgetYearSalary -> 56200
A11: Attending | E11: 2. Average salary of all teachers employed in FY 2025 (prior year) | I11: =PriorYearSalary -> 55067
B12: 1027.2034 | C12: 961.4916 | D12: 930 | E12: 3. Increase in average teacher salary from the prior year | I12: =SalaryIncrease -> 1133
A13: 2. Tax Rates: | C13: Prior FY | D13: Est. Budget FY | E13: 4. Percentage increase | I13: =PercentageIncrease -> 0.02
A14: Primary rate (equalization formula funding and budget add-ons not required to be in secondary rate)
E15: =IF(SalaryComments="","",SalaryComments) -> Comments on average salary calculation (Optional):
C16: =PrimTaxRateCurrFY -> 1.6881 | D16: =EstTaxRateBudgFY -> 1.734
A17: Secondary rate (voter-approved overrides, bonds, and Career Technical Education Districts, and desegregation, if applicable)
C19: =TotSecTaxRateCurrFY -> 1.9785 | D19: =TotSecTaxRateBudgFY -> 2.2362
A20: 3. Budgeted expenditures and Budget Limits: | B20: Budgeted Expenditures | C20: Budgeted Carryforward | D20: Budget Limit
A22: Maintenance & Operation Fund | B22: =F001TotalExp -> 11154364 | C22: =F001Carryforward -> 4920125 | D22: =GBLBudgFY -> 16074489
A23: Classroom Site Fund | B23: =F010TotalExp -> 1194026 | C23: =F010Carryforward -> 950000 | D23: ='Page 3'!CSFBLBudgFY -> 2144026
A24: Unrestricted Capital Outlay Fund | B24: =F610TotalBudgFY -> 1278960 | C24: =F610Carryforward -> 326392 | D24: =UCBLBudgFY -> 1605352
A27: Maintenance and Operation Expenditures
I28: % Inc./(Decr.)
C29: Salaries and Benefits | E29: Other | G29: TOTAL | I29: from
C30: Prior FY | D30: Budget FY | E30: Prior FY | F30: Budget FY | G30: Prior FY | H30: Budget FY | I30: Prior FY
A32: 100 Regular Education
A33: 1000 Instruction | C33: =[1]!F001P100F1000SBBudgFY -> 4212732 | D33: =F001P100F1000O6100+F001P100F1000O6200 -> 3545604 | E33: =[1]!F001P100F1000OthBudgFY -> 623000 | F33: =F001P100F1000O630064006500+F001P100F1000O6600+F001P100F1000O6800 -> 25000 | G33: =C33+E33 -> 4835732 | H33: =D33+F33 -> 3570604 | I33: =IF(G33=H33,0,IF(G33>0,(H33-G33)/G33,"")) -> -0.262
A34: 2000 Support Services
A35: 2100 Students | C35: =[1]!F001P100F2100SBBudgFY -> 610949 | D35: =F001P100F2100O6100+F001P100F2100O6200 -> 558539 | E35: =[1]!F001P100F2100OthBudgFY -> 126000 | F35: =F001P100F2100O630064006500+F001P100F2100O6600+F001P100F2100O6800 -> 76000 | G35: =C35+E35 -> 736949 | H35: =D35+F35 -> 634539 | I35: =IF(G35=H35,0,IF(G35>0,(H35-G35)/G35,"")) -> -0.139
A36: 2200 Instructional Staff | C36: =[1]!F001P100F2200SBBudgFY -> 164000 | D36: =F001P100F2200O6100+F001P100F2200O6200 -> 112000 | E36: =[1]!F001P100F2200OthBudgFY -> 20000 | F36: =F001P100F2200O630064006500+F001P100F2200O6600+F001P100F2200O6800 -> 20000 | G36: =C36+E36 -> 184000 | H36: =D36+F36 -> 132000 | I36: =IF(G36=H36,0,IF(G36>0,(H36-G36)/G36,"")) -> -0.283
A37: 2300, 2400, 2500 Administration | C37: =[1]!F001P100F230024002500SBBudgFY -> 1632368 | D37: =F001P100F2300O6100+F001P100F2400O6100+F001P100F2500O6100+F001P100F2300O6200+F001P100F2400O6200+F001P100F2500O6200 -> 1251000 | E37: =[1]!F001P100F230024002500OthBudgFY -> 932168 | F37: =F001P100F2300O630064006500+F001P100F2300O6600+F001P100F2300O6800+F001P100F2400O630064006500+F001P100F2400O6600+F001P100F2400O6800+F001P100F2500O630064006500+F001P100F2500O6600+F001P100F2500O6800 -> 246743 | G37: =C37+E37 -> 2564536 | H37: =D37+F37 -> 1497743 | I37: =IF(G37=H37,0,IF(G37>0,(H37-G37)/G37,"")) -> -0.416
A38: 2600 Oper./Maint. of Plant | C38: =[1]!F001P100F2600SBBudgFY -> 1200000 | D38: =F001P100F2600O6100+F001P100F2600O6200 -> 885000 | E38: =[1]!F001P100F2600OthBudgFY -> 2477250 | F38: =F001P100F2600O630064006500+F001P100F2600O6600+F001P100F2600O6800 -> 1508000 | G38: =C38+E38 -> 3677250 | H38: =D38+F38 -> 2393000 | I38: =IF(G38=H38,0,IF(G38>0,(H38-G38)/G38,"")) -> -0.349
