Workbook

Sheet Surveys
C3: Survey 2 | G3: Survey 3 | K3: Final
C4: FLDOE Report | D4: ESE Guar | E4: Transp | G4: FLDOE Report | H4: ESE Guar | I4: Transp | K4: Final Calculation
A7: FY 2016
A8: Release date | C8: 42342 | G8: 42459 | K8: 42629
A9: 1st month used | C9: 42339 | G9: 42491 | K9: 42675
A12: FY 2017
A13: Release date | C13: 42702 | G13: 42817 | K13: 42997
A14: 1st month used | C14: 42705 | G14: 42826 | K14: 43040
A17: FY 2018
A18: Release date | C18: 43046 | G18: 43218 | K18: 43343
A19: Received | K19: 43647
A20: 1st month used | C20: 43070 | G20: 43221 | K20: 43708
C21: Preliminary
A23: Release date | C23: 43102 | G23: --- | K23: ---
A24: 1st month used | C24: 43132 | G24: --- | K24: ---
C25: Final | G25: --- | K25: ---
A28: FY 2019
A29: Release date | C29: 43468 | D29: --- | G29: 43538 | H29: --- | K29: 43713
A30: Received | C30: 43476 | G30: 43595 | H30: 43726 | I30: 43648 | K30: 43773
A31: 1st month used | C31: 43497 | D31: 43525 | G31: 43617 | H31: 43770 | I31: 43656 | K31: 43770
H32: SR-0067373 | I32: SR-0067374
A34: FY 2020
A35: Release/Requested date | C35: 43775
A36: Received | C36: 43788
A37: 1st month used | C37: 43830
C38: Preliminary
A40: Release/Requested date | C40: 43833 | D40: 43853 | E40: 43853 | G40: 43895 | H40: 43906 | I40: 43906 | K40: 44028
A41: Received | C41: 43859 | D41: 43858 | E41: 43858 | G41: 43906 | H41: 43950 | I41: 43950 | K41: 44075
A42: 1st month used | C42: 43889 | D42: 43889 | E42: 43889 | G42: 43951 | H42: 43982 | I42: 43982 | K42: 44166
A43: Service Request # | C43: Final | D43: SR-0085635 | E43: SR0085639 | H43: SR-0089096 | I43: SR-0089100
A46: FY 2021
A48: Release/Requested date | C48: 44147 | D48: 44314 | E48: 44314 | G48: 44307 | H48: 44314 | I48: 44314 | K48: 44875
A49: Received | C49: 44151 | D49: 44316 | E49: 44316 | G49: 44314 | H49: 44319 | I49: 44319 | K49: 44565
A50: 1st month used | C50: 44317 | D50: 44347 | E50: 44347 | G50: 44347 | H50: 44347 | I50: 44347 | K50: 44613
A51: Service Request # | D51: SR-0125077 | E51: SR-0125081 | H51: SR-0125054 | I51: SR-0125055
A54: FY 2022
A56: Release/Requested date | C56: 44518 | D56: 01/07/2022, 08:49:15 | E56: 01/07/2022, 09:18:46 | G56: 44630 | H56: 05/03/2022, 12:14:36 | I56: 05/03/2022, 12:16:24 | K56: 44834
A57: Received | C57: 44565 | D57: 44580 | E57: 44580 | G57: 44684 | H57: 44691 | I57: 44691 | K57: 44893
A58: 1st month used | C58: 44562 | D58: 44620 | E58: 44620 | G58: 44712 | H58: 44742 | I58: 44742 | K58: 44926
A59: Service Request # | C59: --- | D59: SR-0156328 | E59: SR-0125081 | G59: --- | H59: SR-0171396 | I59: SR-0171397 | K59: ---
...

Sheet Net Payment
B1: Final 2025 - FY 2025 Charter School FTE Payment
B2: ='1461'!A3 -> Based on the FLDOE 2024-25 Final Revenue Calculation Worksheet
B4: School # | C4: School Name | D4: Description | E4: FTE | F4: Adjustments | G4: Net | I4: NOTES TO ALL CHARTER SCHOOLS
A5: 1 | B5: 0040 | C5: Palm Beach Preparatory Middle School | D5: FTE June 2025 | E5: ='0040'!I$145 -> -4114.02 | G5: =SUBTOTAL(109,E5:F7) -> -4114.02
I7: Please go to the bottom of the page.
A8: 2 | B8: 0100 | C8: The Learning Center High School | D8: =D5 -> FTE June 2025 | E8: ='0100'!I$145 -> 49096.51 | G8: =SUBTOTAL(109,E8:F10) -> 49096.51
A12: 3 | B12: 1461 | C12: Inlet Grove Community High School | D12: FTE June 2025 | E12: ='1461'!I$145 -> -43892.07 | G12: =SUBTOTAL(109,E12:F36) -> -43892.07
D13: PY Final FEFP | I13: Please go to the bottom of the page.
D14: Sep Teacher Supplies Retract
D15: PY Digital C/R
D16: PY Dig C/R A/R
D17: PY Class Size Cat.
D18: Class Size Cat.
D19: Transportation
D20: School Police
D21: AT&T
D22: Avaya Maintenance
D23: LAN & Internet
C24: Ends June 2022 | D24: SWA Fees
D25: FY21 TSIA
D28: WPB-248085
D29: WPB-248086
D30: WPB-248087
D31: WPB-249234
D34: WPB-297918
D35: WPB-298449
D36: WPB-298447
A37: =1+A12 -> 4 | B37: 1571 | C37: South Tech Charter Academy | D37: =$D$12 -> FTE June 2025 | E37: ='1571'!I$145 -> -184087.4 | G37: =SUBTOTAL(109,E37:F52) -> -184087.4
D38: PY Final FEFP
D39: Sep Teacher Supplies Retract
D40: FY21 CSTAG Training
D41: PY Digital C/R | L41: 44630
D42: PY Dig C/R A/R | L42: =L41-60 -> 44570
D43: PY Class Size Cat.
D44: Class Size Cat.
D45: School Police
D46: AT&T
D47: Avaya Maintenance
D48: LAN & Internet
D49: FEFP Adj
...

Sheet Annual Rev & Fees
E4: 0.75 | F4: Admin | G4: Fee % | I4: Annual | M4: Current | Q4: Sec 1 Rev/Fee per FTE | U4: Net Rev Per Sec 1 FTE
D5: H/P | E5: ESE | F5: Fee % | G5: W/O TSIA | I5: Revenue | J5: Rev - TSIA | K5: Admin Fee | L5: Net Revenue | M5: Mth's Pmt | O5: Sec 1 FTE | Q5: Rev | R5: Fee | S5: Net Rev | U5: H/P | V5: 75% ESE | W5: Other
A6: 1 | B6: 0040 | C6: Palm Beach Preparatory Middle School | D6: 0 | E6: ='0040'!H$133 | F6: =-K6/I6 -> 0.047752258 | G6: =-K6/J6 -> 0.05 | I6: ='0040'!I$128 -> 303811.39 | J6: =I6-'0040'!I$53 -> 290153.6 | K6: ='0040'!I$135 -> -14507.68 | L6: =I6+K6 -> 289303.71 | M6: ='0040'!I$145 -> -4114.02 | O6: ='0040'!E30 -> 35.4 | Q6: =I6/O6 -> 8582.2427 | R6: =K6/O6 -> -409.82147 | S6: =L6/O6 -> 8172.4212 | U6: =IF(D6="H",S6,0) -> 0 | V6: =ROUND(IF(E6=1,S6,0),2) -> 0 | W6: =IF(AND(U6=0,V6=0),S6,) -> 8172.4212
A7: 2 | B7: 0100 | C7: The Learning Center Highschool | D7: 0 | E7: ='0100'!H$133 -> 1 | F7: =-K7/I7 -> 0.012066484 | G7: =-K7/J7 -> 0.012577386 | I7: ='0100'!I$128 -> 320480.27 | J7: =I7-'0100'!I$53 -> 307462.13 | K7: ='0100'!I$135 -> -3867.07 | L7: =I7+K7 -> 316613.2 | M7: ='0100'!I$145 -> 49096.51 | O7: ='0100'!E30 -> 11.46 | Q7: =I7/O7 -> 27965.12 | R7: =K7/O7 -> -337.44066 | S7: =L7/O7 -> 27627.679 | U7: =IF(D7="H",S7,0) -> 0 | V7: =ROUND(IF(E7=1,S7,0),2) -> 27627.68 | W7: =IF(AND(U7=0,V7=0),S7,) -> 0
A8: 3 | B8: 1461 | C8: Inlet Grove Community High School | D8: ='1461'!G$135 -> H | E8: ='1461'!H$133 | F8: =-K8/I8 -> 0.0068015465 | G8: =-K8/J8 -> 0.0071576846 | I8: ='1461'!I$128 -> 5820476.3 | J8: =I8-'1461'!I$53 -> 5530872.4 | K8: ='1461'!I$135 -> -39588.24 | L8: =I8+K8 -> 5780888 | M8: ='1461'!I$145 -> -43892.07 | O8: ='1461'!E$30 -> 698.55 | Q8: =I8/O8 -> 8332.2257 | R8: =K8/O8 -> -56.672021 | S8: =L8/O8 -> 8275.5537 | U8: =IF(D8="H",S8,0) -> 8275.5537 | V8: =ROUND(IF(E8=1,S8,0),2) -> 0 | W8: =IF(AND(U8=0,V8=0),S8,) -> 0
A9: 4 | B9: 1571 | C9: South Tech Charter Academy | D9: ='1571'!G$135 -> H | E9: ='1571'!H$133 | F9: =-K9/I9 -> 0.0043684964 | G9: =-K9/J9 -> 0.0045569294 | I9: ='1571'!I$128 -> 9398950.2 | J9: =I9-'1571'!I$53 -> 9010295.4 | K9: ='1571'!I$135 -> -41059.28 | L9: =I9+K9 -> 9357890.9 | M9: ='1571'!I$145 -> -184087.4 | O9: ='1571'!E$30 -> 1097.23 | Q9: =I9/O9 -> 8566.0711 | R9: =K9/O9 -> -37.420851 | S9: =L9/O9 -> 8528.6502 | U9: =IF(D9="H",S9,0) -> 8528.6502 | V9: =ROUND(IF(E9=1,S9,0),2) -> 0 | W9: =IF(AND(U9=0,V9=0),S9,) -> 0
A10: 5 | B10: 2521 | C10: Ed Venture | D10: ='2521'!G$135 -> 0 | E10: ='2521'!H$133 -> 1 | F10: =-K10/I10 -> 0.020768488 | G10: =-K10/J10 -> 0.021341577 | I10: ='2521'!I$128 -> 1342867.1 | J10: =I10-'2521'!I$53 -> 1306806.9 | K10: ='2521'!I$135 -> -27889.32 | L10: =I10+K10 -> 1314977.8 | M10: ='2521'!I$145 -> -31428.62 | O10: ='2521'!E$30 -> 72.7 | Q10: =I10/O10 -> 18471.35 | R10: =K10/O10 -> -383.62201 | S10: =L10/O10 -> 18087.728 | U10: =IF(D10="H",S10,0) -> 0 | V10: =ROUND(IF(E10=1,S10,0),2) -> 18087.73 | W10: =IF(AND(U10=0,V10=0),S10,) -> 0
A11: 6 | B11: 2531 | C11: Potentials Charter School | D11: ='2531'!G$135 -> 0 | E11: ='2531'!H$133 -> 1 | F11: =-K11/I11 -> 0.010855889 | G11: =-K11/J11 -> 0.011346424 | I11: ='2531'!I$128 -> 1597238.2 | J11: =I11-'2531'!I$53 -> 1528185.4 | K11: ='2531'!I$135 -> -17339.44 | L11: =I11+K11 -> 1579898.8 | M11: ='2531'!I$145 -> 38314.17 | O11: ='2531'!E$30 -> 50.91 | Q11: =I11/O11 -> 31373.761 | R11: =K11/O11 -> -340.59006 | S11: =L11/O11 -> 31033.171 | U11: =IF(D11="H",S11,0) -> 0 | V11: =ROUND(IF(E11=1,S11,0),2) -> 31033.17 | W11: =IF(AND(U11=0,V11=0),S11,) -> 0
A12: 7 | B12: 2791 | C12: The Learning Center @ The Els Center of Excl | D12: ='2791'!G$135 -> 0 | E12: ='2791'!H$133 -> 1 | F12: =-K12/I12 -> 0.010015489 | G12: =-K12/J12 -> 0.010437148 | I12: ='2791'!I$128 -> 5408468 | J12: =I12-'2791'!I$53 -> 5189966.5 | K12: ='2791'!I$135 -> -54168.45 | L12: =I12+K12 -> 5354299.6 | M12: ='2791'!I$145 -> 71313.19 | O12: ='2791'!E$30 -> 164.59 | Q12: =I12/O12 -> 32860.247 | R12: =K12/O12 -> -329.11143 | S12: =L12/O12 -> 32531.135 | U12: =IF(D12="H",S12,0) -> 0 | V12: =ROUND(IF(E12=1,S12,0),2) -> 32531.14 | W12: =IF(AND(U12=0,V12=0),S12,) -> 0
A13: 8 | B13: 2801 | C13: Palm Beach Maritime Academy Elementary | D13: ='2801'!G$135 -> 0 | E13: ='2801'!H$133 | F13: =-K13/I13 -> 0.020509138 | G13: =-K13/J13 -> 0.0214784 | I13: ='2801'!I$128 -> 5320265.9 | J13: =I13-'2801'!I$53 -> 5080176.7 | K13: ='2801'!I$135 -> -109114.07 | L13: =I13+K13 -> 5211151.9 | M13: ='2801'!I$145 -> 5817.12 | O13: ='2801'!E$30 -> 581.98 | Q13: =I13/O13 -> 9141.6646 | R13: =K13/O13 -> -187.48766 | S13: =L13/O13 -> 8954.1769 | U13: =IF(D13="H",S13,0) -> 0 | V13: =ROUND(IF(E13=1,S13,0),2) -> 0 | W13: =IF(AND(U13=0,V13=0),S13,) -> 8954.1769
A14: 9 | B14: 2911 | C14: Western Academy Charter School | D14: ='2911'!G$135 -> H | E14: ='2911'!H$133 | F14: =-K14/I14 -> 0.0067857718 | G14: =-K14/J14 -> 0.00707614 | I14: ='2911'!I$128 -> 6070375 | J14: =I14-'2911'!I$53 -> 5821278.2 | K14: ='2911'!I$135 -> -41192.18 | L14: =I14+K14 -> 6029182.9 | M14: ='2911'!I$145 -> -34008.26 | O14: ='2911'!E$30 -> 706.6 | Q14: =I14/O14 -> 8590.9638 | R14: =K14/O14 -> -58.29632 | S14: =L14/O14 -> 8532.6675 | U14: =IF(D14="H",S14,0) -> 8532.6675 | V14: =ROUND(IF(E14=1,S14,0),2) -> 0 | W14: =IF(AND(U14=0,V14=0),S14,) -> 0
A15: 10 | B15: 2941 | C15: Palm Beach School for Autism | D15: ='2941'!G$135 -> 0 | E15: ='2941'!H$133 -> 1 | F15: =-K15/I15 -> 0.0078529121 | G15: =-K15/J15 -> 0.0082247811 | I15: ='2941'!I$128 -> 10564043 | J15: =I15-'2941'!I$53 -> 10086408 | K15: ='2941'!I$135 -> -82958.5 | L15: =I15+K15 -> 10481084 | M15: ='2941'!I$145 -> 174701.34 | O15: ='2941'!E$30 -> 376.88 | Q15: =I15/O15 -> 28030.256 | R15: =K15/O15 -> -220.11914 | S15: =L15/O15 -> 27810.137 | U15: =IF(D15="H",S15,0) -> 0 | V15: =ROUND(IF(E15=1,S15,0),2) -> 27810.14 | W15: =IF(AND(U15=0,V15=0),S15,) -> 0
A16: 11 | B16: 3083 | C16: The Learning Academy @ The Els Center of Excl | D16: ='3083'!G$135 -> 0 | E16: ='3083'!H$133 -> 1 | F16: =-K16/I16 -> 0.0088102833 | G16: =-K16/J16 -> 0.0091863075 | I16: ='3083'!I$128 -> 5937806.8 | J16: =I16-'3083'!I$53 -> 5694753.9 | K16: ='3083'!I$135 -> -52313.76 | L16: =I16+K16 -> 5885493.1 | M16: ='3083'!I$145 -> 67173.14 | O16: ='3083'!E$30 -> 163.28 | Q16: =I16/O16 -> 36365.794 | R16: =K16/O16 -> -320.39294 | S16: =L16/O16 -> 36045.401 | U16: =IF(D16="H",S16,0) -> 0 | V16: =ROUND(IF(E16=1,S16,0),2) -> 36045.4 | W16: =IF(AND(U16=0,V16=0),S16,) -> 0
A17: 12 | B17: 3345 | C17: Career Academy of the Palm Beaches | D17: ='3345'!G$135 -> 0 | E17: ='3345'!H$133 -> 1 | F17: =-K17/I17 -> 0.027890224 | G17: =-K17/J17 -> 0.028549183 | I17: ='3345'!I$128 -> 1134700.1 | J17: =I17-'3345'!I$53 -> 1108509.5 | K17: ='3345'!I$135 -> -31647.04 | L17: =I17+K17 -> 1103053.1 | M17: ='3345'!I$145 -> 18014.81 | O17: ='3345'!E$30 -> 78.47 | Q17: =I17/O17 -> 14460.305 | R17: =K17/O17 -> -403.30113 | S17: =L17/O17 -> 14057.004 | U17: =IF(D17="H",S17,0) -> 0 | V17: =ROUND(IF(E17=1,S17,0),2) -> 14057 | W17: =IF(AND(U17=0,V17=0),S17,) -> 0
A18: 13 | B18: 3381 | C18: Imagine Schools - Chancellor Campus | D18: ='3381'!G$135 -> H | E18: ='3381'!H$133 | F18: =-K18/I18 -> 0.0045500398 | G18: =-K18/J18 -> 0.0047656259 | I18: ='3381'!I$128 -> 9049668.2 | J18: =I18-'3381'!I$53 -> 8640281.6 | K18: ='3381'!I$135 -> -41176.35 | L18: =I18+K18 -> 9008491.8 | M18: ='3381'!I$145 -> -2236.23 | O18: ='3381'!E$30 -> 1049.18 | Q18: =I18/O18 -> 8625.4677 | R18: =K18/O18 -> -39.246221 | S18: =L18/O18 -> 8586.2214 | U18: =IF(D18="H",S18,0) -> 8586.2214 | V18: =ROUND(IF(E18=1,S18,0),2) -> 0 | W18: =IF(AND(U18=0,V18=0),S18,) -> 0
A19: 14 | B19: 3382 | C19: Glades Academy | D19: ='3382'!G$135 -> 0 | E19: ='3382'!H$133 | F19: =-K19/I19 -> 0.044886452 | G19: =-K19/J19 -> 0.046769184 | I19: ='3382'!I$128 -> 2456779.6 | J19: =I19-'3382'!I$53 -> 2357879.9 | K19: ='3382'!I$135 -> -110276.12 | L19: =I19+K19 -> 2346503.5 | M19: ='3382'!I$145 -> -47260.88 | O19: ='3382'!E$30 -> 267.27 | Q19: =I19/O19 -> 9192.1264 | R19: =K19/O19 -> -412.60194 | S19: =L19/O19 -> 8779.5245 | U19: =IF(D19="H",S19,0) -> 0 | V19: =ROUND(IF(E19=1,S19,0),2) -> 0 | W19: =IF(AND(U19=0,V19=0),S19,) -> 8779.5245
A20: 15 | B20: 3391 | C20: Seagull Academy for Independent Living | D20: ='3391'!G$135 -> 0 | F20: =-K20/I20 -> #DIV/0! | G20: =-K20/J20 -> #DIV/0! | I20: 0 | K20: ='3391'!I$135 -> 0 | L20: =I20+K20 -> 0 | M20: ='3391'!I$145 -> 0 | O20: ='3391'!E$30 -> 0 | Q20: 0 | R20: 0 | S20: 0 | U20: =IF(D20="H",S20,0) -> 0 | V20: =ROUND(IF(E20=1,S20,0),2) -> 0 | W20: =IF(AND(U20=0,V20=0),S20,) -> 0
A21: 16 | B21: 3394 | C21: Montessori Academy of Early Enrichment | D21: ='3394'!G$135 -> 0 | E21: ='3394'!H$133 | F21: =-K21/I21 -> 0.047562062 | G21: =-K21/J21 -> 0.050000001 | I21: ='3394'!I$128 -> 1704248.2 | J21: =I21-'3394'!I$53 -> 1621151.2 | K21: ='3394'!I$135 -> -81057.56 | L21: =I21+K21 -> 1623190.7 | M21: ='3394'!I$145 -> -16571.42 | O21: ='3394'!E$30 -> 190.99 | Q21: =I21/O21 -> 8923.2328 | R21: =K21/O21 -> -424.40735 | S21: =L21/O21 -> 8498.8254 | U21: =IF(D21="H",S21,0) -> 0 | V21: =ROUND(IF(E21=1,S21,0),2) -> 0 | W21: =IF(AND(U21=0,V21=0),S21,) -> 8498.8254
A22: 17 | B22: 3395 | C22: Somerset Academy Charter School | D22: ='3395'!G$135 -> 0 | E22: ='3395'!H$133 | F22: =-K22/I22 -> 0.023225877 | G22: =-K22/J22 -> 0.024371222 | I22: ='3395'!I$128 -> 4440007.7 | J22: =I22-'3395'!I$53 -> 4231346 | K22: ='3395'!I$135 -> -103123.07 | L22: =I22+K22 -> 4336884.6 | M22: ='3395'!I$145 -> -30669.84 | O22: ='3395'!E$30 -> 512.9 | Q22: =I22/O22 -> 8656.6732 | R22: =K22/O22 -> -201.05882 | S22: =L22/O22 -> 8455.6143 | U22: =IF(D22="H",S22,0) -> 0 | V22: =ROUND(IF(E22=1,S22,0),2) -> 0 | W22: =IF(AND(U22=0,V22=0),S22,) -> 8455.6143
A23: 18 | B23: 3396 | C23: G-Star School of the Arts | D23: ='3396'!G$135 -> H | E23: ='3396'!H$133 | F23: =-K23/I23 -> 0.0068626103 | G23: =-K23/J23 -> 0.0071729829 | I23: ='3396'!I$128 -> 5720460.3 | J23: =I23-'3396'!I$53 -> 5472937.9 | K23: ='3396'!I$135 -> -39257.29 | L23: =I23+K23 -> 5681203 | M23: ='3396'!I$145 -> -95042.81 | O23: ='3396'!E$30 -> 697.06 | Q23: =I23/O23 -> 8206.5537 | R23: =K23/O23 -> -56.31838 | S23: =L23/O23 -> 8150.2353 | U23: =IF(D23="H",S23,0) -> 8150.2353 | V23: =ROUND(IF(E23=1,S23,0),2) -> 0 | W23: =IF(AND(U23=0,V23=0),S23,) -> 0
A24: 19 | B24: 3398 | C24: Everglades Preparatory Academy | D24: ='3398'!G$135 -> 0 | E24: ='3398'!H$133 | F24: =-K24/I24 -> 0.047677729 | G24: =-K24/J24 -> 0.050000005 | I24: ='3398'!I$128 -> 960539.46 | J24: =I24-'3398'!I$53 -> 915926.7 | K24: ='3398'!I$135 -> -45796.34 | L24: =I24+K24 -> 914743.12 | M24: ='3398'!I$145 -> 10301.35 | O24: ='3398'!E$30 -> 114.65 | Q24: =I24/O24 -> 8378.0154 | R24: =K24/O24 -> -399.44474 | S24: =L24/O24 -> 7978.5706 | U24: =IF(D24="H",S24,0) -> 0 | V24: =ROUND(IF(E24=1,S24,0),2) -> 0 | W24: =IF(AND(U24=0,V24=0),S24,) -> 7978.5706
A25: 20 | B25: 3400 | C25: Believers Academy | D25: ='3400'!G$135 -> 0 | E25: ='3400'!H$133 -> 1 | F25: =-K25/I25 -> 0.032294385 | G25: =-K25/J25 -> 0.033226348 | I25: ='3400'!I$128 -> 1207932.6 | J25: =I25-'3400'!I$53 -> 1174051.4 | K25: ='3400'!I$135 -> -39009.44 | L25: =I25+K25 -> 1168923.1 | M25: ='3400'!I$145 -> 46433.98 | O25: ='3400'!E$30 -> 100.2 | Q25: =I25/O25 -> 12055.215 | R25: =K25/O25 -> -389.31577 | S25: =L25/O25 -> 11665.9 | U25: =IF(D25="H",S25,0) -> 0 | V25: =ROUND(IF(E25=1,S25,0),2) -> 11665.9 | W25: =IF(AND(U25=0,V25=0),S25,) -> 0
A26: 21 | B26: 3401 | C26: Quantum High School | D26: ='3401'!G$135 -> 0 | E26: ='3401'!H$133 -> 0 | F26: =-K26/I26 -> 0.027554984 | G26: =-K26/J26 -> 0.028645414 | I26: ='3401'!I$128 -> 3674943.2 | J26: =I26-'3401'!I$53 -> 3535051 | K26: ='3401'!I$135 -> -101263 | L26: =I26+K26 -> 3573680.2 | M26: ='3401'!I$145 -> 76861.53 | O26: ='3401'!E$30 -> 436.37 | Q26: =I26/O26 -> 8421.6219 | R26: =K26/O26 -> -232.05766 | S26: =L26/O26 -> 8189.5643 | U26: =IF(D26="H",S26,0) -> 0 | V26: =ROUND(IF(E26=1,S26,0),2) -> 0 | W26: =IF(AND(U26=0,V26=0),S26,) -> 8189.5643
A27: 22 | B27: 3413 | C27: Somerset Academy Boca | D27: ='3413'!G$135 -> H | E27: ='3413'!H$133 | F27: =-K27/I27 -> 0.012261593 | G27: =-K27/J27 -> 0.012820185 | I27: ='3413'!I$128 -> 3429801.6 | J27: =I27-'3413'!I$53 -> 3280360.6 | K27: ='3413'!I$135 -> -42054.83 | L27: =I27+K27 -> 3387746.8 | M27: ='3413'!I$145 -> -5440.91 | O27: ='3413'!E$30 -> 390.01 | Q27: =I27/O27 -> 8794.1376 | R27: =K27/O27 -> -107.83013 | S27: =L27/O27 -> 8686.3075 | U27: =IF(D27="H",S27,0) -> 8686.3075 | V27: =ROUND(IF(E27=1,S27,0),2) -> 0 | W27: =IF(AND(U27=0,V27=0),S27,) -> 0
A28: 23 | B28: 3421 | C28: Worthington High School | D28: ='3421'!G$135 -> 0 | E28: ='3421'!H$133 | F28: =-K28/I28 -> 0.022963715 | G28: =-K28/J28 -> 0.023794114 | I28: ='3421'!I$128 -> 4262690 | J28: =I28-'3421'!I$53 -> 4113925 | K28: ='3421'!I$135 -> -97887.2 | L28: =I28+K28 -> 4164802.8 | M28: ='3421'!I$145 -> 340563.09 | O28: ='3421'!E$30 -> 525.34 | Q28: =I28/O28 -> 8114.1547 | R28: =K28/O28 -> -186.33114 | S28: =L28/O28 -> 7927.8236 | U28: =IF(D28="H",S28,0) -> 0 | V28: =ROUND(IF(E28=1,S28,0),2) -> 0 | W28: =IF(AND(U28=0,V28=0),S28,) -> 7927.8236
A29: 24 | B29: 3431 | C29: Renaissance Charter School at WPB | D29: ='3431'!G$135 -> H | E29: ='3431'!H$133 | F29: =-K29/I29 -> 0.004770452 | G29: =-K29/J29 -> 0.0049941068 | I29: ='3431'!I$128 -> 8628182.4 | J29: =I29-'3431'!I$53 -> 8241780.1 | K29: ='3431'!I$135 -> -41160.33 | L29: =I29+K29 -> 8587022.1 | M29: ='3431'!I$145 -> -140471.45 | O29: ='3431'!E$30 -> 1001.18 | Q29: =I29/O29 -> 8618.0131 | R29: =K29/O29 -> -41.111818 | S29: =L29/O29 -> 8576.9013 | U29: =IF(D29="H",S29,0) -> 8576.9013 | V29: =ROUND(IF(E29=1,S29,0),2) -> 0 | W29: =IF(AND(U29=0,V29=0),S29,) -> 0
A30: 25 | B30: 3441 | C30: South Tech Preparatory Academy (MS) | D30: ='3441'!G$135 -> 0 | E30: ='3441'!H$133 | F30: =-K30/I30 -> 0.022678255 | G30: =-K30/J30 -> 0.023711967 | I30: ='3441'!I$128 -> 4455154.4 | J30: =I30-'3441'!I$53 -> 4260934.2 | K30: ='3441'!I$135 -> -101035.13 | L30: =I30+K30 -> 4354119.3 | M30: ='3441'!I$145 -> -26501.95 | O30: ='3441'!E$30 -> 527.16 | Q30: =I30/O30 -> 8451.2376 | R30: =K30/O30 -> -191.65933 | S30: =L30/O30 -> 8259.5783 | U30: =IF(D30="H",S30,0) -> 0 | V30: =ROUND(IF(E30=1,S30,0),2) -> 0 | W30: =IF(AND(U30=0,V30=0),S30,) -> 8259.5783
A31: 26 | B31: 3924 | C31: Palm Beach Maritime Academy Secondary | D31: ='3924'!G$135 -> 0 | E31: ='3924'!H$133 | F31: =-K31/I31 -> 0.027423952 | G31: =-K31/J31 -> 0.028774661 | I31: ='3924'!I$128 -> 3701370.6 | J31: =I31-'3924'!I$53 -> 3527624.9 | K31: ='3924'!I$135 -> -101506.21 | L31: =I31+K31 -> 3599864.4 | M31: ='3924'!I$145 -> -37604.04 | O31: ='3924'!E$30 -> 434.41 | Q31: =I31/O31 -> 8520.4543 | R31: =K31/O31 -> -233.66453 | S31: =L31/O31 -> 8286.7898 | U31: =IF(D31="H",S31,0) -> 0 | V31: =ROUND(IF(E31=1,S31,0),2) -> 0 | W31: =IF(AND(U31=0,V31=0),S31,) -> 8286.7898
A32: 27 | B32: 3941 | C32: Ben Gamla Charter School | D32: ='3941'!G$135 -> H | E32: ='3941'!H$133 | F32: =-K32/I32 -> 0.019004988 | G32: =-K32/J32 -> 0.02 | I32: ='3941'!I$128 -> 2032799 | J32: =I32-'3941'!I$53 -> 1931666 | K32: ='3941'!I$135 -> -38633.32 | L32: =I32+K32 -> 1994165.7 | M32: ='3941'!I$145 -> -3878.68 | O32: ='3941'!E$30 -> 229.15 | Q32: =I32/O32 -> 8871.0408 | R32: =K32/O32 -> -168.59402 | S32: =L32/O32 -> 8702.4468 | U32: =IF(D32="H",S32,0) -> 8702.4468 | V32: =ROUND(IF(E32=1,S32,0),2) -> 0 | W32: =IF(AND(U32=0,V32=0),S32,) -> 0
A33: 28 | B33: 3961 | C33: Gardens School of Technology Arts | D33: ='3961'!G$135 -> 0 | E33: ='3961'!H$133 | F33: =-K33/I33 -> 0.042891855 | G33: =-K33/J33 -> 0.045339137 | I33: ='3961'!I$128 -> 2345573.5 | J33: =I33-'3961'!I$53 -> 2218965.9 | K33: ='3961'!I$135 -> -100606 | L33: =I33+K33 -> 2244967.5 | M33: ='3961'!I$145 -> -222662.62 | O33: ='3961'!E$30 -> 275.7 | Q33: =I33/O33 -> 8507.7023 | R33: =K33/O33 -> -364.91114 | S33: =L33/O33 -> 8142.7911 | U33: =IF(D33="H",S33,0) -> 0 | V33: =ROUND(IF(E33=1,S33,0),2) -> 0 | W33: =IF(AND(U33=0,V33=0),S33,) -> 8142.7911
A34: 29 | B34: 3971 | C34: Palm Beach Perparatory Charter Academy | D34: ='3971'!G$135 -> 0 | E34: ='3971'!H$133 | F34: =-K34/I34 -> 0.017568556 | G34: =-K34/J34 -> 0.018390196 | I34: ='3971'!I$128 -> 5487447.5 | J34: =I34-'3971'!I$53 -> 5242278.6 | K34: ='3971'!I$135 -> -96406.53 | L34: =I34+K34 -> 5391041 | M34: ='3971'!I$145 -> 372629.83 | O34: ='3971'!E$30 -> 679.71 | Q34: =I34/O34 -> 8073.2187 | R34: =K34/O34 -> -141.8348 | S34: =L34/O34 -> 7931.3839 | U34: =IF(D34="H",S34,0) -> 0 | V34: =ROUND(IF(E34=1,S34,0),2) -> 0 | W34: =IF(AND(U34=0,V34=0),S34,) -> 7931.3839
A35: 30 | B35: 4001 | C35: Renaissance Charter School at Wellington | D35: ='4001'!G$135 -> 0 | E35: ='4001'!H$133 | F35: =-K35/I35 -> 0.017502039 | G35: =-K35/J35 -> 0.018366957 | I35: ='4001'!I$128 -> 5919514.7 | J35: =I35-'4001'!I$53 -> 5640759 | K35: ='4001'!I$135 -> -103603.58 | L35: =I35+K35 -> 5815911.1 | M35: ='4001'!I$145 -> -16578.53 | O35: ='4001'!E$30 -> 680.57 | Q35: =I35/O35 -> 8697.8778 | R35: =K35/O35 -> -152.2306 | S35: =L35/O35 -> 8545.6472 | U35: =IF(D35="H",S35,0) -> 0 | V35: =ROUND(IF(E35=1,S35,0),2) -> 0 | W35: =IF(AND(U35=0,V35=0),S35,) -> 8545.6472
A36: 31 | B36: 4002 | C36: Renaissance Charter School at Summit | D36: ='4002'!G$135 -> 0 | E36: ='4002'!H$133 | F36: =-K36/I36 -> 0.012129257 | G36: =-K36/J36 -> 0.012779488 | I36: ='4002'!I$128 -> 8507541.1 | J36: =I36-'4002'!I$53 -> 8074670.4 | K36: ='4002'!I$135 -> -103190.15 | L36: =I36+K36 -> 8404350.9 | M36: ='4002'!I$145 -> -83571.71 | O36: ='4002'!E$30 -> 978.13 | Q36: =I36/O36 -> 8697.7611 | R36: =K36/O36 -> -105.49738 | S36: =L36/O36 -> 8592.2637 | U36: =IF(D36="H",S36,0) -> 0 | V36: =ROUND(IF(E36=1,S36,0),2) -> 0 | W36: =IF(AND(U36=0,V36=0),S36,) -> 8592.2637
A37: 32 | B37: 4012 | C37: Somerset Academy Canyons Middle School | D37: ='4012'!G$135 -> H | E37: ='4012'!H$133 | F37: =-K37/I37 -> 0.0079786139 | G37: =-K37/J37 -> 0.0084002546 | I37: ='4012'!I$128 -> 4829074.4 | J37: =I37-'4012'!I$53 -> 4586684.8 | K37: ='4012'!I$135 -> -38529.32 | L37: =I37+K37 -> 4790545.1 | M37: ='4012'!I$145 -> -25188.38 | O37: ='4012'!E$30 -> 595.22 | Q37: =I37/O37 -> 8113.0916 | R37: =K37/O37 -> -64.731225 | S37: =L37/O37 -> 8048.3604 | U37: =IF(D37="H",S37,0) -> 8048.3604 | V37: =ROUND(IF(E37=1,S37,0),2) -> 0 | W37: =IF(AND(U37=0,V37=0),S37,) -> 0
A38: 33 | B38: 4013 | C38: Somerset Academy Canyons High School | D38: ='4013'!G$135 -> H | E38: ='4013'!H$133 | F38: =-K38/I38 -> 0.0047144197 | G38: =-K38/J38 -> 0.0049408581 | I38: ='4013'!I$128 -> 7943978.8 | J38: =I38-'4013'!I$53 -> 7579908 | K38: ='4013'!I$135 -> -37451.25 | L38: =I38+K38 -> 7906527.5 | M38: ='4013'!I$145 -> -105259.46 | O38: ='4013'!E$30 -> 1011.97 | Q38: =I38/O38 -> 7850.0141 | R38: =K38/O38 -> -37.008261 | S38: =L38/O38 -> 7813.0058 | U38: =IF(D38="H",S38,0) -> 7813.0058 | V38: =ROUND(IF(E38=1,S38,0),2) -> 0 | W38: =IF(AND(U38=0,V38=0),S38,) -> 0
A39: 34 | B39: 4020 | C39: Franklin Academy - Boynton Beach | D39: ='4020'!G$135 -> 0 | E39: ='4020'!H$133 | F39: =-K39/I39 -> 0.0096651466 | G39: =-K39/J39 -> 0.010104195 | I39: ='4020'!I$128 -> 10716216 | J39: =I39-'4020'!I$53 -> 10250574 | K39: ='4020'!I$135 -> -103573.8 | L39: =I39+K39 -> 10612642 | M39: ='4020'!I$145 -> -100983.88 | O39: ='4020'!E$30 -> 1237.11 | Q39: =I39/O39 -> 8662.2985 | R39: =K39/O39 -> -83.722385 | S39: =L39/O39 -> 8578.5761 | U39: =IF(D39="H",S39,0) -> 0 | V39: =ROUND(IF(E39=1,S39,0),2) -> 0 | W39: =IF(AND(U39=0,V39=0),S39,) -> 8578.5761
A40: 35 | B40: 4030 | C40: Olympus International Academy | D40: ='4030'!G$135 -> 0 | E40: ='4030'!H$133 | F40: =-K40/I40 -> 0.039107471 | G40: =-K40/J40 -> 0.041129245 | I40: ='4030'!I$128 -> 2689489.2 | J40: =I40-'4030'!I$53 -> 2557283.1 | K40: ='4030'!I$135 -> -105179.12 | L40: =I40+K40 -> 2584310.1 | M40: ='4030'!I$145 -> -18238.12 | O40: ='4030'!E$30 -> 303.92 | Q40: =I40/O40 -> 8849.3327 | R40: =K40/O40 -> -346.07502 | S40: =L40/O40 -> 8503.2577 | U40: =IF(D40="H",S40,0) -> 0 | V40: =ROUND(IF(E40=1,S40,0),2) -> 0 | W40: =IF(AND(U40=0,V40=0),S40,) -> 8503.2577
A41: 36 | B41: 4031 | C41: Somerset Academy Wellington | D41: ='4031'!G$135 -> 0 | E41: ='4031'!H$133 | F41: =-K41/I41 -> 0.026160087 | G41: =-K41/J41 -> 0.027657314 | I41: ='4031'!I$128 -> 3899757.7 | J41: =I41-'4031'!I$53 -> 3688644.6 | K41: ='4031'!I$135 -> -102018 | L41: =I41+K41 -> 3797739.7 | M41: ='4031'!I$145 -> -72060.34 | O41: ='4031'!E$30 -> 451.96 | Q41: =I41/O41 -> 8628.5462 | R41: =K41/O41 -> -225.72352 | S41: =L41/O41 -> 8402.8227 | U41: =IF(D41="H",S41,0) -> 0 | V41: =ROUND(IF(E41=1,S41,0),2) -> 0 | W41: =IF(AND(U41=0,V41=0),S41,) -> 8402.8227
A42: 37 | B42: 4041 | C42: Somerset Academy Boca Middle School | D42: ='4041'!G$135 -> H | E42: ='4041'!H$133 | F42: =-K42/I42 -> 0.019130873 | G42: =-K42/J42 -> 0.019999996 | I42: ='4041'!I$128 -> 772754.61 | J42: =I42-'4041'!I$53 -> 739173.63 | K42: ='4041'!I$135 -> -14783.47 | L42: =I42+K42 -> 757971.14 | M42: ='4041'!I$145 -> -3894.05 | O42: ='4041'!E$30 -> 94.46 | Q42: =I42/O42 -> 8180.7602 | R42: =K42/O42 -> -156.50508 | S42: =L42/O42 -> 8024.2551 | U42: =IF(D42="H",S42,0) -> 8024.2551 | V42: =ROUND(IF(E42=1,S42,0),2) -> 0 | W42: =IF(AND(U42=0,V42=0),S42,) -> 0
A43: 38 | B43: 4050 | C43: Renaissance Charter School at Cypress | D43: ='4050'!G$135 -> 0 | E43: ='4050'!H$133 | F43: =-K43/I43 -> 0.016522973 | G43: =-K43/J43 -> 0.017391062 | I43: ='4050'!I$128 -> 6154463.9 | J43: =I43-'4050'!I$53 -> 5847258.9 | K43: ='4050'!I$135 -> -101690.04 | L43: =I43+K43 -> 6052773.9 | M43: ='4050'!I$145 -> -94758.16 | O43: ='4050'!E$30 -> 718.76 | Q43: =I43/O43 -> 8562.6133 | R43: =K43/O43 -> -141.47983 | S43: =L43/O43 -> 8421.1335 | U43: =IF(D43="H",S43,0) -> 0 | V43: =ROUND(IF(E43=1,S43,0),2) -> 0 | W43: =IF(AND(U43=0,V43=0),S43,) -> 8421.1335
...

Sheet Charter Schools
B1: Palm Beach County Charter Schools
B3: Sorted by School Number | E3: Sorted by School Name
B4: Dept # | C4: Charter School Name | E4: Dept # | F4: Charter School Name
A5: 1 | B5: 0040 | C5: PALM BEACH PREPARATORY ACADEMY MS | E5: 3400 | F5: Believers Academy
A6: 2 | B6: 0100 | C6: THE LEARNING CENTER HS | E6: 3941 | F6: Ben Gamla Charter School
A7: 3 | B7: 1461 | C7: Inlet Grove Community High School | E7: 4102 | F7: BridgePrep Academy of PB
A8: 4 | B8: 1571 | C8: South Tech Charter Academy | E8: 4100 | F8: Connections Education Center of the Palm Beaches
A9: 5 | B9: 2521 | C9: Ed Venture | E9: 2521 | F9: Ed Venture
A10: 6 | B10: 2531 | C10: Potentials Charter School | E10: 3398 | F10: Everglades Preparatory Academy
A11: 7 | B11: 2791 | C11: The Learning Center at The Els Center of Excellence | E11: 4081 | F11: Florida Futures Academy - North Campus
A12: 8 | B12: 2801 | C12: Palm Beach Maritime Academy Elementary | E12: 4020 | F12: Franklin Academy - Boynton Beach
A13: 9 | B13: 2911 | C13: Western Academy Charter School | E13: 4061 | F13: Franklin Academy - Palm Beach Gardens
A14: 10 | B14: 2941 | C14: Palm Beach School for Autism | E14: 3961 | F14: Gardens School of Technology Arts
A15: 11 | B15: 3083 | C15: The Learning Academy at The Els Center of Excellence | E15: 3382 | F15: Glades Academy
A16: 12 | B16: 3345 | C16: Career Academy of the Palm Beaches | E16: 3396 | F16: G-Star School of the Arts for Motion Pictures and Television
... A34: 30 | B34: 4001 | C34: Renaissance Charter School at Wellington | E34: 3391 | F34: Seagull Academy for Independent Living
A35: 31 | B35: 4002 | C35: Renaissance Charter School at Summit | E35: 4111 | F35: SLAM HS Palm Beach
A36: 32 | B36: 4012 | C36: Somerset Academy Canyons Middle School | E36: 3413 | F36: Somerset Academy Boca
A37: 33 | B37: 4013 | C37: Somerset Academy Canyons High School | E37: 4041 | F37: Somerset Academy Boca Middle School
A38: 34 | B38: 4020 | C38: Franklin Academy - Boynton Beach | E38: 4013 | F38: Somerset Academy Canyons High School
A39: 35 | B39: 4030 | C39: Olympus International Academy | E39: 4012 | F39: Somerset Academy Canyons Middle School
A40: 36 | B40: 4031 | C40: Somerset Academy Wellington | E40: 3395 | F40: Somerset Academy JFK Charter School
A41: 37 | B41: 4041 | C41: Somerset Academy Boca Middle School | E41: 4091 | F41: Somerset Academy Lakes
A42: 38 | B42: 4050 | C42: Renaissance Charter School at Cypress | E42: 4031 | F42: Somerset Academy Wellington
A43: 39 | B43: 4051 | C43: Renaissance Charter School at Central Palm | E43: 4131 | F43: Somerset Academy Wellington HS
A44: 40 | B44: 4061 | C44: Franklin Academy - Palm Beach Gardens | E44: 1571 | F44: South Tech Charter Academy
A45: 41 | B45: 4080 | C45: University Prep Palm Beach | E45: 3441 | F45: South Tech Preparatory Academy (Middle School)
A46: 42 | B46: 4081 | C46: Florida Futures Academy - North Campus | E46: 4090 | F46: Sports Leadership & Management (SLAM) MS
A47: 43 | B47: 4090 | C47: Sports Leadership & Management (SLAM) MS | E47: 4103 | F47: Sports Leadership Arts Management (SLAM) Acdemy MHS (Boca)
A48: 44 | B48: 4091 | C48: Somerset Academy Lakes | E48: 3083 | F48: The Learning Academy at The Els Center of Excellence
A49: 45 | B49: 4100 | C49: Connections Education Center of the Palm Beaches | E49: 0100 | F49: The Learning Center High School
A50: 46 | B50: 4102 | C50: BridgePrep Academy of PB | E50: 2791 | F50: The Learning Center at The Els Center of Excellence
A51: 47 | B51: 4103 | C51: Sports Leadership Arts Management (SLAM) Acdemy MHS (Boca) | E51: 4080 | F51: University Prep Palm Beach
A52: 48 | B52: 4111 | C52: SLAM HS Palm Beach | E52: 2911 | F52: Western Academy Charter School
A53: 49 | B53: 4131 | C53: Somerset Academy Wellington HS | E53: 3421 | F53: Worthington High School

Sheet Consolidated
B1: (Insert district number in cell A1, enter, then strike F9. Your district data then pulls from Calculation Detail Sheets)
A2: Revenue Estimate Worksheet: All Charter Schools (Consolidated Tab)
A3: ='1461'!A3 -> Based on the FLDOE 2024-25 Final Revenue Calculation Worksheet
A4: School District: | C4: Palm Beach | F4: June 2025
A7: ='1461'!A7:I7 -> 1A. 2023-24 FEFP State and Local Funding
B8: Base Student Allocation: | C8: ='1461'!C8 -> 5330.98 | G8: District Cost Differential: | H8: ='1461'!H8 -> 1.0408
G9: Small District Factor: | H9: ='1461'!H9 -> 1
I10: ='1461'!I10 -> 2024-25
C11: ='1461'!C11 -> Oct 2024 | D11: ='1461'!D11 -> Feb 2025 | E11: Total | F11: Program | H11: Weighted FTE | I11: Base Funding
A12: Program | C12: ='1461'!C12 -> FTE | D12: ='1461'!D12 -> FTE | E12: FTE | F12: Cost Factor | H12: (2) x (3) | I12: (WFTE x BSA x CWF x SDF)
A13: (1) | E13: (2) | F13: (3) | H13: (4) | I13: (5)
A14: 101 Basic K-3 | C14: =SUM('0040:4131'!C14) -> 2083.74 | D14: =SUM('0040:4131'!D14) -> 2033.84 | E14: =SUM('0040:4131'!E14) -> 4117.58 | F14: ='1461'!F14:G14 -> 1.118 | H14: =SUM('1461:4131'!H14) -> 4603.4545 | I14: =SUM('0040:4131'!I14) -> 25542194
A15: 111 Basic K-3 with ESE Services | C15: =SUM('0040:4131'!C15) -> 295.65 | D15: =SUM('0040:4131'!D15) -> 313.76 | E15: =SUM('0040:4131'!E15) -> 609.41 | F15: ='1461'!F15:G15 -> 1.118 | H15: =SUM('1461:4131'!H15) -> 681.3203 | I15: =SUM('0040:4131'!I15) -> 3780294.8
A16: 102 Basic 4-8 | C16: =SUM('0040:4131'!C16) -> 3334.33 | D16: =SUM('0040:4131'!D16) -> 3332.72 | E16: =SUM('0040:4131'!E16) -> 6667.05 | F16: ='1461'!F16:G16 -> 1 | H16: =SUM('1461:4131'!H16) -> 6648.1 | I16: =SUM('0040:4131'!I16) -> 36992020
A17: 112 Basic 4-8 with ESE Services | C17: =SUM('0040:4131'!C17) -> 595.47 | D17: =SUM('0040:4131'!D17) -> 604.73 | E17: =SUM('0040:4131'!E17) -> 1200.2 | F17: ='1461'!F17:G17 -> 1 | H17: =SUM('1461:4131'!H17) -> 1188.02 | I17: =SUM('0040:4131'!I17) -> 6659290.4
A18: 103 Basic 9-12 | C18: =SUM('0040:4131'!C18) -> 2243.09 | D18: =SUM('0040:4131'!D18) -> 2289.49 | E18: =SUM('0040:4131'!E18) -> 4532.58 | F18: ='1461'!F18:G18 -> 0.978 | H18: =SUM('1461:4131'!H18) -> 4432.8633 | I18: =SUM('0040:4131'!I18) -> 24595671
A19: 113 Basic 9-12 with ESE Services | C19: =SUM('0040:4131'!C19) -> 626.39 | D19: =SUM('0040:4131'!D19) -> 635.27 | E19: =SUM('0040:4131'!E19) -> 1261.66 | F19: ='1461'!F19:G19 -> 0.978 | H19: =SUM('1461:4131'!H19) -> 1231.9279 | I19: =SUM('0040:4131'!I19) -> 6846293.8
A20: 254 ESE Level 4 (Grade Level PK-3) | C20: =SUM('0040:4131'!C20) -> 88.99 | D20: =SUM('0040:4131'!D20) -> 85.04 | E20: =SUM('0040:4131'!E20) -> 174.03 | F20: ='1461'!F20:G20 -> 3.697 | H20: =SUM('1461:4131'!H20) -> 643.389 | I20: =SUM('0040:4131'!I20) -> 3569833.6
A21: 254 ESE Level 4 (Grade Level 4-8) | C21: =SUM('0040:4131'!C21) -> 78.01 | D21: =SUM('0040:4131'!D21) -> 75.42 | E21: =SUM('0040:4131'!E21) -> 153.43 | F21: ='1461'!F21:G21 -> 3.697 | H21: =SUM('1461:4131'!H21) -> 567.2306 | I21: =SUM('0040:4131'!I21) -> 3147269.9
A22: 254 ESE Level 4 (Grade Level 9-12) | C22: =SUM('0040:4131'!C22) -> 61.08 | D22: =SUM('0040:4131'!D22) -> 62.11 | E22: =SUM('0040:4131'!E22) -> 123.19 | F22: ='1461'!F22:G22 -> 3.697 | H22: =SUM('1461:4131'!H22) -> 426.0793 | I22: =SUM('0040:4131'!I22) -> 2526965.5
A23: 255 ESE Level 5 (Grade Level PK-3) | C23: =SUM('0040:4131'!C23) -> 46.01 | D23: =SUM('0040:4131'!D23) -> 52.32 | E23: =SUM('0040:4131'!E23) -> 98.33 | F23: ='1461'!F23:G23 -> 5.992 | H23: =SUM('1461:4131'!H23) -> 589.1934 | I23: =SUM('0040:4131'!I23) -> 3269130.1
A24: 255 ESE Level 5 (Grade Level 4-8) | C24: =SUM('0040:4131'!C24) -> 49.48 | D24: =SUM('0040:4131'!D24) -> 55.69 | E24: =SUM('0040:4131'!E24) -> 105.17 | F24: ='1461'!F24:G24 -> 5.992 | H24: =SUM('1461:4131'!H24) -> 630.1787 | I24: =SUM('0040:4131'!I24) -> 3496536.4
A25: 255 ESE Level 5 (Grade Level 9-12) | C25: =SUM('0040:4131'!C25) -> 40.94 | D25: =SUM('0040:4131'!D25) -> 43.53 | E25: =SUM('0040:4131'!E25) -> 84.47 | F25: ='1461'!F25:G25 -> 5.992 | H25: =SUM('1461:4131'!H25) -> 497.1562 | I25: =SUM('0040:4131'!I25) -> 2808333
... A29: 300 Career Education (Grades 9-12) | C29: =SUM('0040:4131'!C29) -> 286.93 | D29: =SUM('0040:4131'!D29) -> 293.68 | E29: =SUM('0040:4131'!E29) -> 580.61 | F29: ='1461'!F29:G29 -> 1.079 | H29: =SUM('1461:4131'!H29) -> 626.4782 | I29: =SUM('0040:4131'!I29) -> 3476004.3
A30: Totals non-virtual schools | C30: =SUM(C14:C29) -> 10891.49 | D30: =SUM(D14:D29) -> 10905.71 | E30: =SUM(E14:E29) -> 21797.2 | H30: =SUM(H14:H29) -> 25250.974 | I30: =SUM(I14:I29) -> 1.4052929e+08
A31: Virtual schools ($5,476.28/FTE) | C31: =Virtual!E22 -> 0 | D31: =Virtual!E23 -> 0 | E31: =IF(D$30=0,C31*2,C31+D31) -> 0 | F31: 0.7 | H31: =ROUND(E31*F31,4) -> 0 | I31: =Virtual!E28 -> 0
A32: Totals all schools | C32: =SUM(C30:C31) -> 10891.49 | D32: =SUM(D30:D31) -> 10905.71 | E32: =SUM(E30:E31) -> 21797.2 | I32: =SUM(I30:I31) -> 1.4052929e+08 | J32: =I32+I68+I86+I91+I93+I95+I97+I99+I108+J115 -> 2.0675613e+08
A34: Letters in Parentheses Refer to Notes at Bottom of Worksheet:
I36: 2018-19
C37: =C11 -> Oct 2024 | D37: =D11 -> Feb 2025 | E37: Total | I37: Base Funding
A38: Additional FTE (a) | C38: FTE | D38: FTE | E38: FTE | I38: (WFTE x BSA x DCD)
A39: Advanced Placement | C39: =SUM('1461:4111'!C38) -> 0 | D39: =SUM('1461:4111'!D38) -> 0 | E39: =SUM('1461:4111'!E38) -> 0 | I39: =SUM('1461:4111'!I38) -> 0
A40: International Baccalaureate | C40: =SUM('1461:4111'!C39) -> 0 | D40: =SUM('1461:4111'!D39) -> 0 | E40: =SUM('1461:4111'!E39) -> 0 | I40: =SUM('1461:4111'!I39) -> 0
A41: Advanced International Certificate | C41: =SUM('1461:4111'!C40) -> 0 | D41: =SUM('1461:4111'!D40) -> 0 | E41: =SUM('1461:4111'!E40) -> 0 | I41: =SUM('1461:4111'!I40) -> 0
A42: Industry Certified Career Education | C42: =SUM('1461:4111'!C41) -> 0 | D42: =SUM('1461:4111'!D41) -> 0 | E42: =SUM('1461:4111'!E41) -> 0 | I42: =SUM('1461:4111'!I41) -> 0
A43: Early High School Graduation | C43: =SUM('1461:4111'!C42) -> 0 | D43: =SUM('1461:4111'!D42) -> 0 | E43: =SUM('1461:4111'!E42) -> 0 | I43: =SUM('1461:4111'!I42) -> 0
A44: Small District ESE Supplement | C44: =SUM('1461:4111'!C43) -> 0 | D44: =SUM('1461:4111'!D43) -> 0 | E44: =SUM('1461:4111'!E43) -> 0 | I44: =SUM('1461:4111'!I43) -> 0
B45: Total Additional FTE | C45: =SUM(C39:C44) -> 0 | D45: =SUM(D39:D44) -> 0 | E45: =SUM(E39:E44) -> 0 | H45: Additional Base Funds | I45: =SUM(I39:I44) -> 0
B47: Total Funded Weighted FTE | E47: =H30+E45 -> 25250.974 | H47: Total Base Funding | I47: =SUM(I45,I32) -> 1.4052929e+08
A50: 1B. Classroom Teacher & Other Instructional Personnel Salary Increase
...

Sheet Cumulative Payments
A1: Cumulative Payments
D4: Net Revenue | E4: July | F4: August | G4: Sept | H4: Oct | I4: Nov | J4: Dec | K4: Jan | L4: Feb | M4: March | N4: April | O4: May | P4: June | Q4: Total | R4: Payments excluding current month
A5: 1 | B5: 0040 | C5: Palm Beach Preparatory Middle School | D5: 292508.5 | H5: 22026.35 | I5: 22018.93 | J5: 38571.97 | K5: 38571.97 | L5: 34661.77 | M5: 34164.38 | N5: 34164.38 | O5: 34618.99 | P5: 34618.99 | Q5: =SUM(E5:P5) -> 293417.73 | R5: =SUM(E5:O5) -> 258798.74
A6: 2 | B6: 0100 | C6: The Learning Center Highschool | D6: 267225.58 | H6: 26461.7 | I6: 26461.7 | J6: 32140.48 | K6: 32140.48 | L6: 30503.88 | M6: 29879.34 | N6: 29879.33 | O6: 30024.89 | P6: 30024.89 | Q6: =SUM(E6:P6) -> 267516.69 | R6: =SUM(E6:O6) -> 237491.8
A7: 3 | B7: 1461 | C7: Inlet Grove Community High School | D7: 5806353.1 | E7: 543134.93 | F7: 544837.4 | G7: 544837.4 | H7: 544837.4 | I7: 544837.4 | J7: 452087.81 | K7: 452087.81 | L7: 442547.57 | M7: 434286.35 | N7: 434286.34 | O7: 443499.84 | P7: 443499.84 | Q7: =SUM(E7:P7) -> 5824780.1 | R7: =SUM(E7:O7) -> 5381280.2
A8: 4 | B8: 1571 | C8: South Tech Charter Academy | D8: 9512536.4 | E8: 744106.29 | F8: 746335.74 | G8: 746356.02 | H8: 746356.02 | I8: 746356.02 | J8: 824241.24 | K8: 824241.24 | L8: 836014.93 | M8: 824632.23 | N8: 824632.22 | O8: 839353.17 | P8: 839353.18 | Q8: =SUM(E8:P8) -> 9541978.3 | R8: =SUM(E8:O8) -> 8702625.1
A9: 5 | B9: 2521 | C9: Ed Venture | D9: 1344435.9 | E9: 96199.14 | F9: 96422.86 | G9: 96437.43 | H9: 96437.43 | I9: 96437.44 | J9: 122776.57 | K9: 122776.57 | L9: 124850.17 | M9: 123024.56 | N9: 123024.56 | O9: 124009.85 | P9: 124009.85 | Q9: =SUM(E9:P9) -> 1346406.4 | R9: =SUM(E9:O9) -> 1222396.6
A10: 6 | B10: 2531 | C10: Bodwell Academy | D10: 1540285.8 | E10: 79086.62 | F10: 79408.67 | G10: =79413.53+33368.87 -> 112782.4 | H10: 112782.4 | I10: 112782.4 | J10: 141539.98 | K10: 141539.98 | L10: 154523.73 | M10: 151459.91 | N10: 151459.91 | O10: 152109.29 | P10: 152109.29 | Q10: =SUM(E10:P10) -> 1541584.6 | R10: =SUM(E10:O10) -> 1389475.3
A11: 7 | B11: 2791 | C11: The Learning Center @ The Els Center of Excl | D11: ='Annual Rev & Fees'!L12 -> 5354299.6 | E11: 373318.84 | F11: 374880.45 | G11: 374908.37 | H11: 374908.37 | I11: 374908.37 | J11: 493269.72 | K11: 493269.72 | L11: 493203.62 | M11: 481492.28 | N11: 481492.27 | O11: 483667.18 | P11: 483667.18 | Q11: =SUM(E11:P11) -> 5282986.4 | R11: =SUM(E11:O11) -> 4799319.2
A12: 8 | B12: 2801 | C12: Palm Beach Maritime Academy Elementary | D12: 5190302.7 | E12: 438241.71 | F12: 439779.53 | G12: 439835.38 | H12: 439835.38 | I12: 439835.38 | J12: 430636.58 | K12: 430636.58 | L12: 433305.67 | M12: 424549.11 | N12: 424549.11 | O12: 432065.16 | P12: 432065.16 | Q12: =SUM(E12:P12) -> 5205334.8 | R12: =SUM(E12:O12) -> 4773269.6
A13: 9 | B13: 2911 | C13: Western Academy Charter School | D13: 6044517.9 | E13: 458554.15 | F13: 460340.26 | G13: 460361.47 | H13: 460361.47 | I13: 460361.47 | J13: 542615.68 | K13: 542615.68 | L13: 542100.03 | M13: 529301.92 | N13: 529301.91 | O13: 538638.55 | P13: 538638.54 | Q13: =SUM(E13:P13) -> 6063191.1 | R13: =SUM(E13:O13) -> 5524552.6
A14: 10 | B14: 2941 | C14: Palm Beach School for Autism | D14: 10296273 | E14: 866760.71 | F14: 870181.98 | G14: 870232.61 | H14: 870232.61 | I14: 870232.61 | J14: 864585.46 | K14: 864585.46 | L14: 861472.91 | M14: 839497.25 | N14: 839497.25 | O14: 844552.06 | P14: 844552.07 | Q14: =SUM(E14:P14) -> 10306383 | R14: =SUM(E14:O14) -> 9461830.9
A15: 11 | B15: 3083 | C15: The Learning Academy @ The Els Center of Excl | D15: 5814048.5 | E15: 418062.5 | F15: 419801.64 | G15: 419829.87 | H15: 419829.87 | I15: 419829.87 | J15: 538568.26 | K15: 538568.27 | L15: 538568.26 | M15: 525247.48 | N15: 525247.48 | O15: 527383.21 | P15: 527383.21 | Q15: =SUM(E15:P15) -> 5818319.9 | R15: =SUM(E15:O15) -> 5290936.7
A16: 12 | B16: 3345 | C16: Career Academy of the Palm Beaches | D16: 1082994.9 | E16: 85480.95 | F16: 85606.82 | G16: 85621.5 | H16: 85621.5 | I16: 85621.5 | J16: 98560.43 | K16: 98560.43 | L16: 92162.42 | M16: 91439.84 | N16: 91439.84 | O16: 92461.52 | P16: 92461.52 | Q16: =SUM(E16:P16) -> 1085038.3 | R16: =SUM(E16:O16) -> 992576.75
A17: 13 | B17: 3381 | C17: Imagine Schools - Chancellor Campus | D17: 8983077.2 | E17: 752379.59 | F17: 755267.04 | G17: 755288.45 | H17: 755288.45 | I17: 755288.46 | J17: 752295.59 | K17: 752295.59 | L17: 755542.99 | M17: 737357.75 | N17: 737357.75 | O17: 751183.18 | P17: 751183.19 | Q17: =SUM(E17:P17) -> 9010728 | R17: =SUM(E17:O17) -> 8259544.8
A18: 14 | B18: 3382 | C18: Glades Academy | D18: 2386904 | E18: 183876.95 | F18: 184363.53 | G18: 184416.79 | H18: 184416.79 | I18: 184416.79 | J18: 207711.94 | K18: 207711.94 | L18: 211779.12 | M18: 209552.53 | N18: 209552.53 | O18: 212982.74 | P18: 212982.73 | Q18: =SUM(E18:P18) -> 2393764.4 | R18: =SUM(E18:O18) -> 2180781.7
A19: 15 | B19: 3391 | C19: Seagull Academy for Independent Living | D19: =E19+F19 -> 66663.93 | E19: 33300.01 | F19: 33363.92 | G19: 0 | I19: 0 | J19: 0 | K19: 0 | L19: 0 | O19: 0 | P19: 0 | Q19: =SUM(E19:P19) -> 66663.93 | R19: =SUM(E19:O19) -> 66663.93
A20: 16 | B20: 3394 | C20: Montessori Academy of Early Enrichment | D20: 1634923.5 | E20: 144251.51 | F20: 144800.1 | G20: 144845.64 | H20: 144845.64 | I20: 144845.64 | J20: 133747.97 | K20: 133747.97 | L20: 131505.39 | M20: 128083.41 | N20: 128083.41 | O20: 130502.71 | P20: 130502.7 | Q20: =SUM(E20:P20) -> 1639762.1 | R20: =SUM(E20:O20) -> 1509259.4
A21: 17 | B21: 3395 | C21: Somerset Academy Charter School | D21: 4354218.3 | E21: 370530.88 | F21: 371985.33 | G21: 372039.83 | H21: 372039.83 | I21: 372039.83 | J21: 361457.36 | K21: 361457.36 | L21: 361912.76 | M21: 352688.78 | N21: 352688.77 | O21: 359356.86 | P21: 359356.85 | Q21: =SUM(E21:P21) -> 4367554.4 | R21: =SUM(E21:O21) -> 4008197.6
A22: 18 | B22: 3396 | C22: G-Star School of the Arts | D22: 5757622.9 | E22: 457612.31 | F22: 459102.47 | G22: 465112.24 | H22: 465112.24 | I22: 465112.24 | J22: 506201.79 | K22: 506201.79 | L22: 494399.69 | M22: 484692.04 | N22: 484692.04 | O22: 494003.49 | P22: 494003.49 | Q22: =SUM(E22:P22) -> 5776245.8 | R22: =SUM(E22:O22) -> 5282242.3
A23: 19 | B23: 3398 | C23: Everglades Preparatory Academy | D23: 901586.45 | E23: 82429.48 | F23: 82658.69 | G23: 82683.14 | H23: 82683.14 | I23: 82683.14 | J23: 72136.72 | K23: 72136.73 | L23: 69725.15 | M23: 68612.57 | N23: 68612.56 | O23: 70040.23 | P23: 70040.22 | Q23: =SUM(E23:P23) -> 904441.77 | R23: =SUM(E23:O23) -> 834401.55
A24: 20 | B24: 3400 | C24: Believers Academy | D24: 1119947.6 | E24: 93468.86 | F24: 93648.32 | G24: 93667.31 | H24: 93667.3 | I24: 93667.31 | J24: 95159.11 | K24: 95159.11 | L24: 93255.37 | M24: 92063.72 | N24: 92063.72 | O24: 93334.52 | P24: 93334.51 | Q24: =SUM(E24:P24) -> 1122489.2 | R24: =SUM(E24:O24) -> 1029154.6
A25: 21 | B25: 3401 | C25: Quantum High School | D25: 3485855.6 | E25: 261804.23 | F25: 262560.39 | G25: 262610.42 | H25: 262610.42 | I25: 262610.42 | J25: 313466.47 | K25: 313466.48 | L25: 312882.6 | M25: 308461.03 | N25: 308461.03 | O25: 313942.58 | P25: 313942.57 | Q25: =SUM(E25:P25) -> 3496818.6 | R25: =SUM(E25:O25) -> 3182876.1
A26: 22 | B26: 3413 | C26: Somerset Academy Boca | D26: 3382971.5 | E26: 271329 | F26: 272395.59 | G26: 272417.49 | H26: 272417.49 | I26: 272417.49 | J26: 293048.83 | K26: 293048.84 | L26: 292984.35 | M26: 285728.11 | N26: 285728.1 | O26: 290836.2 | P26: 290836.19 | Q26: =SUM(E26:P26) -> 3393187.7 | R26: =SUM(E26:O26) -> 3102351.5
A27: 23 | B27: 3421 | C27: Worthington High School | D27: 3811855.1 | E27: 269507.72 | F27: 270454.28 | G27: 270504.44 | H27: 270504.44 | I27: 270504.44 | J27: 351143.65 | K27: 351143.65 | L27: 356804.56 | M27: 350321.97 | N27: 350321.97 | O27: 356514.32 | P27: 356514.31 | Q27: =SUM(E27:P27) -> 3824239.7 | R27: =SUM(E27:O27) -> 3467725.4
A28: 24 | B28: 3431 | C28: Renaissance Charter School at WPB | D28: 8700721.4 | E28: 702850.13 | F28: 705612.5 | G28: 705634.01 | H28: 705634.01 | I28: 705634.01 | J28: 745453.32 | K28: 745453.33 | L28: 751384.91 | M28: 733266.29 | N28: 733266.29 | O28: 746652.36 | P28: 746652.35 | Q28: =SUM(E28:P28) -> 8727493.5 | R28: =SUM(E28:O28) -> 7980841.2
A29: 25 | B29: 3441 | C29: South Tech Preparatory Academy (MS) | D29: 4366954.8 | E29: 362240.2 | F29: 363336.93 | G29: 363387.69 | H29: 363387.68 | I29: 363387.69 | J29: 367176.42 | K29: 367176.42 | L29: 367790.18 | M29: 362267.89 | N29: 362267.89 | O29: 369101.12 | P29: 369101.12 | Q29: =SUM(E29:P29) -> 4380621.2 | R29: =SUM(E29:O29) -> 4011520.1
A30: 26 | B30: 3924 | C30: Palm Beach Maritime Academy Secondary | D30: 3626197.5 | E30: 321097.51 | F30: 322121.01 | G30: 322172.35 | H30: 322172.35 | I30: 322172.36 | J30: 292239.55 | K30: 292239.55 | L30: 290536.23 | M30: 285361.66 | N30: 285361.66 | O30: 290997.09 | P30: 290997.08 | Q30: =SUM(E30:P30) -> 3637468.4 | R30: =SUM(E30:O30) -> 3346471.3
A31: 27 | B31: 3941 | C31: Ben Gamla Charter School | D31: 1992087.6 | E31: 183588.24 | F31: 184304.2 | G31: 184326.33 | H31: 184326.33 | I31: 184326.33 | J31: 155101.01 | K31: 155101.01 | L31: 155623.69 | M31: 151347.61 | N31: 151347.6 | O31: 154326.01 | P31: 154326 | Q31: =SUM(E31:P31) -> 1998044.4 | R31: =SUM(E31:O31) -> 1843718.4
A32: 28 | B32: 3961 | C32: Gardens School of Technology Arts | D32: 2459958.1 | E32: 227226.19 | F32: 228128.07 | G32: 222052.75 | H32: 222052.75 | I32: 222052.75 | J32: 192742.05 | K32: 192742.06 | L32: 194781.58 | M32: 189544.97 | N32: 189544.97 | O32: 193381 | P32: 193381 | Q32: =SUM(E32:P32) -> 2467630.1 | R32: =SUM(E32:O32) -> 2274249.1
A33: 29 | B33: 3971 | C33: Palm Beach Perparatory Charter Academy | D33: 5001996.6 | E33: 458603.06 | F33: 459980.77 | G33: 460031.21 | H33: 460031.21 | I33: 460031.21 | J33: 422865.75 | K33: 422865.75 | L33: 379686.32 | M33: 369475.33 | N33: 369475.33 | O33: 377682.61 | P33: 377682.6 | Q33: =SUM(E33:P33) -> 5018411.1 | R33: =SUM(E33:O33) -> 4640728.5
A34: 30 | B34: 4001 | C34: Renaissance Charter School at Wellington | D34: 5814726.2 | E34: 501572.04 | F34: 503475.79 | G34: 503529.61 | H34: 503529.6 | I34: 503529.61 | J34: 476778.75 | K34: 476778.75 | L34: 478450.35 | M34: 466770.43 | N34: 466770.42 | O34: 475652.15 | P34: 475652.15 | Q34: =SUM(E34:P34) -> 5832489.7 | R34: =SUM(E34:O34) -> 5356837.5
A35: 31 | B35: 4002 | C35: Renaissance Charter School at Summit | D35: 8462138.7 | E35: 777532.13 | F35: 780625.73 | G35: 780680.65 | H35: 780680.65 | I35: 780680.66 | J35: 662598.02 | K35: 662598.02 | L35: 661991.35 | M35: 643687.88 | N35: 643687.87 | O35: 656579.85 | P35: 656579.84 | Q35: =SUM(E35:P35) -> 8487922.6 | R35: =SUM(E35:O35) -> 7831342.8
A36: 32 | B36: 4012 | C36: Somerset Academy Canyons Middle School | D36: 4800049 | E36: 442138 | F36: 443875.95 | G36: 443896.27 | H36: 443896.27 | I36: 443896.27 | J36: 375074.97 | K36: 375074.97 | L36: 374624.01 | M36: 364393.07 | N36: 364393.07 | O36: 372235.31 | P36: 372235.3 | Q36: =SUM(E36:P36) -> 4815733.5 | R36: =SUM(E36:O36) -> 4443498.2
A37: 33 | B37: 4013 | C37: Somerset Academy Canyons High School | D37: 7984818.9 | E37: 654398.58 | F37: 657017.1 | G37: 657037.07 | H37: 657037.07 | I37: 657037.07 | J37: 680253.26 | K37: 680253.26 | L37: 682191.99 | M37: 664898.38 | N37: 664898.38 | O37: 678382.41 | P37: 678382.4 | Q37: =SUM(E37:P37) -> 8011787 | R37: =SUM(E37:O37) -> 7333404.6
A38: 34 | B38: 4020 | C38: Franklin Academy - Boynton Beach | D38: 10680913 | E38: 848921.99 | F38: 852093.97 | G38: 852147.55 | H38: 852147.55 | I38: 852147.55 | J38: 925462.84 | K38: 925462.84 | L38: 930732.55 | M38: 910449.09 | N38: 910449.08 | O38: 926805.61 | P38: 926805.6 | Q38: =SUM(E38:P38) -> 10713626 | R38: =SUM(E38:O38) -> 9786820.6
A39: 35 | B39: 4030 | C39: Olympus International Academy | D39: 2594814.5 | E39: 227815.64 | F39: 228733.02 | G39: 228790.53 | H39: 228790.53 | I39: 228790.53 | J39: 210714 | K39: 210714.01 | L39: 210605.27 | M39: 204965.25 | N39: 204965.25 | O39: 208832.09 | P39: 208832.08 | Q39: =SUM(E39:P39) -> 2602548.2 | R39: =SUM(E39:O39) -> 2393716.1
A40: 36 | B40: 4031 | C40: Somerset Academy Wellington | D40: 3857975.1 | E40: 375586.71 | F40: 377076.81 | G40: 377131.17 | H40: 377131.17 | I40: 377131.18 | J40: 284716.4 | K40: 284716.4 | L40: 287538.09 | M40: 279236.79 | N40: 279236.79 | O40: 285149.29 | P40: 285149.28 | Q40: =SUM(E40:P40) -> 3869800.1 | R40: =SUM(E40:O40) -> 3584650.8
A41: 37 | B41: 4041 | C41: Somerset Academy Boca Middle School | D41: 759402.41 | E41: 60968.85 | F41: 61206.94 | G41: 61214.31 | H41: 61214.31 | I41: 61214.31 | J41: 65401.79 | K41: 65401.79 | L41: 65859.06 | M41: 64230.26 | N41: 64230.26 | O41: 65461.66 | P41: 65461.65 | Q41: =SUM(E41:P41) -> 761865.19 | R41: =SUM(E41:O41) -> 696403.54
A42: 38 | B42: 4050 | C42: Renaissance Charter School at Cypress | D42: 6128565.2 | E42: 547951.48 | F42: 550135.93 | G42: 550189.84 | H42: 550189.83 | I42: 550189.84 | J42: 489528.4 | K42: 489528.4 | L42: 490763.47 | M42: 477522.02 | N42: 477522.01 | O42: 487005.43 | P42: 487005.42 | Q42: =SUM(E42:P42) -> 6147532.1 | R42: =SUM(E42:O42) -> 5660526.6
...

Sheet 0040
A1: 50 | B1: (Insert district number in cell A1, enter, then strike F9. Your district data then pulls from Calculation Detail Sheets) | N1: =A1 -> 50 | O1: (Insert district number in cell A1, enter, then strike F9. Your district data then pulls from Calculation Detail Sheets)
A2: Revenue Estimate Worksheet: Palm Beach Preparatory Middle School 0040 | N2: Revenue Estimate Worksheet for___________Charter School
A3: ='1461'!A3 -> Based on the FLDOE 2024-25 Final Revenue Calculation Worksheet | N3: =A3 -> Based on the FLDOE 2024-25 Final Revenue Calculation Worksheet
A4: School District: | C4: Palm Beach | F4: FY 25 Final Payment | N4: School District: | P4: =C4 -> Palm Beach
A7: 1A. 2024-25 FEFP State and Local Funding | N7: =A7 -> 1A. 2024-25 FEFP State and Local Funding
B8: Base Student Allocation: | C8: 5330.98 | G8: Comparable Wage Factor: | H8: 1.0408 | N8: Base Student Allocation | P8: =C8 -> 5330.98 | R8: Comparable Wage Factor: | T8: =H8 -> 1.0408
G9: Small District Factor: | H9: 1 | R9: Small District Factor: | T9: =H9 -> 1
I10: 2024-25 | U10: =I10 -> 2024-25
C11: Oct 2024 | D11: Feb 2025 | E11: Total | F11: Program | H11: Weighted FTE | I11: Base Funding | R11: Program | T11: Weighted FTE | U11: Base Funding
A12: Program | C12: FTE | D12: FTE | E12: FTE | F12: Cost Factor | H12: (2) x (3) | I12: (WFTE x BSA x CWF x SDF) | N12: Program | P12: Number of FTE | R12: Cost Factor | T12: (2) x (3) | U12: =I12 -> (WFTE x BSA x CWF x SDF)
A13: (1) | E13: (2) | F13: (3) | H13: (4) | I13: (5) | N13: (1) | P13: (2) | R13: (3) | T13: (4) | U13: (5)
A14: 101 Basic K-3 | D14: 0 | E14: =IF(D$30=0,C14*2,C14+D14) -> 0 | F14: 1.118 | H14: =ROUND(E14*F14,4) -> 0 | I14: =ROUND(ROUND(ROUND(H14*$C$8,4)*($H$8),2)*(MAX($H$9,1)),2) -> 0 | N14: 101 Basic K-3 | P14: =IF($H$133=1,E14,0) -> 0 | R14: 1 | T14: =ROUND(P14*R14,4) -> 0 | U14: =ROUND(ROUND(ROUND(T14*$C$8,4)*($H$8),2)*(MAX($H$9,1)),2) -> 0
A15: 111 Basic K-3 with ESE Services | D15: 0 | E15: =IF(D$30=0,C15*2,C15+D15) -> 0 | F15: 1.118 | H15: =ROUND(E15*F15,4) -> 0 | I15: =ROUND(ROUND(ROUND(H15*$C$8,4)*($H$8),2)*(MAX($H$9,1)),2) -> 0 | J15: =IF(ROUND(E15,2)=ROUND(SUM(E57:E59),2)," ","CHECK PK-3 LINES BELOW") | N15: 111 Basic K-3 with ESE Services | P15: =IF($H$133=1,E15,0) -> 0 | R15: 1 | T15: =ROUND(P15*R15,4) -> 0 | U15: =ROUND(ROUND(ROUND(T15*$C$8,4)*($H$8),2)*(MAX($H$9,1)),2) -> 0
A16: 102 Basic 4-8 | C16: 10.53 | D16: 8.42 | E16: =IF(D$30=0,C16*2,C16+D16) -> 18.95 | F16: 1 | H16: =ROUND(E16*F16,4) -> 18.95 | I16: =ROUND(ROUND(ROUND(H16*$C$8,4)*($H$8),2)*(MAX($H$9,1)),2) -> 105143.77 | N16: 102 Basic 4-8 | P16: =IF($H$133=1,E16,0) -> 0 | R16: 1 | T16: =ROUND(P16*R16,4) -> 0 | U16: =ROUND(ROUND(ROUND(T16*$C$8,4)*($H$8),2)*(MAX($H$9,1)),2) -> 0
A17: 112 Basic 4-8 with ESE Services | C17: 5.1 | D17: 7.08 | E17: =IF(D$30=0,C17*2,C17+D17) -> 12.18 | F17: 1 | H17: =ROUND(E17*F17,4) -> 12.18 | I17: =ROUND(ROUND(ROUND(H17*$C$8,4)*($H$8),2)*(MAX($H$9,1)),2) -> 67580.53 | J17: =IF(ROUND(E17,2)=ROUND(SUM(E60:E62),2)," ","CHECK 4-8 LINES BELOW") | N17: 112 Basic 4-8 with ESE Services | P17: =IF($H$133=1,E17,0) -> 0 | R17: 1 | T17: =ROUND(P17*R17,4) -> 0 | U17: =ROUND(ROUND(ROUND(T17*$C$8,4)*($H$8),2)*(MAX($H$9,1)),2) -> 0
A18: 103 Basic 9-12 | D18: 0 | E18: =IF(D$30=0,C18*2,C18+D18) -> 0 | F18: 0.978 | H18: =ROUND(E18*F18,4) -> 0 | I18: =ROUND(ROUND(ROUND(H18*$C$8,4)*($H$8),2)*(MAX($H$9,1)),2) -> 0 | N18: 103 Basic 9-12 | P18: =IF($H$133=1,E18,0) -> 0 | R18: 1 | T18: =ROUND(P18*R18,4) -> 0 | U18: =ROUND(ROUND(ROUND(T18*$C$8,4)*($H$8),2)*(MAX($H$9,1)),2) -> 0
A19: 113 Basic 9-12 with ESE Services | D19: 0 | E19: =IF(D$30=0,C19*2,C19+D19) -> 0 | F19: 0.978 | H19: =ROUND(E19*F19,4) -> 0 | I19: =ROUND(ROUND(ROUND(H19*$C$8,4)*($H$8),2)*(MAX($H$9,1)),2) -> 0 | J19: =IF(ROUND(E19,2)=ROUND(SUM(E63:E65),2)," ","CHECK 4-8 LINES BELOW") | N19: 113 Basic 9-12 with ESE Services | P19: =IF($H$133=1,E19,0) -> 0 | R19: 1 | T19: =ROUND(P19*R19,4) -> 0 | U19: =ROUND(ROUND(ROUND(T19*$C$8,4)*($H$8),2)*(MAX($H$9,1)),2) -> 0
A20: 254 ESE Level 4 (Grade Level PK-3) | D20: 0 | E20: =IF(D$30=0,C20*2,C20+D20) -> 0 | F20: 3.697 | H20: =ROUND(E20*F20,4) -> 0 | I20: =ROUND(ROUND(ROUND(H20*$C$8,4)*($H$8),2)*(MAX($H$9,1)),2) -> 0 | N20: 254 ESE Level 4 (Grade Level PK-3) | P20: =IF($H$133=1,E20,0) -> 0 | R20: 1 | T20: =ROUND(P20*R20,4) -> 0 | U20: =ROUND(ROUND(ROUND(T20*$C$8,4)*($H$8),2)*(MAX($H$9,1)),2) -> 0
A21: 254 ESE Level 4 (Grade Level 4-8) | D21: 0 | E21: =IF(D$30=0,C21*2,C21+D21) -> 0 | F21: 3.697 | H21: =ROUND(E21*F21,4) -> 0 | I21: =ROUND(ROUND(ROUND(H21*$C$8,4)*($H$8),2)*(MAX($H$9,1)),2) -> 0 | N21: 254 ESE Level 4 (Grade Level 4-8) | P21: =IF($H$133=1,E21,0) -> 0 | R21: 1 | T21: =ROUND(P21*R21,4) -> 0 | U21: =ROUND(ROUND(ROUND(T21*$C$8,4)*($H$8),2)*(MAX($H$9,1)),2) -> 0
A22: 254 ESE Level 4 (Grade Level 9-12) | E22: =IF(D$30=0,C22*2,C22+D22) -> 0 | F22: 3.697 | H22: =ROUND(E22*F22,4) -> 0 | I22: =ROUND(ROUND(ROUND(H22*$C$8,4)*($H$8),2)*(MAX($H$9,1)),2) -> 0 | N22: 254 ESE Level 4 (Grade Level 9-12) | P22: =IF($H$133=1,E22,0) -> 0 | R22: 1 | T22: =ROUND(P22*R22,4) -> 0 | U22: =ROUND(ROUND(ROUND(T22*$C$8,4)*($H$8),2)*(MAX($H$9,1)),2) -> 0
A23: 255 ESE Level 5 (Grade Level PK-3) | D23: 0 | E23: =IF(D$30=0,C23*2,C23+D23) -> 0 | F23: 5.992 | H23: =ROUND(E23*F23,4) -> 0 | I23: =ROUND(ROUND(ROUND(H23*$C$8,4)*($H$8),2)*(MAX($H$9,1)),2) -> 0 | N23: 255 ESE Level 5 (Grade Level PK-3) | P23: =IF($H$133=1,E23,0) -> 0 | R23: 1 | T23: =ROUND(P23*R23,4) -> 0 | U23: =ROUND(ROUND(ROUND(T23*$C$8,4)*($H$8),2)*(MAX($H$9,1)),2) -> 0
A24: 255 ESE Level 5 (Grade Level 4-8) | D24: 0 | E24: =IF(D$30=0,C24*2,C24+D24) -> 0 | F24: 5.992 | H24: =ROUND(E24*F24,4) -> 0 | I24: =ROUND(ROUND(ROUND(H24*$C$8,4)*($H$8),2)*(MAX($H$9,1)),2) -> 0 | N24: 255 ESE Level 5 (Grade Level 4-8) | P24: =IF($H$133=1,E24,0) -> 0 | R24: 1 | T24: =ROUND(P24*R24,4) -> 0 | U24: =ROUND(ROUND(ROUND(T24*$C$8,4)*($H$8),2)*(MAX($H$9,1)),2) -> 0
A25: 255 ESE Level 5 (Grade Level 9-12) | E25: =IF(D$30=0,C25*2,C25+D25) -> 0 | F25: 5.992 | H25: =ROUND(E25*F25,4) -> 0 | I25: =ROUND(ROUND(ROUND(H25*$C$8,4)*($H$8),2)*(MAX($H$9,1)),2) -> 0 | N25: 255 ESE Level 5 (Grade Level 9-12) | P25: =IF($H$133=1,E25,0) -> 0 | R25: 1 | T25: =ROUND(P25*R25,4) -> 0 | U25: =ROUND(ROUND(ROUND(T25*$C$8,4)*($H$8),2)*(MAX($H$9,1)),2) -> 0
A26: 130 ESOL (Grade Level PK-3) | D26: 0 | E26: =IF(D$30=0,C26*2,C26+D26) -> 0 | F26: 1.192 | H26: =ROUND(E26*F26,4) -> 0 | I26: =ROUND(ROUND(ROUND(H26*$C$8,4)*($H$8),2)*(MAX($H$9,1)),2) -> 0 | N26: 130 ESOL (Grade Level PK-3) | P26: =IF($H$133=1,E26,0) -> 0 | R26: 1 | T26: =ROUND(P26*R26,4) -> 0 | U26: =ROUND(ROUND(ROUND(T26*$C$8,4)*($H$8),2)*(MAX($H$9,1)),2) -> 0
A27: 130 ESOL (Grade Level 4-8) | C27: 2.57 | D27: 1.7 | E27: =IF(D$30=0,C27*2,C27+D27) -> 4.27 | F27: 1.192 | H27: =ROUND(E27*F27,4) -> 5.0898 | I27: =ROUND(ROUND(ROUND(H27*$C$8,4)*($H$8),2)*(MAX($H$9,1)),2) -> 28240.67 | N27: 130 ESOL (Grade Level 4-8) | P27: =IF($H$133=1,E27,0) -> 0 | R27: 1 | T27: =ROUND(P27*R27,4) -> 0 | U27: =ROUND(ROUND(ROUND(T27*$C$8,4)*($H$8),2)*(MAX($H$9,1)),2) -> 0
A28: 130 ESOL (Grade Level 9-12) | D28: 0 | E28: =IF(D$30=0,C28*2,C28+D28) -> 0 | F28: 1.192 | H28: =ROUND(E28*F28,4) -> 0 | I28: =ROUND(ROUND(ROUND(H28*$C$8,4)*($H$8),2)*(MAX($H$9,1)),2) -> 0 | N28: 130 ESOL (Grade Level 9-12) | P28: =IF($H$133=1,E28,0) -> 0 | R28: 1 | T28: =ROUND(P28*R28,4) -> 0 | U28: =ROUND(ROUND(ROUND(T28*$C$8,4)*($H$8),2)*(MAX($H$9,1)),2) -> 0
A29: 300 Career Education (Grades 9-12) | D29: 0 | E29: =IF(D$30=0,C29*2,C29+D29) -> 0 | F29: 1.079 | H29: =ROUND(E29*F29,4) -> 0 | I29: =ROUND(ROUND(ROUND(H29*$C$8,4)*($H$8),2)*(MAX($H$9,1)),2) -> 0 | N29: 300 Career Education (Grades 9-12) | P29: =IF($H$133=1,E29,0) -> 0 | R29: 1 | T29: =ROUND(P29*R29,4) -> 0 | U29: =ROUND(ROUND(ROUND(T29*$C$8,4)*($H$8),2)*(MAX($H$9,1)),2) -> 0
A30: Totals | C30: =SUM(C14:C29) -> 18.2 | D30: =SUM(D14:D29) -> 17.2 | E30: =SUM(E14:E29) -> 35.4 | H30: =SUM(H14:H29) -> 36.2198 | I30: =SUM(I14:I29) -> 200964.97 | N30: Totals | P30: =SUM(P14:P29) -> 0 | T30: =SUM(T14:T29) -> 0 | U30: =SUM(U14:U29) -> 0
A32: Letters in Parentheses Refer to Notes at Bottom of Worksheet
F34: Charter schools should contact their school district sponsor regarding eligible FTE. Please note that “Number of FTE” is NOT equivalent to number of students enrolled in these courses or programs. Please refer to footnote (a) below.
I35: =I10 -> 2024-25 | N35: Letters Refer to Notes At Bottom: | U35: =I35 -> 2024-25
C36: Projected | E36: Total | I36: Base Funding | U36: Base Funding
A37: Additional FTE (a) | C37: FTE | E37: FTE | I37: (WFTE x BSA x CWF x SDF) | N37: Additional FTE (a) | P37: Number of FTE | U37: =I37 -> (WFTE x BSA x CWF x SDF)
A38: Advanced Placement | C38: 0 | D38: 0 | E38: =IF(D$44=0,C38*2,C38+D38) -> 0 | I38: =ROUND(ROUND(ROUND(E38*$C$8,4)*($H$8),2)*(MAX($H$9,1)),2) -> 0 | N38: Advanced Placement | P38: =IF($H$133=1,E38,0) -> 0 | U38: =ROUND(ROUND(ROUND(P38*$C$8,4)*($H$8),2)*(MAX($H$9,1)),2) -> 0
A39: International Baccalaureate | C39: 0 | D39: 0 | E39: =IF(D$44=0,C39*2,C39+D39) -> 0 | I39: =ROUND(ROUND(ROUND(E39*$C$8,4)*($H$8),2)*(MAX($H$9,1)),2) -> 0 | N39: International Baccalaureate | P39: =IF($H$133=1,E39,0) -> 0 | U39: =ROUND(ROUND(ROUND(P39*$C$8,4)*($H$8),2)*(MAX($H$9,1)),2) -> 0
A40: Advanced International Certificate | C40: 0 | D40: 0 | E40: =IF(D$44=0,C40*2,C40+D40) -> 0 | I40: =ROUND(ROUND(ROUND(E40*$C$8,4)*($H$8),2)*(MAX($H$9,1)),2) -> 0 | N40: Advanced International Certificate | P40: =IF($H$133=1,E40,0) -> 0 | U40: =ROUND(ROUND(ROUND(P40*$C$8,4)*($H$8),2)*(MAX($H$9,1)),2) -> 0
A41: Industry Certified Career Education | C41: 0 | D41: 0 | E41: =IF(D$44=0,C41*2,C41+D41) -> 0 | I41: =ROUND(ROUND(ROUND(E41*$C$8,4)*($H$8),2)*(MAX($H$9,1)),2) -> 0 | N41: Industry Certified Career Education | P41: =IF($H$133=1,E41,0) -> 0 | U41: =ROUND(ROUND(ROUND(P41*$C$8,4)*($H$8),2)*(MAX($H$9,1)),2) -> 0
A42: Early High School Graduation | C42: 0 | D42: 0 | E42: =IF(D$44=0,C42*2,C42+D42) -> 0 | I42: =ROUND(ROUND(ROUND(E42*$C$8,4)*($H$8),2)*(MAX($H$9,1)),2) -> 0 | N42: Early High School Graduation | P42: =IF($H$133=1,E42,0) -> 0 | U42: =ROUND(ROUND(ROUND(P42*$C$8,4)*($H$8),2)*(MAX($H$9,1)),2) -> 0
A43: Small District ESE Supplement | C43: 0 | D43: 0 | E43: =IF(D$44=0,C43*2,C43+D43) -> 0 | I43: =ROUND(ROUND(ROUND(E43*$C$8,4)*($H$8),2)*(MAX($H$9,1)),2) -> 0 | N43: Small District ESE Supplement | P43: =IF($H$133=1,E43,0) -> 0 | U43: =ROUND(ROUND(ROUND(P43*$C$8,4)*($H$8),2)*(MAX($H$9,1)),2) -> 0
