Workbook

Sheet Summary
A1: Fiscal Year | B1: Outstanding Debt* | C1: Population* | D1: Debt Per Capita | E1: Student Enrollment* | F1: Debt Per Student
A2: 2021 | B2: 317767015 | C2: 47730 | D2: =+B2/C2 -> 6657.5951 | E2: 12474 | F2: =+B2/E2 -> 25474.348 | H2: 2021
A3: 2022 | B3: 309726599 | C3: 50210 | D3: =+B3/C3 -> 6168.6238 | E3: 12532 | F3: =+B3/E3 -> 24714.858 | H3: 2022
A4: 2023 | B4: 284633949 | C4: 51716 | D4: =+B4/C4 -> 5503.7889 | E4: 12631 | F4: =+B4/E4 -> 22534.554 | H4: 2023
A5: 2024 | B5: 267678538 | C5: 53504 | D5: =+B5/C5 -> 5002.9631 | E5: 12492 | F5: =+B5/E5 -> 21427.997 | H5: 2024
A6: 2025 | B6: 232880000 | C6: 55144 | D6: =+B6/C6 -> 4223.1249 | E6: 12759 | F6: =+B6/E6 -> 18252.214 | H6: 2025
A8: Inflation Adjusted (2025 Dollars)
A9: Fiscal Year | B9: Outstanding Debt* | C9: Population* | D9: Debt Per Capita | E9: Student Enrollment* | F9: Debt Per Student
A10: 2021 | B10: 3.8089355e+08 | C10: 47730 | D10: =+B10/C10 -> 7980.1708 | E10: 12474 | F10: =+B10/E10 -> 30534.997 | H10: 2021
A11: 2022 | B11: 3.4374673e+08 | C11: 50210 | D11: =+B11/C11 -> 6846.1806 | E11: 12532 | F11: 25982.97 | H11: 2022
A12: 2023 | B12: 3.0340827e+08 | C12: 51716 | D12: =+B12/C12 -> 5866.8163 | E12: 12631 | F12: =+B12/E12 -> 24020.922 | H12: 2023
A13: 2024 | B13: 2.7715983e+08 | C13: 53504 | D13: =+B13/C13 -> 5180.1702 | E13: 12492 | F13: =+B13/E13 -> 22186.986 | H13: 2024
A14: 2025 | B14: 232880000 | C14: 55144 | D14: =+B14/C14 -> 4223.1249 | E14: 12759 | F14: =+B14/E14 -> 18252.214 | H14: 2025
A16: *Souce: District Audit
A18: Note: Inflation adjustment calculated using usinflationcalculator.com
A22: Instructions:

Sheet Debt Per Capita
A1: Fiscal Year | B1: Debt Per Capita | C1: Adjusted Debt Per Capita
A2: 2021 | B2: =+Summary!D2 -> 6657.5951 | C2: =+Summary!D10 -> 7980.1708
A3: 2022 | B3: =+Summary!D3 -> 6168.6238 | C3: =+Summary!D11 -> 6846.1806
A4: 2023 | B4: =+Summary!D4 -> 5503.7889 | C4: =+Summary!D12 -> 5866.8163
A5: 2024 | B5: =+Summary!D5 -> 5002.9631 | C5: =+Summary!D13 -> 5180.1702
A6: 2025 | B6: =+Summary!D6 -> 4223.1249 | C6: =+Summary!D14 -> 4223.1249

Sheet Debt Per Student
A1: Fiscal Year | B1: Debt Per Capita | C1: Adjusted Debt Per Capita
A2: 2021 | B2: =+Summary!F2 -> 25474.348 | C2: =+Summary!F10 -> 30534.997
A3: 2022 | B3: =+Summary!F3 -> 24714.858 | C3: =+Summary!F11 -> 25982.97
A4: 2023 | B4: =+Summary!F4 -> 22534.554 | C4: =+Summary!F12 -> 24020.922
A5: 2024 | B5: =+Summary!F5 -> 21427.997 | C5: =+Summary!F13 -> 22186.986
A6: 2025 | B6: =+Summary!F6 -> 18252.214 | C6: =+Summary!F14 -> 18252.214
