Workbook

Sheet Funds Requiring Adoption
A1: 2021-2022 Budget
A2: Funds Requiring Adoption by the Board of Trustees
A3: General Fund, Food Service Fund, Debt Service Fund
A4: 44434
C9: General | G9: Food Service | I9: Debt Service
A10: REVENUES: | C10: Fund | E10: Budget | G10: Fund | I10: Fund
A11: 5700 Local revenues | C11: 100015340 | G11: 350000 | I11: 41000000
A12: 5800 State revenues | C12: 181729660 | G12: 0 | I12: 0
A13: 5900 Federal revenues | C13: 8755000 | G13: 19421802 | I13: 0
A14: TOTAL REVENUES | C14: =SUM(C11:C13) -> 290500000 | E14: =SUM(E11:E13) -> 0 | G14: =SUM(G11:G13) -> 19771802 | I14: =SUM(I11:I13) -> 41000000
A17: EXPENDITURES:
A18: 11 Instruction | C18: ='22-23 Expenditure Summary'!E11 -> 153526773 | G18: 0 | I18: 0
A19: 12 Inst. Resources/Media | C19: ='22-23 Expenditure Summary'!E12 -> 3850369 | E19: 3665060 | F19: 3665060 | G19: 0 | I19: 0
A20: 13 Curr & Staff Develop | C20: ='22-23 Expenditure Summary'!E13 -> 4318325 | E20: 3723787 | F20: 3723787 | G20: 0 | I20: 0
A21: 21 Inst Leadership | C21: ='22-23 Expenditure Summary'!E18 -> 5016691 | E21: 4436253 | F21: 4436253 | G21: 0 | I21: 0
A22: 23 School Leadership | C22: ='22-23 Expenditure Summary'!E19 -> 21665370 | E22: 20219186 | F22: 20219186 | G22: 0 | I22: 0
A23: 31 Guidance/Counseling | C23: ='22-23 Expenditure Summary'!E20 -> 13337675 | E23: 11905320 | F23: 11905320 | G23: 0 | I23: 0
A24: 32 Social Services | C24: ='22-23 Expenditure Summary'!E21 -> 262709 | E24: 234007 | F24: 234007 | G24: 0 | I24: 0
A25: 33 Health Services | C25: ='22-23 Expenditure Summary'!E22 -> 4300152 | E25: 4073850 | F25: 4073850 | G25: 0 | I25: 0
A26: 34 Transportation | C26: ='22-23 Expenditure Summary'!E41 -> 7750904 | E26: 6563516 | F26: 6563516 | G26: 0 | I26: 0
A27: 35 Food Service | C27: ='22-23 Expenditure Summary'!E42 -> 18752714 | E27: 50001 | F27: 50001 | G27: ='22-23 Expenditure Summary'!E100 -> 18752714 | I27: 0
A28: 36 Extra-Curricular | C28: ='22-23 Expenditure Summary'!E23 -> 5785049 | E28: 5655757 | F28: 5655757 | G28: 0 | I28: 0
A29: 41 General Admin. | C29: ='22-23 Expenditure Summary'!E38 -> 7490327 | E29: 8172533 | F29: 8172533 | G29: 0 | I29: 0
A30: 51 Maint & Operations | C30: ='22-23 Expenditure Summary'!E43 -> 33911174 | E30: 27632139 | F30: 27632139 | G30: 0 | I30: 0
A31: 52 Security | C31: ='22-23 Expenditure Summary'!E44 -> 3862811 | E31: 2871342 | F31: 2871342 | G31: 0 | I31: 0
A32: 53 Data Processing | C32: ='22-23 Expenditure Summary'!E45 -> 9356089 | E32: 8416197 | F32: 8416197 | G32: 0 | I32: 0
A33: 61 Community Services | C33: ='22-23 Expenditure Summary'!E51 -> 4711228 | E33: 4485177 | F33: 4485177 | G33: 0 | I33: 0
A34: 71 Debt Service | C34: ='22-23 Expenditure Summary'!E48 -> 42207700 | E34: 1205400 | F34: 1205400 | G34: 0 | I34: ='22-23 Expenditure Summary'!E157 -> 41000000
A35: 81 Facilities Acq/Constr. | C35: ='22-23 Expenditure Summary'!E52 -> 0 | E35: 1 | F35: 1 | G35: 0 | I35: 0
A36: 95 Juvenile Justice Prgm | C36: ='22-23 Expenditure Summary'!E14 -> 80410 | E36: ='[1]091219 Brd Mtg'!E35 -> 0 | F36: ='[1]091219 Brd Mtg'!F35 -> 0 | G36: 0 | I36: 0
A37: 99 Intergovernmental Chgs | C37: ='22-23 Expenditure Summary'!E54 -> 447762 | E37: 410001 | F37: 410001 | G37: 0 | I37: 0
A38: TOTAL EXPENDITURES | C38: =SUM(C18:C37) -> 340634232 | E38: =SUM(E18:E37) -> 113719527 | G38: =SUM(G18:G37) -> 18752714 | I38: =SUM(I18:I37) -> 41000000
A41: OTHER SOURCES:
A42: 7912 Sale of Property | C42: ='[1]091219 Brd Mtg'!C42 -> 0 | G42: 0 | I42: 0
A43: 7913 Proceeds from Capital Leases | C43: ='[1]091219 Brd Mtg'!C42 -> 0 | E43: ='[1]091219 Brd Mtg'!E42 -> 0 | F43: ='[1]091219 Brd Mtg'!F42 -> 0 | G43: ='[1]091219 Brd Mtg'!G42 -> 0 | I43: 0
A44: 7915 Operating Transfer In | C44: ='[1]091219 Brd Mtg'!C43 -> 0 | E44: ='[1]091219 Brd Mtg'!E43 -> 0 | F44: ='[1]091219 Brd Mtg'!F43 -> 0 | G44: ='[1]091219 Brd Mtg'!G43 -> 0 | I44: 0
A45: TOTAL OTHER SOURCES | C45: =SUM(C42:C44) -> 0 | E45: =SUM(E42:E44) -> 0 | G45: =SUM(G42:G44) -> 0 | I45: =SUM(I42:I44) -> 0
A48: OTHER USES:
A49: 8911 Operating Transfer Out | C49: ='[1]091219 Brd Mtg'!C48 -> 0 | G49: ='[1]071620 Brd Mtg'!M50 -> 0 | I49: 0
A50: TOTAL OTHER USES | C50: =SUM(C49) -> 0 | E50: =SUM(E49) -> 0 | G50: =SUM(G49) -> 0 | I50: =SUM(I49) -> 0
...

Sheet 22-23 Expenditure Summary
A2: General Fund
A3: 2022-2023 Expenditure Budget
B7: ='23-24 Expenditure Summary'!B7:C7 -> 2022-2023 | E7: ='23-24 Expenditure Summary'!E7:F7 -> 2023-2024
B8: Projected Final | C8: Projected Final | E8: Budget | F8: Budget
B9: Budget | C9: Budget Per Student | E9: Total | F9: Per Student
A10: Instruction
A11: 11 Instruction | B11: =#REF! -> #REF! | C11: =B11/$C$58 -> #REF! | E11: 153526773 | F11: =E11/$F$58 -> 5665.1946
A12: 12 Instructional Resources & Media | B12: =#REF! -> #REF! | C12: =B12/$C$58 -> #REF! | E12: 3850369 | F12: =E12/$F$58 -> 142.08004
A13: 13 Curriculum Dev and Inst Staff Development | B13: =#REF! -> #REF! | C13: =B13/$C$58 -> #REF! | E13: 4318325 | F13: =E13/$F$58 -> 159.34779
A14: 95 Juvenile Justice AEP Program | B14: =#REF! -> #REF! | C14: =B14/$C$58 -> #REF! | E14: 80410 | F14: =E14/$F$58 -> 2.9671587
A15: Total Instruction | B15: =SUM(B11:B14) -> #REF! | C15: =SUM(C11:C14) -> #REF! | E15: =SUM(E11:E14) -> 161775877 | F15: =SUM(F11:F14) -> 5969.5896
A17: Instructional Support
A18: 21 Instuctional Leadership | B18: =#REF! -> #REF! | C18: =B18/$C$58 -> #REF! | E18: 5016691 | F18: =E18/$F$58 -> 185.11775
A19: 23 School Leadership | B19: =#REF! -> #REF! | C19: =B19/$C$58 -> #REF! | E19: 21665370 | F19: =E19/$F$58 -> 799.46015
A20: 31 Guidance, Counseling and Evaluation | B20: =#REF! -> #REF! | C20: =B20/$C$58 -> #REF! | E20: 13337675 | F20: =E20/$F$58 -> 492.16513
A21: 32 Social Services | B21: =#REF! -> #REF! | C21: =B21/$C$58 -> #REF! | E21: 262709 | F21: =E21/$F$58 -> 9.694059
A22: 33 Health Services | B22: =#REF! -> #REF! | C22: =B22/$C$58 -> #REF! | E22: 4300152 | F22: =E22/$F$58 -> 158.6772
A23: 36 Extracurricular Activities | B23: =#REF! -> #REF! | C23: =B23/$C$58 -> #REF! | E23: 5785049 | F23: =E23/$F$58 -> 213.47044
A24: Total Instructional Support | B24: =SUM(B18:B23) -> #REF! | C24: =SUM(C18:C23) -> #REF! | E24: =SUM(E18:E23) -> 50367646 | F24: =SUM(F18:F23) -> 1858.5847
A26: Central Administration
A27: 41 General Administration | B27: 8227186 | C27: =B27/$C$58 -> 285.7654 | E27: 7486577 | F27: =E27/$F$58 -> 276.25745
A28: 41 Publish Required Notices - Expenditures to | B28: 2000 | C28: =B28/$C$58 -> 0.069468565 | E28: 3000 | F28: =E28/$F$58 -> 0.11070111
A29: publish all statutorily required public notices in
A30: the newspaper by the school district or their
A31: representatives
A33: 41 Lobbying - Expenditures for "directly or | B33: 10450 | C33: =B33/$C$58 -> 0.36297325 | E33: 750 | F33: =E33/$F$58 -> 0.027675277
A34: indirectly influencing or attemp to influence the
A35: outcome of legisiation or administrative action
A36: as those terms are defined in Section 305.002,
A37: Government Code."
A38: Total Central Administration - Function 41 | B38: =B27+B28+B33 -> 8239636 | C38: =C27+C28+C33 -> 286.19785 | E38: =E27+E28+E33 -> 7490327 | F38: =F27+F28+F33 -> 276.39583
A40: District Operations
A41: 34 Student Transportation | B41: =#REF! -> #REF! | C41: =B41/$C$58 -> #REF! | E41: 7750904 | F41: =E41/$F$58 -> 286.01122
A42: 35 Food Service | B42: =19040739+223890 -> 19264629 | C42: =B42/$C$58 -> 669.14307 | E42: 18752714 | F42: =E42/$F$58 -> 691.98207
A43: 51 Facilities Maintenance and Operations | B43: =#REF! -> #REF! | C43: =B43/$C$58 -> #REF! | E43: 33911174 | F43: =E43/$F$58 -> 1251.3348
A44: 52 Security and Monitoring Services | B44: =#REF! -> #REF! | C44: =B44/$C$58 -> #REF! | E44: 3862811 | F44: =E44/$F$58 -> 142.53915
A45: 53 Data Processing Services | B45: =#REF! -> #REF! | C45: =B45/$C$58 -> #REF! | E45: 9356089 | F45: =E45/$F$58 -> 345.24314
A46: Total District Operations | B46: =SUM(B41:B45) -> #REF! | C46: =SUM(C41:C45) -> #REF! | E46: =SUM(E41:E45) -> 73633692 | F46: =SUM(F41:F45) -> 2717.1104
A48: Debt Services - Function 71 | B48: 42205400 | C48: =B48/$C$58 -> 1465.9743 | E48: 42207700 | F48: =E48/$F$58 -> 1557.4797
A50: Other
...

Sheet 23-24 Expenditure Summary
A1: Grand Prairie ISD
A2: 2023-2024 Budget Summary Report
A3: General Fund, Food Service Fund, and Debt Service Fund
B7: 2022-2023 | E7: 2023-2024
B8: Projected Final | C8: Projected Final | E8: Budget | F8: Budget | G8: Percent | H8: Percent of
B9: Budget | C9: Budget Per Student | E9: Total | F9: Per Student | G9: Change | H9: Prior Year
A10: Instruction
A11: 11 Instruction | B11: 146975331 | C11: =B11/$C$58 -> 5422.6436 | E11: 162073885 | F11: =E11/$F$58 -> 6171.422 | G11: =(F11-C11)/C11 -> 0.13808366 | H11: =F11/C11 -> 1.1380837
A12: 12 Instructional Resources & Media | B12: 3932398 | C12: =B12/$C$58 -> 145.08552 | E12: 3264282 | F12: =E12/$F$58 -> 124.29678 | G12: =(F12-C12)/C12 -> -0.14328614 | H12: =F12/C12 -> 0.85671386
A13: 13 Curriculum Dev and Inst Staff Development | B13: 4449949 | C13: =B13/$C$58 -> 164.18053 | E13: 3091530 | F13: =E13/$F$58 -> 117.71876 | G13: =(F13-C13)/C13 -> -0.28299196 | H13: =F13/C13 -> 0.71700804
A14: 95 Juvenile Justice AEP Program | B14: 80410 | C14: =B14/$C$58 -> 2.9667208 | E14: 67328 | F14: =E14/$F$58 -> 2.5637042 | G14: =(F14-C14)/C14 -> -0.1358458 | H14: =F14/C14 -> 0.8641542
A15: Total Instruction | B15: =SUM(B11:B14) -> 155438088 | C15: =SUM(C11:C14) -> 5734.8763 | E15: =SUM(E11:E14) -> 168497025 | F15: =SUM(F11:F14) -> 6416.0013 | G15: =(F15-C15)/C15 -> 0.1187689 | H15: =F15/C15 -> 1.1187689
A17: Instructional Support
A18: 21 Instuctional Leadership | B18: 4936138 | C18: =B18/$C$58 -> 182.11843 | E18: 4971482 | F18: =E18/$F$58 -> 189.30325 | G18: =(F18-C18)/C18 -> 0.039451356 | H18: =F18/C18 -> 1.0394514
A19: 23 School Leadership | B19: 24224316 | C19: =B19/$C$58 -> 893.75428 | E19: 20854215 | F19: =E19/$F$58 -> 794.08328 | G19: =(F19-C19)/C19 -> -0.11151947 | H19: =F19/C19 -> 0.88848053
A20: 31 Guidance, Counseling and Evaluation | B20: 13894661 | C20: =B20/$C$58 -> 512.64245 | E20: 13825769 | F20: =E20/$F$58 -> 526.4553 | G20: =(F20-C20)/C20 -> 0.026944404 | H20: =F20/C20 -> 1.0269444
A21: 32 Social Services | B21: 303630 | C21: =B21/$C$58 -> 11.202406 | E21: 412602 | F21: =E21/$F$58 -> 15.710989 | G21: =(F21-C21)/C21 -> 0.40246568 | H21: =F21/C21 -> 1.4024657
A22: 33 Health Services | B22: 4487382 | C22: =B22/$C$58 -> 165.56161 | E22: 4182123 | F22: =E22/$F$58 -> 159.24617 | G22: =(F22-C22)/C22 -> -0.038145565 | H22: =F22/C22 -> 0.96185443
A23: 36 Extracurricular Activities | B23: 6306782 | C23: =B23/$C$58 -> 232.68824 | E23: 6025410 | F23: =E23/$F$58 -> 229.43454 | G23: =(F23-C23)/C23 -> -0.01398306 | H23: =F23/C23 -> 0.98601694
A24: Total Instructional Support | B24: =SUM(B18:B23) -> 54152909 | C24: 1999 | E24: =SUM(E18:E23) -> 50271601 | F24: 1913 | G24: =(F24-C24)/C24 -> -0.043021511 | H24: =F24/C24 -> 0.95697849
A26: ='22-23 Expenditure Summary'!A26 -> Central Administration
A27: ='22-23 Expenditure Summary'!A27 -> 41 General Administration | B27: 7887633 | C27: =B27/$C$58 -> 291.01361 | E27: 7499194 | F27: =E27/$F$58 -> 285.55304 | G27: =(F27-C27)/C27 -> -0.018763974 | H27: =F27/C27 -> 0.98123603
A28: ='22-23 Expenditure Summary'!A28 -> 41 Publish Required Notices - Expenditures to | B28: 22900 | C28: =B28/$C$58 -> 0.84489374 | E28: 3500 | F28: =E28/$F$58 -> 0.13327241
A29: ='22-23 Expenditure Summary'!A29 -> publish all statutorily required public notices in
A30: ='22-23 Expenditure Summary'!A30 -> the newspaper by the school district or their
A31: ='22-23 Expenditure Summary'!A31 -> representatives
A33: ='22-23 Expenditure Summary'!A33 -> 41 Lobbying - Expenditures for "directly or | B33: 750 | C33: =B33/$C$58 -> 0.027671192 | E33: 469 | F33: =E33/$F$58 -> 0.017858503
A34: ='22-23 Expenditure Summary'!A34 -> indirectly influencing or attemp to influence the
A35: ='22-23 Expenditure Summary'!A35 -> outcome of legisiation or administrative action
A36: ='22-23 Expenditure Summary'!A36 -> as those terms are defined in Section 305.002,
A37: ='22-23 Expenditure Summary'!A37 -> Government Code."
A38: ='22-23 Expenditure Summary'!A38 -> Total Central Administration - Function 41 | B38: =B27+B28+B33 -> 7911283 | C38: =SUM(C27:C33) -> 291.88618 | E38: =E27+E28+E33 -> 7503163 | F38: =SUM(F27:F33) -> 285.70417 | H38: =F38/C38 -> 0.97882049
A40: District Operations
A41: 34 Student Transportation | B41: 11981707 | C41: =B41/$C$58 -> 442.06416 | E41: 9018267 | F41: =E41/$F$58 -> 343.39605 | G41: =(F41-C41)/C41 -> -0.22319863 | H41: =F41/C41 -> 0.77680137
A42: 35 Food Service | B42: 18900472 | C42: =B42/$C$58 -> 697.33146 | E42: 17516546 | F42: =E42/$F$58 -> 666.99208 | G42: =(F42-C42)/C42 -> -0.043507838 | H42: =F42/C42 -> 0.95649216
A43: 51 Facilities Maintenance and Operations | B43: 32704130 | C43: =B43/$C$58 -> 1206.6164 | E43: 33268202 | F43: =E43/$F$58 -> 1266.781 | G43: =(F43-C43)/C43 -> 0.049862252 | H43: =F43/C43 -> 1.0498623
A44: 52 Security and Monitoring Services | B44: 5116918 | C44: =B44/$C$58 -> 188.7883 | E44: 6514692 | F44: =E44/$F$58 -> 248.06534 | G44: =(F44-C44)/C44 -> 0.31398686 | H44: =F44/C44 -> 1.3139869
A45: 53 Data Processing Services | B45: 9638604 | C45: =B45/$C$58 -> 355.61555 | E45: 8834291 | F45: =E45/$F$58 -> 336.39064 | G45: =(F45-C45)/C45 -> -0.054060949 | H45: =F45/C45 -> 0.94593905
A46: Total District Operations | B46: =SUM(B41:B45) -> 78341831 | C46: 2891 | E46: =SUM(E41:E45) -> 75151998 | F46: 2861 | G46: =(F46-C46)/C46 -> -0.010377032 | H46: =F46/C46 -> 0.98962297
A48: Debt Services - Function 71 | B48: 42212700 | C48: =B48/$C$58 -> 1557.4343 | E48: =1207600+41000000 -> 42207600 | F48: =E48/$F$58 -> 1607.1739 | G48: =(F48-C48)/C48 -> 0.031936843 | H48: =F48/C48 -> 1.0319368
...

Sheet 24-25 Expenditure Summary
A1: Grand Prairie ISD
A2: 2025-2026 Budget Summary Report
A3: General Fund, Food Service Fund, and Debt Service Fund
B7: 2024-2025 | E7: 2025-2026
B8: Projected Final | C8: Projected Final | E8: Budget | F8: Budget | G8: Percent | H8: Percent of
B9: Budget | C9: Budget Per Student | E9: Total | F9: Per Student | G9: Change | H9: Prior Year
A10: Instruction
A11: 11 Instruction | B11: =3424244+166789569 -> 170213813 | C11: =B11/$C$58 -> 6516.858 | E11: 187864618 | F11: =E11/$F$58 -> 7270.3026 | G11: =(F11-C11)/C11 -> 0.1156147 | H11: =F11/C11 -> 1.1156147
A12: 12 Instructional Resources & Media | B12: 3272130 | C12: =B12/$C$58 -> 125.27777 | E12: 3419418 | F12: =E12/$F$58 -> 132.33042 | G12: =(F12-C12)/C12 -> 0.056296109 | H12: =F12/C12 -> 1.0562961
A13: 13 Curriculum Dev and Inst Staff Development | B13: 2925103 | C13: =B13/$C$58 -> 111.99139 | E13: 3422462 | F13: =E13/$F$58 -> 132.44822 | G13: =(F13-C13)/C13 -> 0.18266436 | H13: =F13/C13 -> 1.1826644
A14: 95 Juvenile Justice AEP Program | B14: 31450 | C14: =B14/$C$58 -> 1.2041043 | E14: 16000 | F14: =E14/$F$58 -> 0.61919505 | G14: =(F14-C14)/C14 -> -0.48576294 | H14: =F14/C14 -> 0.51423706
A15: Total Instruction | B15: =SUM(B11:B14) -> 176442496 | C15: =SUM(C11:C14) -> 6755.3312 | E15: =SUM(E11:E14) -> 194722498 | F15: =SUM(F11:F14) -> 7535.7004 | G15: =(F15-C15)/C15 -> 0.11551901 | H15: =F15/C15 -> 1.115519
A17: Instructional Support
A18: 21 Instuctional Leadership | B18: 5392287 | C18: =B18/$C$58 -> 206.45074 | E18: 6084043 | F18: =E18/$F$58 -> 235.45058 | G18: =(F18-C18)/C18 -> 0.14046855 | H18: =F18/C18 -> 1.1404685
A19: 23 School Leadership | B19: 20182380 | C19: =B19/$C$58 -> 772.70876 | E19: 20779472 | F19: =E19/$F$58 -> 804.15913 | G19: =(F19-C19)/C19 -> 0.040701463 | H19: =F19/C19 -> 1.0407015
A20: 31 Guidance, Counseling and Evaluation | B20: 13664344 | C20: =B20/$C$58 -> 523.15724 | E20: 13385017 | F20: =E20/$F$58 -> 517.99601 | G20: =(F20-C20)/C20 -> -0.0098655385 | H20: =F20/C20 -> 0.99013446
A21: 32 Social Services | B21: 1020288 | C21: =B21/$C$58 -> 39.063058 | E21: 1045448 | F21: =E21/$F$58 -> 40.458514 | G21: =(F21-C21)/C21 -> 0.035723174 | H21: =F21/C21 -> 1.0357232
A22: 33 Health Services | B22: 3983367 | C22: =B22/$C$58 -> 152.5084 | E22: 4049305 | F22: =E22/$F$58 -> 156.70685 | G22: =(F22-C22)/C22 -> 0.027529276 | H22: =F22/C22 -> 1.0275293
A23: 36 Extracurricular Activities | B23: 7497467 | C23: =B23/$C$58 -> 287.05031 | E23: 6259034 | F23: =E23/$F$58 -> 242.22268 | G23: =(F23-C23)/C23 -> -0.15616646 | H23: =F23/C23 -> 0.84383354
A24: Total Instructional Support | B24: =SUM(B18:B23) -> 51740133 | C24: =SUM(C18:C23) -> 1980.9385 | E24: =SUM(E18:E23) -> 51602319 | F24: =SUM(F18:F23) -> 1996.9938 | G24: =(F24-C24)/C24 -> 0.0081048741 | H24: =F24/C24 -> 1.0081049
A26: ='22-23 Expenditure Summary'!A26 -> Central Administration
A27: ='22-23 Expenditure Summary'!A27 -> 41 General Administration | B27: 8192762 | C27: =B27/$C$58 -> 313.67058 | E27: 8152982 | F27: =E27/$F$58 -> 315.51788 | G27: =(F27-C27)/C27 -> 0.0058892823 | H27: =F27/C27 -> 1.0058893
A28: ='22-23 Expenditure Summary'!A28 -> 41 Publish Required Notices - Expenditures to | B28: 3581 | C28: =B28/$C$58 -> 0.13710326 | E28: 2636 | F28: =E28/$F$58 -> 0.10201238
A29: ='22-23 Expenditure Summary'!A29 -> publish all statutorily required public notices in
A30: ='22-23 Expenditure Summary'!A30 -> the newspaper by the school district or their
A31: ='22-23 Expenditure Summary'!A31 -> representatives
A33: ='22-23 Expenditure Summary'!A33 -> 41 Lobbying - Expenditures for "directly or | B33: 590 | C33: =B33/$C$58 -> 0.02258892 | E33: 590 | F33: =E33/$F$58 -> 0.022832817
A34: ='22-23 Expenditure Summary'!A34 -> indirectly influencing or attemp to influence the
A35: ='22-23 Expenditure Summary'!A35 -> outcome of legisiation or administrative action
A36: ='22-23 Expenditure Summary'!A36 -> as those terms are defined in Section 305.002,
A37: ='22-23 Expenditure Summary'!A37 -> Government Code."
A38: ='22-23 Expenditure Summary'!A38 -> Total Central Administration - Function 41 | B38: =B27+B28+B33 -> 8196933 | C38: =SUM(C27:C33) -> 313.83028 | E38: =E27+E28+E33 -> 8156208 | F38: =SUM(F27:F33) -> 315.64272 | H38: =F38/C38 -> 1.0057752
A40: District Operations
A41: 34 Student Transportation | B41: 9877206 | C41: =B41/$C$58 -> 378.16172 | E41: 8512559 | F41: =E41/$F$58 -> 329.4334 | G41: =(F41-C41)/C41 -> -0.12885578 | H41: =F41/C41 -> 0.87114422
A42: 35 Food Service | B42: 23615307 | C42: =B42/$C$58 -> 904.14285 | E42: =803176+18760417 -> 19563593 | F42: =E42/$F$58 -> 757.10499 | G42: =(F42-C42)/C42 -> -0.1626268 | H42: =F42/C42 -> 0.8373732
A43: 51 Facilities Maintenance and Operations | B43: 34880488 | C43: =B43/$C$58 -> 1335.445 | E43: 34588228 | F43: =E43/$F$58 -> 1338.5537 | G43: =(F43-C43)/C43 -> 0.0023278484 | H43: =F43/C43 -> 1.0023278
A44: 52 Security and Monitoring Services | B44: 6762631 | C44: =B44/$C$58 -> 258.91615 | E44: 6825710 | F44: =E44/$F$58 -> 264.15286 | G44: =(F44-C44)/C44 -> 0.020225508 | H44: =F44/C44 -> 1.0202255
A45: 53 Data Processing Services | B45: 8053736 | C45: =B45/$C$58 -> 308.34779 | E45: 8129683 | F45: =E45/$F$58 -> 314.61622 | G45: =(F45-C45)/C45 -> 0.020329065 | H45: =F45/C45 -> 1.0203291
A46: Total District Operations | B46: =SUM(B41:B45) -> 83189368 | C46: =SUM(C41:C45) -> 3185.0135 | E46: =SUM(E41:E45) -> 77619773 | F46: =SUM(F41:F45) -> 3003.8612 | G46: =(F46-C46)/C46 -> -0.056876472 | H46: =F46/C46 -> 0.94312353
A48: Debt Services - Function 71 | B48: 44101600 | C48: =B48/$C$58 -> 1688.4873 | E48: =1198700+40850000 -> 42048700 | F48: =E48/$F$58 -> 1627.2717 | G48: =(F48-C48)/C48 -> -0.036254721 | H48: =F48/C48 -> 0.96374528
...

Sheet 23-24 GF FC Fund for Hearing
A1: Grand Prairie ISD
A2: ='23-24 Expenditure Summary'!A2:F2 -> 2023-2024 Budget Summary Report
A3: General Fund
B7: ='23-24 Expenditure Summary'!B7:C7 -> 2022-2023 | E7: ='23-24 Expenditure Summary'!E7:F7 -> 2023-2024
B8: Projected Final | C8: Projected Final | E8: Budget | F8: Budget | G8: Percent
B9: Budget | C9: Budget Per Student | E9: Total | F9: Per Student | G9: Change
A10: Instruction
A11: 11 Instruction | B11: ='22-23 Expenditure Summary'!B11 -> #REF! | C11: ='22-23 Expenditure Summary'!C11 -> #REF! | E11: ='22-23 Expenditure Summary'!E11 -> 153526773 | F11: ='22-23 Expenditure Summary'!F11 -> 5665.1946 | G11: =(F11-C11)/C11 -> #REF!
A12: 12 Instructional Resources & Media | B12: ='22-23 Expenditure Summary'!B12 -> #REF! | C12: ='22-23 Expenditure Summary'!C12 -> #REF! | E12: ='22-23 Expenditure Summary'!E12 -> 3850369 | F12: ='22-23 Expenditure Summary'!F12 -> 142.08004 | G12: 0
A13: 13 Curriculum Dev and Inst Staff Development | B13: ='22-23 Expenditure Summary'!B13 -> #REF! | C13: ='22-23 Expenditure Summary'!C13 -> #REF! | E13: ='22-23 Expenditure Summary'!E13 -> 4318325 | F13: ='22-23 Expenditure Summary'!F13 -> 159.34779 | G13: 0.0149
A14: 95 Juvenile Justice AEP Program | B14: ='22-23 Expenditure Summary'!B14 -> #REF! | C14: ='22-23 Expenditure Summary'!C14 -> #REF! | E14: ='22-23 Expenditure Summary'!E14 -> 80410 | F14: ='22-23 Expenditure Summary'!F14 -> 2.9671587 | G14: 0
A15: Total Instruction | B15: =SUM(B11:B14) -> #REF! | C15: =SUM(C11:C14) -> #REF! | E15: =SUM(E11:E14) -> 161775877 | F15: =SUM(F11:F14) -> 5969.5896 | G15: =(F15-C15)/C15 -> #REF!
A17: Instructional Support
A18: 21 Instuctional Leadership | B18: ='22-23 Expenditure Summary'!B18 -> #REF! | C18: ='22-23 Expenditure Summary'!C18 -> #REF! | E18: ='22-23 Expenditure Summary'!E18 -> 5016691 | F18: ='22-23 Expenditure Summary'!F18 -> 185.11775 | G18: =(F18-C18)/C18 -> #REF!
A19: 23 School Leadership | B19: ='22-23 Expenditure Summary'!B19 -> #REF! | C19: ='22-23 Expenditure Summary'!C19 -> #REF! | E19: ='22-23 Expenditure Summary'!E19 -> 21665370 | F19: ='22-23 Expenditure Summary'!F19 -> 799.46015 | G19: =(F19-C19)/C19 -> #REF!
A20: 31 Guidance, Counseling and Evaluation | B20: ='22-23 Expenditure Summary'!B20 -> #REF! | C20: ='22-23 Expenditure Summary'!C20 -> #REF! | E20: ='22-23 Expenditure Summary'!E20 -> 13337675 | F20: ='22-23 Expenditure Summary'!F20 -> 492.16513 | G20: =(F20-C20)/C20 -> #REF!
A21: 32 Social Services | B21: ='22-23 Expenditure Summary'!B21 -> #REF! | C21: ='22-23 Expenditure Summary'!C21 -> #REF! | E21: ='22-23 Expenditure Summary'!E21 -> 262709 | F21: ='22-23 Expenditure Summary'!F21 -> 9.694059 | G21: =(F21-C21)/C21 -> #REF!
A22: 33 Health Services | B22: ='22-23 Expenditure Summary'!B22 -> #REF! | C22: ='22-23 Expenditure Summary'!C22 -> #REF! | E22: ='22-23 Expenditure Summary'!E22 -> 4300152 | F22: ='22-23 Expenditure Summary'!F22 -> 158.6772 | G22: =(F22-C22)/C22 -> #REF!
A23: 36 Extracurricular Activities | B23: ='22-23 Expenditure Summary'!B23 -> #REF! | C23: ='22-23 Expenditure Summary'!C23 -> #REF! | E23: ='22-23 Expenditure Summary'!E23 -> 5785049 | F23: ='22-23 Expenditure Summary'!F23 -> 213.47044 | G23: =(F23-C23)/C23 -> #REF!
A24: Total Instructional Support | B24: =SUM(B18:B23) -> #REF! | C24: =SUM(C18:C23) -> #REF! | E24: =SUM(E18:E23) -> 50367646 | F24: =SUM(F18:F23) -> 1858.5847 | G24: =(F24-C24)/C24 -> #REF!
A26: Central Administration - Function 41 | B26: ='22-23 Expenditure Summary'!B38 -> 8239636 | C26: ='22-23 Expenditure Summary'!C38 -> 286.19785 | E26: ='22-23 Expenditure Summary'!E38 -> 7490327 | F26: ='22-23 Expenditure Summary'!F38 -> 276.39583 | G26: =(F26-C26)/C26 -> -0.034249091
A28: District Operations
A29: 34 Student Transportation | B29: ='22-23 Expenditure Summary'!B41 -> #REF! | C29: ='22-23 Expenditure Summary'!C41 -> #REF! | E29: ='22-23 Expenditure Summary'!E41 -> 7750904 | F29: ='22-23 Expenditure Summary'!F41 -> 286.01122 | G29: =(F29-C29)/C29 -> #REF!
A30: 35 Food Service | B30: ='22-23 Expenditure Summary'!B42 -> 19264629 | C30: ='22-23 Expenditure Summary'!C42 -> 669.14307 | E30: ='22-23 Expenditure Summary'!E42 -> 18752714 | F30: ='22-23 Expenditure Summary'!F42 -> 691.98207 | G30: 0
A31: 51 Plant Maintenance and Operations | B31: ='22-23 Expenditure Summary'!B43 -> #REF! | C31: ='22-23 Expenditure Summary'!C43 -> #REF! | E31: ='22-23 Expenditure Summary'!E43 -> 33911174 | F31: ='22-23 Expenditure Summary'!F43 -> 1251.3348 | G31: =(F31-C31)/C31 -> #REF!
A32: 52 Security and Monitoring Services | B32: ='22-23 Expenditure Summary'!B44 -> #REF! | C32: ='22-23 Expenditure Summary'!C44 -> #REF! | E32: ='22-23 Expenditure Summary'!E44 -> 3862811 | F32: ='22-23 Expenditure Summary'!F44 -> 142.53915 | G32: =(F32-C32)/C32 -> #REF!
A33: 53 Data Processing Services | B33: ='22-23 Expenditure Summary'!B45 -> #REF! | C33: ='22-23 Expenditure Summary'!C45 -> #REF! | E33: ='22-23 Expenditure Summary'!E45 -> 9356089 | F33: ='22-23 Expenditure Summary'!F45 -> 345.24314 | G33: =(F33-C33)/C33 -> #REF!
A34: Total District Operations | B34: =SUM(B29:B33) -> #REF! | C34: =SUM(C29:C33) -> #REF! | E34: =SUM(E29:E33) -> 73633692 | F34: =SUM(F29:F33) -> 2717.1104 | G34: =(F34-C34)/C34 -> #REF!
A36: Debt Services - Function 71 | B36: ='22-23 Expenditure Summary'!B48 -> 42205400 | C36: ='22-23 Expenditure Summary'!C48 -> 1465.9743 | E36: ='22-23 Expenditure Summary'!E48 -> 42207700 | F36: ='22-23 Expenditure Summary'!F48 -> 1557.4797 | G36: =(42-44)/44 -> -0.045454545
A38: Other
A39: 61 Community Services | B39: ='22-23 Expenditure Summary'!B51 -> #REF! | C39: ='22-23 Expenditure Summary'!C51 -> #REF! | E39: ='22-23 Expenditure Summary'!E51 -> 4711228 | F39: ='22-23 Expenditure Summary'!F51 -> 173.84605 | G39: =(F39-C39)/C39 -> #REF!
A40: 81 Facilities Acquisition and Construction | B40: ='22-23 Expenditure Summary'!B52 -> #REF! | C40: ='22-23 Expenditure Summary'!C52 -> #REF! | E40: ='22-23 Expenditure Summary'!E52 -> 0 | F40: ='22-23 Expenditure Summary'!F52 -> 0 | G40: 0
A41: 97 Tax Increment Fund | B41: ='22-23 Expenditure Summary'!B53 -> #REF! | C41: ='22-23 Expenditure Summary'!C53 -> #REF! | E41: ='22-23 Expenditure Summary'!E53 -> 0 | F41: ='22-23 Expenditure Summary'!F53 -> 0 | G41: 0
A42: 99 Intergovernmental Charges | B42: ='22-23 Expenditure Summary'!B54 -> #REF! | C42: ='22-23 Expenditure Summary'!C54 -> #REF! | E42: ='22-23 Expenditure Summary'!E54 -> 447762 | F42: ='22-23 Expenditure Summary'!F54 -> 16.522583 | G42: 0
A43: Total Other | B43: =SUM(B39:B42) -> #REF! | C43: =SUM(C39:C42) -> #REF! | E43: =SUM(E39:E42) -> 5158990 | F43: =SUM(F39:F42) -> 190.36863 | G43: =(F43-C43)/C43 -> #REF!
A45: Total | B45: =B15+B24+B26+B34+B36+B43-2 -> #REF! | C45: =C15+C24+C26+C34+C36+C43 -> #REF! | E45: =E15+E24+E26+E34+E36+E43 -> 340634232 | F45: =F15+F24+F26+F34+F36+F43 -> 12569.529 | G45: =(F45-C45)/C45 -> #REF!
A46: Enrollment | C46: ='22-23 Expenditure Summary'!C58 -> 28790 | F46: ='22-23 Expenditure Summary'!F58 -> 27100
B48: This information will be presented at the "Public Meeting to Discuss Budget and Proposed Tax Rate" to be
B49: ='23-24 Expenditure Summary'!B61 -> held at 5:30 pm on Thursday August 24 ,2023, at the Dr. Susan J. Simpson Education Center.
B50: It is also posted on the district's website as mandated by state requirements.

Sheet 24-25 GF FC Fund for Hearing
A1: Grand Prairie ISD
A2: ='24-25 Expenditure Summary'!A2:F2 -> 2025-2026 Budget Summary Report
A3: General Fund
B7: ='24-25 Expenditure Summary'!B7:C7 -> 2024-2025 | E7: ='24-25 Expenditure Summary'!E7:F7 -> 2025-2026
B8: Projected Final | C8: Projected Final | E8: Budget | F8: Budget | G8: Percent
B9: Budget | C9: Budget Per Student | E9: Total | F9: Per Student | G9: Change
A10: Instruction
A11: 11 Instruction | B11: ='24-25 Expenditure Summary'!B11 -> 170213813 | C11: ='24-25 Expenditure Summary'!C11 -> 6516.858 | E11: ='24-25 Expenditure Summary'!E11 -> 187864618 | F11: ='24-25 Expenditure Summary'!F11 -> 7270.3026 | G11: =(F11-C11)/C11 -> 0.1156147
A12: 12 Instructional Resources & Media | B12: ='24-25 Expenditure Summary'!B12 -> 3272130 | C12: ='24-25 Expenditure Summary'!C12 -> 125.27777 | E12: ='24-25 Expenditure Summary'!E12 -> 3419418 | F12: ='24-25 Expenditure Summary'!F12 -> 132.33042 | G12: 0
A13: 13 Curriculum Dev and Inst Staff Development | B13: ='24-25 Expenditure Summary'!B13 -> 2925103 | C13: ='24-25 Expenditure Summary'!C13 -> 111.99139 | E13: ='24-25 Expenditure Summary'!E13 -> 3422462 | F13: ='24-25 Expenditure Summary'!F13 -> 132.44822 | G13: 0.0149
A14: 95 Juvenile Justice AEP Program | B14: ='24-25 Expenditure Summary'!B14 -> 31450 | C14: ='24-25 Expenditure Summary'!C14 -> 1.2041043 | E14: ='24-25 Expenditure Summary'!E14 -> 16000 | F14: ='24-25 Expenditure Summary'!F14 -> 0.61919505 | G14: 0
A15: Total Instruction | B15: =SUM(B11:B14) -> 176442496 | C15: =SUM(C11:C14) -> 6755.3312 | E15: =SUM(E11:E14) -> 194722498 | F15: =SUM(F11:F14) -> 7535.7004 | G15: =(F15-C15)/C15 -> 0.11551901
A17: Instructional Support
A18: 21 Instuctional Leadership | B18: ='24-25 Expenditure Summary'!B18 -> 5392287 | C18: ='24-25 Expenditure Summary'!C18 -> 206.45074 | E18: ='24-25 Expenditure Summary'!E18 -> 6084043 | F18: ='24-25 Expenditure Summary'!F18 -> 235.45058 | G18: =(F18-C18)/C18 -> 0.14046855
A19: 23 School Leadership | B19: ='24-25 Expenditure Summary'!B19 -> 20182380 | C19: ='24-25 Expenditure Summary'!C19 -> 772.70876 | E19: ='24-25 Expenditure Summary'!E19 -> 20779472 | F19: ='24-25 Expenditure Summary'!F19 -> 804.15913 | G19: =(F19-C19)/C19 -> 0.040701463
A20: 31 Guidance, Counseling and Evaluation | B20: ='24-25 Expenditure Summary'!B20 -> 13664344 | C20: ='24-25 Expenditure Summary'!C20 -> 523.15724 | E20: ='24-25 Expenditure Summary'!E20 -> 13385017 | F20: ='24-25 Expenditure Summary'!F20 -> 517.99601 | G20: =(F20-C20)/C20 -> -0.0098655385
A21: 32 Social Services | B21: ='24-25 Expenditure Summary'!B21 -> 1020288 | C21: ='24-25 Expenditure Summary'!C21 -> 39.063058 | E21: ='24-25 Expenditure Summary'!E21 -> 1045448 | F21: ='24-25 Expenditure Summary'!F21 -> 40.458514 | G21: =(F21-C21)/C21 -> 0.035723174
A22: 33 Health Services | B22: ='24-25 Expenditure Summary'!B22 -> 3983367 | C22: ='24-25 Expenditure Summary'!C22 -> 152.5084 | E22: ='24-25 Expenditure Summary'!E22 -> 4049305 | F22: ='24-25 Expenditure Summary'!F22 -> 156.70685 | G22: =(F22-C22)/C22 -> 0.027529276
A23: 36 Extracurricular Activities | B23: ='24-25 Expenditure Summary'!B23 -> 7497467 | C23: ='24-25 Expenditure Summary'!C23 -> 287.05031 | E23: ='24-25 Expenditure Summary'!E23 -> 6259034 | F23: ='24-25 Expenditure Summary'!F23 -> 242.22268 | G23: =(F23-C23)/C23 -> -0.15616646
A24: Total Instructional Support | B24: =SUM(B18:B23) -> 51740133 | C24: =SUM(C18:C23) -> 1980.9385 | E24: =SUM(E18:E23) -> 51602319 | F24: =SUM(F18:F23) -> 1996.9938 | G24: =(F24-C24)/C24 -> 0.0081048741
A26: Central Administration - Function 41 | B26: ='24-25 Expenditure Summary'!B38 -> 8196933 | C26: ='24-25 Expenditure Summary'!C38 -> 313.83028 | E26: ='24-25 Expenditure Summary'!E38 -> 8156208 | F26: ='24-25 Expenditure Summary'!F38 -> 315.64272 | G26: =(F26-C26)/C26 -> 0.0057752479
A28: District Operations
A29: 34 Student Transportation | B29: ='24-25 Expenditure Summary'!B41 -> 9877206 | C29: ='24-25 Expenditure Summary'!C41 -> 378.16172 | E29: ='24-25 Expenditure Summary'!E41 -> 8512559 | F29: ='24-25 Expenditure Summary'!F41 -> 329.4334 | G29: =(F29-C29)/C29 -> -0.12885578
A30: 35 Food Service | B30: ='24-25 Expenditure Summary'!B42 -> 23615307 | C30: ='24-25 Expenditure Summary'!C42 -> 904.14285 | E30: ='24-25 Expenditure Summary'!E42 -> 19563593 | F30: ='24-25 Expenditure Summary'!F42 -> 757.10499 | G30: 0
A31: 51 Plant Maintenance and Operations | B31: ='24-25 Expenditure Summary'!B43 -> 34880488 | C31: ='24-25 Expenditure Summary'!C43 -> 1335.445 | E31: ='24-25 Expenditure Summary'!E43 -> 34588228 | F31: ='24-25 Expenditure Summary'!F43 -> 1338.5537 | G31: =(F31-C31)/C31 -> 0.0023278484
A32: 52 Security and Monitoring Services | B32: ='24-25 Expenditure Summary'!B44 -> 6762631 | C32: ='24-25 Expenditure Summary'!C44 -> 258.91615 | E32: ='24-25 Expenditure Summary'!E44 -> 6825710 | F32: ='24-25 Expenditure Summary'!F44 -> 264.15286 | G32: =(F32-C32)/C32 -> 0.020225508
A33: 53 Data Processing Services | B33: ='24-25 Expenditure Summary'!B45 -> 8053736 | C33: ='24-25 Expenditure Summary'!C45 -> 308.34779 | E33: ='24-25 Expenditure Summary'!E45 -> 8129683 | F33: ='24-25 Expenditure Summary'!F45 -> 314.61622 | G33: =(F33-C33)/C33 -> 0.020329065
A34: Total District Operations | B34: =SUM(B29:B33) -> 83189368 | C34: =SUM(C29:C33) -> 3185.0135 | E34: =SUM(E29:E33) -> 77619773 | F34: =SUM(F29:F33) -> 3003.8612 | G34: =(F34-C34)/C34 -> -0.056876472
A36: Debt Services - Function 71 | B36: ='24-25 Expenditure Summary'!B48 -> 44101600 | C36: ='24-25 Expenditure Summary'!C48 -> 1688.4873 | E36: ='24-25 Expenditure Summary'!E48 -> 42048700 | F36: ='24-25 Expenditure Summary'!F48 -> 1627.2717 | G36: =(42-44)/44 -> -0.045454545
A38: Other
A39: 61 Community Services | B39: ='24-25 Expenditure Summary'!B51 -> 4009316 | C39: ='24-25 Expenditure Summary'!C51 -> 153.5019 | E39: ='24-25 Expenditure Summary'!E51 -> 4290158 | F39: ='24-25 Expenditure Summary'!F51 -> 166.02779 | G39: =(F39-C39)/C39 -> 0.08160089
A40: 81 Facilities Acquisition and Construction | B40: ='24-25 Expenditure Summary'!B52 -> 7814811 | C40: ='24-25 Expenditure Summary'!C52 -> 299.20024 | E40: ='24-25 Expenditure Summary'!E52 -> 3909519 | F40: ='24-25 Expenditure Summary'!F52 -> 151.29717 | G40: 0
A41: 97 Tax Increment Fund | B41: ='24-25 Expenditure Summary'!B53 -> 0 | C41: ='24-25 Expenditure Summary'!C53 -> 0 | E41: ='24-25 Expenditure Summary'!E53 -> 0 | F41: ='24-25 Expenditure Summary'!F53 -> 0 | G41: 0
A42: 99 Intergovernmental Charges | B42: ='24-25 Expenditure Summary'!B54 -> 477130 | C42: ='24-25 Expenditure Summary'!C54 -> 18.267545 | E42: ='24-25 Expenditure Summary'!E54 -> 496703 | F42: ='24-25 Expenditure Summary'!F54 -> 19.222252 | G42: 0
A43: Total Other | B43: =SUM(B39:B42) -> 12301257 | C43: =SUM(C39:C42) -> 470.96968 | E43: =SUM(E39:E42) -> 8696380 | F43: =SUM(F39:F42) -> 336.54721 | G43: =(F43-C43)/C43 -> -0.28541639
A45: Total | B45: =B15+B24+B26+B34+B36+B43-2 -> 375971785 | C45: =C15+C24+C26+C34+C36+C43 -> 14394.571 | E45: =E15+E24+E26+E34+E36+E43 -> 382845878 | F45: =F15+F24+F26+F34+F36+F43 -> 14816.017 | G45: =(F45-C45)/C45 -> 0.029278154
A46: Enrollment | C46: ='24-25 Expenditure Summary'!C58 -> 26119 | F46: ='24-25 Expenditure Summary'!F58 -> 25840
B48: This information will be presented at the "Public Meeting to Discuss Budget and Proposed Tax Rate" to be
B49: ='24-25 Expenditure Summary'!B61 -> held at 5:30 pm on Thursday August 26, 2025, at the Dr. Susan J. Simpson Education Center.
B50: It is also posted on the district's website as mandated by state requirements.

Sheet 23-24 CN FC Fund for Hearing
A1: Grand Prairie ISD
A2: ='23-24 Expenditure Summary'!A2:F2 -> 2023-2024 Budget Summary Report
A3: Food Service Fund
B7: ='23-24 Expenditure Summary'!B7:C7 -> 2022-2023 | E7: ='23-24 Expenditure Summary'!E7:F7 -> 2023-2024
B8: Projected Final | C8: Projected Final | E8: Budget | F8: Budget | G8: Percent
B9: Budget | C9: Budget Per Student | E9: Total | F9: Per Student | G9: Change
A10: Instruction
A11: 11 Instruction | B11: ='22-23 Expenditure Summary'!B81 -> 0 | C11: ='22-23 Expenditure Summary'!C81 -> 0 | E11: ='22-23 Expenditure Summary'!E81 -> 0 | F11: ='22-23 Expenditure Summary'!F81 -> 0 | G11: 0
A12: 12 Instructional Resources & Media | B12: ='22-23 Expenditure Summary'!B82 -> 0 | C12: ='22-23 Expenditure Summary'!C82 -> 0 | E12: ='22-23 Expenditure Summary'!E82 -> 0 | F12: ='22-23 Expenditure Summary'!F82 -> 0 | G12: 0
A13: 13 Curriculum Dev and Inst Staff Development | B13: ='22-23 Expenditure Summary'!B83 -> 0 | C13: ='22-23 Expenditure Summary'!C83 -> 0 | E13: ='22-23 Expenditure Summary'!E83 -> 0 | F13: ='22-23 Expenditure Summary'!F83 -> 0 | G13: 0
A14: 95 Juvenile Justice AEP Program | B14: ='22-23 Expenditure Summary'!B84 -> 0 | C14: ='22-23 Expenditure Summary'!C84 -> 0 | E14: ='22-23 Expenditure Summary'!E84 -> 0 | F14: ='22-23 Expenditure Summary'!F84 -> 0 | G14: 0
A15: Total Instruction | B15: =SUM(B11:B14) -> 0 | C15: =SUM(C11:C14) -> 0 | E15: =SUM(E11:E14) -> 0 | F15: =SUM(F11:F14) -> 0 | G15: 0
A17: Instructional Support
A18: 21 Instuctional Leadership | B18: ='22-23 Expenditure Summary'!B88 -> 0 | C18: ='22-23 Expenditure Summary'!C88 -> 0 | E18: ='22-23 Expenditure Summary'!E88 -> 0 | F18: ='22-23 Expenditure Summary'!F88 -> 0 | G18: 0
A19: 23 School Leadership | B19: ='22-23 Expenditure Summary'!B89 -> 0 | C19: ='22-23 Expenditure Summary'!C89 -> 0 | E19: ='22-23 Expenditure Summary'!E89 -> 0 | F19: ='22-23 Expenditure Summary'!F89 -> 0 | G19: 0
A20: 31 Guidance, Counseling and Evaluation | B20: ='22-23 Expenditure Summary'!B90 -> 0 | C20: ='22-23 Expenditure Summary'!C90 -> 0 | E20: ='22-23 Expenditure Summary'!E90 -> 0 | F20: ='22-23 Expenditure Summary'!F90 -> 0 | G20: 0
A21: 32 Social Services | B21: ='22-23 Expenditure Summary'!B91 -> 0 | C21: ='22-23 Expenditure Summary'!C91 -> 0 | E21: ='22-23 Expenditure Summary'!E91 -> 0 | F21: ='22-23 Expenditure Summary'!F91 -> 0 | G21: 0
A22: 33 Health Services | B22: ='22-23 Expenditure Summary'!B92 -> 0 | C22: ='22-23 Expenditure Summary'!C92 -> 0 | E22: ='22-23 Expenditure Summary'!E92 -> 0 | F22: ='22-23 Expenditure Summary'!F92 -> 0 | G22: 0
A23: 36 Extracurricular Activities | B23: ='22-23 Expenditure Summary'!B93 -> 0 | C23: ='22-23 Expenditure Summary'!C93 -> 0 | E23: ='22-23 Expenditure Summary'!E93 -> 0 | F23: ='22-23 Expenditure Summary'!F93 -> 0 | G23: 0
A24: Total Instructional Support | B24: =SUM(B18:B23) -> 0 | C24: =SUM(C18:C23) -> 0 | E24: =SUM(E18:E23) -> 0 | F24: =SUM(F18:F23) -> 0 | G24: 0
A26: Central Administration - Function 41 | B26: ='22-23 Expenditure Summary'!B96 -> 0 | C26: ='22-23 Expenditure Summary'!C96 -> 0 | E26: ='22-23 Expenditure Summary'!E96 -> 0 | F26: ='22-23 Expenditure Summary'!F96 -> 0 | G26: 0
A28: District Operations
A29: 34 Student Transportation | B29: ='22-23 Expenditure Summary'!B99 -> 0 | C29: ='22-23 Expenditure Summary'!C99 -> 0 | E29: ='22-23 Expenditure Summary'!E99 -> 0 | F29: ='22-23 Expenditure Summary'!F99 -> 0 | G29: 0
A30: 35 Food Service | B30: ='22-23 Expenditure Summary'!B100 -> 18155739 | C30: ='22-23 Expenditure Summary'!C100 -> 630.62657 | E30: ='22-23 Expenditure Summary'!E100 -> 18752714 | F30: ='22-23 Expenditure Summary'!F100 -> 691.98207 | G30: =(F30-C30)/C30 -> 0.097292911
A31: 51 Plant Maintenance and Operations | B31: ='22-23 Expenditure Summary'!B101 -> 0 | C31: ='22-23 Expenditure Summary'!C101 -> 0 | E31: ='22-23 Expenditure Summary'!E101 -> 0 | F31: ='22-23 Expenditure Summary'!F101 -> 0 | G31: 0
A32: 52 Security and Monitoring Services | B32: ='22-23 Expenditure Summary'!B102 -> 0 | C32: ='22-23 Expenditure Summary'!C102 -> 0 | E32: ='22-23 Expenditure Summary'!E102 -> 0 | F32: ='22-23 Expenditure Summary'!F102 -> 0 | G32: 0
A33: 53 Data Processing Services | B33: ='22-23 Expenditure Summary'!B103 -> 0 | C33: ='22-23 Expenditure Summary'!C103 -> 0 | E33: ='22-23 Expenditure Summary'!E103 -> 0 | F33: ='22-23 Expenditure Summary'!F103 -> 0 | G33: 0
A34: Total District Operations | B34: =SUM(B29:B33) -> 18155739 | C34: =SUM(C29:C33) -> 630.62657 | E34: =SUM(E29:E33) -> 18752714 | F34: =SUM(F29:F33) -> 691.98207 | G34: =(F34-C34)/C34 -> 0.097292911
A36: Debt Services - Function 71 | B36: ='22-23 Expenditure Summary'!B106 -> 0 | C36: ='22-23 Expenditure Summary'!C106 -> 0 | E36: ='22-23 Expenditure Summary'!E106 -> 0 | F36: ='22-23 Expenditure Summary'!F106 -> 0 | G36: 0
A38: Other
A39: 61 Community Services | B39: ='22-23 Expenditure Summary'!B109 -> 0 | C39: ='22-23 Expenditure Summary'!C109 -> 0 | E39: ='22-23 Expenditure Summary'!E109 -> 0 | F39: ='22-23 Expenditure Summary'!F109 -> 0 | G39: 0
A40: 81 Facilities Acquisition and Construction | B40: ='22-23 Expenditure Summary'!B110 -> 0 | C40: ='22-23 Expenditure Summary'!C110 -> 0 | E40: ='22-23 Expenditure Summary'!E110 -> 0 | F40: ='22-23 Expenditure Summary'!F110 -> 0 | G40: 0
A41: 97 Tax Increment Fund | B41: ='22-23 Expenditure Summary'!B111 -> 0 | C41: ='22-23 Expenditure Summary'!C111 -> 0 | E41: ='22-23 Expenditure Summary'!E111 -> 0 | F41: ='22-23 Expenditure Summary'!F111 -> 0 | G41: 0
A42: 99 Intergovernmental Charges | B42: ='22-23 Expenditure Summary'!B112 -> 0 | C42: ='22-23 Expenditure Summary'!C112 -> 0 | E42: ='22-23 Expenditure Summary'!E112 -> 0 | F42: ='22-23 Expenditure Summary'!F112 -> 0 | G42: 0
A43: Total Other | B43: =SUM(B39:B42) -> 0 | C43: =SUM(C39:C42) -> 0 | E43: =SUM(E39:E42) -> 0 | F43: =SUM(F39:F42) -> 0 | G43: 0
A45: Total | B45: =B15+B24+B26+B34+B36+B43 -> 18155739 | C45: =C15+C24+C26+C34+C36+C43 -> 630.62657 | E45: =E15+E24+E26+E34+E36+E43 -> 18752714 | F45: =F15+F24+F26+F34+F36+F43 -> 691.98207 | G45: =(F45-C45)/C45 -> 0.097292911
A46: Enrollment | C46: ='22-23 Expenditure Summary'!C116 -> 28790 | F46: ='22-23 Expenditure Summary'!F116 -> 27100
B48: This information will be presented at the "Public Meeting to Discuss Budget and Proposed Tax Rate" to be
B49: ='23-24 Expenditure Summary'!B61 -> held at 5:30 pm on Thursday August 24 ,2023, at the Dr. Susan J. Simpson Education Center.
B50: It is also posted on the district's website as mandated by state requirements.

Sheet 24-25 CN FC Fd for Hear (Pendin

Sheet 23-24 DSF FC for Hearing
A1: Grand Prairie ISD
A2: ='23-24 Expenditure Summary'!A2:F2 -> 2023-2024 Budget Summary Report
A3: Debt Service Fund
B7: ='22-23 Expenditure Summary'!B7:C7 -> 2022-2023 | E7: ='22-23 Expenditure Summary'!E7:F7 -> 2023-2024
B8: Projected Final | C8: Projected Final | E8: Budget | F8: Budget | G8: Percent
B9: Budget | C9: Budget Per Student | E9: Total | F9: Per Student | G9: Change
A10: Instruction
A11: 11 Instruction | B11: ='22-23 Expenditure Summary'!B132 -> 0 | C11: ='22-23 Expenditure Summary'!C132 -> 0 | E11: ='22-23 Expenditure Summary'!E132 -> 0 | F11: ='22-23 Expenditure Summary'!F132 -> 0 | G11: 0
A12: 12 Instructional Resources & Media | B12: ='22-23 Expenditure Summary'!B133 -> 0 | C12: ='22-23 Expenditure Summary'!C133 -> 0 | E12: ='22-23 Expenditure Summary'!E133 -> 0 | F12: ='22-23 Expenditure Summary'!F133 -> 0 | G12: 0
A13: 13 Curriculum Dev and Inst Staff Development | B13: ='22-23 Expenditure Summary'!B134 -> 0 | C13: ='22-23 Expenditure Summary'!C134 -> 0 | E13: ='22-23 Expenditure Summary'!E134 -> 0 | F13: ='22-23 Expenditure Summary'!F134 -> 0 | G13: 0
A14: 95 Juvenile Justice AEP Program | B14: ='22-23 Expenditure Summary'!B135 -> 0 | C14: ='22-23 Expenditure Summary'!C135 -> 0 | E14: ='22-23 Expenditure Summary'!E135 -> 0 | F14: ='22-23 Expenditure Summary'!F135 -> 0 | G14: 0
A15: Total Instruction | B15: =SUM(B11:B14) -> 0 | C15: =SUM(C11:C14) -> 0 | E15: =SUM(E11:E14) -> 0 | F15: =SUM(F11:F14) -> 0 | G15: 0
A17: Instructional Support
A18: 21 Instuctional Leadership | B18: ='22-23 Expenditure Summary'!B139 -> 0 | C18: ='22-23 Expenditure Summary'!C139 -> 0 | E18: ='22-23 Expenditure Summary'!E139 -> 0 | F18: ='22-23 Expenditure Summary'!F139 -> 0 | G18: 0
A19: 23 School Leadership | B19: ='22-23 Expenditure Summary'!B140 -> 0 | C19: ='22-23 Expenditure Summary'!C140 -> 0 | E19: ='22-23 Expenditure Summary'!E140 -> 0 | F19: ='22-23 Expenditure Summary'!F140 -> 0 | G19: 0
A20: 31 Guidance, Counseling and Evaluation | B20: ='22-23 Expenditure Summary'!B141 -> 0 | C20: ='22-23 Expenditure Summary'!C141 -> 0 | E20: ='22-23 Expenditure Summary'!E141 -> 0 | F20: ='22-23 Expenditure Summary'!F141 -> 0 | G20: 0
A21: 32 Social Services | B21: ='22-23 Expenditure Summary'!B142 -> 0 | C21: ='22-23 Expenditure Summary'!C142 -> 0 | E21: ='22-23 Expenditure Summary'!E142 -> 0 | F21: ='22-23 Expenditure Summary'!F142 -> 0 | G21: 0
A22: 33 Health Services | B22: ='22-23 Expenditure Summary'!B143 -> 0 | C22: ='22-23 Expenditure Summary'!C143 -> 0 | E22: ='22-23 Expenditure Summary'!E143 -> 0 | F22: ='22-23 Expenditure Summary'!F143 -> 0 | G22: 0
A23: 36 Extracurricular Activities | B23: ='22-23 Expenditure Summary'!B144 -> 0 | C23: ='22-23 Expenditure Summary'!C144 -> 0 | E23: ='22-23 Expenditure Summary'!E144 -> 0 | F23: ='22-23 Expenditure Summary'!F144 -> 0 | G23: 0
A24: Total Instructional Support | B24: =SUM(B18:B23) -> 0 | C24: =SUM(C18:C23) -> 0 | E24: =SUM(E18:E23) -> 0 | F24: =SUM(F18:F23) -> 0 | G24: 0
A26: Central Administration - Function 41 | B26: ='22-23 Expenditure Summary'!B147 -> 0 | C26: ='22-23 Expenditure Summary'!C147 -> 0 | E26: ='22-23 Expenditure Summary'!E147 -> 0 | F26: ='22-23 Expenditure Summary'!F147 -> 0 | G26: 0
A28: District Operations
A29: 34 Student Transportation | B29: ='22-23 Expenditure Summary'!B150 -> 0 | C29: ='22-23 Expenditure Summary'!C150 -> 0 | E29: ='22-23 Expenditure Summary'!E150 -> 0 | F29: ='22-23 Expenditure Summary'!F150 -> 0 | G29: 0
A30: 35 Food Service | B30: ='22-23 Expenditure Summary'!B151 -> 0 | C30: ='22-23 Expenditure Summary'!C151 -> 0 | E30: ='22-23 Expenditure Summary'!E151 -> 0 | F30: ='22-23 Expenditure Summary'!F151 -> 0 | G30: 0
A31: 51 Plant Maintenance and Operations | B31: ='22-23 Expenditure Summary'!B152 -> 0 | C31: ='22-23 Expenditure Summary'!C152 -> 0 | E31: ='22-23 Expenditure Summary'!E152 -> 0 | F31: ='22-23 Expenditure Summary'!F152 -> 0 | G31: 0
A32: 52 Security and Monitoring Services | B32: ='22-23 Expenditure Summary'!B153 -> 0 | C32: ='22-23 Expenditure Summary'!C153 -> 0 | E32: ='22-23 Expenditure Summary'!E153 -> 0 | F32: ='22-23 Expenditure Summary'!F153 -> 0 | G32: 0
A33: 53 Data Processing Services | B33: ='22-23 Expenditure Summary'!B154 -> 0 | C33: ='22-23 Expenditure Summary'!C154 -> 0 | E33: ='22-23 Expenditure Summary'!E154 -> 0 | F33: ='22-23 Expenditure Summary'!F154 -> 0 | G33: 0
A34: Total District Operations | B34: =SUM(B29:B33) -> 0 | C34: =SUM(C29:C33) -> 0 | E34: =SUM(E29:E33) -> 0 | F34: =SUM(F29:F33) -> 0 | G34: 0
A36: Debt Services - Function 71 | B36: ='22-23 Expenditure Summary'!B157 -> 42205400 | C36: ='22-23 Expenditure Summary'!C157 -> 1465.9743 | E36: ='22-23 Expenditure Summary'!E157 -> 41000000 | F36: ='22-23 Expenditure Summary'!F157 -> 1512.9151 | G36: =(F36-C36)/C36 -> 0.032020229
A38: Other
A39: 61 Community Services | B39: ='22-23 Expenditure Summary'!B160 -> 0 | C39: ='22-23 Expenditure Summary'!C160 -> 0 | E39: ='22-23 Expenditure Summary'!E160 -> 0 | F39: ='22-23 Expenditure Summary'!F160 -> 0 | G39: 0
A40: 81 Facilities Acquisition and Construction | B40: ='22-23 Expenditure Summary'!B161 -> 0 | C40: ='22-23 Expenditure Summary'!C161 -> 0 | E40: ='22-23 Expenditure Summary'!E161 -> 0 | F40: ='22-23 Expenditure Summary'!F161 -> 0 | G40: 0
A41: 97 Tax Increment Fund | B41: 0 | E41: ='22-23 Expenditure Summary'!E162 -> 0 | F41: ='22-23 Expenditure Summary'!F162 -> 0 | G41: 0
A42: 99 Intergovernmental Charges | B42: ='22-23 Expenditure Summary'!B163 -> 0 | C42: ='22-23 Expenditure Summary'!C163 -> 0 | E42: ='22-23 Expenditure Summary'!E163 -> 0 | F42: ='22-23 Expenditure Summary'!F163 -> 0 | G42: 0
A43: Total Other | B43: =SUM(B39:B42) -> 0 | C43: =SUM(C39:C42) -> 0 | E43: =SUM(E39:E42) -> 0 | F43: =SUM(F39:F42) -> 0 | G43: 0
A45: Total | B45: =B15+B24+B26+B34+B36+B43 -> 42205400 | C45: =C15+C24+C26+C34+C36+C43 -> 1465.9743 | E45: =E15+E24+E26+E34+E36+E43 -> 41000000 | F45: =F15+F24+F26+F34+F36+F43 -> 1512.9151 | G45: =(F45-C45)/C45 -> 0.032020229
A46: Enrollment | C46: ='22-23 Expenditure Summary'!C167 -> 28790 | F46: ='22-23 Expenditure Summary'!F167 -> 27100
B48: This information will be presented at the "Public Meeting to Discuss Budget and Proposed Tax Rate" to be
B49: ='23-24 Expenditure Summary'!B61 -> held at 5:30 pm on Thursday August 24 ,2023, at the Dr. Susan J. Simpson Education Center.
B50: It is also posted on the district's website as mandated by state requirements.

Sheet 24-25 DSF FC for Hearing
A1: Grand Prairie ISD
A2: ='24-25 Expenditure Summary'!A2:F2 -> 2025-2026 Budget Summary Report
A3: Debt Service Fund
B7: ='24-25 Expenditure Summary'!B7:C7 -> 2024-2025 | E7: ='22-23 Expenditure Summary'!E7:F7 -> 2023-2024
B8: Projected Final | C8: Projected Final | E8: Budget | F8: Budget | G8: Percent
B9: Budget | C9: Budget Per Student | E9: Total | F9: Per Student | G9: Change
A10: Instruction
A11: 11 Instruction | B11: ='22-23 Expenditure Summary'!B132 -> 0 | C11: ='22-23 Expenditure Summary'!C132 -> 0 | E11: ='22-23 Expenditure Summary'!E132 -> 0 | F11: ='22-23 Expenditure Summary'!F132 -> 0 | G11: 0
A12: 12 Instructional Resources & Media | B12: ='22-23 Expenditure Summary'!B133 -> 0 | C12: ='22-23 Expenditure Summary'!C133 -> 0 | E12: ='22-23 Expenditure Summary'!E133 -> 0 | F12: ='22-23 Expenditure Summary'!F133 -> 0 | G12: 0
A13: 13 Curriculum Dev and Inst Staff Development | B13: ='22-23 Expenditure Summary'!B134 -> 0 | C13: ='22-23 Expenditure Summary'!C134 -> 0 | E13: ='22-23 Expenditure Summary'!E134 -> 0 | F13: ='22-23 Expenditure Summary'!F134 -> 0 | G13: 0
A14: 95 Juvenile Justice AEP Program | B14: ='22-23 Expenditure Summary'!B135 -> 0 | C14: ='22-23 Expenditure Summary'!C135 -> 0 | E14: ='22-23 Expenditure Summary'!E135 -> 0 | F14: ='22-23 Expenditure Summary'!F135 -> 0 | G14: 0
A15: Total Instruction | B15: =SUM(B11:B14) -> 0 | C15: =SUM(C11:C14) -> 0 | E15: =SUM(E11:E14) -> 0 | F15: =SUM(F11:F14) -> 0 | G15: 0
A17: Instructional Support
A18: 21 Instuctional Leadership | B18: ='22-23 Expenditure Summary'!B139 -> 0 | C18: ='22-23 Expenditure Summary'!C139 -> 0 | E18: ='22-23 Expenditure Summary'!E139 -> 0 | F18: ='22-23 Expenditure Summary'!F139 -> 0 | G18: 0
A19: 23 School Leadership | B19: ='22-23 Expenditure Summary'!B140 -> 0 | C19: ='22-23 Expenditure Summary'!C140 -> 0 | E19: ='22-23 Expenditure Summary'!E140 -> 0 | F19: ='22-23 Expenditure Summary'!F140 -> 0 | G19: 0
A20: 31 Guidance, Counseling and Evaluation | B20: ='22-23 Expenditure Summary'!B141 -> 0 | C20: ='22-23 Expenditure Summary'!C141 -> 0 | E20: ='22-23 Expenditure Summary'!E141 -> 0 | F20: ='22-23 Expenditure Summary'!F141 -> 0 | G20: 0
A21: 32 Social Services | B21: ='22-23 Expenditure Summary'!B142 -> 0 | C21: ='22-23 Expenditure Summary'!C142 -> 0 | E21: ='22-23 Expenditure Summary'!E142 -> 0 | F21: ='22-23 Expenditure Summary'!F142 -> 0 | G21: 0
A22: 33 Health Services | B22: ='22-23 Expenditure Summary'!B143 -> 0 | C22: ='22-23 Expenditure Summary'!C143 -> 0 | E22: ='22-23 Expenditure Summary'!E143 -> 0 | F22: ='22-23 Expenditure Summary'!F143 -> 0 | G22: 0
A23: 36 Extracurricular Activities | B23: ='22-23 Expenditure Summary'!B144 -> 0 | C23: ='22-23 Expenditure Summary'!C144 -> 0 | E23: ='22-23 Expenditure Summary'!E144 -> 0 | F23: ='22-23 Expenditure Summary'!F144 -> 0 | G23: 0
A24: Total Instructional Support | B24: =SUM(B18:B23) -> 0 | C24: =SUM(C18:C23) -> 0 | E24: =SUM(E18:E23) -> 0 | F24: =SUM(F18:F23) -> 0 | G24: 0
A26: Central Administration - Function 41 | B26: ='22-23 Expenditure Summary'!B147 -> 0 | C26: ='22-23 Expenditure Summary'!C147 -> 0 | E26: ='22-23 Expenditure Summary'!E147 -> 0 | F26: ='22-23 Expenditure Summary'!F147 -> 0 | G26: 0
A28: District Operations
A29: 34 Student Transportation | B29: ='22-23 Expenditure Summary'!B150 -> 0 | C29: ='22-23 Expenditure Summary'!C150 -> 0 | E29: ='22-23 Expenditure Summary'!E150 -> 0 | F29: ='22-23 Expenditure Summary'!F150 -> 0 | G29: 0
A30: 35 Food Service | B30: ='22-23 Expenditure Summary'!B151 -> 0 | C30: ='22-23 Expenditure Summary'!C151 -> 0 | E30: ='22-23 Expenditure Summary'!E151 -> 0 | F30: ='22-23 Expenditure Summary'!F151 -> 0 | G30: 0
A31: 51 Plant Maintenance and Operations | B31: ='22-23 Expenditure Summary'!B152 -> 0 | C31: ='22-23 Expenditure Summary'!C152 -> 0 | E31: ='22-23 Expenditure Summary'!E152 -> 0 | F31: ='22-23 Expenditure Summary'!F152 -> 0 | G31: 0
A32: 52 Security and Monitoring Services | B32: ='22-23 Expenditure Summary'!B153 -> 0 | C32: ='22-23 Expenditure Summary'!C153 -> 0 | E32: ='22-23 Expenditure Summary'!E153 -> 0 | F32: ='22-23 Expenditure Summary'!F153 -> 0 | G32: 0
A33: 53 Data Processing Services | B33: ='22-23 Expenditure Summary'!B154 -> 0 | C33: ='22-23 Expenditure Summary'!C154 -> 0 | E33: ='22-23 Expenditure Summary'!E154 -> 0 | F33: ='22-23 Expenditure Summary'!F154 -> 0 | G33: 0
A34: Total District Operations | B34: =SUM(B29:B33) -> 0 | C34: =SUM(C29:C33) -> 0 | E34: =SUM(E29:E33) -> 0 | F34: =SUM(F29:F33) -> 0 | G34: 0
A36: Debt Services - Function 71 | B36: ='24-25 Expenditure Summary'!B157 -> 0 | C36: ='22-23 Expenditure Summary'!C157 -> 1465.9743 | E36: ='22-23 Expenditure Summary'!E157 -> 41000000 | F36: ='22-23 Expenditure Summary'!F157 -> 1512.9151 | G36: =(F36-C36)/C36 -> 0.032020229
A38: Other
A39: 61 Community Services | B39: ='22-23 Expenditure Summary'!B160 -> 0 | C39: ='22-23 Expenditure Summary'!C160 -> 0 | E39: ='22-23 Expenditure Summary'!E160 -> 0 | F39: ='22-23 Expenditure Summary'!F160 -> 0 | G39: 0
A40: 81 Facilities Acquisition and Construction | B40: ='22-23 Expenditure Summary'!B161 -> 0 | C40: ='22-23 Expenditure Summary'!C161 -> 0 | E40: ='22-23 Expenditure Summary'!E161 -> 0 | F40: ='22-23 Expenditure Summary'!F161 -> 0 | G40: 0
A41: 97 Tax Increment Fund | B41: 0 | E41: ='22-23 Expenditure Summary'!E162 -> 0 | F41: ='22-23 Expenditure Summary'!F162 -> 0 | G41: 0
A42: 99 Intergovernmental Charges | B42: ='22-23 Expenditure Summary'!B163 -> 0 | C42: ='22-23 Expenditure Summary'!C163 -> 0 | E42: ='22-23 Expenditure Summary'!E163 -> 0 | F42: ='22-23 Expenditure Summary'!F163 -> 0 | G42: 0
A43: Total Other | B43: =SUM(B39:B42) -> 0 | C43: =SUM(C39:C42) -> 0 | E43: =SUM(E39:E42) -> 0 | F43: =SUM(F39:F42) -> 0 | G43: 0
A45: Total | B45: =B15+B24+B26+B34+B36+B43 -> 0 | C45: =C15+C24+C26+C34+C36+C43 -> 1465.9743 | E45: =E15+E24+E26+E34+E36+E43 -> 41000000 | F45: =F15+F24+F26+F34+F36+F43 -> 1512.9151 | G45: =(F45-C45)/C45 -> 0.032020229
A46: Enrollment | C46: ='22-23 Expenditure Summary'!C167 -> 28790 | F46: ='22-23 Expenditure Summary'!F167 -> 27100
B48: This information will be presented at the "Public Meeting to Discuss Budget and Proposed Tax Rate" to be
B49: ='23-24 Expenditure Summary'!B61 -> held at 5:30 pm on Thursday August 24 ,2023, at the Dr. Susan J. Simpson Education Center.
B50: It is also posted on the district's website as mandated by state requirements.
