Workbook

Sheet Net Payment
B1: August 2025 - FY 2025 Charter School FTE Payment
B2: ='1461'!A3 -> Based on the FLDOE 2025-26 FEFP Calculation
B4: School # | C4: School Name | D4: Description | E4: FTE | F4: Adjustments | G4: Net | I4: NOTES TO ALL CHARTER SCHOOLS
A5: 1 | B5: 0040 | C5: Palm Beach Preparatory Middle School | D5: FTE August 2025 | E5: ='0040'!I$145 -> 24870.66 | G5: =SUBTOTAL(109,E5:F7) -> 24870.66
I7: Please go to the bottom of the page.
A8: 2 | B8: 0100 | C8: The Learning Center High School | D8: =D5 -> FTE August 2025 | E8: ='0100'!I$145 -> 22269.68 | G8: =SUBTOTAL(109,E8:F10) -> 22269.68
A12: 3 | B12: 1461 | C12: Inlet Grove Community High School | D12: FTE August 2025 | E12: ='1461'!I$145 -> 492757.49 | G12: =SUBTOTAL(109,E12:F36) -> 700042.28
D13: PY Final FEFP | I13: Please go to the bottom of the page.
D14: Sep Teacher Supplies Retract
D15: PY Digital C/R
D16: PY Dig C/R A/R
D17: PY Class Size Cat.
D18: Class Size Cat.
D19: Transportation | F19: 208541.64
D20: School Police | F20: 0
D21: AT&T | F21: -266.12
D22: Avaya Maintenance | F22: -94.48
D23: LAN & Internet | F23: -90
C24: Ends June 2022 | D24: SWA Fees
D25: FY21 TSIA
D28: WPB-248085
D29: WPB-248086
D30: WPB-248087
D31: WPB-249234
D34: WPB-297918
D35: WPB-303998 | F35: -431.25
D36: WPB-303999 | F36: -375
A37: =1+A12 -> 4 | B37: 1571 | C37: South Tech Charter Academy | D37: =$D$12 -> FTE August 2025 | E37: ='1571'!I$145 -> 808415.92 | G37: =SUBTOTAL(109,E37:F52) -> 808075.8
D38: PY Final FEFP
D39: Sep Teacher Supplies Retract
D40: FY21 CSTAG Training
D41: PY Digital C/R | L41: 44630
D42: PY Dig C/R A/R | L42: =L41-60 -> 44570
D43: PY Class Size Cat.
D44: Class Size Cat.
D45: School Police | F45: 0
D46: AT&T | F46: -155.64
D47: Avaya Maintenance | F47: -94.48
D48: LAN & Internet | F48: -90
D49: FEFP Adj
...

Sheet Annual Rev & Fees
E4: 0.75 | F4: Admin | G4: Fee % | I4: Annual | M4: Current | Q4: Sec 1 Rev/Fee per FTE | U4: Net Rev Per Sec 1 FTE
D5: H/P | E5: ESE | F5: Fee % | G5: W/O TSIA | I5: Revenue | J5: Rev - TSIA | K5: Admin Fee | L5: Net Revenue | M5: Mth's Pmt | O5: Sec 1 FTE | Q5: Rev | R5: Fee | S5: Net Rev | U5: H/P | V5: 75% ESE | W5: Other
A6: 1 | B6: 0040 | C6: Palm Beach Preparatory Middle School | D6: 0 | F6: =-K6/I6 -> 0.047639928 | G6: =-K6/J6 -> 0.050000003 | I6: ='0040'!I$128 -> 312937.08 | J6: =I6-'0040'!I$53 -> 298165.98 | K6: ='0040'!I$135 -> -14908.3 | L6: =I6+K6 -> 298028.78 | M6: ='0040'!I$145 -> 24870.66 | O6: ='0040'!E30 -> 36 | Q6: =I6/O6 -> 8692.6967 | R6: =K6/O6 -> -414.11944 | S6: =L6/O6 -> 8278.5772 | U6: =IF(D6="H",S6,0) -> 0 | V6: =ROUND(IF(E6=1,S6,0),2) -> 0 | W6: =IF(AND(U6=0,V6=0),S6,) -> 8278.5772
A7: 2 | B7: 0100 | C7: The Learning Center Highschool | D7: 0 | F7: =-K7/I7 -> 0.01559039 | G7: =-K7/J7 -> 0.016425827 | I7: ='0100'!I$128 -> 271492.24 | J7: =I7-'0100'!I$53 -> 257683.83 | K7: ='0100'!I$135 -> -4232.67 | L7: =I7+K7 -> 267259.57 | M7: ='0100'!I$145 -> 22269.68 | O7: ='0100'!E30 -> 11 | Q7: =I7/O7 -> 24681.113 | R7: =K7/O7 -> -384.78818 | S7: =L7/O7 -> 24296.325 | U7: =IF(D7="H",S7,0) -> 0 | V7: =ROUND(IF(E7=1,S7,0),2) -> 0 | W7: =IF(AND(U7=0,V7=0),S7,) -> 24296.325
A8: 3 | B8: 1461 | C8: Inlet Grove Community High School | D8: ='1461'!G$135 -> H | E8: ='1461'!H$133 | F8: =-K8/I8 -> 0.0068124488 | G8: =-K8/J8 -> 0.0071491899 | I8: ='1461'!I$128 -> 5946239.2 | J8: =I8-'1461'!I$53 -> 5666159.5 | K8: ='1461'!I$135 -> -40508.45 | L8: =I8+K8 -> 5905730.7 | M8: ='1461'!I$145 -> 492757.49 | O8: ='1461'!E$30 -> 699.38 | Q8: =I8/O8 -> 8502.1579 | R8: =K8/O8 -> -57.920515 | S8: =L8/O8 -> 8444.2374 | U8: =IF(D8="H",S8,0) -> 8444.2374 | V8: =ROUND(IF(E8=1,S8,0),2) -> 0 | W8: =IF(AND(U8=0,V8=0),S8,) -> 0
A9: 4 | B9: 1571 | C9: South Tech Charter Academy | D9: ='1571'!G$135 -> H | E9: ='1571'!H$133 | F9: =-K9/I9 -> 0.0042803363 | G9: =-K9/J9 -> 0.0044857536 | I9: ='1571'!I$128 -> 9729385.1 | J9: =I9-'1571'!I$53 -> 9283844.7 | K9: ='1571'!I$135 -> -41645.04 | L9: =I9+K9 -> 9687740 | M9: ='1571'!I$145 -> 808415.92 | O9: ='1571'!E$30 -> 1114.64 | Q9: =I9/O9 -> 8728.7241 | R9: =K9/O9 -> -37.361875 | S9: =L9/O9 -> 8691.3623 | U9: =IF(D9="H",S9,0) -> 8691.3623 | V9: =ROUND(IF(E9=1,S9,0),2) -> 0 | W9: =IF(AND(U9=0,V9=0),S9,) -> 0
A10: 5 | B10: 2521 | C10: Ed Venture | D10: ='2521'!G$135 -> 0 | E10: ='2521'!H$133 -> 1 | F10: =-K10/I10 -> 0.021397113 | G10: =-K10/J10 -> 0.022217915 | I10: ='2521'!I$128 -> 1379910.4 | J10: =I10-'2521'!I$53 -> 1328932.1 | K10: ='2521'!I$135 -> -29526.1 | L10: =I10+K10 -> 1350384.3 | M10: ='2521'!I$145 -> 112562.16 | O10: ='2521'!E$30 -> 74.16 | Q10: =I10/O10 -> 18607.207 | R10: =K10/O10 -> -398.14051 | S10: =L10/O10 -> 18209.066 | U10: =IF(D10="H",S10,0) -> 0 | V10: =ROUND(IF(E10=1,S10,0),2) -> 18209.07 | W10: =IF(AND(U10=0,V10=0),S10,) -> 0
A11: 6 | B11: 2531 | C11: Bodwell Academy | D11: ='2531'!G$135 -> 0 | E11: ='2531'!H$133 -> 1 | F11: =-K11/I11 -> 0.012186498 | G11: =-K11/J11 -> 0.012788368 | I11: ='2531'!I$128 -> 1603249.7 | J11: =I11-'2531'!I$53 -> 1527794.6 | K11: ='2531'!I$135 -> -19538 | L11: =I11+K11 -> 1583711.7 | M11: ='2531'!I$145 -> 132295.12 | O11: ='2531'!E$30 -> 49 | Q11: =I11/O11 -> 32719.382 | R11: =K11/O11 -> -398.73469 | S11: =L11/O11 -> 32320.648 | U11: =IF(D11="H",S11,0) -> 0 | V11: =ROUND(IF(E11=1,S11,0),2) -> 32320.65 | W11: =IF(AND(U11=0,V11=0),S11,) -> 0
A12: 7 | B12: 2791 | C12: The Learning Center @ The Els Center of Excl | D12: ='2791'!G$135 -> 0 | E12: ='2791'!H$133 -> 1 | F12: =-K12/I12 -> 0.011658701 | G12: =-K12/J12 -> 0.012289603 | I12: ='2791'!I$128 -> 5409536.4 | J12: =I12-'2791'!I$53 -> 5131831.4 | K12: ='2791'!I$135 -> -63068.17 | L12: =I12+K12 -> 5346468.2 | M12: ='2791'!I$145 -> 446019.94 | O12: ='2791'!E$30 -> 164 | Q12: =I12/O12 -> 32984.978 | R12: =K12/O12 -> -384.56201 | S12: =L12/O12 -> 32600.416 | U12: =IF(D12="H",S12,0) -> 0 | V12: =ROUND(IF(E12=1,S12,0),2) -> 32600.42 | W12: =IF(AND(U12=0,V12=0),S12,) -> 0
A13: 8 | B13: 2801 | C13: Palm Beach Maritime Academy Elementary | D13: ='2801'!G$135 -> 0 | E13: ='2801'!H$133 | F13: =-K13/I13 -> 0.020565412 | G13: =-K13/J13 -> 0.021588947 | I13: ='2801'!I$128 -> 5365719 | J13: =I13-'2801'!I$53 -> 5111329.4 | K13: ='2801'!I$135 -> -110348.22 | L13: =I13+K13 -> 5255370.8 | M13: ='2801'!I$145 -> 438326.62 | O13: ='2801'!E$30 -> 579 | Q13: =I13/O13 -> 9267.2176 | R13: =K13/O13 -> -190.58415 | S13: =L13/O13 -> 9076.6334 | U13: =IF(D13="H",S13,0) -> 0 | V13: =ROUND(IF(E13=1,S13,0),2) -> 0 | W13: =IF(AND(U13=0,V13=0),S13,) -> 9076.6334
A14: 9 | B14: 2911 | C14: Western Academy Charter School | D14: ='2911'!G$135 -> H | E14: ='2911'!H$133 | F14: =-K14/I14 -> 0.0067156205 | G14: =-K14/J14 -> 0.007054774 | I14: ='2911'!I$128 -> 6194550.5 | J14: =I14-'2911'!I$53 -> 5896751.6 | K14: ='2911'!I$135 -> -41600.25 | L14: =I14+K14 -> 6152950.2 | M14: ='2911'!I$145 -> 513425.85 | O14: ='2911'!E$30 -> 708.74 | Q14: =I14/O14 -> 8740.2298 | R14: =K14/O14 -> -58.696066 | S14: =L14/O14 -> 8681.5338 | U14: =IF(D14="H",S14,0) -> 8681.5338 | V14: =ROUND(IF(E14=1,S14,0),2) -> 0 | W14: =IF(AND(U14=0,V14=0),S14,) -> 0
A15: 10 | B15: 2941 | C15: Palm Beach School for Autism | D15: ='2941'!G$135 -> 0 | E15: ='2941'!H$133 -> 1 | F15: =-K15/I15 -> 0.0091323391 | G15: =-K15/J15 -> 0.0095893263 | I15: ='2941'!I$128 -> 10519478 | J15: =I15-'2941'!I$53 -> 10018164 | K15: ='2941'!I$135 -> -96067.44 | L15: =I15+K15 -> 10423410 | M15: ='2941'!I$145 -> 869504.11 | O15: ='2941'!E$30 -> 381 | Q15: =I15/O15 -> 27610.178 | R15: =K15/O15 -> -252.14551 | S15: =L15/O15 -> 27358.033 | U15: =IF(D15="H",S15,0) -> 0 | V15: =ROUND(IF(E15=1,S15,0),2) -> 27358.03 | W15: =IF(AND(U15=0,V15=0),S15,) -> 0
A16: 11 | B16: 3083 | C16: The Learning Academy @ The Els Center of Excl | D16: ='3083'!G$135 -> 0 | E16: ='3083'!H$133 -> 1 | F16: =-K16/I16 -> 0.010278151 | G16: =-K16/J16 -> 0.010831494 | I16: ='3083'!I$128 -> 6014332.6 | J16: =I16-'3083'!I$53 -> 5707081.5 | K16: ='3083'!I$135 -> -61816.22 | L16: =I16+K16 -> 5952516.4 | M16: ='3083'!I$145 -> 497059.68 | O16: ='3083'!E$30 -> 161 | Q16: =I16/O16 -> 37356.103 | R16: =K16/O16 -> -383.95168 | S16: =L16/O16 -> 36972.152 | U16: =IF(D16="H",S16,0) -> 0 | V16: =ROUND(IF(E16=1,S16,0),2) -> 36972.15 | W16: =IF(AND(U16=0,V16=0),S16,) -> 0
A17: 12 | B17: 3345 | C17: Career Academy of the Palm Beaches | D17: ='3345'!G$135 -> 0 | E17: ='3345'!H$133 -> 1 | F17: =-K17/I17 -> 0.028075491 | G17: =-K17/J17 -> 0.028899512 | I17: ='3345'!I$128 -> 1127073.1 | J17: =I17-'3345'!I$53 -> 1094936.5 | K17: ='3345'!I$135 -> -31643.13 | L17: =I17+K17 -> 1095429.9 | M17: ='3345'!I$145 -> 91364.55 | O17: ='3345'!E$30 -> 77 | Q17: =I17/O17 -> 14637.313 | R17: =K17/O17 -> -410.94974 | S17: =L17/O17 -> 14226.363 | U17: =IF(D17="H",S17,0) -> 0 | V17: =ROUND(IF(E17=1,S17,0),2) -> 14226.36 | W17: =IF(AND(U17=0,V17=0),S17,) -> 0
A18: 13 | B18: 3381 | C18: Imagine Schools - Chancellor Campus | D18: ='3381'!G$135 -> H | E18: ='3381'!H$133 | F18: =-K18/I18 -> 0.0045457595 | G18: =-K18/J18 -> 0.004775549 | I18: ='3381'!I$128 -> 9184238.6 | J18: =I18-'3381'!I$53 -> 8742312.1 | K18: ='3381'!I$135 -> -41749.34 | L18: =I18+K18 -> 9142489.3 | M18: ='3381'!I$145 -> 762872.3 | O18: ='3381'!E$30 -> 1047 | Q18: =I18/O18 -> 8771.9567 | R18: =K18/O18 -> -39.875205 | S18: =L18/O18 -> 8732.0815 | U18: =IF(D18="H",S18,0) -> 8732.0815 | V18: =ROUND(IF(E18=1,S18,0),2) -> 0 | W18: =IF(AND(U18=0,V18=0),S18,) -> 0
A19: 14 | B19: 3382 | C19: Glades Academy | D19: ='3382'!G$135 -> 0 | E19: ='3382'!H$133 | F19: =-K19/I19 -> 0.04404348 | G19: =-K19/J19 -> 0.04612546 | I19: ='3382'!I$128 -> 2538893.1 | J19: =I19-'3382'!I$53 -> 2424294.3 | K19: ='3382'!I$135 -> -111821.69 | L19: =I19+K19 -> 2427071.4 | M19: ='3382'!I$145 -> 202508.28 | O19: ='3382'!E$30 -> 271 | Q19: =I19/O19 -> 9368.6093 | R19: =K19/O19 -> -412.62616 | S19: =L19/O19 -> 8955.9832 | U19: =IF(D19="H",S19,0) -> 0 | V19: =ROUND(IF(E19=1,S19,0),2) -> 0 | W19: =IF(AND(U19=0,V19=0),S19,) -> 8955.9832
A20: 15 | B20: 3391 | C20: Seagull Academy for Independent Living | D20: ='3391'!G$135 -> 0 | E20: ='3391'!H$133 -> 1
A21: 16 | B21: 3394 | C21: Montessori Academy of Early Enrichment | D21: ='3394'!G$135 -> 0 | E21: ='3394'!H$133 | F21: =-K21/I21 -> 0.047549064 | G21: =-K21/J21 -> 0.050000003 | I21: ='3394'!I$128 -> 1735604.3 | J21: =I21-'3394'!I$53 -> 1650527.1 | K21: ='3394'!I$135 -> -82526.36 | L21: =I21+K21 -> 1653077.9 | M21: ='3394'!I$145 -> 137857.37 | O21: ='3394'!E$30 -> 192 | Q21: =I21/O21 -> 9039.6057 | R21: =K21/O21 -> -429.82479 | S21: =L21/O21 -> 8609.7809 | U21: =IF(D21="H",S21,0) -> 0 | V21: =ROUND(IF(E21=1,S21,0),2) -> 0 | W21: =IF(AND(U21=0,V21=0),S21,) -> 8609.7809
A22: 17 | B22: 3395 | C22: Somerset Academy Charter School | D22: ='3395'!G$135 -> 0 | E22: ='3395'!H$133 | F22: =-K22/I22 -> 0.023084302 | G22: =-K22/J22 -> 0.024270903 | I22: ='3395'!I$128 -> 4522313.1 | J22: =I22-'3395'!I$53 -> 4301217.9 | K22: ='3395'!I$135 -> -104394.44 | L22: =I22+K22 -> 4417918.6 | M22: ='3395'!I$145 -> 368541.43 | O22: ='3395'!E$30 -> 515.02 | Q22: =I22/O22 -> 8780.8494 | R22: =K22/O22 -> -202.69978 | S22: =L22/O22 -> 8578.1497 | U22: =IF(D22="H",S22,0) -> 0 | V22: =ROUND(IF(E22=1,S22,0),2) -> 0 | W22: =IF(AND(U22=0,V22=0),S22,) -> 8578.1497
A23: 18 | B23: 3396 | C23: G-Star School of the Arts | D23: ='3396'!G$135 -> H | E23: ='3396'!H$133 | F23: =-K23/I23 -> 0.0067364824 | G23: =-K23/J23 -> 0.0070733363 | I23: ='3396'!I$128 -> 5907007.2 | J23: =I23-'3396'!I$53 -> 5625697.4 | K23: ='3396'!I$135 -> -39792.45 | L23: =I23+K23 -> 5867214.7 | M23: ='3396'!I$145 -> 489623.72 | O23: ='3396'!E$30 -> 706.88 | Q23: =I23/O23 -> 8356.4497 | R23: =K23/O23 -> -56.293077 | S23: =L23/O23 -> 8300.1566 | U23: =IF(D23="H",S23,0) -> 8300.1566 | V23: =ROUND(IF(E23=1,S23,0),2) -> 0 | W23: =IF(AND(U23=0,V23=0),S23,) -> 0
A24: 19 | B24: 3398 | C24: Everglades Preparatory Academy | D24: ='3398'!G$135 -> 0 | E24: ='3398'!H$133 | F24: =-K24/I24 -> 0.047694081 | G24: =-K24/J24 -> 0.049999995 | I24: ='3398'!I$128 -> 965833.89 | J24: =I24-'3398'!I$53 -> 921291.29 | K24: ='3398'!I$135 -> -46064.56 | L24: =I24+K24 -> 919769.33 | M24: ='3398'!I$145 -> 76763.56 | O24: ='3398'!E$30 -> 113.18 | Q24: =I24/O24 -> 8533.6092 | R24: =K24/O24 -> -407.00265 | S24: =L24/O24 -> 8126.6066 | U24: =IF(D24="H",S24,0) -> 0 | V24: =ROUND(IF(E24=1,S24,0),2) -> 0 | W24: =IF(AND(U24=0,V24=0),S24,) -> 8126.6066
A25: 20 | B25: 3400 | C25: Believers Academy | D25: ='3400'!G$135 -> 0 | E25: ='3400'!H$133 -> 1 | F25: =-K25/I25 -> 0.032480878 | G25: =-K25/J25 -> 0.033553774 | I25: ='3400'!I$128 -> 1170602 | J25: =I25-'3400'!I$53 -> 1133171.5 | K25: ='3400'!I$135 -> -38022.18 | L25: =I25+K25 -> 1132579.8 | M25: ='3400'!I$145 -> 94458.1 | O25: ='3400'!E$30 -> 95.86 | Q25: =I25/O25 -> 12211.579 | R25: =K25/O25 -> -396.64281 | S25: =L25/O25 -> 11814.936 | U25: =IF(D25="H",S25,0) -> 0 | V25: =ROUND(IF(E25=1,S25,0),2) -> 11814.94 | W25: =IF(AND(U25=0,V25=0),S25,) -> 0
A26: 21 | B26: 3401 | C26: Quantum High School | D26: ='3401'!G$135 -> 0 | E26: ='3401'!H$133 -> 0 | F26: =-K26/I26 -> 0.028015217 | G26: =-K26/J26 -> 0.02936478 | I26: ='3401'!I$128 -> 3652868.1 | J26: =I26-'3401'!I$53 -> 3484987.5 | K26: ='3401'!I$135 -> -102335.89 | L26: =I26+K26 -> 3550532.2 | M26: ='3401'!I$145 -> 296284.6 | O26: ='3401'!E$30 -> 425.68 | Q26: =I26/O26 -> 8581.2536 | R26: =K26/O26 -> -240.40568 | S26: =L26/O26 -> 8340.848 | U26: =IF(D26="H",S26,0) -> 0 | V26: =ROUND(IF(E26=1,S26,0),2) -> 0 | W26: =IF(AND(U26=0,V26=0),S26,) -> 8340.848
A27: 22 | B27: 3413 | C27: Somerset Academy Boca | D27: ='3413'!G$135 -> H | E27: ='3413'!H$133 | F27: =-K27/I27 -> 0.012198363 | G27: =-K27/J27 -> 0.012819855 | I27: ='3413'!I$128 -> 3477233.1 | J27: =I27-'3413'!I$53 -> 3308660.7 | K27: ='3413'!I$135 -> -42416.55 | L27: =I27+K27 -> 3434816.5 | M27: ='3413'!I$145 -> 286550.08 | O27: ='3413'!E$30 -> 390.02 | Q27: =I27/O27 -> 8915.5251 | R27: =K27/O27 -> -108.75481 | S27: =L27/O27 -> 8806.7703 | U27: =IF(D27="H",S27,0) -> 8806.7703 | V27: =ROUND(IF(E27=1,S27,0),2) -> 0 | W27: =IF(AND(U27=0,V27=0),S27,) -> 0
A28: 23 | B28: 3421 | C28: Worthington High School | D28: ='3421'!G$135 -> 0 | E28: ='3421'!H$133 | F28: =-K28/I28 -> 0.024842896 | G28: =-K28/J28 -> 0.026086231 | I28: ='3421'!I$128 -> 3939523.4 | J28: =I28-'3421'!I$53 -> 3751755.9 | K28: ='3421'!I$135 -> -97869.17 | L28: =I28+K28 -> 3841654.3 | M28: ='3421'!I$145 -> 320269.78 | O28: ='3421'!E$30 -> 479.18 | Q28: =I28/O28 -> 8221.3853 | R28: =K28/O28 -> -204.24302 | S28: =L28/O28 -> 8017.1423 | U28: =IF(D28="H",S28,0) -> 0 | V28: =ROUND(IF(E28=1,S28,0),2) -> 0 | W28: =IF(AND(U28=0,V28=0),S28,) -> 8017.1423
A29: 24 | B29: 3431 | C29: Renaissance Charter School at WPB | D29: ='3431'!G$135 -> H | E29: ='3431'!H$133 | F29: =-K29/I29 -> 0.0046924041 | G29: =-K29/J29 -> 0.0049315506 | I29: ='3431'!I$128 -> 8883510.3 | J29: =I29-'3431'!I$53 -> 8452720.8 | K29: ='3431'!I$135 -> -41685.02 | L29: =I29+K29 -> 8841825.3 | M29: ='3431'!I$145 -> 737684.93 | O29: ='3431'!E$30 -> 1013.88 | Q29: =I29/O29 -> 8761.8952 | R29: =K29/O29 -> -41.114353 | S29: =L29/O29 -> 8720.7809 | U29: =IF(D29="H",S29,0) -> 8720.7809 | V29: =ROUND(IF(E29=1,S29,0),2) -> 0 | W29: =IF(AND(U29=0,V29=0),S29,) -> 0
A30: 25 | B30: 3441 | C30: South Tech Preparatory Academy (MS) | D30: ='3441'!G$135 -> 0 | E30: ='3441'!H$133 | F30: =-K30/I30 -> 0.022587325 | G30: =-K30/J30 -> 0.023692192 | I30: ='3441'!I$128 -> 4561332.1 | J30: =I30-'3441'!I$53 -> 4348617.9 | K30: ='3441'!I$135 -> -103028.29 | L30: =I30+K30 -> 4458303.8 | M30: ='3441'!I$145 -> 372113.82 | O30: ='3441'!E$30 -> 527.6 | Q30: =I30/O30 -> 8645.4361 | R30: =K30/O30 -> -195.27727 | S30: =L30/O30 -> 8450.1588 | U30: =IF(D30="H",S30,0) -> 0 | V30: =ROUND(IF(E30=1,S30,0),2) -> 0 | W30: =IF(AND(U30=0,V30=0),S30,) -> 8450.1588
A31: 26 | B31: 3924 | C31: Palm Beach Maritime Academy Secondary | D31: ='3924'!G$135 -> 0 | E31: ='3924'!H$133 | F31: =-K31/I31 -> 0.02725435 | G31: =-K31/J31 -> 0.028589726 | I31: ='3924'!I$128 -> 3796954.6 | J31: =I31-'3924'!I$53 -> 3619605.5 | K31: ='3924'!I$135 -> -103483.53 | L31: =I31+K31 -> 3693471.1 | M31: ='3924'!I$145 -> 308213.52 | O31: ='3924'!E$30 -> 437.22 | Q31: =I31/O31 -> 8684.3114 | R31: =K31/O31 -> -236.68526 | S31: =L31/O31 -> 8447.6261 | U31: =IF(D31="H",S31,0) -> 0 | V31: =ROUND(IF(E31=1,S31,0),2) -> 0 | W31: =IF(AND(U31=0,V31=0),S31,) -> 8447.6261
A32: 27 | B32: 3941 | C32: Ben Gamla Charter School | D32: ='3941'!G$135 -> H | E32: ='3941'!H$133 | F32: =-K32/I32 -> 0.019033025 | G32: =-K32/J32 -> 0.019999998 | I32: ='3941'!I$128 -> 2059442 | J32: =I32-'3941'!I$53 -> 1959870.6 | K32: ='3941'!I$135 -> -39197.41 | L32: =I32+K32 -> 2020244.6 | M32: ='3941'!I$145 -> 168521.9 | O32: ='3941'!E$30 -> 229 | Q32: =I32/O32 -> 8993.1964 | R32: =K32/O32 -> -171.16773 | S32: =L32/O32 -> 8822.0286 | U32: =IF(D32="H",S32,0) -> 8822.0286 | V32: =ROUND(IF(E32=1,S32,0),2) -> 0 | W32: =IF(AND(U32=0,V32=0),S32,) -> 0
A33: 28 | B33: 3961 | C33: Gardens School of Technology Arts | D33: ='3961'!G$135 -> 0 | E33: ='3961'!H$133
A34: 29 | B34: 3971 | C34: Palm Beach Preparatory Charter Academy | D34: ='3971'!G$135 -> 0 | E34: ='3971'!H$133 | F34: =-K34/I34 -> 0.018850287 | G34: =-K34/J34 -> 0.019807314 | I34: ='3971'!I$128 -> 5197180.2 | J34: =I34-'3971'!I$53 -> 4946068.8 | K34: ='3971'!I$135 -> -97968.34 | L34: =I34+K34 -> 5099211.8 | M34: ='3971'!I$145 -> 425546.45 | O34: ='3971'!E$30 -> 631.08 | Q34: =I34/O34 -> 8235.3746 | R34: =K34/O34 -> -155.23918 | S34: =L34/O34 -> 8080.1354 | U34: =IF(D34="H",S34,0) -> 0 | V34: =ROUND(IF(E34=1,S34,0),2) -> 0 | W34: =IF(AND(U34=0,V34=0),S34,) -> 8080.1354
A35: 30 | B35: 4001 | C35: Renaissance Charter School at Wellington | D35: ='4001'!G$135 -> 0 | E35: ='4001'!H$133 | F35: =-K35/I35 -> 0.017444106 | G35: =-K35/J35 -> 0.018328446 | I35: ='4001'!I$128 -> 6019584.4 | J35: =I35-'4001'!I$53 -> 5729142 | K35: ='4001'!I$135 -> -105006.27 | L35: =I35+K35 -> 5914578.1 | M35: ='4001'!I$145 -> 493503.39 | O35: ='4001'!E$30 -> 682 | Q35: =I35/O35 -> 8826.3701 | R35: =K35/O35 -> -153.96814 | S35: =L35/O35 -> 8672.402 | U35: =IF(D35="H",S35,0) -> 0 | V35: =ROUND(IF(E35=1,S35,0),2) -> 0 | W35: =IF(AND(U35=0,V35=0),S35,) -> 8672.402
A36: 31 | B36: 4002 | C36: Renaissance Charter School at Summit | D36: ='4002'!G$135 -> 0 | E36: ='4002'!H$133 | F36: =-K36/I36 -> 0.012079019 | G36: =-K36/J36 -> 0.012701187 | I36: ='4002'!I$128 -> 8679085.7 | J36: =I36-'4002'!I$53 -> 8253940.4 | K36: ='4002'!I$135 -> -104834.84 | L36: =I36+K36 -> 8574250.8 | M36: ='4002'!I$145 -> 715174.9 | O36: ='4002'!E$30 -> 984.16 | Q36: =I36/O36 -> 8818.7751 | R36: =K36/O36 -> -106.52215 | S36: =L36/O36 -> 8712.2529 | U36: =IF(D36="H",S36,0) -> 0 | V36: =ROUND(IF(E36=1,S36,0),2) -> 0 | W36: =IF(AND(U36=0,V36=0),S36,) -> 8712.2529
A37: 32 | B37: 4012 | C37: Somerset Academy Canyons Middle School | D37: ='4012'!G$135 -> H | E37: ='4012'!H$133 | F37: =-K37/I37 -> 0.0079801326 | G37: =-K37/J37 -> 0.0083870106 | I37: ='4012'!I$128 -> 4944226.1 | J37: =I37-'4012'!I$53 -> 4704367.5 | K37: ='4012'!I$135 -> -39455.58 | L37: =I37+K37 -> 4904770.5 | M37: ='4012'!I$145 -> 409405.4 | O37: ='4012'!E$30 -> 596.16 | Q37: =I37/O37 -> 8293.4549 | R37: =K37/O37 -> -66.18287 | S37: =L37/O37 -> 8227.2721 | U37: =IF(D37="H",S37,0) -> 8227.2721 | V37: =ROUND(IF(E37=1,S37,0),2) -> 0 | W37: =IF(AND(U37=0,V37=0),S37,) -> 0
A38: 33 | B38: 4013 | C38: Somerset Academy Canyons High School | D38: ='4013'!G$135 -> H | E38: ='4013'!H$133 | F38: =-K38/I38 -> 0.0046549209 | G38: =-K38/J38 -> 0.0048955296 | I38: ='4013'!I$128 -> 8157822.9 | J38: =I38-'4013'!I$53 -> 7756876.8 | K38: ='4013'!I$135 -> -37974.02 | L38: =I38+K38 -> 8119848.9 | M38: ='4013'!I$145 -> 677472.72 | O38: ='4013'!E$30 -> 1021.34 | Q38: =I38/O38 -> 7987.3724 | R38: =K38/O38 -> -37.180586 | S38: =L38/O38 -> 7950.1918 | U38: =IF(D38="H",S38,0) -> 7950.1918 | V38: =ROUND(IF(E38=1,S38,0),2) -> 0 | W38: =IF(AND(U38=0,V38=0),S38,) -> 0
A39: 34 | B39: 4020 | C39: Franklin Academy - Boynton Beach | D39: ='4020'!G$135 -> 0 | E39: ='4020'!H$133 | F39: =-K39/I39 -> 0.0095543749 | G39: =-K39/J39 -> 0.010036452 | I39: ='4020'!I$128 -> 10972109 | J39: =I39-'4020'!I$53 -> 10445089 | K39: ='4020'!I$135 -> -104831.64 | L39: =I39+K39 -> 10867277 | M39: ='4020'!I$145 -> 906770.45 | O39: ='4020'!E$30 -> 1245.46 | Q39: =I39/O39 -> 8809.6838 | R39: =K39/O39 -> -84.171021 | S39: =L39/O39 -> 8725.5128 | U39: =IF(D39="H",S39,0) -> 0 | V39: =ROUND(IF(E39=1,S39,0),2) -> 0 | W39: =IF(AND(U39=0,V39=0),S39,) -> 8725.5128
A40: 35 | B40: 4030 | C40: Olympus International Academy | D40: ='4030'!G$135 -> 0 | E40: ='4030'!H$133 | F40: =-K40/I40 -> 0.03907743 | G40: =-K40/J40 -> 0.041115716 | I40: ='4030'!I$128 -> 2725886 | J40: =I40-'4030'!I$53 -> 2590751.9 | K40: ='4030'!I$135 -> -106520.62 | L40: =I40+K40 -> 2619365.4 | M40: ='4030'!I$145 -> 218407.85 | O40: ='4030'!E$30 -> 304.02 | Q40: =I40/O40 -> 8966.1404 | R40: =K40/O40 -> -350.37373 | S40: =L40/O40 -> 8615.7667 | U40: =IF(D40="H",S40,0) -> 0 | V40: =ROUND(IF(E40=1,S40,0),2) -> 0 | W40: =IF(AND(U40=0,V40=0),S40,) -> 8615.7667
A41: 36 | B41: 4031 | C41: Somerset Academy Wellington | D41: ='4031'!G$135 -> 0 | E41: ='4031'!H$133 | F41: =-K41/I41 -> 0.025954394 | G41: =-K41/J41 -> 0.027284236 | I41: ='4031'!I$128 -> 4019129.9 | J41: =I41-'4031'!I$53 -> 3823236.2 | K41: ='4031'!I$135 -> -104314.08 | L41: =I41+K41 -> 3914815.9 | M41: ='4031'!I$145 -> 326575.68 | O41: ='4031'!E$30 -> 458.14 | Q41: =I41/O41 -> 8772.7112 | R41: =K41/O41 -> -227.6904 | S41: =L41/O41 -> 8545.0208 | U41: =IF(D41="H",S41,0) -> 0 | V41: =ROUND(IF(E41=1,S41,0),2) -> 0 | W41: =IF(AND(U41=0,V41=0),S41,) -> 8545.0208
A42: 37 | B42: 4041 | C42: Somerset Academy Boca Middle School | D42: ='4041'!G$135 -> H | E42: ='4041'!H$133 | F42: =-K42/I42 -> 0.019036233 | G42: =-K42/J42 -> 0.020000004 | I42: ='4041'!I$128 -> 791018.89 | J42: =I42-'4041'!I$53 -> 752900.84 | K42: ='4041'!I$135 -> -15058.02 | L42: =I42+K42 -> 775960.87 | M42: ='4041'!I$145 -> 64770.19 | O42: ='4041'!E$30 -> 94.7 | Q42: =I42/O42 -> 8352.8922 | R42: =K42/O42 -> -159.0076 | S42: =L42/O42 -> 8193.8846 | U42: =IF(D42="H",S42,0) -> 8193.8846 | V42: =ROUND(IF(E42=1,S42,0),2) -> 0 | W42: =IF(AND(U42=0,V42=0),S42,) -> 0
A43: 38 | B43: 4050 | C43: Renaissance Charter School at Cypress | D43: ='4050'!G$135 -> 0 | E43: ='4050'!H$133 | F43: =-K43/I43 -> 0.016343925 | G43: =-K43/J43 -> 0.017184966 | I43: ='4050'!I$128 -> 6331350.5 | J43: =I43-'4050'!I$53 -> 6021491.2 | K43: ='4050'!I$135 -> -103479.12 | L43: =I43+K43 -> 6227871.4 | M43: ='4050'!I$145 -> 519597.92 | O43: ='4050'!E$30 -> 727.38 | Q43: =I43/O43 -> 8704.3231 | R43: =K43/O43 -> -142.26281 | S43: =L43/O43 -> 8562.0603 | U43: =IF(D43="H",S43,0) -> 0 | V43: =ROUND(IF(E43=1,S43,0),2) -> 0 | W43: =IF(AND(U43=0,V43=0),S43,) -> 8562.0603
...

Sheet Charter Schools
B1: Palm Beach County Charter Schools
B3: Sorted by School Number | E3: Sorted by School Name
B4: Dept # | C4: Charter School Name | E4: Dept # | F4: Charter School Name
A5: 1 | B5: 0040 | C5: PALM BEACH PREPARATORY ACADEMY MS | E5: 3400 | F5: Believers Academy
A6: 2 | B6: 0100 | C6: THE LEARNING CENTER HS | E6: 3941 | F6: Ben Gamla Charter School | I6: 3391 Seagull Academy for Independent Living and 2531 Potentials Charter School merged in FY 25 and changed their name to Bodwell Academy
A7: 3 | B7: 1461 | C7: Inlet Grove Community High School | E7: 4102 | F7: BridgePrep Academy of PB
A8: 4 | B8: 1571 | C8: South Tech Charter Academy | E8: 4100 | F8: Connections Education Center of the Palm Beaches
A9: 5 | B9: 2521 | C9: Ed Venture | E9: 2521 | F9: Ed Venture | I9: 3961 Garden School of Technology is closing for FY 26.
A10: 6 | B10: 2531 | C10: Bodwell Academy (formerly - Potentials Charter School) | E10: 3398 | F10: Everglades Preparatory Academy | I10: 4080 University Prep is closed for FY 26
A11: 7 | B11: 2791 | C11: The Learning Center at The Els Center of Excellence | E11: 4081 | F11: Florida Futures Academy - North Campus | I11: 3362 Somerset Avenir opened FY26
A12: 8 | B12: 2801 | C12: Palm Beach Maritime Academy Elementary | E12: 4020 | F12: Franklin Academy - Boynton Beach
A13: 9 | B13: 2911 | C13: Western Academy Charter School | E13: 4061 | F13: Franklin Academy - Palm Beach Gardens
A14: 10 | B14: 2941 | C14: Palm Beach School for Autism | E14: 3961 | F14: Gardens School of Technology Arts
A15: 11 | B15: 3083 | C15: The Learning Academy at The Els Center of Excellence | E15: 3382 | F15: Glades Academy
A16: 12 | B16: 3345 | C16: Career Academy of the Palm Beaches | E16: 3396 | F16: G-Star School of the Arts for Motion Pictures and Television
A17: 13 | B17: 3362 | C17: Somerset Avenir | E17: 3345 | F17: Career Academy of the Palm Beaches
A18: 14 | B18: 3381 | C18: Imagine Schools - Chancellor Campus | E18: 3381 | F18: Imagine Schools - Chancellor Campus
A19: 15 | B19: 3382 | C19: Glades Academy | E19: 1461 | F19: Inlet Grove Community High School
A20: 16 | B20: 3391 | C20: Seagull Academy for Independent Living | E20: 3394 | F20: Montessori Academy of Early Enrichment
A21: 17 | B21: 3394 | C21: Montessori Academy of Early Enrichment | E21: 4030 | F21: Olympus International Academy
A22: 18 | B22: 3395 | C22: Somerset Academy JFK Charter School | E22: 2801 | F22: Palm Beach Maritime Academy Elementary
A23: 19 | B23: 3396 | C23: G-Star School of the Arts for Motion Pictures and Television | E23: 3924 | F23: Palm Beach Maritime Academy Secondary
A24: 20 | B24: 3398 | C24: Everglades Preparatory Academy | E24: 3971 | F24: Palm Beach Preparatory Charter Academy
A25: 21 | B25: 3400 | C25: Believers Academy | E25: 0040 | F25: PALM BEACH PREPARATORY ACADEMY MS
A26: 22 | B26: 3401 | C26: Quantum High School | E26: 2941 | F26: Palm Beach School for Autism
A27: 23 | B27: 3413 | C27: Somerset Academy Boca | E27: 2531 | F27: Potentials Charter School
A28: 24 | B28: 3421 | C28: Worthington High School | E28: 3401 | F28: Quantum High School
A29: 25 | B29: 3431 | C29: Renaissance Charter School at WPB | E29: 4051 | F29: Renaissance Charter School at Central Palm
... A34: 30 | B34: 3971 | C34: Palm Beach Preparatory Charter Academy | E34: 3391 | F34: Seagull Academy for Independent Living
A35: 31 | B35: 4001 | C35: Renaissance Charter School at Wellington | E35: 4111 | F35: SLAM HS Palm Beach
A36: 32 | B36: 4002 | C36: Renaissance Charter School at Summit | E36: 3362 | F36: Somerset Avenir
A37: 33 | B37: 4012 | C37: Somerset Academy Canyons Middle School | E37: 3413 | F37: Somerset Academy Boca
A38: 34 | B38: 4013 | C38: Somerset Academy Canyons High School | E38: 4041 | F38: Somerset Academy Boca Middle School
A39: 35 | B39: 4020 | C39: Franklin Academy - Boynton Beach | E39: 4013 | F39: Somerset Academy Canyons High School
A40: 36 | B40: 4030 | C40: Olympus International Academy | E40: 4012 | F40: Somerset Academy Canyons Middle School
A41: 37 | B41: 4031 | C41: Somerset Academy Wellington | E41: 3395 | F41: Somerset Academy JFK Charter School
A42: 38 | B42: 4041 | C42: Somerset Academy Boca Middle School | E42: 4091 | F42: Somerset Academy Lakes
A43: 39 | B43: 4050 | C43: Renaissance Charter School at Cypress | E43: 4031 | F43: Somerset Academy Wellington
A44: 40 | B44: 4051 | C44: Renaissance Charter School at Central Palm | E44: 4131 | F44: Somerset Academy Wellington HS
A45: 41 | B45: 4061 | C45: Franklin Academy - Palm Beach Gardens | E45: 1571 | F45: South Tech Charter Academy
...

Sheet Consolidated
B1: (Insert district number in cell A1, enter, then strike F9. Your district data then pulls from Calculation Detail Sheets)
A2: Revenue Estimate Worksheet: All Charter Schools (Consolidated Tab)
A3: ='1461'!A3 -> Based on the FLDOE 2025-26 FEFP Calculation
A4: School District: | C4: Palm Beach | F4: August 2025
A7: ='1461'!A7:I7 -> 1A. 2023-24 FEFP State and Local Funding
B8: Base Student Allocation: | C8: ='1461'!C8 -> 5372.6 | G8: District Cost Differential: | H8: ='1461'!H8 -> 1.0355
G9: Small District Factor: | H9: ='1461'!H9 -> 1
I10: ='1461'!I10 -> 2025-26
C11: ='1461'!C11 -> Oct 2024 | D11: ='1461'!D11 -> Feb 2025 | E11: Total | F11: Program | H11: Weighted FTE | I11: Base Funding
A12: Program | C12: ='1461'!C12 -> FTE | D12: ='1461'!D12 -> FTE | E12: FTE | F12: Cost Factor | H12: (2) x (3) | I12: (WFTE x BSA x CWF x SDF)
A13: (1) | E13: (2) | F13: (3) | H13: (4) | I13: (5)
A14: 101 Basic K-3 | C14: =SUM('0040:4131'!C14) -> 2036.52 | D14: =SUM('0040:4131'!D14) -> 0 | E14: =SUM('0040:4131'!E14) -> 4073.04 | F14: ='1461'!F14:G14 -> 1.108 | H14: =SUM('0040:4131'!H14) -> 4512.9283 | I14: =SUM('0040:4131'!I14) -> 25106897
A15: 111 Basic K-3 with ESE Services | C15: =SUM('0040:4131'!C15) -> 288 | D15: =SUM('0040:4131'!D15) -> 0 | E15: =SUM('0040:4131'!E15) -> 576 | F15: ='1461'!F15:G15 -> 1.108 | H15: =SUM('0040:4131'!H15) -> 638.208 | I15: =SUM('0040:4131'!I15) -> 3550560
A16: 102 Basic 4-8 | C16: =SUM('0040:4131'!C16) -> 3230.28 | D16: =SUM('0040:4131'!D16) -> 0 | E16: =SUM('0040:4131'!E16) -> 6460.56 | F16: ='1461'!F16:G16 -> 1 | H16: =SUM('0040:4131'!H16) -> 6460.56 | I16: =SUM('0040:4131'!I16) -> 35942210
A17: 112 Basic 4-8 with ESE Services | C17: =SUM('0040:4131'!C17) -> 580.06 | D17: =SUM('0040:4131'!D17) -> 0 | E17: =SUM('0040:4131'!E17) -> 1160.12 | F17: ='1461'!F17:G17 -> 1 | H17: =SUM('0040:4131'!H17) -> 1160.12 | I17: =SUM('0040:4131'!I17) -> 6454127.3
A18: 103 Basic 9-12 | C18: =SUM('0040:4131'!C18) -> 2242.3 | D18: =SUM('0040:4131'!D18) -> 0 | E18: =SUM('0040:4131'!E18) -> 4484.6 | F18: ='1461'!F18:G18 -> 0.972 | H18: =SUM('0040:4131'!H18) -> 4359.0313 | I18: =SUM('0040:4131'!I18) -> 24250718
A19: 113 Basic 9-12 with ESE Services | C19: =SUM('0040:4131'!C19) -> 626.99 | D19: =SUM('0040:4131'!D19) -> 0 | E19: =SUM('0040:4131'!E19) -> 1253.98 | F19: ='1461'!F19:G19 -> 0.972 | H19: =SUM('0040:4131'!H19) -> 1218.8686 | I19: =SUM('0040:4131'!I19) -> 6780965
A20: 254 ESE Level 4 (Grade Level PK-3) | C20: =SUM('0040:4131'!C20) -> 91.5 | D20: =SUM('0040:4131'!D20) -> 0 | E20: =SUM('0040:4131'!E20) -> 183 | F20: ='1461'!F20:G20 -> 3.609 | H20: =SUM('0040:4131'!H20) -> 660.447 | I20: =SUM('0040:4131'!I20) -> 3674282.8
A21: 254 ESE Level 4 (Grade Level 4-8) | C21: =SUM('0040:4131'!C21) -> 79 | D21: =SUM('0040:4131'!D21) -> 0 | E21: =SUM('0040:4131'!E21) -> 158 | F21: ='1461'!F21:G21 -> 3.609 | H21: =SUM('0040:4131'!H21) -> 570.222 | I21: =SUM('0040:4131'!I21) -> 3172331.6
A22: 254 ESE Level 4 (Grade Level 9-12) | C22: =SUM('0040:4131'!C22) -> 57.93 | D22: =SUM('0040:4131'!D22) -> 0 | E22: =SUM('0040:4131'!E22) -> 115.86 | F22: ='1461'!F22:G22 -> 3.609 | H22: =SUM('0040:4131'!H22) -> 418.1387 | I22: =SUM('0040:4131'!I22) -> 2326242.5
A23: 255 ESE Level 5 (Grade Level PK-3) | C23: =SUM('0040:4131'!C23) -> 50.5 | D23: =SUM('0040:4131'!D23) -> 0 | E23: =SUM('0040:4131'!E23) -> 101 | F23: ='1461'!F23:G23 -> 6.064 | H23: =SUM('0040:4131'!H23) -> 612.464 | I23: =SUM('0040:4131'!I23) -> 3407337.7
A24: 255 ESE Level 5 (Grade Level 4-8) | C24: =SUM('0040:4131'!C24) -> 50.5 | D24: =SUM('0040:4131'!D24) -> 0 | E24: =SUM('0040:4131'!E24) -> 101 | F24: ='1461'!F24:G24 -> 6.064 | H24: =SUM('0040:4131'!H24) -> 612.464 | I24: =SUM('0040:4131'!I24) -> 3407337.7
A25: 255 ESE Level 5 (Grade Level 9-12) | C25: =SUM('0040:4131'!C25) -> 40 | D25: =SUM('0040:4131'!D25) -> 0 | E25: =SUM('0040:4131'!E25) -> 80 | F25: ='1461'!F25:G25 -> 6.064 | H25: =SUM('0040:4131'!H25) -> 485.12 | I25: =SUM('0040:4131'!I25) -> 2698881.3
... A29: 300 Career Education (Grades 9-12) | C29: =SUM('0040:4131'!C29) -> 287.03 | D29: =SUM('0040:4131'!D29) -> 0 | E29: =SUM('0040:4131'!E29) -> 574.06 | F29: ='1461'!F29:G29 -> 1.081 | H29: =SUM('0040:4131'!H29) -> 620.5587 | I29: =SUM('0040:4131'!I29) -> 3452371.2
A30: Totals non-virtual schools | C30: =SUM(C14:C29) -> 10701.28 | D30: =SUM(D14:D29) -> 0 | E30: =SUM(E14:E29) -> 21402.56 | H30: =SUM(H14:H29) -> 24753.892 | I30: =SUM(I14:I29) -> 1.37714e+08
A31: Virtual schools ($5,476.28/FTE) | C31: =Virtual!E22 -> 0 | D31: =Virtual!E23 -> 0 | E31: =IF(D$30=0,C31*2,C31+D31) -> 0 | F31: 0.7 | H31: =ROUND(E31*F31,4) -> 0 | I31: =Virtual!E28 -> 0
A32: Totals all schools | C32: =SUM(C30:C31) -> 10701.28 | D32: =SUM(D30:D31) -> 0 | E32: =SUM(E30:E31) -> 21402.56 | I32: =SUM(I30:I31) -> 1.37714e+08
A34: Letters in Parentheses Refer to Notes at Bottom of Worksheet:
I36: 2018-19
C37: =C11 -> Oct 2024 | D37: =D11 -> Feb 2025 | E37: Total | I37: Base Funding
A38: Additional FTE (a) | C38: FTE | D38: FTE | E38: FTE | I38: (WFTE x BSA x DCD)
A39: Advanced Placement | C39: =SUM('1461:4111'!C38) -> 0 | D39: =SUM('1461:4111'!D38) -> 0 | E39: =SUM('1461:4111'!E38) -> 0 | I39: =SUM('1461:4111'!I38) -> 0
A40: International Baccalaureate | C40: =SUM('1461:4111'!C39) -> 0 | D40: =SUM('1461:4111'!D39) -> 0 | E40: =SUM('1461:4111'!E39) -> 0 | I40: =SUM('1461:4111'!I39) -> 0
A41: Advanced International Certificate | C41: =SUM('1461:4111'!C40) -> 0 | D41: =SUM('1461:4111'!D40) -> 0 | E41: =SUM('1461:4111'!E40) -> 0 | I41: =SUM('1461:4111'!I40) -> 0
A42: Industry Certified Career Education | C42: =SUM('1461:4111'!C41) -> 0 | D42: =SUM('1461:4111'!D41) -> 0 | E42: =SUM('1461:4111'!E41) -> 0 | I42: =SUM('1461:4111'!I41) -> 0
A43: Early High School Graduation | C43: =SUM('1461:4111'!C42) -> 0 | D43: =SUM('1461:4111'!D42) -> 0 | E43: =SUM('1461:4111'!E42) -> 0 | I43: =SUM('1461:4111'!I42) -> 0
A44: Small District ESE Supplement | C44: =SUM('1461:4111'!C43) -> 0 | D44: =SUM('1461:4111'!D43) -> 0 | E44: =SUM('1461:4111'!E43) -> 0 | I44: =SUM('1461:4111'!I43) -> 0
B45: Total Additional FTE | C45: =SUM(C39:C44) -> 0 | D45: =SUM(D39:D44) -> 0 | E45: =SUM(E39:E44) -> 0 | H45: Additional Base Funds | I45: =SUM(I39:I44) -> 0
B47: Total Funded Weighted FTE | E47: =H30+E45 -> 24753.892 | H47: Total Base Funding | I47: =SUM(I45,I32) -> 1.37714e+08
A50: 1B. Classroom Teacher & Other Instructional Personnel Salary Increase
...

Sheet Cumulative Payments
A1: Cumulative Payments
D4: Net Revenue | E4: July | F4: August | G4: Sept | H4: Oct | I4: Nov | J4: Dec | K4: Jan | L4: Feb | M4: March | N4: April | O4: May | P4: June | Q4: Total | R4: Payments excluding current month
A5: 1 | B5: 0040 | C5: Palm Beach Preparatory Middle School | D5: 298028.78 | E5: 24451.48 | F5: 24870.66 | Q5: =SUM(E5:P5) -> 49322.14 | R5: 0
A6: 2 | B6: 0100 | C6: The Learning Center Highschool | D6: 267259.57 | E6: 22293.06 | F6: 22269.68 | Q6: =SUM(E6:P6) -> 44562.74 | R6: 0
A7: 3 | B7: 1461 | C7: Inlet Grove Community High School | D7: 5905730.7 | E7: 485398.34 | F7: 492757.49 | Q7: =SUM(E7:P7) -> 978155.83 | R7: 0
A8: 4 | B8: 1571 | C8: South Tech Charter Academy | D8: 9687740 | E8: 795164.86 | F8: 808415.92 | Q8: =SUM(E8:P8) -> 1603580.8 | R8: 0
A9: 5 | B9: 2521 | C9: Ed Venture | D9: 1350384.3 | E9: 112200.54 | F9: 112562.16 | Q9: =SUM(E9:P9) -> 224762.7 | R9: 0
A10: 6 | B10: 2531 | C10: Bodwell Academy | D10: 1583711.7 | E10: 128465.38 | F10: 132295.12 | Q10: =SUM(E10:P10) -> 260760.5 | R10: 0
A11: 7 | B11: 2791 | C11: The Learning Center @ The Els Center of Excl | D11: 5346468.2 | E11: 440248.86 | F11: 446019.94 | Q11: =SUM(E11:P11) -> 886268.8 | R11: 0
A12: 8 | B12: 2801 | C12: Palm Beach Maritime Academy Elementary | D12: 5255370.8 | E12: 433777.9 | F12: 438326.62 | Q12: =SUM(E12:P12) -> 872104.52 | R12: 0
A13: 9 | B13: 2911 | C13: Western Academy Charter School | D13: 6152950.2 | E13: 505265.93 | F13: 513425.85 | Q13: =SUM(E13:P13) -> 1018691.8 | R13: 0
A14: 10 | B14: 2941 | C14: Palm Beach School for Autism | D14: 10423410 | E14: 858865.25 | F14: 869504.11 | Q14: =SUM(E14:P14) -> 1728369.4 | R14: 0
A15: 11 | B15: 3083 | C15: The Learning Academy @ The Els Center of Excl | D15: 5952516.4 | E15: 484859.99 | F15: 497059.68 | Q15: =SUM(E15:P15) -> 981919.67 | R15: 0
A16: 12 | B16: 3345 | C16: Career Academy of the Palm Beaches | D16: 1095429.9 | E16: 90419.86 | F16: 91364.55 | Q16: =SUM(E16:P16) -> 181784.41 | R16: 0
... A18: 14 | B18: 3382 | C18: Glades Academy | D18: 2427071.4 | E18: 199480.37 | F18: 202508.28 | Q18: =SUM(E18:P18) -> 401988.65 | R18: 0
A19: 15 | B19: 3391 | C19: Seagull Academy for Independent Living | D19: 0 | F19: 0 | Q19: =SUM(E19:P19) -> 0 | R19: 0
A20: 16 | B20: 3394 | C20: Montessori Academy of Early Enrichment | D20: 1653077.9 | E20: 136646.84 | F20: 137857.37 | Q20: =SUM(E20:P20) -> 274504.21 | R20: 0
A21: 17 | B21: 3395 | C21: Somerset Academy Charter School | D21: 4417918.6 | E21: 363962.87 | F21: 368541.43 | Q21: =SUM(E21:P21) -> 732504.3 | R21: 0
A22: 18 | B22: 3396 | C22: G-Star School of the Arts | D22: 5867214.7 | E22: 481353.82 | F22: 489623.72 | Q22: =SUM(E22:P22) -> 970977.54 | R22: 0
A23: 19 | B23: 3398 | C23: Everglades Preparatory Academy | D23: 919769.33 | E23: 75370.15 | F23: 76763.56 | Q23: =SUM(E23:P23) -> 152133.71 | R23: 0
A24: 20 | B24: 3400 | C24: Believers Academy | D24: 1132579.8 | E24: 93540.76 | F24: 94458.1 | Q24: =SUM(E24:P24) -> 187998.86 | R24: 0
A25: 21 | B25: 3401 | C25: Quantum High School | D25: 3550532.2 | E25: 291401.55 | F25: 296284.6 | Q25: =SUM(E25:P25) -> 587686.15 | R25: 0
A26: 22 | B26: 3413 | C26: Somerset Academy Boca | D26: 3434816.5 | E26: 282765.64 | F26: 286550.08 | Q26: =SUM(E26:P26) -> 569315.72 | R26: 0
A27: 23 | B27: 3421 | C27: Worthington High School | D27: 3841654.3 | E27: 318686.65 | F27: 320269.78 | Q27: =SUM(E27:P27) -> 638956.43 | R27: 0
A28: 24 | B28: 3431 | C28: Renaissance Charter School at WPB | D28: 8841825.3 | E28: 727291.13 | F28: 737684.93 | Q28: =SUM(E28:P28) -> 1464976.1 | R28: 0
A29: 25 | B29: 3441 | C29: South Tech Preparatory Academy (MS) | D29: 4458303.8 | E29: 365051.77 | F29: 372113.82 | Q29: =SUM(E29:P29) -> 737165.59 | R29: 0
A30: 26 | B30: 3924 | C30: Palm Beach Maritime Academy Secondary | D30: 3693471.1 | E30: 303122.37 | F30: 308213.52 | Q30: =SUM(E30:P30) -> 611335.89 | R30: 0
A31: 27 | B31: 3941 | C31: Ben Gamla Charter School | D31: 2020244.6 | E31: 166503.7 | F31: 168521.9 | Q31: =SUM(E31:P31) -> 335025.6 | R31: 0
A32: 28 | B32: 3961 | C32: Gardens School of Technology Arts | D32: 0 | F32: 0 | Q32: =SUM(E32:P32) -> 0 | R32: 0
A33: 29 | B33: 3971 | C33: Palm Beach Perparatory Charter Academy | D33: 5099211.8 | E33: 418200.93 | F33: 425546.45 | Q33: =SUM(E33:P33) -> 843747.38 | R33: 0
A34: 30 | B34: 4001 | C34: Renaissance Charter School at Wellington | D34: 5914578.1 | E34: 486040.8 | F34: 493503.39 | Q34: =SUM(E34:P34) -> 979544.19 | R34: 0
A35: 31 | B35: 4002 | C35: Renaissance Charter School at Summit | D35: 8574250.8 | E35: 707326.89 | F35: 715174.9 | Q35: =SUM(E35:P35) -> 1422501.8 | R35: 0
A36: 32 | B36: 4012 | C36: Somerset Academy Canyons Middle School | D36: 4904770.5 | E36: 401311.12 | F36: 409405.4 | Q36: =SUM(E36:P36) -> 810716.52 | R36: 0
A37: 33 | B37: 4013 | C37: Somerset Academy Canyons High School | D37: 8119848.9 | E37: 667648.91 | F37: 677472.72 | Q37: =SUM(E37:P37) -> 1345121.6 | R37: 0
A38: 34 | B38: 4020 | C38: Franklin Academy - Boynton Beach | D38: 10867277 | E38: 892802.19 | F38: 906770.45 | Q38: =SUM(E38:P38) -> 1799572.6 | R38: 0
A39: 35 | B39: 4030 | C39: Olympus International Academy | D39: 2619365.4 | E39: 216879.02 | F39: 218407.85 | Q39: =SUM(E39:P39) -> 435286.87 | R39: 0
A40: 36 | B40: 4031 | C40: Somerset Academy Wellington | D40: 3914815.9 | E40: 322483.34 | F40: 326575.68 | Q40: =SUM(E40:P40) -> 649059.02 | R40: 0
A41: 37 | B41: 4041 | C41: Somerset Academy Boca Middle School | D41: 775960.87 | E41: 63488.77 | F41: 64770.19 | Q41: =SUM(E41:P41) -> 128258.96 | R41: 0
A42: 38 | B42: 4050 | C42: Renaissance Charter School at Cypress | D42: 6227871.4 | E42: 512294.34 | F42: 519597.92 | Q42: =SUM(E42:P42) -> 1031892.3 | R42: 0
A43: 39 | B43: 4051 | C43: Renaissance Charter School at Central Palm | D43: 6573895.2 | E43: 541173.16 | F43: 548429.27 | Q43: =SUM(E43:P43) -> 1089602.4 | R43: 0
...

Sheet 0040
A1: 50 | B1: (Insert district number in cell A1, enter, then strike F9. Your district data then pulls from Calculation Detail Sheets) | N1: =A1 -> 50 | O1: (Insert district number in cell A1, enter, then strike F9. Your district data then pulls from Calculation Detail Sheets)
A2: Revenue Estimate Worksheet: Palm Beach Preparatory Middle School 0040 | N2: Revenue Estimate Worksheet for___________Charter School
A3: ='1461'!A3 -> Based on the FLDOE 2025-26 FEFP Calculation | N3: =A3 -> Based on the FLDOE 2025-26 FEFP Calculation
A4: School District: | C4: Palm Beach | F4: ='1461'!F4 -> August 2025 | N4: School District: | P4: =C4 -> Palm Beach
A7: 1A. 2023-24 FEFP State and Local Funding | N7: =A7 -> 1A. 2023-24 FEFP State and Local Funding
B8: Base Student Allocation: | C8: 5372.6 | G8: Comparable Wage Factor: | H8: ='1461'!H8 -> 1.0355 | N8: Base Student Allocation | P8: =C8 -> 5372.6 | R8: Comparable Wage Factor: | T8: =H8 -> 1.0355
G9: Small District Factor: | H9: ='1461'!H9 -> 1 | R9: Small District Factor: | T9: =H9 -> 1
I10: 2025-26 | U10: =I10 -> 2025-26
C11: Oct 2024 | D11: Feb 2025 | E11: Total | F11: Program | H11: Weighted FTE | I11: Base Funding | R11: Program | T11: Weighted FTE | U11: Base Funding
A12: Program | C12: FTE | D12: FTE | E12: FTE | F12: Cost Factor | H12: (2) x (3) | I12: (WFTE x BSA x CWF x SDF) | N12: Program | P12: Number of FTE | R12: Cost Factor | T12: (2) x (3) | U12: =I12 -> (WFTE x BSA x CWF x SDF)
A13: (1) | E13: (2) | F13: (3) | H13: (4) | I13: (5) | N13: (1) | P13: (2) | R13: (3) | T13: (4) | U13: (5)
A14: 101 Basic K-3 | D14: 0 | E14: =IF(D$30=0,C14*2,C14+D14) -> 0 | F14: 1.108 | H14: =ROUND(E14*F14,4) -> 0 | I14: =ROUND(ROUND(ROUND(H14*$C$8,4)*($H$8),2)*(MAX($H$9,1)),2) -> 0 | N14: 101 Basic K-3 | P14: =IF($H$133=1,E14,0) -> 0 | R14: 1 | T14: =ROUND(P14*R14,4) -> 0 | U14: =ROUND(ROUND(ROUND(T14*$C$8,4)*($H$8),2)*(MAX($H$9,1)),2) -> 0
A15: 111 Basic K-3 with ESE Services | D15: 0 | E15: =IF(D$30=0,C15*2,C15+D15) -> 0 | F15: 1.108 | H15: =ROUND(E15*F15,4) -> 0 | I15: =ROUND(ROUND(ROUND(H15*$C$8,4)*($H$8),2)*(MAX($H$9,1)),2) -> 0 | J15: =IF(ROUND(E15,2)=ROUND(SUM(E57:E59),2)," ","CHECK PK-3 LINES BELOW") | N15: 111 Basic K-3 with ESE Services | P15: =IF($H$133=1,E15,0) -> 0 | R15: 1 | T15: =ROUND(P15*R15,4) -> 0 | U15: =ROUND(ROUND(ROUND(T15*$C$8,4)*($H$8),2)*(MAX($H$9,1)),2) -> 0
A16: 102 Basic 4-8 | C16: 10.5 | D16: 0 | E16: =IF(D$30=0,C16*2,C16+D16) -> 21 | F16: 1 | H16: =ROUND(E16*F16,4) -> 21 | I16: =ROUND(ROUND(ROUND(H16*$C$8,4)*($H$8),2)*(MAX($H$9,1)),2) -> 116829.87 | N16: 102 Basic 4-8 | P16: =IF($H$133=1,E16,0) -> 0 | R16: 1 | T16: =ROUND(P16*R16,4) -> 0 | U16: =ROUND(ROUND(ROUND(T16*$C$8,4)*($H$8),2)*(MAX($H$9,1)),2) -> 0
A17: 112 Basic 4-8 with ESE Services | C17: 5 | D17: 0 | E17: =IF(D$30=0,C17*2,C17+D17) -> 10 | F17: 1 | H17: =ROUND(E17*F17,4) -> 10 | I17: =ROUND(ROUND(ROUND(H17*$C$8,4)*($H$8),2)*(MAX($H$9,1)),2) -> 55633.27 | J17: =IF(ROUND(E17,2)=ROUND(SUM(E60:E62),2)," ","CHECK 4-8 LINES BELOW") | N17: 112 Basic 4-8 with ESE Services | P17: =IF($H$133=1,E17,0) -> 0 | R17: 1 | T17: =ROUND(P17*R17,4) -> 0 | U17: =ROUND(ROUND(ROUND(T17*$C$8,4)*($H$8),2)*(MAX($H$9,1)),2) -> 0
A18: 103 Basic 9-12 | D18: 0 | E18: =IF(D$30=0,C18*2,C18+D18) -> 0 | F18: 0.972 | H18: =ROUND(E18*F18,4) -> 0 | I18: =ROUND(ROUND(ROUND(H18*$C$8,4)*($H$8),2)*(MAX($H$9,1)),2) -> 0 | N18: 103 Basic 9-12 | P18: =IF($H$133=1,E18,0) -> 0 | R18: 1 | T18: =ROUND(P18*R18,4) -> 0 | U18: =ROUND(ROUND(ROUND(T18*$C$8,4)*($H$8),2)*(MAX($H$9,1)),2) -> 0
A19: 113 Basic 9-12 with ESE Services | D19: 0 | E19: =IF(D$30=0,C19*2,C19+D19) -> 0 | F19: 0.972 | H19: =ROUND(E19*F19,4) -> 0 | I19: =ROUND(ROUND(ROUND(H19*$C$8,4)*($H$8),2)*(MAX($H$9,1)),2) -> 0 | J19: =IF(ROUND(E19,2)=ROUND(SUM(E63:E65),2)," ","CHECK 4-8 LINES BELOW") | N19: 113 Basic 9-12 with ESE Services | P19: =IF($H$133=1,E19,0) -> 0 | R19: 1 | T19: =ROUND(P19*R19,4) -> 0 | U19: =ROUND(ROUND(ROUND(T19*$C$8,4)*($H$8),2)*(MAX($H$9,1)),2) -> 0
A20: 254 ESE Level 4 (Grade Level PK-3) | D20: 0 | E20: =IF(D$30=0,C20*2,C20+D20) -> 0 | F20: 3.609 | H20: =ROUND(E20*F20,4) -> 0 | I20: =ROUND(ROUND(ROUND(H20*$C$8,4)*($H$8),2)*(MAX($H$9,1)),2) -> 0 | N20: 254 ESE Level 4 (Grade Level PK-3) | P20: =IF($H$133=1,E20,0) -> 0 | R20: 1 | T20: =ROUND(P20*R20,4) -> 0 | U20: =ROUND(ROUND(ROUND(T20*$C$8,4)*($H$8),2)*(MAX($H$9,1)),2) -> 0
A21: 254 ESE Level 4 (Grade Level 4-8) | D21: 0 | E21: =IF(D$30=0,C21*2,C21+D21) -> 0 | F21: 3.609 | H21: =ROUND(E21*F21,4) -> 0 | I21: =ROUND(ROUND(ROUND(H21*$C$8,4)*($H$8),2)*(MAX($H$9,1)),2) -> 0 | N21: 254 ESE Level 4 (Grade Level 4-8) | P21: =IF($H$133=1,E21,0) -> 0 | R21: 1 | T21: =ROUND(P21*R21,4) -> 0 | U21: =ROUND(ROUND(ROUND(T21*$C$8,4)*($H$8),2)*(MAX($H$9,1)),2) -> 0
A22: 254 ESE Level 4 (Grade Level 9-12) | E22: =IF(D$30=0,C22*2,C22+D22) -> 0 | F22: 3.609 | H22: =ROUND(E22*F22,4) -> 0 | I22: =ROUND(ROUND(ROUND(H22*$C$8,4)*($H$8),2)*(MAX($H$9,1)),2) -> 0 | N22: 254 ESE Level 4 (Grade Level 9-12) | P22: =IF($H$133=1,E22,0) -> 0 | R22: 1 | T22: =ROUND(P22*R22,4) -> 0 | U22: =ROUND(ROUND(ROUND(T22*$C$8,4)*($H$8),2)*(MAX($H$9,1)),2) -> 0
A23: 255 ESE Level 5 (Grade Level PK-3) | D23: 0 | E23: =IF(D$30=0,C23*2,C23+D23) -> 0 | F23: 6.064 | H23: =ROUND(E23*F23,4) -> 0 | I23: =ROUND(ROUND(ROUND(H23*$C$8,4)*($H$8),2)*(MAX($H$9,1)),2) -> 0 | N23: 255 ESE Level 5 (Grade Level PK-3) | P23: =IF($H$133=1,E23,0) -> 0 | R23: 1 | T23: =ROUND(P23*R23,4) -> 0 | U23: =ROUND(ROUND(ROUND(T23*$C$8,4)*($H$8),2)*(MAX($H$9,1)),2) -> 0
A24: 255 ESE Level 5 (Grade Level 4-8) | D24: 0 | E24: =IF(D$30=0,C24*2,C24+D24) -> 0 | F24: 6.064 | H24: =ROUND(E24*F24,4) -> 0 | I24: =ROUND(ROUND(ROUND(H24*$C$8,4)*($H$8),2)*(MAX($H$9,1)),2) -> 0 | N24: 255 ESE Level 5 (Grade Level 4-8) | P24: =IF($H$133=1,E24,0) -> 0 | R24: 1 | T24: =ROUND(P24*R24,4) -> 0 | U24: =ROUND(ROUND(ROUND(T24*$C$8,4)*($H$8),2)*(MAX($H$9,1)),2) -> 0
A25: 255 ESE Level 5 (Grade Level 9-12) | E25: =IF(D$30=0,C25*2,C25+D25) -> 0 | F25: 6.064 | H25: =ROUND(E25*F25,4) -> 0 | I25: =ROUND(ROUND(ROUND(H25*$C$8,4)*($H$8),2)*(MAX($H$9,1)),2) -> 0 | N25: 255 ESE Level 5 (Grade Level 9-12) | P25: =IF($H$133=1,E25,0) -> 0 | R25: 1 | T25: =ROUND(P25*R25,4) -> 0 | U25: =ROUND(ROUND(ROUND(T25*$C$8,4)*($H$8),2)*(MAX($H$9,1)),2) -> 0
A26: 130 ESOL (Grade Level PK-3) | D26: 0 | E26: =IF(D$30=0,C26*2,C26+D26) -> 0 | F26: 1.165 | H26: =ROUND(E26*F26,4) -> 0 | I26: =ROUND(ROUND(ROUND(H26*$C$8,4)*($H$8),2)*(MAX($H$9,1)),2) -> 0 | N26: 130 ESOL (Grade Level PK-3) | P26: =IF($H$133=1,E26,0) -> 0 | R26: 1 | T26: =ROUND(P26*R26,4) -> 0 | U26: =ROUND(ROUND(ROUND(T26*$C$8,4)*($H$8),2)*(MAX($H$9,1)),2) -> 0
A27: 130 ESOL (Grade Level 4-8) | C27: 2.5 | D27: 0 | E27: =IF(D$30=0,C27*2,C27+D27) -> 5 | F27: 1.165 | H27: =ROUND(E27*F27,4) -> 5.825 | I27: =ROUND(ROUND(ROUND(H27*$C$8,4)*($H$8),2)*(MAX($H$9,1)),2) -> 32406.38 | N27: 130 ESOL (Grade Level 4-8) | P27: =IF($H$133=1,E27,0) -> 0 | R27: 1 | T27: =ROUND(P27*R27,4) -> 0 | U27: =ROUND(ROUND(ROUND(T27*$C$8,4)*($H$8),2)*(MAX($H$9,1)),2) -> 0
A28: 130 ESOL (Grade Level 9-12) | D28: 0 | E28: =IF(D$30=0,C28*2,C28+D28) -> 0 | F28: 1.165 | H28: =ROUND(E28*F28,4) -> 0 | I28: =ROUND(ROUND(ROUND(H28*$C$8,4)*($H$8),2)*(MAX($H$9,1)),2) -> 0 | N28: 130 ESOL (Grade Level 9-12) | P28: =IF($H$133=1,E28,0) -> 0 | R28: 1 | T28: =ROUND(P28*R28,4) -> 0 | U28: =ROUND(ROUND(ROUND(T28*$C$8,4)*($H$8),2)*(MAX($H$9,1)),2) -> 0
A29: 300 Career Education (Grades 9-12) | D29: 0 | E29: =IF(D$30=0,C29*2,C29+D29) -> 0 | F29: 1.081 | H29: =ROUND(E29*F29,4) -> 0 | I29: =ROUND(ROUND(ROUND(H29*$C$8,4)*($H$8),2)*(MAX($H$9,1)),2) -> 0 | N29: 300 Career Education (Grades 9-12) | P29: =IF($H$133=1,E29,0) -> 0 | R29: 1 | T29: =ROUND(P29*R29,4) -> 0 | U29: =ROUND(ROUND(ROUND(T29*$C$8,4)*($H$8),2)*(MAX($H$9,1)),2) -> 0
A30: Totals | C30: =SUM(C14:C29) -> 18 | D30: =SUM(D14:D29) -> 0 | E30: =SUM(E14:E29) -> 36 | H30: =SUM(H14:H29) -> 36.825 | I30: =SUM(I14:I29) -> 204869.52 | N30: Totals | P30: =SUM(P14:P29) -> 0 | T30: =SUM(T14:T29) -> 0 | U30: =SUM(U14:U29) -> 0
A32: Letters in Parentheses Refer to Notes at Bottom of Worksheet
F34: Charter schools should contact their school district sponsor regarding eligible FTE. Please note that “Number of FTE” is NOT equivalent to number of students enrolled in these courses or programs. Please refer to footnote (a) below.
I35: =I10 -> 2025-26 | N35: Letters Refer to Notes At Bottom: | U35: =I35 -> 2025-26
C36: Projected | E36: Total | I36: Base Funding | U36: Base Funding
A37: Additional FTE (a) | C37: FTE | E37: FTE | I37: (WFTE x BSA x CWF x SDF) | N37: Additional FTE (a) | P37: Number of FTE | U37: =I37 -> (WFTE x BSA x CWF x SDF)
A38: Advanced Placement | C38: 0 | D38: 0 | E38: =IF(D$44=0,C38*2,C38+D38) -> 0 | I38: =ROUND(ROUND(ROUND(E38*$C$8,4)*($H$8),2)*(MAX($H$9,1)),2) -> 0 | N38: Advanced Placement | P38: =IF($H$133=1,E38,0) -> 0 | U38: =ROUND(ROUND(ROUND(P38*$C$8,4)*($H$8),2)*(MAX($H$9,1)),2) -> 0
A39: International Baccalaureate | C39: 0 | D39: 0 | E39: =IF(D$44=0,C39*2,C39+D39) -> 0 | I39: =ROUND(ROUND(ROUND(E39*$C$8,4)*($H$8),2)*(MAX($H$9,1)),2) -> 0 | N39: International Baccalaureate | P39: =IF($H$133=1,E39,0) -> 0 | U39: =ROUND(ROUND(ROUND(P39*$C$8,4)*($H$8),2)*(MAX($H$9,1)),2) -> 0
A40: Advanced International Certificate | C40: 0 | D40: 0 | E40: =IF(D$44=0,C40*2,C40+D40) -> 0 | I40: =ROUND(ROUND(ROUND(E40*$C$8,4)*($H$8),2)*(MAX($H$9,1)),2) -> 0 | N40: Advanced International Certificate | P40: =IF($H$133=1,E40,0) -> 0 | U40: =ROUND(ROUND(ROUND(P40*$C$8,4)*($H$8),2)*(MAX($H$9,1)),2) -> 0
A41: Industry Certified Career Education | C41: 0 | D41: 0 | E41: =IF(D$44=0,C41*2,C41+D41) -> 0 | I41: =ROUND(ROUND(ROUND(E41*$C$8,4)*($H$8),2)*(MAX($H$9,1)),2) -> 0 | N41: Industry Certified Career Education | P41: =IF($H$133=1,E41,0) -> 0 | U41: =ROUND(ROUND(ROUND(P41*$C$8,4)*($H$8),2)*(MAX($H$9,1)),2) -> 0
A42: Early High School Graduation | C42: 0 | D42: 0 | E42: =IF(D$44=0,C42*2,C42+D42) -> 0 | I42: =ROUND(ROUND(ROUND(E42*$C$8,4)*($H$8),2)*(MAX($H$9,1)),2) -> 0 | N42: Early High School Graduation | P42: =IF($H$133=1,E42,0) -> 0 | U42: =ROUND(ROUND(ROUND(P42*$C$8,4)*($H$8),2)*(MAX($H$9,1)),2) -> 0
A43: Small District ESE Supplement | C43: 0 | D43: 0 | E43: =IF(D$44=0,C43*2,C43+D43) -> 0 | I43: =ROUND(ROUND(ROUND(E43*$C$8,4)*($H$8),2)*(MAX($H$9,1)),2) -> 0 | N43: Small District ESE Supplement | P43: =IF($H$133=1,E43,0) -> 0 | U43: =ROUND(ROUND(ROUND(P43*$C$8,4)*($H$8),2)*(MAX($H$9,1)),2) -> 0
B44: Total Additional FTE | C44: =SUM(C38:C43) -> 0 | D44: =SUM(D38:D43) -> 0 | E44: =SUM(E38:E43) -> 0 | H44: Additional Base Funds | I44: =SUM(I38:I43) -> 0 | N44: Total Additional FTE | R44: =SUM(P38:R43) -> 0 | S44: Additional Base Funds | U44: =SUM(U38:U43) -> 0
...

Sheet 0100
A1: 50 | B1: (Insert district number in cell A1, enter, then strike F9. Your district data then pulls from Calculation Detail Sheets) | N1: =A1 -> 50 | O1: (Insert district number in cell A1, enter, then strike F9. Your district data then pulls from Calculation Detail Sheets)
A2: Revenue Estimate Worksheet: The Learning Center Highschool | N2: Revenue Estimate Worksheet for___________Charter School
A3: ='1461'!A3 -> Based on the FLDOE 2025-26 FEFP Calculation | N3: =A3 -> Based on the FLDOE 2025-26 FEFP Calculation
A4: School District: | C4: Palm Beach | F4: ='1461'!F4 -> August 2025 | N4: School District: | P4: =C4 -> Palm Beach
A7: 1A. 2023-24 FEFP State and Local Funding | N7: =A7 -> 1A. 2023-24 FEFP State and Local Funding
B8: Base Student Allocation: | C8: 5372.6 | G8: Comparable Wage Factor: | H8: ='1461'!H8 -> 1.0355 | N8: Base Student Allocation | P8: =C8 -> 5372.6 | R8: Comparable Wage Factor: | T8: =H8 -> 1.0355
G9: Small District Factor: | H9: ='1461'!H9 -> 1 | R9: Small District Factor: | T9: =H9 -> 1
I10: 2025-26 | U10: =I10 -> 2025-26
C11: Oct 2024 | D11: Feb 2025 | E11: Total | F11: Program | H11: Weighted FTE | I11: Base Funding | R11: Program | T11: Weighted FTE | U11: Base Funding
A12: Program | C12: FTE | D12: FTE | E12: FTE | F12: Cost Factor | H12: (2) x (3) | I12: (WFTE x BSA x CWF x SDF) | N12: Program | P12: Number of FTE | R12: Cost Factor | T12: (2) x (3) | U12: =I12 -> (WFTE x BSA x CWF x SDF)
A13: (1) | E13: (2) | F13: (3) | H13: (4) | I13: (5) | N13: (1) | P13: (2) | R13: (3) | T13: (4) | U13: (5)
A14: 101 Basic K-3 | C14: 0 | D14: 0 | E14: =IF(D$30=0,C14*2,C14+D14) -> 0 | F14: 1.108 | H14: =ROUND(E14*F14,4) -> 0 | I14: =ROUND(ROUND(ROUND(H14*$C$8,4)*($H$8),2)*(MAX($H$9,1)),2) -> 0 | N14: 101 Basic K-3 | P14: =IF($H$133=1,E14,0) -> 0 | R14: 1 | T14: =ROUND(P14*R14,4) -> 0 | U14: =ROUND(ROUND(ROUND(T14*$C$8,4)*($H$8),2)*(MAX($H$9,1)),2) -> 0
A15: 111 Basic K-3 with ESE Services | C15: 0 | D15: 0 | E15: =IF(D$30=0,C15*2,C15+D15) -> 0 | F15: 1.108 | H15: =ROUND(E15*F15,4) -> 0 | I15: =ROUND(ROUND(ROUND(H15*$C$8,4)*($H$8),2)*(MAX($H$9,1)),2) -> 0 | J15: =IF(ROUND(E15,2)=ROUND(SUM(E57:E59),2)," ","CHECK PK-3 LINES BELOW") | N15: 111 Basic K-3 with ESE Services | P15: =IF($H$133=1,E15,0) -> 0 | R15: 1 | T15: =ROUND(P15*R15,4) -> 0 | U15: =ROUND(ROUND(ROUND(T15*$C$8,4)*($H$8),2)*(MAX($H$9,1)),2) -> 0
A16: 102 Basic 4-8 | C16: 0 | D16: 0 | E16: =IF(D$30=0,C16*2,C16+D16) -> 0 | F16: 1 | H16: =ROUND(E16*F16,4) -> 0 | I16: =ROUND(ROUND(ROUND(H16*$C$8,4)*($H$8),2)*(MAX($H$9,1)),2) -> 0 | N16: 102 Basic 4-8 | P16: =IF($H$133=1,E16,0) -> 0 | R16: 1 | T16: =ROUND(P16*R16,4) -> 0 | U16: =ROUND(ROUND(ROUND(T16*$C$8,4)*($H$8),2)*(MAX($H$9,1)),2) -> 0
A17: 112 Basic 4-8 with ESE Services | C17: 0 | D17: 0 | E17: =IF(D$30=0,C17*2,C17+D17) -> 0 | F17: 1 | H17: =ROUND(E17*F17,4) -> 0 | I17: =ROUND(ROUND(ROUND(H17*$C$8,4)*($H$8),2)*(MAX($H$9,1)),2) -> 0 | J17: =IF(ROUND(E17,2)=ROUND(SUM(E60:E62),2)," ","CHECK 4-8 LINES BELOW") | N17: 112 Basic 4-8 with ESE Services | P17: =IF($H$133=1,E17,0) -> 0 | R17: 1 | T17: =ROUND(P17*R17,4) -> 0 | U17: =ROUND(ROUND(ROUND(T17*$C$8,4)*($H$8),2)*(MAX($H$9,1)),2) -> 0
A18: 103 Basic 9-12 | C18: 0 | D18: 0 | E18: =IF(D$30=0,C18*2,C18+D18) -> 0 | F18: 0.972 | H18: =ROUND(E18*F18,4) -> 0 | I18: =ROUND(ROUND(ROUND(H18*$C$8,4)*($H$8),2)*(MAX($H$9,1)),2) -> 0 | N18: 103 Basic 9-12 | P18: =IF($H$133=1,E18,0) -> 0 | R18: 1 | T18: =ROUND(P18*R18,4) -> 0 | U18: =ROUND(ROUND(ROUND(T18*$C$8,4)*($H$8),2)*(MAX($H$9,1)),2) -> 0
A19: 113 Basic 9-12 with ESE Services | C19: 1 | D19: 0 | E19: =IF(D$30=0,C19*2,C19+D19) -> 2 | F19: 0.972 | H19: =ROUND(E19*F19,4) -> 1.944 | I19: =ROUND(ROUND(ROUND(H19*$C$8,4)*($H$8),2)*(MAX($H$9,1)),2) -> 10815.11 | J19: =IF(ROUND(E19,2)=ROUND(SUM(E63:E65),2)," ","CHECK 4-8 LINES BELOW") | N19: 113 Basic 9-12 with ESE Services | P19: =IF($H$133=1,E19,0) -> 2 | R19: 1 | T19: =ROUND(P19*R19,4) -> 2 | U19: =ROUND(ROUND(ROUND(T19*$C$8,4)*($H$8),2)*(MAX($H$9,1)),2) -> 11126.65
A20: 254 ESE Level 4 (Grade Level PK-3) | C20: 3.5 | D20: 0 | E20: =IF(D$30=0,C20*2,C20+D20) -> 7 | F20: 3.609 | H20: =ROUND(E20*F20,4) -> 25.263 | I20: =ROUND(ROUND(ROUND(H20*$C$8,4)*($H$8),2)*(MAX($H$9,1)),2) -> 140546.34 | N20: 254 ESE Level 4 (Grade Level PK-3) | P20: =IF($H$133=1,E20,0) -> 7 | R20: 1 | T20: =ROUND(P20*R20,4) -> 7 | U20: =ROUND(ROUND(ROUND(T20*$C$8,4)*($H$8),2)*(MAX($H$9,1)),2) -> 38943.29
A21: 254 ESE Level 4 (Grade Level 4-8) | C21: 1 | D21: 0 | E21: =IF(D$30=0,C21*2,C21+D21) -> 2 | F21: 3.609 | H21: =ROUND(E21*F21,4) -> 7.218 | I21: =ROUND(ROUND(ROUND(H21*$C$8,4)*($H$8),2)*(MAX($H$9,1)),2) -> 40156.1 | N21: 254 ESE Level 4 (Grade Level 4-8) | P21: =IF($H$133=1,E21,0) -> 2 | R21: 1 | T21: =ROUND(P21*R21,4) -> 2 | U21: =ROUND(ROUND(ROUND(T21*$C$8,4)*($H$8),2)*(MAX($H$9,1)),2) -> 11126.65
A22: 254 ESE Level 4 (Grade Level 9-12) | C22: 0 | D22: 0 | E22: =IF(D$30=0,C22*2,C22+D22) -> 0 | F22: 3.609 | H22: =ROUND(E22*F22,4) -> 0 | I22: =ROUND(ROUND(ROUND(H22*$C$8,4)*($H$8),2)*(MAX($H$9,1)),2) -> 0 | N22: 254 ESE Level 4 (Grade Level 9-12) | P22: =IF($H$133=1,E22,0) -> 0 | R22: 1 | T22: =ROUND(P22*R22,4) -> 0 | U22: =ROUND(ROUND(ROUND(T22*$C$8,4)*($H$8),2)*(MAX($H$9,1)),2) -> 0
A23: 255 ESE Level 5 (Grade Level PK-3) | C23: 0 | D23: 0 | E23: =IF(D$30=0,C23*2,C23+D23) -> 0 | F23: 6.064 | H23: =ROUND(E23*F23,4) -> 0 | I23: =ROUND(ROUND(ROUND(H23*$C$8,4)*($H$8),2)*(MAX($H$9,1)),2) -> 0 | N23: 255 ESE Level 5 (Grade Level PK-3) | P23: =IF($H$133=1,E23,0) -> 0 | R23: 1 | T23: =ROUND(P23*R23,4) -> 0 | U23: =ROUND(ROUND(ROUND(T23*$C$8,4)*($H$8),2)*(MAX($H$9,1)),2) -> 0
A24: 255 ESE Level 5 (Grade Level 4-8) | C24: 0 | D24: 0 | E24: =IF(D$30=0,C24*2,C24+D24) -> 0 | F24: 6.064 | H24: =ROUND(E24*F24,4) -> 0 | I24: =ROUND(ROUND(ROUND(H24*$C$8,4)*($H$8),2)*(MAX($H$9,1)),2) -> 0 | N24: 255 ESE Level 5 (Grade Level 4-8) | P24: =IF($H$133=1,E24,0) -> 0 | R24: 1 | T24: =ROUND(P24*R24,4) -> 0 | U24: =ROUND(ROUND(ROUND(T24*$C$8,4)*($H$8),2)*(MAX($H$9,1)),2) -> 0
A25: 255 ESE Level 5 (Grade Level 9-12) | C25: 0 | D25: 0 | E25: =IF(D$30=0,C25*2,C25+D25) -> 0 | F25: 6.064 | H25: =ROUND(E25*F25,4) -> 0 | I25: =ROUND(ROUND(ROUND(H25*$C$8,4)*($H$8),2)*(MAX($H$9,1)),2) -> 0 | N25: 255 ESE Level 5 (Grade Level 9-12) | P25: =IF($H$133=1,E25,0) -> 0 | R25: 1 | T25: =ROUND(P25*R25,4) -> 0 | U25: =ROUND(ROUND(ROUND(T25*$C$8,4)*($H$8),2)*(MAX($H$9,1)),2) -> 0
A26: 130 ESOL (Grade Level PK-3) | C26: 0 | D26: 0 | E26: =IF(D$30=0,C26*2,C26+D26) -> 0 | F26: 1.165 | H26: =ROUND(E26*F26,4) -> 0 | I26: =ROUND(ROUND(ROUND(H26*$C$8,4)*($H$8),2)*(MAX($H$9,1)),2) -> 0 | N26: 130 ESOL (Grade Level PK-3) | P26: =IF($H$133=1,E26,0) -> 0 | R26: 1 | T26: =ROUND(P26*R26,4) -> 0 | U26: =ROUND(ROUND(ROUND(T26*$C$8,4)*($H$8),2)*(MAX($H$9,1)),2) -> 0
A27: 130 ESOL (Grade Level 4-8) | C27: 0 | D27: 0 | E27: =IF(D$30=0,C27*2,C27+D27) -> 0 | F27: 1.165 | H27: =ROUND(E27*F27,4) -> 0 | I27: =ROUND(ROUND(ROUND(H27*$C$8,4)*($H$8),2)*(MAX($H$9,1)),2) -> 0 | N27: 130 ESOL (Grade Level 4-8) | P27: =IF($H$133=1,E27,0) -> 0 | R27: 1 | T27: =ROUND(P27*R27,4) -> 0 | U27: =ROUND(ROUND(ROUND(T27*$C$8,4)*($H$8),2)*(MAX($H$9,1)),2) -> 0
A28: 130 ESOL (Grade Level 9-12) | C28: 0 | D28: 0 | E28: =IF(D$30=0,C28*2,C28+D28) -> 0 | F28: 1.165 | H28: =ROUND(E28*F28,4) -> 0 | I28: =ROUND(ROUND(ROUND(H28*$C$8,4)*($H$8),2)*(MAX($H$9,1)),2) -> 0 | N28: 130 ESOL (Grade Level 9-12) | P28: =IF($H$133=1,E28,0) -> 0 | R28: 1 | T28: =ROUND(P28*R28,4) -> 0 | U28: =ROUND(ROUND(ROUND(T28*$C$8,4)*($H$8),2)*(MAX($H$9,1)),2) -> 0
A29: 300 Career Education (Grades 9-12) | C29: 0 | D29: 0 | E29: =IF(D$30=0,C29*2,C29+D29) -> 0 | F29: 1.081 | H29: =ROUND(E29*F29,4) -> 0 | I29: =ROUND(ROUND(ROUND(H29*$C$8,4)*($H$8),2)*(MAX($H$9,1)),2) -> 0 | N29: 300 Career Education (Grades 9-12) | P29: =IF($H$133=1,E29,0) -> 0 | R29: 1 | T29: =ROUND(P29*R29,4) -> 0 | U29: =ROUND(ROUND(ROUND(T29*$C$8,4)*($H$8),2)*(MAX($H$9,1)),2) -> 0
A30: Totals | C30: =SUM(C14:C29) -> 5.5 | D30: =SUM(D14:D29) -> 0 | E30: =SUM(E14:E29) -> 11 | H30: =SUM(H14:H29) -> 34.425 | I30: =SUM(I14:I29) -> 191517.55 | N30: Totals | P30: =SUM(P14:P29) -> 11 | T30: =SUM(T14:T29) -> 11 | U30: =SUM(U14:U29) -> 61196.59
A32: Letters in Parentheses Refer to Notes at Bottom of Worksheet
F34: Charter schools should contact their school district sponsor regarding eligible FTE. Please note that “Number of FTE” is NOT equivalent to number of students enrolled in these courses or programs. Please refer to footnote (a) below.
I35: =I10 -> 2025-26 | N35: Letters Refer to Notes At Bottom: | U35: =I35 -> 2025-26
C36: Projected | E36: Total | I36: Base Funding | U36: Base Funding
A37: Additional FTE (a) | C37: FTE | E37: FTE | I37: (WFTE x BSA x CWF x SDF) | N37: Additional FTE (a) | P37: Number of FTE | U37: =I37 -> (WFTE x BSA x CWF x SDF)
A38: Advanced Placement | C38: 0 | D38: 0 | E38: =IF(D$44=0,C38*2,C38+D38) -> 0 | I38: =ROUND(ROUND(ROUND(E38*$C$8,4)*($H$8),2)*(MAX($H$9,1)),2) -> 0 | N38: Advanced Placement | P38: =IF($H$133=1,E38,0) -> 0 | U38: =ROUND(ROUND(ROUND(P38*$C$8,4)*($H$8),2)*(MAX($H$9,1)),2) -> 0
A39: International Baccalaureate | C39: 0 | D39: 0 | E39: =IF(D$44=0,C39*2,C39+D39) -> 0 | I39: =ROUND(ROUND(ROUND(E39*$C$8,4)*($H$8),2)*(MAX($H$9,1)),2) -> 0 | N39: International Baccalaureate | P39: =IF($H$133=1,E39,0) -> 0 | U39: =ROUND(ROUND(ROUND(P39*$C$8,4)*($H$8),2)*(MAX($H$9,1)),2) -> 0
