Workbook
Name conversionTable: #REF!
Name DDList: 'I & P'!$W$5:$W$6

Sheet District Info & Score Summary
B2: NJ Single Accountability Continuum (NJQSAC) District Performance Review | J2: Select County
B3: School Year : | C3: 2024-2025 | J3: Atlantic
B4: District Information and Score Summary | J4: Bergen
B5: District Name and CDS #: | C5: Somerset County Vocational and Technical School 35-4810-070 | J5: Burlington
B6: County Name: | C6: Somerset | J6: Camden
B7: District Superintendent Name: | C7: Robert Presuto | J7: Cape May
B8: District Mailing Address: | C8: 14 Vogt Drive, Bridgewater NJ 08807 | J8: Cumberland
B9: Superintendent Email Address: | C9: rpresuto@scvts.net | J9: Essex
B10: DPR Area | C10: District Score | D10: County Score | J10: Hudson
B11: Instruction and Program | C11: ='I & P'!E50/100 -> 0.902 | D11: ='I & P'!F50/100 -> 0.902 | J11: Hunterdon
B12: Fiscal Management | C12: =Fiscal!E35/100 -> 0.96 | D12: =Fiscal!F35/100 -> 0.94 | J12: Mercer
B13: Governance | C13: =Governance!E23/100 -> 1 | D13: =Governance!F23/100 -> 0.95 | J13: Middlesex
B14: Operations | C14: =Operations!E29/100 -> 1 | D14: =Operations!F29/100 -> 0.95 | J14: Monmouth
B15: Personnel | C15: =Personnel!E40/100 -> 0.94 | D15: =Personnel!F40/100 -> 0.97 | J15: Morris
J16: Ocean
J17: Passaic
J18: Salem
J19: Somerset
J20: Sussex
J21: Union
J22: Warren

Sheet DATA Rollup
B2: ='District Info & Score Summary'!C5 -> Somerset County Vocational and Technical School 35-4810-070
B3: {='District Info & Score Summary'!C6:D6} -> Somerset | C3: 0
B5: {='I & P'!B2:C2} -> Instruction and Program | C5: 0 | F5: =Fiscal!B2 -> Fiscal Management | J5: =Governance!B2 -> Governance | N5: =Operations!B2 -> Operations | R5: =Personnel!B2 -> Personnel
B6: Indicators | C6: Indicator Sub-Category | D6: I&P Scores | F6: Indicators | G6: Indicator Sub-Category | H6: Fiscal Scores | J6: Indicators | K6: Indicator Sub-Category | L6: Governance Scores | N6: Indicators | O6: Indicator Sub-Category | P6: Operations Scores | R6: Indicators | S6: Indicator Sub-Category | T6: Personnel Scores
B7: 1 | C7: ='I & P'!C5 -> K - 8 | D7: ='I & P'!F5 -> 0 | F7: 1 | H7: =Fiscal!F5 -> Yes | J7: 1 | L7: =Governance!F5 -> Yes | N7: 1 | O7: a | P7: =Operations!F6 -> No | R7: 1 | S7: a | T7: =Personnel!#REF! -> #REF!
B8: 1.1 | C8: ='I & P'!C6 -> K - 12 | D8: ='I & P'!F6 -> 0 | F8: 2 | H8: =Fiscal!F6 -> Yes | J8: 2 | K8: a | L8: =Governance!F7 -> Yes | N8: 1.1 | O8: b | P8: =Operations!F7 -> Yes | R8: 1.2 | S8: b | T8: =Personnel!#REF! -> #REF!
B9: 1.2 | C9: ='I & P'!C7 -> 9 - 12 | D9: ='I & P'!F7 -> 8.1 | F9: 3 | H9: =Fiscal!F7 -> Yes | J9: 2.1 | K9: b | L9: =Governance!F8 -> Yes | N9: 2 | O9: a | P9: =Operations!F9 -> Yes | R9: 1.3 | S9: c | T9: =Personnel!#REF! -> #REF!
B10: 2 | C10: ='I & P'!C8 -> K - 8 | D10: ='I & P'!F8 -> 0 | F10: 4 | G10: a | H10: =Fiscal!F9 -> Yes | J10: 3 | L10: =Governance!F9 -> Yes | N10: 2.1 | O10: b | P10: =Operations!F10 -> Yes | R10: 1.4 | S10: d | T10: =Personnel!F14 -> Yes
B11: 2.1 | C11: ='I & P'!C9 -> K - 12 | D11: ='I & P'!F9 -> 0 | F11: 4.1 | G11: b | H11: =Fiscal!F10 -> Yes | J11: 4 | L11: =Governance!F10 -> Yes | N11: 3 | O11: a | P11: =Operations!F12 -> Yes | R11: 1.5 | S11: e | T11: =Personnel!F15 -> Yes
B12: 2.2 | C12: ='I & P'!C10 -> 9 - 12 | D12: ='I & P'!F10 -> 4.9 | F12: 4.2 | G12: c | H12: =Fiscal!F11 -> Yes | J12: 5 | L12: =Governance!F11 -> Yes | N12: 3.1 | O12: b | P12: =Operations!F13 -> Yes | R12: 1.6 | S12: f | T12: =Personnel!F16 -> Yes
B13: 3 | C13: ='I & P'!C11 -> K - 8 | D13: ='I & P'!F11 -> 0 | F13: 4.3 | G13: d | H13: =Fiscal!F12 -> Yes | J13: 6 | K13: a | L13: =Governance!F13 -> Yes | N13: 4 | P13: =Operations!F14 -> No | R13: 2 | S13: a | T13: =Personnel!F18 -> Yes
B14: 3.1 | C14: ='I & P'!C12 -> K - 12 | D14: ='I & P'!F12 -> 0 | F14: 5 | G14: a | H14: =Fiscal!F14 -> No | J14: 6.1 | K14: b | L14: =Governance!F14 -> Yes | N14: 5 | P14: =Operations!F15 -> Yes | R14: 2.1 | S14: b | T14: =Personnel!F19 -> Yes
B15: 3.2 | C15: ='I & P'!C13 -> 9 - 12 | D15: ='I & P'!F13 -> 2.8 | F15: 5.1 | G15: b | H15: =Fiscal!F15 -> Yes | J15: 7 | L15: =Governance!F15 -> Yes | N15: 6 | P15: =Operations!F16 -> Yes | R15: 2.2 | S15: c | T15: =Personnel!F20 -> Yes
B16: 4 | C16: ='I & P'!C14 -> K - 8 | D16: ='I & P'!F14 -> 0 | F16: 5.2 | G16: c | H16: =Fiscal!F16 -> Yes | J16: 8 | L16: =Governance!F16 -> Yes | N16: 7 | P16: =Operations!F17 -> Yes | R16: 2.3 | S16: d | T16: =Personnel!F21 -> Yes
B17: 4.1 | C17: ='I & P'!C15 -> K - 12 | D17: ='I & P'!F15 -> 0 | F17: 5.3 | G17: d | H17: =Fiscal!F17 -> Yes | J17: 9 | L17: =Governance!F17 -> Yes | N17: 8 | P17: =Operations!F18 -> Yes | R17: 2.4 | S17: e | T17: =Personnel!F22 -> Yes
B18: 4.2 | C18: ='I & P'!C16 -> 9 - 12 | D18: ='I & P'!F16 -> 0 | F18: 6 | G18: a | H18: =Fiscal!F19 -> Yes | J18: 10 | L18: =Governance!F18 -> Yes | N18: 9 | P18: =Operations!F19 -> Yes | R18: 2.5 | S18: f | T18: =Personnel!F23 -> Yes
B19: 5 | C19: ='I & P'!C17 -> K - 8 | D19: ='I & P'!F17 -> 0 | F19: 6.1 | G19: b | H19: =Fiscal!F20 -> Yes | J19: 11 | L19: =Governance!F19 -> Yes | N19: 10 | P19: =Operations!F20 -> Yes | R19: 3 | S19: a | T19: =Personnel!F25 -> No
B20: 5.1 | C20: ='I & P'!C18 -> K - 12 | D20: ='I & P'!F18 -> 0 | F20: 6.2 | G20: c | H20: =Fiscal!F21 -> Yes | J20: 12 | L20: =Governance!F20 -> Yes | N20: 11 | P20: =Operations!F21 -> Yes | R20: 3.1 | S20: b | T20: =Personnel!F26 -> Yes
B21: 5.2 | C21: ='I & P'!C19 -> 9 - 12 | D21: ='I & P'!F19 -> 0 | F21: 6.3 | G21: d | H21: =Fiscal!F22 -> Yes | J21: 13 | L21: =Governance!F21 -> No | N21: 12 | P21: =Operations!F22 -> Yes | R21: 3.2 | S21: c | T21: =Personnel!F27 -> Yes
B22: 6 | C22: ='I & P'!C20 -> K - 8 | D22: ='I & P'!F20 -> 0 | F22: 7 | H22: =Fiscal!F23 -> Yes | J22: 14 | L22: =Governance!F22 -> Yes | N22: 13 | P22: =Operations!F23 -> Yes | R22: 3.3 | S22: d | T22: =Personnel!F28 -> Yes
B23: 6.1 | C23: ='I & P'!C21 -> K - 12 | D23: ='I & P'!F21 -> 0 | F23: 8 | H23: =Fiscal!F24 -> Yes | J23: Governance Total | L23: =Governance!F23 -> 95 | N23: 14 | P23: =Operations!F24 -> Yes | R23: 4 | S23: a | T23: =Personnel!F30 -> Yes
B24: 6.2 | C24: ='I & P'!C22 -> 9 - 12 | D24: ='I & P'!F22 -> 24.8 | F24: 9 | G24: a | H24: =Fiscal!F26 -> Yes | N24: 15 | P24: =Operations!F25 -> Yes | R24: 4.1 | S24: b | T24: =Personnel!F31 -> Yes
B25: 7 | C25: ='I & P'!C23 -> K - 8 | D25: ='I & P'!F23 -> 0 | F25: 9.1 | G25: b | H25: =Fiscal!F27 -> Yes | N25: 16 | P25: =Operations!F26 -> Yes | R25: 4.2 | S25: c | T25: =Personnel!F32 -> Yes
B26: 7.1 | C26: ='I & P'!C24 -> K - 12 | D26: ='I & P'!F24 -> 0 | F26: 9.2 | G26: c | H26: =Fiscal!F28 -> Yes | N26: 17 | P26: =Operations!F27 -> Yes | R26: 4.3 | S26: d | T26: =Personnel!F33 -> Yes
B27: 7.2 | C27: ='I & P'!C25 -> 9 - 12 | D27: ='I & P'!F25 -> 9.6 | F27: 10 | H27: =Fiscal!F29 -> Yes | N27: 18 | P27: =Operations!F28 -> Yes | R27: 4.4 | S27: e | T27: =Personnel!F34 -> Yes
B28: 8 | D28: ='I & P'!F31 -> yes | F28: 11 | H28: =Fiscal!F30 -> Yes | N28: Operations Total | P28: =Operations!F29 -> 95 | R28: 5 | S28: a | T28: =Personnel!F36 -> Yes
B29: 9 | D29: ='I & P'!F33 -> Yes | F29: 12 | H29: =Fiscal!F31 -> Yes | R29: 5.1 | S29: b | T29: =Personnel!F37 -> Yes
B30: 10 | D30: ='I & P'!F35 -> yes | F30: 13 | H30: =Fiscal!F32 -> Yes | R30: 5.2 | S30: c | T30: =Personnel!F38 -> Yes
B31: 11 | D31: ='I & P'!F37 -> yes | F31: 14 | H31: =Fiscal!F33 -> Yes | R31: 6 | T31: =Personnel!F39 -> Yes
B32: 12 | D32: ='I & P'!F39 -> yes | F32: 15 | H32: =Fiscal!F34 -> No | R32: Personnel Total | T32: =Personnel!F40 -> 97
B33: 13 | D33: ='I & P'!F41 -> yes | F33: Fiscal Management Total | H33: =Fiscal!F35 -> 94
B34: 14 | D34: ='I & P'!F43 -> yes
B35: 15 | D35: ='I & P'!F45 -> yes
B36: 16 | D36: ='I & P'!F47 -> yes
B37: Achievement Score Total | D37: ='I & P'!F48 -> 50.2
B38: Curriculum and Policy Total | D38: ='I & P'!F49 -> 40
B39: Instruction and Program Total | D39: ='I & P'!F50 -> 90.2

Sheet I & P
B2: Instruction and Program | D2: ='District Info & Score Summary'!C5 -> Somerset County Vocational and Technical School 35-4810-070
B3: School Year: | D3: ='District Info & Score Summary'!C3 -> 2024-2025
B4: Indicator | C4: Grade Levels | D4: Point Value | E4: District Score Will be supplied by County Office | F4: County Score Enter Actual Scores | G4: Comments | S4: District Score Yes or N/A = 1 No = 0 | T4: County Score Yes or N/A = 1 No = 0 | W4: DD List
B5: 1. The school district’s ELA achievement score. The score is comprised of the following: • Overall performance: The proficiency rate of all students in a school district; • Subgroup performance: The proficiency rate of all student subgroups; (Assessment data provided by NJDOE) | C5: K - 8 | D5: 10 | S5: =IF(E5=1,$D5,0) -> 0 | T5: =IF(F5=1,$D5,0) -> 0 | W5: Yes
C6: K - 12 | D6: 7.5 | S6: =IF(E6=1,$D6,0) -> 0 | T6: =IF(F6=1,$D6,0) -> 0 | W6: N/A
C7: 9 - 12 | D7: 15 | E7: 8.1 | F7: 8.1 | S7: =IF(E7=1,$D7,0) -> 0 | T7: =IF(F7=1,$D7,0) -> 0 | W7: No
B8: 2. The school district’s mathematics achievement score. The score is comprised of the following: • Overall performance: The proficiency rate of all students in a school district; • Subgroup performance: The proficiency rate of all student subgroups. (Assessment data provided by NJDOE) | C8: K - 8 | D8: 10 | S8: =IF(E8=1,$D8,0) -> 0 | T8: =IF(F8=1,$D8,0) -> 0
C9: K - 12 | D9: 7.5 | S9: =IF(E9=1,$D9,0) -> 0 | T9: =IF(F9=1,$D9,0) -> 0
C10: 9 - 12 | D10: 15 | E10: 4.9 | F10: 4.9 | S10: =IF(E10=1,$D10,0) -> 0 | T10: =IF(F10=1,$D10,0) -> 0
B11: 3. The school district’s science achievement score: The score is comprised of the following: • Overall performance: The proficiency rate of all students in a school district; • Subgroup performance: The proficiency rate of all student subgroups. (Assessment data provided by NJDOE) | C11: K - 8 | D11: 10 | S11: =IF(E11=1,$D11,0) -> 0 | T11: =IF(F11=1,$D11,0) -> 0
C12: K - 12 | D12: 5 | S12: =IF(E12=1,$D12,0) -> 0 | T12: =IF(F12=1,$D12,0) -> 0
C13: 9 - 12 | D13: 0 | E13: 2.8 | F13: 2.8 | S13: =IF(E13=1,$D13,0) -> 0 | T13: =IF(F13=1,$D13,0) -> 0
B14: 4. The school district’s ELA academic progress. • Academic progress is calculated to include subgroup performance by averaging the mSGP of all students with the average of all subgroups’ mSGPs. (Assessment data provided by NJDOE) | C14: K - 8 | D14: 10 | S14: =IF(E14=1,$D14,0) -> 0 | T14: =IF(F14=1,$D14,0) -> 0
C15: K - 12 | D15: 7.5 | S15: =IF(E15=1,$D15,0) -> 0 | T15: =IF(F15=1,$D15,0) -> 0
C16: 9 - 12 | D16: 0 | S16: =IF(E16=1,$D16,0) -> 0 | T16: =IF(F16=1,$D16,0) -> 0
B17: 5. The school district’s mathematics academic progress. • Academic progress is calculated to include subgroup performance by averaging the mSGP of all students with the average of all subgroups’ mSGPs. (Assessment data provided by NJDOE) | C17: K - 8 | D17: 10 | S17: =IF(E17=1,$D17,0) -> 0 | T17: =IF(F17=1,$D17,0) -> 0
C18: K - 12 | D18: 7.5 | S18: =IF(E18=1,$D18,0) -> 0 | T18: =IF(F18=1,$D18,0) -> 0
C19: 9 - 12 | D19: 0 | S19: =IF(E19=1,$D19,0) -> 0 | T19: =IF(F19=1,$D19,0) -> 0
B20: 6. The school district’s graduation rate (average of four-year and five-year adjusted cohort graduation rates). • Graduation rate is calculated to include subgroup performance by averaging the combined graduation rate (i.e. the average of the four-year and five-year graduation rates) of all students with the average of all subgroups’ combined graduation rates. (Assessment data provided by NJDOE) | C20: K - 8 | D20: 0 | S20: =IF(E20=1,$D20,0) -> 0 | T20: =IF(F20=1,$D20,0) -> 0
C21: K - 12 | D21: 15 | S21: =IF(E21=1,$D21,0) -> 0 | T21: =IF(F21=1,$D21,0) -> 0
C22: 9 - 12 | D22: 20 | E22: 24.8 | F22: 24.8 | S22: =IF(E22=1,$D22,0) -> 0 | T22: =IF(F22=1,$D22,0) -> 0
B23: 7. The school district’s measure(s) for school quality and student success is calculated to account for subgroup performance by averaging the rates for all students with the average of all subgroups’ rates. (Assessment data provided by NJDOE) | C23: K - 8 | D23: 10 | S23: =IF(E23=1,$D23,0) -> 0 | T23: =IF(F23=1,$D23,0) -> 0
C24: K - 12 | D24: 10 | S24: =IF(E24=1,$D24,0) -> 0 | T24: =IF(F24=1,$D24,0) -> 0
C25: 9 - 12 | D25: 10 | E25: 9.6 | F25: 9.6 | S25: =IF(E25=1,$D25,0) -> 0 | T25: =IF(F25=1,$D25,0) -> 0
B26: Summary of Achievement Score Indicators | C26: K - 8 | D26: =D5+D8+D11+D14+D17+D20+D23 -> 60 | E26: =E5+E8+E11+E14+E17+E20+E23 -> 0 | F26: =F5+F8+F11+F14+F17+F20+F23 -> 0 | S26: =S5+S8+S11+S14+S17+S20+S23 -> 0 | T26: =T5+T8+T11+T14+T17+T20+T23 -> 0
C27: K - 12 | D27: =D6+D9+D12+D15+D18+D21+D24 -> 60 | E27: =E6+E9+E12+E15+E18+E21+E24 -> 0 | F27: =F6+F9+F12+F15+F18+F21+F24 -> 0 | S27: =S6+S9+S12+S15+S18+S21+S24 -> 0 | T27: =T6+T9+T12+T15+T18+T21+T24 -> 0
C28: 9 - 12 | D28: =D7+D10+D13+D16+D19+D22+D25 -> 60 | E28: =E7+E10+E13+E16+E19+E22+E25 -> 50.2 | F28: =F7+F10+F13+F16+F19+F22+F25 -> 50.2 | S28: =S7+S10+S13+S16+S19+S22+S25 -> 0 | T28: =T7+T10+T13+T16+T19+T22+T25 -> 0
B30: Indicator | D30: Point Value | E30: District Score Yes OR N/A OR No | F30: County Score Yes OR N/A OR No | G30: Comments
B31: 8. The chief school administrator (CSA) reports participation and performance results of annual Statewide assessments to the district board of education within 60 days of receipt of the finalized information from the Department. The reports include aggregated and disaggregated subgroup data, as well as trend and comparative analyses and appropriate intervention strategies. (N.J.A.C. 6A:8-4.3) | D31: 6 | E31: Yes | F31: yes
B32: 9. English language arts curriculum and instruction are aligned to the New Jersey Student Learning Standards (NJSLS) in accordance with the Department’s curriculum implementation timeline and include the following: (N.J.A.C. 6A:8)
B33: a. Curriculum designed and implemented to meet grade or grade-level expectations and graduation requirements; b. Integrated accommodations and modifications for special education students, English language learners, students at risk of school failure, gifted and talented students, and students with 504 plans; c. Assessments, including formative, summative, benchmark, and alternative assessments; d. List of core instructional and supplemental materials, including various levels of texts at each grade level; e. Pacing guide; f. Interdisciplinary connections; g. Integration of 21st century skills through NJSLS 9; h. Integration of technology through the NJSLS; and i. Career education. | D33: 4 | E33: Yes | F33: Yes
B34: 10. Mathematics curriculum and instruction are aligned to the NJSLS in accordance with the Department’s curriculum implementation timeline and include the following: (N.J.A.C. 6A:8) | I34: =D34*E34 -> 0 | J34: =D34*F34 -> 0
B35: a. Curriculum designed and implemented to meet grade or grade-level expectations and graduation requirements; b. Integrated accommodations and modifications for special education students, English language learners, students at risk of school failure, gifted and talented students, and students with 504 plans; c. Assessments, including formative, summative, benchmark, and alternative assessments; d. List of core instructional and supplemental materials, including various levels of texts at each grade level; e. Pacing guide; f. Interdisciplinary connections; g. Integration of 21st century skills through NJSLS 9; h. Integration of technology through the NJSLS; and i. Career education. | D35: 4 | E35: Yes | F35: yes | I35: =D35*E35 -> #VALUE! | J35: =D35*F35 -> #VALUE!
B36: 11. Science curriculum and instruction are aligned to the NJSLS in accordance with the Department’s curriculum implementation timeline and include the following: (N.J.A.C. 6A:8) | I36: =D36*E36 -> 0 | J36: =D36*F36 -> 0
B37: a. Curriculum designed and implemented to meet grade or grade-level expectations and graduation requirements; b. Integrated accommodations and modifications for special education students, English language learners, students at risk of school failure, gifted and talented students, and students with 504 plans; c. Assessments, including formative, summative, benchmark, and alternative assessments; d. List of core instructional and supplemental materials, including various levels of texts at each grade level; e. Pacing guide; f. Interdisciplinary connections; g. Integration of 21st century skills through NJSLS 9; h. Integration of technology through the NJSLS; and i. Career education. | D37: 4 | E37: Yes | F37: yes
B38: 12. Social Studies curriculum and instruction are aligned to the NJSLS in accordance with the Department’s curriculum implementation timeline and include the following: (N.J.A.C. 6A:8)
B39: a. Curriculum designed and implemented to meet grade or grade-level expectations and graduation requirements; b. Integrated accommodations and modifications for special education students, English language learners, students at risk of school failure, gifted and talented students, and students with 504 plans; c. Assessments, including formative, summative, benchmark, and alternative assessments; d. List of core instructional and supplemental materials, including various levels of texts at each grade level; e. Pacing guide; f. Interdisciplinary connections; g. Integration of 21st century skills through NJSLS 9; h. Integration of technology through the NJSLS; i. Career education. j. Amistad Commission mandates* that curricula in kindergarten through grade 12 include the teaching of the African slave trade, slavery in America, the vestiges of slavery in this country, and the contributions of African Americans to this country; and k. Holocaust Commission mandates* that curricula in kindergarten through grade 12 address issues of bias, prejudice, and bigotry, including bullying, through the teaching of the Holocaust and genocide. * Mandates can be met in content areas other than Social Studies. Being out of compliance with either mandate results in the loss of all points for Social Studies. | D39: 4 | E39: Yes | F39: yes
B40: 13. World languages curricula and instruction are aligned to the NJSLS in accordance with the Department’s curriculum implementation timeline and include the following: (N.J.A.C. 6A:8)
B41: a. Curriculum designed and implemented to meet grade or grade-level expectations and graduation requirements; b. Integrated accommodations and modifications for special education students, English language learners, students at risk of school failure, gifted and talented students, and students with 504 plans; c. Assessments, including formative, summative, benchmark, and alternative assessments; d. List of core instructional and supplemental materials, including various levels of texts at each grade level; e. Pacing guide; f. Interdisciplinary connections; g. Integration of 21st century skills through NJSLS 9; h. Integration of technology through the NJSLS; and i. Career education. | D41: 4 | E41: Yes | F41: yes
B42: 14. Comprehensive health and physical education curricula and instruction are aligned to the NJSLS in accordance with the Department’s curriculum implementation timeline and include the following: (N.J.A.C. 6A:8)
...

Sheet Fiscal
B2: Fiscal Management | D2: ='District Info & Score Summary'!C5 -> Somerset County Vocational and Technical School 35-4810-070 | S2: Yes
B3: School Year: | D3: ='District Info & Score Summary'!C3 -> 2024-2025 | S3: N/A
B4: Indicator | D4: Point Value | E4: District Score Yes OR N/A OR No | F4: County Score Yes OR N/A OR No | G4: Comments | S4: No
B5: 1. Monthly district board of education secretary's reports are completed and reconciled without exceptions and submitted to the district board of education within 60 days of the month's end for approval, pursuant to N.J.S.A. 18A:17-9. | D5: 6 | E5: Yes | F5: Yes | I5: =D5*E5 -> #VALUE! | J5: =D5*F5 -> #VALUE!
B6: 2. A standard operating procedures (SOP) manual for business functions is maintained, updated and implemented pursuant to N.J.A.C. 6A:23A-6.6. The SOP manual includes a system of internal controls in accordance with N.J.A.C. 6A:23A-6.4 to prevent the over-expenditure of line item accounts and to safeguard assets from theft and fraud and includes a section that details purchasing procedures. | D6: 8 | E6: Yes | F6: Yes | I6: =D6*E6 -> #VALUE! | J6: =D6*F6 -> #VALUE!
B7: 3. The annual audit of its Comprehensive Annual Financial Report (CAFR) and other supporting forms and collections (Auditor's Management Report (AMR), Federal Data Collection Form, and Audit Summary) have been filed by the due date set forth in N.J.S.A. 18A:23-1. | D7: 4 | E7: Yes | F7: Yes | I7: =D7*E7 -> #VALUE! | J7: =D7*F7 -> #VALUE!
B8: 4. The school district: | I8: =D8*E8 -> 0 | J8: =D8*F8 -> 0
B9: a. Implements a corrective action plan (CAP) that addresses all audit recommendations and is acceptable to the Department (as required); | D9: 4 | E9: Yes | F9: Yes | I9: =D9*E9 -> #VALUE! | J9: =D9*F9 -> #VALUE!
B10: b. Reports no repeat audit findings of a substantive nature in the CAFR or AMR. | D10: 4 | E10: Yes | F10: Yes | I10: =D10*E10 -> #VALUE! | J10: =D10*F10 -> #VALUE!
B11: c. Reports no material weaknesses or significant deficiencies in the CAFR or AMR. | D11: 4 | E11: Yes | F11: Yes | I11: =D11*E11 -> #VALUE! | J11: =D11*F11 -> #VALUE!
B12: d. Ends the year with no deficit balances and no line item over-expenditures in the general fund, (on the budgetary basis of accounting) special revenue fund, capital projects fund, or debt service fund (other than permitted under State law and GAAP). | D12: 4 | E12: Yes | F12: Yes | I12: =D12*E12 -> #VALUE! | J12: =D12*F12 -> #VALUE!
B13: 5. Entitlement and discretionary grants are managed and overseen as required. Specifically, the school district:
B14: a. Submits initial applications, revisions, and final reports for all entitlement and discretionary grants by published due dates and expends Federal funds consistent with the approved indirect cost rate and grant application. | D14: 2 | E14: Yes | F14: No | G14: County Comment: District did not submit all applications, revisions, and final reports within the required timelines. | I14: =D14*E14 -> #VALUE! | J14: =D14*F14 -> #VALUE!
B15: b. Budgets grant funds according to the approved application and spends grant funds as budgeted. Amendments and budget modifications are completed for charges that exceed the applicable threshold of 10 percent or for modifications that require opening new budget lines. | D15: 2 | E15: Yes | F15: Yes | I15: =D15*E15 -> #VALUE! | J15: =D15*F15 -> #VALUE!
B16: c. Shows evidence of required consultations with nonpublic schools for each required State- and federally funded program and expends nonpublic school allocations as required. If funds are not expended for nonpublic school services, the school district specifies the reason the funds were not spent and provides evidence of consulting with nonpublic schools regarding the use of unexpended funds. | D16: 2 | E16: Yes | F16: Yes | I16: =D16*E16 -> #VALUE! | J16: =D16*F16 -> #VALUE!
B17: d. Approves salaries funded by Federal grants as documented in district board of education minutes and maintains the required time and activity reports. | D17: 2 | E17: Yes | F17: Yes | I17: =D17*E17 -> #VALUE! | J17: =D17*F17 -> #VALUE!
B18: 6. Proper oversight and accounting of capital projects accounted for in Fund 30 are provided. Specifically, the school district:
B19: a. Maintains separate accounting by project. | D19: 4 | E19: Yes | F19: Yes | I19: =D19*E19 -> #VALUE! | J19: =D19*F19 -> #VALUE!
B20: b. Monitors the detailed accounts regularly and oversees change orders to ensure/certify funds are available. | D20: 4 | E20: Yes | F20: Yes | I20: =D20*E20 -> #VALUE! | J20: =D20*F20 -> #VALUE!
B21: c. Spends within the authorized amount, unless proper approvals have been received to raise additional funds to augment the authorized amount. | D21: 4 | E21: Yes | F21: Yes | I21: =D21*E21 -> #VALUE! | J21: =D21*F21 -> #VALUE!
B22: d. Conducts the proper fiscal close-out of completed projects, including proper transfer of interest earned annually to the debt service and/or general fund. | D22: 4 | E22: Yes | F22: Yes | I22: =D22*E22 -> #VALUE! | J22: =D22*F22 -> #VALUE!
B23: 7. Projects consistent with the approved long-range facilities plan are implemented, reviewed, and revised, pursuant to N.J.A.C. 6A:26-2. | D23: 2 | E23: Yes | F23: Yes
B24: 8. County office approval has been granted for emergent projects, pursuant to N.J.A.C. 6A:26-3.14. | D24: 2 | E24: Yes | F24: Yes
B25: 9. Annual health and safety reviews:
B26: a. Have been conducted once per year in each building using the Annual Facilities Checklist -- Health and Safety Evaluation of School Buildings. (N.J.A.C. 6A:26-6.1, 6.2, 6.3, and 12 and 6A:19-6) | D26: 5 | E26: Yes | F26: Yes | I26: =D26*E26 -> #VALUE! | J26: =D26*F26 -> #VALUE!
B27: b. Meet the "100% item" section in the Annual Facilities Checklist -- Health and Safety Evaluation of School Buildings, which means all items are in compliance in all buildings. | D27: 5 | E27: Yes | F27: Yes | I27: =D27*E27 -> #VALUE! | J27: =D27*F27 -> #VALUE!
B28: c. Meet the "80% item" section Annual Facilities Checklist -- Health and Safety Evaluation of School Buildings, which means at least 80 percent of items are in compliance in all buildings. | D28: 2 | E28: Yes | F28: Yes | I28: =D28*E28 -> #VALUE! | J28: =D28*F28 -> #VALUE!
B29: 10. A budget calendar that is developed and shared with the district board of education annually and that reflects all applicable legal and management requirements, pursuant to N.J.S.A. 18A:22-7, is followed. This development timeline includes input from all relevant programmatic staff for requirements and materials needed for teaching and student learning. | D29: 6 | E29: Yes | F29: Yes | I29: =D29*E29 -> #VALUE! | J29: =D29*F29 -> #VALUE!
B30: 11. All persons employed as a buildings and grounds supervisor, as defined in N.J.S.A. 18A:17-49, possess a valid authorization from the Department to serve as a certified educational facilities manager. | D30: 4 | E30: Yes | F30: Yes | I30: =D30*E30 -> #VALUE! | J30: =D30*F30 -> #VALUE!
B31: 12. The transfer of funds during the budget year is made in accordance with N.J.S.A. 18A:22-8.1 and 8.2 and complies with all budgetary control provisions, pursuant to N.J.A.C. 6A:23A-16.10. | D31: 4 | E31: Yes | F31: Yes | I31: =D31*E31 -> #VALUE! | J31: =D31*F31 -> #VALUE!
B32: 13. Fiscal-year cash flow management for all funds is prepared and analyzed on a regular basis to ensure payments can be made on a prompt basis. | D32: 4 | E32: Yes | F32: Yes | I32: =D32*E32 -> #VALUE! | J32: =D32*F32 -> #VALUE!
B33: 14. Reimbursement requests for Federal grant awards are submitted in a timely manner for the actual amount of incurred expenditures. | D33: 4 | E33: Yes | F33: Yes | I33: =D33*E33 -> #VALUE! | J33: =D33*F33 -> #VALUE!
B34: 15. The district board of education approves purchase orders approved by only the purchasing agent and issued in advance of goods received or services rendered and encumbered for the full contractual amount. There are no confirming orders. | D34: 4 | E34: No | F34: No | I34: =D34*E34 -> #VALUE! | J34: =D34*F34 -> #VALUE!
B35: Fiscal Management Total | D35: =SUM(D5:D34) -> 100 | E35: =(SUMIF(E5:E34,"Yes",D5:D34))+(SUMIF(E5:E34,"N/A",D5:D34)) -> 96 | F35: =(SUMIF(F5:F34,"Yes",D5:D34))+(SUMIF(F5:F34,"N/A",D5:D34)) -> 94
B36: Comments:

Sheet Governance
B2: Governance | D2: ='District Info & Score Summary'!C5 -> Somerset County Vocational and Technical School 35-4810-070
B3: School Year: | D3: ='District Info & Score Summary'!C3 -> 2024-2025 | S3: Yes
B4: Indicator | D4: Point Value | E4: District Score Yes OR N/A OR No | F4: County Score Yes OR N/A OR No | G4: Comments | S4: N/A
B5: 1. At least annually, and more frequently if required by changes in case law, regulation, or statute, the district board of education or the advisory board, reviews, updates, and adopts, by resolution, policies, procedures, and by-laws reflective of current statutory and regulatory authority. (N.J.S.A. 18A:11) | D5: 8 | E5: Yes | F5: Yes | K5: =D5*E5 -> #VALUE! | L5: =D5*F5 -> #VALUE! | S5: No
B6: 2. The district board of education:
B7: a. Establishes a policy and a contract with the CSA to annually evaluate him or her based on the adoption of goals and performance measurements that reflect the highest priority is given to student achievement and attention is given to subgroup achievement and each new member has received training on CSA evaluation. N.J.S.A. 18A:17-20.3. | D7: 7 | E7: Yes | F7: Yes | K7: =D7*E7 -> #VALUE! | L7: =D7*F7 -> #VALUE!
B8: b. Completes the CSA evaluation by July 1 in accordance with N.J.A.C. 6A:10-8.1(g). | D8: 6 | E8: Yes | F8: Yes
B9: 3. All new, renegotiated, amended, altered, or extended contracts for CSAs, deputy superintendents, assistant superintendents, and school business administrators are submitted to the executive county superintendent (ECS) for review and approval. The district board of education takes no formal action to approve or implement such contracts prior to ECS review and approval. (N.J.S.A. 18A:7-8 and N.J.A.C. 6A:23A-3.1) | D9: 6 | E9: Yes | F9: Yes | K9: =D9*E9 -> #VALUE! | L9: =D9*F9 -> #VALUE!
B10: 4. The district board of education approves appointments and transfers, and removes or renews certificated and non-certificated officers and employees, only by a roll call majority vote of the district board of education’s full membership upon the CSA’s recommendation. (N.J.S.A. 18A:27-4.1 and N.J.A.C. 6A:32-4.1 and 4.7) | D10: 6 | E10: Yes | F10: Yes | K10: =D10*E10 -> #VALUE! | L10: =D10*F10 -> #VALUE!
B11: 5. The district board of education-approved corrective action plans are submitted for any finding or recommendation for all compliance-related reports, consolidated monitoring reports, financial audits, special education reports, etc. The school district has no outstanding monitoring or complaint investigation findings that exceed the required timelines for correction. There is no evidence of the school district not implementing the plan. | D11: 7 | E11: Yes | F11: Yes | K11: =D11*E11 -> #VALUE! | L11: =D11*F11 -> #VALUE!
B12: 6. The budgeting process and allocation of resources, including grant funding, are aligned with instructional priorities and student needs to provide for a thorough and efficient education as demonstrated by: (N.J.S.A. 18A:7F-6 and 46 and N.J.A.C. 6A:23A-8.1)
B13: a. Adoption and implementation of written policies and procedures for the budget and financial planning process that are integrated and aligned with school district priorities and planning objectives based on Statewide assessments and applicable strategic plans. | D13: 8 | E13: Yes | F13: Yes | K13: =D13*E13 -> #VALUE! | L13: =D13*F13 -> #VALUE!
B14: b.Annually align fiscal goals and budget objectives with curricula that comply with the NJSLS. | D14: 8 | E14: Yes | F14: Yes
B15: 7. The district board of education follows the budget process by: a. Conducting a public hearing on the proposed budget; b. Adopting the budget at a public meeting; c. Providing ongoing information on the budget’s status and any revision(s) or emergent conditions; and d. Making the budget available for public notice and inspection. (N.J.S.A. 18A:22-7 and N.J.A.C. 6A:23A-8.1 and 8.2) | D15: 8 | E15: Yes | F15: Yes
B16: 8. The district board of education ensures compliance with all stakeholder engagement requirements pursuant to the Federal grant programs for which the school district receives funds, which shall include but not be limited to grant programs under the Elementary and Secondary Act, the Individuals with Disabilities Education Act, and the Carl D. Perkins Career and Technical Education Act. | D16: 6 | E16: Yes | F16: Yes
B17: 9. The district board of education has established programs and services for all English language learners (ELLs), pursuant to N.J.A.C. 6A:15. | D17: 7 | E17: Yes | F17: Yes
B18: 10. The district board of education implements the Open Public Meetings Act and there have been no findings of noncompliance since the last NJQSAC monitoring. (N.J.S.A. 10:4-6 et seq.) | D18: 3 | E18: Yes | F18: Yes
B19: 11. The district board of education approves the monthly district board of education secretary’s and treasurer’s reports within 60 days of month’s end and, in its minutes, certifies that major funds (general fund, special revenue, and capital projects fund) have not been over-expended. (N.J.A.C. 6A:23A-16.10(c)) | D19: 6 | E19: Yes | F19: Yes
B20: 12. Minutes of all meetings, including executive sessions, reflect all district board of education actions and are publicly available within two weeks or by the next district board of education meeting. (N.J.S.A.18A:17-7) | D20: 6 | E20: Yes | F20: Yes
B21: 13. District board of education members and school administrators annually file a timely and properly completed financial and personal/relative disclosure statement. The district board of education annually discusses the School Ethics Act and no district board of education member or administrator has been found in violation of the School Ethics Act. (N.J.S.A. 18A:12-22 and 26) | D21: 5 | E21: Yes | F21: No | G21: County Comment: Late Submission
B22: 14. The district board of education ensures that all students have access to library media services that are connected to classroom studies in each school building including access to computers; school district-approved instructional software; appropriate books, including novels, anthologies, and other reference materials; and supplemental materials that motivate students to read in and out of school and to conduct research. (N.J.A.C. 6A:13-2.1(h)) | D22: 3 | E22: Yes | F22: Yes
B23: Governance Total | D23: =SUM(D5:D22) -> 100 | E23: =(SUMIF(E5:E22,"Yes",D5:D22))+(SUMIF(E5:E22,"N/A",D5:D22)) -> 100 | F23: =(SUMIF(F5:F22,"Yes",D5:D22))+(SUMIF(F5:F22,"N/A",D5:D22)) -> 95
B24: Comments:

Sheet Operations
B2: Operations | D2: ='District Info & Score Summary'!C5 -> Somerset County Vocational and Technical School 35-4810-070
C3: School Year: | D3: ='District Info & Score Summary'!C3 -> 2024-2025
B4: Indicator | D4: Point Value | E4: District Score Yes OR N/A OR No | F4: County Score Yes OR N/A OR No | G4: Comments | R4: Yes
B5: 1. The school district’s NJSMART and educator evaluation data files: | G5: County Comment: District did not provide completed data by the established deadlines. NJ SMART district data was released by NJ SMART. | R5: N/A
B6: a. Have been certified by established deadlines and provide complete data; and | D6: 2 | E6: Yes | F6: No | R6: No
B7: b. Have an error rate of less than 1.5 percent for each file –inclusive of student sync errors. | D7: 3 | E7: Yes | F7: Yes
B8: 2. The school district’s County District School (CDS) Information System data:
B9: a. Have been submitted by established deadlines and no evidence of changes not approved by the Department was reported since the last NJQSAC monitoring: and | D9: 1 | E9: Yes | F9: Yes
B10: b. Have accurately maintained the required school contacts throughout the year and the school district has submitted to the Department for approval any change requiring district board of education action within five business days of the action. | D10: 3 | E10: Yes | F10: Yes
B11: 3. The school district has a data management process that includes:
B12: a. Identification of a school district data coordinator, school district contacts for all Department data submission applications, and an internal communication/information dissemination procedure; | D12: 2 | E12: Yes | F12: Yes
B13: b. Submission of data collection applications via the Department’s website by the established deadlines. | D13: 3 | E13: Yes | F13: Yes
B14: 4. The school district has policies and procedures that require the use of multiple sources of data to monitor student achievement and progress and to evaluate the effectiveness of programs, initiatives, and strategies. | D14: 3 | E14: Yes | F14: No | G14: County Comment: District did not submit the gifted and talented report on NJ Homeroom.
B15: 5. The district board education adopts and annually distributes to staff, parents, and students, policies and procedures to address the equitable application of a code of student conduct that establishes expectations for academic achievement, behavior, and attendance. The policy provides comprehensive tiered behavioral supports and responses to violations that include positive disciplinary practices that minimize exclusionary practices, such as suspension and expulsion; and details students’ due process rights. (N.J.A.C. 6A:16-7.1) | D15: 5 | E15: Yes | F15: Yes
B16: 6. Twice per year, the CSA presents to the district board of education a summary of violence, vandalism, substance abuse, and harassment, intimidation and bullying (HIB) incidents submitted on the Department’s incident reporting system. The CSA or designee submits the final data verification to the Department by July 15. (N.J.A.C. 6A:16-5.3) | D16: 5 | E16: Yes | F16: Yes
B17: 7. The school district implements a process to ensure the school safety/school climate team in each school, with support from the CSA: (1) reviews and takes action to strengthen school climate policies; (2) educates the community, including students, teachers, staff, and parents, to prevent HIB; (3) provides professional development opportunities that address effective practices of successful school climate programs or approaches; and (4) completes the HIB self-assessment. The CSA submits to the Department the statement of assurance and the district board of education approval date for the HIB self-assessment for each school in the school district by September 30. (N.J.S.A. 18A:17-46 and 18A:37-14 through 18 and N.J.A.C. 6A:16-7.7) | D17: 7 | E17: Yes | F17: Yes
B18: 8. The Uniform State Memorandum of Agreement Between Education and Law Enforcement Officials (MOA) has been signed within the past year. There have been no findings of noncompliance since the last NJQSAC monitoring. (N.J.A.C. 6A:16-6.2) | D18: 6 | E18: Yes | F18: Yes
B19: 9. The comprehensive alcohol, tobacco, and other drug abuse program includes policies and procedures for the prevention, assessment, intervention, referral for evaluation, referral for treatment, discipline for students using alcohol or other drugs, and continuity of care and supports. (N.J.S.A. 18A:40A and N.J.A.C. 6A:16-3 and 4) | D19: 6 | E19: Yes | F19: Yes
B20: 10. Policies and procedures are established to review and resolve transportation incidents and ensure the safety of students by meeting Motor Vehicle Commission requirements for inspections by bus drivers and evacuation drills. The CSA presents to the district board of education evidence of completion of emergency exit drills. (N.J.A.C. 6A:27-11.1, 11.2, and 12) | D20: 6 | E20: Yes | F20: Yes
B21: 11. Policies and procedures are established to report potentially missing, abused, or neglected children to law enforcement and child welfare authorities; to appoint a school district liaison to law enforcement authorities; and to provide training to school district employees, volunteers, and interns on policies and procedures. There have been no findings of noncompliance since the last NJQSAC monitoring. (N.J.A.C. 6A:16-11) | D21: 6 | E21: Yes | F21: Yes
B22: 12. Comprehensive record of immunizations, required physical examinations and health screenings are maintained to identify the need for medical services for public and nonpublic school students. Health records are kept separately from other student records. There have been no findings of noncompliance since the last NJQSAC monitoring. (N.J.A.C. 6A:16-2.1(a)8, 2.2, and 2.5 and 6A:32-7.4(c)) | D22: 4 | E22: Yes | F22: Yes
B23: 13. At least one certified school nurse is employed by the school district (not through a third-party contract). For medically fragile students who require one-to-one clinical nursing services, the school district uses a provider of clinical nursing services who appears on the New Jersey Department of Human Services’ directory of private-duty nursing. The district board of education annually adopts a nursing services plan for each school that addresses sufficient nursing requirements and the needs of all students, including nonpublic school students. (N.J.A.C. 6A:16-2.1(b) and 2.5(j)6) | D23: 8 | E23: Yes | F23: Yes
B24: 14. Students removed for disciplinary reasons (e.g., suspension or expulsion) or for chronic or temporary illness have received educational services from a certified instructor who has completed the Department’s criminal history record check within five days of a student’s removal for disciplinary reasons or within five days after receipt of the school physician’s verification of the need for home instruction due to chronic or temporary illness (e.g., home instruction/temporary hospital setting). (N.J.S.A. 18A:6-4.13 and 7.1 and N.J.A.C. 6A:16-7.2, 7.3, and 10.1) | D24: 6 | E24: Yes | F24: Yes
B25: 15. Safety and security plans, procedures, and mechanisms are annually reviewed and revised in consultation with law enforcement, health, social service, and emergency management agencies and other community members, including parents. The CSA has verified in writing that the process has occurred. (N.J.A.C. 6A:16-5.1) | D25: 6 | E25: Yes | F25: Yes
B26: 16. A security drill statement of assurance that accurately represents the monthly security drills were conducted is submitted no later June 30 each year to the Department. (N.J.S.A. 18A:41) | D26: 4 | E26: Yes | F26: Yes
... B28: 18. The district board of education has adopted policies and procedures that require regular attendance of students, expectations of timely arrival, daily attendance when school is in session, and responses to unexcused absences and lateness, and attempt to determine the cause and to provide tiered supports in maintaining regular attendance for all students. (N.J.A.C. 6A:16-7.6) | D28: 8 | E28: Yes | F28: Yes
B29: Operations Total | D29: =SUM(D5:D28) -> 100 | E29: =(SUMIF(E5:E28,"Yes",D5:D28))+(SUMIF(E5:E28,"N/A",D5:D28)) -> 100 | F29: =(SUMIF(F5:F28,"Yes",D5:D28))+(SUMIF(F5:F28,"N/A",D5:D28)) -> 95
B30: Comments:

Sheet Personnel
B2: Personnel | D2: ='District Info & Score Summary'!C5 -> Somerset County Vocational and Technical School 35-4810-070 | W2: Yes | AA2: Select the percentage of files that meet indicators
C3: School Year: | D3: ='District Info & Score Summary'!C3 -> 2024-2025 | W3: N/A | AA3: 100 percent of audited files meets indicators
B4: Indicator | D4: District Point Value | E4: District Score Yes OR N/A OR No | F4: County Score | H4: County Point Value | I4: Comments | W4: No | AA4: 95 to 99 percent of audited files meets indicators
B5: 1. An audit of staff personnel files and other relevant school district records demonstrates that evaluation and staff development processes have occurred in accordance with N.J.A.C. 6A:9C and 6A:10 in the following categories: | AA5: Less than 95 percent of audited files meets indicators
B6: a. Teacher evaluation processes result in complete summative scores, measures of teacher practice, and measures of student growth (SGO and mSGP) (N.J.A.C. 6A:10- 2.4, 4.1, 4.2, 4.3, and 4.4); | C6: 100 percent of audited files meets indicators | D6: 8 | E6: Yes | F6: 100 percent of audited files meets indicators | H6: {=_xlfn.IFS(F6="100 percent of audited files meets indicators",8,F6="95 to 99 percent of audited files meets indicators",4,F6="Less than 95 percent of audited files meets indicators",0,TRUE,0)} -> 8
B9: b. School leader evaluation processes result in complete summative scores, measures of principal practice, and measures of student growth (SGO, mSGP, administrator goals) (N.J.A.C. 6A:10- 2.4, 5.1, 5.2, 5.3, and 5.4); | C9: 100 percent of audited files meets indicators | D9: 6 | E9: Yes | F9: 100 percent of audited files meets indicators | H9: 6
B12: c. Evaluations of other certificated staff according to regulations (N.J.A.C. 6A:10-2.2, 2.4, 2.5, 6.1, and 6.2); | C12: 100 percent of audited files meets indicators | D12: 4 | E12: Yes | F12: 100 percent of audited files meets indicators | H12: 4
B14: d. Evaluation processes for all certificated staff have occurred, including evaluation training and evaluation conferences. (N.J.A.C. 6A:10-2.2) | D14: 4 | E14: Yes | F14: Yes
B15: e. School improvement panels have been established in each school and are functioning in accordance with the TEACHNJ Act (N.J.S.A. 18A:6-120) and regulations (N.J.A.C. 6A:9C-5.3 and 6A:10-2.3, 2.5, 3.1, and 3.2); and | D15: 4 | E15: Yes | F15: Yes
B16: f. Other evaluation structures and processes, including tenure charge proceedings conducted according to the TEACHNJ Act (N.J.S.A. 18A:6-11 and 17.3). | D16: 2 | E16: Yes | F16: Yes
B17: 2. The school district demonstrates supportive conditions for high-quality professional learning and development for teachers, educational services staff, and administrators, aligned to the components of professional development and the New Jersey standards for professional learning and as indicated by the following (N.J.A.C. 6A:9C and 6A:13-2):
B18: a. An audit of personnel files indicates that required individual professional development plans (PDPs) or corrective action plans (CAPs) are aligned to the professional standards for school leaders or teachers and have been completed for administrators and teachers and are linked to (1) school district, school, team, and/or individual goals, and (2) results from individual performance evaluations. (N.J.A.C. 6A:9C and 6A:10-2.5); | D18: 5 | E18: Yes | F18: Yes
B19: b. School schedules that include adequate and consistent time for teachers to work together in and across content areas and grade levels to examine student results and to collaborate on addressing student learning needs, such as through professional learning community (PLC) time (N.J.A.C. 6A:9C-3.2 and 3-3 and 6A:13-2.1). | D19: 5 | E19: Yes | F19: Yes
B20: c. The school district-level PDP: • Details districtwide and school-level professional learning for active staff holding instructional teaching, educational services, and administrative certificates; • Incorporates professional learning that is sustained and job-embedded not exclusively one-time workshops; and • Addresses the NJSLS and the professional standards for teachers and school leaders (N.J.A.C. 6A:8 and 6A:9) and is based on a variety of sources and types of student, educator, and system evidence, including educator evaluation data and school-level PDPs. (N.J.A.C. 6A:9C-4.2) | D20: 5 | E20: Yes | F20: Yes
B21: d. The school district allocates resources for educator professional learning and development (e.g., people, time, technology, money) that align to the school district’s professional development needs, as stated in the PDP and mentoring plan, beyond the resources designated toward completion of State-mandated professional development topics. | D21: 5 | E21: Yes | F21: Yes
B22: e. The district mentoring plan: (N.J.A.C. 6A:9C-5) • Details support for all non-tenured teachers in their first year of employment through, at minimum, an introduction to school district curricula, student assessment policies, and training on the school district’s evaluation rubric; • Describes the process for selecting and assigning one-to-one mentors who meet State eligibility requirements to work with provisional teachers; • Describes how mentors are trained; and • Describes the process by which the administrative office oversees mentor payments. | D22: 3 | E22: Yes | F22: Yes
B23: f. Documentation that verifies staff have completed professional development on State-mandated topics required for their assignments. (N.J.S.A. 18A and N.J.A.C. 6A) | D23: 2 | E23: Yes | F23: Yes
B24: 3. The district board of education has ensured the following staffing practices are followed for all staff requiring provisional certification:
B25: a. Any administrator or educational services staff employed under a certificate of eligibility with advanced standing (CEAS) or a certificate of eligibility (CE) has been registered in the appropriate residency program for his or her endorsement and the school district has applied to the Department’s certification office for a provisional certificate before the residency period began. Any teacher with a CEAS or a CE or serving as a long-term substitute (for greater than 60 days) has been registered in the provisional teacher process within 60 days of beginning employment; (N.J.A.C. 6A:9B) | D25: 3 | E25: No | F25: No
B26: b. Provisional staff are assigned a mentor, required mentor hours and/or residency hours are tracked, and evaluation is conducted; and (N.J.A.C. 6A:9B-8.4, 6A:9C-5, and 6A:10) | D26: 3 | E26: No | F26: Yes | G26: County Comment: Evidence indicates compliance in this area.
B27: c. Provisional staff seeking the standard license for teacher of students with disabilities and/or teacher of bilingual education submit annual transcripts from their educator preparation programs (EPPs) to allow school districts to track staff progress toward completion of required coursework. (N.J.A.C.6A:9A and 6A:9B) | D27: 3 | E27: Yes | F27: Yes
B28: d. All school district-provided information required for a professional staff member to obtain a standard certificate is submitted to the Department within 30 days of the staff member becoming eligible for a standard license. (N.J.A.C. 6A:9B) | D28: 2 | E28: Yes | F28: Yes
B29: 4. The district board of education has ensured the following staffing practices are followed:
B30: a. New employees have a successful criminal history record check prior to employment and are not disqualified for employment; (N.J.S.A. 18A:6-7.1 and 18A:39-19.1) | D30: 2 | E30: Yes | F30: Yes
B31: b. Candidates for employment and employees, when applicable, receive a physical examination and the resulting medical records are maintained in a secure location separate from personnel files; (N.J.S.A. 18A:16-2 and N.J.A.C. 6A:32-6.2 and 6.3) | D31: 2 | E31: Yes | F31: Yes
B32: c. Approved job descriptions are maintained for every certificated staff member. Certificated staff are appropriately certified for their assignment (N.J.A.C. 6A:9B); and | D32: 5 | E32: Yes | F32: Yes
B33: d. Accurate staff attendance records are maintained at school district and school levels. The records include the type and date of absence and an analysis of attendance patterns. Any issue(s) identified through the analysis of staff attendance has been addressed in accordance with the district board of education’s staff attendance policies. | D33: 5 | E33: Yes | F33: Yes
B34: e. The length of service for substitute teachers is tracked and placement of substitutes is appropriate. (N.J.A.C. 6A:9B-7) | D34: 2 | E34: Yes | F34: Yes
B35: 5. The position control roster: (N.J.A.C. 6A:23A-6.8)
B36: a. Contains the employee name; date of hire; a permanent position tracking number for each employee; a control number for substitute teachers; a control number for overtime; a control number for extra pay; the status of the position (filled, vacant, abolished, etc.); an indication, when available, of whether an employee is retiring in the budget year or not being renewed, including associated costs such as contractual buyouts, severance pay, paid vacation, or sick days, etc.; base salary; step; longevity; guide; stipends by type; overtime; other extra compensation; the benefits paid by the school district, net of employee reimbursements or co-pays, by type of benefit and for FICA and Medicare; the position’s full-time equivalent value by location; the date the position was filled; and the date the position was originally created by the district board of education (if the date the position was originally created is not available, the date the person currently filling that position was approved by the district board of education); | D36: 6 | E36: Yes | F36: Yes
B37: b. Is accurate and up to date; and | D37: 5 | E37: Yes | F37: Yes
B38: c. Reconciles with the budget. | D38: 4 | E38: Yes | F38: Yes
B39: 6. Documentation and evaluation of administrator practices, as well as an audit of personnel files, including observation reports, indicates that supervision processes are occurring in accordance with N.J.A.C. 6A:10 and result in: a. Professional practices aligned with goal-setting procedures (N.J.A.C. 6A:10-4.2 and 5.2); and b. Supervisory feedback that is timely, targeted, and actionable (N.J.A.C. 6A:10-2.4, 2.5 and 4.4 and 5.4). | D39: 5 | E39: Yes | F39: Yes
B40: Personnel Total | D40: 100 | E40: =(SUMIF(E5:E39,"Yes",D5:D39))+(SUMIF(E5:E39,"N/A",D5:D39)) -> 94 | F40: =(SUMIF(F14:F39,"Yes",D14:D39))+(SUMIF(F14:F39,"N/A",D14:D39))+(SUM(H6:H13)) -> 97
B41: Comments:

Sheet Declaration
B2: DECLARATION PAGE | D2: ='District Info & Score Summary'!C5 -> Somerset County Vocational and Technical School 35-4810-070
B3: School Year: | C3: ='District Info & Score Summary'!C3 -> 2024-2025
B4: Type or print the name of the individuals in the district who were members of the NJQSAC Committee and who assisted in the completion of this District Performance Review. (Use additional page if needed.)
B5: POSITION | C5: NAME | D5: SIGNATURE
B6: Chief School Administrator: | C6: Robert Presuto
B7: District Administrative Staff: | C7: Carene Jegou
B8: Teacher: | C8: Johanna Scholl
B9: School Business Administrator: | C9: Raelene Sipple
B10: Curriculum and Instruction Representative: | C10: Patrick Pelliccia
B11: Local Collective Bargaining Representative: | C11: Andrew Coslit
B12: District Board of Education Member: | C12: Gregory Lalevee
B13: Director of Special Services: | C13: Maria Johnson
B14: By signing below, the Chief School Administrator and Board President are affirming the accuracy of this document.
B15: Chief School Administrator: | C15: Robert Presuto
B16: Board of Education President: | C16: Gregory Lalevee
B17: Board Resolution Date:

Sheet DIP ONLY USE IF DIRECTED BY DOE
C1: ONLY FILL OUT THIS WORKSHEET IF DIRECTED BY NJDOE
B2: NJQSAC District Improvement Plan (DIP) | D2: Submission Date:
B3: District: | C3: ='District Info & Score Summary'!C5 -> Somerset County Vocational and Technical School 35-4810-070
B4: Submitted by (name and title):
B5: Board Resolution Date:
B6: Step 1: DPR area and Indicator | C6: Step 2: Goal | D6: Step 3: Strategy(ies) | E6: Step 4: Person/Position Responsible | F6: Step 5: Timeline | G6: Step 6: Evidence of Completion
