Workbook

Sheet Instructions
A1: Capital Projects Plan Template and Notices for Budget Year 2019 Pursuant to IC 20-40-18-6 and IC 20-40-18-7 and in conjunction with the implementation of HEA 1009-2017 and HEA 1167-2018, the Department of Local Government Finance (“DLGF”) releases the memorandum below to clarify the new procedures associated with adopting or amending a capital projects expenditure plan, emergency changes to a capital project expenditure plan, and limitations on expenditures related to capital projects. This workbook is designed as a supplement to the 2018 DLGF memo labeled "Capital Projects Plan Template and Notices for Budget Year 2019." If a school corporation wants to use money in the operations fund for expenditures related to capital asset acquisition or expenditures that are capital in nature, the governing body must adopt a resolution approving the plan or amended plan and the school then submit the adopted resolution to the Department in the manner prescribed by the Department. Pursuant to HEA 1167-2018, all plans must include a listing of capital asset acquisitons. As such all school corporations must complete the Capital Acquistion and Projects Capital in Nature tabs as part of any plan adopted in 2018. Separately, a school corporation may use any combination of the following tabs from this template to develop the rest of their Plan including the Capital Project Plan Overview, Site 1 - Site 5, and Site Summary tabs. If you have any questions on the attached notices or Plan template, please contact your county Budget Field Representative (http://www.in.gov/dlgf/files/Field_Rep_Map_-_Budget.pdf).

Sheet Notice to Tax Payers
A1: NOTICE TO TAXPAYERS
A3: Notice is hereby given to taxpayers of Huntington County Community School Corporation that the proper officers of Huntington County Community School Corporation will conduct a public hearing on the year 2020 proposed Capital Projects Plan and Bus Replacement Plan pursuant to IC 20-40-18-6. Following the public hearing, the proper officers of Huntington County Community School Corporation may adopt the proposed plans as presented or with revisions.
A5: Complete details of the Capital Projects Plan and Bus Replacement Plan may be seen by visiting the office of this unit of government at the following address: www.hccsc.k12.in.us.
B7: Public Hearing Date: | D7: 44087
B8: Public Hearing Time: | D8: 7:00 p.m.
B9: Public Hearing Place: | D9: Salamonie El. School; 1063 E 900 S; Warren, IN
A11: Taxpayers are invited to attend the meeting for a detailed explanation of the plan and to exercise their rights to be heard on the proposed plan. If the proposed plan is adopted by resolution, such plan will be submitted to the Department of Local Government Finance as per IC 20-40-18-6.

Sheet Capital Acquistion
B2: Pursuant to IC 20-40-18-6, the Huntington County Community School Corporation plan contains a listing of all proposed capital expenditures that exceed $10,000.
B5: Asset Description* | H5: Acquisition Amount
A6: 1
A7: 2
A8: =+A7+1 -> 3
A9: =+A8+1 -> 4
A10: =+A9+1 -> 5
A11: =+A10+1 -> 6
A12: =+A11+1 -> 7
A13: =+A12+1 -> 8
A14: =+A13+1 -> 9
A15: =+A14+1 -> 10
A16: =+A15+1 -> 11
A17: =+A16+1 -> 12
A18: =+A17+1 -> 13
A19: =+A18+1 -> 14
... A55: =+A54+1 -> 50
B56: Note: The description may include a physical description of the asset and/or any applicable make, model, manufacturer, or VIN Number if applicable.

Sheet Projects Capital in Nature
B2: Pursant to IC 20-40-18-6, the Huntington County Community School Corporation plan contains a listing of all proposed projects that are capital in nature that exceed $10,000.
B5: Project Description* | E5: Estimated Start Date | F5: Estimated End Date | G5: Estimated Project Cost
A6: 1
A7: 2
A8: =+A7+1 -> 3
A9: =+A8+1 -> 4
A10: =+A9+1 -> 5
A11: =+A10+1 -> 6
A12: =+A11+1 -> 7
A13: =+A12+1 -> 8
A14: =+A13+1 -> 9
A15: =+A14+1 -> 10
A16: =+A15+1 -> 11
A17: =+A16+1 -> 12
A18: =+A17+1 -> 13
A19: =+A18+1 -> 14
... A30: =+A29+1 -> 25
B31: Note: Project Description may include a description of the project including physical location, scope of work, and/or internal project name or tracking number.

Sheet Capital Project Plan Overview
A1: School Name | B1: Huntington County Community School Corporation | H1: County Name | J1: Huntington | M1: Rev. 03/18
A3: School No. | B3: 3625
A6: 2020 Capital Projects Plan
A8: The form below may be used as part of your 2020 capital project plan.
A10: General Information:
A12: Total Land Area: | G12: Location:
A14: Composition of Governing Body:
A18: Number of Employees:
A19: Certified: | B19: 365 | E19: Non-Certified: | G19: 347
A22: Enrollment and Assessed Valuation Information:
A23: School Year | B23: Student Enrollment | E23: Assessed Valuation | G23: School Year | I23: Estimated Student Enrollment | K23: Estimated Assessed Valuation
A24: 2014 - 2015 | B24: 5365 | E24: 1408100993 | G24: 2019 - 2020 | I24: 4953 | K24: =+ROUND(1.015*E28,-2) -> 1524893200
A25: 2015 - 2016 | B25: 5300 | E25: 1417342046 | G25: 2020 - 2021 | I25: 4918 | K25: =+ROUND(1.015*K24,-2) -> 1547766600
A26: 2016 - 2017 | B26: 5175 | E26: 1439632973 | G26: 2021 - 2022 | I26: 4869 | K26: =+ROUND(1.01*K25,-2) -> 1563244300
A27: 2017 - 2018 | B27: 5099 | E27: 1461161702 | G27: 2022 - 2023 | I27: 4840 | K27: =+ROUND(1.01*K26,-2) -> 1578876700
A28: 2018 - 2019 | B28: 5011 | E28: 1502357865 | G28: 2023 - 2024 | I28: 4795 | K28: =+ROUND(1.01*K27,-2) -> 1594665500
A30: Comments Concerning Enrollment or Assessed Valuation Trends (optional):
A35: Tax Rate Information:
A36: Payable Year | C36: 2013 | E36: 2014 | F36: 2015 | G36: 2016 | I36: 2017 | K36: 2018 | M36: 2019
A37: Debt Fund | C37: 0.3133 | E37: 0.304 | F37: 0.3479 | G37: 0.3289 | I37: 0.2561 | K37: 0.3423 | M37: 0.4114
A38: Debt Fund - Exempt *
A39: Pension Debt | C39: 0.0499 | E39: 0.0483 | F39: 0.0028
A40: Pension Debt- Exempt *
A41: Capital Projects Fund | C41: 0.2889 | E41: 0.2569 | F41: 0.2588 | G41: 0.2625 | I41: 0.2766 | K41: 0.252 | M41: 0.5953
A42: Transportation | C42: 0.2395 | E42: 0.2372 | F42: 0.224 | G42: 0.2445 | I42: 0.2503 | K42: 0.2531
A43: Bus Replacement | C43: 0.01 | E43: 0.0295 | F43: 0.0417 | G43: 0.0422 | I43: 0.0431 | K43: 0.0436
A44: Referendum Operating
A45: Referendum Capital Debt
A46: Other (please specify)**
A47: Total Rate | C47: =SUM(C37:D46) -> 0.9016 | E47: =SUM(E37:E46) -> 0.8759 | F47: =SUM(F37:F46) -> 0.8752 | G47: =SUM(G37:H46) -> 0.8781 | I47: =SUM(I37:J46) -> 0.8261 | K47: =SUM(K37:L46) -> 0.891 | M47: =SUM(M37:N46) -> 1.0067
A48: * Exempt Debt and Exempt Pension Debt is for Lake and St. Joseph Counties only.
A49: ** Add as needed.
A51: Comments Concerning Tax Rates (optional):
A56: Present Facilities:
A58: Facility Name and Location (Include Address) | F58: Grades Housed | H58: Year of Const. | J58: Enrollment | L58: Building Value
A81: TOTAL BUILDING VALUE | F81: XXXX | H81: XXXX | J81: XXXX | L81: =SUM(L59:M80) -> 0
A92: Land for Future Development:
A94: Land Description and Location | K94: Acreage | L94: Land Value
A101: TOTAL LAND VALUE | K101: XXXX | L101: =SUM(L95:M100) -> 0
A106: Anticipated Receipts and Disbursements for CY 2018:
...

Sheet Andrews
A1: School Name | B1: Andrews Elementary School | I1: County Name | K1: Huntington | M1: =+'Capital Project Plan Overview'!M1 -> Rev. 03/18
A3: School No. | B3: 3021
A5: Plan Detail:
A7: Site: | B7: Andrews Elementary School, 509 E Jefferson St. Andrews, IN 46720
B9: Grades Housed (or other use) | E9: K - 5 | H9: Date of Occupancy | K9: 2004
B10: Current Value | E10: 10506000 | H10: Acreage | K10: 12.1
B11: Number of Classrooms | E11: 17 | H11: Student Capacity | K11: 412
B12: Square Footage | E12: 75247 | H12: Current Capacity | K12: 412
A14: Enrollment History:
B15: 2017 - 2018 | C15: 377 | F15: 2015 - 2016 | G15: 390 | K15: 2013 - 2014 | M15: 365
B16: 2016 - 2017 | C16: 378 | F16: 2014 - 2015 | G16: 376
A18: Detailed Evaluation of Building Conditions:
A22: Three-Year Plan for This Site: | I22: 2022 | K22: 2023 | M22: 2024
A23: Land Acquisition and Development
A24: Professional Services
A25: Education Specifications Development
A26: Building Acquisition, Construction and Improvement (Includes 45200 & 45300) | I26: 12000 | K26: 12000 | M26: 12000
A27: Rental of Buildings, Facilities and Equipment
A28: Purchase of Mobile or Fixed Equipment | I28: 11000 | K28: 11000 | M28: 11000
A29: Emergency Allocations (Other Facilities Acquisition and Construction)
A30: Utilities (Maintenance of Buildings) | I30: 67000 | K30: 67000 | M30: 67000
A31: Maintenance of Equipment | I31: 30000 | K31: 30000 | M31: 30000
A32: Sports Facility
A33: Property and Casualty Insurance
A34: Other Operation and Maintenance of Plant
A35: Technology
B36: Instruction - Related Technology
B37: Administrative Technology Services
A38: SUBTOTAL EXPENDITURES | I38: =SUM(I23:I37) -> 120000 | K38: =SUM(K23:K37) -> 120000 | M38: =SUM(M23:M37) -> 120000
A39: Allocation for Future Projects
A40: Transfer From One Fund to Another
A41: TOTAL EXPENDITURES, ALLOCATIONS AND TRANSFERS | I41: =SUM(I38:I40) -> 120000 | K41: =SUM(K38:K40) -> 120000 | M41: =SUM(M38:M40) -> 120000
A43: Additional Comments Regarding This Site (include purpose of future allocation appropriation):

Sheet Flint Springs
A1: School Name | B1: Flint Springs Elementary | I1: County Name | K1: Huntington | M1: =+'Capital Project Plan Overview'!M1 -> Rev. 03/18
A3: School No. | B3: 3077
A5: Plan Detail:
A7: Site: | B7: Flint Springs Elementary School, 1360 E Tipton St. Huntington, IN 46750
B9: Grades Housed (or other use) | E9: K - 5 | H9: Date of Occupancy | K9: 2004
B10: Current Value | E10: 11674275 | H10: Acreage | K10: 40
B11: Number of Classrooms | E11: 23 | H11: Student Capacity | K11: 560
B12: Square Footage | E12: 84258 | H12: Current Capacity | K12: 560
A14: Enrollment History:
B15: 2017 - 2018 | C15: 438 | F15: 2015 - 2016 | G15: 409 | K15: 2013 - 2014 | M15: 431
B16: 2016 - 2017 | C16: 391 | F16: 2014 - 2015 | G16: 454
A18: Detailed Evaluation of Building Conditions:
A22: Three-Year Plan for This Site: | I22: 2022 | K22: 2023 | M22: 2024
A23: Land Acquisition and Development
A24: Professional Services
A25: Education Specifications Development
A26: Building Acquisition, Construction and Improvement (Includes 45200 & 45300) | I26: 12000 | K26: 12000 | M26: 12000
A27: Rental of Buildings, Facilities and Equipment
A28: Purchase of Mobile or Fixed Equipment | I28: 11000 | K28: 11000 | M28: 11000
A29: Emergency Allocations (Other Facilities Acquisition and Construction)
A30: Utilities (Maintenance of Buildings) | I30: 70000 | K30: 70000 | M30: 70000
A31: Maintenance of Equipment | I31: 32000 | K31: 32000 | M31: 32000
A32: Sports Facility
A33: Property and Casualty Insurance
A34: Other Operation and Maintenance of Plant
A35: Technology
B36: Instruction - Related Technology
B37: Administrative Technology Services
A38: SUBTOTAL EXPENDITURES | I38: =SUM(I23:I37) -> 125000 | K38: =SUM(K23:K37) -> 125000 | M38: =SUM(M23:M37) -> 125000
A39: Allocation for Future Projects
A40: Transfer From One Fund to Another
A41: TOTAL EXPENDITURES, ALLOCATIONS AND TRANSFERS | I41: =SUM(I38:I40) -> 125000 | K41: =SUM(K38:K40) -> 125000 | M41: =SUM(M38:M40) -> 125000
A43: Additional Comments Regarding This Site (include purpose of future allocation appropriation):

Sheet Horace Mann
A1: School Name | B1: Horace Mann Elementary School | I1: County Name | K1: Huntington | M1: =+'Capital Project Plan Overview'!M1 -> Rev. 03/18
A3: School No. | B3: 3086
A5: Plan Detail:
A7: Site: | B7: Horace Mann Elementary School, 2485 Waterworks Rd. Hutnington, IN 46750
B9: Grades Housed (or other use) | E9: K - 8 | H9: Date of Occupancy | K9: 1989
B10: Current Value | E10: 7348716 | H10: Acreage | K10: 10
B11: Number of Classrooms | E11: 23 | H11: Student Capacity | K11: 490
B12: Square Footage | E12: 64166 | H12: Current Capacity | K12: 490
A14: Enrollment History:
B15: 2017 - 2018 | C15: 0 | F15: 2015 - 2016 | G15: 0 | K15: 2013 - 2014 | M15: 0
B16: 2016 - 2017 | C16: 0 | F16: 2014 - 2015 | G16: 0
A18: Detailed Evaluation of Building Conditions:
A22: Three-Year Plan for This Site: | I22: 2022 | K22: 2023 | M22: 2024
A23: Land Acquisition and Development
A24: Professional Services
A25: Education Specifications Development
A26: Building Acquisition, Construction and Improvement (Includes 45200 & 45300) | I26: 12000 | K26: 12000 | M26: 12000
A27: Rental of Buildings, Facilities and Equipment
A28: Purchase of Mobile or Fixed Equipment | I28: 11000 | K28: 11000 | M28: 11000
A29: Emergency Allocations (Other Facilities Acquisition and Construction)
A30: Utilities (Maintenance of Buildings) | I30: 60000 | K30: 60000 | M30: 60000
A31: Maintenance of Equipment | I31: 35000 | K31: 35000 | M31: 35000
A32: Sports Facility
A33: Property and Casualty Insurance
A34: Other Operation and Maintenance of Plant
A35: Technology
B36: Instruction - Related Technology
B37: Administrative Technology Services
A38: SUBTOTAL EXPENDITURES | I38: =SUM(I23:I37) -> 118000 | K38: =SUM(K23:K37) -> 118000 | M38: =SUM(M23:M37) -> 118000
A39: Allocation for Future Projects
A40: Transfer From One Fund to Another
A41: TOTAL EXPENDITURES, ALLOCATIONS AND TRANSFERS | I41: =SUM(I38:I40) -> 118000 | K41: =SUM(K38:K40) -> 118000 | M41: =SUM(M38:M40) -> 118000
A43: Additional Comments Regarding This Site (include purpose of future allocation appropriation):

Sheet Lincoln
A1: School Name | B1: Lincoln Elementary School | I1: County Name | K1: Huntington | M1: =+'Capital Project Plan Overview'!M1 -> Rev. 03/18
A3: School No. | B3: 3081
A5: Plan Detail:
A7: Site: | B7: Lincoln Elementary School, 2037 E Taylor St. Huntington, IN 46750
B9: Grades Housed (or other use) | E9: K - 5 | H9: Date of Occupancy | K9: 2004
B10: Current Value | E10: 11674275 | H10: Acreage | K10: 42
B11: Number of Classrooms | E11: 23 | H11: Student Capacity | K11: 560
B12: Square Footage | E12: 84258 | H12: Current Capacity | K12: 560
A14: Enrollment History:
B15: 2017 - 2018 | C15: 422 | F15: 2015 - 2016 | G15: 441 | K15: 2013 - 2014 | M15: 439
B16: 2016 - 2017 | C16: 417 | F16: 2014 - 2015 | G16: 416
A18: Detailed Evaluation of Building Conditions:
A22: Three-Year Plan for This Site: | I22: 2022 | K22: 2023 | M22: 2024
A23: Land Acquisition and Development
A24: Professional Services
A25: Education Specifications Development
A26: Building Acquisition, Construction and Improvement (Includes 45200 & 45300) | I26: 11000 | K26: 11000 | M26: 11000
A27: Rental of Buildings, Facilities and Equipment
A28: Purchase of Mobile or Fixed Equipment | I28: 11000 | K28: 11000 | M28: 11000
A29: Emergency Allocations (Other Facilities Acquisition and Construction)
A30: Utilities (Maintenance of Buildings) | I30: 76000 | K30: 76000 | M30: 76000
A31: Maintenance of Equipment | I31: 31000 | K31: 31000 | M31: 31000
A32: Sports Facility
A33: Property and Casualty Insurance
A34: Other Operation and Maintenance of Plant
A35: Technology
B36: Instruction - Related Technology
B37: Administrative Technology Services
A38: SUBTOTAL EXPENDITURES | I38: =SUM(I23:I37) -> 129000 | K38: =SUM(K23:K37) -> 129000 | M38: =SUM(M23:M37) -> 129000
A39: Allocation for Future Projects
A40: Transfer From One Fund to Another
A41: TOTAL EXPENDITURES, ALLOCATIONS AND TRANSFERS | I41: =SUM(I38:I40) -> 129000 | K41: =SUM(K38:K40) -> 129000 | M41: =SUM(M38:M40) -> 129000
A43: Additional Comments Regarding This Site (include purpose of future allocation appropriation):

Sheet Roanoke
A1: School | B1: Roanoke Elementary School | I1: County Name | K1: Huntington | M1: =+'Capital Project Plan Overview'!M1 -> Rev. 03/18
A3: School No. | B3: 3029
A5: Plan Detail:
A7: Site: | B7: Roanoke Elementary School, 423 W Vine St. Roanoke, IN 46702
B9: Grades Housed (or other use) | E9: K - 5 | H9: Date of Occupancy | K9: 2020
B10: Current Value | E10: 5589503 | H10: Acreage | K10: 10
B11: Number of Classrooms | E11: 17 | H11: Student Capacity | K11: 396
B12: Square Footage | E12: 48318 | H12: Current Capacity | K12: 396
A14: Enrollment History:
B15: 2017 - 2018 | C15: 359 | F15: 2015 - 2016 | G15: 341 | K15: 2013 - 2014 | M15: 307
B16: 2016 - 2017 | C16: 350 | F16: 2014 - 2015 | G16: 346
A18: Detailed Evaluation of Building Conditions:
A22: Three-Year Plan for This Site: | I22: 2022 | K22: 2023 | M22: 2024
A23: Land Acquisition and Development
A24: Professional Services
A25: Education Specifications Development
A26: Building Acquisition, Construction and Improvement (Includes 45200 & 45300) | I26: 12000 | K26: 12000 | M26: 12000
A27: Rental of Buildings, Facilities and Equipment
A28: Purchase of Mobile or Fixed Equipment | I28: 12000 | K28: 12000 | M28: 12000
A29: Emergency Allocations (Other Facilities Acquisition and Construction)
A30: Utilities (Maintenance of Buildings) | I30: 43000 | K30: 43000 | M30: 43000
A31: Maintenance of Equipment | I31: 30000 | K31: 30000 | M31: 30000
A32: Sports Facility
A33: Property and Casualty Insurance
A34: Other Operation and Maintenance of Plant
A35: Technology
B36: Instruction - Related Technology
B37: Administrative Technology Services
A38: SUBTOTAL EXPENDITURES | I38: =SUM(I23:I37) -> 97000 | K38: =SUM(K23:K37) -> 97000 | M38: =SUM(M23:M37) -> 97000
A39: Allocation for Future Projects
A40: Transfer From One Fund to Another
A41: TOTAL EXPENDITURES, ALLOCATIONS AND TRANSFERS | I41: =SUM(I38:I40) -> 97000 | K41: =SUM(K38:K40) -> 97000 | M41: =SUM(M38:M40) -> 97000
A43: Additional Comments Regarding This Site (include purpose of future allocation appropriation):

Sheet Salamonie
A1: School Name | B1: Salamonie Elementary School | I1: County Name | K1: Huntington | M1: =+'Capital Project Plan Overview'!M1 -> Rev. 03/18
A3: School No. | B3: 3035
A5: Plan Detail:
A7: Site: | B7: Salamonie Elementary School, 1063 E 900 S. Warren, IN 46792
B9: Grades Housed (or other use) | E9: K - 5 | H9: Date of Occupancy | K9: 1969
B10: Current Value | E10: 18187084 | H10: Acreage | K10: 81.5
B11: Number of Classrooms | E11: 37 | H11: Student Capacity | K11: 533
B12: Square Footage | E12: 94771 | H12: Current Capacity | K12: 533
A14: Enrollment History:
B15: 2017 - 2018 | C15: 211 | F15: 2015 - 2016 | G15: 191 | K15: 2013 - 2014 | M15: 207
B16: 2016 - 2017 | C16: 194 | F16: 2014 - 2015 | G16: 206
A18: Detailed Evaluation of Building Conditions:
A22: Three-Year Plan for This Site: | I22: 2022 | K22: 2023 | M22: 2024
A23: Land Acquisition and Development
A24: Professional Services
A25: Education Specifications Development
A26: Building Acquisition, Construction and Improvement (Includes 45200 & 45300) | I26: 20000 | K26: 20000 | M26: 20000
A27: Rental of Buildings, Facilities and Equipment
A28: Purchase of Mobile or Fixed Equipment | I28: 11000 | K28: 11000 | M28: 11000
A29: Emergency Allocations (Other Facilities Acquisition and Construction)
A30: Utilities (Maintenance of Buildings) | I30: 89000 | K30: 89000 | M30: 89000
A31: Maintenance of Equipment | I31: 33000 | K31: 33000 | M31: 33000
A32: Sports Facility
A33: Property and Casualty Insurance
A34: Other Operation and Maintenance of Plant
A35: Technology
B36: Instruction - Related Technology
B37: Administrative Technology Services
A38: SUBTOTAL EXPENDITURES | I38: =SUM(I23:I37) -> 153000 | K38: =SUM(K23:K37) -> 153000 | M38: =SUM(M23:M37) -> 153000
A39: Allocation for Future Projects
A40: Transfer From One Fund to Another
A41: TOTAL EXPENDITURES, ALLOCATIONS AND TRANSFERS | I41: =SUM(I38:I40) -> 153000 | K41: =SUM(K38:K40) -> 153000 | M41: =SUM(M38:M40) -> 153000
A43: Additional Comments Regarding This Site (include purpose of future allocation appropriation):

Sheet Crestview MS
A1: School Name | B1: Crestview Middle School | I1: County Name | K1: Huntington | M1: =+'Capital Project Plan Overview'!M1 -> Rev. 03/18
A3: School No. | B3: 3061
A5: Plan Detail:
A7: Site: | B7: Crestview Middle School, 1151 W 500 N Huntington, IN 46750
B9: Grades Housed (or other use) | E9: 6 - 8 | H9: Date of Occupancy | K9: 1998
B10: Current Value | E10: 24086141 | H10: Acreage | K10: 38
B11: Number of Classrooms | E11: 46 | H11: Student Capacity | K11: 750
B12: Square Footage | E12: 160623 | H12: Current Capacity | K12: 750
A14: Enrollment History:
B15: 2017 - 2018 | C15: 561 | F15: 2015 - 2016 | G15: 567 | K15: 2013 - 2014 | M15: 567
B16: 2016 - 2017 | C16: 575 | F16: 2014 - 2015 | G16: 568
A18: Detailed Evaluation of Building Conditions:
A22: Three-Year Plan for This Site: | I22: 2022 | K22: 2023 | M22: 2024
A23: Land Acquisition and Development
A24: Professional Services
A25: Education Specifications Development
A26: Building Acquisition, Construction and Improvement (Includes 45200 & 45300) | I26: 52000 | K26: 52000 | M26: 52000
A27: Rental of Buildings, Facilities and Equipment
A28: Purchase of Mobile or Fixed Equipment | I28: 18000 | K28: 18000 | M28: 18000
A29: Emergency Allocations (Other Facilities Acquisition and Construction)
A30: Utilities (Maintenance of Buildings) | I30: 90000 | K30: 95000 | M30: 95000
A31: Maintenance of Equipment | I31: 45000 | K31: 45000 | M31: 45000
A32: Sports Facility
A33: Property and Casualty Insurance
A34: Other Operation and Maintenance of Plant
A35: Technology
B36: Instruction - Related Technology
B37: Administrative Technology Services
A38: SUBTOTAL EXPENDITURES | I38: =SUM(I23:I37) -> 205000 | K38: =SUM(K23:K37) -> 210000 | M38: =SUM(M23:M37) -> 210000
A39: Allocation for Future Projects
A40: Transfer From One Fund to Another
A41: TOTAL EXPENDITURES, ALLOCATIONS AND TRANSFERS | I41: =SUM(I38:I40) -> 205000 | K41: =SUM(K38:K40) -> 210000 | M41: =SUM(M38:M40) -> 210000
A43: Additional Comments Regarding This Site (include purpose of future allocation appropriation):

Sheet Riverview MS
A1: School Name | B1: Riverview Middle School | I1: County Name | K1: Huntington | M1: =+'Capital Project Plan Overview'!M1 -> Rev. 03/18
A3: School No. | B3: 3025
A5: Plan Detail:
A7: Site: | B7: Riverview Middle School, 2465 Waterworks Rd. Huntington, IN 46750
B9: Grades Housed (or other use) | E9: 6 - 8 | H9: Date of Occupancy | K9: 1980
B10: Current Value | E10: 21414381 | H10: Acreage | K10: 57
B11: Number of Classrooms | E11: 29 | H11: Student Capacity | K11: 624
B12: Square Footage | E12: 112992 | H12: Current Capacity | K12: 624
A14: Enrollment History:
B15: 2017 - 2018 | C15: 646 | F15: 2015 - 2016 | G15: 639 | K15: 2013 - 2014 | M15: 675
B16: 2016 - 2017 | C16: 638 | F16: 2014 - 2015 | G16: 659
A18: Detailed Evaluation of Building Conditions:
A22: Three-Year Plan for This Site: | I22: 2022 | K22: 2023 | M22: 2024
A23: Land Acquisition and Development
A24: Professional Services
A25: Education Specifications Development
A26: Building Acquisition, Construction and Improvement (Includes 45200 & 45300) | I26: 52000 | K26: 52000 | M26: 52000
A27: Rental of Buildings, Facilities and Equipment
A28: Purchase of Mobile or Fixed Equipment | I28: 18000 | K28: 18000 | M28: 18000
A29: Emergency Allocations (Other Facilities Acquisition and Construction)
A30: Utilities (Maintenance of Buildings) | I30: 80000 | K30: 80000 | M30: 80000
A31: Maintenance of Equipment | I31: 40000 | K31: 40000 | M31: 40000
A32: Sports Facility
A33: Property and Casualty Insurance
A34: Other Operation and Maintenance of Plant
A35: Technology
B36: Instruction - Related Technology
B37: Administrative Technology Services
A38: SUBTOTAL EXPENDITURES | I38: =SUM(I23:I37) -> 190000 | K38: =SUM(K23:K37) -> 190000 | M38: =SUM(M23:M37) -> 190000
A39: Allocation for Future Projects
A40: Transfer From One Fund to Another
A41: TOTAL EXPENDITURES, ALLOCATIONS AND TRANSFERS | I41: =SUM(I38:I40) -> 190000 | K41: =SUM(K38:K40) -> 190000 | M41: =SUM(M38:M40) -> 190000
A43: Additional Comments Regarding This Site (include purpose of future allocation appropriation):

Sheet HNHS
A1: School Name | B1: Huntington North High School | I1: County Name | K1: Huntington | M1: =+'Capital Project Plan Overview'!M1 -> Rev. 03/18
A3: School No. | B3: 3065
A5: Plan Detail:
A7: Site: | B7: Huntington North High School, 450 Mac Gahan St. Huntington, IN 46750
B9: Grades Housed (or other use) | E9: 9 - 12 | H9: Date of Occupancy | K9: 1969
B10: Current Value | E10: 647889362 | H10: Acreage | K10: 76
B11: Number of Classrooms | E11: 101 | H11: Student Capacity | K11: 2000
B12: Square Footage | E12: 393000 | H12: Current Capacity | K12: 2000
A14: Enrollment History:
B15: 2017 - 2018 | C15: 1469 | F15: 2015 - 2016 | G15: 1581 | K15: 2013 - 2014 | M15: 1691
B16: 2016 - 2017 | C16: 1565 | F16: 2014 - 2015 | G16: 1643
A18: Detailed Evaluation of Building Conditions:
A22: Three-Year Plan for This Site: | I22: 2022 | K22: 2023 | M22: 2024
A23: Land Acquisition and Development
A24: Professional Services
A25: Education Specifications Development
A26: Building Acquisition, Construction and Improvement (Includes 45200 & 45300) | I26: 90000 | K26: 90000 | M26: 90000
A27: Rental of Buildings, Facilities and Equipment | I27: =2200*12 -> 26400
A28: Purchase of Mobile or Fixed Equipment | I28: 40000 | K28: 40000 | M28: 40000
A29: Emergency Allocations (Other Facilities Acquisition and Construction)
A30: Utilities (Maintenance of Buildings) | I30: 300000 | K30: 320000 | M30: 320000
A31: Maintenance of Equipment | I31: 185000 | K31: 185000 | M31: 185000
A32: Sports Facility | I32: 85000 | K32: 85000 | M32: 85000
A33: Property and Casualty Insurance
A34: Other Operation and Maintenance of Plant
A35: Technology
B36: Instruction - Related Technology
B37: Administrative Technology Services
A38: SUBTOTAL EXPENDITURES | I38: =SUM(I23:I37) -> 726400 | K38: =SUM(K23:K37) -> 720000 | M38: =SUM(M23:M37) -> 720000
A39: Allocation for Future Projects
A40: Transfer From One Fund to Another
A41: TOTAL EXPENDITURES, ALLOCATIONS AND TRANSFERS | I41: =SUM(I38:I40) -> 726400 | K41: =SUM(K38:K40) -> 720000 | M41: =SUM(M38:M40) -> 720000
A43: Additional Comments Regarding This Site (include purpose of future allocation appropriation):

Sheet VocED
A1: School Name | B1: Vocational Education | I1: County Name | K1: Huntington | M1: =+'Capital Project Plan Overview'!M1 -> Rev. 03/18
A3: School No. | B3: 3065
A5: Plan Detail:
A7: Site: | B7: Vocational Education Building, 2201 N Jefferson St. Huntington, IN 46750
B9: Grades Housed (or other use) | E9: 9 - 12 | H9: Date of Occupancy | K9: 1970
B10: Current Value | E10: 3082839 | H10: Acreage | K10: 8
B11: Number of Classrooms | H11: Student Capacity
B12: Square Footage | H12: Current Capacity
A14: Enrollment History:
B15: 2017 - 2018 | F15: 2015 - 2016 | K15: 2013 - 2014
B16: 2016 - 2017 | F16: 2014 - 2015
A18: Detailed Evaluation of Building Conditions:
A22: Three-Year Plan for This Site: | I22: 2022 | K22: 2023 | M22: 2024
A23: Land Acquisition and Development
A24: Professional Services
A25: Education Specifications Development | I25: 0 | K25: 0 | M25: 0
A26: Building Acquisition, Construction and Improvement (Includes 45200 & 45300)
A27: Rental of Buildings, Facilities and Equipment
A28: Purchase of Mobile or Fixed Equipment
A29: Emergency Allocations (Other Facilities Acquisition and Construction)
A30: Utilities (Maintenance of Buildings) | I30: 25000 | K30: 25000 | M30: 25000
A31: Maintenance of Equipment | I31: 13000 | K31: 13000 | M31: 13000
A32: Sports Facility
A33: Property and Casualty Insurance
A34: Other Operation and Maintenance of Plant
A35: Technology
B36: Instruction - Related Technology
B37: Administrative Technology Services
A38: SUBTOTAL EXPENDITURES | I38: =SUM(I23:I37) -> 38000 | K38: =SUM(K23:K37) -> 38000 | M38: =SUM(M23:M37) -> 38000
A39: Allocation for Future Projects
A40: Transfer From One Fund to Another
A41: TOTAL EXPENDITURES, ALLOCATIONS AND TRANSFERS | I41: =SUM(I38:I40) -> 38000 | K41: =SUM(K38:K40) -> 38000 | M41: =SUM(M38:M40) -> 38000
A43: Additional Comments Regarding This Site (include purpose of future allocation appropriation):

Sheet Adm
A1: School Name | B1: Huntington County Community School Corp. Admin. Office | I1: County Name | K1: Huntington | M1: =+'Capital Project Plan Overview'!M1 -> Rev. 03/18
A3: School No. | B3: 3625
A5: Plan Detail:
A7: Site: | B7: Administration Officea at 1063 E 900 S. Warren, IN 46792
B9: Grades Housed (or other use) | H9: Date of Occupancy
B10: Current Value | H10: Acreage
B11: Number of Classrooms | H11: Student Capacity
B12: Square Footage | H12: Current Capacity
A14: Enrollment History:
B15: 2021-2022 | F15: 2019-2020 | K15: 2017-2018
B16: 2020-2021 | F16: 2018-2019
A18: Detailed Evaluation of Building Conditions:
A19: The Administration Offices of Huntington County Community School Corporation are housed within the Salamonie Elementary School in Warren, Indiana. Several unused classrooms have been converted into various administrative offices.
A22: Three-Year Plan for This Site: | I22: 2023 | K22: 2024 | M22: 2025
A23: Land Acquisition and Development | I23: 0 | K23: 0
A24: Professional Services | I24: 283000 | K24: 285000 | M24: 285000
A25: Education Specifications Development | I25: 0 | K25: 0 | M25: 0
A26: Building Acquisition, Construction and Improvement (Includes 45200 & 45300) | I26: 0 | K26: 50000 | M26: 50000
A27: Rental of Buildings, Facilities and Equipment | I27: 328000 | K27: 330000 | M27: 330000
A28: Purchase of Mobile or Fixed Equipment | I28: 277999 | K28: 300000 | M28: 320000
A29: Emergency Allocations (Other Facilities Acquisition and Construction) | I29: 295881 | K29: 310000 | M29: 310000
A30: Utilities (Maintenance of Buildings) | I30: 11200 | K30: 11500 | M30: 11500
A31: Maintenance of Equipment | I31: 100000 | K31: 120000 | M31: 125000
A32: Sports Facility | I32: 100000 | K32: 100000 | M32: 100000
A33: Property and Casualty Insurance | I33: 250000 | K33: 260000 | M33: 270000
A34: Other Operation and Maintenance of Plant
A35: Technology
B36: Instruction - Related Technology | I36: 1935350 | K36: 1950000 | M36: 1960000
B37: Administrative Technology Services
A38: SUBTOTAL EXPENDITURES | I38: =SUM(I23:I37) -> 3581430 | K38: =SUM(K23:K37) -> 3716500 | M38: =SUM(M23:M37) -> 3761500
A39: Allocation for Future Projects
A40: Transfer From One Fund to Another
A41: TOTAL EXPENDITURES, ALLOCATIONS AND TRANSFERS | I41: =SUM(I38:I40) -> 3581430 | K41: =SUM(K38:K40) -> 3716500 | M41: =SUM(M38:M40) -> 3761500
A43: Additional Comments Regarding This Site (include purpose of future allocation appropriation):

Sheet Sheet1
