Workbook

Sheet Initial
A1: STATE TEACHERS' RETIREMENT SYSTEM | I1: COUNTY | J1: SAN DIEGO | K1: INITIAL | N1: X
A2: CONTRIBUTION REMITTANCE REPORT (C-118) | I2: CODE | J2: 37 | K2: ESTIMATE
G3: (UNIT #) | I3: MONTH | K3: FINAL
F4: (UNIT FULL NAME) | I4: F.Y. | J4: 2025-2026 | K4: SUPPLEMENTAL
A6: EMPLOYEE CONTRIBUTIONS | E6: Creditable | I6: Variance | L6: Estimate
E7: Earnings | G7: Contributions | I7: ( - or + ) | L7: Remittance
A8: POST-TAX MBR CONTRIBUTIONS
A9: CLASSIC - CURRENT FY 2025-2026 | E9: 0 | F9: 0.1025 | G9: =E9*F9 -> 0
A10: PEPRA - CURRENT FY 2025-2026 | F10: 0.10205 | G10: =E10*F10 -> 0
A11: Other - EMPLOYEE CONTRIBUTIONS - PRIOR FY
A12: RECEIVABLE CONTRIBUTION CD 4
A13: Total Member Contributions | L13: =SUM(L8:N12) -> 0
A14: EMPLOYER CONTRIBUTIONS
A15: =A9 -> CLASSIC - CURRENT FY 2025-2026 | F15: 0.191 | G15: =E15*F15 -> 0
A16: =A10 -> PEPRA - CURRENT FY 2025-2026 | F16: 0.191 | G16: =E16*F16 -> 0
A17: Reduced Workload Code 36 CURRENT FY 2025-2026 | F17: 0.191 | G17: 0
A18: Other - EMPLOYER CONTRIBUTIONS - PRIOR FY
A19: Total Employer Contributions | L19: =SUM(L15:N18) -> 0
A20: DBS CONTRIBUTIONS
A21: DBS PRE-TAX PEPRAS MEMBER Code 71 | F21: 0.09
A22: DBS PRE-TAX CLASSIC MEMBER Code 71 | F22: 0.08
A23: DBS EMPLOYER - Code 71 | F23: 0.0825
A24: Total DBS Contributions | E24: =E22 -> 0 | G24: =SUM(G21:H23) -> 0 | L24: =SUM(L21:N23) -> 0
A25: GRAND TOTAL -- ALL | L25: =L13+L19+L24 -> 0
A30: I certify that the date of this transmittal is in agreement with
A31: the monthly report submitted under separate cover and is | G31: TITLE, AUTHORIZING OFFICER
A32: true and correct.
G34: NAME | L34: DATE
A35: Please send to SDCOE Retirement Reporting via Business Services Secure File Transfer System (bssftp.sdcoe.net)
A36: Revised by SDCOE August 2025

Sheet Final
A1: STATE TEACHERS' RETIREMENT SYSTEM | I1: COUNTY | J1: SAN DIEGO | K1: INITIAL
A2: CONTRIBUTION REMITTANCE REPORT (C-118) | I2: CODE | J2: 37 | K2: ESTIMATE
G3: =Initial!G3 -> (UNIT #) | I3: MONTH | J3: =Initial!J3 -> 0 | K3: FINAL | N3: X
F4: =Initial!F4 -> (UNIT FULL NAME) | I4: F.Y. | J4: 2025-2026 | K4: SUPPLEMENTAL
A6: EMPLOYEE CONTRIBUTIONS | E6: Creditable | I6: Variance | J6: Estimate | L6: Final
E7: Earnings | G7: Contributions | I7: ( - or + ) | J7: Remittance | L7: Remittance
A8: POST-TAX MBR CONTRIBUTIONS | J8: =-(Initial!L8) -> 0 | L8: =G8+J8+I8 -> 0
A9: =Initial!A9 -> CLASSIC - CURRENT FY 2025-2026 | F9: =Initial!F9 -> 0.1025 | J9: =-(Initial!L9) -> 0 | L9: =G9+J9+I9 -> 0
A10: =Initial!A10 -> PEPRA - CURRENT FY 2025-2026 | F10: =Initial!F10 -> 0.10205 | J10: =-(Initial!L10) -> 0 | L10: =G10+J10+I10 -> 0
A11: Other - EMPLOYEE CONTRIBUTIONS - PRIOR FY | E11: ='Attachment-prior years'!D32 -> 0 | G11: ='Attachment-prior years'!E32 -> 0 | J11: =-(Initial!L11) -> 0 | L11: =G11+J11+I11 -> 0
A12: RECEIVABLE CONTRIBUTION CD 4 | J12: =-(Initial!L12) -> 0 | L12: =G12+J12+I12 -> 0
A13: Total Employee Contributions | E13: =SUM(E8:E12) -> 0 | G13: =SUM(G8:H12) -> 0 | I13: =SUM(I8:I12) -> 0 | J13: =-(Initial!L13) -> 0 | L13: =G13+J13+I13 -> 0
A14: EMPLOYER CONTRIBUTIONS
A15: =Initial!A9 -> CLASSIC - CURRENT FY 2025-2026 | F15: =Initial!F15 -> 0.191 | J15: =-(Initial!L15) -> 0 | L15: =G15+J15+I15 -> 0
A16: =Initial!A10 -> PEPRA - CURRENT FY 2025-2026 | F16: =Initial!F16 -> 0.191 | J16: =-(Initial!L16) -> 0 | L16: =G16+J16+I16 -> 0
A17: =Initial!A17 -> Reduced Workload Code 36 CURRENT FY 2025-2026 | F17: =Initial!F17 -> 0.191 | J17: =-(Initial!L17) -> 0 | L17: =G17+J17+I17 -> 0
A18: Other - EMPLOYER CONTRIBUTIONS - PRIOR FY | E18: ='Attachment-prior years'!D32 -> 0 | G18: ='Attachment-prior years'!F32 -> 0 | J18: =-(Initial!L18) -> 0 | L18: =G18+J18+I18 -> 0
A19: Total Employer Contributions | E19: =SUM(E15:E18) -> 0 | G19: =SUM(G15:H18) -> 0 | I19: =SUM(I15:I18) -> 0 | J19: =-(Initial!L19) -> 0 | L19: =G19+J19+I19 -> 0
A20: DBS CONTRIBUTIONS
A21: DBS POST-TAX MEMBER Code 71 | F21: =Initial!F21 -> 0.09 | J21: =-(Initial!L21) -> 0 | L21: =G21+J21+I21 -> 0
A22: DBS PRE-TAX MEMBER Code 71 | F22: =Initial!F22 -> 0.08 | J22: =-(Initial!L22) -> 0 | L22: =G22+J22+I22 -> 0
A23: DBS EMPLOYER - Code 71 | F23: =Initial!F23 -> 0.0825 | J23: =-(Initial!L23) -> 0 | L23: =G23+J23+I23 -> 0
A24: Total DBS Contributions | E24: =E22 -> 0 | G24: =SUM(G21:H23) -> 0 | I24: =SUM(I21:I23) -> 0 | J24: =-(Initial!L24) -> 0 | L24: =G24+J24+I24 -> 0
A25: GRAND TOTAL -- ALL | E25: =E19+E24 -> 0 | G25: =G13+G19+G24 -> 0 | I25: =I13+I19+I24 -> 0 | J25: =J13+J19+J24 -> 0 | L25: =L13+L19+L24 -> 0
A30: I certify that the date of this transmittal is in agreement with
A31: the monthly report submitted under separate cover and is | G31: TITLE, AUTHORIZING OFFICER
A32: true and correct.
G34: NAME | L34: DATE
A35: Please send to SDCOE Retirement Reporting via Business Services Secure File Transfer System (bssftp.sdcoe.net) or FAX: (858) 279-2953
A36: =Initial!A36 -> Revised by SDCOE August 2025

Sheet Attachment-prior years
A1: =Initial!G3 -> (UNIT #) | B1: ATTACHMENT FOR PRIOR FISCAL YEARS
A2: =Initial!F4 -> (UNIT FULL NAME) | B2: STATE TEACHERS RETIREMENT SYSTEM C118
B3: =Initial!J3 -> 0 | C3: =Initial!J4 -> 2025-2026
B5: RATES | D5: CREDITABLE EARNINGS | E5: EMPLOYEE CONTRIBUTIONS | F5: EMPLOYER CONTRIBUTIONS
A6: DB CONTRIBUTIONS | B6: EE | C6: ER
A7: DB - Prior to 7/1/2014 | B7: 0.08 | C7: 0.0825
A8: CLASSIC 2014-2015 | B8: 0.0815 | C8: 0.0888
A9: PEPRA 2014-2015 | B9: 0.0815 | C9: 0.0888
A10: CLASSIC 2015-2016 | B10: 0.092 | C10: 0.1073
A11: PEPRA 2015-2016 | B11: 0.0856 | C11: 0.1073
A12: CLASSIC 2016-2017 | B12: 0.1025 | C12: 0.1258
A13: PEPRA 2016-2017 | B13: 0.09205 | C13: 0.1258
A14: CLASSIC 2017-2018 | B14: 0.1025 | C14: 0.1443
A15: PEPRA 2017-2018 | B15: 0.09205 | C15: 0.1443
A16: CLASSIC 2018-2019 | B16: 0.1025 | C16: 0.1628
A17: PEPRA 2018-2019 | B17: 0.10205 | C17: 0.1628
A18: CLASSIC 2019-2020 | B18: 0.1025 | C18: 0.171
... A29: PEPRA 2024-2025 | B29: 0.10205 | C29: 0.191
A30: CLASSIC 2025-2026 | B30: 0.1025 | C30: 0.191 | D30: =Initial!E9 -> 0
A31: PEPRA 2025-2026 | B31: 0.10205 | C31: 0.191
A32: SUB-TOTAL | D32: =SUM(D7:D17) -> 0 | E32: =SUM(E7:E17) -> 0 | F32: =SUM(F7:F17) -> 0
A33: RWP - Assignment Code 36 | B33: EE | C33: ER
A34: RWP - Prior to 2011
A35: 2011-2012 | B35: 0.08 | C35: 0.09713
A36: 2012-2013 | B36: 0.08 | C36: 0.10299
A37: 2013-2014 | B37: 0.08 | C37: 0.10276
A38: 2014-2015 | B38: 0.0815 | C38: 0.10259
A39: 2015-2016 | B39: 0.092 | C39: 0.1073
A40: 2016-2017 | B40: 0.1025 | C40: 0.1258
A41: 2017-2018 | B41: 0.1025 | C41: 0.1443
A42: 2018-2019 | B42: 0.1025 | C42: 0.1628
A43: 2019-2020 | B43: 0.1025 | C43: 0.171
A44: 2020-2021 | B44: 0.1025 | C44: 0.1615
A45: 2021-2022 | B45: 0.1025 | C45: 0.1692
A46: 2022-2023 | B46: 0.1025 | C46: 0.191
... A49: 2025-2026 | B49: 0.1025 | C49: 0.191
A50: SUB-TOTAL | D50: =SUM(D34:D42) -> 0 | E50: =SUM(E34:E42) -> 0 | F50: =SUM(F34:F42) -> 0
A51: TOTAL | D51: =0+D32+D50 -> 0 | E51: =0+E32+E50 -> 0 | F51: =0+F32+F50 -> 0
