Workbook
Name Alameda_Unified: #REF!
Name SBE_Latitude_37.8_High: #REF!
Name Livermore_Valley_Joint_Unified: #REF!
Name Oakland_Unified: #REF!
Name San_Leandro_Unified: #REF!
Name New_Haven_Unified: #REF!
Name San_Lorenzo_Unified: #REF!
Name Albany_City_Unified: #REF!
Name Newark_Unified: #REF!
Name Berkeley_Unified: #REF!
Name Alameda_County_Office_of_Education: #REF!
Name Hayward_Unified: #REF!

Sheet Contact
B1: FACILITY INSPECTION TOOL (FIT) OFFICE OF PUBLIC SCHOOL CONSTRUCTION SCHOOL FACILITY CONDITIONS EVALUATION
B3: INITIAL INSPECTION
B4: Inspector Name | F4: INSPECTOR'S COMMENTS AND RATING EXPLANATION
B5: Inspector Title
B6: Date of Inspection
B7: Time of Inspection | D7: Select Time
B8: Weather Conditions | D8: Select Weather
B10: LEA/CMO/Charter | D10: Select LEA/CMO/Charter | F10: DISTRICT'S RESPONSES TO REPORT
B11: School Site | D11: Select School
B12: Number of Classrooms on site
B13: Number of Restrooms on site
B14: Name of District Representative
B15: Title of District Representative
B16: Email of District Representative
B17: Site Enrollment
B18: Estimated Building Volume (Cubic Feet)
B19: Estimated Site Square Footage / Acreage
B20: Estimated Building Square Footage
B22: FOLLOW UP INSPECTION
B23: Follow Up | D23: NA | F23: FOLLOW UP COMMENTS
B24: Date of Follow Up
B25: Corrections Made
B26: Follow Up Contact Name
B27: Follow Up Contact Email

Sheet Inspection
B1: FACILITY INSPECTION TOOL (FIT) OFFICE OF PUBLIC SCHOOL CONSTRUCTION SCHOOL FACILITY CONDITIONS EVALUATION
B3: ID | C3: Building / Area Name | D3: Estimated Square Footage | E3: GAS LEAKS | F3: MECH/HVAC | G3: SEWER | H3: INTERIOR SURFACES | I3: OVERALL CLEANLINESS | J3: PEST/VERMIN INFESTATION | K3: ELECTRICAL | L3: RESTROOM | M3: SINKS/ FOUNTAINS | N3: FIRE SAFETY | O3: HAZARDOUS MATERIALS | P3: STRUCTURAL DAMAGE | Q3: ROOFS | R3: PLAYGROUND/SCHOOL GROUNDS | S3: WINDOWS/ DOORS/ GATES/FENCES | T3: COMMENTS: | U3: ID | V3: Room (0/1) | W3: Building / Area Name | X3: Estimated Square Footage | Y3: COMMENTS: | Z3: School Site | AA3: Inspector Name | AB3: GAS LEAKS | AC3: MECH/HVAC | AD3: SEWER | AE3: INTERIOR SURFACES | AF3: OVERALL CLEANLINESS | AG3: PEST/VERMIN INFESTATION | AH3: ELECTRICAL | AI3: RESTROOM | AJ3: SINKS/ FOUNTAINS | AK3: FIRE SAFETY | AL3: HAZARDOUS MATERIALS | AM3: STRUCTURAL DAMAGE | AN3: ROOFS | AO3: PLAYGROUND/SCHOOL GROUNDS | AP3: WINDOWS/ DOORS/ GATES/FENCES
B4: 1 | E4: OK | F4: OK | G4: OK | H4: OK | I4: OK | J4: OK | K4: OK | L4: OK | M4: OK | N4: OK | O4: OK | P4: OK | Q4: OK | R4: OK | S4: OK | U4: =Inspection!$B4 -> 1 | V4: =COUNTA(Inspection!$C4) -> 0 | W4: =Inspection!$C4 | X4: =Inspection!$D4 | Y4: =Inspection!$T4 | Z4: =Contact!D$11 -> Select School | AB4: {=IFS(AND($V4=1,Inspection!$E4="OK")=TRUE,"OK",AND($V4=1,Inspection!$E4="X")=TRUE,"X",AND($V4=1,Inspection!$E4="NA")=TRUE,"NA",AND($V4=1,Inspection!$E4="D")=TRUE,"D")} -> #N/A | AC4: {=IFS(AND($V4=1,Inspection!$F4="OK")=TRUE,"OK",AND($V4=1,Inspection!$F4="X")=TRUE,"X",AND($V4=1,Inspection!$F4="NA")=TRUE,"NA",AND($V4=1,Inspection!$F4="D")=TRUE,"D")} -> #N/A | AD4: {=IFS(AND($V4=1,Inspection!$G4="OK")=TRUE,"OK",AND($V4=1,Inspection!$G4="X")=TRUE,"X",AND($V4=1,Inspection!$G4="NA")=TRUE,"NA",AND($V4=1,Inspection!$G4="D")=TRUE,"D")} -> #N/A | AE4: {=IFS(AND($V4=1,Inspection!$H4="OK")=TRUE,"OK",AND($V4=1,Inspection!$H4="X")=TRUE,"X",AND($V4=1,Inspection!$H4="NA")=TRUE,"NA",AND($V4=1,Inspection!$H4="D")=TRUE,"D")} -> #N/A | AF4: {=IFS(AND($V4=1,Inspection!$I4="OK")=TRUE,"OK",AND($V4=1,Inspection!$I4="X")=TRUE,"X",AND($V4=1,Inspection!$I4="NA")=TRUE,"NA",AND($V4=1,Inspection!$I4="D")=TRUE,"D")} -> #N/A | AG4: {=IFS(AND($V4=1,Inspection!$J4="OK")=TRUE,"OK",AND($V4=1,Inspection!$J4="X")=TRUE,"X",AND($V4=1,Inspection!$J4="NA")=TRUE,"NA",AND($V4=1,Inspection!$J4="D")=TRUE,"D")} -> #N/A | AH4: {=IFS(AND($V4=1,Inspection!$K4="OK")=TRUE,"OK",AND($V4=1,Inspection!$K4="X")=TRUE,"X",AND($V4=1,Inspection!$K4="NA")=TRUE,"NA",AND($V4=1,Inspection!$K4="D")=TRUE,"D")} -> #N/A | AI4: {=IFS(AND($V4=1,Inspection!$L4="OK")=TRUE,"OK",AND($V4=1,Inspection!$L4="X")=TRUE,"X",AND($V4=1,Inspection!$L4="NA")=TRUE,"NA",AND($V4=1,Inspection!$L4="D")=TRUE,"D")} -> #N/A | AJ4: {=IFS(AND($V4=1,Inspection!$M4="OK")=TRUE,"OK",AND($V4=1,Inspection!$M4="X")=TRUE,"X",AND($V4=1,Inspection!$M4="NA")=TRUE,"NA",AND($V4=1,Inspection!$M4="D")=TRUE,"D")} -> #N/A | AK4: {=IFS(AND($V4=1,Inspection!$N4="OK")=TRUE,"OK",AND($V4=1,Inspection!$N4="X")=TRUE,"X",AND($V4=1,Inspection!$N4="NA")=TRUE,"NA",AND($V4=1,Inspection!$N4="D")=TRUE,"D")} -> #N/A | AL4: {=IFS(AND($V4=1,Inspection!$O4="OK")=TRUE,"OK",AND($V4=1,Inspection!$O4="X")=TRUE,"X",AND($V4=1,Inspection!$O4="NA")=TRUE,"NA",AND($V4=1,Inspection!$O4="D")=TRUE,"D")} -> #N/A | AM4: {=IFS(AND($V4=1,Inspection!$P4="OK")=TRUE,"OK",AND($V4=1,Inspection!$P4="X")=TRUE,"X",AND($V4=1,Inspection!$P4="NA")=TRUE,"NA",AND($V4=1,Inspection!$P4="D")=TRUE,"D")} -> #N/A | AN4: {=IFS(AND($V4=1,Inspection!$Q4="OK")=TRUE,"OK",AND($V4=1,Inspection!$Q4="X")=TRUE,"X",AND($V4=1,Inspection!$Q4="NA")=TRUE,"NA",AND($V4=1,Inspection!$Q4="D")=TRUE,"D")} -> #N/A | AO4: {=IFS(AND($V4=1,Inspection!$R4="OK")=TRUE,"OK",AND($V4=1,Inspection!$R4="X")=TRUE,"X",AND($V4=1,Inspection!$R4="NA")=TRUE,"NA",AND($V4=1,Inspection!$R4="D")=TRUE,"D")} -> #N/A | AP4: {=IFS(AND($V4=1,Inspection!$S4="OK")=TRUE,"OK",AND($V4=1,Inspection!$S4="X")=TRUE,"X",AND($V4=1,Inspection!$S4="NA")=TRUE,"NA",AND($V4=1,Inspection!$S4="D")=TRUE,"D")} -> #N/A
B5: 2 | E5: OK | F5: OK | G5: OK | H5: OK | I5: OK | J5: OK | K5: OK | L5: OK | M5: OK | N5: OK | O5: OK | P5: OK | Q5: OK | R5: OK | S5: OK | U5: =Inspection!$B5 -> 2 | V5: =COUNTA(Inspection!$C5) -> 0 | W5: =Inspection!$C5 | X5: =Inspection!$D5 | Y5: =Inspection!$T5 | Z5: =Contact!D$11 -> Select School | AB5: {=IFS(AND($V5=1,Inspection!$E5="OK")=TRUE,"OK",AND($V5=1,Inspection!$E5="X")=TRUE,"X",AND($V5=1,Inspection!$E5="NA")=TRUE,"NA",AND($V5=1,Inspection!$E5="D")=TRUE,"D")} -> #N/A | AC5: {=IFS(AND($V5=1,Inspection!$F5="OK")=TRUE,"OK",AND($V5=1,Inspection!$F5="X")=TRUE,"X",AND($V5=1,Inspection!$F5="NA")=TRUE,"NA",AND($V5=1,Inspection!$F5="D")=TRUE,"D")} -> #N/A | AD5: {=IFS(AND($V5=1,Inspection!$G5="OK")=TRUE,"OK",AND($V5=1,Inspection!$G5="X")=TRUE,"X",AND($V5=1,Inspection!$G5="NA")=TRUE,"NA",AND($V5=1,Inspection!$G5="D")=TRUE,"D")} -> #N/A | AE5: {=IFS(AND($V5=1,Inspection!$H5="OK")=TRUE,"OK",AND($V5=1,Inspection!$H5="X")=TRUE,"X",AND($V5=1,Inspection!$H5="NA")=TRUE,"NA",AND($V5=1,Inspection!$H5="D")=TRUE,"D")} -> #N/A | AF5: {=IFS(AND($V5=1,Inspection!$I5="OK")=TRUE,"OK",AND($V5=1,Inspection!$I5="X")=TRUE,"X",AND($V5=1,Inspection!$I5="NA")=TRUE,"NA",AND($V5=1,Inspection!$I5="D")=TRUE,"D")} -> #N/A | AG5: {=IFS(AND($V5=1,Inspection!$J5="OK")=TRUE,"OK",AND($V5=1,Inspection!$J5="X")=TRUE,"X",AND($V5=1,Inspection!$J5="NA")=TRUE,"NA",AND($V5=1,Inspection!$J5="D")=TRUE,"D")} -> #N/A | AH5: {=IFS(AND($V5=1,Inspection!$K5="OK")=TRUE,"OK",AND($V5=1,Inspection!$K5="X")=TRUE,"X",AND($V5=1,Inspection!$K5="NA")=TRUE,"NA",AND($V5=1,Inspection!$K5="D")=TRUE,"D")} -> #N/A | AI5: {=IFS(AND($V5=1,Inspection!$L5="OK")=TRUE,"OK",AND($V5=1,Inspection!$L5="X")=TRUE,"X",AND($V5=1,Inspection!$L5="NA")=TRUE,"NA",AND($V5=1,Inspection!$L5="D")=TRUE,"D")} -> #N/A | AJ5: {=IFS(AND($V5=1,Inspection!$M5="OK")=TRUE,"OK",AND($V5=1,Inspection!$M5="X")=TRUE,"X",AND($V5=1,Inspection!$M5="NA")=TRUE,"NA",AND($V5=1,Inspection!$M5="D")=TRUE,"D")} -> #N/A | AK5: {=IFS(AND($V5=1,Inspection!$N5="OK")=TRUE,"OK",AND($V5=1,Inspection!$N5="X")=TRUE,"X",AND($V5=1,Inspection!$N5="NA")=TRUE,"NA",AND($V5=1,Inspection!$N5="D")=TRUE,"D")} -> #N/A | AL5: {=IFS(AND($V5=1,Inspection!$O5="OK")=TRUE,"OK",AND($V5=1,Inspection!$O5="X")=TRUE,"X",AND($V5=1,Inspection!$O5="NA")=TRUE,"NA",AND($V5=1,Inspection!$O5="D")=TRUE,"D")} -> #N/A | AM5: {=IFS(AND($V5=1,Inspection!$P5="OK")=TRUE,"OK",AND($V5=1,Inspection!$P5="X")=TRUE,"X",AND($V5=1,Inspection!$P5="NA")=TRUE,"NA",AND($V5=1,Inspection!$P5="D")=TRUE,"D")} -> #N/A | AN5: {=IFS(AND($V5=1,Inspection!$Q5="OK")=TRUE,"OK",AND($V5=1,Inspection!$Q5="X")=TRUE,"X",AND($V5=1,Inspection!$Q5="NA")=TRUE,"NA",AND($V5=1,Inspection!$Q5="D")=TRUE,"D")} -> #N/A | AO5: {=IFS(AND($V5=1,Inspection!$R5="OK")=TRUE,"OK",AND($V5=1,Inspection!$R5="X")=TRUE,"X",AND($V5=1,Inspection!$R5="NA")=TRUE,"NA",AND($V5=1,Inspection!$R5="D")=TRUE,"D")} -> #N/A | AP5: {=IFS(AND($V5=1,Inspection!$S5="OK")=TRUE,"OK",AND($V5=1,Inspection!$S5="X")=TRUE,"X",AND($V5=1,Inspection!$S5="NA")=TRUE,"NA",AND($V5=1,Inspection!$S5="D")=TRUE,"D")} -> #N/A
B6: 3 | E6: OK | F6: OK | G6: OK | H6: OK | I6: OK | J6: OK | K6: OK | L6: OK | M6: OK | N6: OK | O6: OK | P6: OK | Q6: OK | R6: OK | S6: OK | U6: =Inspection!$B6 -> 3 | V6: =COUNTA(Inspection!$C6) -> 0 | W6: =Inspection!$C6 | X6: =Inspection!$D6 | Y6: =Inspection!$T6 | Z6: =Contact!D$11 -> Select School | AB6: {=IFS(AND($V6=1,Inspection!$E6="OK")=TRUE,"OK",AND($V6=1,Inspection!$E6="X")=TRUE,"X",AND($V6=1,Inspection!$E6="NA")=TRUE,"NA",AND($V6=1,Inspection!$E6="D")=TRUE,"D")} -> #N/A | AC6: {=IFS(AND($V6=1,Inspection!$F6="OK")=TRUE,"OK",AND($V6=1,Inspection!$F6="X")=TRUE,"X",AND($V6=1,Inspection!$F6="NA")=TRUE,"NA",AND($V6=1,Inspection!$F6="D")=TRUE,"D")} -> #N/A | AD6: {=IFS(AND($V6=1,Inspection!$G6="OK")=TRUE,"OK",AND($V6=1,Inspection!$G6="X")=TRUE,"X",AND($V6=1,Inspection!$G6="NA")=TRUE,"NA",AND($V6=1,Inspection!$G6="D")=TRUE,"D")} -> #N/A | AE6: {=IFS(AND($V6=1,Inspection!$H6="OK")=TRUE,"OK",AND($V6=1,Inspection!$H6="X")=TRUE,"X",AND($V6=1,Inspection!$H6="NA")=TRUE,"NA",AND($V6=1,Inspection!$H6="D")=TRUE,"D")} -> #N/A | AF6: {=IFS(AND($V6=1,Inspection!$I6="OK")=TRUE,"OK",AND($V6=1,Inspection!$I6="X")=TRUE,"X",AND($V6=1,Inspection!$I6="NA")=TRUE,"NA",AND($V6=1,Inspection!$I6="D")=TRUE,"D")} -> #N/A | AG6: {=IFS(AND($V6=1,Inspection!$J6="OK")=TRUE,"OK",AND($V6=1,Inspection!$J6="X")=TRUE,"X",AND($V6=1,Inspection!$J6="NA")=TRUE,"NA",AND($V6=1,Inspection!$J6="D")=TRUE,"D")} -> #N/A | AH6: {=IFS(AND($V6=1,Inspection!$K6="OK")=TRUE,"OK",AND($V6=1,Inspection!$K6="X")=TRUE,"X",AND($V6=1,Inspection!$K6="NA")=TRUE,"NA",AND($V6=1,Inspection!$K6="D")=TRUE,"D")} -> #N/A | AI6: {=IFS(AND($V6=1,Inspection!$L6="OK")=TRUE,"OK",AND($V6=1,Inspection!$L6="X")=TRUE,"X",AND($V6=1,Inspection!$L6="NA")=TRUE,"NA",AND($V6=1,Inspection!$L6="D")=TRUE,"D")} -> #N/A | AJ6: {=IFS(AND($V6=1,Inspection!$M6="OK")=TRUE,"OK",AND($V6=1,Inspection!$M6="X")=TRUE,"X",AND($V6=1,Inspection!$M6="NA")=TRUE,"NA",AND($V6=1,Inspection!$M6="D")=TRUE,"D")} -> #N/A | AK6: {=IFS(AND($V6=1,Inspection!$N6="OK")=TRUE,"OK",AND($V6=1,Inspection!$N6="X")=TRUE,"X",AND($V6=1,Inspection!$N6="NA")=TRUE,"NA",AND($V6=1,Inspection!$N6="D")=TRUE,"D")} -> #N/A | AL6: {=IFS(AND($V6=1,Inspection!$O6="OK")=TRUE,"OK",AND($V6=1,Inspection!$O6="X")=TRUE,"X",AND($V6=1,Inspection!$O6="NA")=TRUE,"NA",AND($V6=1,Inspection!$O6="D")=TRUE,"D")} -> #N/A | AM6: {=IFS(AND($V6=1,Inspection!$P6="OK")=TRUE,"OK",AND($V6=1,Inspection!$P6="X")=TRUE,"X",AND($V6=1,Inspection!$P6="NA")=TRUE,"NA",AND($V6=1,Inspection!$P6="D")=TRUE,"D")} -> #N/A | AN6: {=IFS(AND($V6=1,Inspection!$Q6="OK")=TRUE,"OK",AND($V6=1,Inspection!$Q6="X")=TRUE,"X",AND($V6=1,Inspection!$Q6="NA")=TRUE,"NA",AND($V6=1,Inspection!$Q6="D")=TRUE,"D")} -> #N/A | AO6: {=IFS(AND($V6=1,Inspection!$R6="OK")=TRUE,"OK",AND($V6=1,Inspection!$R6="X")=TRUE,"X",AND($V6=1,Inspection!$R6="NA")=TRUE,"NA",AND($V6=1,Inspection!$R6="D")=TRUE,"D")} -> #N/A | AP6: {=IFS(AND($V6=1,Inspection!$S6="OK")=TRUE,"OK",AND($V6=1,Inspection!$S6="X")=TRUE,"X",AND($V6=1,Inspection!$S6="NA")=TRUE,"NA",AND($V6=1,Inspection!$S6="D")=TRUE,"D")} -> #N/A
B7: 4 | E7: OK | F7: OK | G7: OK | H7: OK | I7: OK | J7: OK | K7: OK | L7: OK | M7: OK | N7: OK | O7: OK | P7: OK | Q7: OK | R7: OK | S7: OK | U7: =Inspection!$B7 -> 4 | V7: =COUNTA(Inspection!$C7) -> 0 | W7: =Inspection!$C7 | X7: =Inspection!$D7 | Y7: =Inspection!$T7 | Z7: =Contact!D$11 -> Select School | AB7: {=IFS(AND($V7=1,Inspection!$E7="OK")=TRUE,"OK",AND($V7=1,Inspection!$E7="X")=TRUE,"X",AND($V7=1,Inspection!$E7="NA")=TRUE,"NA",AND($V7=1,Inspection!$E7="D")=TRUE,"D")} -> #N/A | AC7: {=IFS(AND($V7=1,Inspection!$F7="OK")=TRUE,"OK",AND($V7=1,Inspection!$F7="X")=TRUE,"X",AND($V7=1,Inspection!$F7="NA")=TRUE,"NA",AND($V7=1,Inspection!$F7="D")=TRUE,"D")} -> #N/A | AD7: {=IFS(AND($V7=1,Inspection!$G7="OK")=TRUE,"OK",AND($V7=1,Inspection!$G7="X")=TRUE,"X",AND($V7=1,Inspection!$G7="NA")=TRUE,"NA",AND($V7=1,Inspection!$G7="D")=TRUE,"D")} -> #N/A | AE7: {=IFS(AND($V7=1,Inspection!$H7="OK")=TRUE,"OK",AND($V7=1,Inspection!$H7="X")=TRUE,"X",AND($V7=1,Inspection!$H7="NA")=TRUE,"NA",AND($V7=1,Inspection!$H7="D")=TRUE,"D")} -> #N/A | AF7: {=IFS(AND($V7=1,Inspection!$I7="OK")=TRUE,"OK",AND($V7=1,Inspection!$I7="X")=TRUE,"X",AND($V7=1,Inspection!$I7="NA")=TRUE,"NA",AND($V7=1,Inspection!$I7="D")=TRUE,"D")} -> #N/A | AG7: {=IFS(AND($V7=1,Inspection!$J7="OK")=TRUE,"OK",AND($V7=1,Inspection!$J7="X")=TRUE,"X",AND($V7=1,Inspection!$J7="NA")=TRUE,"NA",AND($V7=1,Inspection!$J7="D")=TRUE,"D")} -> #N/A | AH7: {=IFS(AND($V7=1,Inspection!$K7="OK")=TRUE,"OK",AND($V7=1,Inspection!$K7="X")=TRUE,"X",AND($V7=1,Inspection!$K7="NA")=TRUE,"NA",AND($V7=1,Inspection!$K7="D")=TRUE,"D")} -> #N/A | AI7: {=IFS(AND($V7=1,Inspection!$L7="OK")=TRUE,"OK",AND($V7=1,Inspection!$L7="X")=TRUE,"X",AND($V7=1,Inspection!$L7="NA")=TRUE,"NA",AND($V7=1,Inspection!$L7="D")=TRUE,"D")} -> #N/A | AJ7: {=IFS(AND($V7=1,Inspection!$M7="OK")=TRUE,"OK",AND($V7=1,Inspection!$M7="X")=TRUE,"X",AND($V7=1,Inspection!$M7="NA")=TRUE,"NA",AND($V7=1,Inspection!$M7="D")=TRUE,"D")} -> #N/A | AK7: {=IFS(AND($V7=1,Inspection!$N7="OK")=TRUE,"OK",AND($V7=1,Inspection!$N7="X")=TRUE,"X",AND($V7=1,Inspection!$N7="NA")=TRUE,"NA",AND($V7=1,Inspection!$N7="D")=TRUE,"D")} -> #N/A | AL7: {=IFS(AND($V7=1,Inspection!$O7="OK")=TRUE,"OK",AND($V7=1,Inspection!$O7="X")=TRUE,"X",AND($V7=1,Inspection!$O7="NA")=TRUE,"NA",AND($V7=1,Inspection!$O7="D")=TRUE,"D")} -> #N/A | AM7: {=IFS(AND($V7=1,Inspection!$P7="OK")=TRUE,"OK",AND($V7=1,Inspection!$P7="X")=TRUE,"X",AND($V7=1,Inspection!$P7="NA")=TRUE,"NA",AND($V7=1,Inspection!$P7="D")=TRUE,"D")} -> #N/A | AN7: {=IFS(AND($V7=1,Inspection!$Q7="OK")=TRUE,"OK",AND($V7=1,Inspection!$Q7="X")=TRUE,"X",AND($V7=1,Inspection!$Q7="NA")=TRUE,"NA",AND($V7=1,Inspection!$Q7="D")=TRUE,"D")} -> #N/A | AO7: {=IFS(AND($V7=1,Inspection!$R7="OK")=TRUE,"OK",AND($V7=1,Inspection!$R7="X")=TRUE,"X",AND($V7=1,Inspection!$R7="NA")=TRUE,"NA",AND($V7=1,Inspection!$R7="D")=TRUE,"D")} -> #N/A | AP7: {=IFS(AND($V7=1,Inspection!$S7="OK")=TRUE,"OK",AND($V7=1,Inspection!$S7="X")=TRUE,"X",AND($V7=1,Inspection!$S7="NA")=TRUE,"NA",AND($V7=1,Inspection!$S7="D")=TRUE,"D")} -> #N/A
B8: 5 | E8: OK | F8: OK | G8: OK | H8: OK | I8: OK | J8: OK | K8: OK | L8: OK | M8: OK | N8: OK | O8: OK | P8: OK | Q8: OK | R8: OK | S8: OK | U8: =Inspection!$B8 -> 5 | V8: =COUNTA(Inspection!$C8) -> 0 | W8: =Inspection!$C8 | X8: =Inspection!$D8 | Y8: =Inspection!$T8 | Z8: =Contact!D$11 -> Select School | AB8: {=IFS(AND($V8=1,Inspection!$E8="OK")=TRUE,"OK",AND($V8=1,Inspection!$E8="X")=TRUE,"X",AND($V8=1,Inspection!$E8="NA")=TRUE,"NA",AND($V8=1,Inspection!$E8="D")=TRUE,"D")} -> #N/A | AC8: {=IFS(AND($V8=1,Inspection!$F8="OK")=TRUE,"OK",AND($V8=1,Inspection!$F8="X")=TRUE,"X",AND($V8=1,Inspection!$F8="NA")=TRUE,"NA",AND($V8=1,Inspection!$F8="D")=TRUE,"D")} -> #N/A | AD8: {=IFS(AND($V8=1,Inspection!$G8="OK")=TRUE,"OK",AND($V8=1,Inspection!$G8="X")=TRUE,"X",AND($V8=1,Inspection!$G8="NA")=TRUE,"NA",AND($V8=1,Inspection!$G8="D")=TRUE,"D")} -> #N/A | AE8: {=IFS(AND($V8=1,Inspection!$H8="OK")=TRUE,"OK",AND($V8=1,Inspection!$H8="X")=TRUE,"X",AND($V8=1,Inspection!$H8="NA")=TRUE,"NA",AND($V8=1,Inspection!$H8="D")=TRUE,"D")} -> #N/A | AF8: {=IFS(AND($V8=1,Inspection!$I8="OK")=TRUE,"OK",AND($V8=1,Inspection!$I8="X")=TRUE,"X",AND($V8=1,Inspection!$I8="NA")=TRUE,"NA",AND($V8=1,Inspection!$I8="D")=TRUE,"D")} -> #N/A | AG8: {=IFS(AND($V8=1,Inspection!$J8="OK")=TRUE,"OK",AND($V8=1,Inspection!$J8="X")=TRUE,"X",AND($V8=1,Inspection!$J8="NA")=TRUE,"NA",AND($V8=1,Inspection!$J8="D")=TRUE,"D")} -> #N/A | AH8: {=IFS(AND($V8=1,Inspection!$K8="OK")=TRUE,"OK",AND($V8=1,Inspection!$K8="X")=TRUE,"X",AND($V8=1,Inspection!$K8="NA")=TRUE,"NA",AND($V8=1,Inspection!$K8="D")=TRUE,"D")} -> #N/A | AI8: {=IFS(AND($V8=1,Inspection!$L8="OK")=TRUE,"OK",AND($V8=1,Inspection!$L8="X")=TRUE,"X",AND($V8=1,Inspection!$L8="NA")=TRUE,"NA",AND($V8=1,Inspection!$L8="D")=TRUE,"D")} -> #N/A | AJ8: {=IFS(AND($V8=1,Inspection!$M8="OK")=TRUE,"OK",AND($V8=1,Inspection!$M8="X")=TRUE,"X",AND($V8=1,Inspection!$M8="NA")=TRUE,"NA",AND($V8=1,Inspection!$M8="D")=TRUE,"D")} -> #N/A | AK8: {=IFS(AND($V8=1,Inspection!$N8="OK")=TRUE,"OK",AND($V8=1,Inspection!$N8="X")=TRUE,"X",AND($V8=1,Inspection!$N8="NA")=TRUE,"NA",AND($V8=1,Inspection!$N8="D")=TRUE,"D")} -> #N/A | AL8: {=IFS(AND($V8=1,Inspection!$O8="OK")=TRUE,"OK",AND($V8=1,Inspection!$O8="X")=TRUE,"X",AND($V8=1,Inspection!$O8="NA")=TRUE,"NA",AND($V8=1,Inspection!$O8="D")=TRUE,"D")} -> #N/A | AM8: {=IFS(AND($V8=1,Inspection!$P8="OK")=TRUE,"OK",AND($V8=1,Inspection!$P8="X")=TRUE,"X",AND($V8=1,Inspection!$P8="NA")=TRUE,"NA",AND($V8=1,Inspection!$P8="D")=TRUE,"D")} -> #N/A | AN8: {=IFS(AND($V8=1,Inspection!$Q8="OK")=TRUE,"OK",AND($V8=1,Inspection!$Q8="X")=TRUE,"X",AND($V8=1,Inspection!$Q8="NA")=TRUE,"NA",AND($V8=1,Inspection!$Q8="D")=TRUE,"D")} -> #N/A | AO8: {=IFS(AND($V8=1,Inspection!$R8="OK")=TRUE,"OK",AND($V8=1,Inspection!$R8="X")=TRUE,"X",AND($V8=1,Inspection!$R8="NA")=TRUE,"NA",AND($V8=1,Inspection!$R8="D")=TRUE,"D")} -> #N/A | AP8: {=IFS(AND($V8=1,Inspection!$S8="OK")=TRUE,"OK",AND($V8=1,Inspection!$S8="X")=TRUE,"X",AND($V8=1,Inspection!$S8="NA")=TRUE,"NA",AND($V8=1,Inspection!$S8="D")=TRUE,"D")} -> #N/A
B9: 6 | E9: OK | F9: OK | G9: OK | H9: OK | I9: OK | J9: OK | K9: OK | L9: OK | M9: OK | N9: OK | O9: OK | P9: OK | Q9: OK | R9: OK | S9: OK | U9: =Inspection!$B9 -> 6 | V9: =COUNTA(Inspection!$C9) -> 0 | W9: =Inspection!$C9 | X9: =Inspection!$D9 | Y9: =Inspection!$T9 | Z9: =Contact!D$11 -> Select School | AB9: {=IFS(AND($V9=1,Inspection!$E9="OK")=TRUE,"OK",AND($V9=1,Inspection!$E9="X")=TRUE,"X",AND($V9=1,Inspection!$E9="NA")=TRUE,"NA",AND($V9=1,Inspection!$E9="D")=TRUE,"D")} -> #N/A | AC9: {=IFS(AND($V9=1,Inspection!$F9="OK")=TRUE,"OK",AND($V9=1,Inspection!$F9="X")=TRUE,"X",AND($V9=1,Inspection!$F9="NA")=TRUE,"NA",AND($V9=1,Inspection!$F9="D")=TRUE,"D")} -> #N/A | AD9: {=IFS(AND($V9=1,Inspection!$G9="OK")=TRUE,"OK",AND($V9=1,Inspection!$G9="X")=TRUE,"X",AND($V9=1,Inspection!$G9="NA")=TRUE,"NA",AND($V9=1,Inspection!$G9="D")=TRUE,"D")} -> #N/A | AE9: {=IFS(AND($V9=1,Inspection!$H9="OK")=TRUE,"OK",AND($V9=1,Inspection!$H9="X")=TRUE,"X",AND($V9=1,Inspection!$H9="NA")=TRUE,"NA",AND($V9=1,Inspection!$H9="D")=TRUE,"D")} -> #N/A | AF9: {=IFS(AND($V9=1,Inspection!$I9="OK")=TRUE,"OK",AND($V9=1,Inspection!$I9="X")=TRUE,"X",AND($V9=1,Inspection!$I9="NA")=TRUE,"NA",AND($V9=1,Inspection!$I9="D")=TRUE,"D")} -> #N/A | AG9: {=IFS(AND($V9=1,Inspection!$J9="OK")=TRUE,"OK",AND($V9=1,Inspection!$J9="X")=TRUE,"X",AND($V9=1,Inspection!$J9="NA")=TRUE,"NA",AND($V9=1,Inspection!$J9="D")=TRUE,"D")} -> #N/A | AH9: {=IFS(AND($V9=1,Inspection!$K9="OK")=TRUE,"OK",AND($V9=1,Inspection!$K9="X")=TRUE,"X",AND($V9=1,Inspection!$K9="NA")=TRUE,"NA",AND($V9=1,Inspection!$K9="D")=TRUE,"D")} -> #N/A | AI9: {=IFS(AND($V9=1,Inspection!$L9="OK")=TRUE,"OK",AND($V9=1,Inspection!$L9="X")=TRUE,"X",AND($V9=1,Inspection!$L9="NA")=TRUE,"NA",AND($V9=1,Inspection!$L9="D")=TRUE,"D")} -> #N/A | AJ9: {=IFS(AND($V9=1,Inspection!$M9="OK")=TRUE,"OK",AND($V9=1,Inspection!$M9="X")=TRUE,"X",AND($V9=1,Inspection!$M9="NA")=TRUE,"NA",AND($V9=1,Inspection!$M9="D")=TRUE,"D")} -> #N/A | AK9: {=IFS(AND($V9=1,Inspection!$N9="OK")=TRUE,"OK",AND($V9=1,Inspection!$N9="X")=TRUE,"X",AND($V9=1,Inspection!$N9="NA")=TRUE,"NA",AND($V9=1,Inspection!$N9="D")=TRUE,"D")} -> #N/A | AL9: {=IFS(AND($V9=1,Inspection!$O9="OK")=TRUE,"OK",AND($V9=1,Inspection!$O9="X")=TRUE,"X",AND($V9=1,Inspection!$O9="NA")=TRUE,"NA",AND($V9=1,Inspection!$O9="D")=TRUE,"D")} -> #N/A | AM9: {=IFS(AND($V9=1,Inspection!$P9="OK")=TRUE,"OK",AND($V9=1,Inspection!$P9="X")=TRUE,"X",AND($V9=1,Inspection!$P9="NA")=TRUE,"NA",AND($V9=1,Inspection!$P9="D")=TRUE,"D")} -> #N/A | AN9: {=IFS(AND($V9=1,Inspection!$Q9="OK")=TRUE,"OK",AND($V9=1,Inspection!$Q9="X")=TRUE,"X",AND($V9=1,Inspection!$Q9="NA")=TRUE,"NA",AND($V9=1,Inspection!$Q9="D")=TRUE,"D")} -> #N/A | AO9: {=IFS(AND($V9=1,Inspection!$R9="OK")=TRUE,"OK",AND($V9=1,Inspection!$R9="X")=TRUE,"X",AND($V9=1,Inspection!$R9="NA")=TRUE,"NA",AND($V9=1,Inspection!$R9="D")=TRUE,"D")} -> #N/A | AP9: {=IFS(AND($V9=1,Inspection!$S9="OK")=TRUE,"OK",AND($V9=1,Inspection!$S9="X")=TRUE,"X",AND($V9=1,Inspection!$S9="NA")=TRUE,"NA",AND($V9=1,Inspection!$S9="D")=TRUE,"D")} -> #N/A
B10: 7 | E10: OK | F10: OK | G10: OK | H10: OK | I10: OK | J10: OK | K10: OK | L10: OK | M10: OK | N10: OK | O10: OK | P10: OK | Q10: OK | R10: OK | S10: OK | U10: =Inspection!$B10 -> 7 | V10: =COUNTA(Inspection!$C10) -> 0 | W10: =Inspection!$C10 | X10: =Inspection!$D10 | Y10: =Inspection!$T10 | Z10: =Contact!D$11 -> Select School | AB10: {=IFS(AND($V10=1,Inspection!$E10="OK")=TRUE,"OK",AND($V10=1,Inspection!$E10="X")=TRUE,"X",AND($V10=1,Inspection!$E10="NA")=TRUE,"NA",AND($V10=1,Inspection!$E10="D")=TRUE,"D")} -> #N/A | AC10: {=IFS(AND($V10=1,Inspection!$F10="OK")=TRUE,"OK",AND($V10=1,Inspection!$F10="X")=TRUE,"X",AND($V10=1,Inspection!$F10="NA")=TRUE,"NA",AND($V10=1,Inspection!$F10="D")=TRUE,"D")} -> #N/A | AD10: {=IFS(AND($V10=1,Inspection!$G10="OK")=TRUE,"OK",AND($V10=1,Inspection!$G10="X")=TRUE,"X",AND($V10=1,Inspection!$G10="NA")=TRUE,"NA",AND($V10=1,Inspection!$G10="D")=TRUE,"D")} -> #N/A | AE10: {=IFS(AND($V10=1,Inspection!$H10="OK")=TRUE,"OK",AND($V10=1,Inspection!$H10="X")=TRUE,"X",AND($V10=1,Inspection!$H10="NA")=TRUE,"NA",AND($V10=1,Inspection!$H10="D")=TRUE,"D")} -> #N/A | AF10: {=IFS(AND($V10=1,Inspection!$I10="OK")=TRUE,"OK",AND($V10=1,Inspection!$I10="X")=TRUE,"X",AND($V10=1,Inspection!$I10="NA")=TRUE,"NA",AND($V10=1,Inspection!$I10="D")=TRUE,"D")} -> #N/A | AG10: {=IFS(AND($V10=1,Inspection!$J10="OK")=TRUE,"OK",AND($V10=1,Inspection!$J10="X")=TRUE,"X",AND($V10=1,Inspection!$J10="NA")=TRUE,"NA",AND($V10=1,Inspection!$J10="D")=TRUE,"D")} -> #N/A | AH10: {=IFS(AND($V10=1,Inspection!$K10="OK")=TRUE,"OK",AND($V10=1,Inspection!$K10="X")=TRUE,"X",AND($V10=1,Inspection!$K10="NA")=TRUE,"NA",AND($V10=1,Inspection!$K10="D")=TRUE,"D")} -> #N/A | AI10: {=IFS(AND($V10=1,Inspection!$L10="OK")=TRUE,"OK",AND($V10=1,Inspection!$L10="X")=TRUE,"X",AND($V10=1,Inspection!$L10="NA")=TRUE,"NA",AND($V10=1,Inspection!$L10="D")=TRUE,"D")} -> #N/A | AJ10: {=IFS(AND($V10=1,Inspection!$M10="OK")=TRUE,"OK",AND($V10=1,Inspection!$M10="X")=TRUE,"X",AND($V10=1,Inspection!$M10="NA")=TRUE,"NA",AND($V10=1,Inspection!$M10="D")=TRUE,"D")} -> #N/A | AK10: {=IFS(AND($V10=1,Inspection!$N10="OK")=TRUE,"OK",AND($V10=1,Inspection!$N10="X")=TRUE,"X",AND($V10=1,Inspection!$N10="NA")=TRUE,"NA",AND($V10=1,Inspection!$N10="D")=TRUE,"D")} -> #N/A | AL10: {=IFS(AND($V10=1,Inspection!$O10="OK")=TRUE,"OK",AND($V10=1,Inspection!$O10="X")=TRUE,"X",AND($V10=1,Inspection!$O10="NA")=TRUE,"NA",AND($V10=1,Inspection!$O10="D")=TRUE,"D")} -> #N/A | AM10: {=IFS(AND($V10=1,Inspection!$P10="OK")=TRUE,"OK",AND($V10=1,Inspection!$P10="X")=TRUE,"X",AND($V10=1,Inspection!$P10="NA")=TRUE,"NA",AND($V10=1,Inspection!$P10="D")=TRUE,"D")} -> #N/A | AN10: {=IFS(AND($V10=1,Inspection!$Q10="OK")=TRUE,"OK",AND($V10=1,Inspection!$Q10="X")=TRUE,"X",AND($V10=1,Inspection!$Q10="NA")=TRUE,"NA",AND($V10=1,Inspection!$Q10="D")=TRUE,"D")} -> #N/A | AO10: {=IFS(AND($V10=1,Inspection!$R10="OK")=TRUE,"OK",AND($V10=1,Inspection!$R10="X")=TRUE,"X",AND($V10=1,Inspection!$R10="NA")=TRUE,"NA",AND($V10=1,Inspection!$R10="D")=TRUE,"D")} -> #N/A | AP10: {=IFS(AND($V10=1,Inspection!$S10="OK")=TRUE,"OK",AND($V10=1,Inspection!$S10="X")=TRUE,"X",AND($V10=1,Inspection!$S10="NA")=TRUE,"NA",AND($V10=1,Inspection!$S10="D")=TRUE,"D")} -> #N/A
B11: 8 | E11: OK | F11: OK | G11: OK | H11: OK | I11: OK | J11: OK | K11: OK | L11: OK | M11: OK | N11: OK | O11: OK | P11: OK | Q11: OK | R11: OK | S11: OK | U11: =Inspection!$B11 -> 8 | V11: =COUNTA(Inspection!$C11) -> 0 | W11: =Inspection!$C11 | X11: =Inspection!$D11 | Y11: =Inspection!$T11 | Z11: =Contact!D$11 -> Select School | AB11: {=IFS(AND($V11=1,Inspection!$E11="OK")=TRUE,"OK",AND($V11=1,Inspection!$E11="X")=TRUE,"X",AND($V11=1,Inspection!$E11="NA")=TRUE,"NA",AND($V11=1,Inspection!$E11="D")=TRUE,"D")} -> #N/A | AC11: {=IFS(AND($V11=1,Inspection!$F11="OK")=TRUE,"OK",AND($V11=1,Inspection!$F11="X")=TRUE,"X",AND($V11=1,Inspection!$F11="NA")=TRUE,"NA",AND($V11=1,Inspection!$F11="D")=TRUE,"D")} -> #N/A | AD11: {=IFS(AND($V11=1,Inspection!$G11="OK")=TRUE,"OK",AND($V11=1,Inspection!$G11="X")=TRUE,"X",AND($V11=1,Inspection!$G11="NA")=TRUE,"NA",AND($V11=1,Inspection!$G11="D")=TRUE,"D")} -> #N/A | AE11: {=IFS(AND($V11=1,Inspection!$H11="OK")=TRUE,"OK",AND($V11=1,Inspection!$H11="X")=TRUE,"X",AND($V11=1,Inspection!$H11="NA")=TRUE,"NA",AND($V11=1,Inspection!$H11="D")=TRUE,"D")} -> #N/A | AF11: {=IFS(AND($V11=1,Inspection!$I11="OK")=TRUE,"OK",AND($V11=1,Inspection!$I11="X")=TRUE,"X",AND($V11=1,Inspection!$I11="NA")=TRUE,"NA",AND($V11=1,Inspection!$I11="D")=TRUE,"D")} -> #N/A | AG11: {=IFS(AND($V11=1,Inspection!$J11="OK")=TRUE,"OK",AND($V11=1,Inspection!$J11="X")=TRUE,"X",AND($V11=1,Inspection!$J11="NA")=TRUE,"NA",AND($V11=1,Inspection!$J11="D")=TRUE,"D")} -> #N/A | AH11: {=IFS(AND($V11=1,Inspection!$K11="OK")=TRUE,"OK",AND($V11=1,Inspection!$K11="X")=TRUE,"X",AND($V11=1,Inspection!$K11="NA")=TRUE,"NA",AND($V11=1,Inspection!$K11="D")=TRUE,"D")} -> #N/A | AI11: {=IFS(AND($V11=1,Inspection!$L11="OK")=TRUE,"OK",AND($V11=1,Inspection!$L11="X")=TRUE,"X",AND($V11=1,Inspection!$L11="NA")=TRUE,"NA",AND($V11=1,Inspection!$L11="D")=TRUE,"D")} -> #N/A | AJ11: {=IFS(AND($V11=1,Inspection!$M11="OK")=TRUE,"OK",AND($V11=1,Inspection!$M11="X")=TRUE,"X",AND($V11=1,Inspection!$M11="NA")=TRUE,"NA",AND($V11=1,Inspection!$M11="D")=TRUE,"D")} -> #N/A | AK11: {=IFS(AND($V11=1,Inspection!$N11="OK")=TRUE,"OK",AND($V11=1,Inspection!$N11="X")=TRUE,"X",AND($V11=1,Inspection!$N11="NA")=TRUE,"NA",AND($V11=1,Inspection!$N11="D")=TRUE,"D")} -> #N/A | AL11: {=IFS(AND($V11=1,Inspection!$O11="OK")=TRUE,"OK",AND($V11=1,Inspection!$O11="X")=TRUE,"X",AND($V11=1,Inspection!$O11="NA")=TRUE,"NA",AND($V11=1,Inspection!$O11="D")=TRUE,"D")} -> #N/A | AM11: {=IFS(AND($V11=1,Inspection!$P11="OK")=TRUE,"OK",AND($V11=1,Inspection!$P11="X")=TRUE,"X",AND($V11=1,Inspection!$P11="NA")=TRUE,"NA",AND($V11=1,Inspection!$P11="D")=TRUE,"D")} -> #N/A | AN11: {=IFS(AND($V11=1,Inspection!$Q11="OK")=TRUE,"OK",AND($V11=1,Inspection!$Q11="X")=TRUE,"X",AND($V11=1,Inspection!$Q11="NA")=TRUE,"NA",AND($V11=1,Inspection!$Q11="D")=TRUE,"D")} -> #N/A | AO11: {=IFS(AND($V11=1,Inspection!$R11="OK")=TRUE,"OK",AND($V11=1,Inspection!$R11="X")=TRUE,"X",AND($V11=1,Inspection!$R11="NA")=TRUE,"NA",AND($V11=1,Inspection!$R11="D")=TRUE,"D")} -> #N/A | AP11: {=IFS(AND($V11=1,Inspection!$S11="OK")=TRUE,"OK",AND($V11=1,Inspection!$S11="X")=TRUE,"X",AND($V11=1,Inspection!$S11="NA")=TRUE,"NA",AND($V11=1,Inspection!$S11="D")=TRUE,"D")} -> #N/A
B12: 9 | E12: OK | F12: OK | G12: OK | H12: OK | I12: OK | J12: OK | K12: OK | L12: OK | M12: OK | N12: OK | O12: OK | P12: OK | Q12: OK | R12: OK | S12: OK | U12: =Inspection!$B12 -> 9 | V12: =COUNTA(Inspection!$C12) -> 0 | W12: =Inspection!$C12 | X12: =Inspection!$D12 | Y12: =Inspection!$T12 | Z12: =Contact!D$11 -> Select School | AB12: {=IFS(AND($V12=1,Inspection!$E12="OK")=TRUE,"OK",AND($V12=1,Inspection!$E12="X")=TRUE,"X",AND($V12=1,Inspection!$E12="NA")=TRUE,"NA",AND($V12=1,Inspection!$E12="D")=TRUE,"D")} -> #N/A | AC12: {=IFS(AND($V12=1,Inspection!$F12="OK")=TRUE,"OK",AND($V12=1,Inspection!$F12="X")=TRUE,"X",AND($V12=1,Inspection!$F12="NA")=TRUE,"NA",AND($V12=1,Inspection!$F12="D")=TRUE,"D")} -> #N/A | AD12: {=IFS(AND($V12=1,Inspection!$G12="OK")=TRUE,"OK",AND($V12=1,Inspection!$G12="X")=TRUE,"X",AND($V12=1,Inspection!$G12="NA")=TRUE,"NA",AND($V12=1,Inspection!$G12="D")=TRUE,"D")} -> #N/A | AE12: {=IFS(AND($V12=1,Inspection!$H12="OK")=TRUE,"OK",AND($V12=1,Inspection!$H12="X")=TRUE,"X",AND($V12=1,Inspection!$H12="NA")=TRUE,"NA",AND($V12=1,Inspection!$H12="D")=TRUE,"D")} -> #N/A | AF12: {=IFS(AND($V12=1,Inspection!$I12="OK")=TRUE,"OK",AND($V12=1,Inspection!$I12="X")=TRUE,"X",AND($V12=1,Inspection!$I12="NA")=TRUE,"NA",AND($V12=1,Inspection!$I12="D")=TRUE,"D")} -> #N/A | AG12: {=IFS(AND($V12=1,Inspection!$J12="OK")=TRUE,"OK",AND($V12=1,Inspection!$J12="X")=TRUE,"X",AND($V12=1,Inspection!$J12="NA")=TRUE,"NA",AND($V12=1,Inspection!$J12="D")=TRUE,"D")} -> #N/A | AH12: {=IFS(AND($V12=1,Inspection!$K12="OK")=TRUE,"OK",AND($V12=1,Inspection!$K12="X")=TRUE,"X",AND($V12=1,Inspection!$K12="NA")=TRUE,"NA",AND($V12=1,Inspection!$K12="D")=TRUE,"D")} -> #N/A | AI12: {=IFS(AND($V12=1,Inspection!$L12="OK")=TRUE,"OK",AND($V12=1,Inspection!$L12="X")=TRUE,"X",AND($V12=1,Inspection!$L12="NA")=TRUE,"NA",AND($V12=1,Inspection!$L12="D")=TRUE,"D")} -> #N/A | AJ12: {=IFS(AND($V12=1,Inspection!$M12="OK")=TRUE,"OK",AND($V12=1,Inspection!$M12="X")=TRUE,"X",AND($V12=1,Inspection!$M12="NA")=TRUE,"NA",AND($V12=1,Inspection!$M12="D")=TRUE,"D")} -> #N/A | AK12: {=IFS(AND($V12=1,Inspection!$N12="OK")=TRUE,"OK",AND($V12=1,Inspection!$N12="X")=TRUE,"X",AND($V12=1,Inspection!$N12="NA")=TRUE,"NA",AND($V12=1,Inspection!$N12="D")=TRUE,"D")} -> #N/A | AL12: {=IFS(AND($V12=1,Inspection!$O12="OK")=TRUE,"OK",AND($V12=1,Inspection!$O12="X")=TRUE,"X",AND($V12=1,Inspection!$O12="NA")=TRUE,"NA",AND($V12=1,Inspection!$O12="D")=TRUE,"D")} -> #N/A | AM12: {=IFS(AND($V12=1,Inspection!$P12="OK")=TRUE,"OK",AND($V12=1,Inspection!$P12="X")=TRUE,"X",AND($V12=1,Inspection!$P12="NA")=TRUE,"NA",AND($V12=1,Inspection!$P12="D")=TRUE,"D")} -> #N/A | AN12: {=IFS(AND($V12=1,Inspection!$Q12="OK")=TRUE,"OK",AND($V12=1,Inspection!$Q12="X")=TRUE,"X",AND($V12=1,Inspection!$Q12="NA")=TRUE,"NA",AND($V12=1,Inspection!$Q12="D")=TRUE,"D")} -> #N/A | AO12: {=IFS(AND($V12=1,Inspection!$R12="OK")=TRUE,"OK",AND($V12=1,Inspection!$R12="X")=TRUE,"X",AND($V12=1,Inspection!$R12="NA")=TRUE,"NA",AND($V12=1,Inspection!$R12="D")=TRUE,"D")} -> #N/A | AP12: {=IFS(AND($V12=1,Inspection!$S12="OK")=TRUE,"OK",AND($V12=1,Inspection!$S12="X")=TRUE,"X",AND($V12=1,Inspection!$S12="NA")=TRUE,"NA",AND($V12=1,Inspection!$S12="D")=TRUE,"D")} -> #N/A
B13: 10 | E13: OK | F13: OK | G13: OK | H13: OK | I13: OK | J13: OK | K13: OK | L13: OK | M13: OK | N13: OK | O13: OK | P13: OK | Q13: OK | R13: OK | S13: OK | U13: =Inspection!$B13 -> 10 | V13: =COUNTA(Inspection!$C13) -> 0 | W13: =Inspection!$C13 | X13: =Inspection!$D13 | Y13: =Inspection!$T13 | Z13: =Contact!D$11 -> Select School | AB13: {=IFS(AND($V13=1,Inspection!$E13="OK")=TRUE,"OK",AND($V13=1,Inspection!$E13="X")=TRUE,"X",AND($V13=1,Inspection!$E13="NA")=TRUE,"NA",AND($V13=1,Inspection!$E13="D")=TRUE,"D")} -> #N/A | AC13: {=IFS(AND($V13=1,Inspection!$F13="OK")=TRUE,"OK",AND($V13=1,Inspection!$F13="X")=TRUE,"X",AND($V13=1,Inspection!$F13="NA")=TRUE,"NA",AND($V13=1,Inspection!$F13="D")=TRUE,"D")} -> #N/A | AD13: {=IFS(AND($V13=1,Inspection!$G13="OK")=TRUE,"OK",AND($V13=1,Inspection!$G13="X")=TRUE,"X",AND($V13=1,Inspection!$G13="NA")=TRUE,"NA",AND($V13=1,Inspection!$G13="D")=TRUE,"D")} -> #N/A | AE13: {=IFS(AND($V13=1,Inspection!$H13="OK")=TRUE,"OK",AND($V13=1,Inspection!$H13="X")=TRUE,"X",AND($V13=1,Inspection!$H13="NA")=TRUE,"NA",AND($V13=1,Inspection!$H13="D")=TRUE,"D")} -> #N/A | AF13: {=IFS(AND($V13=1,Inspection!$I13="OK")=TRUE,"OK",AND($V13=1,Inspection!$I13="X")=TRUE,"X",AND($V13=1,Inspection!$I13="NA")=TRUE,"NA",AND($V13=1,Inspection!$I13="D")=TRUE,"D")} -> #N/A | AG13: {=IFS(AND($V13=1,Inspection!$J13="OK")=TRUE,"OK",AND($V13=1,Inspection!$J13="X")=TRUE,"X",AND($V13=1,Inspection!$J13="NA")=TRUE,"NA",AND($V13=1,Inspection!$J13="D")=TRUE,"D")} -> #N/A | AH13: {=IFS(AND($V13=1,Inspection!$K13="OK")=TRUE,"OK",AND($V13=1,Inspection!$K13="X")=TRUE,"X",AND($V13=1,Inspection!$K13="NA")=TRUE,"NA",AND($V13=1,Inspection!$K13="D")=TRUE,"D")} -> #N/A | AI13: {=IFS(AND($V13=1,Inspection!$L13="OK")=TRUE,"OK",AND($V13=1,Inspection!$L13="X")=TRUE,"X",AND($V13=1,Inspection!$L13="NA")=TRUE,"NA",AND($V13=1,Inspection!$L13="D")=TRUE,"D")} -> #N/A | AJ13: {=IFS(AND($V13=1,Inspection!$M13="OK")=TRUE,"OK",AND($V13=1,Inspection!$M13="X")=TRUE,"X",AND($V13=1,Inspection!$M13="NA")=TRUE,"NA",AND($V13=1,Inspection!$M13="D")=TRUE,"D")} -> #N/A | AK13: {=IFS(AND($V13=1,Inspection!$N13="OK")=TRUE,"OK",AND($V13=1,Inspection!$N13="X")=TRUE,"X",AND($V13=1,Inspection!$N13="NA")=TRUE,"NA",AND($V13=1,Inspection!$N13="D")=TRUE,"D")} -> #N/A | AL13: {=IFS(AND($V13=1,Inspection!$O13="OK")=TRUE,"OK",AND($V13=1,Inspection!$O13="X")=TRUE,"X",AND($V13=1,Inspection!$O13="NA")=TRUE,"NA",AND($V13=1,Inspection!$O13="D")=TRUE,"D")} -> #N/A | AM13: {=IFS(AND($V13=1,Inspection!$P13="OK")=TRUE,"OK",AND($V13=1,Inspection!$P13="X")=TRUE,"X",AND($V13=1,Inspection!$P13="NA")=TRUE,"NA",AND($V13=1,Inspection!$P13="D")=TRUE,"D")} -> #N/A | AN13: {=IFS(AND($V13=1,Inspection!$Q13="OK")=TRUE,"OK",AND($V13=1,Inspection!$Q13="X")=TRUE,"X",AND($V13=1,Inspection!$Q13="NA")=TRUE,"NA",AND($V13=1,Inspection!$Q13="D")=TRUE,"D")} -> #N/A | AO13: {=IFS(AND($V13=1,Inspection!$R13="OK")=TRUE,"OK",AND($V13=1,Inspection!$R13="X")=TRUE,"X",AND($V13=1,Inspection!$R13="NA")=TRUE,"NA",AND($V13=1,Inspection!$R13="D")=TRUE,"D")} -> #N/A | AP13: {=IFS(AND($V13=1,Inspection!$S13="OK")=TRUE,"OK",AND($V13=1,Inspection!$S13="X")=TRUE,"X",AND($V13=1,Inspection!$S13="NA")=TRUE,"NA",AND($V13=1,Inspection!$S13="D")=TRUE,"D")} -> #N/A
B14: 11 | E14: OK | F14: OK | G14: OK | H14: OK | I14: OK | J14: OK | K14: OK | L14: OK | M14: OK | N14: OK | O14: OK | P14: OK | Q14: OK | R14: OK | S14: OK | U14: =Inspection!$B14 -> 11 | V14: =COUNTA(Inspection!$C14) -> 0 | W14: =Inspection!$C14 | X14: =Inspection!$D14 | Y14: =Inspection!$T14 | Z14: =Contact!D$11 -> Select School | AB14: {=IFS(AND($V14=1,Inspection!$E14="OK")=TRUE,"OK",AND($V14=1,Inspection!$E14="X")=TRUE,"X",AND($V14=1,Inspection!$E14="NA")=TRUE,"NA",AND($V14=1,Inspection!$E14="D")=TRUE,"D")} -> #N/A | AC14: {=IFS(AND($V14=1,Inspection!$F14="OK")=TRUE,"OK",AND($V14=1,Inspection!$F14="X")=TRUE,"X",AND($V14=1,Inspection!$F14="NA")=TRUE,"NA",AND($V14=1,Inspection!$F14="D")=TRUE,"D")} -> #N/A | AD14: {=IFS(AND($V14=1,Inspection!$G14="OK")=TRUE,"OK",AND($V14=1,Inspection!$G14="X")=TRUE,"X",AND($V14=1,Inspection!$G14="NA")=TRUE,"NA",AND($V14=1,Inspection!$G14="D")=TRUE,"D")} -> #N/A | AE14: {=IFS(AND($V14=1,Inspection!$H14="OK")=TRUE,"OK",AND($V14=1,Inspection!$H14="X")=TRUE,"X",AND($V14=1,Inspection!$H14="NA")=TRUE,"NA",AND($V14=1,Inspection!$H14="D")=TRUE,"D")} -> #N/A | AF14: {=IFS(AND($V14=1,Inspection!$I14="OK")=TRUE,"OK",AND($V14=1,Inspection!$I14="X")=TRUE,"X",AND($V14=1,Inspection!$I14="NA")=TRUE,"NA",AND($V14=1,Inspection!$I14="D")=TRUE,"D")} -> #N/A | AG14: {=IFS(AND($V14=1,Inspection!$J14="OK")=TRUE,"OK",AND($V14=1,Inspection!$J14="X")=TRUE,"X",AND($V14=1,Inspection!$J14="NA")=TRUE,"NA",AND($V14=1,Inspection!$J14="D")=TRUE,"D")} -> #N/A | AH14: {=IFS(AND($V14=1,Inspection!$K14="OK")=TRUE,"OK",AND($V14=1,Inspection!$K14="X")=TRUE,"X",AND($V14=1,Inspection!$K14="NA")=TRUE,"NA",AND($V14=1,Inspection!$K14="D")=TRUE,"D")} -> #N/A | AI14: {=IFS(AND($V14=1,Inspection!$L14="OK")=TRUE,"OK",AND($V14=1,Inspection!$L14="X")=TRUE,"X",AND($V14=1,Inspection!$L14="NA")=TRUE,"NA",AND($V14=1,Inspection!$L14="D")=TRUE,"D")} -> #N/A | AJ14: {=IFS(AND($V14=1,Inspection!$M14="OK")=TRUE,"OK",AND($V14=1,Inspection!$M14="X")=TRUE,"X",AND($V14=1,Inspection!$M14="NA")=TRUE,"NA",AND($V14=1,Inspection!$M14="D")=TRUE,"D")} -> #N/A | AK14: {=IFS(AND($V14=1,Inspection!$N14="OK")=TRUE,"OK",AND($V14=1,Inspection!$N14="X")=TRUE,"X",AND($V14=1,Inspection!$N14="NA")=TRUE,"NA",AND($V14=1,Inspection!$N14="D")=TRUE,"D")} -> #N/A | AL14: {=IFS(AND($V14=1,Inspection!$O14="OK")=TRUE,"OK",AND($V14=1,Inspection!$O14="X")=TRUE,"X",AND($V14=1,Inspection!$O14="NA")=TRUE,"NA",AND($V14=1,Inspection!$O14="D")=TRUE,"D")} -> #N/A | AM14: {=IFS(AND($V14=1,Inspection!$P14="OK")=TRUE,"OK",AND($V14=1,Inspection!$P14="X")=TRUE,"X",AND($V14=1,Inspection!$P14="NA")=TRUE,"NA",AND($V14=1,Inspection!$P14="D")=TRUE,"D")} -> #N/A | AN14: {=IFS(AND($V14=1,Inspection!$Q14="OK")=TRUE,"OK",AND($V14=1,Inspection!$Q14="X")=TRUE,"X",AND($V14=1,Inspection!$Q14="NA")=TRUE,"NA",AND($V14=1,Inspection!$Q14="D")=TRUE,"D")} -> #N/A | AO14: {=IFS(AND($V14=1,Inspection!$R14="OK")=TRUE,"OK",AND($V14=1,Inspection!$R14="X")=TRUE,"X",AND($V14=1,Inspection!$R14="NA")=TRUE,"NA",AND($V14=1,Inspection!$R14="D")=TRUE,"D")} -> #N/A | AP14: {=IFS(AND($V14=1,Inspection!$S14="OK")=TRUE,"OK",AND($V14=1,Inspection!$S14="X")=TRUE,"X",AND($V14=1,Inspection!$S14="NA")=TRUE,"NA",AND($V14=1,Inspection!$S14="D")=TRUE,"D")} -> #N/A
B15: 12 | E15: OK | F15: OK | G15: OK | H15: OK | I15: OK | J15: OK | K15: OK | L15: OK | M15: OK | N15: OK | O15: OK | P15: OK | Q15: OK | R15: OK | S15: OK | U15: =Inspection!$B15 -> 12 | V15: =COUNTA(Inspection!$C15) -> 0 | W15: =Inspection!$C15 | X15: =Inspection!$D15 | Y15: =Inspection!$T15 | Z15: =Contact!D$11 -> Select School | AB15: {=IFS(AND($V15=1,Inspection!$E15="OK")=TRUE,"OK",AND($V15=1,Inspection!$E15="X")=TRUE,"X",AND($V15=1,Inspection!$E15="NA")=TRUE,"NA",AND($V15=1,Inspection!$E15="D")=TRUE,"D")} -> #N/A | AC15: {=IFS(AND($V15=1,Inspection!$F15="OK")=TRUE,"OK",AND($V15=1,Inspection!$F15="X")=TRUE,"X",AND($V15=1,Inspection!$F15="NA")=TRUE,"NA",AND($V15=1,Inspection!$F15="D")=TRUE,"D")} -> #N/A | AD15: {=IFS(AND($V15=1,Inspection!$G15="OK")=TRUE,"OK",AND($V15=1,Inspection!$G15="X")=TRUE,"X",AND($V15=1,Inspection!$G15="NA")=TRUE,"NA",AND($V15=1,Inspection!$G15="D")=TRUE,"D")} -> #N/A | AE15: {=IFS(AND($V15=1,Inspection!$H15="OK")=TRUE,"OK",AND($V15=1,Inspection!$H15="X")=TRUE,"X",AND($V15=1,Inspection!$H15="NA")=TRUE,"NA",AND($V15=1,Inspection!$H15="D")=TRUE,"D")} -> #N/A | AF15: {=IFS(AND($V15=1,Inspection!$I15="OK")=TRUE,"OK",AND($V15=1,Inspection!$I15="X")=TRUE,"X",AND($V15=1,Inspection!$I15="NA")=TRUE,"NA",AND($V15=1,Inspection!$I15="D")=TRUE,"D")} -> #N/A | AG15: {=IFS(AND($V15=1,Inspection!$J15="OK")=TRUE,"OK",AND($V15=1,Inspection!$J15="X")=TRUE,"X",AND($V15=1,Inspection!$J15="NA")=TRUE,"NA",AND($V15=1,Inspection!$J15="D")=TRUE,"D")} -> #N/A | AH15: {=IFS(AND($V15=1,Inspection!$K15="OK")=TRUE,"OK",AND($V15=1,Inspection!$K15="X")=TRUE,"X",AND($V15=1,Inspection!$K15="NA")=TRUE,"NA",AND($V15=1,Inspection!$K15="D")=TRUE,"D")} -> #N/A | AI15: {=IFS(AND($V15=1,Inspection!$L15="OK")=TRUE,"OK",AND($V15=1,Inspection!$L15="X")=TRUE,"X",AND($V15=1,Inspection!$L15="NA")=TRUE,"NA",AND($V15=1,Inspection!$L15="D")=TRUE,"D")} -> #N/A | AJ15: {=IFS(AND($V15=1,Inspection!$M15="OK")=TRUE,"OK",AND($V15=1,Inspection!$M15="X")=TRUE,"X",AND($V15=1,Inspection!$M15="NA")=TRUE,"NA",AND($V15=1,Inspection!$M15="D")=TRUE,"D")} -> #N/A | AK15: {=IFS(AND($V15=1,Inspection!$N15="OK")=TRUE,"OK",AND($V15=1,Inspection!$N15="X")=TRUE,"X",AND($V15=1,Inspection!$N15="NA")=TRUE,"NA",AND($V15=1,Inspection!$N15="D")=TRUE,"D")} -> #N/A | AL15: {=IFS(AND($V15=1,Inspection!$O15="OK")=TRUE,"OK",AND($V15=1,Inspection!$O15="X")=TRUE,"X",AND($V15=1,Inspection!$O15="NA")=TRUE,"NA",AND($V15=1,Inspection!$O15="D")=TRUE,"D")} -> #N/A | AM15: {=IFS(AND($V15=1,Inspection!$P15="OK")=TRUE,"OK",AND($V15=1,Inspection!$P15="X")=TRUE,"X",AND($V15=1,Inspection!$P15="NA")=TRUE,"NA",AND($V15=1,Inspection!$P15="D")=TRUE,"D")} -> #N/A | AN15: {=IFS(AND($V15=1,Inspection!$Q15="OK")=TRUE,"OK",AND($V15=1,Inspection!$Q15="X")=TRUE,"X",AND($V15=1,Inspection!$Q15="NA")=TRUE,"NA",AND($V15=1,Inspection!$Q15="D")=TRUE,"D")} -> #N/A | AO15: {=IFS(AND($V15=1,Inspection!$R15="OK")=TRUE,"OK",AND($V15=1,Inspection!$R15="X")=TRUE,"X",AND($V15=1,Inspection!$R15="NA")=TRUE,"NA",AND($V15=1,Inspection!$R15="D")=TRUE,"D")} -> #N/A | AP15: {=IFS(AND($V15=1,Inspection!$S15="OK")=TRUE,"OK",AND($V15=1,Inspection!$S15="X")=TRUE,"X",AND($V15=1,Inspection!$S15="NA")=TRUE,"NA",AND($V15=1,Inspection!$S15="D")=TRUE,"D")} -> #N/A
... B118: 115 | E118: OK | F118: OK | G118: OK | H118: OK | I118: OK | J118: OK | K118: OK | L118: OK | M118: OK | N118: OK | O118: OK | P118: OK | Q118: OK | R118: OK | S118: OK | U118: =Inspection!$B118 -> 115 | V118: =COUNTA(Inspection!$C118) -> 0 | W118: =Inspection!$C118 | X118: =Inspection!$D118 | Y118: =Inspection!$T118 | Z118: =Contact!D$11 -> Select School | AB118: {=IFS(AND($V118=1,Inspection!$E118="OK")=TRUE,"OK",AND($V118=1,Inspection!$E118="X")=TRUE,"X",AND($V118=1,Inspection!$E118="NA")=TRUE,"NA",AND($V118=1,Inspection!$E118="D")=TRUE,"D")} -> #N/A | AC118: {=IFS(AND($V118=1,Inspection!$F118="OK")=TRUE,"OK",AND($V118=1,Inspection!$F118="X")=TRUE,"X",AND($V118=1,Inspection!$F118="NA")=TRUE,"NA",AND($V118=1,Inspection!$F118="D")=TRUE,"D")} -> #N/A | AD118: {=IFS(AND($V118=1,Inspection!$G118="OK")=TRUE,"OK",AND($V118=1,Inspection!$G118="X")=TRUE,"X",AND($V118=1,Inspection!$G118="NA")=TRUE,"NA",AND($V118=1,Inspection!$G118="D")=TRUE,"D")} -> #N/A | AE118: {=IFS(AND($V118=1,Inspection!$H118="OK")=TRUE,"OK",AND($V118=1,Inspection!$H118="X")=TRUE,"X",AND($V118=1,Inspection!$H118="NA")=TRUE,"NA",AND($V118=1,Inspection!$H118="D")=TRUE,"D")} -> #N/A | AF118: {=IFS(AND($V118=1,Inspection!$I118="OK")=TRUE,"OK",AND($V118=1,Inspection!$I118="X")=TRUE,"X",AND($V118=1,Inspection!$I118="NA")=TRUE,"NA",AND($V118=1,Inspection!$I118="D")=TRUE,"D")} -> #N/A | AG118: {=IFS(AND($V118=1,Inspection!$J118="OK")=TRUE,"OK",AND($V118=1,Inspection!$J118="X")=TRUE,"X",AND($V118=1,Inspection!$J118="NA")=TRUE,"NA",AND($V118=1,Inspection!$J118="D")=TRUE,"D")} -> #N/A | AH118: {=IFS(AND($V118=1,Inspection!$K118="OK")=TRUE,"OK",AND($V118=1,Inspection!$K118="X")=TRUE,"X",AND($V118=1,Inspection!$K118="NA")=TRUE,"NA",AND($V118=1,Inspection!$K118="D")=TRUE,"D")} -> #N/A | AI118: {=IFS(AND($V118=1,Inspection!$L118="OK")=TRUE,"OK",AND($V118=1,Inspection!$L118="X")=TRUE,"X",AND($V118=1,Inspection!$L118="NA")=TRUE,"NA",AND($V118=1,Inspection!$L118="D")=TRUE,"D")} -> #N/A | AJ118: {=IFS(AND($V118=1,Inspection!$M118="OK")=TRUE,"OK",AND($V118=1,Inspection!$M118="X")=TRUE,"X",AND($V118=1,Inspection!$M118="NA")=TRUE,"NA",AND($V118=1,Inspection!$M118="D")=TRUE,"D")} -> #N/A | AK118: {=IFS(AND($V118=1,Inspection!$N118="OK")=TRUE,"OK",AND($V118=1,Inspection!$N118="X")=TRUE,"X",AND($V118=1,Inspection!$N118="NA")=TRUE,"NA",AND($V118=1,Inspection!$N118="D")=TRUE,"D")} -> #N/A | AL118: {=IFS(AND($V118=1,Inspection!$O118="OK")=TRUE,"OK",AND($V118=1,Inspection!$O118="X")=TRUE,"X",AND($V118=1,Inspection!$O118="NA")=TRUE,"NA",AND($V118=1,Inspection!$O118="D")=TRUE,"D")} -> #N/A | AM118: {=IFS(AND($V118=1,Inspection!$P118="OK")=TRUE,"OK",AND($V118=1,Inspection!$P118="X")=TRUE,"X",AND($V118=1,Inspection!$P118="NA")=TRUE,"NA",AND($V118=1,Inspection!$P118="D")=TRUE,"D")} -> #N/A | AN118: {=IFS(AND($V118=1,Inspection!$Q118="OK")=TRUE,"OK",AND($V118=1,Inspection!$Q118="X")=TRUE,"X",AND($V118=1,Inspection!$Q118="NA")=TRUE,"NA",AND($V118=1,Inspection!$Q118="D")=TRUE,"D")} -> #N/A | AO118: {=IFS(AND($V118=1,Inspection!$R118="OK")=TRUE,"OK",AND($V118=1,Inspection!$R118="X")=TRUE,"X",AND($V118=1,Inspection!$R118="NA")=TRUE,"NA",AND($V118=1,Inspection!$R118="D")=TRUE,"D")} -> #N/A | AP118: {=IFS(AND($V118=1,Inspection!$S118="OK")=TRUE,"OK",AND($V118=1,Inspection!$S118="X")=TRUE,"X",AND($V118=1,Inspection!$S118="NA")=TRUE,"NA",AND($V118=1,Inspection!$S118="D")=TRUE,"D")} -> #N/A
B119: 116 | E119: OK | F119: OK | G119: OK | H119: OK | I119: OK | J119: OK | K119: OK | L119: OK | M119: OK | N119: OK | O119: OK | P119: OK | Q119: OK | R119: OK | S119: OK | U119: =Inspection!$B119 -> 116 | V119: =COUNTA(Inspection!$C119) -> 0 | W119: =Inspection!$C119 | X119: =Inspection!$D119 | Y119: =Inspection!$T119 | Z119: =Contact!D$11 -> Select School | AA119: =Contact!D$4 | AB119: {=IFS(AND($V119=1,Inspection!$E119="OK")=TRUE,"OK",AND($V119=1,Inspection!$E119="X")=TRUE,"X",AND($V119=1,Inspection!$E119="NA")=TRUE,"NA",AND($V119=1,Inspection!$E119="D")=TRUE,"D")} -> #N/A | AC119: {=IFS(AND($V119=1,Inspection!$F119="OK")=TRUE,"OK",AND($V119=1,Inspection!$F119="X")=TRUE,"X",AND($V119=1,Inspection!$F119="NA")=TRUE,"NA",AND($V119=1,Inspection!$F119="D")=TRUE,"D")} -> #N/A | AD119: {=IFS(AND($V119=1,Inspection!$G119="OK")=TRUE,"OK",AND($V119=1,Inspection!$G119="X")=TRUE,"X",AND($V119=1,Inspection!$G119="NA")=TRUE,"NA",AND($V119=1,Inspection!$G119="D")=TRUE,"D")} -> #N/A | AE119: {=IFS(AND($V119=1,Inspection!$H119="OK")=TRUE,"OK",AND($V119=1,Inspection!$H119="X")=TRUE,"X",AND($V119=1,Inspection!$H119="NA")=TRUE,"NA",AND($V119=1,Inspection!$H119="D")=TRUE,"D")} -> #N/A | AF119: {=IFS(AND($V119=1,Inspection!$I119="OK")=TRUE,"OK",AND($V119=1,Inspection!$I119="X")=TRUE,"X",AND($V119=1,Inspection!$I119="NA")=TRUE,"NA",AND($V119=1,Inspection!$I119="D")=TRUE,"D")} -> #N/A | AG119: {=IFS(AND($V119=1,Inspection!$J119="OK")=TRUE,"OK",AND($V119=1,Inspection!$J119="X")=TRUE,"X",AND($V119=1,Inspection!$J119="NA")=TRUE,"NA",AND($V119=1,Inspection!$J119="D")=TRUE,"D")} -> #N/A | AH119: {=IFS(AND($V119=1,Inspection!$K119="OK")=TRUE,"OK",AND($V119=1,Inspection!$K119="X")=TRUE,"X",AND($V119=1,Inspection!$K119="NA")=TRUE,"NA",AND($V119=1,Inspection!$K119="D")=TRUE,"D")} -> #N/A | AI119: {=IFS(AND($V119=1,Inspection!$L119="OK")=TRUE,"OK",AND($V119=1,Inspection!$L119="X")=TRUE,"X",AND($V119=1,Inspection!$L119="NA")=TRUE,"NA",AND($V119=1,Inspection!$L119="D")=TRUE,"D")} -> #N/A | AJ119: {=IFS(AND($V119=1,Inspection!$M119="OK")=TRUE,"OK",AND($V119=1,Inspection!$M119="X")=TRUE,"X",AND($V119=1,Inspection!$M119="NA")=TRUE,"NA",AND($V119=1,Inspection!$M119="D")=TRUE,"D")} -> #N/A | AK119: {=IFS(AND($V119=1,Inspection!$N119="OK")=TRUE,"OK",AND($V119=1,Inspection!$N119="X")=TRUE,"X",AND($V119=1,Inspection!$N119="NA")=TRUE,"NA",AND($V119=1,Inspection!$N119="D")=TRUE,"D")} -> #N/A | AL119: {=IFS(AND($V119=1,Inspection!$O119="OK")=TRUE,"OK",AND($V119=1,Inspection!$O119="X")=TRUE,"X",AND($V119=1,Inspection!$O119="NA")=TRUE,"NA",AND($V119=1,Inspection!$O119="D")=TRUE,"D")} -> #N/A | AM119: {=IFS(AND($V119=1,Inspection!$P119="OK")=TRUE,"OK",AND($V119=1,Inspection!$P119="X")=TRUE,"X",AND($V119=1,Inspection!$P119="NA")=TRUE,"NA",AND($V119=1,Inspection!$P119="D")=TRUE,"D")} -> #N/A | AN119: {=IFS(AND($V119=1,Inspection!$Q119="OK")=TRUE,"OK",AND($V119=1,Inspection!$Q119="X")=TRUE,"X",AND($V119=1,Inspection!$Q119="NA")=TRUE,"NA",AND($V119=1,Inspection!$Q119="D")=TRUE,"D")} -> #N/A | AO119: {=IFS(AND($V119=1,Inspection!$R119="OK")=TRUE,"OK",AND($V119=1,Inspection!$R119="X")=TRUE,"X",AND($V119=1,Inspection!$R119="NA")=TRUE,"NA",AND($V119=1,Inspection!$R119="D")=TRUE,"D")} -> #N/A | AP119: {=IFS(AND($V119=1,Inspection!$S119="OK")=TRUE,"OK",AND($V119=1,Inspection!$S119="X")=TRUE,"X",AND($V119=1,Inspection!$S119="NA")=TRUE,"NA",AND($V119=1,Inspection!$S119="D")=TRUE,"D")} -> #N/A
B120: 117 | E120: OK | F120: OK | G120: OK | H120: OK | I120: OK | J120: OK | K120: OK | L120: OK | M120: OK | N120: OK | O120: OK | P120: OK | Q120: OK | R120: OK | S120: OK | U120: =Inspection!$B120 -> 117 | V120: =COUNTA(Inspection!$C120) -> 0 | W120: =Inspection!$C120 | X120: =Inspection!$D120 | Y120: =Inspection!$T120 | Z120: =Contact!D$11 -> Select School | AA120: =Contact!D$4 | AB120: {=IFS(AND($V120=1,Inspection!$E120="OK")=TRUE,"OK",AND($V120=1,Inspection!$E120="X")=TRUE,"X",AND($V120=1,Inspection!$E120="NA")=TRUE,"NA",AND($V120=1,Inspection!$E120="D")=TRUE,"D")} -> #N/A | AC120: {=IFS(AND($V120=1,Inspection!$F120="OK")=TRUE,"OK",AND($V120=1,Inspection!$F120="X")=TRUE,"X",AND($V120=1,Inspection!$F120="NA")=TRUE,"NA",AND($V120=1,Inspection!$F120="D")=TRUE,"D")} -> #N/A | AD120: {=IFS(AND($V120=1,Inspection!$G120="OK")=TRUE,"OK",AND($V120=1,Inspection!$G120="X")=TRUE,"X",AND($V120=1,Inspection!$G120="NA")=TRUE,"NA",AND($V120=1,Inspection!$G120="D")=TRUE,"D")} -> #N/A | AE120: {=IFS(AND($V120=1,Inspection!$H120="OK")=TRUE,"OK",AND($V120=1,Inspection!$H120="X")=TRUE,"X",AND($V120=1,Inspection!$H120="NA")=TRUE,"NA",AND($V120=1,Inspection!$H120="D")=TRUE,"D")} -> #N/A | AF120: {=IFS(AND($V120=1,Inspection!$I120="OK")=TRUE,"OK",AND($V120=1,Inspection!$I120="X")=TRUE,"X",AND($V120=1,Inspection!$I120="NA")=TRUE,"NA",AND($V120=1,Inspection!$I120="D")=TRUE,"D")} -> #N/A | AG120: {=IFS(AND($V120=1,Inspection!$J120="OK")=TRUE,"OK",AND($V120=1,Inspection!$J120="X")=TRUE,"X",AND($V120=1,Inspection!$J120="NA")=TRUE,"NA",AND($V120=1,Inspection!$J120="D")=TRUE,"D")} -> #N/A | AH120: {=IFS(AND($V120=1,Inspection!$K120="OK")=TRUE,"OK",AND($V120=1,Inspection!$K120="X")=TRUE,"X",AND($V120=1,Inspection!$K120="NA")=TRUE,"NA",AND($V120=1,Inspection!$K120="D")=TRUE,"D")} -> #N/A | AI120: {=IFS(AND($V120=1,Inspection!$L120="OK")=TRUE,"OK",AND($V120=1,Inspection!$L120="X")=TRUE,"X",AND($V120=1,Inspection!$L120="NA")=TRUE,"NA",AND($V120=1,Inspection!$L120="D")=TRUE,"D")} -> #N/A | AJ120: {=IFS(AND($V120=1,Inspection!$M120="OK")=TRUE,"OK",AND($V120=1,Inspection!$M120="X")=TRUE,"X",AND($V120=1,Inspection!$M120="NA")=TRUE,"NA",AND($V120=1,Inspection!$M120="D")=TRUE,"D")} -> #N/A | AK120: {=IFS(AND($V120=1,Inspection!$N120="OK")=TRUE,"OK",AND($V120=1,Inspection!$N120="X")=TRUE,"X",AND($V120=1,Inspection!$N120="NA")=TRUE,"NA",AND($V120=1,Inspection!$N120="D")=TRUE,"D")} -> #N/A | AL120: {=IFS(AND($V120=1,Inspection!$O120="OK")=TRUE,"OK",AND($V120=1,Inspection!$O120="X")=TRUE,"X",AND($V120=1,Inspection!$O120="NA")=TRUE,"NA",AND($V120=1,Inspection!$O120="D")=TRUE,"D")} -> #N/A | AM120: {=IFS(AND($V120=1,Inspection!$P120="OK")=TRUE,"OK",AND($V120=1,Inspection!$P120="X")=TRUE,"X",AND($V120=1,Inspection!$P120="NA")=TRUE,"NA",AND($V120=1,Inspection!$P120="D")=TRUE,"D")} -> #N/A | AN120: {=IFS(AND($V120=1,Inspection!$Q120="OK")=TRUE,"OK",AND($V120=1,Inspection!$Q120="X")=TRUE,"X",AND($V120=1,Inspection!$Q120="NA")=TRUE,"NA",AND($V120=1,Inspection!$Q120="D")=TRUE,"D")} -> #N/A | AO120: {=IFS(AND($V120=1,Inspection!$R120="OK")=TRUE,"OK",AND($V120=1,Inspection!$R120="X")=TRUE,"X",AND($V120=1,Inspection!$R120="NA")=TRUE,"NA",AND($V120=1,Inspection!$R120="D")=TRUE,"D")} -> #N/A | AP120: {=IFS(AND($V120=1,Inspection!$S120="OK")=TRUE,"OK",AND($V120=1,Inspection!$S120="X")=TRUE,"X",AND($V120=1,Inspection!$S120="NA")=TRUE,"NA",AND($V120=1,Inspection!$S120="D")=TRUE,"D")} -> #N/A
B121: 118 | E121: OK | F121: OK | G121: OK | H121: OK | I121: OK | J121: OK | K121: OK | L121: OK | M121: OK | N121: OK | O121: OK | P121: OK | Q121: OK | R121: OK | S121: OK | U121: =Inspection!$B121 -> 118 | V121: =COUNTA(Inspection!$C121) -> 0 | W121: =Inspection!$C121 | X121: =Inspection!$D121 | Y121: =Inspection!$T121 | Z121: =Contact!D$11 -> Select School | AA121: =Contact!D$4 | AB121: {=IFS(AND($V121=1,Inspection!$E121="OK")=TRUE,"OK",AND($V121=1,Inspection!$E121="X")=TRUE,"X",AND($V121=1,Inspection!$E121="NA")=TRUE,"NA",AND($V121=1,Inspection!$E121="D")=TRUE,"D")} -> #N/A | AC121: {=IFS(AND($V121=1,Inspection!$F121="OK")=TRUE,"OK",AND($V121=1,Inspection!$F121="X")=TRUE,"X",AND($V121=1,Inspection!$F121="NA")=TRUE,"NA",AND($V121=1,Inspection!$F121="D")=TRUE,"D")} -> #N/A | AD121: {=IFS(AND($V121=1,Inspection!$G121="OK")=TRUE,"OK",AND($V121=1,Inspection!$G121="X")=TRUE,"X",AND($V121=1,Inspection!$G121="NA")=TRUE,"NA",AND($V121=1,Inspection!$G121="D")=TRUE,"D")} -> #N/A | AE121: {=IFS(AND($V121=1,Inspection!$H121="OK")=TRUE,"OK",AND($V121=1,Inspection!$H121="X")=TRUE,"X",AND($V121=1,Inspection!$H121="NA")=TRUE,"NA",AND($V121=1,Inspection!$H121="D")=TRUE,"D")} -> #N/A | AF121: {=IFS(AND($V121=1,Inspection!$I121="OK")=TRUE,"OK",AND($V121=1,Inspection!$I121="X")=TRUE,"X",AND($V121=1,Inspection!$I121="NA")=TRUE,"NA",AND($V121=1,Inspection!$I121="D")=TRUE,"D")} -> #N/A | AG121: {=IFS(AND($V121=1,Inspection!$J121="OK")=TRUE,"OK",AND($V121=1,Inspection!$J121="X")=TRUE,"X",AND($V121=1,Inspection!$J121="NA")=TRUE,"NA",AND($V121=1,Inspection!$J121="D")=TRUE,"D")} -> #N/A | AH121: {=IFS(AND($V121=1,Inspection!$K121="OK")=TRUE,"OK",AND($V121=1,Inspection!$K121="X")=TRUE,"X",AND($V121=1,Inspection!$K121="NA")=TRUE,"NA",AND($V121=1,Inspection!$K121="D")=TRUE,"D")} -> #N/A | AI121: {=IFS(AND($V121=1,Inspection!$L121="OK")=TRUE,"OK",AND($V121=1,Inspection!$L121="X")=TRUE,"X",AND($V121=1,Inspection!$L121="NA")=TRUE,"NA",AND($V121=1,Inspection!$L121="D")=TRUE,"D")} -> #N/A | AJ121: {=IFS(AND($V121=1,Inspection!$M121="OK")=TRUE,"OK",AND($V121=1,Inspection!$M121="X")=TRUE,"X",AND($V121=1,Inspection!$M121="NA")=TRUE,"NA",AND($V121=1,Inspection!$M121="D")=TRUE,"D")} -> #N/A | AK121: {=IFS(AND($V121=1,Inspection!$N121="OK")=TRUE,"OK",AND($V121=1,Inspection!$N121="X")=TRUE,"X",AND($V121=1,Inspection!$N121="NA")=TRUE,"NA",AND($V121=1,Inspection!$N121="D")=TRUE,"D")} -> #N/A | AL121: {=IFS(AND($V121=1,Inspection!$O121="OK")=TRUE,"OK",AND($V121=1,Inspection!$O121="X")=TRUE,"X",AND($V121=1,Inspection!$O121="NA")=TRUE,"NA",AND($V121=1,Inspection!$O121="D")=TRUE,"D")} -> #N/A | AM121: {=IFS(AND($V121=1,Inspection!$P121="OK")=TRUE,"OK",AND($V121=1,Inspection!$P121="X")=TRUE,"X",AND($V121=1,Inspection!$P121="NA")=TRUE,"NA",AND($V121=1,Inspection!$P121="D")=TRUE,"D")} -> #N/A | AN121: {=IFS(AND($V121=1,Inspection!$Q121="OK")=TRUE,"OK",AND($V121=1,Inspection!$Q121="X")=TRUE,"X",AND($V121=1,Inspection!$Q121="NA")=TRUE,"NA",AND($V121=1,Inspection!$Q121="D")=TRUE,"D")} -> #N/A | AO121: {=IFS(AND($V121=1,Inspection!$R121="OK")=TRUE,"OK",AND($V121=1,Inspection!$R121="X")=TRUE,"X",AND($V121=1,Inspection!$R121="NA")=TRUE,"NA",AND($V121=1,Inspection!$R121="D")=TRUE,"D")} -> #N/A | AP121: {=IFS(AND($V121=1,Inspection!$S121="OK")=TRUE,"OK",AND($V121=1,Inspection!$S121="X")=TRUE,"X",AND($V121=1,Inspection!$S121="NA")=TRUE,"NA",AND($V121=1,Inspection!$S121="D")=TRUE,"D")} -> #N/A
B122: 119 | E122: OK | F122: OK | G122: OK | H122: OK | I122: OK | J122: OK | K122: OK | L122: OK | M122: OK | N122: OK | O122: OK | P122: OK | Q122: OK | R122: OK | S122: OK | U122: =Inspection!$B122 -> 119 | V122: =COUNTA(Inspection!$C122) -> 0 | W122: =Inspection!$C122 | X122: =Inspection!$D122 | Y122: =Inspection!$T122 | Z122: =Contact!D$11 -> Select School | AA122: =Contact!D$4 | AB122: {=IFS(AND($V122=1,Inspection!$E122="OK")=TRUE,"OK",AND($V122=1,Inspection!$E122="X")=TRUE,"X",AND($V122=1,Inspection!$E122="NA")=TRUE,"NA",AND($V122=1,Inspection!$E122="D")=TRUE,"D")} -> #N/A | AC122: {=IFS(AND($V122=1,Inspection!$F122="OK")=TRUE,"OK",AND($V122=1,Inspection!$F122="X")=TRUE,"X",AND($V122=1,Inspection!$F122="NA")=TRUE,"NA",AND($V122=1,Inspection!$F122="D")=TRUE,"D")} -> #N/A | AD122: {=IFS(AND($V122=1,Inspection!$G122="OK")=TRUE,"OK",AND($V122=1,Inspection!$G122="X")=TRUE,"X",AND($V122=1,Inspection!$G122="NA")=TRUE,"NA",AND($V122=1,Inspection!$G122="D")=TRUE,"D")} -> #N/A | AE122: {=IFS(AND($V122=1,Inspection!$H122="OK")=TRUE,"OK",AND($V122=1,Inspection!$H122="X")=TRUE,"X",AND($V122=1,Inspection!$H122="NA")=TRUE,"NA",AND($V122=1,Inspection!$H122="D")=TRUE,"D")} -> #N/A | AF122: {=IFS(AND($V122=1,Inspection!$I122="OK")=TRUE,"OK",AND($V122=1,Inspection!$I122="X")=TRUE,"X",AND($V122=1,Inspection!$I122="NA")=TRUE,"NA",AND($V122=1,Inspection!$I122="D")=TRUE,"D")} -> #N/A | AG122: {=IFS(AND($V122=1,Inspection!$J122="OK")=TRUE,"OK",AND($V122=1,Inspection!$J122="X")=TRUE,"X",AND($V122=1,Inspection!$J122="NA")=TRUE,"NA",AND($V122=1,Inspection!$J122="D")=TRUE,"D")} -> #N/A | AH122: {=IFS(AND($V122=1,Inspection!$K122="OK")=TRUE,"OK",AND($V122=1,Inspection!$K122="X")=TRUE,"X",AND($V122=1,Inspection!$K122="NA")=TRUE,"NA",AND($V122=1,Inspection!$K122="D")=TRUE,"D")} -> #N/A | AI122: {=IFS(AND($V122=1,Inspection!$L122="OK")=TRUE,"OK",AND($V122=1,Inspection!$L122="X")=TRUE,"X",AND($V122=1,Inspection!$L122="NA")=TRUE,"NA",AND($V122=1,Inspection!$L122="D")=TRUE,"D")} -> #N/A | AJ122: {=IFS(AND($V122=1,Inspection!$M122="OK")=TRUE,"OK",AND($V122=1,Inspection!$M122="X")=TRUE,"X",AND($V122=1,Inspection!$M122="NA")=TRUE,"NA",AND($V122=1,Inspection!$M122="D")=TRUE,"D")} -> #N/A | AK122: {=IFS(AND($V122=1,Inspection!$N122="OK")=TRUE,"OK",AND($V122=1,Inspection!$N122="X")=TRUE,"X",AND($V122=1,Inspection!$N122="NA")=TRUE,"NA",AND($V122=1,Inspection!$N122="D")=TRUE,"D")} -> #N/A | AL122: {=IFS(AND($V122=1,Inspection!$O122="OK")=TRUE,"OK",AND($V122=1,Inspection!$O122="X")=TRUE,"X",AND($V122=1,Inspection!$O122="NA")=TRUE,"NA",AND($V122=1,Inspection!$O122="D")=TRUE,"D")} -> #N/A | AM122: {=IFS(AND($V122=1,Inspection!$P122="OK")=TRUE,"OK",AND($V122=1,Inspection!$P122="X")=TRUE,"X",AND($V122=1,Inspection!$P122="NA")=TRUE,"NA",AND($V122=1,Inspection!$P122="D")=TRUE,"D")} -> #N/A | AN122: {=IFS(AND($V122=1,Inspection!$Q122="OK")=TRUE,"OK",AND($V122=1,Inspection!$Q122="X")=TRUE,"X",AND($V122=1,Inspection!$Q122="NA")=TRUE,"NA",AND($V122=1,Inspection!$Q122="D")=TRUE,"D")} -> #N/A | AO122: {=IFS(AND($V122=1,Inspection!$R122="OK")=TRUE,"OK",AND($V122=1,Inspection!$R122="X")=TRUE,"X",AND($V122=1,Inspection!$R122="NA")=TRUE,"NA",AND($V122=1,Inspection!$R122="D")=TRUE,"D")} -> #N/A | AP122: {=IFS(AND($V122=1,Inspection!$S122="OK")=TRUE,"OK",AND($V122=1,Inspection!$S122="X")=TRUE,"X",AND($V122=1,Inspection!$S122="NA")=TRUE,"NA",AND($V122=1,Inspection!$S122="D")=TRUE,"D")} -> #N/A
