Workbook
Name Alameda_Unified: #REF!
Name SBE_Latitude_37.8_High: #REF!
Name Livermore_Valley_Joint_Unified: #REF!
Name Oakland_Unified: #REF!
Name San_Leandro_Unified: #REF!
Name New_Haven_Unified: #REF!
Name San_Lorenzo_Unified: #REF!
Name Albany_City_Unified: #REF!
Name Newark_Unified: #REF!
Name Berkeley_Unified: #REF!
Name Alameda_County_Office_of_Education: #REF!
Name Hayward_Unified: #REF!

Sheet Contact
B1: FACILITY INSPECTION TOOL (FIT) OFFICE OF PUBLIC SCHOOL CONSTRUCTION SCHOOL FACILITY CONDITIONS EVALUATION
B3: INITIAL INSPECTION
B4: Inspector Name | F4: INSPECTOR'S COMMENTS AND RATING EXPLANATION
B5: Inspector Title
B6: Date of Inspection
B7: Time of Inspection | D7: Select Time
B8: Weather Conditions | D8: Select Weather
B10: LEA/CMO/Charter | D10: Select LEA/CMO/Charter | F10: DISTRICT'S RESPONSES TO REPORT
B11: School Site | D11: Select School
B12: Number of Classrooms on site
B13: Number of Restrooms on site
B14: Name of District Representative
B15: Title of District Representative
B16: Email of District Representative
B17: Site Enrollment
B18: Estimated Building Volume (Cubic Feet)
B19: Estimated Site Square Footage / Acreage
B20: Estimated Building Square Footage
B22: FOLLOW UP INSPECTION
B23: Follow Up | D23: NA | F23: FOLLOW UP COMMENTS
B24: Date of Follow Up
B25: Corrections Made
B26: Follow Up Contact Name
B27: Follow Up Contact Email

Sheet Inspection
B1: FACILITY INSPECTION TOOL (FIT) OFFICE OF PUBLIC SCHOOL CONSTRUCTION SCHOOL FACILITY CONDITIONS EVALUATION
B3: ID | C3: Building / Area Name | D3: Estimated Square Footage | E3: GAS LEAKS | F3: MECH/HVAC | G3: SEWER | H3: INTERIOR SURFACES | I3: OVERALL CLEANLINESS | J3: PEST/VERMIN INFESTATION | K3: ELECTRICAL | L3: RESTROOM | M3: SINKS/ FOUNTAINS | N3: FIRE SAFETY | O3: HAZARDOUS MATERIALS | P3: STRUCTURAL DAMAGE | Q3: ROOFS | R3: PLAYGROUND/SCHOOL GROUNDS | S3: WINDOWS/ DOORS/ GATES/FENCES | T3: COMMENTS: | U3: ID | V3: Room (0/1) | W3: Building / Area Name | X3: Estimated Square Footage | Y3: COMMENTS: | Z3: School Site | AA3: Inspector Name | AB3: GAS LEAKS | AC3: MECH/HVAC | AD3: SEWER | AE3: INTERIOR SURFACES | AF3: OVERALL CLEANLINESS | AG3: PEST/VERMIN INFESTATION | AH3: ELECTRICAL | AI3: RESTROOM | AJ3: SINKS/ FOUNTAINS | AK3: FIRE SAFETY | AL3: HAZARDOUS MATERIALS | AM3: STRUCTURAL DAMAGE | AN3: ROOFS | AO3: PLAYGROUND/SCHOOL GROUNDS | AP3: WINDOWS/ DOORS/ GATES/FENCES
B4: 1 | E4: OK | F4: OK | G4: OK | H4: OK | I4: OK | J4: OK | K4: OK | L4: OK | M4: OK | N4: OK | O4: OK | P4: OK | Q4: OK | R4: OK | S4: OK | U4: =Inspection!$B4 -> 1 | V4: =COUNTA(Inspection!$C4) -> 0 | W4: =Inspection!$C4 | X4: =Inspection!$D4 | Y4: =Inspection!$T4 | Z4: =Contact!D$11 -> Select School | AB4: {=IFS(AND($V4=1,Inspection!$E4="OK")=TRUE,"OK",AND($V4=1,Inspection!$E4="X")=TRUE,"X",AND($V4=1,Inspection!$E4="NA")=TRUE,"NA",AND($V4=1,Inspection!$E4="D")=TRUE,"D")} -> #N/A | AC4: {=IFS(AND($V4=1,Inspection!$F4="OK")=TRUE,"OK",AND($V4=1,Inspection!$F4="X")=TRUE,"X",AND($V4=1,Inspection!$F4="NA")=TRUE,"NA",AND($V4=1,Inspection!$F4="D")=TRUE,"D")} -> #N/A | AD4: {=IFS(AND($V4=1,Inspection!$G4="OK")=TRUE,"OK",AND($V4=1,Inspection!$G4="X")=TRUE,"X",AND($V4=1,Inspection!$G4="NA")=TRUE,"NA",AND($V4=1,Inspection!$G4="D")=TRUE,"D")} -> #N/A | AE4: {=IFS(AND($V4=1,Inspection!$H4="OK")=TRUE,"OK",AND($V4=1,Inspection!$H4="X")=TRUE,"X",AND($V4=1,Inspection!$H4="NA")=TRUE,"NA",AND($V4=1,Inspection!$H4="D")=TRUE,"D")} -> #N/A | AF4: {=IFS(AND($V4=1,Inspection!$I4="OK")=TRUE,"OK",AND($V4=1,Inspection!$I4="X")=TRUE,"X",AND($V4=1,Inspection!$I4="NA")=TRUE,"NA",AND($V4=1,Inspection!$I4="D")=TRUE,"D")} -> #N/A | AG4: {=IFS(AND($V4=1,Inspection!$J4="OK")=TRUE,"OK",AND($V4=1,Inspection!$J4="X")=TRUE,"X",AND($V4=1,Inspection!$J4="NA")=TRUE,"NA",AND($V4=1,Inspection!$J4="D")=TRUE,"D")} -> #N/A | AH4: {=IFS(AND($V4=1,Inspection!$K4="OK")=TRUE,"OK",AND($V4=1,Inspection!$K4="X")=TRUE,"X",AND($V4=1,Inspection!$K4="NA")=TRUE,"NA",AND($V4=1,Inspection!$K4="D")=TRUE,"D")} -> #N/A | AI4: {=IFS(AND($V4=1,Inspection!$L4="OK")=TRUE,"OK",AND($V4=1,Inspection!$L4="X")=TRUE,"X",AND($V4=1,Inspection!$L4="NA")=TRUE,"NA",AND($V4=1,Inspection!$L4="D")=TRUE,"D")} -> #N/A | AJ4: {=IFS(AND($V4=1,Inspection!$M4="OK")=TRUE,"OK",AND($V4=1,Inspection!$M4="X")=TRUE,"X",AND($V4=1,Inspection!$M4="NA")=TRUE,"NA",AND($V4=1,Inspection!$M4="D")=TRUE,"D")} -> #N/A | AK4: {=IFS(AND($V4=1,Inspection!$N4="OK")=TRUE,"OK",AND($V4=1,Inspection!$N4="X")=TRUE,"X",AND($V4=1,Inspection!$N4="NA")=TRUE,"NA",AND($V4=1,Inspection!$N4="D")=TRUE,"D")} -> #N/A | AL4: {=IFS(AND($V4=1,Inspection!$O4="OK")=TRUE,"OK",AND($V4=1,Inspection!$O4="X")=TRUE,"X",AND($V4=1,Inspection!$O4="NA")=TRUE,"NA",AND($V4=1,Inspection!$O4="D")=TRUE,"D")} -> #N/A | AM4: {=IFS(AND($V4=1,Inspection!$P4="OK")=TRUE,"OK",AND($V4=1,Inspection!$P4="X")=TRUE,"X",AND($V4=1,Inspection!$P4="NA")=TRUE,"NA",AND($V4=1,Inspection!$P4="D")=TRUE,"D")} -> #N/A | AN4: {=IFS(AND($V4=1,Inspection!$Q4="OK")=TRUE,"OK",AND($V4=1,Inspection!$Q4="X")=TRUE,"X",AND($V4=1,Inspection!$Q4="NA")=TRUE,"NA",AND($V4=1,Inspection!$Q4="D")=TRUE,"D")} -> #N/A | AO4: {=IFS(AND($V4=1,Inspection!$R4="OK")=TRUE,"OK",AND($V4=1,Inspection!$R4="X")=TRUE,"X",AND($V4=1,Inspection!$R4="NA")=TRUE,"NA",AND($V4=1,Inspection!$R4="D")=TRUE,"D")} -> #N/A | AP4: {=IFS(AND($V4=1,Inspection!$S4="OK")=TRUE,"OK",AND($V4=1,Inspection!$S4="X")=TRUE,"X",AND($V4=1,Inspection!$S4="NA")=TRUE,"NA",AND($V4=1,Inspection!$S4="D")=TRUE,"D")} -> #N/A
B5: 2 | E5: OK | F5: OK | G5: OK | H5: OK | I5: OK | J5: OK | K5: OK | L5: OK | M5: OK | N5: OK | O5: OK | P5: OK | Q5: OK | R5: OK | S5: OK | U5: =Inspection!$B5 -> 2 | V5: =COUNTA(Inspection!$C5) -> 0 | W5: =Inspection!$C5 | X5: =Inspection!$D5 | Y5: =Inspection!$T5 | Z5: =Contact!D$11 -> Select School | AB5: {=IFS(AND($V5=1,Inspection!$E5="OK")=TRUE,"OK",AND($V5=1,Inspection!$E5="X")=TRUE,"X",AND($V5=1,Inspection!$E5="NA")=TRUE,"NA",AND($V5=1,Inspection!$E5="D")=TRUE,"D")} -> #N/A | AC5: {=IFS(AND($V5=1,Inspection!$F5="OK")=TRUE,"OK",AND($V5=1,Inspection!$F5="X")=TRUE,"X",AND($V5=1,Inspection!$F5="NA")=TRUE,"NA",AND($V5=1,Inspection!$F5="D")=TRUE,"D")} -> #N/A | AD5: {=IFS(AND($V5=1,Inspection!$G5="OK")=TRUE,"OK",AND($V5=1,Inspection!$G5="X")=TRUE,"X",AND($V5=1,Inspection!$G5="NA")=TRUE,"NA",AND($V5=1,Inspection!$G5="D")=TRUE,"D")} -> #N/A | AE5: {=IFS(AND($V5=1,Inspection!$H5="OK")=TRUE,"OK",AND($V5=1,Inspection!$H5="X")=TRUE,"X",AND($V5=1,Inspection!$H5="NA")=TRUE,"NA",AND($V5=1,Inspection!$H5="D")=TRUE,"D")} -> #N/A | AF5: {=IFS(AND($V5=1,Inspection!$I5="OK")=TRUE,"OK",AND($V5=1,Inspection!$I5="X")=TRUE,"X",AND($V5=1,Inspection!$I5="NA")=TRUE,"NA",AND($V5=1,Inspection!$I5="D")=TRUE,"D")} -> #N/A | AG5: {=IFS(AND($V5=1,Inspection!$J5="OK")=TRUE,"OK",AND($V5=1,Inspection!$J5="X")=TRUE,"X",AND($V5=1,Inspection!$J5="NA")=TRUE,"NA",AND($V5=1,Inspection!$J5="D")=TRUE,"D")} -> #N/A | AH5: {=IFS(AND($V5=1,Inspection!$K5="OK")=TRUE,"OK",AND($V5=1,Inspection!$K5="X")=TRUE,"X",AND($V5=1,Inspection!$K5="NA")=TRUE,"NA",AND($V5=1,Inspection!$K5="D")=TRUE,"D")} -> #N/A | AI5: {=IFS(AND($V5=1,Inspection!$L5="OK")=TRUE,"OK",AND($V5=1,Inspection!$L5="X")=TRUE,"X",AND($V5=1,Inspection!$L5="NA")=TRUE,"NA",AND($V5=1,Inspection!$L5="D")=TRUE,"D")} -> #N/A | AJ5: {=IFS(AND($V5=1,Inspection!$M5="OK")=TRUE,"OK",AND($V5=1,Inspection!$M5="X")=TRUE,"X",AND($V5=1,Inspection!$M5="NA")=TRUE,"NA",AND($V5=1,Inspection!$M5="D")=TRUE,"D")} -> #N/A | AK5: {=IFS(AND($V5=1,Inspection!$N5="OK")=TRUE,"OK",AND($V5=1,Inspection!$N5="X")=TRUE,"X",AND($V5=1,Inspection!$N5="NA")=TRUE,"NA",AND($V5=1,Inspection!$N5="D")=TRUE,"D")} -> #N/A | AL5: {=IFS(AND($V5=1,Inspection!$O5="OK")=TRUE,"OK",AND($V5=1,Inspection!$O5="X")=TRUE,"X",AND($V5=1,Inspection!$O5="NA")=TRUE,"NA",AND($V5=1,Inspection!$O5="D")=TRUE,"D")} -> #N/A | AM5: {=IFS(AND($V5=1,Inspection!$P5="OK")=TRUE,"OK",AND($V5=1,Inspection!$P5="X")=TRUE,"X",AND($V5=1,Inspection!$P5="NA")=TRUE,"NA",AND($V5=1,Inspection!$P5="D")=TRUE,"D")} -> #N/A | AN5: {=IFS(AND($V5=1,Inspection!$Q5="OK")=TRUE,"OK",AND($V5=1,Inspection!$Q5="X")=TRUE,"X",AND($V5=1,Inspection!$Q5="NA")=TRUE,"NA",AND($V5=1,Inspection!$Q5="D")=TRUE,"D")} -> #N/A | AO5: {=IFS(AND($V5=1,Inspection!$R5="OK")=TRUE,"OK",AND($V5=1,Inspection!$R5="X")=TRUE,"X",AND($V5=1,Inspection!$R5="NA")=TRUE,"NA",AND($V5=1,Inspection!$R5="D")=TRUE,"D")} -> #N/A | AP5: {=IFS(AND($V5=1,Inspection!$S5="OK")=TRUE,"OK",AND($V5=1,Inspection!$S5="X")=TRUE,"X",AND($V5=1,Inspection!$S5="NA")=TRUE,"NA",AND($V5=1,Inspection!$S5="D")=TRUE,"D")} -> #N/A
B6: 3 | E6: OK | F6: OK | G6: OK | H6: OK | I6: OK | J6: OK | K6: OK | L6: OK | M6: OK | N6: OK | O6: OK | P6: OK | Q6: OK | R6: OK | S6: OK | U6: =Inspection!$B6 -> 3 | V6: =COUNTA(Inspection!$C6) -> 0 | W6: =Inspection!$C6 | X6: =Inspection!$D6 | Y6: =Inspection!$T6 | Z6: =Contact!D$11 -> Select School | AB6: {=IFS(AND($V6=1,Inspection!$E6="OK")=TRUE,"OK",AND($V6=1,Inspection!$E6="X")=TRUE,"X",AND($V6=1,Inspection!$E6="NA")=TRUE,"NA",AND($V6=1,Inspection!$E6="D")=TRUE,"D")} -> #N/A | AC6: {=IFS(AND($V6=1,Inspection!$F6="OK")=TRUE,"OK",AND($V6=1,Inspection!$F6="X")=TRUE,"X",AND($V6=1,Inspection!$F6="NA")=TRUE,"NA",AND($V6=1,Inspection!$F6="D")=TRUE,"D")} -> #N/A | AD6: {=IFS(AND($V6=1,Inspection!$G6="OK")=TRUE,"OK",AND($V6=1,Inspection!$G6="X")=TRUE,"X",AND($V6=1,Inspection!$G6="NA")=TRUE,"NA",AND($V6=1,Inspection!$G6="D")=TRUE,"D")} -> #N/A | AE6: {=IFS(AND($V6=1,Inspection!$H6="OK")=TRUE,"OK",AND($V6=1,Inspection!$H6="X")=TRUE,"X",AND($V6=1,Inspection!$H6="NA")=TRUE,"NA",AND($V6=1,Inspection!$H6="D")=TRUE,"D")} -> #N/A | AF6: {=IFS(AND($V6=1,Inspection!$I6="OK")=TRUE,"OK",AND($V6=1,Inspection!$I6="X")=TRUE,"X",AND($V6=1,Inspection!$I6="NA")=TRUE,"NA",AND($V6=1,Inspection!$I6="D")=TRUE,"D")} -> #N/A | AG6: {=IFS(AND($V6=1,Inspection!$J6="OK")=TRUE,"OK",AND($V6=1,Inspection!$J6="X")=TRUE,"X",AND($V6=1,Inspection!$J6="NA")=TRUE,"NA",AND($V6=1,Inspection!$J6="D")=TRUE,"D")} -> #N/A | AH6: {=IFS(AND($V6=1,Inspection!$K6="OK")=TRUE,"OK",AND($V6=1,Inspection!$K6="X")=TRUE,"X",AND($V6=1,Inspection!$K6="NA")=TRUE,"NA",AND($V6=1,Inspection!$K6="D")=TRUE,"D")} -> #N/A | AI6: {=IFS(AND($V6=1,Inspection!$L6="OK")=TRUE,"OK",AND($V6=1,Inspection!$L6="X")=TRUE,"X",AND($V6=1,Inspection!$L6="NA")=TRUE,"NA",AND($V6=1,Inspection!$L6="D")=TRUE,"D")} -> #N/A | AJ6: {=IFS(AND($V6=1,Inspection!$M6="OK")=TRUE,"OK",AND($V6=1,Inspection!$M6="X")=TRUE,"X",AND($V6=1,Inspection!$M6="NA")=TRUE,"NA",AND($V6=1,Inspection!$M6="D")=TRUE,"D")} -> #N/A | AK6: {=IFS(AND($V6=1,Inspection!$N6="OK")=TRUE,"OK",AND($V6=1,Inspection!$N6="X")=TRUE,"X",AND($V6=1,Inspection!$N6="NA")=TRUE,"NA",AND($V6=1,Inspection!$N6="D")=TRUE,"D")} -> #N/A | AL6: {=IFS(AND($V6=1,Inspection!$O6="OK")=TRUE,"OK",AND($V6=1,Inspection!$O6="X")=TRUE,"X",AND($V6=1,Inspection!$O6="NA")=TRUE,"NA",AND($V6=1,Inspection!$O6="D")=TRUE,"D")} -> #N/A | AM6: {=IFS(AND($V6=1,Inspection!$P6="OK")=TRUE,"OK",AND($V6=1,Inspection!$P6="X")=TRUE,"X",AND($V6=1,Inspection!$P6="NA")=TRUE,"NA",AND($V6=1,Inspection!$P6="D")=TRUE,"D")} -> #N/A | AN6: {=IFS(AND($V6=1,Inspection!$Q6="OK")=TRUE,"OK",AND($V6=1,Inspection!$Q6="X")=TRUE,"X",AND($V6=1,Inspection!$Q6="NA")=TRUE,"NA",AND($V6=1,Inspection!$Q6="D")=TRUE,"D")} -> #N/A | AO6: {=IFS(AND($V6=1,Inspection!$R6="OK")=TRUE,"OK",AND($V6=1,Inspection!$R6="X")=TRUE,"X",AND($V6=1,Inspection!$R6="NA")=TRUE,"NA",AND($V6=1,Inspection!$R6="D")=TRUE,"D")} -> #N/A | AP6: {=IFS(AND($V6=1,Inspection!$S6="OK")=TRUE,"OK",AND($V6=1,Inspection!$S6="X")=TRUE,"X",AND($V6=1,Inspection!$S6="NA")=TRUE,"NA",AND($V6=1,Inspection!$S6="D")=TRUE,"D")} -> #N/A
B7: 4 | E7: OK | F7: OK | G7: OK | H7: OK | I7: OK | J7: OK | K7: OK | L7: OK | M7: OK | N7: OK | O7: OK | P7: OK | Q7: OK | R7: OK | S7: OK | U7: =Inspection!$B7 -> 4 | V7: =COUNTA(Inspection!$C7) -> 0 | W7: =Inspection!$C7 | X7: =Inspection!$D7 | Y7: =Inspection!$T7 | Z7: =Contact!D$11 -> Select School | AB7: {=IFS(AND($V7=1,Inspection!$E7="OK")=TRUE,"OK",AND($V7=1,Inspection!$E7="X")=TRUE,"X",AND($V7=1,Inspection!$E7="NA")=TRUE,"NA",AND($V7=1,Inspection!$E7="D")=TRUE,"D")} -> #N/A | AC7: {=IFS(AND($V7=1,Inspection!$F7="OK")=TRUE,"OK",AND($V7=1,Inspection!$F7="X")=TRUE,"X",AND($V7=1,Inspection!$F7="NA")=TRUE,"NA",AND($V7=1,Inspection!$F7="D")=TRUE,"D")} -> #N/A | AD7: {=IFS(AND($V7=1,Inspection!$G7="OK")=TRUE,"OK",AND($V7=1,Inspection!$G7="X")=TRUE,"X",AND($V7=1,Inspection!$G7="NA")=TRUE,"NA",AND($V7=1,Inspection!$G7="D")=TRUE,"D")} -> #N/A | AE7: {=IFS(AND($V7=1,Inspection!$H7="OK")=TRUE,"OK",AND($V7=1,Inspection!$H7="X")=TRUE,"X",AND($V7=1,Inspection!$H7="NA")=TRUE,"NA",AND($V7=1,Inspection!$H7="D")=TRUE,"D")} -> #N/A | AF7: {=IFS(AND($V7=1,Inspection!$I7="OK")=TRUE,"OK",AND($V7=1,Inspection!$I7="X")=TRUE,"X",AND($V7=1,Inspection!$I7="NA")=TRUE,"NA",AND($V7=1,Inspection!$I7="D")=TRUE,"D")} -> #N/A | AG7: {=IFS(AND($V7=1,Inspection!$J7="OK")=TRUE,"OK",AND($V7=1,Inspection!$J7="X")=TRUE,"X",AND($V7=1,Inspection!$J7="NA")=TRUE,"NA",AND($V7=1,Inspection!$J7="D")=TRUE,"D")} -> #N/A | AH7: {=IFS(AND($V7=1,Inspection!$K7="OK")=TRUE,"OK",AND($V7=1,Inspection!$K7="X")=TRUE,"X",AND($V7=1,Inspection!$K7="NA")=TRUE,"NA",AND($V7=1,Inspection!$K7="D")=TRUE,"D")} -> #N/A | AI7: {=IFS(AND($V7=1,Inspection!$L7="OK")=TRUE,"OK",AND($V7=1,Inspection!$L7="X")=TRUE,"X",AND($V7=1,Inspection!$L7="NA")=TRUE,"NA",AND($V7=1,Inspection!$L7="D")=TRUE,"D")} -> #N/A | AJ7: {=IFS(AND($V7=1,Inspection!$M7="OK")=TRUE,"OK",AND($V7=1,Inspection!$M7="X")=TRUE,"X",AND($V7=1,Inspection!$M7="NA")=TRUE,"NA",AND($V7=1,Inspection!$M7="D")=TRUE,"D")} -> #N/A | AK7: {=IFS(AND($V7=1,Inspection!$N7="OK")=TRUE,"OK",AND($V7=1,Inspection!$N7="X")=TRUE,"X",AND($V7=1,Inspection!$N7="NA")=TRUE,"NA",AND($V7=1,Inspection!$N7="D")=TRUE,"D")} -> #N/A | AL7: {=IFS(AND($V7=1,Inspection!$O7="OK")=TRUE,"OK",AND($V7=1,Inspection!$O7="X")=TRUE,"X",AND($V7=1,Inspection!$O7="NA")=TRUE,"NA",AND($V7=1,Inspection!$O7="D")=TRUE,"D")} -> #N/A | AM7: {=IFS(AND($V7=1,Inspection!$P7="OK")=TRUE,"OK",AND($V7=1,Inspection!$P7="X")=TRUE,"X",AND($V7=1,Inspection!$P7="NA")=TRUE,"NA",AND($V7=1,Inspection!$P7="D")=TRUE,"D")} -> #N/A | AN7: {=IFS(AND($V7=1,Inspection!$Q7="OK")=TRUE,"OK",AND($V7=1,Inspection!$Q7="X")=TRUE,"X",AND($V7=1,Inspection!$Q7="NA")=TRUE,"NA",AND($V7=1,Inspection!$Q7="D")=TRUE,"D")} -> #N/A | AO7: {=IFS(AND($V7=1,Inspection!$R7="OK")=TRUE,"OK",AND($V7=1,Inspection!$R7="X")=TRUE,"X",AND($V7=1,Inspection!$R7="NA")=TRUE,"NA",AND($V7=1,Inspection!$R7="D")=TRUE,"D")} -> #N/A | AP7: {=IFS(AND($V7=1,Inspection!$S7="OK")=TRUE,"OK",AND($V7=1,Inspection!$S7="X")=TRUE,"X",AND($V7=1,Inspection!$S7="NA")=TRUE,"NA",AND($V7=1,Inspection!$S7="D")=TRUE,"D")} -> #N/A
B8: 5 | E8: OK | F8: OK | G8: OK | H8: OK | I8: OK | J8: OK | K8: OK | L8: OK | M8: OK | N8: OK | O8: OK | P8: OK | Q8: OK | R8: OK | S8: OK | U8: =Inspection!$B8 -> 5 | V8: =COUNTA(Inspection!$C8) -> 0 | W8: =Inspection!$C8 | X8: =Inspection!$D8 | Y8: =Inspection!$T8 | Z8: =Contact!D$11 -> Select School | AB8: {=IFS(AND($V8=1,Inspection!$E8="OK")=TRUE,"OK",AND($V8=1,Inspection!$E8="X")=TRUE,"X",AND($V8=1,Inspection!$E8="NA")=TRUE,"NA",AND($V8=1,Inspection!$E8="D")=TRUE,"D")} -> #N/A | AC8: {=IFS(AND($V8=1,Inspection!$F8="OK")=TRUE,"OK",AND($V8=1,Inspection!$F8="X")=TRUE,"X",AND($V8=1,Inspection!$F8="NA")=TRUE,"NA",AND($V8=1,Inspection!$F8="D")=TRUE,"D")} -> #N/A | AD8: {=IFS(AND($V8=1,Inspection!$G8="OK")=TRUE,"OK",AND($V8=1,Inspection!$G8="X")=TRUE,"X",AND($V8=1,Inspection!$G8="NA")=TRUE,"NA",AND($V8=1,Inspection!$G8="D")=TRUE,"D")} -> #N/A | AE8: {=IFS(AND($V8=1,Inspection!$H8="OK")=TRUE,"OK",AND($V8=1,Inspection!$H8="X")=TRUE,"X",AND($V8=1,Inspection!$H8="NA")=TRUE,"NA",AND($V8=1,Inspection!$H8="D")=TRUE,"D")} -> #N/A | AF8: {=IFS(AND($V8=1,Inspection!$I8="OK")=TRUE,"OK",AND($V8=1,Inspection!$I8="X")=TRUE,"X",AND($V8=1,Inspection!$I8="NA")=TRUE,"NA",AND($V8=1,Inspection!$I8="D")=TRUE,"D")} -> #N/A | AG8: {=IFS(AND($V8=1,Inspection!$J8="OK")=TRUE,"OK",AND($V8=1,Inspection!$J8="X")=TRUE,"X",AND($V8=1,Inspection!$J8="NA")=TRUE,"NA",AND($V8=1,Inspection!$J8="D")=TRUE,"D")} -> #N/A | AH8: {=IFS(AND($V8=1,Inspection!$K8="OK")=TRUE,"OK",AND($V8=1,Inspection!$K8="X")=TRUE,"X",AND($V8=1,Inspection!$K8="NA")=TRUE,"NA",AND($V8=1,Inspection!$K8="D")=TRUE,"D")} -> #N/A | AI8: {=IFS(AND($V8=1,Inspection!$L8="OK")=TRUE,"OK",AND($V8=1,Inspection!$L8="X")=TRUE,"X",AND($V8=1,Inspection!$L8="NA")=TRUE,"NA",AND($V8=1,Inspection!$L8="D")=TRUE,"D")} -> #N/A | AJ8: {=IFS(AND($V8=1,Inspection!$M8="OK")=TRUE,"OK",AND($V8=1,Inspection!$M8="X")=TRUE,"X",AND($V8=1,Inspection!$M8="NA")=TRUE,"NA",AND($V8=1,Inspection!$M8="D")=TRUE,"D")} -> #N/A | AK8: {=IFS(AND($V8=1,Inspection!$N8="OK")=TRUE,"OK",AND($V8=1,Inspection!$N8="X")=TRUE,"X",AND($V8=1,Inspection!$N8="NA")=TRUE,"NA",AND($V8=1,Inspection!$N8="D")=TRUE,"D")} -> #N/A | AL8: {=IFS(AND($V8=1,Inspection!$O8="OK")=TRUE,"OK",AND($V8=1,Inspection!$O8="X")=TRUE,"X",AND($V8=1,Inspection!$O8="NA")=TRUE,"NA",AND($V8=1,Inspection!$O8="D")=TRUE,"D")} -> #N/A | AM8: {=IFS(AND($V8=1,Inspection!$P8="OK")=TRUE,"OK",AND($V8=1,Inspection!$P8="X")=TRUE,"X",AND($V8=1,Inspection!$P8="NA")=TRUE,"NA",AND($V8=1,Inspection!$P8="D")=TRUE,"D")} -> #N/A | AN8: {=IFS(AND($V8=1,Inspection!$Q8="OK")=TRUE,"OK",AND($V8=1,Inspection!$Q8="X")=TRUE,"X",AND($V8=1,Inspection!$Q8="NA")=TRUE,"NA",AND($V8=1,Inspection!$Q8="D")=TRUE,"D")} -> #N/A | AO8: {=IFS(AND($V8=1,Inspection!$R8="OK")=TRUE,"OK",AND($V8=1,Inspection!$R8="X")=TRUE,"X",AND($V8=1,Inspection!$R8="NA")=TRUE,"NA",AND($V8=1,Inspection!$R8="D")=TRUE,"D")} -> #N/A | AP8: {=IFS(AND($V8=1,Inspection!$S8="OK")=TRUE,"OK",AND($V8=1,Inspection!$S8="X")=TRUE,"X",AND($V8=1,Inspection!$S8="NA")=TRUE,"NA",AND($V8=1,Inspection!$S8="D")=TRUE,"D")} -> #N/A
B9: 6 | E9: OK | F9: OK | G9: OK | H9: OK | I9: OK | J9: OK | K9: OK | L9: OK | M9: OK | N9: OK | O9: OK | P9: OK | Q9: OK | R9: OK | S9: OK | U9: =Inspection!$B9 -> 6 | V9: =COUNTA(Inspection!$C9) -> 0 | W9: =Inspection!$C9 | X9: =Inspection!$D9 | Y9: =Inspection!$T9 | Z9: =Contact!D$11 -> Select School | AB9: {=IFS(AND($V9=1,Inspection!$E9="OK")=TRUE,"OK",AND($V9=1,Inspection!$E9="X")=TRUE,"X",AND($V9=1,Inspection!$E9="NA")=TRUE,"NA",AND($V9=1,Inspection!$E9="D")=TRUE,"D")} -> #N/A | AC9: {=IFS(AND($V9=1,Inspection!$F9="OK")=TRUE,"OK",AND($V9=1,Inspection!$F9="X")=TRUE,"X",AND($V9=1,Inspection!$F9="NA")=TRUE,"NA",AND($V9=1,Inspection!$F9="D")=TRUE,"D")} -> #N/A | AD9: {=IFS(AND($V9=1,Inspection!$G9="OK")=TRUE,"OK",AND($V9=1,Inspection!$G9="X")=TRUE,"X",AND($V9=1,Inspection!$G9="NA")=TRUE,"NA",AND($V9=1,Inspection!$G9="D")=TRUE,"D")} -> #N/A | AE9: {=IFS(AND($V9=1,Inspection!$H9="OK")=TRUE,"OK",AND($V9=1,Inspection!$H9="X")=TRUE,"X",AND($V9=1,Inspection!$H9="NA")=TRUE,"NA",AND($V9=1,Inspection!$H9="D")=TRUE,"D")} -> #N/A | AF9: {=IFS(AND($V9=1,Inspection!$I9="OK")=TRUE,"OK",AND($V9=1,Inspection!$I9="X")=TRUE,"X",AND($V9=1,Inspection!$I9="NA")=TRUE,"NA",AND($V9=1,Inspection!$I9="D")=TRUE,"D")} -> #N/A | AG9: {=IFS(AND($V9=1,Inspection!$J9="OK")=TRUE,"OK",AND($V9=1,Inspection!$J9="X")=TRUE,"X",AND($V9=1,Inspection!$J9="NA")=TRUE,"NA",AND($V9=1,Inspection!$J9="D")=TRUE,"D")} -> #N/A | AH9: {=IFS(AND($V9=1,Inspection!$K9="OK")=TRUE,"OK",AND($V9=1,Inspection!$K9="X")=TRUE,"X",AND($V9=1,Inspection!$K9="NA")=TRUE,"NA",AND($V9=1,Inspection!$K9="D")=TRUE,"D")} -> #N/A | AI9: {=IFS(AND($V9=1,Inspection!$L9="OK")=TRUE,"OK",AND($V9=1,Inspection!$L9="X")=TRUE,"X",AND($V9=1,Inspection!$L9="NA")=TRUE,"NA",AND($V9=1,Inspection!$L9="D")=TRUE,"D")} -> #N/A | AJ9: {=IFS(AND($V9=1,Inspection!$M9="OK")=TRUE,"OK",AND($V9=1,Inspection!$M9="X")=TRUE,"X",AND($V9=1,Inspection!$M9="NA")=TRUE,"NA",AND($V9=1,Inspection!$M9="D")=TRUE,"D")} -> #N/A | AK9: {=IFS(AND($V9=1,Inspection!$N9="OK")=TRUE,"OK",AND($V9=1,Inspection!$N9="X")=TRUE,"X",AND($V9=1,Inspection!$N9="NA")=TRUE,"NA",AND($V9=1,Inspection!$N9="D")=TRUE,"D")} -> #N/A | AL9: {=IFS(AND($V9=1,Inspection!$O9="OK")=TRUE,"OK",AND($V9=1,Inspection!$O9="X")=TRUE,"X",AND($V9=1,Inspection!$O9="NA")=TRUE,"NA",AND($V9=1,Inspection!$O9="D")=TRUE,"D")} -> #N/A | AM9: {=IFS(AND($V9=1,Inspection!$P9="OK")=TRUE,"OK",AND($V9=1,Inspection!$P9="X")=TRUE,"X",AND($V9=1,Inspection!$P9="NA")=TRUE,"NA",AND($V9=1,Inspection!$P9="D")=TRUE,"D")} -> #N/A | AN9: {=IFS(AND($V9=1,Inspection!$Q9="OK")=TRUE,"OK",AND($V9=1,Inspection!$Q9="X")=TRUE,"X",AND($V9=1,Inspection!$Q9="NA")=TRUE,"NA",AND($V9=1,Inspection!$Q9="D")=TRUE,"D")} -> #N/A | AO9: {=IFS(AND($V9=1,Inspection!$R9="OK")=TRUE,"OK",AND($V9=1,Inspection!$R9="X")=TRUE,"X",AND($V9=1,Inspection!$R9="NA")=TRUE,"NA",AND($V9=1,Inspection!$R9="D")=TRUE,"D")} -> #N/A | AP9: {=IFS(AND($V9=1,Inspection!$S9="OK")=TRUE,"OK",AND($V9=1,Inspection!$S9="X")=TRUE,"X",AND($V9=1,Inspection!$S9="NA")=TRUE,"NA",AND($V9=1,Inspection!$S9="D")=TRUE,"D")} -> #N/A
B10: 7 | E10: OK | F10: OK | G10: OK | H10: OK | I10: OK | J10: OK | K10: OK | L10: OK | M10: OK | N10: OK | O10: OK | P10: OK | Q10: OK | R10: OK | S10: OK | U10: =Inspection!$B10 -> 7 | V10: =COUNTA(Inspection!$C10) -> 0 | W10: =Inspection!$C10 | X10: =Inspection!$D10 | Y10: =Inspection!$T10 | Z10: =Contact!D$11 -> Select School | AB10: {=IFS(AND($V10=1,Inspection!$E10="OK")=TRUE,"OK",AND($V10=1,Inspection!$E10="X")=TRUE,"X",AND($V10=1,Inspection!$E10="NA")=TRUE,"NA",AND($V10=1,Inspection!$E10="D")=TRUE,"D")} -> #N/A | AC10: {=IFS(AND($V10=1,Inspection!$F10="OK")=TRUE,"OK",AND($V10=1,Inspection!$F10="X")=TRUE,"X",AND($V10=1,Inspection!$F10="NA")=TRUE,"NA",AND($V10=1,Inspection!$F10="D")=TRUE,"D")} -> #N/A | AD10: {=IFS(AND($V10=1,Inspection!$G10="OK")=TRUE,"OK",AND($V10=1,Inspection!$G10="X")=TRUE,"X",AND($V10=1,Inspection!$G10="NA")=TRUE,"NA",AND($V10=1,Inspection!$G10="D")=TRUE,"D")} -> #N/A | AE10: {=IFS(AND($V10=1,Inspection!$H10="OK")=TRUE,"OK",AND($V10=1,Inspection!$H10="X")=TRUE,"X",AND($V10=1,Inspection!$H10="NA")=TRUE,"NA",AND($V10=1,Inspection!$H10="D")=TRUE,"D")} -> #N/A | AF10: {=IFS(AND($V10=1,Inspection!$I10="OK")=TRUE,"OK",AND($V10=1,Inspection!$I10="X")=TRUE,"X",AND($V10=1,Inspection!$I10="NA")=TRUE,"NA",AND($V10=1,Inspection!$I10="D")=TRUE,"D")} -> #N/A | AG10: {=IFS(AND($V10=1,Inspection!$J10="OK")=TRUE,"OK",AND($V10=1,Inspection!$J10="X")=TRUE,"X",AND($V10=1,Inspection!$J10="NA")=TRUE,"NA",AND($V10=1,Inspection!$J10="D")=TRUE,"D")} -> #N/A | AH10: {=IFS(AND($V10=1,Inspection!$K10="OK")=TRUE,"OK",AND($V10=1,Inspection!$K10="X")=TRUE,"X",AND($V10=1,Inspection!$K10="NA")=TRUE,"NA",AND($V10=1,Inspection!$K10="D")=TRUE,"D")} -> #N/A | AI10: {=IFS(AND($V10=1,Inspection!$L10="OK")=TRUE,"OK",AND($V10=1,Inspection!$L10="X")=TRUE,"X",AND($V10=1,Inspection!$L10="NA")=TRUE,"NA",AND($V10=1,Inspection!$L10="D")=TRUE,"D")} -> #N/A | AJ10: {=IFS(AND($V10=1,Inspection!$M10="OK")=TRUE,"OK",AND($V10=1,Inspection!$M10="X")=TRUE,"X",AND($V10=1,Inspection!$M10="NA")=TRUE,"NA",AND($V10=1,Inspection!$M10="D")=TRUE,"D")} -> #N/A | AK10: {=IFS(AND($V10=1,Inspection!$N10="OK")=TRUE,"OK",AND($V10=1,Inspection!$N10="X")=TRUE,"X",AND($V10=1,Inspection!$N10="NA")=TRUE,"NA",AND($V10=1,Inspection!$N10="D")=TRUE,"D")} -> #N/A | AL10: {=IFS(AND($V10=1,Inspection!$O10="OK")=TRUE,"OK",AND($V10=1,Inspection!$O10="X")=TRUE,"X",AND($V10=1,Inspection!$O10="NA")=TRUE,"NA",AND($V10=1,Inspection!$O10="D")=TRUE,"D")} -> #N/A | AM10: {=IFS(AND($V10=1,Inspection!$P10="OK")=TRUE,"OK",AND($V10=1,Inspection!$P10="X")=TRUE,"X",AND($V10=1,Inspection!$P10="NA")=TRUE,"NA",AND($V10=1,Inspection!$P10="D")=TRUE,"D")} -> #N/A | AN10: {=IFS(AND($V10=1,Inspection!$Q10="OK")=TRUE,"OK",AND($V10=1,Inspection!$Q10="X")=TRUE,"X",AND($V10=1,Inspection!$Q10="NA")=TRUE,"NA",AND($V10=1,Inspection!$Q10="D")=TRUE,"D")} -> #N/A | AO10: {=IFS(AND($V10=1,Inspection!$R10="OK")=TRUE,"OK",AND($V10=1,Inspection!$R10="X")=TRUE,"X",AND($V10=1,Inspection!$R10="NA")=TRUE,"NA",AND($V10=1,Inspection!$R10="D")=TRUE,"D")} -> #N/A | AP10: {=IFS(AND($V10=1,Inspection!$S10="OK")=TRUE,"OK",AND($V10=1,Inspection!$S10="X")=TRUE,"X",AND($V10=1,Inspection!$S10="NA")=TRUE,"NA",AND($V10=1,Inspection!$S10="D")=TRUE,"D")} -> #N/A
B11: 8 | E11: OK | F11: OK | G11: OK | H11: OK | I11: OK | J11: OK | K11: OK | L11: OK | M11: OK | N11: OK | O11: OK | P11: OK | Q11: OK | R11: OK | S11: OK | U11: =Inspection!$B11 -> 8 | V11: =COUNTA(Inspection!$C11) -> 0 | W11: =Inspection!$C11 | X11: =Inspection!$D11 | Y11: =Inspection!$T11 | Z11: =Contact!D$11 -> Select School | AB11: {=IFS(AND($V11=1,Inspection!$E11="OK")=TRUE,"OK",AND($V11=1,Inspection!$E11="X")=TRUE,"X",AND($V11=1,Inspection!$E11="NA")=TRUE,"NA",AND($V11=1,Inspection!$E11="D")=TRUE,"D")} -> #N/A | AC11: {=IFS(AND($V11=1,Inspection!$F11="OK")=TRUE,"OK",AND($V11=1,Inspection!$F11="X")=TRUE,"X",AND($V11=1,Inspection!$F11="NA")=TRUE,"NA",AND($V11=1,Inspection!$F11="D")=TRUE,"D")} -> #N/A | AD11: {=IFS(AND($V11=1,Inspection!$G11="OK")=TRUE,"OK",AND($V11=1,Inspection!$G11="X")=TRUE,"X",AND($V11=1,Inspection!$G11="NA")=TRUE,"NA",AND($V11=1,Inspection!$G11="D")=TRUE,"D")} -> #N/A | AE11: {=IFS(AND($V11=1,Inspection!$H11="OK")=TRUE,"OK",AND($V11=1,Inspection!$H11="X")=TRUE,"X",AND($V11=1,Inspection!$H11="NA")=TRUE,"NA",AND($V11=1,Inspection!$H11="D")=TRUE,"D")} -> #N/A | AF11: {=IFS(AND($V11=1,Inspection!$I11="OK")=TRUE,"OK",AND($V11=1,Inspection!$I11="X")=TRUE,"X",AND($V11=1,Inspection!$I11="NA")=TRUE,"NA",AND($V11=1,Inspection!$I11="D")=TRUE,"D")} -> #N/A | AG11: {=IFS(AND($V11=1,Inspection!$J11="OK")=TRUE,"OK",AND($V11=1,Inspection!$J11="X")=TRUE,"X",AND($V11=1,Inspection!$J11="NA")=TRUE,"NA",AND($V11=1,Inspection!$J11="D")=TRUE,"D")} -> #N/A | AH11: {=IFS(AND($V11=1,Inspection!$K11="OK")=TRUE,"OK",AND($V11=1,Inspection!$K11="X")=TRUE,"X",AND($V11=1,Inspection!$K11="NA")=TRUE,"NA",AND($V11=1,Inspection!$K11="D")=TRUE,"D")} -> #N/A | AI11: {=IFS(AND($V11=1,Inspection!$L11="OK")=TRUE,"OK",AND($V11=1,Inspection!$L11="X")=TRUE,"X",AND($V11=1,Inspection!$L11="NA")=TRUE,"NA",AND($V11=1,Inspection!$L11="D")=TRUE,"D")} -> #N/A | AJ11: {=IFS(AND($V11=1,Inspection!$M11="OK")=TRUE,"OK",AND($V11=1,Inspection!$M11="X")=TRUE,"X",AND($V11=1,Inspection!$M11="NA")=TRUE,"NA",AND($V11=1,Inspection!$M11="D")=TRUE,"D")} -> #N/A | AK11: {=IFS(AND($V11=1,Inspection!$N11="OK")=TRUE,"OK",AND($V11=1,Inspection!$N11="X")=TRUE,"X",AND($V11=1,Inspection!$N11="NA")=TRUE,"NA",AND($V11=1,Inspection!$N11="D")=TRUE,"D")} -> #N/A | AL11: {=IFS(AND($V11=1,Inspection!$O11="OK")=TRUE,"OK",AND($V11=1,Inspection!$O11="X")=TRUE,"X",AND($V11=1,Inspection!$O11="NA")=TRUE,"NA",AND($V11=1,Inspection!$O11="D")=TRUE,"D")} -> #N/A | AM11: {=IFS(AND($V11=1,Inspection!$P11="OK")=TRUE,"OK",AND($V11=1,Inspection!$P11="X")=TRUE,"X",AND($V11=1,Inspection!$P11="NA")=TRUE,"NA",AND($V11=1,Inspection!$P11="D")=TRUE,"D")} -> #N/A | AN11: {=IFS(AND($V11=1,Inspection!$Q11="OK")=TRUE,"OK",AND($V11=1,Inspection!$Q11="X")=TRUE,"X",AND($V11=1,Inspection!$Q11="NA")=TRUE,"NA",AND($V11=1,Inspection!$Q11="D")=TRUE,"D")} -> #N/A | AO11: {=IFS(AND($V11=1,Inspection!$R11="OK")=TRUE,"OK",AND($V11=1,Inspection!$R11="X")=TRUE,"X",AND($V11=1,Inspection!$R11="NA")=TRUE,"NA",AND($V11=1,Inspection!$R11="D")=TRUE,"D")} -> #N/A | AP11: {=IFS(AND($V11=1,Inspection!$S11="OK")=TRUE,"OK",AND($V11=1,Inspection!$S11="X")=TRUE,"X",AND($V11=1,Inspection!$S11="NA")=TRUE,"NA",AND($V11=1,Inspection!$S11="D")=TRUE,"D")} -> #N/A
B12: 9 | E12: OK | F12: OK | G12: OK | H12: OK | I12: OK | J12: OK | K12: OK | L12: OK | M12: OK | N12: OK | O12: OK | P12: OK | Q12: OK | R12: OK | S12: OK | U12: =Inspection!$B12 -> 9 | V12: =COUNTA(Inspection!$C12) -> 0 | W12: =Inspection!$C12 | X12: =Inspection!$D12 | Y12: =Inspection!$T12 | Z12: =Contact!D$11 -> Select School | AB12: {=IFS(AND($V12=1,Inspection!$E12="OK")=TRUE,"OK",AND($V12=1,Inspection!$E12="X")=TRUE,"X",AND($V12=1,Inspection!$E12="NA")=TRUE,"NA",AND($V12=1,Inspection!$E12="D")=TRUE,"D")} -> #N/A | AC12: {=IFS(AND($V12=1,Inspection!$F12="OK")=TRUE,"OK",AND($V12=1,Inspection!$F12="X")=TRUE,"X",AND($V12=1,Inspection!$F12="NA")=TRUE,"NA",AND($V12=1,Inspection!$F12="D")=TRUE,"D")} -> #N/A | AD12: {=IFS(AND($V12=1,Inspection!$G12="OK")=TRUE,"OK",AND($V12=1,Inspection!$G12="X")=TRUE,"X",AND($V12=1,Inspection!$G12="NA")=TRUE,"NA",AND($V12=1,Inspection!$G12="D")=TRUE,"D")} -> #N/A | AE12: {=IFS(AND($V12=1,Inspection!$H12="OK")=TRUE,"OK",AND($V12=1,Inspection!$H12="X")=TRUE,"X",AND($V12=1,Inspection!$H12="NA")=TRUE,"NA",AND($V12=1,Inspection!$H12="D")=TRUE,"D")} -> #N/A | AF12: {=IFS(AND($V12=1,Inspection!$I12="OK")=TRUE,"OK",AND($V12=1,Inspection!$I12="X")=TRUE,"X",AND($V12=1,Inspection!$I12="NA")=TRUE,"NA",AND($V12=1,Inspection!$I12="D")=TRUE,"D")} -> #N/A | AG12: {=IFS(AND($V12=1,Inspection!$J12="OK")=TRUE,"OK",AND($V12=1,Inspection!$J12="X")=TRUE,"X",AND($V12=1,Inspection!$J12="NA")=TRUE,"NA",AND($V12=1,Inspection!$J12="D")=TRUE,"D")} -> #N/A | AH12: {=IFS(AND($V12=1,Inspection!$K12="OK")=TRUE,"OK",AND($V12=1,Inspection!$K12="X")=TRUE,"X",AND($V12=1,Inspection!$K12="NA")=TRUE,"NA",AND($V12=1,Inspection!$K12="D")=TRUE,"D")} -> #N/A | AI12: {=IFS(AND($V12=1,Inspection!$L12="OK")=TRUE,"OK",AND($V12=1,Inspection!$L12="X")=TRUE,"X",AND($V12=1,Inspection!$L12="NA")=TRUE,"NA",AND($V12=1,Inspection!$L12="D")=TRUE,"D")} -> #N/A | AJ12: {=IFS(AND($V12=1,Inspection!$M12="OK")=TRUE,"OK",AND($V12=1,Inspection!$M12="X")=TRUE,"X",AND($V12=1,Inspection!$M12="NA")=TRUE,"NA",AND($V12=1,Inspection!$M12="D")=TRUE,"D")} -> #N/A | AK12: {=IFS(AND($V12=1,Inspection!$N12="OK")=TRUE,"OK",AND($V12=1,Inspection!$N12="X")=TRUE,"X",AND($V12=1,Inspection!$N12="NA")=TRUE,"NA",AND($V12=1,Inspection!$N12="D")=TRUE,"D")} -> #N/A | AL12: {=IFS(AND($V12=1,Inspection!$O12="OK")=TRUE,"OK",AND($V12=1,Inspection!$O12="X")=TRUE,"X",AND($V12=1,Inspection!$O12="NA")=TRUE,"NA",AND($V12=1,Inspection!$O12="D")=TRUE,"D")} -> #N/A | AM12: {=IFS(AND($V12=1,Inspection!$P12="OK")=TRUE,"OK",AND($V12=1,Inspection!$P12="X")=TRUE,"X",AND($V12=1,Inspection!$P12="NA")=TRUE,"NA",AND($V12=1,Inspection!$P12="D")=TRUE,"D")} -> #N/A | AN12: {=IFS(AND($V12=1,Inspection!$Q12="OK")=TRUE,"OK",AND($V12=1,Inspection!$Q12="X")=TRUE,"X",AND($V12=1,Inspection!$Q12="NA")=TRUE,"NA",AND($V12=1,Inspection!$Q12="D")=TRUE,"D")} -> #N/A | AO12: {=IFS(AND($V12=1,Inspection!$R12="OK")=TRUE,"OK",AND($V12=1,Inspection!$R12="X")=TRUE,"X",AND($V12=1,Inspection!$R12="NA")=TRUE,"NA",AND($V12=1,Inspection!$R12="D")=TRUE,"D")} -> #N/A | AP12: {=IFS(AND($V12=1,Inspection!$S12="OK")=TRUE,"OK",AND($V12=1,Inspection!$S12="X")=TRUE,"X",AND($V12=1,Inspection!$S12="NA")=TRUE,"NA",AND($V12=1,Inspection!$S12="D")=TRUE,"D")} -> #N/A
B13: 10 | E13: OK | F13: OK | G13: OK | H13: OK | I13: OK | J13: OK | K13: OK | L13: OK | M13: OK | N13: OK | O13: OK | P13: OK | Q13: OK | R13: OK | S13: OK | U13: =Inspection!$B13 -> 10 | V13: =COUNTA(Inspection!$C13) -> 0 | W13: =Inspection!$C13 | X13: =Inspection!$D13 | Y13: =Inspection!$T13 | Z13: =Contact!D$11 -> Select School | AB13: {=IFS(AND($V13=1,Inspection!$E13="OK")=TRUE,"OK",AND($V13=1,Inspection!$E13="X")=TRUE,"X",AND($V13=1,Inspection!$E13="NA")=TRUE,"NA",AND($V13=1,Inspection!$E13="D")=TRUE,"D")} -> #N/A | AC13: {=IFS(AND($V13=1,Inspection!$F13="OK")=TRUE,"OK",AND($V13=1,Inspection!$F13="X")=TRUE,"X",AND($V13=1,Inspection!$F13="NA")=TRUE,"NA",AND($V13=1,Inspection!$F13="D")=TRUE,"D")} -> #N/A | AD13: {=IFS(AND($V13=1,Inspection!$G13="OK")=TRUE,"OK",AND($V13=1,Inspection!$G13="X")=TRUE,"X",AND($V13=1,Inspection!$G13="NA")=TRUE,"NA",AND($V13=1,Inspection!$G13="D")=TRUE,"D")} -> #N/A | AE13: {=IFS(AND($V13=1,Inspection!$H13="OK")=TRUE,"OK",AND($V13=1,Inspection!$H13="X")=TRUE,"X",AND($V13=1,Inspection!$H13="NA")=TRUE,"NA",AND($V13=1,Inspection!$H13="D")=TRUE,"D")} -> #N/A | AF13: {=IFS(AND($V13=1,Inspection!$I13="OK")=TRUE,"OK",AND($V13=1,Inspection!$I13="X")=TRUE,"X",AND($V13=1,Inspection!$I13="NA")=TRUE,"NA",AND($V13=1,Inspection!$I13="D")=TRUE,"D")} -> #N/A | AG13: {=IFS(AND($V13=1,Inspection!$J13="OK")=TRUE,"OK",AND($V13=1,Inspection!$J13="X")=TRUE,"X",AND($V13=1,Inspection!$J13="NA")=TRUE,"NA",AND($V13=1,Inspection!$J13="D")=TRUE,"D")} -> #N/A | AH13: {=IFS(AND($V13=1,Inspection!$K13="OK")=TRUE,"OK",AND($V13=1,Inspection!$K13="X")=TRUE,"X",AND($V13=1,Inspection!$K13="NA")=TRUE,"NA",AND($V13=1,Inspection!$K13="D")=TRUE,"D")} -> #N/A | AI13: {=IFS(AND($V13=1,Inspection!$L13="OK")=TRUE,"OK",AND($V13=1,Inspection!$L13="X")=TRUE,"X",AND($V13=1,Inspection!$L13="NA")=TRUE,"NA",AND($V13=1,Inspection!$L13="D")=TRUE,"D")} -> #N/A | AJ13: {=IFS(AND($V13=1,Inspection!$M13="OK")=TRUE,"OK",AND($V13=1,Inspection!$M13="X")=TRUE,"X",AND($V13=1,Inspection!$M13="NA")=TRUE,"NA",AND($V13=1,Inspection!$M13="D")=TRUE,"D")} -> #N/A | AK13: {=IFS(AND($V13=1,Inspection!$N13="OK")=TRUE,"OK",AND($V13=1,Inspection!$N13="X")=TRUE,"X",AND($V13=1,Inspection!$N13="NA")=TRUE,"NA",AND($V13=1,Inspection!$N13="D")=TRUE,"D")} -> #N/A | AL13: {=IFS(AND($V13=1,Inspection!$O13="OK")=TRUE,"OK",AND($V13=1,Inspection!$O13="X")=TRUE,"X",AND($V13=1,Inspection!$O13="NA")=TRUE,"NA",AND($V13=1,Inspection!$O13="D")=TRUE,"D")} -> #N/A | AM13: {=IFS(AND($V13=1,Inspection!$P13="OK")=TRUE,"OK",AND($V13=1,Inspection!$P13="X")=TRUE,"X",AND($V13=1,Inspection!$P13="NA")=TRUE,"NA",AND($V13=1,Inspection!$P13="D")=TRUE,"D")} -> #N/A | AN13: {=IFS(AND($V13=1,Inspection!$Q13="OK")=TRUE,"OK",AND($V13=1,Inspection!$Q13="X")=TRUE,"X",AND($V13=1,Inspection!$Q13="NA")=TRUE,"NA",AND($V13=1,Inspection!$Q13="D")=TRUE,"D")} -> #N/A | AO13: {=IFS(AND($V13=1,Inspection!$R13="OK")=TRUE,"OK",AND($V13=1,Inspection!$R13="X")=TRUE,"X",AND($V13=1,Inspection!$R13="NA")=TRUE,"NA",AND($V13=1,Inspection!$R13="D")=TRUE,"D")} -> #N/A | AP13: {=IFS(AND($V13=1,Inspection!$S13="OK")=TRUE,"OK",AND($V13=1,Inspection!$S13="X")=TRUE,"X",AND($V13=1,Inspection!$S13="NA")=TRUE,"NA",AND($V13=1,Inspection!$S13="D")=TRUE,"D")} -> #N/A
B14: 11 | E14: OK | F14: OK | G14: OK | H14: OK | I14: OK | J14: OK | K14: OK | L14: OK | M14: OK | N14: OK | O14: OK | P14: OK | Q14: OK | R14: OK | S14: OK | U14: =Inspection!$B14 -> 11 | V14: =COUNTA(Inspection!$C14) -> 0 | W14: =Inspection!$C14 | X14: =Inspection!$D14 | Y14: =Inspection!$T14 | Z14: =Contact!D$11 -> Select School | AB14: {=IFS(AND($V14=1,Inspection!$E14="OK")=TRUE,"OK",AND($V14=1,Inspection!$E14="X")=TRUE,"X",AND($V14=1,Inspection!$E14="NA")=TRUE,"NA",AND($V14=1,Inspection!$E14="D")=TRUE,"D")} -> #N/A | AC14: {=IFS(AND($V14=1,Inspection!$F14="OK")=TRUE,"OK",AND($V14=1,Inspection!$F14="X")=TRUE,"X",AND($V14=1,Inspection!$F14="NA")=TRUE,"NA",AND($V14=1,Inspection!$F14="D")=TRUE,"D")} -> #N/A | AD14: {=IFS(AND($V14=1,Inspection!$G14="OK")=TRUE,"OK",AND($V14=1,Inspection!$G14="X")=TRUE,"X",AND($V14=1,Inspection!$G14="NA")=TRUE,"NA",AND($V14=1,Inspection!$G14="D")=TRUE,"D")} -> #N/A | AE14: {=IFS(AND($V14=1,Inspection!$H14="OK")=TRUE,"OK",AND($V14=1,Inspection!$H14="X")=TRUE,"X",AND($V14=1,Inspection!$H14="NA")=TRUE,"NA",AND($V14=1,Inspection!$H14="D")=TRUE,"D")} -> #N/A | AF14: {=IFS(AND($V14=1,Inspection!$I14="OK")=TRUE,"OK",AND($V14=1,Inspection!$I14="X")=TRUE,"X",AND($V14=1,Inspection!$I14="NA")=TRUE,"NA",AND($V14=1,Inspection!$I14="D")=TRUE,"D")} -> #N/A | AG14: {=IFS(AND($V14=1,Inspection!$J14="OK")=TRUE,"OK",AND($V14=1,Inspection!$J14="X")=TRUE,"X",AND($V14=1,Inspection!$J14="NA")=TRUE,"NA",AND($V14=1,Inspection!$J14="D")=TRUE,"D")} -> #N/A | AH14: {=IFS(AND($V14=1,Inspection!$K14="OK")=TRUE,"OK",AND($V14=1,Inspection!$K14="X")=TRUE,"X",AND($V14=1,Inspection!$K14="NA")=TRUE,"NA",AND($V14=1,Inspection!$K14="D")=TRUE,"D")} -> #N/A | AI14: {=IFS(AND($V14=1,Inspection!$L14="OK")=TRUE,"OK",AND($V14=1,Inspection!$L14="X")=TRUE,"X",AND($V14=1,Inspection!$L14="NA")=TRUE,"NA",AND($V14=1,Inspection!$L14="D")=TRUE,"D")} -> #N/A | AJ14: {=IFS(AND($V14=1,Inspection!$M14="OK")=TRUE,"OK",AND($V14=1,Inspection!$M14="X")=TRUE,"X",AND($V14=1,Inspection!$M14="NA")=TRUE,"NA",AND($V14=1,Inspection!$M14="D")=TRUE,"D")} -> #N/A | AK14: {=IFS(AND($V14=1,Inspection!$N14="OK")=TRUE,"OK",AND($V14=1,Inspection!$N14="X")=TRUE,"X",AND($V14=1,Inspection!$N14="NA")=TRUE,"NA",AND($V14=1,Inspection!$N14="D")=TRUE,"D")} -> #N/A | AL14: {=IFS(AND($V14=1,Inspection!$O14="OK")=TRUE,"OK",AND($V14=1,Inspection!$O14="X")=TRUE,"X",AND($V14=1,Inspection!$O14="NA")=TRUE,"NA",AND($V14=1,Inspection!$O14="D")=TRUE,"D")} -> #N/A | AM14: {=IFS(AND($V14=1,Inspection!$P14="OK")=TRUE,"OK",AND($V14=1,Inspection!$P14="X")=TRUE,"X",AND($V14=1,Inspection!$P14="NA")=TRUE,"NA",AND($V14=1,Inspection!$P14="D")=TRUE,"D")} -> #N/A | AN14: {=IFS(AND($V14=1,Inspection!$Q14="OK")=TRUE,"OK",AND($V14=1,Inspection!$Q14="X")=TRUE,"X",AND($V14=1,Inspection!$Q14="NA")=TRUE,"NA",AND($V14=1,Inspection!$Q14="D")=TRUE,"D")} -> #N/A | AO14: {=IFS(AND($V14=1,Inspection!$R14="OK")=TRUE,"OK",AND($V14=1,Inspection!$R14="X")=TRUE,"X",AND($V14=1,Inspection!$R14="NA")=TRUE,"NA",AND($V14=1,Inspection!$R14="D")=TRUE,"D")} -> #N/A | AP14: {=IFS(AND($V14=1,Inspection!$S14="OK")=TRUE,"OK",AND($V14=1,Inspection!$S14="X")=TRUE,"X",AND($V14=1,Inspection!$S14="NA")=TRUE,"NA",AND($V14=1,Inspection!$S14="D")=TRUE,"D")} -> #N/A
B15: 12 | E15: OK | F15: OK | G15: OK | H15: OK | I15: OK | J15: OK | K15: OK | L15: OK | M15: OK | N15: OK | O15: OK | P15: OK | Q15: OK | R15: OK | S15: OK | U15: =Inspection!$B15 -> 12 | V15: =COUNTA(Inspection!$C15) -> 0 | W15: =Inspection!$C15 | X15: =Inspection!$D15 | Y15: =Inspection!$T15 | Z15: =Contact!D$11 -> Select School | AB15: {=IFS(AND($V15=1,Inspection!$E15="OK")=TRUE,"OK",AND($V15=1,Inspection!$E15="X")=TRUE,"X",AND($V15=1,Inspection!$E15="NA")=TRUE,"NA",AND($V15=1,Inspection!$E15="D")=TRUE,"D")} -> #N/A | AC15: {=IFS(AND($V15=1,Inspection!$F15="OK")=TRUE,"OK",AND($V15=1,Inspection!$F15="X")=TRUE,"X",AND($V15=1,Inspection!$F15="NA")=TRUE,"NA",AND($V15=1,Inspection!$F15="D")=TRUE,"D")} -> #N/A | AD15: {=IFS(AND($V15=1,Inspection!$G15="OK")=TRUE,"OK",AND($V15=1,Inspection!$G15="X")=TRUE,"X",AND($V15=1,Inspection!$G15="NA")=TRUE,"NA",AND($V15=1,Inspection!$G15="D")=TRUE,"D")} -> #N/A | AE15: {=IFS(AND($V15=1,Inspection!$H15="OK")=TRUE,"OK",AND($V15=1,Inspection!$H15="X")=TRUE,"X",AND($V15=1,Inspection!$H15="NA")=TRUE,"NA",AND($V15=1,Inspection!$H15="D")=TRUE,"D")} -> #N/A | AF15: {=IFS(AND($V15=1,Inspection!$I15="OK")=TRUE,"OK",AND($V15=1,Inspection!$I15="X")=TRUE,"X",AND($V15=1,Inspection!$I15="NA")=TRUE,"NA",AND($V15=1,Inspection!$I15="D")=TRUE,"D")} -> #N/A | AG15: {=IFS(AND($V15=1,Inspection!$J15="OK")=TRUE,"OK",AND($V15=1,Inspection!$J15="X")=TRUE,"X",AND($V15=1,Inspection!$J15="NA")=TRUE,"NA",AND($V15=1,Inspection!$J15="D")=TRUE,"D")} -> #N/A | AH15: {=IFS(AND($V15=1,Inspection!$K15="OK")=TRUE,"OK",AND($V15=1,Inspection!$K15="X")=TRUE,"X",AND($V15=1,Inspection!$K15="NA")=TRUE,"NA",AND($V15=1,Inspection!$K15="D")=TRUE,"D")} -> #N/A | AI15: {=IFS(AND($V15=1,Inspection!$L15="OK")=TRUE,"OK",AND($V15=1,Inspection!$L15="X")=TRUE,"X",AND($V15=1,Inspection!$L15="NA")=TRUE,"NA",AND($V15=1,Inspection!$L15="D")=TRUE,"D")} -> #N/A | AJ15: {=IFS(AND($V15=1,Inspection!$M15="OK")=TRUE,"OK",AND($V15=1,Inspection!$M15="X")=TRUE,"X",AND($V15=1,Inspection!$M15="NA")=TRUE,"NA",AND($V15=1,Inspection!$M15="D")=TRUE,"D")} -> #N/A | AK15: {=IFS(AND($V15=1,Inspection!$N15="OK")=TRUE,"OK",AND($V15=1,Inspection!$N15="X")=TRUE,"X",AND($V15=1,Inspection!$N15="NA")=TRUE,"NA",AND($V15=1,Inspection!$N15="D")=TRUE,"D")} -> #N/A | AL15: {=IFS(AND($V15=1,Inspection!$O15="OK")=TRUE,"OK",AND($V15=1,Inspection!$O15="X")=TRUE,"X",AND($V15=1,Inspection!$O15="NA")=TRUE,"NA",AND($V15=1,Inspection!$O15="D")=TRUE,"D")} -> #N/A | AM15: {=IFS(AND($V15=1,Inspection!$P15="OK")=TRUE,"OK",AND($V15=1,Inspection!$P15="X")=TRUE,"X",AND($V15=1,Inspection!$P15="NA")=TRUE,"NA",AND($V15=1,Inspection!$P15="D")=TRUE,"D")} -> #N/A | AN15: {=IFS(AND($V15=1,Inspection!$Q15="OK")=TRUE,"OK",AND($V15=1,Inspection!$Q15="X")=TRUE,"X",AND($V15=1,Inspection!$Q15="NA")=TRUE,"NA",AND($V15=1,Inspection!$Q15="D")=TRUE,"D")} -> #N/A | AO15: {=IFS(AND($V15=1,Inspection!$R15="OK")=TRUE,"OK",AND($V15=1,Inspection!$R15="X")=TRUE,"X",AND($V15=1,Inspection!$R15="NA")=TRUE,"NA",AND($V15=1,Inspection!$R15="D")=TRUE,"D")} -> #N/A | AP15: {=IFS(AND($V15=1,Inspection!$S15="OK")=TRUE,"OK",AND($V15=1,Inspection!$S15="X")=TRUE,"X",AND($V15=1,Inspection!$S15="NA")=TRUE,"NA",AND($V15=1,Inspection!$S15="D")=TRUE,"D")} -> #N/A
... B118: 115 | E118: OK | F118: OK | G118: OK | H118: OK | I118: OK | J118: OK | K118: OK | L118: OK | M118: OK | N118: OK | O118: OK | P118: OK | Q118: OK | R118: OK | S118: OK | U118: =Inspection!$B118 -> 115 | V118: =COUNTA(Inspection!$C118) -> 0 | W118: =Inspection!$C118 | X118: =Inspection!$D118 | Y118: =Inspection!$T118 | Z118: =Contact!D$11 -> Select School | AB118: {=IFS(AND($V118=1,Inspection!$E118="OK")=TRUE,"OK",AND($V118=1,Inspection!$E118="X")=TRUE,"X",AND($V118=1,Inspection!$E118="NA")=TRUE,"NA",AND($V118=1,Inspection!$E118="D")=TRUE,"D")} -> #N/A | AC118: {=IFS(AND($V118=1,Inspection!$F118="OK")=TRUE,"OK",AND($V118=1,Inspection!$F118="X")=TRUE,"X",AND($V118=1,Inspection!$F118="NA")=TRUE,"NA",AND($V118=1,Inspection!$F118="D")=TRUE,"D")} -> #N/A | AD118: {=IFS(AND($V118=1,Inspection!$G118="OK")=TRUE,"OK",AND($V118=1,Inspection!$G118="X")=TRUE,"X",AND($V118=1,Inspection!$G118="NA")=TRUE,"NA",AND($V118=1,Inspection!$G118="D")=TRUE,"D")} -> #N/A | AE118: {=IFS(AND($V118=1,Inspection!$H118="OK")=TRUE,"OK",AND($V118=1,Inspection!$H118="X")=TRUE,"X",AND($V118=1,Inspection!$H118="NA")=TRUE,"NA",AND($V118=1,Inspection!$H118="D")=TRUE,"D")} -> #N/A | AF118: {=IFS(AND($V118=1,Inspection!$I118="OK")=TRUE,"OK",AND($V118=1,Inspection!$I118="X")=TRUE,"X",AND($V118=1,Inspection!$I118="NA")=TRUE,"NA",AND($V118=1,Inspection!$I118="D")=TRUE,"D")} -> #N/A | AG118: {=IFS(AND($V118=1,Inspection!$J118="OK")=TRUE,"OK",AND($V118=1,Inspection!$J118="X")=TRUE,"X",AND($V118=1,Inspection!$J118="NA")=TRUE,"NA",AND($V118=1,Inspection!$J118="D")=TRUE,"D")} -> #N/A | AH118: {=IFS(AND($V118=1,Inspection!$K118="OK")=TRUE,"OK",AND($V118=1,Inspection!$K118="X")=TRUE,"X",AND($V118=1,Inspection!$K118="NA")=TRUE,"NA",AND($V118=1,Inspection!$K118="D")=TRUE,"D")} -> #N/A | AI118: {=IFS(AND($V118=1,Inspection!$L118="OK")=TRUE,"OK",AND($V118=1,Inspection!$L118="X")=TRUE,"X",AND($V118=1,Inspection!$L118="NA")=TRUE,"NA",AND($V118=1,Inspection!$L118="D")=TRUE,"D")} -> #N/A | AJ118: {=IFS(AND($V118=1,Inspection!$M118="OK")=TRUE,"OK",AND($V118=1,Inspection!$M118="X")=TRUE,"X",AND($V118=1,Inspection!$M118="NA")=TRUE,"NA",AND($V118=1,Inspection!$M118="D")=TRUE,"D")} -> #N/A | AK118: {=IFS(AND($V118=1,Inspection!$N118="OK")=TRUE,"OK",AND($V118=1,Inspection!$N118="X")=TRUE,"X",AND($V118=1,Inspection!$N118="NA")=TRUE,"NA",AND($V118=1,Inspection!$N118="D")=TRUE,"D")} -> #N/A | AL118: {=IFS(AND($V118=1,Inspection!$O118="OK")=TRUE,"OK",AND($V118=1,Inspection!$O118="X")=TRUE,"X",AND($V118=1,Inspection!$O118="NA")=TRUE,"NA",AND($V118=1,Inspection!$O118="D")=TRUE,"D")} -> #N/A | AM118: {=IFS(AND($V118=1,Inspection!$P118="OK")=TRUE,"OK",AND($V118=1,Inspection!$P118="X")=TRUE,"X",AND($V118=1,Inspection!$P118="NA")=TRUE,"NA",AND($V118=1,Inspection!$P118="D")=TRUE,"D")} -> #N/A | AN118: {=IFS(AND($V118=1,Inspection!$Q118="OK")=TRUE,"OK",AND($V118=1,Inspection!$Q118="X")=TRUE,"X",AND($V118=1,Inspection!$Q118="NA")=TRUE,"NA",AND($V118=1,Inspection!$Q118="D")=TRUE,"D")} -> #N/A | AO118: {=IFS(AND($V118=1,Inspection!$R118="OK")=TRUE,"OK",AND($V118=1,Inspection!$R118="X")=TRUE,"X",AND($V118=1,Inspection!$R118="NA")=TRUE,"NA",AND($V118=1,Inspection!$R118="D")=TRUE,"D")} -> #N/A | AP118: {=IFS(AND($V118=1,Inspection!$S118="OK")=TRUE,"OK",AND($V118=1,Inspection!$S118="X")=TRUE,"X",AND($V118=1,Inspection!$S118="NA")=TRUE,"NA",AND($V118=1,Inspection!$S118="D")=TRUE,"D")} -> #N/A
B119: 116 | E119: OK | F119: OK | G119: OK | H119: OK | I119: OK | J119: OK | K119: OK | L119: OK | M119: OK | N119: OK | O119: OK | P119: OK | Q119: OK | R119: OK | S119: OK | U119: =Inspection!$B119 -> 116 | V119: =COUNTA(Inspection!$C119) -> 0 | W119: =Inspection!$C119 | X119: =Inspection!$D119 | Y119: =Inspection!$T119 | Z119: =Contact!D$11 -> Select School | AA119: =Contact!D$4 | AB119: {=IFS(AND($V119=1,Inspection!$E119="OK")=TRUE,"OK",AND($V119=1,Inspection!$E119="X")=TRUE,"X",AND($V119=1,Inspection!$E119="NA")=TRUE,"NA",AND($V119=1,Inspection!$E119="D")=TRUE,"D")} -> #N/A | AC119: {=IFS(AND($V119=1,Inspection!$F119="OK")=TRUE,"OK",AND($V119=1,Inspection!$F119="X")=TRUE,"X",AND($V119=1,Inspection!$F119="NA")=TRUE,"NA",AND($V119=1,Inspection!$F119="D")=TRUE,"D")} -> #N/A | AD119: {=IFS(AND($V119=1,Inspection!$G119="OK")=TRUE,"OK",AND($V119=1,Inspection!$G119="X")=TRUE,"X",AND($V119=1,Inspection!$G119="NA")=TRUE,"NA",AND($V119=1,Inspection!$G119="D")=TRUE,"D")} -> #N/A | AE119: {=IFS(AND($V119=1,Inspection!$H119="OK")=TRUE,"OK",AND($V119=1,Inspection!$H119="X")=TRUE,"X",AND($V119=1,Inspection!$H119="NA")=TRUE,"NA",AND($V119=1,Inspection!$H119="D")=TRUE,"D")} -> #N/A | AF119: {=IFS(AND($V119=1,Inspection!$I119="OK")=TRUE,"OK",AND($V119=1,Inspection!$I119="X")=TRUE,"X",AND($V119=1,Inspection!$I119="NA")=TRUE,"NA",AND($V119=1,Inspection!$I119="D")=TRUE,"D")} -> #N/A | AG119: {=IFS(AND($V119=1,Inspection!$J119="OK")=TRUE,"OK",AND($V119=1,Inspection!$J119="X")=TRUE,"X",AND($V119=1,Inspection!$J119="NA")=TRUE,"NA",AND($V119=1,Inspection!$J119="D")=TRUE,"D")} -> #N/A | AH119: {=IFS(AND($V119=1,Inspection!$K119="OK")=TRUE,"OK",AND($V119=1,Inspection!$K119="X")=TRUE,"X",AND($V119=1,Inspection!$K119="NA")=TRUE,"NA",AND($V119=1,Inspection!$K119="D")=TRUE,"D")} -> #N/A | AI119: {=IFS(AND($V119=1,Inspection!$L119="OK")=TRUE,"OK",AND($V119=1,Inspection!$L119="X")=TRUE,"X",AND($V119=1,Inspection!$L119="NA")=TRUE,"NA",AND($V119=1,Inspection!$L119="D")=TRUE,"D")} -> #N/A | AJ119: {=IFS(AND($V119=1,Inspection!$M119="OK")=TRUE,"OK",AND($V119=1,Inspection!$M119="X")=TRUE,"X",AND($V119=1,Inspection!$M119="NA")=TRUE,"NA",AND($V119=1,Inspection!$M119="D")=TRUE,"D")} -> #N/A | AK119: {=IFS(AND($V119=1,Inspection!$N119="OK")=TRUE,"OK",AND($V119=1,Inspection!$N119="X")=TRUE,"X",AND($V119=1,Inspection!$N119="NA")=TRUE,"NA",AND($V119=1,Inspection!$N119="D")=TRUE,"D")} -> #N/A | AL119: {=IFS(AND($V119=1,Inspection!$O119="OK")=TRUE,"OK",AND($V119=1,Inspection!$O119="X")=TRUE,"X",AND($V119=1,Inspection!$O119="NA")=TRUE,"NA",AND($V119=1,Inspection!$O119="D")=TRUE,"D")} -> #N/A | AM119: {=IFS(AND($V119=1,Inspection!$P119="OK")=TRUE,"OK",AND($V119=1,Inspection!$P119="X")=TRUE,"X",AND($V119=1,Inspection!$P119="NA")=TRUE,"NA",AND($V119=1,Inspection!$P119="D")=TRUE,"D")} -> #N/A | AN119: {=IFS(AND($V119=1,Inspection!$Q119="OK")=TRUE,"OK",AND($V119=1,Inspection!$Q119="X")=TRUE,"X",AND($V119=1,Inspection!$Q119="NA")=TRUE,"NA",AND($V119=1,Inspection!$Q119="D")=TRUE,"D")} -> #N/A | AO119: {=IFS(AND($V119=1,Inspection!$R119="OK")=TRUE,"OK",AND($V119=1,Inspection!$R119="X")=TRUE,"X",AND($V119=1,Inspection!$R119="NA")=TRUE,"NA",AND($V119=1,Inspection!$R119="D")=TRUE,"D")} -> #N/A | AP119: {=IFS(AND($V119=1,Inspection!$S119="OK")=TRUE,"OK",AND($V119=1,Inspection!$S119="X")=TRUE,"X",AND($V119=1,Inspection!$S119="NA")=TRUE,"NA",AND($V119=1,Inspection!$S119="D")=TRUE,"D")} -> #N/A
B120: 117 | E120: OK | F120: OK | G120: OK | H120: OK | I120: OK | J120: OK | K120: OK | L120: OK | M120: OK | N120: OK | O120: OK | P120: OK | Q120: OK | R120: OK | S120: OK | U120: =Inspection!$B120 -> 117 | V120: =COUNTA(Inspection!$C120) -> 0 | W120: =Inspection!$C120 | X120: =Inspection!$D120 | Y120: =Inspection!$T120 | Z120: =Contact!D$11 -> Select School | AA120: =Contact!D$4 | AB120: {=IFS(AND($V120=1,Inspection!$E120="OK")=TRUE,"OK",AND($V120=1,Inspection!$E120="X")=TRUE,"X",AND($V120=1,Inspection!$E120="NA")=TRUE,"NA",AND($V120=1,Inspection!$E120="D")=TRUE,"D")} -> #N/A | AC120: {=IFS(AND($V120=1,Inspection!$F120="OK")=TRUE,"OK",AND($V120=1,Inspection!$F120="X")=TRUE,"X",AND($V120=1,Inspection!$F120="NA")=TRUE,"NA",AND($V120=1,Inspection!$F120="D")=TRUE,"D")} -> #N/A | AD120: {=IFS(AND($V120=1,Inspection!$G120="OK")=TRUE,"OK",AND($V120=1,Inspection!$G120="X")=TRUE,"X",AND($V120=1,Inspection!$G120="NA")=TRUE,"NA",AND($V120=1,Inspection!$G120="D")=TRUE,"D")} -> #N/A | AE120: {=IFS(AND($V120=1,Inspection!$H120="OK")=TRUE,"OK",AND($V120=1,Inspection!$H120="X")=TRUE,"X",AND($V120=1,Inspection!$H120="NA")=TRUE,"NA",AND($V120=1,Inspection!$H120="D")=TRUE,"D")} -> #N/A | AF120: {=IFS(AND($V120=1,Inspection!$I120="OK")=TRUE,"OK",AND($V120=1,Inspection!$I120="X")=TRUE,"X",AND($V120=1,Inspection!$I120="NA")=TRUE,"NA",AND($V120=1,Inspection!$I120="D")=TRUE,"D")} -> #N/A | AG120: {=IFS(AND($V120=1,Inspection!$J120="OK")=TRUE,"OK",AND($V120=1,Inspection!$J120="X")=TRUE,"X",AND($V120=1,Inspection!$J120="NA")=TRUE,"NA",AND($V120=1,Inspection!$J120="D")=TRUE,"D")} -> #N/A | AH120: {=IFS(AND($V120=1,Inspection!$K120="OK")=TRUE,"OK",AND($V120=1,Inspection!$K120="X")=TRUE,"X",AND($V120=1,Inspection!$K120="NA")=TRUE,"NA",AND($V120=1,Inspection!$K120="D")=TRUE,"D")} -> #N/A | AI120: {=IFS(AND($V120=1,Inspection!$L120="OK")=TRUE,"OK",AND($V120=1,Inspection!$L120="X")=TRUE,"X",AND($V120=1,Inspection!$L120="NA")=TRUE,"NA",AND($V120=1,Inspection!$L120="D")=TRUE,"D")} -> #N/A | AJ120: {=IFS(AND($V120=1,Inspection!$M120="OK")=TRUE,"OK",AND($V120=1,Inspection!$M120="X")=TRUE,"X",AND($V120=1,Inspection!$M120="NA")=TRUE,"NA",AND($V120=1,Inspection!$M120="D")=TRUE,"D")} -> #N/A | AK120: {=IFS(AND($V120=1,Inspection!$N120="OK")=TRUE,"OK",AND($V120=1,Inspection!$N120="X")=TRUE,"X",AND($V120=1,Inspection!$N120="NA")=TRUE,"NA",AND($V120=1,Inspection!$N120="D")=TRUE,"D")} -> #N/A | AL120: {=IFS(AND($V120=1,Inspection!$O120="OK")=TRUE,"OK",AND($V120=1,Inspection!$O120="X")=TRUE,"X",AND($V120=1,Inspection!$O120="NA")=TRUE,"NA",AND($V120=1,Inspection!$O120="D")=TRUE,"D")} -> #N/A | AM120: {=IFS(AND($V120=1,Inspection!$P120="OK")=TRUE,"OK",AND($V120=1,Inspection!$P120="X")=TRUE,"X",AND($V120=1,Inspection!$P120="NA")=TRUE,"NA",AND($V120=1,Inspection!$P120="D")=TRUE,"D")} -> #N/A | AN120: {=IFS(AND($V120=1,Inspection!$Q120="OK")=TRUE,"OK",AND($V120=1,Inspection!$Q120="X")=TRUE,"X",AND($V120=1,Inspection!$Q120="NA")=TRUE,"NA",AND($V120=1,Inspection!$Q120="D")=TRUE,"D")} -> #N/A | AO120: {=IFS(AND($V120=1,Inspection!$R120="OK")=TRUE,"OK",AND($V120=1,Inspection!$R120="X")=TRUE,"X",AND($V120=1,Inspection!$R120="NA")=TRUE,"NA",AND($V120=1,Inspection!$R120="D")=TRUE,"D")} -> #N/A | AP120: {=IFS(AND($V120=1,Inspection!$S120="OK")=TRUE,"OK",AND($V120=1,Inspection!$S120="X")=TRUE,"X",AND($V120=1,Inspection!$S120="NA")=TRUE,"NA",AND($V120=1,Inspection!$S120="D")=TRUE,"D")} -> #N/A
B121: 118 | E121: OK | F121: OK | G121: OK | H121: OK | I121: OK | J121: OK | K121: OK | L121: OK | M121: OK | N121: OK | O121: OK | P121: OK | Q121: OK | R121: OK | S121: OK | U121: =Inspection!$B121 -> 118 | V121: =COUNTA(Inspection!$C121) -> 0 | W121: =Inspection!$C121 | X121: =Inspection!$D121 | Y121: =Inspection!$T121 | Z121: =Contact!D$11 -> Select School | AA121: =Contact!D$4 | AB121: {=IFS(AND($V121=1,Inspection!$E121="OK")=TRUE,"OK",AND($V121=1,Inspection!$E121="X")=TRUE,"X",AND($V121=1,Inspection!$E121="NA")=TRUE,"NA",AND($V121=1,Inspection!$E121="D")=TRUE,"D")} -> #N/A | AC121: {=IFS(AND($V121=1,Inspection!$F121="OK")=TRUE,"OK",AND($V121=1,Inspection!$F121="X")=TRUE,"X",AND($V121=1,Inspection!$F121="NA")=TRUE,"NA",AND($V121=1,Inspection!$F121="D")=TRUE,"D")} -> #N/A | AD121: {=IFS(AND($V121=1,Inspection!$G121="OK")=TRUE,"OK",AND($V121=1,Inspection!$G121="X")=TRUE,"X",AND($V121=1,Inspection!$G121="NA")=TRUE,"NA",AND($V121=1,Inspection!$G121="D")=TRUE,"D")} -> #N/A | AE121: {=IFS(AND($V121=1,Inspection!$H121="OK")=TRUE,"OK",AND($V121=1,Inspection!$H121="X")=TRUE,"X",AND($V121=1,Inspection!$H121="NA")=TRUE,"NA",AND($V121=1,Inspection!$H121="D")=TRUE,"D")} -> #N/A | AF121: {=IFS(AND($V121=1,Inspection!$I121="OK")=TRUE,"OK",AND($V121=1,Inspection!$I121="X")=TRUE,"X",AND($V121=1,Inspection!$I121="NA")=TRUE,"NA",AND($V121=1,Inspection!$I121="D")=TRUE,"D")} -> #N/A | AG121: {=IFS(AND($V121=1,Inspection!$J121="OK")=TRUE,"OK",AND($V121=1,Inspection!$J121="X")=TRUE,"X",AND($V121=1,Inspection!$J121="NA")=TRUE,"NA",AND($V121=1,Inspection!$J121="D")=TRUE,"D")} -> #N/A | AH121: {=IFS(AND($V121=1,Inspection!$K121="OK")=TRUE,"OK",AND($V121=1,Inspection!$K121="X")=TRUE,"X",AND($V121=1,Inspection!$K121="NA")=TRUE,"NA",AND($V121=1,Inspection!$K121="D")=TRUE,"D")} -> #N/A | AI121: {=IFS(AND($V121=1,Inspection!$L121="OK")=TRUE,"OK",AND($V121=1,Inspection!$L121="X")=TRUE,"X",AND($V121=1,Inspection!$L121="NA")=TRUE,"NA",AND($V121=1,Inspection!$L121="D")=TRUE,"D")} -> #N/A | AJ121: {=IFS(AND($V121=1,Inspection!$M121="OK")=TRUE,"OK",AND($V121=1,Inspection!$M121="X")=TRUE,"X",AND($V121=1,Inspection!$M121="NA")=TRUE,"NA",AND($V121=1,Inspection!$M121="D")=TRUE,"D")} -> #N/A | AK121: {=IFS(AND($V121=1,Inspection!$N121="OK")=TRUE,"OK",AND($V121=1,Inspection!$N121="X")=TRUE,"X",AND($V121=1,Inspection!$N121="NA")=TRUE,"NA",AND($V121=1,Inspection!$N121="D")=TRUE,"D")} -> #N/A | AL121: {=IFS(AND($V121=1,Inspection!$O121="OK")=TRUE,"OK",AND($V121=1,Inspection!$O121="X")=TRUE,"X",AND($V121=1,Inspection!$O121="NA")=TRUE,"NA",AND($V121=1,Inspection!$O121="D")=TRUE,"D")} -> #N/A | AM121: {=IFS(AND($V121=1,Inspection!$P121="OK")=TRUE,"OK",AND($V121=1,Inspection!$P121="X")=TRUE,"X",AND($V121=1,Inspection!$P121="NA")=TRUE,"NA",AND($V121=1,Inspection!$P121="D")=TRUE,"D")} -> #N/A | AN121: {=IFS(AND($V121=1,Inspection!$Q121="OK")=TRUE,"OK",AND($V121=1,Inspection!$Q121="X")=TRUE,"X",AND($V121=1,Inspection!$Q121="NA")=TRUE,"NA",AND($V121=1,Inspection!$Q121="D")=TRUE,"D")} -> #N/A | AO121: {=IFS(AND($V121=1,Inspection!$R121="OK")=TRUE,"OK",AND($V121=1,Inspection!$R121="X")=TRUE,"X",AND($V121=1,Inspection!$R121="NA")=TRUE,"NA",AND($V121=1,Inspection!$R121="D")=TRUE,"D")} -> #N/A | AP121: {=IFS(AND($V121=1,Inspection!$S121="OK")=TRUE,"OK",AND($V121=1,Inspection!$S121="X")=TRUE,"X",AND($V121=1,Inspection!$S121="NA")=TRUE,"NA",AND($V121=1,Inspection!$S121="D")=TRUE,"D")} -> #N/A
B122: 119 | E122: OK | F122: OK | G122: OK | H122: OK | I122: OK | J122: OK | K122: OK | L122: OK | M122: OK | N122: OK | O122: OK | P122: OK | Q122: OK | R122: OK | S122: OK | U122: =Inspection!$B122 -> 119 | V122: =COUNTA(Inspection!$C122) -> 0 | W122: =Inspection!$C122 | X122: =Inspection!$D122 | Y122: =Inspection!$T122 | Z122: =Contact!D$11 -> Select School | AA122: =Contact!D$4 | AB122: {=IFS(AND($V122=1,Inspection!$E122="OK")=TRUE,"OK",AND($V122=1,Inspection!$E122="X")=TRUE,"X",AND($V122=1,Inspection!$E122="NA")=TRUE,"NA",AND($V122=1,Inspection!$E122="D")=TRUE,"D")} -> #N/A | AC122: {=IFS(AND($V122=1,Inspection!$F122="OK")=TRUE,"OK",AND($V122=1,Inspection!$F122="X")=TRUE,"X",AND($V122=1,Inspection!$F122="NA")=TRUE,"NA",AND($V122=1,Inspection!$F122="D")=TRUE,"D")} -> #N/A | AD122: {=IFS(AND($V122=1,Inspection!$G122="OK")=TRUE,"OK",AND($V122=1,Inspection!$G122="X")=TRUE,"X",AND($V122=1,Inspection!$G122="NA")=TRUE,"NA",AND($V122=1,Inspection!$G122="D")=TRUE,"D")} -> #N/A | AE122: {=IFS(AND($V122=1,Inspection!$H122="OK")=TRUE,"OK",AND($V122=1,Inspection!$H122="X")=TRUE,"X",AND($V122=1,Inspection!$H122="NA")=TRUE,"NA",AND($V122=1,Inspection!$H122="D")=TRUE,"D")} -> #N/A | AF122: {=IFS(AND($V122=1,Inspection!$I122="OK")=TRUE,"OK",AND($V122=1,Inspection!$I122="X")=TRUE,"X",AND($V122=1,Inspection!$I122="NA")=TRUE,"NA",AND($V122=1,Inspection!$I122="D")=TRUE,"D")} -> #N/A | AG122: {=IFS(AND($V122=1,Inspection!$J122="OK")=TRUE,"OK",AND($V122=1,Inspection!$J122="X")=TRUE,"X",AND($V122=1,Inspection!$J122="NA")=TRUE,"NA",AND($V122=1,Inspection!$J122="D")=TRUE,"D")} -> #N/A | AH122: {=IFS(AND($V122=1,Inspection!$K122="OK")=TRUE,"OK",AND($V122=1,Inspection!$K122="X")=TRUE,"X",AND($V122=1,Inspection!$K122="NA")=TRUE,"NA",AND($V122=1,Inspection!$K122="D")=TRUE,"D")} -> #N/A | AI122: {=IFS(AND($V122=1,Inspection!$L122="OK")=TRUE,"OK",AND($V122=1,Inspection!$L122="X")=TRUE,"X",AND($V122=1,Inspection!$L122="NA")=TRUE,"NA",AND($V122=1,Inspection!$L122="D")=TRUE,"D")} -> #N/A | AJ122: {=IFS(AND($V122=1,Inspection!$M122="OK")=TRUE,"OK",AND($V122=1,Inspection!$M122="X")=TRUE,"X",AND($V122=1,Inspection!$M122="NA")=TRUE,"NA",AND($V122=1,Inspection!$M122="D")=TRUE,"D")} -> #N/A | AK122: {=IFS(AND($V122=1,Inspection!$N122="OK")=TRUE,"OK",AND($V122=1,Inspection!$N122="X")=TRUE,"X",AND($V122=1,Inspection!$N122="NA")=TRUE,"NA",AND($V122=1,Inspection!$N122="D")=TRUE,"D")} -> #N/A | AL122: {=IFS(AND($V122=1,Inspection!$O122="OK")=TRUE,"OK",AND($V122=1,Inspection!$O122="X")=TRUE,"X",AND($V122=1,Inspection!$O122="NA")=TRUE,"NA",AND($V122=1,Inspection!$O122="D")=TRUE,"D")} -> #N/A | AM122: {=IFS(AND($V122=1,Inspection!$P122="OK")=TRUE,"OK",AND($V122=1,Inspection!$P122="X")=TRUE,"X",AND($V122=1,Inspection!$P122="NA")=TRUE,"NA",AND($V122=1,Inspection!$P122="D")=TRUE,"D")} -> #N/A | AN122: {=IFS(AND($V122=1,Inspection!$Q122="OK")=TRUE,"OK",AND($V122=1,Inspection!$Q122="X")=TRUE,"X",AND($V122=1,Inspection!$Q122="NA")=TRUE,"NA",AND($V122=1,Inspection!$Q122="D")=TRUE,"D")} -> #N/A | AO122: {=IFS(AND($V122=1,Inspection!$R122="OK")=TRUE,"OK",AND($V122=1,Inspection!$R122="X")=TRUE,"X",AND($V122=1,Inspection!$R122="NA")=TRUE,"NA",AND($V122=1,Inspection!$R122="D")=TRUE,"D")} -> #N/A | AP122: {=IFS(AND($V122=1,Inspection!$S122="OK")=TRUE,"OK",AND($V122=1,Inspection!$S122="X")=TRUE,"X",AND($V122=1,Inspection!$S122="NA")=TRUE,"NA",AND($V122=1,Inspection!$S122="D")=TRUE,"D")} -> #N/A
B123: 120 | E123: OK | F123: OK | G123: OK | H123: OK | I123: OK | J123: OK | K123: OK | L123: OK | M123: OK | N123: OK | O123: OK | P123: OK | Q123: OK | R123: OK | S123: OK | U123: =Inspection!$B123 -> 120 | V123: =COUNTA(Inspection!$C123) -> 0 | W123: =Inspection!$C123 | X123: =Inspection!$D123 | Y123: =Inspection!$T123 | Z123: =Contact!D$11 -> Select School | AA123: =Contact!D$4 | AB123: {=IFS(AND($V123=1,Inspection!$E123="OK")=TRUE,"OK",AND($V123=1,Inspection!$E123="X")=TRUE,"X",AND($V123=1,Inspection!$E123="NA")=TRUE,"NA",AND($V123=1,Inspection!$E123="D")=TRUE,"D")} -> #N/A | AC123: {=IFS(AND($V123=1,Inspection!$F123="OK")=TRUE,"OK",AND($V123=1,Inspection!$F123="X")=TRUE,"X",AND($V123=1,Inspection!$F123="NA")=TRUE,"NA",AND($V123=1,Inspection!$F123="D")=TRUE,"D")} -> #N/A | AD123: {=IFS(AND($V123=1,Inspection!$G123="OK")=TRUE,"OK",AND($V123=1,Inspection!$G123="X")=TRUE,"X",AND($V123=1,Inspection!$G123="NA")=TRUE,"NA",AND($V123=1,Inspection!$G123="D")=TRUE,"D")} -> #N/A | AE123: {=IFS(AND($V123=1,Inspection!$H123="OK")=TRUE,"OK",AND($V123=1,Inspection!$H123="X")=TRUE,"X",AND($V123=1,Inspection!$H123="NA")=TRUE,"NA",AND($V123=1,Inspection!$H123="D")=TRUE,"D")} -> #N/A | AF123: {=IFS(AND($V123=1,Inspection!$I123="OK")=TRUE,"OK",AND($V123=1,Inspection!$I123="X")=TRUE,"X",AND($V123=1,Inspection!$I123="NA")=TRUE,"NA",AND($V123=1,Inspection!$I123="D")=TRUE,"D")} -> #N/A | AG123: {=IFS(AND($V123=1,Inspection!$J123="OK")=TRUE,"OK",AND($V123=1,Inspection!$J123="X")=TRUE,"X",AND($V123=1,Inspection!$J123="NA")=TRUE,"NA",AND($V123=1,Inspection!$J123="D")=TRUE,"D")} -> #N/A | AH123: {=IFS(AND($V123=1,Inspection!$K123="OK")=TRUE,"OK",AND($V123=1,Inspection!$K123="X")=TRUE,"X",AND($V123=1,Inspection!$K123="NA")=TRUE,"NA",AND($V123=1,Inspection!$K123="D")=TRUE,"D")} -> #N/A | AI123: {=IFS(AND($V123=1,Inspection!$L123="OK")=TRUE,"OK",AND($V123=1,Inspection!$L123="X")=TRUE,"X",AND($V123=1,Inspection!$L123="NA")=TRUE,"NA",AND($V123=1,Inspection!$L123="D")=TRUE,"D")} -> #N/A | AJ123: {=IFS(AND($V123=1,Inspection!$M123="OK")=TRUE,"OK",AND($V123=1,Inspection!$M123="X")=TRUE,"X",AND($V123=1,Inspection!$M123="NA")=TRUE,"NA",AND($V123=1,Inspection!$M123="D")=TRUE,"D")} -> #N/A | AK123: {=IFS(AND($V123=1,Inspection!$N123="OK")=TRUE,"OK",AND($V123=1,Inspection!$N123="X")=TRUE,"X",AND($V123=1,Inspection!$N123="NA")=TRUE,"NA",AND($V123=1,Inspection!$N123="D")=TRUE,"D")} -> #N/A | AL123: {=IFS(AND($V123=1,Inspection!$O123="OK")=TRUE,"OK",AND($V123=1,Inspection!$O123="X")=TRUE,"X",AND($V123=1,Inspection!$O123="NA")=TRUE,"NA",AND($V123=1,Inspection!$O123="D")=TRUE,"D")} -> #N/A | AM123: {=IFS(AND($V123=1,Inspection!$P123="OK")=TRUE,"OK",AND($V123=1,Inspection!$P123="X")=TRUE,"X",AND($V123=1,Inspection!$P123="NA")=TRUE,"NA",AND($V123=1,Inspection!$P123="D")=TRUE,"D")} -> #N/A | AN123: {=IFS(AND($V123=1,Inspection!$Q123="OK")=TRUE,"OK",AND($V123=1,Inspection!$Q123="X")=TRUE,"X",AND($V123=1,Inspection!$Q123="NA")=TRUE,"NA",AND($V123=1,Inspection!$Q123="D")=TRUE,"D")} -> #N/A | AO123: {=IFS(AND($V123=1,Inspection!$R123="OK")=TRUE,"OK",AND($V123=1,Inspection!$R123="X")=TRUE,"X",AND($V123=1,Inspection!$R123="NA")=TRUE,"NA",AND($V123=1,Inspection!$R123="D")=TRUE,"D")} -> #N/A | AP123: {=IFS(AND($V123=1,Inspection!$S123="OK")=TRUE,"OK",AND($V123=1,Inspection!$S123="X")=TRUE,"X",AND($V123=1,Inspection!$S123="NA")=TRUE,"NA",AND($V123=1,Inspection!$S123="D")=TRUE,"D")} -> #N/A
B124: 121 | E124: OK | F124: OK | G124: OK | H124: OK | I124: OK | J124: OK | K124: OK | L124: OK | M124: OK | N124: OK | O124: OK | P124: OK | Q124: OK | R124: OK | S124: OK | U124: =Inspection!$B124 -> 121 | V124: =COUNTA(Inspection!$C124) -> 0 | W124: =Inspection!$C124 | X124: =Inspection!$D124 | Y124: =Inspection!$T124 | Z124: =Contact!D$11 -> Select School | AA124: =Contact!D$4 | AB124: {=IFS(AND($V124=1,Inspection!$E124="OK")=TRUE,"OK",AND($V124=1,Inspection!$E124="X")=TRUE,"X",AND($V124=1,Inspection!$E124="NA")=TRUE,"NA",AND($V124=1,Inspection!$E124="D")=TRUE,"D")} -> #N/A | AC124: {=IFS(AND($V124=1,Inspection!$F124="OK")=TRUE,"OK",AND($V124=1,Inspection!$F124="X")=TRUE,"X",AND($V124=1,Inspection!$F124="NA")=TRUE,"NA",AND($V124=1,Inspection!$F124="D")=TRUE,"D")} -> #N/A | AD124: {=IFS(AND($V124=1,Inspection!$G124="OK")=TRUE,"OK",AND($V124=1,Inspection!$G124="X")=TRUE,"X",AND($V124=1,Inspection!$G124="NA")=TRUE,"NA",AND($V124=1,Inspection!$G124="D")=TRUE,"D")} -> #N/A | AE124: {=IFS(AND($V124=1,Inspection!$H124="OK")=TRUE,"OK",AND($V124=1,Inspection!$H124="X")=TRUE,"X",AND($V124=1,Inspection!$H124="NA")=TRUE,"NA",AND($V124=1,Inspection!$H124="D")=TRUE,"D")} -> #N/A | AF124: {=IFS(AND($V124=1,Inspection!$I124="OK")=TRUE,"OK",AND($V124=1,Inspection!$I124="X")=TRUE,"X",AND($V124=1,Inspection!$I124="NA")=TRUE,"NA",AND($V124=1,Inspection!$I124="D")=TRUE,"D")} -> #N/A | AG124: {=IFS(AND($V124=1,Inspection!$J124="OK")=TRUE,"OK",AND($V124=1,Inspection!$J124="X")=TRUE,"X",AND($V124=1,Inspection!$J124="NA")=TRUE,"NA",AND($V124=1,Inspection!$J124="D")=TRUE,"D")} -> #N/A | AH124: {=IFS(AND($V124=1,Inspection!$K124="OK")=TRUE,"OK",AND($V124=1,Inspection!$K124="X")=TRUE,"X",AND($V124=1,Inspection!$K124="NA")=TRUE,"NA",AND($V124=1,Inspection!$K124="D")=TRUE,"D")} -> #N/A | AI124: {=IFS(AND($V124=1,Inspection!$L124="OK")=TRUE,"OK",AND($V124=1,Inspection!$L124="X")=TRUE,"X",AND($V124=1,Inspection!$L124="NA")=TRUE,"NA",AND($V124=1,Inspection!$L124="D")=TRUE,"D")} -> #N/A | AJ124: {=IFS(AND($V124=1,Inspection!$M124="OK")=TRUE,"OK",AND($V124=1,Inspection!$M124="X")=TRUE,"X",AND($V124=1,Inspection!$M124="NA")=TRUE,"NA",AND($V124=1,Inspection!$M124="D")=TRUE,"D")} -> #N/A | AK124: {=IFS(AND($V124=1,Inspection!$N124="OK")=TRUE,"OK",AND($V124=1,Inspection!$N124="X")=TRUE,"X",AND($V124=1,Inspection!$N124="NA")=TRUE,"NA",AND($V124=1,Inspection!$N124="D")=TRUE,"D")} -> #N/A | AL124: {=IFS(AND($V124=1,Inspection!$O124="OK")=TRUE,"OK",AND($V124=1,Inspection!$O124="X")=TRUE,"X",AND($V124=1,Inspection!$O124="NA")=TRUE,"NA",AND($V124=1,Inspection!$O124="D")=TRUE,"D")} -> #N/A | AM124: {=IFS(AND($V124=1,Inspection!$P124="OK")=TRUE,"OK",AND($V124=1,Inspection!$P124="X")=TRUE,"X",AND($V124=1,Inspection!$P124="NA")=TRUE,"NA",AND($V124=1,Inspection!$P124="D")=TRUE,"D")} -> #N/A | AN124: {=IFS(AND($V124=1,Inspection!$Q124="OK")=TRUE,"OK",AND($V124=1,Inspection!$Q124="X")=TRUE,"X",AND($V124=1,Inspection!$Q124="NA")=TRUE,"NA",AND($V124=1,Inspection!$Q124="D")=TRUE,"D")} -> #N/A | AO124: {=IFS(AND($V124=1,Inspection!$R124="OK")=TRUE,"OK",AND($V124=1,Inspection!$R124="X")=TRUE,"X",AND($V124=1,Inspection!$R124="NA")=TRUE,"NA",AND($V124=1,Inspection!$R124="D")=TRUE,"D")} -> #N/A | AP124: {=IFS(AND($V124=1,Inspection!$S124="OK")=TRUE,"OK",AND($V124=1,Inspection!$S124="X")=TRUE,"X",AND($V124=1,Inspection!$S124="NA")=TRUE,"NA",AND($V124=1,Inspection!$S124="D")=TRUE,"D")} -> #N/A
B125: 122 | E125: OK | F125: OK | G125: OK | H125: OK | I125: OK | J125: OK | K125: OK | L125: OK | M125: OK | N125: OK | O125: OK | P125: OK | Q125: OK | R125: OK | S125: OK | U125: =Inspection!$B125 -> 122 | V125: =COUNTA(Inspection!$C125) -> 0 | W125: =Inspection!$C125 | X125: =Inspection!$D125 | Y125: =Inspection!$T125 | Z125: =Contact!D$11 -> Select School | AA125: =Contact!D$4 | AB125: {=IFS(AND($V125=1,Inspection!$E125="OK")=TRUE,"OK",AND($V125=1,Inspection!$E125="X")=TRUE,"X",AND($V125=1,Inspection!$E125="NA")=TRUE,"NA",AND($V125=1,Inspection!$E125="D")=TRUE,"D")} -> #N/A | AC125: {=IFS(AND($V125=1,Inspection!$F125="OK")=TRUE,"OK",AND($V125=1,Inspection!$F125="X")=TRUE,"X",AND($V125=1,Inspection!$F125="NA")=TRUE,"NA",AND($V125=1,Inspection!$F125="D")=TRUE,"D")} -> #N/A | AD125: {=IFS(AND($V125=1,Inspection!$G125="OK")=TRUE,"OK",AND($V125=1,Inspection!$G125="X")=TRUE,"X",AND($V125=1,Inspection!$G125="NA")=TRUE,"NA",AND($V125=1,Inspection!$G125="D")=TRUE,"D")} -> #N/A | AE125: {=IFS(AND($V125=1,Inspection!$H125="OK")=TRUE,"OK",AND($V125=1,Inspection!$H125="X")=TRUE,"X",AND($V125=1,Inspection!$H125="NA")=TRUE,"NA",AND($V125=1,Inspection!$H125="D")=TRUE,"D")} -> #N/A | AF125: {=IFS(AND($V125=1,Inspection!$I125="OK")=TRUE,"OK",AND($V125=1,Inspection!$I125="X")=TRUE,"X",AND($V125=1,Inspection!$I125="NA")=TRUE,"NA",AND($V125=1,Inspection!$I125="D")=TRUE,"D")} -> #N/A | AG125: {=IFS(AND($V125=1,Inspection!$J125="OK")=TRUE,"OK",AND($V125=1,Inspection!$J125="X")=TRUE,"X",AND($V125=1,Inspection!$J125="NA")=TRUE,"NA",AND($V125=1,Inspection!$J125="D")=TRUE,"D")} -> #N/A | AH125: {=IFS(AND($V125=1,Inspection!$K125="OK")=TRUE,"OK",AND($V125=1,Inspection!$K125="X")=TRUE,"X",AND($V125=1,Inspection!$K125="NA")=TRUE,"NA",AND($V125=1,Inspection!$K125="D")=TRUE,"D")} -> #N/A | AI125: {=IFS(AND($V125=1,Inspection!$L125="OK")=TRUE,"OK",AND($V125=1,Inspection!$L125="X")=TRUE,"X",AND($V125=1,Inspection!$L125="NA")=TRUE,"NA",AND($V125=1,Inspection!$L125="D")=TRUE,"D")} -> #N/A | AJ125: {=IFS(AND($V125=1,Inspection!$M125="OK")=TRUE,"OK",AND($V125=1,Inspection!$M125="X")=TRUE,"X",AND($V125=1,Inspection!$M125="NA")=TRUE,"NA",AND($V125=1,Inspection!$M125="D")=TRUE,"D")} -> #N/A | AK125: {=IFS(AND($V125=1,Inspection!$N125="OK")=TRUE,"OK",AND($V125=1,Inspection!$N125="X")=TRUE,"X",AND($V125=1,Inspection!$N125="NA")=TRUE,"NA",AND($V125=1,Inspection!$N125="D")=TRUE,"D")} -> #N/A | AL125: {=IFS(AND($V125=1,Inspection!$O125="OK")=TRUE,"OK",AND($V125=1,Inspection!$O125="X")=TRUE,"X",AND($V125=1,Inspection!$O125="NA")=TRUE,"NA",AND($V125=1,Inspection!$O125="D")=TRUE,"D")} -> #N/A | AM125: {=IFS(AND($V125=1,Inspection!$P125="OK")=TRUE,"OK",AND($V125=1,Inspection!$P125="X")=TRUE,"X",AND($V125=1,Inspection!$P125="NA")=TRUE,"NA",AND($V125=1,Inspection!$P125="D")=TRUE,"D")} -> #N/A | AN125: {=IFS(AND($V125=1,Inspection!$Q125="OK")=TRUE,"OK",AND($V125=1,Inspection!$Q125="X")=TRUE,"X",AND($V125=1,Inspection!$Q125="NA")=TRUE,"NA",AND($V125=1,Inspection!$Q125="D")=TRUE,"D")} -> #N/A | AO125: {=IFS(AND($V125=1,Inspection!$R125="OK")=TRUE,"OK",AND($V125=1,Inspection!$R125="X")=TRUE,"X",AND($V125=1,Inspection!$R125="NA")=TRUE,"NA",AND($V125=1,Inspection!$R125="D")=TRUE,"D")} -> #N/A | AP125: {=IFS(AND($V125=1,Inspection!$S125="OK")=TRUE,"OK",AND($V125=1,Inspection!$S125="X")=TRUE,"X",AND($V125=1,Inspection!$S125="NA")=TRUE,"NA",AND($V125=1,Inspection!$S125="D")=TRUE,"D")} -> #N/A
B126: 123 | E126: OK | F126: OK | G126: OK | H126: OK | I126: OK | J126: OK | K126: OK | L126: OK | M126: OK | N126: OK | O126: OK | P126: OK | Q126: OK | R126: OK | S126: OK | U126: =Inspection!$B126 -> 123 | V126: =COUNTA(Inspection!$C126) -> 0 | W126: =Inspection!$C126 | X126: =Inspection!$D126 | Y126: =Inspection!$T126 | Z126: =Contact!D$11 -> Select School | AA126: =Contact!D$4 | AB126: {=IFS(AND($V126=1,Inspection!$E126="OK")=TRUE,"OK",AND($V126=1,Inspection!$E126="X")=TRUE,"X",AND($V126=1,Inspection!$E126="NA")=TRUE,"NA",AND($V126=1,Inspection!$E126="D")=TRUE,"D")} -> #N/A | AC126: {=IFS(AND($V126=1,Inspection!$F126="OK")=TRUE,"OK",AND($V126=1,Inspection!$F126="X")=TRUE,"X",AND($V126=1,Inspection!$F126="NA")=TRUE,"NA",AND($V126=1,Inspection!$F126="D")=TRUE,"D")} -> #N/A | AD126: {=IFS(AND($V126=1,Inspection!$G126="OK")=TRUE,"OK",AND($V126=1,Inspection!$G126="X")=TRUE,"X",AND($V126=1,Inspection!$G126="NA")=TRUE,"NA",AND($V126=1,Inspection!$G126="D")=TRUE,"D")} -> #N/A | AE126: {=IFS(AND($V126=1,Inspection!$H126="OK")=TRUE,"OK",AND($V126=1,Inspection!$H126="X")=TRUE,"X",AND($V126=1,Inspection!$H126="NA")=TRUE,"NA",AND($V126=1,Inspection!$H126="D")=TRUE,"D")} -> #N/A | AF126: {=IFS(AND($V126=1,Inspection!$I126="OK")=TRUE,"OK",AND($V126=1,Inspection!$I126="X")=TRUE,"X",AND($V126=1,Inspection!$I126="NA")=TRUE,"NA",AND($V126=1,Inspection!$I126="D")=TRUE,"D")} -> #N/A | AG126: {=IFS(AND($V126=1,Inspection!$J126="OK")=TRUE,"OK",AND($V126=1,Inspection!$J126="X")=TRUE,"X",AND($V126=1,Inspection!$J126="NA")=TRUE,"NA",AND($V126=1,Inspection!$J126="D")=TRUE,"D")} -> #N/A | AH126: {=IFS(AND($V126=1,Inspection!$K126="OK")=TRUE,"OK",AND($V126=1,Inspection!$K126="X")=TRUE,"X",AND($V126=1,Inspection!$K126="NA")=TRUE,"NA",AND($V126=1,Inspection!$K126="D")=TRUE,"D")} -> #N/A | AI126: {=IFS(AND($V126=1,Inspection!$L126="OK")=TRUE,"OK",AND($V126=1,Inspection!$L126="X")=TRUE,"X",AND($V126=1,Inspection!$L126="NA")=TRUE,"NA",AND($V126=1,Inspection!$L126="D")=TRUE,"D")} -> #N/A | AJ126: {=IFS(AND($V126=1,Inspection!$M126="OK")=TRUE,"OK",AND($V126=1,Inspection!$M126="X")=TRUE,"X",AND($V126=1,Inspection!$M126="NA")=TRUE,"NA",AND($V126=1,Inspection!$M126="D")=TRUE,"D")} -> #N/A | AK126: {=IFS(AND($V126=1,Inspection!$N126="OK")=TRUE,"OK",AND($V126=1,Inspection!$N126="X")=TRUE,"X",AND($V126=1,Inspection!$N126="NA")=TRUE,"NA",AND($V126=1,Inspection!$N126="D")=TRUE,"D")} -> #N/A | AL126: {=IFS(AND($V126=1,Inspection!$O126="OK")=TRUE,"OK",AND($V126=1,Inspection!$O126="X")=TRUE,"X",AND($V126=1,Inspection!$O126="NA")=TRUE,"NA",AND($V126=1,Inspection!$O126="D")=TRUE,"D")} -> #N/A | AM126: {=IFS(AND($V126=1,Inspection!$P126="OK")=TRUE,"OK",AND($V126=1,Inspection!$P126="X")=TRUE,"X",AND($V126=1,Inspection!$P126="NA")=TRUE,"NA",AND($V126=1,Inspection!$P126="D")=TRUE,"D")} -> #N/A | AN126: {=IFS(AND($V126=1,Inspection!$Q126="OK")=TRUE,"OK",AND($V126=1,Inspection!$Q126="X")=TRUE,"X",AND($V126=1,Inspection!$Q126="NA")=TRUE,"NA",AND($V126=1,Inspection!$Q126="D")=TRUE,"D")} -> #N/A | AO126: {=IFS(AND($V126=1,Inspection!$R126="OK")=TRUE,"OK",AND($V126=1,Inspection!$R126="X")=TRUE,"X",AND($V126=1,Inspection!$R126="NA")=TRUE,"NA",AND($V126=1,Inspection!$R126="D")=TRUE,"D")} -> #N/A | AP126: {=IFS(AND($V126=1,Inspection!$S126="OK")=TRUE,"OK",AND($V126=1,Inspection!$S126="X")=TRUE,"X",AND($V126=1,Inspection!$S126="NA")=TRUE,"NA",AND($V126=1,Inspection!$S126="D")=TRUE,"D")} -> #N/A
B127: 124 | E127: OK | F127: OK | G127: OK | H127: OK | I127: OK | J127: OK | K127: OK | L127: OK | M127: OK | N127: OK | O127: OK | P127: OK | Q127: OK | R127: OK | S127: OK | U127: =Inspection!$B127 -> 124 | V127: =COUNTA(Inspection!$C127) -> 0 | W127: =Inspection!$C127 | X127: =Inspection!$D127 | Y127: =Inspection!$T127 | Z127: =Contact!D$11 -> Select School | AA127: =Contact!D$4 | AB127: {=IFS(AND($V127=1,Inspection!$E127="OK")=TRUE,"OK",AND($V127=1,Inspection!$E127="X")=TRUE,"X",AND($V127=1,Inspection!$E127="NA")=TRUE,"NA",AND($V127=1,Inspection!$E127="D")=TRUE,"D")} -> #N/A | AC127: {=IFS(AND($V127=1,Inspection!$F127="OK")=TRUE,"OK",AND($V127=1,Inspection!$F127="X")=TRUE,"X",AND($V127=1,Inspection!$F127="NA")=TRUE,"NA",AND($V127=1,Inspection!$F127="D")=TRUE,"D")} -> #N/A | AD127: {=IFS(AND($V127=1,Inspection!$G127="OK")=TRUE,"OK",AND($V127=1,Inspection!$G127="X")=TRUE,"X",AND($V127=1,Inspection!$G127="NA")=TRUE,"NA",AND($V127=1,Inspection!$G127="D")=TRUE,"D")} -> #N/A | AE127: {=IFS(AND($V127=1,Inspection!$H127="OK")=TRUE,"OK",AND($V127=1,Inspection!$H127="X")=TRUE,"X",AND($V127=1,Inspection!$H127="NA")=TRUE,"NA",AND($V127=1,Inspection!$H127="D")=TRUE,"D")} -> #N/A | AF127: {=IFS(AND($V127=1,Inspection!$I127="OK")=TRUE,"OK",AND($V127=1,Inspection!$I127="X")=TRUE,"X",AND($V127=1,Inspection!$I127="NA")=TRUE,"NA",AND($V127=1,Inspection!$I127="D")=TRUE,"D")} -> #N/A | AG127: {=IFS(AND($V127=1,Inspection!$J127="OK")=TRUE,"OK",AND($V127=1,Inspection!$J127="X")=TRUE,"X",AND($V127=1,Inspection!$J127="NA")=TRUE,"NA",AND($V127=1,Inspection!$J127="D")=TRUE,"D")} -> #N/A | AH127: {=IFS(AND($V127=1,Inspection!$K127="OK")=TRUE,"OK",AND($V127=1,Inspection!$K127="X")=TRUE,"X",AND($V127=1,Inspection!$K127="NA")=TRUE,"NA",AND($V127=1,Inspection!$K127="D")=TRUE,"D")} -> #N/A | AI127: {=IFS(AND($V127=1,Inspection!$L127="OK")=TRUE,"OK",AND($V127=1,Inspection!$L127="X")=TRUE,"X",AND($V127=1,Inspection!$L127="NA")=TRUE,"NA",AND($V127=1,Inspection!$L127="D")=TRUE,"D")} -> #N/A | AJ127: {=IFS(AND($V127=1,Inspection!$M127="OK")=TRUE,"OK",AND($V127=1,Inspection!$M127="X")=TRUE,"X",AND($V127=1,Inspection!$M127="NA")=TRUE,"NA",AND($V127=1,Inspection!$M127="D")=TRUE,"D")} -> #N/A | AK127: {=IFS(AND($V127=1,Inspection!$N127="OK")=TRUE,"OK",AND($V127=1,Inspection!$N127="X")=TRUE,"X",AND($V127=1,Inspection!$N127="NA")=TRUE,"NA",AND($V127=1,Inspection!$N127="D")=TRUE,"D")} -> #N/A | AL127: {=IFS(AND($V127=1,Inspection!$O127="OK")=TRUE,"OK",AND($V127=1,Inspection!$O127="X")=TRUE,"X",AND($V127=1,Inspection!$O127="NA")=TRUE,"NA",AND($V127=1,Inspection!$O127="D")=TRUE,"D")} -> #N/A | AM127: {=IFS(AND($V127=1,Inspection!$P127="OK")=TRUE,"OK",AND($V127=1,Inspection!$P127="X")=TRUE,"X",AND($V127=1,Inspection!$P127="NA")=TRUE,"NA",AND($V127=1,Inspection!$P127="D")=TRUE,"D")} -> #N/A | AN127: {=IFS(AND($V127=1,Inspection!$Q127="OK")=TRUE,"OK",AND($V127=1,Inspection!$Q127="X")=TRUE,"X",AND($V127=1,Inspection!$Q127="NA")=TRUE,"NA",AND($V127=1,Inspection!$Q127="D")=TRUE,"D")} -> #N/A | AO127: {=IFS(AND($V127=1,Inspection!$R127="OK")=TRUE,"OK",AND($V127=1,Inspection!$R127="X")=TRUE,"X",AND($V127=1,Inspection!$R127="NA")=TRUE,"NA",AND($V127=1,Inspection!$R127="D")=TRUE,"D")} -> #N/A | AP127: {=IFS(AND($V127=1,Inspection!$S127="OK")=TRUE,"OK",AND($V127=1,Inspection!$S127="X")=TRUE,"X",AND($V127=1,Inspection!$S127="NA")=TRUE,"NA",AND($V127=1,Inspection!$S127="D")=TRUE,"D")} -> #N/A
B128: 125 | E128: OK | F128: OK | G128: OK | H128: OK | I128: OK | J128: OK | K128: OK | L128: OK | M128: OK | N128: OK | O128: OK | P128: OK | Q128: OK | R128: OK | S128: OK | U128: =Inspection!$B128 -> 125 | V128: =COUNTA(Inspection!$C128) -> 0 | W128: =Inspection!$C128 | X128: =Inspection!$D128 | Y128: =Inspection!$T128 | Z128: =Contact!D$11 -> Select School | AA128: =Contact!D$4 | AB128: {=IFS(AND($V128=1,Inspection!$E128="OK")=TRUE,"OK",AND($V128=1,Inspection!$E128="X")=TRUE,"X",AND($V128=1,Inspection!$E128="NA")=TRUE,"NA",AND($V128=1,Inspection!$E128="D")=TRUE,"D")} -> #N/A | AC128: {=IFS(AND($V128=1,Inspection!$F128="OK")=TRUE,"OK",AND($V128=1,Inspection!$F128="X")=TRUE,"X",AND($V128=1,Inspection!$F128="NA")=TRUE,"NA",AND($V128=1,Inspection!$F128="D")=TRUE,"D")} -> #N/A | AD128: {=IFS(AND($V128=1,Inspection!$G128="OK")=TRUE,"OK",AND($V128=1,Inspection!$G128="X")=TRUE,"X",AND($V128=1,Inspection!$G128="NA")=TRUE,"NA",AND($V128=1,Inspection!$G128="D")=TRUE,"D")} -> #N/A | AE128: {=IFS(AND($V128=1,Inspection!$H128="OK")=TRUE,"OK",AND($V128=1,Inspection!$H128="X")=TRUE,"X",AND($V128=1,Inspection!$H128="NA")=TRUE,"NA",AND($V128=1,Inspection!$H128="D")=TRUE,"D")} -> #N/A | AF128: {=IFS(AND($V128=1,Inspection!$I128="OK")=TRUE,"OK",AND($V128=1,Inspection!$I128="X")=TRUE,"X",AND($V128=1,Inspection!$I128="NA")=TRUE,"NA",AND($V128=1,Inspection!$I128="D")=TRUE,"D")} -> #N/A | AG128: {=IFS(AND($V128=1,Inspection!$J128="OK")=TRUE,"OK",AND($V128=1,Inspection!$J128="X")=TRUE,"X",AND($V128=1,Inspection!$J128="NA")=TRUE,"NA",AND($V128=1,Inspection!$J128="D")=TRUE,"D")} -> #N/A | AH128: {=IFS(AND($V128=1,Inspection!$K128="OK")=TRUE,"OK",AND($V128=1,Inspection!$K128="X")=TRUE,"X",AND($V128=1,Inspection!$K128="NA")=TRUE,"NA",AND($V128=1,Inspection!$K128="D")=TRUE,"D")} -> #N/A | AI128: {=IFS(AND($V128=1,Inspection!$L128="OK")=TRUE,"OK",AND($V128=1,Inspection!$L128="X")=TRUE,"X",AND($V128=1,Inspection!$L128="NA")=TRUE,"NA",AND($V128=1,Inspection!$L128="D")=TRUE,"D")} -> #N/A | AJ128: {=IFS(AND($V128=1,Inspection!$M128="OK")=TRUE,"OK",AND($V128=1,Inspection!$M128="X")=TRUE,"X",AND($V128=1,Inspection!$M128="NA")=TRUE,"NA",AND($V128=1,Inspection!$M128="D")=TRUE,"D")} -> #N/A | AK128: {=IFS(AND($V128=1,Inspection!$N128="OK")=TRUE,"OK",AND($V128=1,Inspection!$N128="X")=TRUE,"X",AND($V128=1,Inspection!$N128="NA")=TRUE,"NA",AND($V128=1,Inspection!$N128="D")=TRUE,"D")} -> #N/A | AL128: {=IFS(AND($V128=1,Inspection!$O128="OK")=TRUE,"OK",AND($V128=1,Inspection!$O128="X")=TRUE,"X",AND($V128=1,Inspection!$O128="NA")=TRUE,"NA",AND($V128=1,Inspection!$O128="D")=TRUE,"D")} -> #N/A | AM128: {=IFS(AND($V128=1,Inspection!$P128="OK")=TRUE,"OK",AND($V128=1,Inspection!$P128="X")=TRUE,"X",AND($V128=1,Inspection!$P128="NA")=TRUE,"NA",AND($V128=1,Inspection!$P128="D")=TRUE,"D")} -> #N/A | AN128: {=IFS(AND($V128=1,Inspection!$Q128="OK")=TRUE,"OK",AND($V128=1,Inspection!$Q128="X")=TRUE,"X",AND($V128=1,Inspection!$Q128="NA")=TRUE,"NA",AND($V128=1,Inspection!$Q128="D")=TRUE,"D")} -> #N/A | AO128: {=IFS(AND($V128=1,Inspection!$R128="OK")=TRUE,"OK",AND($V128=1,Inspection!$R128="X")=TRUE,"X",AND($V128=1,Inspection!$R128="NA")=TRUE,"NA",AND($V128=1,Inspection!$R128="D")=TRUE,"D")} -> #N/A | AP128: {=IFS(AND($V128=1,Inspection!$S128="OK")=TRUE,"OK",AND($V128=1,Inspection!$S128="X")=TRUE,"X",AND($V128=1,Inspection!$S128="NA")=TRUE,"NA",AND($V128=1,Inspection!$S128="D")=TRUE,"D")} -> #N/A
B129: 126 | E129: OK | F129: OK | G129: OK | H129: OK | I129: OK | J129: OK | K129: OK | L129: OK | M129: OK | N129: OK | O129: OK | P129: OK | Q129: OK | R129: OK | S129: OK | U129: =Inspection!$B129 -> 126 | V129: =COUNTA(Inspection!$C129) -> 0 | W129: =Inspection!$C129 | X129: =Inspection!$D129 | Y129: =Inspection!$T129 | Z129: =Contact!D$11 -> Select School | AA129: =Contact!D$4 | AB129: {=IFS(AND($V129=1,Inspection!$E129="OK")=TRUE,"OK",AND($V129=1,Inspection!$E129="X")=TRUE,"X",AND($V129=1,Inspection!$E129="NA")=TRUE,"NA",AND($V129=1,Inspection!$E129="D")=TRUE,"D")} -> #N/A | AC129: {=IFS(AND($V129=1,Inspection!$F129="OK")=TRUE,"OK",AND($V129=1,Inspection!$F129="X")=TRUE,"X",AND($V129=1,Inspection!$F129="NA")=TRUE,"NA",AND($V129=1,Inspection!$F129="D")=TRUE,"D")} -> #N/A | AD129: {=IFS(AND($V129=1,Inspection!$G129="OK")=TRUE,"OK",AND($V129=1,Inspection!$G129="X")=TRUE,"X",AND($V129=1,Inspection!$G129="NA")=TRUE,"NA",AND($V129=1,Inspection!$G129="D")=TRUE,"D")} -> #N/A | AE129: {=IFS(AND($V129=1,Inspection!$H129="OK")=TRUE,"OK",AND($V129=1,Inspection!$H129="X")=TRUE,"X",AND($V129=1,Inspection!$H129="NA")=TRUE,"NA",AND($V129=1,Inspection!$H129="D")=TRUE,"D")} -> #N/A | AF129: {=IFS(AND($V129=1,Inspection!$I129="OK")=TRUE,"OK",AND($V129=1,Inspection!$I129="X")=TRUE,"X",AND($V129=1,Inspection!$I129="NA")=TRUE,"NA",AND($V129=1,Inspection!$I129="D")=TRUE,"D")} -> #N/A | AG129: {=IFS(AND($V129=1,Inspection!$J129="OK")=TRUE,"OK",AND($V129=1,Inspection!$J129="X")=TRUE,"X",AND($V129=1,Inspection!$J129="NA")=TRUE,"NA",AND($V129=1,Inspection!$J129="D")=TRUE,"D")} -> #N/A | AH129: {=IFS(AND($V129=1,Inspection!$K129="OK")=TRUE,"OK",AND($V129=1,Inspection!$K129="X")=TRUE,"X",AND($V129=1,Inspection!$K129="NA")=TRUE,"NA",AND($V129=1,Inspection!$K129="D")=TRUE,"D")} -> #N/A | AI129: {=IFS(AND($V129=1,Inspection!$L129="OK")=TRUE,"OK",AND($V129=1,Inspection!$L129="X")=TRUE,"X",AND($V129=1,Inspection!$L129="NA")=TRUE,"NA",AND($V129=1,Inspection!$L129="D")=TRUE,"D")} -> #N/A | AJ129: {=IFS(AND($V129=1,Inspection!$M129="OK")=TRUE,"OK",AND($V129=1,Inspection!$M129="X")=TRUE,"X",AND($V129=1,Inspection!$M129="NA")=TRUE,"NA",AND($V129=1,Inspection!$M129="D")=TRUE,"D")} -> #N/A | AK129: {=IFS(AND($V129=1,Inspection!$N129="OK")=TRUE,"OK",AND($V129=1,Inspection!$N129="X")=TRUE,"X",AND($V129=1,Inspection!$N129="NA")=TRUE,"NA",AND($V129=1,Inspection!$N129="D")=TRUE,"D")} -> #N/A | AL129: {=IFS(AND($V129=1,Inspection!$O129="OK")=TRUE,"OK",AND($V129=1,Inspection!$O129="X")=TRUE,"X",AND($V129=1,Inspection!$O129="NA")=TRUE,"NA",AND($V129=1,Inspection!$O129="D")=TRUE,"D")} -> #N/A | AM129: {=IFS(AND($V129=1,Inspection!$P129="OK")=TRUE,"OK",AND($V129=1,Inspection!$P129="X")=TRUE,"X",AND($V129=1,Inspection!$P129="NA")=TRUE,"NA",AND($V129=1,Inspection!$P129="D")=TRUE,"D")} -> #N/A | AN129: {=IFS(AND($V129=1,Inspection!$Q129="OK")=TRUE,"OK",AND($V129=1,Inspection!$Q129="X")=TRUE,"X",AND($V129=1,Inspection!$Q129="NA")=TRUE,"NA",AND($V129=1,Inspection!$Q129="D")=TRUE,"D")} -> #N/A | AO129: {=IFS(AND($V129=1,Inspection!$R129="OK")=TRUE,"OK",AND($V129=1,Inspection!$R129="X")=TRUE,"X",AND($V129=1,Inspection!$R129="NA")=TRUE,"NA",AND($V129=1,Inspection!$R129="D")=TRUE,"D")} -> #N/A | AP129: {=IFS(AND($V129=1,Inspection!$S129="OK")=TRUE,"OK",AND($V129=1,Inspection!$S129="X")=TRUE,"X",AND($V129=1,Inspection!$S129="NA")=TRUE,"NA",AND($V129=1,Inspection!$S129="D")=TRUE,"D")} -> #N/A
B130: 127 | E130: OK | F130: OK | G130: OK | H130: OK | I130: OK | J130: OK | K130: OK | L130: OK | M130: OK | N130: OK | O130: OK | P130: OK | Q130: OK | R130: OK | S130: OK | U130: =Inspection!$B130 -> 127 | V130: =COUNTA(Inspection!$C130) -> 0 | W130: =Inspection!$C130 | X130: =Inspection!$D130 | Y130: =Inspection!$T130 | Z130: =Contact!D$11 -> Select School | AA130: =Contact!D$4 | AB130: {=IFS(AND($V130=1,Inspection!$E130="OK")=TRUE,"OK",AND($V130=1,Inspection!$E130="X")=TRUE,"X",AND($V130=1,Inspection!$E130="NA")=TRUE,"NA",AND($V130=1,Inspection!$E130="D")=TRUE,"D")} -> #N/A | AC130: {=IFS(AND($V130=1,Inspection!$F130="OK")=TRUE,"OK",AND($V130=1,Inspection!$F130="X")=TRUE,"X",AND($V130=1,Inspection!$F130="NA")=TRUE,"NA",AND($V130=1,Inspection!$F130="D")=TRUE,"D")} -> #N/A | AD130: {=IFS(AND($V130=1,Inspection!$G130="OK")=TRUE,"OK",AND($V130=1,Inspection!$G130="X")=TRUE,"X",AND($V130=1,Inspection!$G130="NA")=TRUE,"NA",AND($V130=1,Inspection!$G130="D")=TRUE,"D")} -> #N/A | AE130: {=IFS(AND($V130=1,Inspection!$H130="OK")=TRUE,"OK",AND($V130=1,Inspection!$H130="X")=TRUE,"X",AND($V130=1,Inspection!$H130="NA")=TRUE,"NA",AND($V130=1,Inspection!$H130="D")=TRUE,"D")} -> #N/A | AF130: {=IFS(AND($V130=1,Inspection!$I130="OK")=TRUE,"OK",AND($V130=1,Inspection!$I130="X")=TRUE,"X",AND($V130=1,Inspection!$I130="NA")=TRUE,"NA",AND($V130=1,Inspection!$I130="D")=TRUE,"D")} -> #N/A | AG130: {=IFS(AND($V130=1,Inspection!$J130="OK")=TRUE,"OK",AND($V130=1,Inspection!$J130="X")=TRUE,"X",AND($V130=1,Inspection!$J130="NA")=TRUE,"NA",AND($V130=1,Inspection!$J130="D")=TRUE,"D")} -> #N/A | AH130: {=IFS(AND($V130=1,Inspection!$K130="OK")=TRUE,"OK",AND($V130=1,Inspection!$K130="X")=TRUE,"X",AND($V130=1,Inspection!$K130="NA")=TRUE,"NA",AND($V130=1,Inspection!$K130="D")=TRUE,"D")} -> #N/A | AI130: {=IFS(AND($V130=1,Inspection!$L130="OK")=TRUE,"OK",AND($V130=1,Inspection!$L130="X")=TRUE,"X",AND($V130=1,Inspection!$L130="NA")=TRUE,"NA",AND($V130=1,Inspection!$L130="D")=TRUE,"D")} -> #N/A | AJ130: {=IFS(AND($V130=1,Inspection!$M130="OK")=TRUE,"OK",AND($V130=1,Inspection!$M130="X")=TRUE,"X",AND($V130=1,Inspection!$M130="NA")=TRUE,"NA",AND($V130=1,Inspection!$M130="D")=TRUE,"D")} -> #N/A | AK130: {=IFS(AND($V130=1,Inspection!$N130="OK")=TRUE,"OK",AND($V130=1,Inspection!$N130="X")=TRUE,"X",AND($V130=1,Inspection!$N130="NA")=TRUE,"NA",AND($V130=1,Inspection!$N130="D")=TRUE,"D")} -> #N/A | AL130: {=IFS(AND($V130=1,Inspection!$O130="OK")=TRUE,"OK",AND($V130=1,Inspection!$O130="X")=TRUE,"X",AND($V130=1,Inspection!$O130="NA")=TRUE,"NA",AND($V130=1,Inspection!$O130="D")=TRUE,"D")} -> #N/A | AM130: {=IFS(AND($V130=1,Inspection!$P130="OK")=TRUE,"OK",AND($V130=1,Inspection!$P130="X")=TRUE,"X",AND($V130=1,Inspection!$P130="NA")=TRUE,"NA",AND($V130=1,Inspection!$P130="D")=TRUE,"D")} -> #N/A | AN130: {=IFS(AND($V130=1,Inspection!$Q130="OK")=TRUE,"OK",AND($V130=1,Inspection!$Q130="X")=TRUE,"X",AND($V130=1,Inspection!$Q130="NA")=TRUE,"NA",AND($V130=1,Inspection!$Q130="D")=TRUE,"D")} -> #N/A | AO130: {=IFS(AND($V130=1,Inspection!$R130="OK")=TRUE,"OK",AND($V130=1,Inspection!$R130="X")=TRUE,"X",AND($V130=1,Inspection!$R130="NA")=TRUE,"NA",AND($V130=1,Inspection!$R130="D")=TRUE,"D")} -> #N/A | AP130: {=IFS(AND($V130=1,Inspection!$S130="OK")=TRUE,"OK",AND($V130=1,Inspection!$S130="X")=TRUE,"X",AND($V130=1,Inspection!$S130="NA")=TRUE,"NA",AND($V130=1,Inspection!$S130="D")=TRUE,"D")} -> #N/A
... B152: 149 | E152: OK | F152: OK | G152: OK | H152: OK | I152: OK | J152: OK | K152: OK | L152: OK | M152: OK | N152: OK | O152: OK | P152: OK | Q152: OK | R152: OK | S152: OK | U152: =Inspection!$B152 -> 149 | V152: =COUNTA(Inspection!$C152) -> 0 | W152: =Inspection!$C152 | X152: =Inspection!$D152 | Y152: =Inspection!$T152 | Z152: =Contact!D$11 -> Select School | AA152: =Contact!D$4 | AB152: {=IFS(AND($V152=1,Inspection!$E152="OK")=TRUE,"OK",AND($V152=1,Inspection!$E152="X")=TRUE,"X",AND($V152=1,Inspection!$E152="NA")=TRUE,"NA",AND($V152=1,Inspection!$E152="D")=TRUE,"D")} -> #N/A | AC152: {=IFS(AND($V152=1,Inspection!$F152="OK")=TRUE,"OK",AND($V152=1,Inspection!$F152="X")=TRUE,"X",AND($V152=1,Inspection!$F152="NA")=TRUE,"NA",AND($V152=1,Inspection!$F152="D")=TRUE,"D")} -> #N/A | AD152: {=IFS(AND($V152=1,Inspection!$G152="OK")=TRUE,"OK",AND($V152=1,Inspection!$G152="X")=TRUE,"X",AND($V152=1,Inspection!$G152="NA")=TRUE,"NA",AND($V152=1,Inspection!$G152="D")=TRUE,"D")} -> #N/A | AE152: {=IFS(AND($V152=1,Inspection!$H152="OK")=TRUE,"OK",AND($V152=1,Inspection!$H152="X")=TRUE,"X",AND($V152=1,Inspection!$H152="NA")=TRUE,"NA",AND($V152=1,Inspection!$H152="D")=TRUE,"D")} -> #N/A | AF152: {=IFS(AND($V152=1,Inspection!$I152="OK")=TRUE,"OK",AND($V152=1,Inspection!$I152="X")=TRUE,"X",AND($V152=1,Inspection!$I152="NA")=TRUE,"NA",AND($V152=1,Inspection!$I152="D")=TRUE,"D")} -> #N/A | AG152: {=IFS(AND($V152=1,Inspection!$J152="OK")=TRUE,"OK",AND($V152=1,Inspection!$J152="X")=TRUE,"X",AND($V152=1,Inspection!$J152="NA")=TRUE,"NA",AND($V152=1,Inspection!$J152="D")=TRUE,"D")} -> #N/A | AH152: {=IFS(AND($V152=1,Inspection!$K152="OK")=TRUE,"OK",AND($V152=1,Inspection!$K152="X")=TRUE,"X",AND($V152=1,Inspection!$K152="NA")=TRUE,"NA",AND($V152=1,Inspection!$K152="D")=TRUE,"D")} -> #N/A | AI152: {=IFS(AND($V152=1,Inspection!$L152="OK")=TRUE,"OK",AND($V152=1,Inspection!$L152="X")=TRUE,"X",AND($V152=1,Inspection!$L152="NA")=TRUE,"NA",AND($V152=1,Inspection!$L152="D")=TRUE,"D")} -> #N/A | AJ152: {=IFS(AND($V152=1,Inspection!$M152="OK")=TRUE,"OK",AND($V152=1,Inspection!$M152="X")=TRUE,"X",AND($V152=1,Inspection!$M152="NA")=TRUE,"NA",AND($V152=1,Inspection!$M152="D")=TRUE,"D")} -> #N/A | AK152: {=IFS(AND($V152=1,Inspection!$N152="OK")=TRUE,"OK",AND($V152=1,Inspection!$N152="X")=TRUE,"X",AND($V152=1,Inspection!$N152="NA")=TRUE,"NA",AND($V152=1,Inspection!$N152="D")=TRUE,"D")} -> #N/A | AL152: {=IFS(AND($V152=1,Inspection!$O152="OK")=TRUE,"OK",AND($V152=1,Inspection!$O152="X")=TRUE,"X",AND($V152=1,Inspection!$O152="NA")=TRUE,"NA",AND($V152=1,Inspection!$O152="D")=TRUE,"D")} -> #N/A | AM152: {=IFS(AND($V152=1,Inspection!$P152="OK")=TRUE,"OK",AND($V152=1,Inspection!$P152="X")=TRUE,"X",AND($V152=1,Inspection!$P152="NA")=TRUE,"NA",AND($V152=1,Inspection!$P152="D")=TRUE,"D")} -> #N/A | AN152: {=IFS(AND($V152=1,Inspection!$Q152="OK")=TRUE,"OK",AND($V152=1,Inspection!$Q152="X")=TRUE,"X",AND($V152=1,Inspection!$Q152="NA")=TRUE,"NA",AND($V152=1,Inspection!$Q152="D")=TRUE,"D")} -> #N/A | AO152: {=IFS(AND($V152=1,Inspection!$R152="OK")=TRUE,"OK",AND($V152=1,Inspection!$R152="X")=TRUE,"X",AND($V152=1,Inspection!$R152="NA")=TRUE,"NA",AND($V152=1,Inspection!$R152="D")=TRUE,"D")} -> #N/A | AP152: {=IFS(AND($V152=1,Inspection!$S152="OK")=TRUE,"OK",AND($V152=1,Inspection!$S152="X")=TRUE,"X",AND($V152=1,Inspection!$S152="NA")=TRUE,"NA",AND($V152=1,Inspection!$S152="D")=TRUE,"D")} -> #N/A

Sheet Science Lab Equipment (9-12)
B1: FACILITY INSPECTION TOOL (FIT) OFFICE OF PUBLIC SCHOOL CONSTRUCTION SCHOOL FACILITY CONDITIONS EVALUATION | LABORATORY INSPECTION
B3: ID | C3: EQUIPMENT | D3: Do you have access to the following safety equipment? | E3: Yearly inspection by LEA (dated)? | F3: Comments
B4: 1 | C4: Eye wash station | D4: NA | E4: NA
B5: 2 | C5: Fire blankets | D5: NA | E5: NA
B6: 3 | C6: Fire extinguisher | D6: NA | E6: NA
B7: 4 | C7: Gas jets | D7: NA | E7: NA
B8: 5 | C8: Goggles | D8: NA | E8: NA
B9: 6 | C9: Goggle sanitation supplies | D9: NA | E9: NA
B10: 7 | C10: Hood | D10: NA | E10: NA
B11: 8 | C11: Shower station | D11: NA | E11: NA
B12: 9 | C12: Other: | D12: NA | E12: NA

Sheet Results
B1: FACILITY INSPECTION TOOL (FIT) OFFICE OF PUBLIC SCHOOL CONSTRUCTION SCHOOL FACILITY CONDITIONS EVALUATION
B2: =(Contact!D11)&" | Inspected by "&(Contact!D4) -> Select School | Inspected by
A3: CATEGORY TOTALS AND RANKING (round all calculations to two decimal places)
A4: TOTAL NUMBER OF AREAS EVALUATED | B4: CATEGORY TOTALS | D4: A. SYSTEMS | G4: B. INTERIOR | H4: C. CLEANLINESS | J4: D. ELECTRICAL | K4: E. RESTROOMS / FOUNTAINS | M4: F. SAFETY | O4: G. STRUCTURAL | Q4: H. EXTERNAL
D5: GAS LEAKS | E5: MECH/HVAC | F5: SEWER | G5: INTERIOR SURFACES | H5: OVERALL CLEANLINESS | I5: PEST/VERMIN INFESTATION | J5: ELECTRICAL | K5: RESTROOMS | L5: SINKS/ FOUNTAINS | M5: FIRE SAFETY | N5: HAZARDOUS MATERIALS | O5: STRUCTURAL DAMAGE | P5: ROOFS | Q5: PLAYGROUND/ SCHOOL GROUNDS | R5: WINDOWS/DOORS/ GATES/FENCES
B6: Number of "OK"s: | D6: =COUNTIFS(Inspection!AB:AB,"OK") -> 0 | E6: =COUNTIFS(Inspection!AC:AC,"OK") -> 0 | F6: =COUNTIFS(Inspection!AD:AD,"OK") -> 0 | G6: =COUNTIFS(Inspection!AE:AE,"OK") -> 0 | H6: =COUNTIFS(Inspection!AF:AF,"OK") -> 0 | I6: =COUNTIFS(Inspection!AG:AG,"OK") -> 0 | J6: =COUNTIFS(Inspection!AH:AH,"OK") -> 0 | K6: =COUNTIFS(Inspection!AI:AI,"OK") -> 0 | L6: =COUNTIFS(Inspection!AJ:AJ,"OK") -> 0 | M6: =COUNTIFS(Inspection!AK:AK,"OK") -> 0 | N6: =COUNTIFS(Inspection!AL:AL,"OK") -> 0 | O6: =COUNTIFS(Inspection!AM:AM,"OK") -> 0 | P6: =COUNTIFS(Inspection!AN:AN,"OK") -> 0 | Q6: =COUNTIFS(Inspection!AO:AO,"OK") -> 0 | R6: =COUNTIFS(Inspection!AP:AP,"OK") -> 0
B7: Number of "D"s: | D7: =COUNTIFS(Inspection!AB:AB,"D") -> 0 | E7: =COUNTIFS(Inspection!AC:AC,"D") -> 0 | F7: =COUNTIFS(Inspection!AD:AD,"D") -> 0 | G7: =COUNTIFS(Inspection!AE:AE,"D") -> 0 | H7: =COUNTIFS(Inspection!AF:AF,"D") -> 0 | I7: =COUNTIFS(Inspection!AG:AG,"D") -> 0 | J7: =COUNTIFS(Inspection!AH:AH,"D") -> 0 | K7: =COUNTIFS(Inspection!AI:AI,"D") -> 0 | L7: =COUNTIFS(Inspection!AJ:AJ,"D") -> 0 | M7: =COUNTIFS(Inspection!AK:AK,"D") -> 0 | N7: =COUNTIFS(Inspection!AL:AL,"D") -> 0 | O7: =COUNTIFS(Inspection!AM:AM,"D") -> 0 | P7: =COUNTIFS(Inspection!AN:AN,"D") -> 0 | Q7: =COUNTIFS(Inspection!AO:AO,"D") -> 0 | R7: =COUNTIFS(Inspection!AP:AP,"D") -> 0
A8: =COUNTA(Inspection!C4:C152) -> 0 | B8: Number of "X"s: | D8: =COUNTIFS(Inspection!AB:AB,"X") -> 0 | E8: =COUNTIFS(Inspection!AC:AC,"X") -> 0 | F8: =COUNTIFS(Inspection!AD:AD,"X") -> 0 | G8: =COUNTIFS(Inspection!AE:AE,"X") -> 0 | H8: =COUNTIFS(Inspection!AF:AF,"X") -> 0 | I8: =COUNTIFS(Inspection!AG:AG,"X") -> 0 | J8: =COUNTIFS(Inspection!AH:AH,"X") -> 0 | K8: =COUNTIFS(Inspection!AI:AI,"X") -> 0 | L8: =COUNTIFS(Inspection!AJ:AJ,"X") -> 0 | M8: =COUNTIFS(Inspection!AK:AK,"X") -> 0 | N8: =COUNTIFS(Inspection!AL:AL,"X") -> 0 | O8: =COUNTIFS(Inspection!AM:AM,"X") -> 0 | P8: =COUNTIFS(Inspection!AN:AN,"X") -> 0 | Q8: =COUNTIFS(Inspection!AO:AO,"X") -> 0 | R8: =COUNTIFS(Inspection!AP:AP,"X") -> 0
B9: Number of N/As: | D9: =COUNTIFS(Inspection!AB:AB,"NA") -> 0 | E9: =COUNTIFS(Inspection!AC:AC,"NA") -> 0 | F9: =COUNTIFS(Inspection!AD:AD,"NA") -> 0 | G9: =COUNTIFS(Inspection!AE:AE,"NA") -> 0 | H9: =COUNTIFS(Inspection!AF:AF,"NA") -> 0 | I9: =COUNTIFS(Inspection!AG:AG,"NA") -> 0 | J9: =COUNTIFS(Inspection!AH:AH,"NA") -> 0 | K9: =COUNTIFS(Inspection!AI:AI,"NA") -> 0 | L9: =COUNTIFS(Inspection!AJ:AJ,"NA") -> 0 | M9: =COUNTIFS(Inspection!AK:AK,"NA") -> 0 | N9: =COUNTIFS(Inspection!AL:AL,"NA") -> 0 | O9: =COUNTIFS(Inspection!AM:AM,"NA") -> 0 | P9: =COUNTIFS(Inspection!AN:AN,"NA") -> 0 | Q9: =COUNTIFS(Inspection!AO:AO,"NA") -> 0 | R9: =COUNTIFS(Inspection!AP:AP,"NA") -> 0
A10: Percent of System in Good Repair Number of "OK"s divided by (Total Areas - "NA"s) | D10: =D6/(A8-D9) -> #DIV/0! | E10: =E6/($A$8-E9) -> #DIV/0! | F10: =F6/($A$8-F9) -> #DIV/0! | G10: =G6/($A$8-G9) -> #DIV/0! | H10: =H6/($A$8-H9) -> #DIV/0! | I10: =I6/($A$8-I9) -> #DIV/0! | J10: =J6/($A$8-J9) -> #DIV/0! | K10: =K6/($A$8-K9) -> #DIV/0! | L10: =L6/($A$8-L9) -> #DIV/0! | ... R10: =R6/($A$8-R9) -> #DIV/0!
A11: Total Percent per Category (average of above)* | D11: =IF(SUM(D8:F8),0,((D10+E10+F10)/3)) -> #DIV/0! | G11: =IF(SUM(G8),0,((G10)/1)) -> #DIV/0! | H11: =IF(SUM(H8:I8),0,((H10+I10)/2)) -> #DIV/0! | J11: =IF(SUM(J8),0,((J10)/1)) -> #DIV/0! | K11: =IF(SUM(K8:L8),0,((K10+L10)/2)) -> #DIV/0! | M11: =IF(SUM(M8:N8),0,((M10+N10)/2)) -> #DIV/0! | O11: =IF(SUM(O8:P8),0,((O10+P10)/2)) -> #DIV/0! | Q11: =IF(SUM(Q8:R8),0,((Q10+R10)/2)) -> #DIV/0!
A12: Rank GOOD = 90%-100% FAIR = 75%-89.99% POOR = 0%-74.99% | D12: =IF( D11>=90%, "GOOD", IF( D11>=75%, "FAIR", "POOR" ) ) -> #DIV/0! | G12: =IF( G11>=90%, "GOOD", IF( G11>=75%, "FAIR", "POOR" ) ) -> #DIV/0! | H12: =IF( H11>=90%, "GOOD", IF( H11>=75%, "FAIR", "POOR" ) ) -> #DIV/0! | J12: =IF( J11>=90%, "GOOD", IF( J11>=75%, "FAIR", "POOR" ) ) -> #DIV/0! | K12: =IF( K11>=90%, "GOOD", IF( K11>=75%, "FAIR", "POOR" ) ) -> #DIV/0! | M12: =IF( M11>=90%, "GOOD", IF( M11>=75%, "FAIR", "POOR" ) ) -> #DIV/0! | O12: =IF( O11>=90%, "GOOD", IF( O11>=75%, "FAIR", "POOR" ) ) -> #DIV/0! | Q12: =IF( Q11>=90%, "GOOD", IF( Q11>=75%, "FAIR", "POOR" ) ) -> #DIV/0!
D14: OVERALL RATING: DETERMINE AVERAGE PERCENTAGE OF 8 CATEGORIES ABOVE | K14: =(SUM(D11:R11)/8) -> #DIV/0! | M14: SCHOOL RATING** | P14: =IF( K14>=99%, "EXEMPLARY", IF( K14>=90%, "GOOD", IF( K14>=75%, "FAIR", "POOR" ) ) ) -> #DIV/0!
E15: **For School Rating, apply the Percentage Range below to the average percentage determined above, taking into account the rating Description below.
A16: PERCENTAGE | B16: RATING | C16: DESCRIPTION
A17: 99%-100% | B17: EXEMPLARY | C17: The school meets most or all standards of good repair. Deficiencies noted, if any, are not significant and/or impact a very small area of the school.
A18: 90%-98.99% | B18: GOOD | C18: The school is maintained in good repair with a number of non-critical deficiencies noted. These deficiencies are isolated, and/or resulting from minor wear and tear, and/or in the process of being mitigated.
A19: 75.%-89.99% | B19: FAIR | C19: The school is not in good repair. Some deficiencies noted are critical and/or widespread. Repairs and/or additional maintenance are necessary in several areas of the school site.
A20: 0%-74.99% | B20: POOR | C20: The school facilities are in poor condition. Deficiencies of various degrees have been noted throughout the site. Major repairs and maintenance are necessary throughout the campus.

Sheet Data
A1: LEA | B1: School Site | C1: Inspector Name | D1: Inspector Title | E1: Date of Inspection | F1: Time of Inspection | G1: Weather Conditions | H1: Number of Classrooms on site | I1: Number of Restrooms on site | J1: Name of District Representative | K1: Title of District Representative | L1: Email of District Representative | M1: Site Enrollment | N1: Estimated Building Volume (Cubic Feet) | O1: Stimated Site Square Footage / Acreage | P1: Estimated Building Square Footage | Q1: Follow Up | R1: Date of Follow Up | S1: Corrections Made | T1: Follow Up Contact Name | U1: Follow Up Contact Email | V1: INSPECTOR'S COMMENTS AND RATING EXPLANATION | W1: DISTRICT'S RESPONSES TO REPORT | X1: FOLLOW UP COMMENTS | Y1: OVERALL RATING: DETERMINE AVERAGE PERCENTAGE OF 8 CATEGORIES ABOVE | Z1: SCHOOL RATING** | AA1: TOTAL NUMBER OF AREAS EVALUATED | AB1: A. SYSTEMS (RANK) | AC1: A. SYSTEMS (SCORE) | AD1: B. INTERIOR (RANK) | AE1: B. INTERIOR (SCORE) | AF1: C. CLEANLINESS (RANK) | AG1: C. CLEANLINESS (SCORE) | AH1: D. ELECTRICAL (RANK) | AI1: D. ELECTRICAL (SCORE) | AJ1: E. RESTROOMS / FOUNTAINS (RANK) | AK1: E. RESTROOMS / FOUNTAINS (SCORE) | AL1: F. SAFETY (RANK) | AM1: F. SAFETY (SCORE) | AN1: G. STRUCTURAL (RANK) | AO1: G. STRUCTURAL (SCORE) | AP1: H. EXTERNAL (RANK) | AQ1: H. EXTERNAL (SCORE) | AR1: Extreme Deficiencies
A2: =Contact!D10 -> Select LEA/CMO/Charter | B2: =Contact!D11 -> Select School | C2: =Contact!D4 | D2: =Contact!D5 | E2: =Contact!D6 | F2: =Contact!D7 -> Select Time | G2: =Contact!D8 -> Select Weather | H2: =Contact!D12 | I2: =Contact!D13 | J2: =Contact!D14 | K2: =Contact!D15 | L2: =Contact!D16 | M2: =Contact!D17 | N2: =Contact!D18 | O2: =Contact!D19 | P2: =Contact!D20 | Q2: =Contact!D23 -> NA | R2: =Contact!D24 | S2: =Contact!D25 | T2: =Contact!D26 | U2: =Contact!D27 | V2: =Contact!F5 | W2: =Contact!F11 | X2: =Contact!F24 | Y2: =Results!K14 -> #DIV/0! | Z2: =Results!P14 -> #DIV/0! | AA2: =Results!A8 -> 0 | AB2: =Results!D12 -> #DIV/0! | AC2: =Results!D11 -> #DIV/0! | AD2: =Results!G12 -> #DIV/0! | AE2: =Results!G11 -> #DIV/0! | AF2: =Results!H12 -> #DIV/0! | AG2: =Results!H11 -> #DIV/0! | AH2: =Results!J12 -> #DIV/0! | AI2: =Results!J11 -> #DIV/0! | AJ2: =Results!K12 -> #DIV/0! | AK2: =Results!K11 -> #DIV/0! | AL2: =Results!M12 -> #DIV/0! | AM2: =Results!M11 -> #DIV/0! | AN2: =Results!O12 -> #DIV/0! | AO2: =Results!O11 -> #DIV/0! | AP2: =(Results!Q12) -> #DIV/0! | AQ2: =Results!Q11 -> #DIV/0! | AR2: =SUM(Results!D8:R8) -> 0

Sheet Rooms
A1: {=Inspection!U3:AP152} -> ID | B1: Room (0/1) | C1: Building / Area Name | D1: Estimated Square Footage | E1: COMMENTS: | F1: School Site | G1: Inspector Name | H1: GAS LEAKS | I1: MECH/HVAC | J1: SEWER | K1: INTERIOR SURFACES | L1: OVERALL CLEANLINESS | M1: PEST/VERMIN INFESTATION | N1: ELECTRICAL | O1: RESTROOM | P1: SINKS/ FOUNTAINS | Q1: FIRE SAFETY | R1: HAZARDOUS MATERIALS | S1: STRUCTURAL DAMAGE | T1: ROOFS | U1: PLAYGROUND/SCHOOL GROUNDS | V1: WINDOWS/ DOORS/ GATES/FENCES
A2: 1 | B2: 0 | F2: Select School | H2: #N/A | I2: #N/A | J2: #N/A | K2: #N/A | L2: #N/A | M2: #N/A | N2: #N/A | O2: #N/A | P2: #N/A | Q2: #N/A | R2: #N/A | S2: #N/A | T2: #N/A | U2: #N/A | V2: #N/A
A3: 2 | B3: 0 | F3: Select School | H3: #N/A | I3: #N/A | J3: #N/A | K3: #N/A | L3: #N/A | M3: #N/A | N3: #N/A | O3: #N/A | P3: #N/A | Q3: #N/A | R3: #N/A | S3: #N/A | T3: #N/A | U3: #N/A | V3: #N/A
A4: 3 | B4: 0 | F4: Select School | H4: #N/A | I4: #N/A | J4: #N/A | K4: #N/A | L4: #N/A | M4: #N/A | N4: #N/A | O4: #N/A | P4: #N/A | Q4: #N/A | R4: #N/A | S4: #N/A | T4: #N/A | U4: #N/A | V4: #N/A
A5: 4 | B5: 0 | F5: Select School | H5: #N/A | I5: #N/A | J5: #N/A | K5: #N/A | L5: #N/A | M5: #N/A | N5: #N/A | O5: #N/A | P5: #N/A | Q5: #N/A | R5: #N/A | S5: #N/A | T5: #N/A | U5: #N/A | V5: #N/A
A6: 5 | B6: 0 | F6: Select School | H6: #N/A | I6: #N/A | J6: #N/A | K6: #N/A | L6: #N/A | M6: #N/A | N6: #N/A | O6: #N/A | P6: #N/A | Q6: #N/A | R6: #N/A | S6: #N/A | T6: #N/A | U6: #N/A | V6: #N/A
A7: 6 | B7: 0 | F7: Select School | H7: #N/A | I7: #N/A | J7: #N/A | K7: #N/A | L7: #N/A | M7: #N/A | N7: #N/A | O7: #N/A | P7: #N/A | Q7: #N/A | R7: #N/A | S7: #N/A | T7: #N/A | U7: #N/A | V7: #N/A
A8: 7 | B8: 0 | F8: Select School | H8: #N/A | I8: #N/A | J8: #N/A | K8: #N/A | L8: #N/A | M8: #N/A | N8: #N/A | O8: #N/A | P8: #N/A | Q8: #N/A | R8: #N/A | S8: #N/A | T8: #N/A | U8: #N/A | V8: #N/A
A9: 8 | B9: 0 | F9: Select School | H9: #N/A | I9: #N/A | J9: #N/A | K9: #N/A | L9: #N/A | M9: #N/A | N9: #N/A | O9: #N/A | P9: #N/A | Q9: #N/A | R9: #N/A | S9: #N/A | T9: #N/A | U9: #N/A | V9: #N/A
A10: 9 | B10: 0 | F10: Select School | H10: #N/A | I10: #N/A | J10: #N/A | K10: #N/A | L10: #N/A | M10: #N/A | N10: #N/A | O10: #N/A | P10: #N/A | Q10: #N/A | R10: #N/A | S10: #N/A | T10: #N/A | U10: #N/A | V10: #N/A
A11: 10 | B11: 0 | F11: Select School | H11: #N/A | I11: #N/A | J11: #N/A | K11: #N/A | L11: #N/A | M11: #N/A | N11: #N/A | O11: #N/A | P11: #N/A | Q11: #N/A | R11: #N/A | S11: #N/A | T11: #N/A | U11: #N/A | V11: #N/A
A12: 11 | B12: 0 | F12: Select School | H12: #N/A | I12: #N/A | J12: #N/A | K12: #N/A | L12: #N/A | M12: #N/A | N12: #N/A | O12: #N/A | P12: #N/A | Q12: #N/A | R12: #N/A | S12: #N/A | T12: #N/A | U12: #N/A | V12: #N/A
A13: 12 | B13: 0 | F13: Select School | H13: #N/A | I13: #N/A | J13: #N/A | K13: #N/A | L13: #N/A | M13: #N/A | N13: #N/A | O13: #N/A | P13: #N/A | Q13: #N/A | R13: #N/A | S13: #N/A | T13: #N/A | U13: #N/A | V13: #N/A
... A150: 149 | B150: 0 | F150: Select School | H150: #N/A | I150: #N/A | J150: #N/A | K150: #N/A | L150: #N/A | M150: #N/A | N150: #N/A | O150: #N/A | P150: #N/A | Q150: #N/A | R150: #N/A | S150: #N/A | T150: #N/A | U150: #N/A | V150: #N/A

Sheet Reference
A1: Deficiency | C1: Select Weather | E1: YES NO | G1: Select Inspector | J1: Select Time | L1: Select School | N1: Select LEA/CMO/Charter
A2: OK | C2: Sunny | E2: YES | G2: Tom McGann | J2: 0.041666667 | L2: AIMS College Prep Elementary School (1612590114363) | N2: Alameda USD
A3: D | C3: Partly Cloudy | E3: NO | G3: Telesforo Castro | J3: 0.0625 | L3: AIMS College Prep High (1612590111856) | N3: Albany USD
A4: X | C4: Cloudy | E4: NA | G4: Scott Bollander | J4: 0.083333333 | L4: AIMS College Prep Middle (1612596113807) | N4: Berkeley USD
A5: NA | C5: Windy | J5: 0.10416667 | L5: Alameda Community Learning Center (1611190130609) | N5: Hayward USD
C6: Light Rain | J6: 0.125 | L6: Allendale Elementary (1612596001630) | N6: Livermore USD
C7: Heavy Rain | J7: 0.14583333 | L7: Alvarado Elementary (1612426001572) | N7: New Haven USD
C8: Snow | J8: 0.16666667 | L8: Anthony W. Ochoa Middle (1611926056956) | N8: Newark USD
J9: 0.1875 | L9: ARISE High (1612590115238) | N9: Oakland USD
J10: 0.20833333 | L10: ASCEND (1612596118608) | N10: San Leandro USD
J11: 0.22916667 | L11: Aspire Berkley Maynard Academy (1612590109819) | N11: San Lorenzo USD
J12: 0.25 | L12: Aspire College Academy (1612590128413) | N12: AIMS College Prep Elementary
J13: 0.27083333 | L13: Aspire Golden State College Preparatory Academy (1612590118224) | N13: AIMS College Prep High
J14: 0.29166667 | L14: Aspire Lionel Wilson College Preparatory Academy (1612590130666) | N14: AIMS College Prep Middle
J15: 0.3125 | L15: Aspire Monarch Academy (1612596117568) | N15: Alameda Community Learning Center
J16: 0.33333333 | L16: Aspire Triumph Technology Academy (1612590130732) | N16: ASCEND
J17: 0.35416667 | L17: Aurum Preparatory Academy (1100170137448) | N17: Aspire Berkley Maynard Academy
J18: 0.375 | L18: Bay Area Technology (1612590106906) | N18: Aspire College Academy
J19: 0.39583333 | L19: Birch Grove Primary (1612346001499) | N19: Aspire Golden State College Preparatory Academy
J20: 0.41666667 | L20: Bohannon Middle (1613096002513) | N20: Aspire Lionel Wilson College Preparatory Academy
... J47: 0.97916667 | L47: Fremont High (1612590125716) | N47: Lighthouse Community Public Schools
L48: Frick United Academy of Language Middle (1612596057020) | N48: Oakland Unity Middle
L49: Fruitvale Elementary (1612596001838) | N49: The Academy of Alameda Schools
L50: Garfield Elementary (1612596001846)
L51: Glassbrook Elementary (1611926000988)
L52: Glenview Elementary (1612596001853)
L53: Global Family Elementary (1612590115584)
L54: Granada High (1612000133397)
L55: Greenleaf (1612590115618)
L56: Harder Elementary (1611926000996)
L57: Hayward High (1611920133629)
L58: Hesperian Elementary (1613096002612)
L59: Hillside Elementary (1613096002620)
L60: Hoover Elementary (1612596057046)
L61: Horace Mann Elementary (1612596001929)
... L120: Young Adult Program (1612590121228)
