Workbook

Sheet School Template
A1: Manitou Springs School District 14
A2: 2021-2022 Adopted Budget
A3: General Fund Detail
A5: School Name
B9: 2019-2020 | C9: 2020-2021 | D9: 2020-2021 | E9: 2021-2022 | F9: % of | G9: Cost Per
B10: Actuals | C10: Budget | D10: Projected Actuals | E10: Budget | F10: Total | G10: Student
A13: Expenditures by Object
A14: Salaries
A15: Benefits
A16: Purchased Services
A17: Supplies & Equipment
A18: Total Expenditures
A20: Expenditures by Program
A21: Instruction
A22: Counseling
A23: Media
A24: Office
A25: Total Expenditures
... A49: Total Enrollment

Sheet Department Template
A1: Manitou Springs School District 14
A2: 2021-2022 Adopted Budget
A3: General Fund Detail
A5: Department Name
B9: 2019-2020 | C9: 2020-2021 | D9: 2020-2021 | E9: 2021-2022 | F9: % of | G9: Cost Per
B10: Actuals | C10: Budget | D10: Projcted Actuals | E10: Budget | F10: Total | G10: Student
A13: Expenditures by Object
A14: Salaries
A15: Benefits
A16: Purchased Services
A17: Supplies & Equipment
A18: Total Expenditures
A20: Expenditures by Program
A21: Program 1
A22: Program 2
A23: Program 3
A24: Program 4
A25: Total Expenditures
... A33: Explanation of services of department

Sheet Manitou Elementary
A1: Manitou Springs School District 14
A2: 2025-2026 Adopted Budget
A3: General Fund Detail
A5: Manitou Springs Elementary School
B9: 2024-2025 | C9: 2024-2025 | D9: 2025-2026 | E9: 2025-2026 | F9: % of
B10: Budget | C10: Estimate | D10: Proposed | E10: Adopted | F10: Total
A13: Expenditures by Object
A14: Salaries | B14: 2631372 | C14: 2493388.6 | D14: 2424336.3 | E14: 2424336.3 | F14: 0.76654423
A15: Benefits | B15: 782324.86 | C15: 712981.85 | D15: 727300.88 | E15: 727300.88 | F15: 0.21919251
A16: Purchased Services | B16: 4350 | C16: 10114.76 | D16: 13180 | E16: 13180 | F16: 0.0031095878
A17: Supplies & Equipment | B17: 36187.25 | C17: 36280.27 | D17: 32187.25 | E17: 32187.25 | F17: 0.011153669
A18: Debt Services | B18: 0 | C18: 0 | D18: 0 | E18: 0 | F18: 0
A19: Total Expenditures | B19: 3454234.1 | C19: 3252765.5 | D19: 3197004.4 | E19: 3197004.4 | F19: 1
A21: Expenditures by Program
A22: General Administration | B22: 0 | C22: 0 | D22: 0 | E22: 0 | F22: 0
A23: School Administration | B23: 383334.14 | C23: 372984.25 | D23: 383601.4 | E23: 383601.4 | F23: 0.11466681
A24: General Instruction | B24: 2369698.3 | C24: 2163134 | D24: 2205212.8 | E24: 2205212.8 | F24: 0.66501382
A25: Special Education Instruction | B25: 572619.2 | C25: 570756.1 | D25: 455729.38 | E25: 455729.38 | F25: 0.17546795
A26: Instructional Support | B26: 128582.45 | C26: 145891.16 | D26: 152460.77 | E26: 152460.77 | F26: 0.044851422
A27: Operations and Maintenance | B27: 0 | C27: 0 | D27: 0 | E27: 0 | F27: 0
A28: Debt Services | B28: 0 | C28: 0 | D28: 0 | E28: 0 | F28: 0
A29: Total Expenditures | B29: 3454234.1 | C29: 3252765.5 | D29: 3197004.4 | E29: 3197004.4 | F29: 1
A31: Staffing (FTE)
A32: Administration | B32: 2 | C32: 2 | D32: 2 | E32: 2 | F32: 0.043478261
A33: Licensed | B33: 31 | C33: 31 | D33: 27 | E33: 27 | F33: 0.67391304
A34: Support | B34: 12 | C34: 13 | D34: 13 | E34: 13 | F34: 0.2826087
A35: Total FTE | B35: 45 | C35: 46 | D35: 42 | E35: 42 | F35: 1
A37: Enrollment
A38: Pre-K | B38: 22 | C38: 23 | D38: 23 | E38: 23
A39: Kindergarten | B39: 35 | C39: 25 | D39: 33 | E39: 33
A40: 1st Grade | B40: 43 | C40: 41 | D40: 29 | E40: 29
A41: 2nd Grade | B41: 69 | C41: 67 | D41: 44 | E41: 44
A42: 3rd Grade | B42: 54 | C42: 48 | D42: 69 | E42: 69
A43: 4th Grade | B43: 65 | C43: 55 | D43: 50 | E43: 50
A44: 5th Grade | B44: 67 | C44: 72 | D44: 56 | E44: 56
A45: Total Enrollment | B45: 355 | C45: 331 | D45: 304 | E45: 304

Sheet Ute Pass Elementary
A1: Manitou Springs School District 14
A2: 2025-2026 Adopted Budget
A3: General Fund Detail
A5: Ute Pass Elementary School
B9: 2024-2025 | C9: 2024-2025 | D9: 2025-2026 | E9: 2025-2026 | F9: % of
B10: Budget | C10: Estimate | D10: Proposed | E10: Adopted | F10: Total
A13: Expenditures by Object
A14: Salaries | B14: 1394086.7 | C14: 1291472.2 | D14: 1478255.2 | E14: 1413255.2 | F14: 0.75306905
A15: Benefits | B15: 412530.04 | C15: 418359.55 | D15: 458259.1 | E15: 438109.1 | F15: 0.23345141
A16: Purchased Services | B16: 4500 | C16: 6854.47 | D16: 4200 | E16: 4200 | F16: 0.0021396103
A17: Supplies & Equipment | B17: 28836 | C17: 30839.91 | D17: 22260 | E17: 22260 | F17: 0.011339935
A18: Debt Services | B18: 0 | C18: 0 | D18: 0 | E18: 0 | F18: 0
A19: Total Expenditures | B19: 1839952.8 | C19: 1747526.2 | D19: 1962974.3 | E19: 1877824.3 | F19: 1
A21: Expenditures by Program
A22: General Administration | B22: 0 | C22: 0 | D22: 0 | E22: 0 | F22: 0
A23: School Administration | B23: 331328.85 | C23: 295582.61 | D23: 323228.33 | E23: 323228.33 | F23: 0.16466254
A24: General Instruction | B24: 1243111.3 | C24: 1184395.3 | D24: 1341245.6 | E24: 1256095.6 | F24: 0.68327213
A25: Special Education Instruction | B25: 176594.19 | C25: 187836.44 | D25: 200894.59 | E25: 200894.59 | F25: 0.10234194
A26: Instructional Support | B26: 90214.509 | C26: 79711.84 | D26: 97605.733 | E26: 97605.733 | F26: 0.049723389
A27: Operations and Maintenance | C27: 0 | F27: 0
A28: Debt Services | C28: 0 | F28: 0
A29: Total Expenditures | B29: 1841248.8 | C29: 1747526.2 | D29: 1962974.3 | E29: 1877824.3 | F29: 1
A31: Staffing (FTE)
A32: Administration | B32: 2 | C32: 2 | D32: 2 | E32: 2 | F32: 0.086956522
A33: Licensed | B33: 16.5 | C33: 16.5 | D33: 16.5 | E33: 16.5 | F33: 0.7173913
A34: Support | B34: 4 | C34: 4.5 | D34: 4.5 | E34: 4.5 | F34: 0.19565217
A35: Total FTE | B35: 22.5 | C35: 23 | D35: 23 | E35: 23 | F35: 1
A37: Enrollment
A38: Pre-K | B38: 10 | C38: 11 | D38: 10 | E38: 10
A39: Kindergarten | B39: 11 | C39: 11 | D39: 11 | E39: 11
A40: 1st Grade | B40: 18 | C40: 15 | D40: 23 | E40: 23
A41: 2nd Grade | B41: 21 | C41: 20 | D41: 21 | E41: 21
A42: 3rd Grade | B42: 24 | C42: 24 | D42: 24 | E42: 24
A43: 4th Grade | B43: 24 | C43: 24 | D43: 25 | E43: 25
A44: 5th Grade | B44: 25 | C44: 25 | D44: 26 | E44: 26
A45: 6th Grade | B45: 48 | C45: 44 | D45: 47 | E45: 47
A46: 7th Grade
A47: 8th Grade
A48: 9th Grade
A49: 10th Grade
...

Sheet Manitou Middle
A1: Manitou Springs School District 14
A2: 2025-2026 Adopted Budget
A3: General Fund Detail
A5: Manitou Springs Middle School
B9: 2024-2025 | C9: 2024-2025 | D9: 2025-2026 | E9: 2025-2026 | F9: % of
B10: Budget | C10: Estimate | D10: Proposed | E10: Adopted | F10: Total
A13: Expenditures by Object
A14: Salaries | B14: 2317640.5 | C14: 2254430 | D14: 2271723.3 | E14: 2276823.3 | F14: 0.75254891
A15: Benefits | B15: 699076.47 | C15: 680087.48 | D15: 690603.89 | E15: 692154.29 | F15: 0.22877487
A16: Purchased Services | B16: 17230 | C16: 11631.22 | D16: 8120 | E16: 8120 | F16: 0.002689895
A17: Supplies & Equipment | B17: 32969 | C17: 46457.3 | D17: 48258 | E17: 48258 | F17: 0.015986324
A18: Debt Services | B18: 0 | C18: 0 | D18: 0 | E18: 0 | F18: 0
A19: Total Expenditures | B19: 3066915.9 | C19: 2992606 | D19: 3018705.2 | E19: 3025355.6 | F19: 1
A21: Expenditures by Program
A22: General Administration | B22: 0 | C22: 0 | D22: 0 | E22: 0 | F22: 0
A23: School Administration | B23: 419994.42 | C23: 417405.07 | D23: 422391.88 | E23: 422391.88 | F23: 0.13992485
A24: General Instruction | B24: 2177031.1 | C24: 1959545.8 | D24: 2102143.8 | E24: 2108794.2 | F24: 0.69637267
A25: Special Education Instruction | B25: 257586.72 | C25: 444164.44 | D25: 266250.93 | E25: 266250.93 | F25: 0.088200376
A26: Instructional Support | B26: 212303.65 | C26: 171490.72 | D26: 227918.58 | E26: 227918.58 | F26: 0.075502098
A27: Operations and Maintenance | B27: 0 | C27: 0 | D27: 0 | E27: 0 | F27: 0
A28: Debt Services | B28: 0 | C28: 0 | D28: 0 | E28: 0 | F28: 0
A29: Total Expenditures | B29: 3066915.9 | C29: 2992606 | D29: 3018705.2 | E29: 3025355.6 | F29: 1
A31: Staffing (FTE)
A32: Administration | B32: 2 | C32: 2 | D32: 2 | E32: 2 | F32: 0.054054054
A33: Licensed | B33: 27 | C33: 27 | D33: 26 | E33: 26 | F33: 0.7027027
A34: Support | B34: 9 | C34: 9 | D34: 9 | E34: 9 | F34: 0.24324324
A35: Total FTE | B35: 38 | C35: 38 | D35: 37 | E35: 37 | F35: 1
A37: Enrollment
A38: 6th Grade | B38: 65 | C38: 58 | D38: 74 | E38: 74
A39: 7th Grade | B39: 118 | C39: 107 | D39: 106 | E39: 106
A40: 8th Grade | B40: 110 | C40: 110 | D40: 106 | E40: 106
A41: 9th Grade
A42: 10th Grade
A43: 11th Grade
A44: 12th Grade
A45: Total Enrollment | B45: 293 | C45: 275 | D45: 286 | E45: 286

Sheet High School
A1: Manitou Springs School District 14
A2: 2025-2026 Adopted Budget
A3: General Fund Detail
A5: Manitou Springs High School
B9: 2024-2025 | C9: 2024-2025 | D9: 2025-2026 | E9: 2025-2026 | F9: % of
B10: Budget | C10: Estimate | D10: Proposed | E10: Adopted | F10: Total
A13: Expenditures by Object
A14: Salaries | B14: 3058209.7 | C14: 2988749.5 | D14: 2762646.6 | E14: 2748463.6 | F14: 0.73528177
A15: Benefits | B15: 925063.04 | C15: 918864.07 | D15: 848132.5 | E15: 843778.32 | F15: 0.2257315
A16: Purchased Services | B16: 15150 | C16: 106541.5 | D16: 94375 | E16: 94375 | F16: 0.025118022
A17: Supplies & Equipment | B17: 57416 | C17: 55045.92 | D17: 52108.37 | E17: 52108.37 | F17: 0.013868706
A18: Debt Services | B18: 0 | C18: 0 | D18: 0 | E18: 0 | F18: 0
A19: Total Expenditures | B19: 4055838.7 | C19: 4069200.9 | D19: 3757262.4 | E19: 3738725.3 | F19: 1
A21: Expenditures by Program
A22: General Administration | B22: 0 | C22: 0 | D22: 0 | E22: 0 | F22: 0
A23: School Administration | B23: 607914.69 | C23: 523710.24 | D23: 591449.84 | E23: 570812.31 | F23: 0.1574151
A24: General Instruction | B24: 2757511.5 | C24: 2730042 | D24: 2483288.2 | E24: 2482196.8 | F24: 0.66093019
A25: Special Education Instruction | B25: 313666.9 | C25: 269626.65 | D25: 265580.28 | E25: 265580.28 | F25: 0.070684517
A26: Instructional Support | B26: 376745.67 | C26: 545822.08 | D26: 416944.14 | E26: 420135.83 | F26: 0.11097019
A27: Operations and Maintenance | B27: 0 | C27: 0 | F27: 0
A28: Debt Services | B28: 0 | C28: 0 | F28: 0
A29: Total Expenditures | B29: 4055838.7 | C29: 4069200.9 | D29: 3757262.4 | E29: 3738725.3 | F29: 1
A31: Staffing (FTE)
A32: Administration | B32: 3 | C32: 3 | D32: 3 | E32: 3 | F32: 0.072992701
A33: Licensed | B33: 35.1 | C33: 35.1 | D33: 31.1 | E33: 31.1 | F33: 0.756691
A34: Support | B34: 9 | C34: 7 | D34: 7 | E34: 7 | F34: 0.1703163
A35: Total FTE | B35: 47.1 | C35: 45.1 | D35: 41.1 | E35: 41.1 | F35: 1
A37: Enrollment
A38: 9th Grade | B38: 120 | C38: 114 | D38: 112 | E38: 112
A39: 10th Grade | B39: 93 | C39: 84 | D39: 115 | E39: 115
A40: 11th Grade | B40: 96 | C40: 82 | D40: 82 | E40: 82
A41: 12th Grade | B41: 96 | C41: 87 | D41: 80 | E41: 80
A42: Total Enrollment | B42: 405 | C42: 367 | D42: 389 | E42: 389

Sheet Central Office
A1: Manitou Springs School District 14
A2: 2025-2026 Adopted Budget
A3: General Fund Detail
A5: Central Office
B9: 2024-2025 | C9: 2024-2025 | D9: 2025-2026 | E9: 2025-2026 | F9: % of
B10: Budget | C10: Estimate | D10: Proposed | E10: Adopted | F10: Total
A13: Expenditures by Object
A14: Salaries | B14: 1777951.8 | C14: 1781424.9 | D14: 1890305.4 | E14: 1872105.4 | F14: 0.47118884
A15: Benefits | B15: 504962.99 | C15: 501722.67 | D15: 570872.24 | E15: 565375.84 | F15: 0.14229903
A16: Purchased Services | B16: 739100 | C16: 948611.17 | D16: 1068900 | E16: 1418900 | F16: 0.26644041
A17: Supplies & Equipment | B17: 250147.59 | C17: 174847.17 | D17: 211300 | E17: 211300 | F17: 0.052669902
A18: Debt Services | B18: 270402 | C18: 270401.19 | D18: 270401.19 | E18: 270401.19 | F18: 0.067401818
A19: Total Expenditures | B19: 3542564.4 | C19: 3677007.1 | D19: 4011778.9 | E19: 4338082.5 | F19: 1
A21: Expenditures by Program
A22: General Administration | B22: 1327807.4 | C22: 1445554.6 | D22: 1384125.8 | E22: 1384125.8 | F22: 0.34501547
A23: School Administration | B23: 0 | C23: 0 | D23: 0 | E23: 0 | F23: 0
A24: General Instruction | B24: 289348 | C24: 258527.79 | D24: 121500 | E24: 121500 | F24: 0.030285817
A25: Special Education Instruction | B25: 27000 | C25: 9442.86 | D25: 367000 | E25: 717000 | F25: 0.091480615
A26: Instructional Support | B26: 1628007.4 | C26: 1693081.1 | D26: 1868751.9 | E26: 1845055.5 | F26: 0.46581628
A27: Operations and Maintenance | B27: 0 | C27: 0 | D27: 0 | E27: 0 | F27: 0
A28: Debt Services | B28: 270402 | C28: 270401.19 | D28: 270401.19 | E28: 270401.19 | F28: 0.067401818
A29: Total Expenditures | B29: 3542564.8 | C29: 3677007.5 | D29: 4011778.9 | E29: 4338082.5 | F29: 1
A31: Staffing (FTE)
A32: Administration | B32: 6 | C32: 6 | D32: 6 | E32: 6 | F32: 0.2690583
A33: Licensed | B33: 4 | C33: 3 | D33: 5.5 | E33: 5.5 | F33: 0.24663677
A34: Support | B34: 10.8 | C34: 10.8 | D34: 10.8 | E34: 10.8 | F34: 0.48430493
A35: Total FTE | B35: 20.8 | C35: 19.8 | D35: 22.3 | E35: 22.3 | F35: 0.7309417
A37: The Central Office includes the Superintendents Office, Assistant Superintendent, Student Success, Central Technology, Financial Services, Human Resources, Payroll, Accounts Payable, Accounting, District Psychologist, District Social Workers, PHC, Nursing Staff. Accrued salaries for the district are lumped together and included under the Central Office.

Sheet GF Grants
A1: Manitou Springs School District 14
A2: 2025-2026 Adopted Budget
A3: General Fund Detail
A5: General Fund Grants
B9: 2024-2025 | C9: 2024-2025 | D9: 2025-2026 | E9: 2025-2026 | F9: % of
B10: Budget | C10: Estimate | D10: Proposed | E10: Adopted | F10: Total
A13: Expenditures by Object
A14: Salaries | B14: 263699 | C14: 103494.45 | D14: 100000 | E14: 100000 | F14: 0.2994012
A15: Benefits | B15: 76066 | C15: 31226.62 | D15: 25000 | E15: 25000 | F15: 0.074850299
A16: Purchased Services | B16: 27500 | C16: 121774.27 | D16: 175000 | E16: 175000 | F16: 0.5239521
A17: Supplies & Equipment | B17: 15000 | C17: 71320.71 | D17: 34000 | E17: 34000 | F17: 0.10179641
A18: Debt Services | B18: 0 | C18: 0 | D18: 0 | E18: 0 | F18: 0
A19: Total Expenditures | B19: 382265 | C19: 315816.05 | D19: 334000 | E19: 334000 | F19: 1
A21: Expenditures by Grant
A22: General Administration | B22: 0 | C22: 0 | D22: 0 | E22: 0 | F22: 0
A23: School Administration | B23: 0 | C23: 0 | D23: 5000 | E23: 5000 | F23: 0.01497006
A24: General Instruction | B24: 57265 | C24: 104744.62 | D24: 0 | E24: 0 | F24: 0
A25: Special Education Instruction | B25: 0 | D25: 329000 | E25: 329000 | F25: 0.98502994
A26: Instructional Support | B26: 325000 | C26: 223071.43 | D26: 0 | E26: 0 | F26: 0
A27: Operations and Maintenance | B27: 0 | C27: 0 | D27: 0 | E27: 0 | F27: 0
A28: Debt Services | B28: 0 | C28: 0 | D28: 0 | E28: 0 | F28: 0
A29: Total Expenditures | B29: 382265 | C29: 327816.05 | D29: 334000 | E29: 334000 | F29: 1
A31: Staffing (FTE)
A32: Administration | B32: 0 | C32: 0 | D32: 0 | E32: 0 | F32: 0
A33: Licensed | B33: 3 | C33: 2 | D33: 1 | E33: 1 | F33: 1
A34: Support | B34: 0 | C34: 0 | D34: 0 | E34: 0 | F34: 0
A35: Total FTE | B35: 3 | C35: 2 | D35: 1 | E35: 1 | F35: 1
A36: General Fund Grants includes all grants the district receives with the exception of Title funds. 2023-2024 budget includes ESSER III, School Health Professional Grant, School Nurse Grant, ELO, and the Library Grant.

Sheet Support Services
A1: Manitou Springs School District 14
A2: 2025-2026 Adopted Budget
A3: General Fund Detail
A5: Support Services
B9: 2024-2025 | C9: 2024-2025 | D9: 2025-2026 | E9: 2025-2026 | F9: % of
B10: Budget | C10: Estimate | D10: Proposed | E10: Adopted | F10: Total
A13: Expenditures by Object
A14: Salaries | B14: 1299848.1 | C14: 1144168.6 | D14: 1221098 | E14: 1221098 | F14: 0.39800266
A15: Benefits | B15: 415122.77 | C15: 357519.87 | D15: 385866.98 | E15: 385866.98 | F15: 0.12576884
A16: Purchased Services | B16: 872250 | C16: 936637.62 | D16: 966600 | E16: 966600 | F16: 0.31505199
A17: Supplies & Equipment | B17: 509300 | C17: 520704.66 | D17: 494500 | E17: 494500 | F17: 0.16117651
A18: Debt Services | B18: 0 | C18: 0 | D18: 0 | E18: 0 | F18: 0
A19: Total Expenditures | B19: 3096520.9 | C19: 2959030.7 | D19: 3068065 | E19: 3068065 | F19: 1
A21: Expenditures by Program
A22: General Administration | B22: 0 | C22: 0 | D22: 0 | E22: 0 | F22: 0
A23: School Administration | B23: 0 | C23: 0 | D23: 0 | E23: 0 | F23: 0
A24: General Instruction | B24: 0 | C24: 0 | D24: 0 | E24: 0 | F24: 0
A25: Special Education Instruction | B25: 0 | C25: 0 | D25: 0 | E25: 0 | F25: 0
A26: Instructional Support | B26: 0 | C26: 0 | D26: 0 | E26: 0 | F26: 0
A27: Operations and Maintenance | B27: 3096520.9 | C27: 2959030.7 | D27: 3068065 | E27: 3068065 | F27: 1
A28: Debt Services | B28: 0 | C28: 0 | D28: 0 | E28: 0 | F28: 0
A29: Total Expenditures | B29: 3096520.9 | C29: 2959030.7 | D29: 3068065 | E29: 3068065 | F29: 1
A31: Staffing (FTE)
A32: Administration | B32: 3 | C32: 3 | D32: 3 | E32: 3 | F32: 0.10273973
A33: Licensed | B33: 0 | C33: 0 | D33: 0 | E33: 0 | F33: 0
A34: Support | B34: 26.2 | C34: 22.2 | D34: 26.2 | E34: 26.2 | F34: 0.89726027
A35: Total FTE | B35: 29.2 | C35: 25.2 | D35: 29.2 | E35: 29.2 | F35: 1
A37: Support Services includes district Utilities, Buildings & Grounds, Security, and Transportation.

Sheet General Fund Summary
A1: Manitou Springs School District 14
A2: 2025-2026 Adopted Budget
A5: General Fund - Fund 10
B9: 2024-2025 | C9: 2024-2025 | D9: 2025-2026 | E9: 2025-2026 | F9: 2026-2027 | G9: 2027-2028 | H9: 2028-2029 | I9: 2029-2030
B10: Budget | C10: Estimate | D10: Proposed | E10: Adopted | F10: Planned | G10: Planned | H10: Planned | I10: Planned
A12: Beginning Fund Balance | B12: 9743545.5 | C12: 10178331 | D12: 8835614.3 | E12: 8658614.3 | F12: 6721024.9 | G12: 6475618.5 | H12: 6259969.8 | I12: 6074376.5
A14: Revenue
A15: Local Sources | B15: 10923943 | C15: 9633984.9 | D15: 11009722 | E15: 11009722 | F15: 11196326 | G15: 11298489 | H15: 11401674 | I15: 11505891
A16: State Sources | B16: 9724604.2 | C16: 10300822 | D16: 9282795.2 | E16: 9461101.2 | F16: 9699094 | G16: 9785601.5 | H16: 9872974.1 | I16: 9961220.4
A17: Federal Sources | B17: 189425 | C17: 394283.44 | D17: 350000 | E17: 454164 | F17: 445868 | G17: 445868 | H17: 445868 | I17: 445868
A18: Total Revenue | B18: 20837972 | C18: 20329091 | D18: 20642517 | E18: 20924987 | F18: 21341288 | G18: 21529959 | H18: 21720516 | I18: 21912979
A20: Expenditures
A21: Salaries | B21: 12742808 | C21: 12057128 | D21: 12148365 | E21: 12056082 | F21: 12176643 | G21: 12298409 | H21: 12421393 | I21: 12545607
A22: Benefits | B22: 3815146.2 | C22: 3620762.1 | D22: 3706035.6 | E22: 3677585.4 | F22: 3714662.2 | G22: 3751808.8 | H22: 3789326.9 | I22: 3827220.1
A23: Purchased Services | B23: 1680080 | C23: 2142165 | D23: 2330375 | E23: 2680375 | F23: 2680375 | G23: 2680375 | H23: 2680375 | I23: 2680375
A24: Supplies & Equipment | B24: 929855.84 | C24: 935495.94 | D24: 894613.62 | E24: 894613.62 | F24: 894613.62 | G24: 894613.62 | H24: 894613.62 | I24: 894613.62
A25: Other - COP Payment | B25: 270401 | C25: 270401.19 | D25: 270401 | E25: 270401 | F25: 270401 | G25: 270401 | H25: 270401 | I25: 270401
A26: Total Expenditures | B26: 19438291 | C26: 19025953 | D26: 19349790 | E26: 19579057 | F26: 19736694 | G26: 19895607 | H26: 20056110 | I26: 20218217
A28: Other Uses
A29: Transfer to Insurance Reserve | B29: -500000 | C29: -500000 | D29: -525000 | E29: -525000 | F29: -550000 | G29: -550000 | H29: -550000 | I29: -550000
A30: Transfer to Activities Fund | B30: -600000 | C30: -600000 | D30: -600000 | E30: -600000 | F30: -650000 | G30: -650000 | H30: -650000 | I30: -650000
A31: Transfer to Capital Reserve | B31: -500000 | C31: -500000 | D31: -650000 | E31: -650000 | F31: -550000 | G31: -550000 | H31: -550000 | I31: -550000
A32: Transfer to Capital Reserve - COP/BEST | B32: -2581375.3 | C32: -1172855 | D32: -1408520 | E32: -1408520 | F32: 0 | G32: 0 | H32: 0 | I32: 0
A33: Transfer to Nutrition Services | B33: -50000 | C33: -50000 | D33: -100000 | E33: -100000 | F33: -100000 | G33: -100000 | H33: -100000 | I33: -100000
A34: Long Term-Debt Proceeds | B34: 0 | C34: 0 | D34: 0 | E34: 0 | F34: 0 | G34: 0 | H34: 0 | I34: 0
A35: Total Other Uses | B35: -4231375.3 | C35: -2822855 | D35: -3283520 | E35: -3283520 | F35: -1850000 | G35: -1850000 | H35: -1850000 | I35: -1850000
A37: Revenue Over (Under) Expenditures | B37: -2831694 | C37: -1519716.7 | D37: -1990792.6 | E37: -1937589.4 | F37: -245406.4 | G37: -215648.67 | H37: -185593.36 | I37: -155237.5
A39: Reserves:
A40: Appropriated Operating Reserve | B40: 6328702.9 | C40: 8087835.7 | D40: 6264328 | E40: 6133653.2 | F40: 5883517.7 | G40: 5663101.6 | H40: 5472693.2 | I40: 5312592.5
A41: Appopriated COP/BEST Reserve | B41: 0 | C41: 0 | D41: 0 | E41: 0 | F41: 0 | G41: 0 | H41: 0 | I41: 0
A42: Appropriated TABOR Reserve | B42: 583148.73 | C42: 570778.58 | D42: 580493.7 | E42: 587371.71 | F42: 592100.83 | G42: 596868.22 | H42: 601683.29 | I42: 606546.5
A43: Total Reserves | B43: 6911851.6 | C43: 8658614.3 | D43: 6844821.7 | E43: 6721024.9 | F43: 6475618.5 | G43: 6259969.8 | H43: 6074376.5 | I43: 5919139
A45: Ending Fund Balance | B45: 6911851.6 | C45: 8658614.3 | D45: 6844821.7 | E45: 6721024.9 | F45: 6475618.5 | G45: 6259969.8 | H45: 6074376.5 | I45: 5919139

Sheet General Fund Revenue
A1: Manitou Springs School District 14
A2: 2025-2026 Adopted Budget
B5: 2024-2025 | C5: 2024-2025 | D5: 2025-2026 | E5: 2025-2026
B6: Budget | C6: Estimate | D6: Proposed | E6: Adopted
A8: Local Sources:
A9: Property Taxes | B9: 5646226 | C9: 4219961.9 | D9: 5689440.2 | E9: 5689440.2
A10: Property Taxes from Override | B10: 4300000 | C10: 4154516 | D10: 4300000 | E10: 4300000
A11: Specific Ownership | B11: 412717 | C11: 472486 | D11: 465282.08 | E11: 465282.08
A12: Specific Ownership from Bond Fund | B12: 0 | C12: 0 | D12: 0 | E12: 0
A13: Specific Ownership from Override | B13: 400000 | C13: 370000 | D13: 400000 | E13: 400000
A14: Delinquent Taxes & Interest (Abatements) | B14: 10000 | C14: 0 | D14: 10000 | E14: 10000
A15: Tuition from Individuals (MSES & UPES) | B15: 10000 | C15: 10000 | D15: 10000 | E15: 10000
A16: Interest Income - COLOTRUST | B16: 125000 | C16: 421763.31 | D16: 125000 | E16: 125000
A17: Other Income | B17: 20000 | C17: 10342 | D17: 10000 | E17: 10000
A18: Total Local Revenue | B18: 10923943 | C18: 9633984.9 | D18: 11009722 | E18: 11009722
A20: State Sources:
A21: Equalization | B21: 8594556 | C21: 9056658.3 | D21: 8297759.2 | E21: 8297759.2
A22: Additional At-Risk Funding | B22: 0 | C22: 5346.14 | D22: 0 | E22: 0
A23: Career & Technical Education | B23: 125000 | C23: 236500.9 | D23: 125000 | E23: 125000
A24: READ Act | B24: 35000 | C24: 34204.22 | D24: 30000 | E24: 30000
A25: Gifted & Talented Program | B25: 15000 | C25: 15000 | D25: 15000 | E25: 15000
A26: ELPA | B26: 2320.3 | C26: 2417.21 | D26: 2000 | E26: 2000
A27: Transportation | B27: 125000 | C27: 137459.27 | D27: 125000 | E27: 125000
A28: ECEA | B28: 0 | C28: 0 | D28: 225000 | E28: 403306
A29: ECEA High Cost | B29: 0 | C29: 36316 | D29: 0 | E29: 0
A30: Career Success Incentives | B30: 15000 | C30: 63593.9 | D30: 15000 | E30: 15000
A31: CDE Library Grant | B31: 4000 | C31: 3103 | D31: 4000 | E31: 4000
A32: BEST Grant | B32: 368727.87 | C32: 291000 | D32: 0 | E32: 0
... A36: PPF and Transportation Overpayments | B36: 0 | C36: 0 | D36: 0 | E36: 0
A37: PERA Non-Employer Revenue
A38: Total State Revenue | B38: 9724604.2 | C38: 10300822 | D38: 9282795.2 | E38: 9461101.2
A40: Federal Sources
A41: IDEA Part B | C41: 86143 | D41: 175000 | E41: 270868
A42: IDEA Preschool | B42: 0 | C42: 0 | D42: 0 | E42: 8296
A43: Medicaid | B43: 175000 | C43: 288700 | D43: 175000 | E43: 175000
A44: ESSER III Learning Loss | B44: 0 | C44: 90000 | D44: 0 | E44: 0
A45: ESSER ELO | B45: 14425 | C45: 14425 | D45: 0 | E45: 0
A46: Total Federal Revenue | B46: 189425 | C46: 394283.44 | D46: 350000 | E46: 454164
A48: COP | B48: 0 | C48: 0 | D48: 0 | E48: 0
A50: Total Local, State, and Federal Revenue | B50: 20837972 | C50: 20329091 | D50: 20642517 | E50: 20924987

Sheet General Fund Expenditures
A1: Manitou Springs School District 14
A2: 2025-2026 Adopted Budget
A5: General Fund Expenditures Detail
B9: 2024-2025 | C9: 2024-2025 | D9: 2025-2026 | E9: 2025-2026 | F9: % of
B10: Budget | C10: Estimate | D10: Proposed | E10: Adopted | F10: Total
A12: Expenditures by Object
A13: Salaries | B13: 12742808 | C13: 12057128 | D13: 12148365 | E13: 12056082 | F13: 0.62782928
A14: Benefits | B14: 3815146.2 | C14: 3620762.1 | D14: 3706035.6 | E14: 3677585.4 | F14: 0.19152847
A15: Purchased Services | B15: 1680080 | C15: 2142165 | D15: 2330375 | E15: 2680375 | F15: 0.12043412
A16: Supplies & Equipment | B16: 929855.84 | C16: 935495.94 | D16: 894613.62 | E16: 894613.62 | F16: 0.046233764
A17: COP Debt | B17: 270401 | C17: 270401.19 | D17: 270401 | E17: 270401 | F17: 0.013974364
A18: Total Expenditures | B18: 19438291 | C18: 19025953 | D18: 19349790 | E18: 19579057 | F18: 1
A20: Expenditures by Program
A21: General Administration | B21: 1327807.4 | C21: 1445554.6 | D21: 1384125.8 | E21: 1384125.8 | F21: 0.071531828
A22: School Administration | B22: 1742572.1 | C22: 1609682.2 | D22: 1725671.5 | E22: 1705033.9 | F22: 0.089182959
A23: General Instruction | B23: 8893965.2 | C23: 8400389.5 | D23: 8253390.4 | E23: 8173799.5 | F23: 0.42653645
A24: Special Education Instruction | B24: 1347467 | C24: 1481826.5 | D24: 1884455.2 | E24: 2234455.2 | F24: 0.097388926
A25: Instructional Support | B25: 2760853.7 | C25: 2859068.4 | D25: 2763681.1 | E25: 2743176.4 | F25: 0.14282745
A26: Operations and Maintenance | B26: 3096520.9 | C26: 2959030.7 | D26: 3068065 | E26: 3068065 | F26: 0.15855806
A27: COP Debt Payment | B27: 270402 | C27: 270401.19 | D27: 270401.19 | E27: 270401.19 | F27: 0.013974374
A28: Total Expenditures | B28: 19439588 | C28: 19025953 | D28: 19349789 | E28: 19579057 | F28: 1

Sheet Insurance Reserve Fund
A1: Manitou Springs School District 14
A2: 2025-2026 Adopted Budget
A5: Insurance Reserve Fund - Fund 18
B9: 2024-2025 | C9: 2024-2025 | D9: 2025-2026 | E9: 2025-2026 | F9: 2026-2027 | G9: 2027-2028
B10: Budget | C10: Estimate | D10: Proposed | E10: Adopted | F10: Planned | G10: Planned
A12: Beginning Fund Balance | B12: 77287 | C12: 75915 | D12: 56939 | E12: 56939 | F12: 31939 | G12: 31939
A14: Revenue
A15: General Fund Transfer | B15: 500000 | C15: 500000 | D15: 525000 | E15: 525000 | F15: 550000 | G15: 550000
A16: Total Revenue | B16: 500000 | C16: 500000 | D16: 525000 | E16: 525000 | F16: 550000 | G16: 550000
A18: Expenditures
A19: CSDSIP | B19: 435000 | C19: 422476 | D19: 450000 | E19: 450000 | F19: 450000 | G19: 450000
A20: Wokers' Compensation | B20: 80000 | C20: 92404 | D20: 90000 | E20: 90000 | F20: 90000 | G20: 90000
A21: Unemployment Insurance | B21: 10000 | C21: 4500 | D21: 10000 | E21: 10000 | F21: 10000 | G21: 10000
A22: Total Expenditures | B22: 525000 | C22: 519380 | D22: 550000 | E22: 550000 | F22: 550000 | G22: 550000
A24: Total Appropriation | B24: 577287 | C24: 575915 | D24: 581939 | E24: 581939 | F24: 581939 | G24: 581939
A26: Ending Fund Balance | B26: 52287 | C26: 56939 | D26: 31939 | E26: 31939 | F26: 31939 | G26: 31939
A28: The Insurance Reserve Fund is a sub-fund of the General Fund. The majority of the expenses in this fund is the premium and deductible payments for the district's property, auto, equipment, crime and liability insurance through Colorado School District Self Insurance Pool (CSDSIP). Worker's compensation and unemployment insurance is also covered in this fund. The only revenue source to the Insurance Reserve Fund is a transfer from the General Fund.

Sheet Nutrition Services Fund
A1: Manitou Springs School District 14
A2: 2025-2026 Adopted Budget
A5: Nutrition Services Fund - Fund 21
B9: 2024-2025 | C9: 2024-2025 | D9: 2025-2026 | E9: 2025-2026 | F9: 2026-2027 | G9: 2027-2028
B10: Budget | C10: Estimate | D10: Proposed | E10: Adopted | F10: Planned | G10: Planned
A12: Beginning Fund Balance | B12: 73767.73 | C12: 99316 | D12: 37749 | E12: 37980 | F12: 10781.767 | G12: 6836.5513
A14: Revenue
A15: Local Sources | B15: 25000 | C15: 22481 | D15: 25000 | E15: 25000 | F15: 30000 | G15: 30000
A16: State Sources | B16: 250000 | C16: 213000 | D16: 250000 | E16: 240000 | F16: 260000 | G16: 270000
A17: Federal Sources | B17: 275000 | C17: 292500 | D17: 300000 | E17: 295000 | F17: 300000 | G17: 305000
A18: Commodities | B18: 27500 | C18: 27500 | D18: 27500 | E18: 27500 | F18: 27500 | G18: 27500
A19: General Fund Transfer | B19: 50000 | C19: 50000 | D19: 100000 | E19: 100000 | F19: 100000 | G19: 100000
A20: Total Revenue | B20: 627500 | C20: 605481 | D20: 702500 | E20: 687500 | F20: 717500 | G20: 732500
A22: Expenditures
A23: Salaries | B23: 293968.52 | C23: 282750.38 | D23: 319255.26 | E23: 319255.26 | F23: 322447.81 | G23: 328896.77
A24: Benefits | B24: 91105.884 | C24: 93386.22 | D24: 105442.98 | E24: 105442.98 | F24: 106497.41 | G24: 108627.35
A25: Purchased Services | B25: 15000 | C25: 6879.15 | D25: 10000 | E25: 10000 | F25: 10000 | G25: 10000
A26: Supplies | B26: 250000 | C26: 256301.25 | D26: 250000 | E26: 250000 | F26: 250000 | G26: 250000
A27: Equipment | B27: 5000 | C27: 0 | D27: 2500 | E27: 2500 | F27: 5000 | G27: 5000
A28: Commodities Usage | B28: 27500 | C28: 27500 | D28: 27500 | E28: 27500 | F28: 27500 | G28: 27500
A29: Depreciation | B29: 0 | C29: 0 | D29: 0 | E29: 0 | F29: 0 | G29: 0
A30: Total Expenditures | B30: 682574.4 | C30: 666817 | D30: 714698.23 | E30: 714698.23 | F30: 721445.22 | G30: 730024.12
A32: Total Appropriation | B32: 701267.73 | C32: 766133 | D32: 740249 | E32: 725480 | F32: 728281.77 | G32: 739336.55
A34: Ending Fund Balance | B34: 18693.326 | C34: 37980 | D34: 25550.767 | E34: 10781.767 | F34: 6836.5513 | G34: 9312.4314

Sheet Grants Fund
A1: Manitou Springs School District 14
A2: 2025-2026 Adopted Budget
A5: Governmental Designated Grants Fund - Fund 22
B9: 2024-2025 | C9: 2024-2025 | D9: 2025-2026 | E9: 2025-2026 | F9: 2026-2027 | G9: 2027-2028
B10: Budget | C10: Estimate | D10: Proposed | E10: Adopted | F10: Planned | G10: Planned
A12: Beginning Fund Balance | B12: 0 | C12: 0 | D12: 0 | E12: 0 | F12: 0 | G12: 0
A14: Revenue
A15: Title IA Carryover | B15: 0 | C15: 0 | D15: 0 | E15: 22607 | F15: 0 | G15: 0
A16: Title IA | B16: 114354 | C16: 113194 | D16: 110000 | E16: 97803 | F16: 92913 | G16: 88267
A17: Title II Carryover | B17: 0 | C17: 0 | D17: 0 | E17: 0 | F17: 0 | G17: 0
A18: Title II | B18: 19924 | C18: 19924 | D18: 18000 | E18: 0 | F18: 0 | G18: 0
A19: Title IV Carryover | B19: 0 | C19: 0 | D19: 0 | E19: 5000 | F19: 0 | G19: 0
A20: Title IV | B20: 10000 | C20: 11160 | D20: 10000 | E20: 10000 | F20: 10000 | G20: 10000
A21: Total Revenue | B21: 144278 | C21: 144278 | D21: 138000 | E21: 135410 | F21: 102913 | G21: 98267
A23: Expenditures
A24: Salaries | B24: 103291 | C24: 113908 | D24: 98462 | E24: 97000 | F24: 71471 | G24: 67899
A25: Benefits | B25: 30987 | C25: 19210.35 | D25: 29538 | E25: 27000 | F25: 21442 | G25: 20368
A26: Purchased Services | B26: 0 | C26: 0 | D26: 0 | E26: 0 | F26: 0 | G26: 0
A27: Supplies & Equipment | B27: 10000 | C27: 11160 | D27: 10000 | E27: 11410 | F27: 10000 | G27: 10000
A28: Total Expenditures | B28: 144278 | C28: 144278.35 | D28: 138000 | E28: 135410 | F28: 102913 | G28: 98267
A30: Total Appropriation | B30: 144278 | C30: 144278.35 | D30: 138000 | E30: 135410 | F30: 102913 | G30: 98267
A32: Ending Fund Balance | B32: 0 | C32: 0 | D32: 0 | E32: 0 | F32: 0 | G32: 0
A34: The Governmental Desginated Grants Fund is used to manage federal grants, specifically grants that are part of the Every Student Succeeds Act (ESSA). Currently, Manitou Springs School District #14 receives funds from Title IA, Title II (Teacher Quality) and Title IV (Student Support and Academic Enrichment)

Sheet Student Activity Fund
A1: Manitou Springs School District 14
A2: 2025-2026 Adopted Budget
A5: Student Activity Fund - Fund 23
B9: 2024-2025 | C9: 2024-2025 | D9: 2025-2026 | E9: 2025-2026 | F9: 2026-2027 | G9: 2027-2028
B10: Budget | C10: Estimate | D10: Proposed | E10: Adopted | F10: Planned | G10: Planned
A12: Beginning Fund Balance | B12: 83746 | C12: 89967 | D12: 61686 | E12: 61686 | F12: 1391.69 | G12: 21044.437
A14: Revenue
A15: Local Sources | B15: 75000 | C15: 76190 | D15: 75000 | E15: 75000 | F15: 110000 | G15: 115000
A16: General Fund Transfer | B16: 600000 | C16: 600000 | D16: 600000 | E16: 600000 | F16: 650000 | G16: 650000
A17: Total Revenue | B17: 675000 | C17: 672802 | D17: 675000 | E17: 675000 | F17: 760000 | G17: 765000
A19: Expenditures
A20: Salaries | B20: 408100 | C20: 400121 | D20: 412124.63 | E20: 412124.63 | F20: 416245.88 | G20: 420408.34
A21: Benefits | B21: 96265.585 | C21: 90456 | D21: 93169.68 | E21: 93169.68 | F21: 94101.377 | G21: 95042.391
A22: Purchased Services | B22: 110000 | C22: 110311 | D22: 110000 | E22: 110000 | F22: 110000 | G22: 110000
A23: Supplies & Equipment | B23: 70000 | C23: 45734 | D23: 70000 | E23: 70000 | F23: 70000 | G23: 70000
A24: Other | B24: 50000 | C24: 52950 | D24: 50000 | E24: 50000 | F24: 50000 | G24: 50000
A25: Total Expenditures | B25: 734365.58 | C25: 701083 | D25: 735294.31 | E25: 735294.31 | F25: 740347.25 | G25: 745450.73
A27: Total Appropriation | B27: 758746 | C27: 762769 | D27: 736686 | E27: 736686 | F27: 761391.69 | G27: 786044.44
A29: Ending Fund Balance | B29: 24380.415 | C29: 61686 | D29: 1391.69 | E29: 1391.69 | F29: 21044.437 | G29: 40593.711

Sheet Other Activity Fund
A1: Manitou Springs School District 14
A2: 2025-2026 Adopted Budget
A5: Other Activity Fund - Fund 27
B9: 2024-2025 | C9: 2024-2025 | D9: 2025-2026 | E9: 2025-2026 | F9: 2026-2027 | G9: 2027-2028
B10: Budget | C10: Estimate | D10: Proposed | E10: Adopted | F10: Planned | G10: Planned
A12: Beginning Fund Balance | B12: 785561 | C12: 627009 | D12: 637009 | E12: 567009 | F12: 567009 | G12: 567009
A14: Revenue
A15: Local Sources | B15: 400000 | C15: 440000 | D15: 400000 | E15: 400000 | F15: 400000 | G15: 400000
A16: Total Revenue | B16: 400000 | C16: 440000 | D16: 400000 | E16: 400000 | F16: 400000 | G16: 400000
A18: Expenditures
A19: Expenditures | B19: 400000 | C19: 500000 | D19: 400000 | E19: 400000 | F19: 400000 | G19: 400000
A20: Total Expenditures | B20: 400000 | C20: 500000 | D20: 400000 | E20: 400000 | F20: 400000 | G20: 400000
A22: Total Appropriation | B22: 1185561 | C22: 1127009 | D22: 1037009 | E22: 967009 | F22: 967009 | G22: 967009
A24: Ending Fund Balance | B24: 785561 | C24: 567009 | D24: 637009 | E24: 567009 | F24: 567009 | G24: 567009

Sheet Debt Services Fund
A1: Manitou Springs School District 14
A2: 2025-2026 Adopted Budget
A5: Debt Services Fund - Fund 31
B9: 2024-2025 | C9: 2024-2025 | D9: 2025-2026 | E9: 2025-2026 | F9: 2026-2027 | G9: 2027-2028
B10: Budget | C10: Estimate | D10: Proposed | E10: Adopted | F10: Planned | G10: Planned
A12: Beginning Fund Balance | B12: 49736 | C12: 49792 | D12: 49792 | E12: 49792 | F12: 49792 | G12: 49792
A14: Revenue
A15: Interest | B15: 0 | C15: 0 | D15: 0 | E15: 0 | F15: 0 | G15: 0
A16: Property Tax | B16: 0 | C16: 0 | D16: 0 | E16: 0 | F16: 0 | G16: 0
A17: Property Tax Reduction | B17: 0 | C17: 0 | D17: 0 | E17: 0 | F17: 0 | G17: 0
A18: Total Revenue | B18: 0 | C18: 0 | D18: 0 | E18: 0 | F18: 0 | G18: 0
A20: Expenditures
A21: Principal | B21: 0 | C21: 0 | D21: 0 | E21: 0 | F21: 0 | G21: 0
A22: Interest | B22: 0 | C22: 0 | D22: 0 | E22: 0 | F22: 0 | G22: 0
A23: Fees | B23: 0 | C23: 0 | D23: 0 | E23: 0 | F23: 0 | G23: 0
A24: Total Expenditures | B24: 0 | C24: 0 | D24: 0 | E24: 0 | F24: 0 | G24: 0
A26: Total Appropriation | B26: 49736 | C26: 49792 | D26: 49792 | E26: 49792 | F26: 49792 | G26: 49792
A28: Ending Fund Balance | B28: 49736 | C28: 49792 | D28: 49792 | E28: 49792 | F28: 49792 | G28: 49792

Sheet Capital Reserve Fund
A1: Manitou Springs School District 14
A2: 2025-2026 Adopted Budget
A5: Capital Reserve Fund - Fund 43
B9: 2024-2025 | C9: 2024-2025 | D9: 2025-2026 | E9: 2025-2026 | F9: 2026-2027 | G9: 2027-2028
B10: Budget | C10: Estimate | D10: Proposed | E10: Adopted | F10: Planned | G10: Planned
A12: Beginning Fund Balance | B12: 115040 | C12: 88709 | D12: 280709 | E12: 280709 | F12: 50709 | G12: 100709
A14: Revenue
A15: General Fund Transfer | B15: 500000 | C15: 500000 | D15: 650000 | E15: 650000 | F15: 550000 | G15: 550000
A16: General Fund Transfer - BEST/COP | B16: 2581375 | C16: 1172855 | D16: 1408520 | E16: 1408520 | F16: 0 | G16: 0
A17: Total Revenue | B17: 3081375 | C17: 1672855 | D17: 2058520 | E17: 2058520 | F17: 550000 | G17: 550000
A19: Expenditures
A20: Capital Expenses | B20: 600000 | C20: 308000 | D20: 880000 | E20: 880000 | F20: 500000 | G20: 500000
A21: COP/BEST Expenses | B21: 2581375 | C21: 1250000 | D21: 1408520 | E21: 1408520 | F21: 0 | G21: 0
A22: Total Expenditures | B22: 3181375 | C22: 1558000 | D22: 2288520 | E22: 2288520 | F22: 500000 | G22: 500000
A24: Total Appropriation | B24: 3196415 | C24: 1761564 | D24: 2339229 | E24: 2339229 | F24: 600709 | G24: 650709
A26: Ending Fund Balance | B26: 15040 | C26: 280709 | D26: 50709 | E26: 50709 | F26: 100709 | G26: 150709

Sheet ADOPTION
A1: Manitou Springs School District 14
A2: Fiscal Year 2025-2026
A3: Budget Adoption Resolution - Adopted Budget
A5: "BE IT RESOLVED by the Board of Education of School District Number Fourteen in El Paso County that the following revenues and expenditures for each district fund comprising the 2025-2026 Adopted Budget be adopted."
B7: Revenue & Beginning Fund Balances | C7: Expenditures & Reserves
A9: General Fund | B9: ='General Fund Summary'!E12+'General Fund Summary'!E18 -> 29583602 | C9: ='General Fund Summary'!E26-'General Fund Summary'!E35+'General Fund Summary'!E43 -> 29583602
A11: Insurance Reserve Fund | B11: ='Insurance Reserve Fund'!E12+'Insurance Reserve Fund'!E16 -> 581939 | C11: ='Insurance Reserve Fund'!E22+'Insurance Reserve Fund'!E26 -> 581939
A13: Food Service Fund | B13: ='Nutrition Services Fund'!E12+'Nutrition Services Fund'!E20 -> 725480 | C13: ='Nutrition Services Fund'!E30+'Nutrition Services Fund'!E34 -> 725480
A15: Governmental Designated Grants Fund | B15: ='Grants Fund'!E12+'Grants Fund'!E21 -> 135410 | C15: ='Grants Fund'!E28+'Grants Fund'!E32 -> 135410
A17: Pupil Activities Fund | B17: ='Student Activity Fund'!E12+'Student Activity Fund'!E17 -> 736686 | C17: ='Student Activity Fund'!E25+'Student Activity Fund'!E29 -> 736686
A19: Other Activities Fund | B19: ='Other Activity Fund'!E12+'Other Activity Fund'!E16 -> 967009 | C19: ='Other Activity Fund'!E20+'Other Activity Fund'!E24 -> 967009
A21: Debt Service Fund | B21: ='Debt Services Fund'!E12+'Debt Services Fund'!E18 -> 49792 | C21: ='Debt Services Fund'!E24+'Debt Services Fund'!E28 -> 49792
A23: Capital Reserve Fund | B23: ='Capital Reserve Fund'!E12+'Capital Reserve Fund'!E17 -> 2339229 | C23: ='Capital Reserve Fund'!E22+'Capital Reserve Fund'!E26 -> 2339229
A25: All Fund Total | B25: =SUM(B9:B19) -> 32730126 | C25: =SUM(C9:C19) -> 32730126
A30: Tina Vidovich, Board President | C30: Date

Sheet APPROPRIATION
A1: Manitou Springs School District 14
A2: Fiscal Year 2025-2026
A3: Budget Appropriation Resolution - Adopted Budget
A5: "BE IT RESOLVED by the Board of Education of School District Number Fourteen in El Paso County that the amounts shown in the following schedule be appropriated to each fund as specified in the Adopted Budget for the fiscal year beginning July 1, 2025 and ending June 30, 2026."
B7: Total Appropritation | C7: Expenditures & Reserves
A9: General Fund | B9: ='General Fund Summary'!E26-'General Fund Summary'!E35+'General Fund Summary'!E43 -> 29583602 | C9: =B9 -> 29583602
A10: Insurance Reserve Fund | B10: ='Insurance Reserve Fund'!E24 -> 581939 | C10: =B10 -> 581939
A11: Food Service Fund | B11: ='Nutrition Services Fund'!E32 -> 725480 | C11: =B11 -> 725480
A12: Governmental Designated Grants Fund | B12: ='Grants Fund'!E30 -> 135410 | C12: =B12 -> 135410
A13: Pupil Activities Fund | B13: ='Student Activity Fund'!E27 -> 736686 | C13: =B13 -> 736686
A14: Other Activities Funds | B14: ='Other Activity Fund'!E22 -> 967009 | C14: =B14 -> 967009
A15: Debt Services Fund | B15: ='Debt Services Fund'!E26 -> 49792 | C15: =B15 -> 49792
A16: Capital Reserve Fund | B16: ='Capital Reserve Fund'!E24 -> 2339229 | C16: =B16 -> 2339229
A17: All Fund Total | B17: =SUM(B9:B14) -> 32730126 | C17: =SUM(C9:C14) -> 32730126
A22: Tina Vidovich, Board President | C22: Date
