Workbook
Name Choices: 'Mileage Matrix'!$AI$1:$AI$33
Name locations: 'Mileage Matrix'!$AJ$1:$AJ$33
Name LOCATIONSA: #REF!
Name LOCATIONSB: #REF!
Name SchoolChoices: 'Mileage Matrix'!$AI$2:$AI$33

Sheet Guidelines
A3: Per IRS guidelines, the District cannot reimburse for commuting. Doing so is considered taxable income for the employee.
A5: Commuting is defined as your normal drive between home and work. Most employees do that 10 times a week (there and back for five days).
A7: What is not commuting:
A8: Coming into work outside of normal work hours. For example an employee who does not normally work weekends and is not scheduled to work weekends has to come in on a Saturday. Those miles will be reimbursed.
A10: Driving to a different work location that is further away than your normal work location. For example, if your commute is normally 10 miles but you have to drive to a location 20 miles away for a meeting. The additional 10 miles will be reimbursed. The first ten that is your normal commute will not be reimbursed because you would have driven them anyway that day.
A12: You should not document that you are coming back to Parkway unless you really come back to Parkway.

Sheet Mileage Form (2)
B2: PARKWAY SCHOOL DISTRICT - PERSONAL AUTO FORM #412 -for 1/1/25 through 12/31/25
B4: Date | C4: From | D4: To | E4: Miles | F4: Reason
E5: =IFERROR((VLOOKUP(C5,'Mileage Matrix'!$A$2:$AH$34,MATCH(D5,'Mileage Matrix'!$B$1:$AH$1,0)+1,FALSE)),0) -> 0
E6: =IFERROR((VLOOKUP(C6,'Mileage Matrix'!$A$2:$AH$34,MATCH(D6,'Mileage Matrix'!$B$1:$AH$1,0)+1,FALSE)),0) -> 0
E7: =IFERROR((VLOOKUP(C7,'Mileage Matrix'!$A$2:$AH$34,MATCH(D7,'Mileage Matrix'!$B$1:$AH$1,0)+1,FALSE)),0) -> 0
E8: =IFERROR((VLOOKUP(C8,'Mileage Matrix'!$A$2:$AH$34,MATCH(D8,'Mileage Matrix'!$B$1:$AH$1,0)+1,FALSE)),0) -> 0
E9: =IFERROR((VLOOKUP(C9,'Mileage Matrix'!$A$2:$AH$34,MATCH(D9,'Mileage Matrix'!$B$1:$AH$1,0)+1,FALSE)),0) -> 0
E10: =IFERROR((VLOOKUP(C10,'Mileage Matrix'!$A$2:$AH$34,MATCH(D10,'Mileage Matrix'!$B$1:$AH$1,0)+1,FALSE)),0) -> 0
E11: =IFERROR((VLOOKUP(C11,'Mileage Matrix'!$A$2:$AH$34,MATCH(D11,'Mileage Matrix'!$B$1:$AH$1,0)+1,FALSE)),0) -> 0
E12: =IFERROR((VLOOKUP(C12,'Mileage Matrix'!$A$2:$AH$34,MATCH(D12,'Mileage Matrix'!$B$1:$AH$1,0)+1,FALSE)),0) -> 0
E13: =IFERROR((VLOOKUP(C13,'Mileage Matrix'!$A$2:$AH$34,MATCH(D13,'Mileage Matrix'!$B$1:$AH$1,0)+1,FALSE)),0) -> 0
E14: =IFERROR((VLOOKUP(C14,'Mileage Matrix'!$A$2:$AH$34,MATCH(D14,'Mileage Matrix'!$B$1:$AH$1,0)+1,FALSE)),0) -> 0
E15: =IFERROR((VLOOKUP(C15,'Mileage Matrix'!$A$2:$AH$34,MATCH(D15,'Mileage Matrix'!$B$1:$AH$1,0)+1,FALSE)),0) -> 0
E16: =IFERROR((VLOOKUP(C16,'Mileage Matrix'!$A$2:$AH$34,MATCH(D16,'Mileage Matrix'!$B$1:$AH$1,0)+1,FALSE)),0) -> 0
... E33: =IFERROR((VLOOKUP(C33,'Mileage Matrix'!$A$2:$AH$34,MATCH(D33,'Mileage Matrix'!$B$1:$AH$1,0)+1,FALSE)),0) -> 0
B34: Non School-To-School Trips (no drop down lists) | F34: DO NOT USE FRACTIONS OF MILEAGE. WHOLE NUMBERS ONLY
B43: IF NOT ENOUGH ON ONE PAGE CONTINUE ON THE NEXT (BELOW IN THE EXCEL DOCUMENT). REQUEST SHOULD FIT ON
B44: TWO PAGES. MILEAGE REQUESTS SHOULD BE DONE MONTLY.
B45: USE THIS FORM FOR MILEAGE BETWEEN 1/1/2025 AND 12/31/2025.
B49: Employee Vendor #
H51: =SUM(E5:E42,E74:E134) -> 0 | J51: 0.7 | L51: =ROUND(H51*J51,2) -> 0
B52: Print Name
F54: From | J54: To
B56: School or Program | F56: Print Approvers Name
F58: Approvers Signature
B60: Requestor's Signature
B62: Sub-Totals - Miles | D62: In District Miles | I62: =H51-I63 -> 0
D63: Non school to school Miles | I63: =SUM(E35:E42)+SUM(E109:E134) -> 0
C64: Accounts codes are required to process: | J64: Other Notes as Needed:
C65: Account Codes | F65: Amount
B69: PARKWAY FORM 412A - (REV. 02/11/2025)
B72: SECOND PAGE OF MILEAGE
B73: Date | C73: From | D73: To | E73: Miles | F73: Reason
E74: =IFERROR((VLOOKUP(C74,'Mileage Matrix'!$A$2:$AH$34,MATCH(D74,'Mileage Matrix'!$B$1:$AH$1,0)+1,FALSE)),0) -> 0
E75: =IFERROR((VLOOKUP(C75,'Mileage Matrix'!$A$2:$AH$34,MATCH(D75,'Mileage Matrix'!$B$1:$AH$1,0)+1,FALSE)),0) -> 0
E76: =IFERROR((VLOOKUP(C76,'Mileage Matrix'!$A$2:$AH$34,MATCH(D76,'Mileage Matrix'!$B$1:$AH$1,0)+1,FALSE)),0) -> 0
E77: =IFERROR((VLOOKUP(C77,'Mileage Matrix'!$A$2:$AH$34,MATCH(D77,'Mileage Matrix'!$B$1:$AH$1,0)+1,FALSE)),0) -> 0
E78: =IFERROR((VLOOKUP(C78,'Mileage Matrix'!$A$2:$AH$34,MATCH(D78,'Mileage Matrix'!$B$1:$AH$1,0)+1,FALSE)),0) -> 0
E79: =IFERROR((VLOOKUP(C79,'Mileage Matrix'!$A$2:$AH$34,MATCH(D79,'Mileage Matrix'!$B$1:$AH$1,0)+1,FALSE)),0) -> 0
E80: =IFERROR((VLOOKUP(C80,'Mileage Matrix'!$A$2:$AH$34,MATCH(D80,'Mileage Matrix'!$B$1:$AH$1,0)+1,FALSE)),0) -> 0
...

Sheet Mileage Matrix
B1: {=TRANSPOSE(A2:A32)} -> Admin | C1: McKelvey Primary | D1: Barretts | E1: Bellerive | F1: Carman Trails | G1: Claymont | H1: Craig | I1: Early Childhood | J1: Fern Ridge | K1: Green Trails | L1: Hanna Woods | M1: Henry | N1: Highcroft Ridge | O1: Mason Ridge | P1: McKelvey Intermediate | Q1: Oakbrook | R1: Pierremont | S1: River Bend | T1: Ross | U1: Shenandoah Valley | V1: Sorrento Springs | W1: Wren Hollow | X1: Central Middle | Y1: Northeast Middle | Z1: South Middle | AA1: Southwest Middle | AB1: West Middle | AC1: Central High | AD1: North High | AE1: South High | AF1: West High | AG1: Spark! | AH1: 999s | AI1: - | AJ1: -
A2: Admin | B2: 0 | C2: 4 | D2: 8 | E2: 4 | F2: 7 | G2: 5 | H2: 6 | I2: 4 | J2: 2 | K2: 2 | L2: 7 | M2: 5 | N2: 5 | O2: 3 | P2: 5 | Q2: 11 | R2: 5 | S2: 2 | T2: 4 | U2: 4 | V2: 8 | W2: 8 | X2: 0 | Y2: 5 | Z2: 4 | AA2: 8 | AB2: 6 | AC2: 0 | AD2: 3 | AE2: 7 | AF2: 4 | AG2: 4 | AH2: 3 | AI2: Admin | AJ2: Admin
A3: McKelvey Primary | B3: {=TRANSPOSE(C2:AF2)} -> 4 | C3: 0 | D3: 11 | E3: 3 | F3: 10 | G3: 9 | H3: 4 | I3: 8 | J3: 2 | K3: 6 | L3: 11 | M3: 9 | N3: 6 | O3: 6 | P3: 2 | Q3: 14 | R3: 9 | S3: 4 | T3: 2 | U3: 7 | V3: 12 | W3: 12 | X3: 4 | Y3: 5 | Z3: 8 | AA3: 12 | AB3: 10 | AC3: 4 | AD3: 1 | AE3: 11 | AF3: 8 | AG3: 7 | AH3: 2 | AI3: Barretts | AJ3: Barretts
A4: Barretts | B4: 8 | C4: {=TRANSPOSE(D3:AF3)} -> 11 | D4: 0 | E4: 8 | F4: 1 | G4: 8 | H4: 10 | I4: 7 | J4: 10 | K4: 9 | L4: 3 | M4: 5 | N4: 9 | O4: 6 | P4: 13 | Q4: 4 | R4: 6 | S4: 10 | T4: 10 | U4: 8 | V4: 5 | W4: 5 | X4: 8 | Y4: 8 | Z4: 4 | AA4: 6 | AB4: 9 | AC4: 8 | AD4: 10 | AE4: 3 | AF4: 7 | AG4: 6 | AH4: 9 | AI4: Bellerive | AJ4: Bellerive
A5: Bellerive | B5: 4 | C5: 3 | D5: {=TRANSPOSE(E4:AF4)} -> 8 | E5: 0 | F5: 7 | G5: 8 | H5: 5 | I5: 7 | J5: 2 | K5: 5 | L5: 10 | M5: 7 | N5: 5 | O5: 3 | P5: 6 | Q5: 14 | R5: 8 | S5: 4 | T5: 3 | U5: 7 | V5: 12 | W5: 12 | X5: 4 | Y5: 5 | Z5: 7 | AA5: 10 | AB5: 9 | AC5: 4 | AD5: 3 | AE5: 10 | AF5: 7 | AG5: 4 | AH5: 1 | AI5: Carman Trails | AJ5: Carman Trails
A6: Carman Trails | B6: 7 | C6: 10 | D6: 1 | E6: {=TRANSPOSE(F5:AF5)} -> 7 | F6: 0 | G6: 7 | H6: 9 | I6: 6 | J6: 9 | K6: 8 | L6: 2 | M6: 4 | N6: 8 | O6: 6 | P6: 12 | Q6: 4 | R6: 5 | S6: 9 | T6: 9 | U6: 7 | V6: 4 | W6: 4 | X6: 7 | Y6: 7 | Z6: 3 | AA6: 5 | AB6: 8 | AC6: 7 | AD6: 9 | AE6: 2 | AF6: 6 | AG6: 5 | AH6: 10 | AI6: Central High | AJ6: Central High
A7: Claymont | B7: 5 | C7: 9 | D7: 8 | E7: 8 | F7: {=TRANSPOSE(G6:AF6)} -> 7 | G7: 0 | H7: 11 | I7: 1 | J7: 7 | K7: 7 | L7: 4 | M7: 3 | N7: 4 | O7: 5 | P7: 11 | Q7: 7 | R7: 5 | S7: 7 | T7: 9 | U7: 6 | V7: 5 | W7: 5 | X7: 5 | Y7: 7 | Z7: 4 | AA7: 4 | AB7: 2 | AC7: 5 | AD7: 8 | AE7: 4 | AF7: 1 | AG7: 5 | AH7: 8 | AI7: Central Middle | AJ7: Central Middle
A8: Craig | B8: 6 | C8: 4 | D8: 10 | E8: 5 | F8: 9 | G8: {=TRANSPOSE(H7:AF7)} -> 11 | H8: 0 | I8: 9 | J8: 4 | K8: 7 | L8: 12 | M8: 10 | N8: 11 | O8: 6 | P8: 3 | Q8: 15 | R8: 10 | S8: 6 | T8: 3 | U8: 8 | V8: 13 | W8: 13 | X8: 6 | Y8: 3 | Z8: 9 | AA8: 13 | AB8: 11 | AC8: 6 | AD8: 4 | AE8: 12 | AF8: 9 | AG8: 6 | AH8: 3 | AI8: Claymont | AJ8: Claymont
A9: Early Childhood | B9: 4 | C9: 8 | D9: 7 | E9: 7 | F9: 6 | G9: 1 | H9: {=TRANSPOSE(I8:AF8)} -> 9 | I9: 0 | J9: 6 | K9: 5 | L9: 5 | M9: 2 | N9: 3 | O9: 4 | P9: 10 | Q9: 9 | R9: 4 | S9: 6 | T9: 8 | U9: 5 | V9: 4 | W9: 4 | X9: 4 | Y9: 6 | Z9: 3 | AA9: 4 | AB9: 2 | AC9: 4 | AD9: 7 | AE9: 5 | AF9: 0 | AG9: 4 | AH9: 7 | AI9: Craig | AJ9: Craig
A10: Fern Ridge | B10: 2 | C10: 2 | D10: 10 | E10: 2 | F10: 9 | G10: 7 | H10: 4 | I10: {=TRANSPOSE(J9:AF9)} -> 6 | J10: 0 | K10: 4 | L10: 8 | M10: 7 | N10: 8 | O10: 5 | P10: 4 | Q10: 13 | R10: 7 | S10: 2 | T10: 2 | U10: 5 | V10: 9 | W10: 9 | X10: 2 | Y10: 5 | Z10: 6 | AA10: 10 | AB10: 8 | AC10: 2 | AD10: 2 | AE10: 8 | AF10: 6 | AG10: 5 | AH10: 1 | AI10: Early Childhood | AJ10: Early Childhood
A11: Green Trails | B11: 2 | C11: 6 | D11: 9 | E11: 5 | F11: 8 | G11: 7 | H11: 7 | I11: 5 | J11: {=TRANSPOSE(K10:AF10)} -> 4 | K11: 0 | L11: 9 | M11: 6 | N11: 4 | O11: 6 | P11: 8 | Q11: 11 | R11: 7 | S11: 3 | T11: 6 | U11: 3 | V11: 9 | W11: 9 | X11: 2 | Y11: 7 | Z11: 6 | AA11: 9 | AB11: 7 | AC11: 2 | AD11: 6 | AE11: 9 | AF11: 5 | AG11: 5 | AH11: 5 | AI11: Fern Ridge | AJ11: Fern Ridge
A12: Hanna Woods | B12: 7 | C12: 11 | D12: 3 | E12: 10 | F12: 2 | G12: 4 | H12: 12 | I12: 5 | J12: 8 | K12: {=TRANSPOSE(L11:AF11)} -> 9 | L12: 0 | M12: 3 | N12: 8 | O12: 7 | P12: 13 | Q12: 3 | R12: 3 | S12: 9 | T12: 11 | U12: 8 | V12: 3 | W12: 3 | X12: 7 | Y12: 10 | Z12: 3 | AA12: 4 | AB12: 7 | AC12: 7 | AD12: 10 | AE12: 1 | AF12: 5 | AG12: 7 | AH12: 9 | AI12: Green Trails | AJ12: Green Trails
A13: Henry | B13: 5 | C13: 9 | D13: 5 | E13: 7 | F13: 4 | G13: 3 | H13: 10 | I13: 2 | J13: 7 | K13: 6 | L13: {=TRANSPOSE(M12:AF12)} -> 3 | M13: 0 | N13: 5 | O13: 4 | P13: 11 | Q13: 6 | R13: 2 | S13: 7 | T13: 9 | U13: 6 | V13: 4 | W13: 4 | X13: 5 | Y13: 7 | Z13: 1 | AA13: 3 | AB13: 4 | AC13: 5 | AD13: 8 | AE13: 3 | AF13: 2 | AG13: 4 | AH13: 7 | AI13: Hanna Woods | AJ13: Hanna Woods
A14: Highcroft Ridge | B14: 5 | C14: 6 | D14: 9 | E14: 5 | F14: 8 | G14: 4 | H14: 11 | I14: 3 | J14: 8 | K14: 4 | L14: 8 | M14: {=TRANSPOSE(N13:AF13)} -> 5 | N14: 0 | O14: 6 | P14: 8 | Q14: 10 | R14: 6 | S14: 6 | T14: 6 | U14: 4 | V14: 8 | W14: 8 | X14: 5 | Y14: 4 | Z14: 5 | AA14: 7 | AB14: 3 | AC14: 5 | AD14: 5 | AE14: 7 | AF14: 3 | AG14: 5 | AH14: 7 | AI14: Henry | AJ14: Henry
A15: Mason Ridge | B15: 3 | C15: 6 | D15: 6 | E15: 3 | F15: 6 | G15: 5 | H15: 6 | I15: 4 | J15: 5 | K15: 6 | L15: 7 | M15: 4 | N15: {=TRANSPOSE(O14:AF14)} -> 6 | O15: 0 | P15: 8 | Q15: 11 | R15: 5 | S15: 6 | T15: 5 | U15: 5 | V15: 9 | W15: 9 | X15: 3 | Y15: 3 | Z15: 4 | AA15: 7 | AB15: 6 | AC15: 3 | AD15: 5 | AE15: 7 | AF15: 4 | AG15: 1 | AH15: 3 | AI15: Highcroft Ridge | AJ15: Highcroft Ridge
A16: McKelvey Intermediate | B16: 5 | C16: 2 | D16: 13 | E16: 6 | F16: 12 | G16: 11 | H16: 3 | I16: 10 | J16: 4 | K16: 8 | L16: 13 | M16: 11 | N16: 8 | O16: {=TRANSPOSE(P15:AF15)} -> 8 | P16: 0 | Q16: 16 | R16: 11 | S16: 5 | T16: 3 | U16: 9 | V16: 14 | W16: 14 | X16: 5 | Y16: 7 | Z16: 10 | AA16: 13 | AB16: 12 | AC16: 5 | AD16: 2 | AE16: 13 | AF16: 10 | AG16: 8 | AH16: 3 | AI16: Mason Ridge | AJ16: Mason Ridge
A17: Oakbrook | B17: 11 | C17: 14 | D17: 4 | E17: 14 | F17: 4 | G17: 7 | H17: 15 | I17: 9 | J17: 13 | K17: 11 | L17: 3 | M17: 6 | N17: 10 | O17: 11 | P17: {=TRANSPOSE(Q16:AF16)} -> 16 | Q17: 0 | R17: 6 | S17: 12 | T17: 14 | U17: 10 | V17: 2 | W17: 2 | X17: 11 | Y17: 14 | Z17: 7 | AA17: 2 | AB17: 8 | AC17: 11 | AD17: 14 | AE17: 3 | AF17: 9 | AG17: 10 | AH17: 12 | AI17: McKelvey Intermediate | AJ17: McKelvey Intermediate
A18: Pierremont | B18: 5 | C18: 9 | D18: 6 | E18: 8 | F18: 5 | G18: 5 | H18: 10 | I18: 4 | J18: 7 | K18: 7 | L18: 3 | M18: 2 | N18: 6 | O18: 5 | P18: 11 | Q18: {=TRANSPOSE(R17:AF17)} -> 6 | R18: 0 | S18: 7 | T18: 9 | U18: 6 | V18: 4 | W18: 4 | X18: 5 | Y18: 7 | Z18: 1 | AA18: 5 | AB18: 6 | AC18: 5 | AD18: 8 | AE18: 3 | AF18: 4 | AG18: 6 | AH18: 8 | AI18: McKelvey Primary | AJ18: McKelvey Primary
A19: River Bend | B19: 2 | C19: 4 | D19: 10 | E19: 4 | F19: 9 | G19: 7 | H19: 6 | I19: 6 | J19: 2 | K19: 3 | L19: 9 | M19: 7 | N19: 6 | O19: 6 | P19: 5 | Q19: 12 | R19: {=TRANSPOSE(S18:AF18)} -> 7 | S19: 0 | T19: 4 | U19: 4 | V19: 10 | W19: 10 | X19: 2 | Y19: 6 | Z19: 6 | AA19: 10 | AB19: 8 | AC19: 2 | AD19: 4 | AE19: 9 | AF19: 6 | AG19: 6 | AH19: 2 | AI19: North High | AJ19: North High
A20: Ross | B20: 4 | C20: 2 | D20: 10 | E20: 3 | F20: 9 | G20: 9 | H20: 3 | I20: 8 | J20: 2 | K20: 6 | L20: 11 | M20: 9 | N20: 6 | O20: 5 | P20: 3 | Q20: 14 | R20: 9 | S20: {=TRANSPOSE(T19:AF19)} -> 4 | T20: 0 | U20: 7 | V20: 12 | W20: 12 | X20: 4 | Y20: 3 | Z20: 8 | AA20: 12 | AB20: 10 | AC20: 4 | AD20: 2 | AE20: 11 | AF20: 8 | AG20: 6 | AH20: 1 | AI20: Northeast Middle | AJ20: Northeast Middle
A21: Shenandoah Valley | B21: 4 | C21: 7 | D21: 8 | E21: 7 | F21: 7 | G21: 6 | H21: 8 | I21: 5 | J21: 5 | K21: 3 | L21: 8 | M21: 6 | N21: 4 | O21: 5 | P21: 9 | Q21: 10 | R21: 6 | S21: 4 | T21: {=TRANSPOSE(U20:AF20)} -> 7 | U21: 0 | V21: 8 | W21: 8 | X21: 4 | Y21: 8 | Z21: 5 | AA21: 8 | AB21: 5 | AC21: 4 | AD21: 6 | AE21: 8 | AF21: 5 | AG21: 4 | AH21: 5 | AI21: Oakbrook | AJ21: Oakbrook
A22: Sorrento Springs | B22: 8 | C22: 12 | D22: 5 | E22: 12 | F22: 4 | G22: 5 | H22: 13 | I22: 4 | J22: 9 | K22: 9 | L22: 3 | M22: 4 | N22: 8 | O22: 9 | P22: 14 | Q22: 2 | R22: 4 | S22: 10 | T22: 12 | U22: {=TRANSPOSE(V21:AF21)} -> 8 | V22: 0 | W22: 1 | X22: 8 | Y22: 12 | Z22: 5 | AA22: 1 | AB22: 6 | AC22: 8 | AD22: 12 | AE22: 3 | AF22: 4 | AG22: 8 | AH22: 10 | AI22: Pierremont | AJ22: Pierremont
A23: Wren Hollow | B23: 8 | C23: 12 | D23: 5 | E23: 12 | F23: 4 | G23: 5 | H23: 13 | I23: 4 | J23: 9 | K23: 9 | L23: 3 | M23: 4 | N23: 8 | O23: 9 | P23: 14 | Q23: 2 | R23: 4 | S23: 10 | T23: 12 | U23: 8 | V23: {=TRANSPOSE(W22:AF22)} -> 1 | W23: 0 | X23: 8 | Y23: 12 | Z23: 5 | AA23: 1 | AB23: 6 | AC23: 8 | AD23: 12 | AE23: 1 | AF23: 4 | AG23: 8 | AH23: 10 | AI23: River Bend | AJ23: River Bend
A24: Central Middle | B24: 0 | C24: 4 | D24: 8 | E24: 4 | F24: 7 | G24: 5 | H24: 6 | I24: 4 | J24: 2 | K24: 2 | L24: 7 | M24: 5 | N24: 5 | O24: 3 | P24: 5 | Q24: 11 | R24: 5 | S24: 2 | T24: 4 | U24: 4 | V24: 8 | W24: {=TRANSPOSE(X23:AF23)} -> 8 | X24: 0 | Y24: 4 | Z24: 5 | AA24: 8 | AB24: 8 | AC24: 0 | AD24: 4 | AE24: 7 | AF24: 4 | AG24: 4 | AH24: 3 | AI24: Ross | AJ24: Ross
A25: Northeast Middle | B25: 5 | C25: 5 | D25: 8 | E25: 5 | F25: 7 | G25: 7 | H25: 3 | I25: 6 | J25: 5 | K25: 7 | L25: 10 | M25: 7 | N25: 4 | O25: 3 | P25: 7 | Q25: 14 | R25: 7 | S25: 6 | T25: 3 | U25: 8 | V25: 12 | W25: 12 | X25: {=TRANSPOSE(Y24:AF24)} -> 4 | Y25: 0 | Z25: 6 | AA25: 13 | AB25: 8 | AC25: 5 | AD25: 4 | AE25: 10 | AF25: 6 | AG25: 4 | AH25: 2 | AI25: Shenandoah Valley | AJ25: Shenandoah Valley
A26: South Middle | B26: 4 | C26: 8 | D26: 4 | E26: 7 | F26: 3 | G26: 4 | H26: 9 | I26: 3 | J26: 6 | K26: 6 | L26: 3 | M26: 1 | N26: 5 | O26: 4 | P26: 10 | Q26: 7 | R26: 1 | S26: 6 | T26: 8 | U26: 5 | V26: 5 | W26: 5 | X26: 5 | Y26: {=TRANSPOSE(Z25:AF25)} -> 6 | Z26: 0 | AA26: 4 | AB26: 5 | AC26: 4 | AD26: 7 | AE26: 3 | AF26: 3 | AG26: 5 | AH26: 7 | AI26: Sorrento Springs | AJ26: Sorrento Springs
A27: Southwest Middle | B27: 8 | C27: 12 | D27: 6 | E27: 10 | F27: 5 | G27: 4 | H27: 13 | I27: 4 | J27: 10 | K27: 9 | L27: 4 | M27: 3 | N27: 7 | O27: 7 | P27: 13 | Q27: 2 | R27: 5 | S27: 10 | T27: 12 | U27: 8 | V27: 1 | W27: 1 | X27: 8 | Y27: 13 | Z27: {=TRANSPOSE(AA26:AF26)} -> 4 | AA27: 0 | AB27: 4 | AC27: 8 | AD27: 12 | AE27: 3 | AF27: 4 | AG27: 8 | AH27: 10 | AI27: South High | AJ27: South High
A28: West Middle | B28: 6 | C28: 10 | D28: 9 | E28: 9 | F28: 8 | G28: 2 | H28: 11 | I28: 2 | J28: 8 | K28: 7 | L28: 7 | M28: 4 | N28: 3 | O28: 6 | P28: 12 | Q28: 8 | R28: 6 | S28: 8 | T28: 10 | U28: 5 | V28: 6 | W28: 6 | X28: 8 | Y28: 8 | Z28: 5 | AA28: {=TRANSPOSE(AB27:AF27)} -> 4 | AB28: 0 | AC28: 6 | AD28: 9 | AE28: 5 | AF28: 2 | AG28: 5 | AH28: 9 | AI28: South Middle | AJ28: South Middle
A29: Central High | B29: 0 | C29: 4 | D29: 8 | E29: 4 | F29: 7 | G29: 5 | H29: 6 | I29: 4 | J29: 2 | K29: 2 | L29: 7 | M29: 5 | N29: 5 | O29: 3 | P29: 5 | Q29: 11 | R29: 5 | S29: 2 | T29: 4 | U29: 4 | V29: 8 | W29: 8 | X29: 0 | Y29: 5 | Z29: 4 | AA29: 8 | AB29: {=TRANSPOSE(AC28:AF28)} -> 6 | AC29: 0 | AD29: 4 | AE29: 7 | AF29: 4 | AG29: 4 | AH29: 3 | AI29: Southwest Middle | AJ29: Southwest Middle
A30: North High | B30: 3 | C30: 1 | D30: 10 | E30: 3 | F30: 9 | G30: 8 | H30: 4 | I30: 7 | J30: 2 | K30: 6 | L30: 10 | M30: 8 | N30: 5 | O30: 5 | P30: 2 | Q30: 14 | R30: 8 | S30: 4 | T30: 2 | U30: 6 | V30: 12 | W30: 12 | X30: 4 | Y30: 4 | Z30: 7 | AA30: 12 | AB30: 9 | AC30: {=TRANSPOSE(AD29:AF29)} -> 4 | AD30: 0 | AE30: 10 | AF30: 7 | AG30: 5 | AH30: 1 | AI30: Spark! | AJ30: Spark!
A31: South High | B31: 7 | C31: 11 | D31: 3 | E31: 10 | F31: 2 | G31: 4 | H31: 12 | I31: 5 | J31: 8 | K31: 9 | L31: 1 | M31: 3 | N31: 7 | O31: 7 | P31: 13 | Q31: 3 | R31: 3 | S31: 9 | T31: 11 | U31: 8 | V31: 3 | W31: 1 | X31: 7 | Y31: 10 | Z31: 3 | AA31: 3 | AB31: 5 | AC31: 7 | AD31: {=TRANSPOSE(AE30:AF30)} -> 10 | AE31: 0 | AF31: 5 | AG31: 8 | AH31: 10 | AI31: West High | AJ31: West High
A32: West High | B32: 4 | C32: 8 | D32: 7 | E32: 7 | F32: 6 | G32: 1 | H32: 9 | I32: 0 | J32: 6 | K32: 5 | L32: 5 | M32: 2 | N32: 3 | O32: 4 | P32: 10 | Q32: 9 | R32: 4 | S32: 6 | T32: 8 | U32: 5 | V32: 4 | W32: 4 | X32: 4 | Y32: 6 | Z32: 3 | AA32: 4 | AB32: 2 | AC32: 4 | AD32: 7 | AE32: =TRANSPOSE(AF31) -> 5 | AF32: 0 | AG32: 4 | AH32: 8 | AI32: West Middle | AJ32: West Middle
A33: Spark! | B33: 4 | C33: 7 | D33: 6 | E33: 4 | F33: 5 | G33: 5 | H33: 6 | I33: 4 | J33: 5 | K33: 5 | L33: 7 | M33: 4 | N33: 5 | O33: 1 | P33: 8 | Q33: 10 | R33: 6 | S33: 6 | T33: 6 | U33: 4 | V33: 8 | W33: 8 | X33: 4 | Y33: 4 | Z33: 5 | AA33: 8 | AB33: 5 | AC33: 4 | AD33: 5 | AE33: 8 | AF33: 4 | AG33: 0 | AH33: 4 | AI33: Wren Hollow | AJ33: Wren Hollow
A34: 999s | B34: 3 | C34: 2 | D34: 9 | E34: 1 | F34: 10 | G34: 8 | H34: 3 | I34: 7 | J34: 1 | K34: 5 | L34: 9 | M34: 7 | N34: 7 | O34: 3 | P34: 3 | Q34: 12 | R34: 8 | S34: 2 | T34: 1 | U34: 5 | V34: 10 | W34: 10 | X34: 3 | Y34: 2 | Z34: 7 | AA34: 10 | AB34: 9 | AC34: 3 | AD34: 1 | AE34: 10 | AF34: 8 | AG34: 4 | AH34: 0 | AI34: 999s | AJ34: 999s

Sheet Sheet3
