Workbook

Sheet Sheet1
A2: #VALUE!
A4: Instructional Materials List
C6: Charter School: | D6: Select Charter School
C7: Fiscal Year: | D7: Select a Fiscal Year
C8: Individual Providing Information:
C9: Last Submitted Instructional Material List: | D9: =IF(_xlfn.XLOOKUP(D6,Hidden!A:A,Hidden!C:C)="Not on file. Please submit in Epicenter.","Not on file. Please submit in Epicenter.",HYPERLINK(_xlfn.XLOOKUP(D6,Hidden!A:A,Hidden!C:C),_xlfn.XLOOKUP(D6,Hidden!A:A,Hidden!C:C))) -> Last Approved Board Bylaws
A11: Subject (Including English Learner Materials) | B11: Materials | C11: Publisher | D11: Date Adopted | E11: On SBE Curriculum List Y/N | F11: If not on SBE List: Has item been Common Core aligned? Y/N | G11: Notes

Sheet Hidden
A1: Select Charter School | B1: Date of Approved Board Bylaws | C1: Last Approved Board Bylaws | G1: Select a Fiscal Year
A2: Altus Schools South Bay | B2: =IFERROR(_xlfn.XLOOKUP(A2,'Epicenter Inst Mats (Hidden)'!B:B,'Epicenter Inst Mats (Hidden)'!E:E),"") | C2: =IFERROR(HYPERLINK(_xlfn.XLOOKUP(A2,'Epicenter Inst Mats (Hidden)'!B:B,'Epicenter Inst Mats (Hidden)'!P:P),Hidden!B2&" Instructional Materials"),"Not on file. Please submit in Epicenter") -> Not on file. Please submit in Epicenter | G2: 2025-26
A3: Audeo Charter II | B3: =IFERROR(_xlfn.XLOOKUP(A3,'Epicenter Inst Mats (Hidden)'!B:B,'Epicenter Inst Mats (Hidden)'!E:E),"") -> 2024-2025 | C3: =IFERROR(HYPERLINK(_xlfn.XLOOKUP(A3,'Epicenter Inst Mats (Hidden)'!B:B,'Epicenter Inst Mats (Hidden)'!P:P),Hidden!B3&" Instructional Materials"),"Not on file. Please submit in Epicenter") -> 2024-2025 Instructional Materials | G3: 2026-27
A4: Classical Academy Vista | B4: =IFERROR(_xlfn.XLOOKUP(A4,'Epicenter Inst Mats (Hidden)'!B:B,'Epicenter Inst Mats (Hidden)'!E:E),"") -> 2024-2025 | C4: =IFERROR(HYPERLINK(_xlfn.XLOOKUP(A4,'Epicenter Inst Mats (Hidden)'!B:B,'Epicenter Inst Mats (Hidden)'!P:P),Hidden!B4&" Instructional Materials"),"Not on file. Please submit in Epicenter") -> 2024-2025 Instructional Materials | G4: 2027-28
A5: Community Montessori | B5: =IFERROR(_xlfn.XLOOKUP(A5,'Epicenter Inst Mats (Hidden)'!B:B,'Epicenter Inst Mats (Hidden)'!E:E),"") -> 2024-2025 | C5: =IFERROR(HYPERLINK(_xlfn.XLOOKUP(A5,'Epicenter Inst Mats (Hidden)'!B:B,'Epicenter Inst Mats (Hidden)'!P:P),Hidden!B5&" Instructional Materials"),"Not on file. Please submit in Epicenter") -> 2024-2025 Instructional Materials | G5: 2028-29
A6: Dimensions Collaborative | B6: =IFERROR(_xlfn.XLOOKUP(A6,'Epicenter Inst Mats (Hidden)'!B:B,'Epicenter Inst Mats (Hidden)'!E:E),"") -> 2024-2025 | C6: =IFERROR(HYPERLINK(_xlfn.XLOOKUP(A6,'Epicenter Inst Mats (Hidden)'!B:B,'Epicenter Inst Mats (Hidden)'!P:P),Hidden!B6&" Instructional Materials"),"Not on file. Please submit in Epicenter") -> 2024-2025 Instructional Materials | G6: 2029-30
A7: Dual Language Immersion North County | B7: =IFERROR(_xlfn.XLOOKUP(A7,'Epicenter Inst Mats (Hidden)'!B:B,'Epicenter Inst Mats (Hidden)'!E:E),"") -> 2024-2025 | C7: =IFERROR(HYPERLINK(_xlfn.XLOOKUP(A7,'Epicenter Inst Mats (Hidden)'!B:B,'Epicenter Inst Mats (Hidden)'!P:P),Hidden!B7&" Instructional Materials"),"Not on file. Please submit in Epicenter") -> 2024-2025 Instructional Materials
A8: High Tech High | B8: =IFERROR(_xlfn.XLOOKUP(A8,'Epicenter Inst Mats (Hidden)'!B:B,'Epicenter Inst Mats (Hidden)'!E:E),"") | C8: =IFERROR(HYPERLINK(_xlfn.XLOOKUP(A8,'Epicenter Inst Mats (Hidden)'!B:B,'Epicenter Inst Mats (Hidden)'!P:P),Hidden!B8&" Instructional Materials"),"Not on file. Please submit in Epicenter") -> Not on file. Please submit in Epicenter
A9: Howard Gardner Community Charter | B9: =IFERROR(_xlfn.XLOOKUP(A9,'Epicenter Inst Mats (Hidden)'!B:B,'Epicenter Inst Mats (Hidden)'!E:E),"") -> 2024-2025 | C9: =IFERROR(HYPERLINK(_xlfn.XLOOKUP(A9,'Epicenter Inst Mats (Hidden)'!B:B,'Epicenter Inst Mats (Hidden)'!P:P),Hidden!B9&" Instructional Materials"),"Not on file. Please submit in Epicenter") -> 2024-2025 Instructional Materials
A10: Iftin Charter | B10: =IFERROR(_xlfn.XLOOKUP(A10,'Epicenter Inst Mats (Hidden)'!B:B,'Epicenter Inst Mats (Hidden)'!E:E),"") -> 2024-2025 | C10: =IFERROR(HYPERLINK(_xlfn.XLOOKUP(A10,'Epicenter Inst Mats (Hidden)'!B:B,'Epicenter Inst Mats (Hidden)'!P:P),Hidden!B10&" Instructional Materials"),"Not on file. Please submit in Epicenter") -> 2024-2025 Instructional Materials
A11: JCS - Manzanita | B11: =IFERROR(_xlfn.XLOOKUP(A11,'Epicenter Inst Mats (Hidden)'!B:B,'Epicenter Inst Mats (Hidden)'!E:E),"") -> 2024-2025 | C11: =IFERROR(HYPERLINK(_xlfn.XLOOKUP(A11,'Epicenter Inst Mats (Hidden)'!B:B,'Epicenter Inst Mats (Hidden)'!P:P),Hidden!B11&" Instructional Materials"),"Not on file. Please submit in Epicenter") -> 2024-2025 Instructional Materials
A12: Literacy First Charter School | B12: =IFERROR(_xlfn.XLOOKUP(A12,'Epicenter Inst Mats (Hidden)'!B:B,'Epicenter Inst Mats (Hidden)'!E:E),"") -> 2024-2025 | C12: =IFERROR(HYPERLINK(_xlfn.XLOOKUP(A12,'Epicenter Inst Mats (Hidden)'!B:B,'Epicenter Inst Mats (Hidden)'!P:P),Hidden!B12&" Instructional Materials"),"Not on file. Please submit in Epicenter") -> 2024-2025 Instructional Materials
A13: Pacific Springs Charter School | B13: =IFERROR(_xlfn.XLOOKUP(A13,'Epicenter Inst Mats (Hidden)'!B:B,'Epicenter Inst Mats (Hidden)'!E:E),"") -> 2024-2025 | C13: =IFERROR(HYPERLINK(_xlfn.XLOOKUP(A13,'Epicenter Inst Mats (Hidden)'!B:B,'Epicenter Inst Mats (Hidden)'!P:P),Hidden!B13&" Instructional Materials"),"Not on file. Please submit in Epicenter") -> 2024-2025 Instructional Materials
A14: Scholarship Prep - Oceanside | B14: =IFERROR(_xlfn.XLOOKUP(A14,'Epicenter Inst Mats (Hidden)'!B:B,'Epicenter Inst Mats (Hidden)'!E:E),"") -> 2024-2025 | C14: =IFERROR(HYPERLINK(_xlfn.XLOOKUP(A14,'Epicenter Inst Mats (Hidden)'!B:B,'Epicenter Inst Mats (Hidden)'!P:P),Hidden!B14&" Instructional Materials"),"Not on file. Please submit in Epicenter") -> 2024-2025 Instructional Materials

Sheet Epicenter Inst Mats (Hidden)
A1: OrganizationName | B1: EntityName | C1: EntityTypeName | D1: SubmissionType | E1: Tag: School Year | F1: SubmissionName | G1: OriginalFileName | H1: DueDateTime | I1: Submitter | J1: SubmittedTime | K1: Reviewer | L1: ReviewedTime | M1: Approver | N1: ApprovedTime | O1: Status | P1: Url | Q1: Notes | R1: RejectedReason | S1: RejectMessage
A2: San Diego County Office of Education | B2: Audeo Charter II | C2: School | D2: Instructional Materials List | E2: 2024-2025 | F2: 2024-2025 Instructional Materials List.docx | G2: Audeo II Instructional Materials (24-25).docx | H2: 45565.999 | I2: Beaupre, Hayley | J2: 45541.385 | M2: Baier, Melanie | N2: 45596.603 | O2: Reviewed | P2: https://my.epicenternow.org//api/documents/de2796e9-5c47-462d-a155-ca631216a8fb/2024-2025%20Instructional%20Materials%20List%28Z3B2A%29%28AudeoCharteII%29.docx
A3: San Diego County Office of Education | B3: Classical Academy Vista | C3: School | D3: Instructional Materials List | E3: 2024-2025 | F3: 2024-2025 Instructional Materials List (Part 1).pdf | G3: 24-25 Instructional Materials List, Process & Procedure - CAV.pdf | H3: 45565.999 | I3: Majithia, Sejal | J3: 45548.66 | M3: Baier, Melanie | N3: 45618.597 | O3: Reviewed | P3: https://my.epicenternow.org//api/documents/fdcc1e09-bfa3-4004-9f01-45ea640e62ab/2024-2025%20Instructional%20Materials%20List%20%28Part%201%29%28AM92A%29%28ClassiAcademVista%29.pdf
A4: San Diego County Office of Education | B4: Classical Academy Vista | C4: School | D4: Instructional Materials List | E4: 2024-2025 | F4: 2024-2025 Instructional Materials List | H4: 45565.999 | I4: Majithia, Sejal | J4: 45548.66 | M4: Baier, Melanie | N4: 45618.597 | O4: Reviewed | P4: https://my.epicenternow.org//Submissions/2539045
A5: San Diego County Office of Education | B5: Community Montessori | C5: School | D5: Instructional Materials List | E5: 2024-2025 | F5: 2024-2025 Instructional Materials List.pdf | G5: Instructional Materials CM.pdf | H5: 45565.999 | I5: Michaels, Susan | J5: 45538.467 | M5: Baier, Melanie | N5: 45560.616 | O5: Reviewed | P5: https://my.epicenternow.org//api/documents/89145099-bcdd-46c9-bea8-54c33e74c561/2024-2025%20Instructional%20Materials%20List%280KW2A%29%28CommunMontes%29.pdf
A6: San Diego County Office of Education | B6: Dimensions Collaborative | C6: School | D6: Instructional Materials List | E6: 2024-2025 | F6: 2024-2025 Instructional Materials List.pdf | G6: Recommended Curriculum DCS.pdf | H6: 45565.999 | I6: Michaels, Susan | J6: 45538.467 | M6: Baier, Melanie | N6: 45560.617 | O6: Reviewed | P6: https://my.epicenternow.org//api/documents/253dc7d5-4606-40c7-858c-d1677127a776/2024-2025%20Instructional%20Materials%20List%28V6W2A%29%28DimensCollab%29.pdf
A7: San Diego County Office of Education | B7: Dual Language Immersion North County | C7: School | D7: Instructional Materials List | E7: 2024-2025 | F7: 2024-2025 Instructional Materials List.pdf | G7: DLINC Instructional Materials 2024-2025.docx.pdf | H7: 45565.999 | I7: Wirth, Mallory | J7: 45594.463 | M7: Baier, Melanie | N7: 45621.542 | O7: Reviewed | P7: https://my.epicenternow.org//api/documents/24a95e30-92f3-4a35-9542-42a1ded26da2/2024-2025%20Instructional%20Materials%20List%28UXMCA%29%28DualLanguaImmersNorthCounty%29.pdf
A8: San Diego County Office of Education | B8: Howard Gardner Community Charter | C8: School | D8: Instructional Materials List | E8: 2024-2025 | F8: 2024-2025 Instructional Materials List.pdf | G8: Instructional Materials List 2024-2025.pdf | H8: 45565.999 | I8: Shaw, Kat | J8: 45558.413 | M8: Baier, Melanie | N8: 45622.574 | O8: Reviewed | P8: https://my.epicenternow.org//api/documents/d009b0b5-9c8d-408a-8af3-864826437bcc/2024-2025%20Instructional%20Materials%20List%28OGC2A%29%28HowardGardneCommunCharte%29.pdf
A9: San Diego County Office of Education | B9: Iftin Charter | C9: School | D9: Instructional Materials List | E9: 2024-2025 | F9: 2024-2025 Instructional Materials List.pdf | G9: Core and Supplemental Curriculum (1).pdf | H9: 45565.999 | I9: Mohamud, Abdi | J9: 45565.803 | M9: Baier, Melanie | N9: 45622.575 | O9: Reviewed | P9: https://my.epicenternow.org//api/documents/cf72c333-1c46-4701-85bf-faa15936665e/2024-2025%20Instructional%20Materials%20List%28BBU2A%29%28IftinCharte%29.pdf
A10: San Diego County Office of Education | B10: JCS - Manzanita | C10: School | D10: Instructional Materials List | E10: 2024-2025 | F10: 2024-2025 Instructional Materials List (Part 1).pdf | G10: 2024-2025 Manzanita Instructional Materials (3).pdf | H10: 45565.999 | I10: Herkert, Ginny | J10: 45565.806 | M10: Baier, Melanie | N10: 45618.595 | O10: Reviewed | P10: https://my.epicenternow.org//api/documents/94991106-4e3b-422f-ac0a-77b0c9fd7a82/2024-2025%20Instructional%20Materials%20List%20%28Part%201%29%28JBU2A%29%28JCS-Manzan%29.pdf
A11: San Diego County Office of Education | B11: JCS - Manzanita | C11: School | D11: Instructional Materials List | E11: 2024-2025 | F11: 2024-2025 Instructional Materials List (Part 2).pdf | G11: What to Pick Up from the RC - High School (Grade 9 - 12) .pdf | H11: 45565.999 | I11: Herkert, Ginny | J11: 45565.806 | M11: Baier, Melanie | N11: 45618.595 | O11: Reviewed | P11: https://my.epicenternow.org//api/documents/a9d0b4ff-38c5-4657-bbc3-9c543bdcc6fc/2024-2025%20Instructional%20Materials%20List%20%28Part%202%29%28JBU2A%29%28JCS-Manzan%29.pdf
A12: San Diego County Office of Education | B12: JCS - Manzanita | C12: School | D12: Instructional Materials List | E12: 2024-2025 | F12: 2024-2025 Instructional Materials List | H12: 45565.999 | I12: Herkert, Ginny | J12: 45565.806 | M12: Baier, Melanie | N12: 45618.595 | O12: Reviewed | P12: https://my.epicenternow.org//Submissions/2552197
A13: San Diego County Office of Education | B13: Literacy First Charter School | C13: School | D13: Instructional Materials List | E13: 2024-2025 | F13: 2024-2025 Instructional Materials List.pdf | G13: 2024-25 LFCS Curriculum and Policies.pdf | H13: 45565.999 | I13: Robinson, Steve | J13: 45539.471 | M13: Baier, Melanie | N13: 45608.586 | O13: Reviewed | P13: https://my.epicenternow.org//api/documents/689fc089-9bd1-423d-aa34-206e70275663/2024-2025%20Instructional%20Materials%20List%28IN12A%29%28LiteraFirstCharteSchool%29.pdf | Q13: The 2024-25 LFCS Curriculum list is found after the policies in this document.
A14: San Diego County Office of Education | B14: Pacific Springs Charter School | C14: School | D14: Instructional Materials List | E14: 2024-2025 | F14: 2024-2025 Instructional Materials List.xlsx | G14: 2024-25 Instructional Materials List_PSCS_TK-8.xlsx | H14: 45565.999 | I14: Albright, Renee | J14: 45547.403 | M14: Baier, Melanie | N14: 45596.603 | O14: Reviewed | P14: https://my.epicenternow.org//api/documents/daa76a39-a903-4399-a670-b3186288d0c7/2024-2025%20Instructional%20Materials%20List%28NZJ2A%29%28PacifiSpringCharteSchool%29.xlsx
A15: San Diego County Office of Education | B15: Scholarship Prep - Oceanside | C15: School | D15: Instructional Materials List | E15: 2024-2025 | F15: 2024-2025 Instructional Materials List.pdf | G15: 24-25 Curriculum Overview.pdf | H15: 45565.999 | I15: Masse, Allie | J15: 45552.572 | M15: Baier, Melanie | N15: 45603.551 | O15: Reviewed | P15: https://my.epicenternow.org//api/documents/8ff95d04-4cf3-40d7-95cd-9359ccf130f9/2024-2025%20Instructional%20Materials%20List%28CPT2A%29%28ScholaPrep-Oceans%29.pdf
