Workbook
Name BudgetAss1: Budget!$C$4:$H$8
Name BudgetAss2: Budget!$C$10:$H$14
Name BudgetAss3: Budget!$C$16:$H$28
Name BudgetCont: Budget!$B$134:$G$134
Name BudgetFacs: Budget!$A$125:$H$131
Name BudgetInst: Budget!$A$77:$H$91
Name BudgetPers: Budget!$A$57:$H$74
Name BudgetRev1: Budget!$A$46:$A$53
Name BudgetRev2: Budget!$C$45:$G$45
Name BudgetRev3: Budget!$B$46:$G$53
Name BudgetSrvs1: Budget!$A$94:$H$120
Name BudgetSrvs2: Budget!#REF!
Name BudgetSrvs3: Budget!$A$121:$H$122
Name BudgetYrs: Budget!$B$1:$G$2
Name Cont: 'Cash Flow Proj Planning Yr'!#REF!
Name Cont: 'Cash Flow Projection Yr 2'!#REF!
Name Cont: 'Cash Flow Projection Yr 1'!#REF!
Name Facs: 'Cash Flow Proj Planning Yr'!$B$87:$M$93
Name Facs: 'Cash Flow Projection Yr 2'!$B$87:$M$93
Name Facs: 'Cash Flow Projection Yr 1'!$B$87:$M$93
Name Fin: 'Cash Flow Proj Planning Yr'!#REF!
Name Fin: 'Cash Flow Projection Yr 2'!#REF!
Name Fin: 'Cash Flow Projection Yr 1'!#REF!
Name Inst: 'Cash Flow Proj Planning Yr'!$B$39:$M$53
Name Inst: 'Cash Flow Projection Yr 2'!$B$39:$M$53
Name Inst: 'Cash Flow Projection Yr 1'!$B$39:$M$53
Name Pers: 'Cash Flow Proj Planning Yr'!$B$19:$M$36
Name Pers: 'Cash Flow Projection Yr 2'!$B$19:$M$36
Name Pers: 'Cash Flow Projection Yr 1'!$B$19:$M$36
Name Revs: 'Cash Flow Proj Planning Yr'!$B$7:$M$15
Name Revs: 'Cash Flow Projection Yr 2'!$B$7:$M$15
Name Revs: 'Cash Flow Projection Yr 1'!$B$7:$M$15
Name Servs: 'Cash Flow Proj Planning Yr'!$B$56:$M$84
Name Servs: 'Cash Flow Projection Yr 2'!$B$56:$M$84
Name Servs: 'Cash Flow Projection Yr 1'!$B$56:$M$84

Sheet Instructions
A1: CHARTER SCHOOL PETITION BUDGET TEMPLATE DIRECTIONS
A2: State Charter Schools Commission of Georgia – 2022 Petition Cycle
A4: Disclaimer
A5: The information presented in this Budget Template, including calculated revenue, is intended for educational purposes only. There is no guarantee or assurance that a school, if approved, will receive the calculated level of revenue. Petitioner accepts the risk that revenues will vary by school. Additionally, the SCSC cannot guarantee financial success based on any estimates or plans presented within the Budget Template. If approved, petitioners will need to base all budgetary decisions, including estimated revenue and expenditures, on their own due diligence.
A6: Overview
A7: Petitioners must use this template. Do not attempt to reproduce this template and submit a different version. This template is designed to assist charter school petitioners in presenting a financial plan for the proposed school’s charter term. The template relies heavily on embedded calculations based upon the data the user inputs on the Budget tab. Accordingly, it is crucial to ensure that the Budget tab is completed accurately. The cells containing percentages and totals will calculate automatically and cannot be edited.
A12: For a cleaner look the sheets are set up to reflect whole dollars. The Cash Flow spreadsheet verifies certain cells to ensure they match the totals in the Budget spreadsheet. The formulas should account for any rounding variances. The Notes column of the Budget tab are set to expand to allow sufficient space for your input.
A13: 1. Complete the Budget tab.
A14: Header Row
A15: · | B15: Enter your school name into cell A1. Your school name will copy over into
B16: the corresponding cells of the other tabs of the file.
A17: · | B17: Change the Fiscal Years in Row 1 to reflect the timeframe for which the school plans to operate. The template is currently set to utilize Fiscal Year 2023 as the Planning Year. If your school will have two planning years, begin your Budget tab data with Fiscal Year 2024--the last planning year. Change the remaining cells to display Fiscal Years 2025 through 2029 in the Budget tab header. The fiscal year updates will carry over to the other tabs in the file.
A22: · | B22: Choose from the dropdown menu in A2 whether you are completing your 100% budget or your 65% budget. The latter one to represent a budget for 65% of your enrollment projection. You need to submit a 100% budget AND a 65% budget.
A23: Assumptions Rows
A24: · | B24: Complete all inputtable Assumptions rows (Rows 5-28). The total students rows for B&M and Virtual are calculations and thus require no input. The description for these total rows are in bold.
A26: · | B26: Answer Yes or No from the dropdown box as to whether your school anticipates meeting the requirements for the State Nutrition Grant and the State Transportation Grant. Your answers in this section will populate the funding for these 2 categorical grants in the Revenue section.
A27: · | B27: This template requires the identification of the number of students by certain grade-bands and setting. The number of students entered must correspond to the school’s expected enrollment in the Executive Summary in its petition application. For Students in a Brick-and-Mortar Setting, Rows 10-14 must be used. For Students in a Virtual Setting, Rows 16-20 must be used. A school that uses both a brick-and-mortar and virtual settings should use the appropriate combination of spaces in Rows 10-20. Spaces may be left blank for schools that are not expected to enroll certain grades or certain settings.
B35: o | C35: Example 1 – A K-5 brick-and-mortar school that plans to enroll 50 students in each grade its first year. The school would enter “50” in cell C10 for students in Kindergarten, “150” in cell C11 for students in grades 1-3, and “100” in cell C12 for students in grades 4-5. Nothing would be entered into Cells C13, C14, C16, C17, C18, C19, C20.
B40: o | C40: Example 2 – A 6-12 charter school plans to utilize both brick-and-mortar and virtual settings with half of its students in each setting and 80 total students per grade in its first year. The school would enter “120” in Column D, Row 13 for students in grades 6-8 in brick-and-mortar setting, “160” in Column D, Row 14 for students in grades 9-12 in a brick-and-mortar setting, “120” in Column D, Row 20 for students in grades 6-8 in a virtual setting, and “160” in Column D, Row 21 for students in grades 9-12 in a virtual setting. Rows 10-12 and 17-19 would be left blank.
B48: o | C48: Be sure to input the student numbers into the correct section(s)--whether B&M or Virtual.
A49: · | B49: Please note that you are to input the Number of Full-Time Employees. If you have Part-Time Employees, do not sum your employee rows above. Please note the separate row for the Number of Certified Employees Eligible for T&E (Training & Experience) and HI (Health Insurance) Funding. The numbers in the two rows could be different.
A54: · | B54: Certain cells in the planning year are disabled as they would not be applicable to a school not in operation (such as number of students and teachers). However, we realize that you could have some administrative staff and possibly maintenance staff in the planning year. Also, the planning year is set up to allow input of expenses and funding from sources outside of the state.
A56: · | B56: Please provide comprehensive clarifications in the Notes column N. Clarifications could include information that a particular position is part-time (on the Number of Administrators line) or that only grade 4 is being planned for Yr 1 (on the Number of Students in Grade 4-5 line).
A58: Revenues Rows
A59: State Funding
A60: · | B60: The various components of state funding have been broken out on individual lines in the spreadsheet. This spreadsheet DOES NOT mirror the actual calculations that will be used to provide your state funding if approved. Rather, the spreadsheet is designed to provide a reasonable yet conservative estimate of your potential funding receipts. All lines calculate automatically based on your student counts , certified employee counts, and whether you indicated a transportational or nutrional program that would meet the standards for the state grants. The Nursing Services Grant (for the state mandated school nurse program) is given to all schools beginning with their 2nd year of operations.
A64: · | B64: For the QBE State Revenue section, the spreadsheet is using the FY 22 statewide weighted funding/FTE for each grade band and applying it to your entered student counts by grade band. No additional weight has been added into these conservative calculations for the impact of Exceptional Education classes.
A67: · | B67: This spreadsheet will take your Number of Certified Employees (eligible for T&E and HI funding) and apply an estimate of the FY22 statewide funding/certified employee of 20,542 to determine the T&E component.
A70: · | B70: The SCSC Supplement Funding lines in this spreadsheet do not consider the school's geographic location or attendance zone. The spreadsheet is applying an estimated FY 22 average funding per B&M (Brick-and-Mortar) School and an estimated FY 22 average funding per Virtual School. Therefore, the impact of your locating in a geographical location that would receive a higher Capital Funding amount isn't factored into this projection. As a reminder the SCSC Supplement is considered to include the Categorical Grants, Base Supplement, and Capital Funding reduced by the SCSC's administrative withhold or fee.
A72: · | B72: The SCSC Administrative Withhold is being calculated as 2% of the calculated state revenue subtotal. Please note that the Commission may withhold up to 3% of state charter school state revenue, but the Commission is committed to ensuring as much funding flows to the classroom as possible. The SCSC currently withholds less than 2% of state revenue from state charter schools, but that amount may vary in future years. Please note that only 1% is withheld in year 1.
A74: Other Funding
A75: · | B75: The Meal Fees line should be used for revenue generated through the school meals program, if any.
A77: · | B77: Donations
B78: o | C78: Utilize the available additional description lines as necessary. And provide information in the corresponding Notes column.
B80: o | C80: Only revenue that can be adequately assured should be included. It is not necessary for revenue to be received by the school to be included in the template; however, the school MUST submit written evidence to support that the revenue will be provided upon receipt of a charter contract.
A82: · | B82: Grants
B83: o | C83: Utilize the available additional description lines as necessary. And provide information in the corresponding Notes column.
B85: o | C85: Competitive grants, including the Federal Implementation Grant, should not be included UNLESS they have already been awarded to the school. Support must be provided with this application/budget to substantiate any grant revenue included in your budget.
A86: Federal Funds
A87: · | B87: No other federal funds, for which you don't have an award letter, should be included in your projected revenue.
...

Sheet Budget
A1: Liberty Leadership Academy | B1: FY2023 | C1: FY2024 | D1: FY2025 | E1: FY2026 | F1: FY2027 | G1: FY2028 | H1: Notes
A2: 100% Budget | B2: Planning Year | C2: Year 1 | D2: Year 2 | E2: Year 3 | F2: Year 4 | G2: Year 5
A3: Assumptions
A4: Square Footage of Facility | C4: =C13*80 -> 8640 | D4: =D13*80 -> 17280 | E4: =E13*80 -> 25920 | F4: =F13*80 -> 25920 | G4: =G13*80 -> 25920 | H4: 80 sq ft per student
A5: Student-Teacher Ratio | C5: 27-1 | D5: 27-1 | E5: 27-1 | F5: 27-1 | G5: 27-1 | H5: Max student-teacher ratio is 27:1;
A6: Average Teacher Salary | C6: 55000 | D6: =55000*1.03 -> 56650 | E6: =D6*1.03 -> 58349.5 | F6: =E6*1.03 -> 60099.985 | G6: =F6*1.03 -> 61902.985
A7: Will you offer a Nutritional program that meets State Grant Guidelines? | C7: Yes | D7: Yes | E7: Yes | F7: Yes | G7: Yes
A8: Will you offer a Transportation program that meets State Grant Guidelines? | C8: Yes | D8: Yes | E8: Yes | F8: Yes | G8: Yes
A9: Students in a Brick-and-Mortar Setting-total | C9: =SUM(C10:C14) -> 108 | D9: =SUM(D10:D14) -> 216 | E9: =SUM(E10:E14) -> 324 | F9: =SUM(F10:F14) -> 324 | G9: =SUM(G10:G14) -> 324
A10: Number of Students in Kindergarten | C10: 0 | D10: 0 | E10: 0 | F10: 0 | G10: 0
A11: Number of Students in Grades 1-3 | C11: 0 | D11: 0 | E11: 0 | F11: 0 | G11: 0
A12: Number of Students in Grades 4-5 | C12: 0 | D12: 0 | E12: 0 | F12: 0 | G12: 0
A13: Number of Students in Grades 6-8 | C13: 108 | D13: 216 | E13: 324 | F13: 324 | G13: 324
A14: Number of Students in Grades 9-12 | C14: 0
A15: Students in a Virtual Setting-total | C15: =SUM(C16:C20) -> 0 | D15: =SUM(D16:D20) -> 0 | E15: =SUM(E16:E20) -> 0 | F15: =SUM(F16:F20) -> 0 | G15: =SUM(G16:G20) -> 0
A16: Number of Students in Kindergarten (Virtual) | C16: 0 | D16: 0 | E16: 0 | F16: 0 | G16: 0
A17: Number of Students in Grades 1-3 (Virtual) | C17: 0 | D17: 0 | E17: 0 | F17: 0 | G17: 0
A18: Number of Students in Grades 4-5 (Virtual) | C18: 0 | D18: 0 | E18: 0 | F18: 0 | G18: 0
A19: Number of Students in Grades 6-8 (Virtual) | C19: 0 | D19: 0 | E19: 0 | F19: 0 | G19: 0
A20: Number of Students in Grades 9-12 (Virtual) | C20: 0 | D20: 0 | E20: 0 | F20: 0 | G20: 0
A21: Number of Administrators | C21: 1.5 | D21: 1.5 | E21: 3 | F21: 3 | G21: 3
A22: Number of Teachers | C22: 6 | D22: 10.5 | E22: 15 | F22: 15 | G22: 15
A23: Number of Other Instructional Staff | C23: 0 | D23: 0 | E23: 1 | F23: 1 | G23: 1
A24: Number of Clerical Staff | C24: 1.5 | D24: 2 | E24: 2 | F24: 2 | G24: 2
A25: Number of Maintenance Staff | C25: 0 | D25: 0 | E25: 0 | F25: 0 | G25: 0
A26: Number of Food Service Staff | C26: 0 | D26: 0 | E26: 0 | F26: 0 | G26: 0
A27: Number of Full-Time Employees | C27: 9 | D27: 13 | E27: 20 | F27: 20 | G27: 20
A28: Number of Certified Employees (eligible for T&E and HI funding) | C28: 7 | D28: 9 | E28: 18 | F28: 18 | G28: 18 | M28: Additional Information on Revenue Calculations
A29: Revenues | M29: Type of Funding | N29: Calculation | O29: Notes
A30: Funding for QBE | C30: =ROUND((C10+C16)*'Formula Ref & Validation Data'!$B$14+(C11+C17)*'Formula Ref & Validation Data'!$B$15+(C18+C12)*'Formula Ref & Validation Data'!$B$16+(C13+C19)*'Formula Ref & Validation Data'!$B$17+(C14+C20)*'Formula Ref & Validation Data'!$B$18,0) -> 342802 | D30: =ROUND((D10+D16)*'Formula Ref & Validation Data'!$B$14+(D11+D17)*'Formula Ref & Validation Data'!$B$15+(D18+D12)*'Formula Ref & Validation Data'!$B$16+(D13+D19)*'Formula Ref & Validation Data'!$B$17+(D14+D20)*'Formula Ref & Validation Data'!$B$18,0) -> 685603 | E30: =ROUND((E10+E16)*'Formula Ref & Validation Data'!$B$14+(E11+E17)*'Formula Ref & Validation Data'!$B$15+(E18+E12)*'Formula Ref & Validation Data'!$B$16+(E13+E19)*'Formula Ref & Validation Data'!$B$17+(E14+E20)*'Formula Ref & Validation Data'!$B$18,0) -> 1028405 | F30: =ROUND((F10+F16)*'Formula Ref & Validation Data'!$B$14+(F11+F17)*'Formula Ref & Validation Data'!$B$15+(F18+F12)*'Formula Ref & Validation Data'!$B$16+(F13+F19)*'Formula Ref & Validation Data'!$B$17+(F14+F20)*'Formula Ref & Validation Data'!$B$18,0) -> 1028405 | G30: =ROUND((G10+G16)*'Formula Ref & Validation Data'!$B$14+(G11+G17)*'Formula Ref & Validation Data'!$B$15+(G18+G12)*'Formula Ref & Validation Data'!$B$16+(G13+G19)*'Formula Ref & Validation Data'!$B$17+(G14+G20)*'Formula Ref & Validation Data'!$B$18,0) -> 1028405 | M30: QBE | N30: Avg funding/FTE x Number of Students | O30: excludes T&E and HI
A31: Funding for Training & Experience (T&E) | C31: =ROUND(C28*'Formula Ref & Validation Data'!$B$21,0) -> 143794 | D31: =ROUND(D28*'Formula Ref & Validation Data'!$B$21,0) -> 184878 | E31: =ROUND(E28*'Formula Ref & Validation Data'!$B$21,0) -> 369756 | F31: =ROUND(F28*'Formula Ref & Validation Data'!$B$21,0) -> 369756 | G31: =ROUND(G28*'Formula Ref & Validation Data'!$B$21,0) -> 369756 | M31: T&E | N31: FY22 initial allotment sheet T&E state funding per Certified Employee x Number of Certified Employees
A32: Funding for Health Insurance (HI) | C32: =ROUND(C28*'Formula Ref & Validation Data'!$B$22,0) -> 79380 | D32: =ROUND(D28*'Formula Ref & Validation Data'!$B$22,0) -> 102060 | E32: =ROUND(E28*'Formula Ref & Validation Data'!$B$22,0) -> 204120 | F32: =ROUND(F28*'Formula Ref & Validation Data'!$B$22,0) -> 204120 | G32: =ROUND(G28*'Formula Ref & Validation Data'!$B$22,0) -> 204120 | M32: HI | N32: 945/mo or 11,340/yr x Number of Certified Employees
A33: Local Five Mills Share (LFMS) | C33: =ROUND((C15+C9)*'Formula Ref & Validation Data'!$B$23,0) -> -136404 | D33: =ROUND((D15+D9)*'Formula Ref & Validation Data'!$B$23,0) -> -272808 | E33: =ROUND((E15+E9)*'Formula Ref & Validation Data'!$B$23,0) -> -409212 | F33: =ROUND((F15+F9)*'Formula Ref & Validation Data'!$B$23,0) -> -409212 | G33: =ROUND((G15+G9)*'Formula Ref & Validation Data'!$B$23,0) -> -409212 | M33: LFMS | N33: FY22 initial allotment sheet state avg of -1263/FTE x Number of Students
A34: QBE State Revenue Subtotal | C34: =ROUND(SUM(C30:C33),0) -> 429572 | D34: =ROUND(SUM(D30:D33),0) -> 699733 | E34: =ROUND(SUM(E30:E33),0) -> 1193069 | F34: =ROUND(SUM(F30:F33),0) -> 1193069 | G34: =ROUND(SUM(G30:G33),0) -> 1193069
A35: Austerity | C35: =ROUND(C34*-'Formula Ref & Validation Data'!$B$24,0) -> -18171 | D35: =ROUND(D34*-'Formula Ref & Validation Data'!$B$32,0) -> -20992 | E35: =ROUND(E34*-'Formula Ref & Validation Data'!$B$33,0) -> -23861 | F35: =ROUND(F34*-'Formula Ref & Validation Data'!$B$34,0) -> -11931 | G35: =ROUND(G34*-'Formula Ref & Validation Data'!$B$35,0) -> 0 | M35: Austerity | N35: FY24: 4.23%, FY25: 3%, FY26: 2%, FY27: 1%, FY28: 0% | O35: Rates applied to QBE State Rev Subtotal
A36: Nursing Services Grant | C36: 0 | D36: =IF((D15+D9)>0,20000,0) -> 20000 | E36: =IF((E15+E9)>0,20000,0) -> 20000 | F36: =IF((F15+F9)>0,20000,0) -> 20000 | G36: =IF((G15+G9)>0,20000,0) -> 20000 | M36: Nursing | N36: $20,000/year | O36: Categorical Grant - Begins in Year 2
A37: State Nutritional Grant | C37: =IF(C7="Yes",ROUND((C9*14),0),0) -> 1512 | D37: =IF(D7="Yes",ROUND((D9*14),0),0) -> 3024 | E37: =IF(E7="Yes",ROUND((E9*14),0),0) -> 4536 | F37: =IF(F7="Yes",ROUND((F9*14),0),0) -> 4536 | G37: =IF(G7="Yes",ROUND((G9*14),0),0) -> 4536 | M37: Nutrition | N37: $14.00/student | O37: Categorical Grant - Begins in Year 1
A38: State Transportation Grant | C38: =IF(C8="Yes",ROUND((C9*77),0),0) -> 8316 | D38: =IF(D8="Yes",ROUND((D9*77),0),0) -> 16632 | E38: =IF(E8="Yes",ROUND((E9*77),0),0) -> 24948 | F38: =IF(F8="Yes",ROUND((F9*77),0),0) -> 24948 | G38: =IF(G8="Yes",ROUND((G9*77),0),0) -> 24948 | M38: Transportation | N38: $77.00/student | O38: Categorical Grant - Begins in Year 1
A39: Funding for SCSC Supplement (Brick & Mortar) | C39: =ROUND(C9*'Formula Ref & Validation Data'!$B$25,0) -> 701568 | D39: =ROUND(D9*'Formula Ref & Validation Data'!$B$25,0) -> 1403136 | E39: =ROUND(E9*'Formula Ref & Validation Data'!$B$25,0) -> 2104704 | F39: =ROUND(F9*'Formula Ref & Validation Data'!$B$25,0) -> 2104704 | G39: =ROUND(G9*'Formula Ref & Validation Data'!$B$25,0) -> 2104704 | M39: SCSC B&M Supplement | N39: SCSC B&M Avg per FTE x Number of Students | O39: Excludes categorical grants
A40: Funding for SCSC Supplement (Virtual) | C40: =ROUND(C15*'Formula Ref & Validation Data'!$B$26,0) -> 0 | D40: =ROUND(D15*'Formula Ref & Validation Data'!$B$26,0) -> 0 | E40: =ROUND(E15*'Formula Ref & Validation Data'!$B$26,0) -> 0 | F40: =ROUND(F15*'Formula Ref & Validation Data'!$B$26,0) -> 0 | G40: =ROUND(G15*'Formula Ref & Validation Data'!$B$26,0) -> 0 | M40: SCSC Virtual Supplement | N40: SCSC Virtual Avg per FTE x Number of Students | O40: Excludes categorical grants
...

Sheet Formula Ref & Validation Data
A1: Components of Revenue Projection Formulas/Calculations
A3: Source Info:
A5: Report
A6: Category: | B6: QBE Reports
A7: Name: | B7: Weights for FTE Funding Formula
A8: Fiscal Year: | B8: FY 2022
A9: Allotment Term: | B9: FY 2022 Initial
A10: System: | B10: State
A11: GADOE site link: | B11: https://financeweb.doe.k12.ga.us/QBEPublicWeb/ReportsMenu.aspx
B13: Weight/FTE
A14: Kingergarten PGM | B14: 4664.04
A15: Primary Grades (1-3) PGM | B15: 3611.3
A16: Upper Elementary Grades (4-5) PGM | B16: 2898.21
A17: Middle School PGM (6-8) | B17: 3174.09
A18: Base -- Grades 9-12 | B18: 2789.66
C20: Source/Additional Info
A21: Training and Experience (T&E)/Certified Employee* (Avg recd for all cert'd st ees) | B21: 20542 | C21: Avg per Certified EE calc'd from FY 22 State Allotment sheet
A22: Annual Health Insurance Funding/Certified Employee * | B22: =11340 -> 11340 | C22: 945/mo x 12 mo's
A23: Local Five Mills Share/FTE | B23: -1263 | C23: Avg per FTE for state calc'd fr FY 22 State Allotment sheet
A24: Austerity % applied to Total State Funds | B24: 0.0423 | C24: Get % from Jon
A25: SCSC Supplement/FTE (Avg for B&M schools for FY 22) | B25: 6496 | C25: spreadsheet provided by Jon
A26: SCSC Supplement/FTE (Avg for Virtual schools for FY 22) | B26: 3695 | C26: spreadsheet provided by Jon
A28: * Total T&E (that includes the Health Insurance component) and the Teacher Retirement Contributions Funding
A29: are embedded within the Salary column of an Allotment Sheet (or Earnings Sheet).
A31: Different Years data
A32: Austerity % applied to Total State Funds | B32: 0.03 | C32: FY25 | D32: Data provided by Morgan
B33: 0.02 | C33: FY26 | D33: She said that the austerity is often
B34: 0.01 | C34: FY27 | D34: 0% unless the state is having difficulty.
B35: 0 | C35: FY28
A39: Validation Data:
A40: Answers | B40: Answers
A41: Yes | B41: 100% Budget
A42: No | B42: 65% Budget
A44: Restrictions
A45: The positive whole dollar amount cell restrictions for the Cash Balances tab and the Cash Flow Projection tabs are set for a maximum of 300,000,000.

Sheet Cash Balances
A1: =Budget!$A$1 -> Liberty Leadership Academy | B1: CASH BALANCES
A2: =IF(ISBLANK(+Budget!A2),"",Budget!A2) -> 100% Budget
B3: =Budget!$B$1 -> FY2023 | C3: =Budget!$C$1 -> FY2024 | D3: =Budget!$D$1 -> FY2025 | E3: =Budget!$E$1 -> FY2026 | F3: =Budget!$F$1 -> FY2027 | G3: =Budget!$G$1 -> FY2028
B4: =+Budget!B2 -> Planning Year | C4: =+Budget!C2 -> Year 1 | D4: =+Budget!D2 -> Year 2 | E4: =+Budget!E2 -> Year 3 | F4: =+Budget!F2 -> Year 4 | G4: =+Budget!G2 -> Year 5
A5: Beginning Operating Cash Balance | C5: =B7 -> 3400 | D5: =C7 -> 12083 | E5: =D7 -> 399049 | F5: =E7 -> 1088400 | G5: =F7 -> 1851257
A6: Increase (Decrease) from Budget tab | B6: =Budget!B136 -> 3400 | C6: =Budget!C136 -> 8683 | D6: =Budget!D136 -> 386966 | E6: =Budget!E136 -> 689351 | F6: =Budget!F136 -> 762857 | G6: =Budget!G136 -> 747696
A7: Ending Operating Cash Balance | B7: =B5+B6 -> 3400 | C7: =C5+C6 -> 12083 | D7: =D5+D6 -> 399049 | E7: =E5+E6 -> 1088400 | F7: =F5+F6 -> 1851257 | G7: =G5+G6 -> 2598953
A8: Please input your beginning cash balance into cell B5 if you have received private funding prior to this Planning Year.
A10: Beginning Contingency Fund Cash Balance | B10: 0 | C10: =B13 -> 0 | D10: =C13 -> 0 | E10: =D13 -> 0 | F10: =E13 -> 0 | G10: =F13 -> 0
A11: Increases from Additions on Budget tab | B11: =+Budget!B134 -> 0 | C11: =+Budget!C134 -> 0 | D11: =+Budget!D134 -> 0 | E11: =Budget!E134 -> 0 | F11: =Budget!F134 -> 0 | G11: =Budget!G134 -> 0
A12: (Decreases) from Transfers to Oper Acct | B12: =-Budget!B135 -> 0 | C12: =-Budget!C135 -> 0 | D12: =-Budget!D135 -> 0 | E12: =-Budget!E135 -> 0 | F12: =-Budget!F135 -> 0 | G12: =-Budget!G135 -> 0
A13: Ending Contingency Fund Cash Balance | B13: =B10+B11+B12 -> 0 | C13: =C10+C11+C12 -> 0 | D13: =D10+D11+D12 -> 0 | E13: =E10+E11+E12 -> 0 | F13: =F10+F11+F12 -> 0 | G13: =G10+G11+G12 -> 0
A14: The beginning Contingency Fund Cash Balance is set to zero as you would not have a Contingency Fund during the Planning Yr. All funds on hand initially would be considered Operating Cash funds.
A16: Beginning Total Cash Balance | B16: =B5+B10 -> 0 | C16: =C5+C10 -> 3400 | D16: =D5+D10 -> 12083 | E16: =E5+E10 -> 399049 | F16: =F5+F10 -> 1088400 | G16: =G5+G10 -> 1851257
A17: Increase (Decrease) | B17: =B18-B16 -> 3400 | C17: =C18-C16 -> 8683 | D17: =D18-D16 -> 386966 | E17: =E18-E16 -> 689351 | F17: =F18-F16 -> 762857 | G17: =G18-G16 -> 747696
A18: Ending Total Cash Balance | B18: =B7+B13 -> 3400 | C18: =C7+C13 -> 12083 | D18: =D7+D13 -> 399049 | E18: =E7+E13 -> 1088400 | F18: =F7+F13 -> 1851257 | G18: =G7+G13 -> 2598953
A20: Ending Total Cash Balance should be positive for each year.
A21: The goal is for the Ending Operating Cash Balance to be positive each year.

Sheet Cash Flow Proj Planning Yr
A1: =IF(ISBLANK(+Budget!A2),"",Budget!A2) -> 100% Budget | B1: CASH FLOW PROJECTION PLANNING YEAR
A2: =Budget!A1 -> Liberty Leadership Academy | B2: Jul | C2: Aug | D2: Sep | E2: Oct | F2: Nov | G2: Dec | H2: Jan | I2: Feb | J2: Mar | K2: Apr | L2: May | M2: Jun | N2: Total | O2: Equal to Corresponding Line in Budget tab?
A4: Beginning Operating Cash Balance: | B4: ='Cash Balances'!B5 -> 0 | C4: =B97 -> 9925 | D4: =C97 -> 9150 | E4: =D97 -> 8800 | F4: =E97 -> 8700 | G4: =F97 -> 8600 | H4: =G97 -> 8340 | I4: =H97 -> 8230 | J4: =I97 -> 7170 | ... M4: =L97 -> 4675
A5: REVENUES
A6: =+Budget!A43 -> Total State Funding | B6: =Budget!$B$43/12 -> 0 | C6: =Budget!$B$43/12 -> 0 | D6: =Budget!$B$43/12 -> 0 | E6: =Budget!$B$43/12 -> 0 | F6: =Budget!$B$43/12 -> 0 | G6: =Budget!$B$43/12 -> 0 | H6: =Budget!$B$43/12 -> 0 | I6: =Budget!$B$43/12 -> 0 | ... M6: =Budget!$B$43/12 -> 0 | N6: =ROUND(SUM(B6:M6),0) -> 0 | O6: =IF((N6-Budget!B43)<2,IF((N6-Budget!B43)>-2,"Yes","No"),"No") -> Yes
A7: =Budget!A45 -> Meal Fees (Recd fr Students) | N7: =ROUND(SUM(B7:M7),0) -> 0 | O7: =IF((N7-Budget!B45)<2,IF((N7-Budget!B45)>-2,"Yes","No"),"No") -> Yes
A8: =Budget!A46 -> 0 | N8: =ROUND(SUM(B8:M8),0) -> 0 | O8: =IF((N8-Budget!B46)<2,IF((N8-Budget!B46)>-2,"Yes","No"),"No") -> Yes
A9: =Budget!A47 -> Donations | N9: =ROUND(SUM(B9:M9),0) -> 0 | O9: =IF((N9-Budget!B47)<2,IF((N9-Budget!B47)>-2,"Yes","No"),"No") -> Yes
A10: =Budget!A48 -> 0 | N10: =ROUND(SUM(B10:M10),0) -> 0 | O10: =IF((N10-Budget!B48)<2,IF((N10-Budget!B48)>-2,"Yes","No"),"No") -> Yes
A11: =Budget!A49 -> 0 | N11: =ROUND(SUM(B11:M11),0) -> 0 | O11: =IF((N11-Budget!B49)<2,IF((N11-Budget!B49)>-2,"Yes","No"),"No") -> Yes
A12: =Budget!A50 -> Grants | B12: 10000 | N12: =ROUND(SUM(B12:M12),0) -> 10000 | O12: =IF((N12-Budget!B50)<2,IF((N12-Budget!B50)>-2,"Yes","No"),"No") -> Yes
A13: =Budget!A51 -> 0 | N13: =ROUND(SUM(B13:M13),0) -> 0 | O13: =IF((N13-Budget!B51)<2,IF((N13-Budget!B51)>-2,"Yes","No"),"No") -> Yes
A14: =Budget!A52 -> 0 | N14: =ROUND(SUM(B14:M14),0) -> 0 | O14: =IF((N14-Budget!B52)<2,IF((N14-Budget!B52)>-2,"Yes","No"),"No") -> Yes
A15: =Budget!A53 -> 0 | N15: =ROUND(SUM(B15:M15),0) -> 0 | O15: =IF((N15-Budget!B53)<2,IF((N15-Budget!B53)>-2,"Yes","No"),"No") -> Yes
A16: TOTAL REVENUE RECEIPTS | B16: =SUM(B6:B15) -> 10000 | C16: =SUM(C6:C15) -> 0 | D16: =SUM(D6:D15) -> 0 | E16: =SUM(E6:E15) -> 0 | F16: =SUM(F6:F15) -> 0 | G16: =SUM(G6:G15) -> 0 | H16: =SUM(H6:H15) -> 0 | I16: =SUM(I6:I15) -> 0 | ... M16: =SUM(M6:M15) -> 0 | N16: =ROUND(SUM(B16:M16),2) -> 10000 | O16: =IF((N16-Budget!B54)<2,IF((N16-Budget!B54)>-2,"Yes","No"),"No") -> Yes
A17: EXPENSES
A18: =Budget!A56 -> Personnel
A19: =Budget!A57 -> Principal | B19: 0 | C19: 0 | D19: 0 | E19: 0 | F19: 0 | G19: 0 | H19: 0 | I19: 0 | J19: 0 | K19: 0 | L19: 0 | M19: 0 | N19: =ROUND(SUM(B19:M19),0) -> 0 | O19: =IF((N19-Budget!B57)<2,IF((N19-Budget!B57)>-2,"Yes","No"),"No") -> Yes
A20: =Budget!A58 -> Other Administrators (Asst. Principal, Curriculum Director…) | B20: 0 | C20: 0 | D20: 0 | E20: 0 | F20: 0 | G20: 0 | H20: 0 | I20: 0 | J20: 0 | K20: 0 | L20: 0 | M20: 0 | N20: =ROUND(SUM(B20:M20),0) -> 0 | O20: =IF((N20-Budget!B58)<2,IF((N20-Budget!B58)>-2,"Yes","No"),"No") -> Yes
A21: =Budget!A59 -> Teachers | B21: 0 | C21: 0 | D21: 0 | E21: 0 | F21: 0 | G21: 0 | H21: 0 | I21: 0 | J21: 0 | K21: 0 | L21: 0 | M21: 0 | N21: =ROUND(SUM(B21:M21),0) -> 0 | O21: =IF((N21-Budget!B59)<2,IF((N21-Budget!B59)>-2,"Yes","No"),"No") -> Yes
A22: =Budget!A60 -> Arts/PE/Connections Teachers | B22: 0 | C22: 0 | D22: 0 | E22: 0 | F22: 0 | G22: 0 | H22: 0 | I22: 0 | J22: 0 | K22: 0 | L22: 0 | M22: 0 | N22: =ROUND(SUM(B22:M22),0) -> 0 | O22: =IF((N22-Budget!B60)<2,IF((N22-Budget!B60)>-2,"Yes","No"),"No") -> Yes
A23: =Budget!A61 -> Athletics/Extracurricular Coaches | B23: 0 | C23: 0 | D23: 0 | E23: 0 | F23: 0 | G23: 0 | H23: 0 | I23: 0 | J23: 0 | K23: 0 | L23: 0 | M23: 0 | N23: =ROUND(SUM(B23:M23),0) -> 0 | O23: =IF((N23-Budget!B61)<2,IF((N23-Budget!B61)>-2,"Yes","No"),"No") -> Yes
A24: =Budget!A62 -> Guidance Counselors | B24: 0 | C24: 0 | D24: 0 | E24: 0 | F24: 0 | G24: 0 | H24: 0 | I24: 0 | J24: 0 | K24: 0 | L24: 0 | M24: 0 | N24: =ROUND(SUM(B24:M24),0) -> 0 | O24: =IF((N24-Budget!B62)<2,IF((N24-Budget!B62)>-2,"Yes","No"),"No") -> Yes
A25: =Budget!A63 -> Special Education Personnel | B25: 0 | C25: 0 | D25: 0 | E25: 0 | F25: 0 | G25: 0 | H25: 0 | I25: 0 | J25: 0 | K25: 0 | L25: 0 | M25: 0 | N25: =ROUND(SUM(B25:M25),0) -> 0 | O25: =IF((N25-Budget!B63)<2,IF((N25-Budget!B63)>-2,"Yes","No"),"No") -> Yes
A26: =Budget!A64 -> Office Manager | B26: 0 | C26: 0 | D26: 0 | E26: 0 | F26: 0 | G26: 0 | H26: 0 | I26: 0 | J26: 0 | K26: 0 | L26: 0 | M26: 0 | N26: =ROUND(SUM(B26:M26),0) -> 0 | O26: =IF((N26-Budget!B64)<2,IF((N26-Budget!B64)>-2,"Yes","No"),"No") -> Yes
A27: =Budget!A65 -> Office Assistant | B27: 0 | C27: 0 | D27: 0 | E27: 0 | F27: 0 | G27: 0 | H27: 0 | I27: 0 | J27: 0 | K27: 0 | L27: 0 | M27: 0 | N27: =ROUND(SUM(B27:M27),0) -> 0 | O27: =IF((N27-Budget!B65)<2,IF((N27-Budget!B65)>-2,"Yes","No"),"No") -> Yes
A28: =Budget!A66 -> Business Manager | B28: 0 | C28: 0 | D28: 0 | E28: 0 | F28: 0 | G28: 0 | H28: 0 | I28: 0 | J28: 0 | K28: 0 | L28: 0 | M28: 0 | N28: =ROUND(SUM(B28:M28),0) -> 0 | O28: =IF((N28-Budget!B66)<2,IF((N28-Budget!B66)>-2,"Yes","No"),"No") -> Yes
A29: =Budget!A67 -> Maintenance Personnel | B29: 0 | C29: 0 | D29: 0 | E29: 0 | F29: 0 | G29: 0 | H29: 0 | I29: 0 | J29: 0 | K29: 0 | L29: 0 | M29: 0 | N29: =ROUND(SUM(B29:M29),0) -> 0 | O29: =IF((N29-Budget!B67)<2,IF((N29-Budget!B67)>-2,"Yes","No"),"No") -> Yes
A30: =Budget!A68 -> Food Service Personnel | B30: 0 | C30: 0 | D30: 0 | E30: 0 | F30: 0 | G30: 0 | H30: 0 | I30: 0 | J30: 0 | K30: 0 | L30: 0 | M30: 0 | N30: =ROUND(SUM(B30:M30),0) -> 0 | O30: =IF((N30-Budget!B68)<2,IF((N30-Budget!B68)>-2,"Yes","No"),"No") -> Yes
... A35: =Budget!A73 -> Endorsement/Incentive Increases | B35: 0 | C35: 0 | D35: 0 | E35: 0 | F35: 0 | G35: 0 | H35: 0 | I35: 0 | J35: 0 | K35: 0 | L35: 0 | M35: 0 | N35: =ROUND(SUM(B35:M35),0) -> 0 | O35: =IF((N35-Budget!B73)<2,IF((N35-Budget!B73)>-2,"Yes","No"),"No") -> Yes
A36: =Budget!A74 -> 0 | N36: =ROUND(SUM(B36:M36),0) -> 0 | O36: =IF((N36-Budget!B74)<2,IF((N36-Budget!B74)>-2,"Yes","No"),"No") -> Yes
A37: =Budget!A75 -> Total Personnel Expenses | B37: =SUM(B19:B36) -> 0 | C37: =SUM(C19:C36) -> 0 | D37: =SUM(D19:D36) -> 0 | E37: =SUM(E19:E36) -> 0 | F37: =SUM(F19:F36) -> 0 | G37: =SUM(G19:G36) -> 0 | H37: =SUM(H19:H36) -> 0 | I37: =SUM(I19:I36) -> 0 | ... M37: =SUM(M19:M36) -> 0 | N37: =ROUND(SUM(B37:M37),0) -> 0 | O37: =IF((N37-Budget!B75)<2,IF((N37-Budget!B75)>-2,"Yes","No"),"No") -> Yes
A38: =Budget!A76 -> Instructional
A39: =Budget!A77 -> Textbooks | B39: 0 | C39: 0 | D39: 0 | E39: 0 | F39: 0 | G39: 0 | H39: 0 | I39: 0 | J39: 0 | K39: 0 | L39: 0 | M39: 0 | N39: =ROUND(SUM(B39:M39),0) -> 0 | O39: =IF((N39-Budget!B77)<2,IF((N39-Budget!B77)>-2,"Yes","No"),"No") -> Yes
A40: =Budget!A78 -> Classroom Supplies | B40: 0 | C40: 0 | D40: 0 | E40: 0 | F40: 0 | G40: 0 | H40: 0 | I40: 0 | J40: 0 | K40: 0 | L40: 0 | M40: 0 | N40: =ROUND(SUM(B40:M40),0) -> 0 | O40: =IF((N40-Budget!B78)<2,IF((N40-Budget!B78)>-2,"Yes","No"),"No") -> Yes
A41: =Budget!A79 -> Computers | B41: 0 | C41: 0 | D41: 0 | E41: 0 | F41: 0 | G41: 0 | H41: 0 | I41: 0 | J41: 0 | K41: 0 | L41: 0 | M41: 0 | N41: =ROUND(SUM(B41:M41),0) -> 0 | O41: =IF((N41-Budget!B79)<2,IF((N41-Budget!B79)>-2,"Yes","No"),"No") -> Yes
A42: =Budget!A80 -> Software | B42: 0 | C42: 0 | D42: 0 | E42: 0 | F42: 0 | G42: 0 | H42: 0 | I42: 0 | J42: 0 | K42: 0 | L42: 0 | M42: 0 | N42: =ROUND(SUM(B42:M42),0) -> 0 | O42: =IF((N42-Budget!B80)<2,IF((N42-Budget!B80)>-2,"Yes","No"),"No") -> Yes
A43: =Budget!A81 -> Field Trips | B43: 0 | C43: 0 | D43: 0 | E43: 0 | F43: 0 | G43: 0 | H43: 0 | I43: 0 | J43: 0 | K43: 0 | L43: 0 | M43: 0 | N43: =ROUND(SUM(B43:M43),0) -> 0 | O43: =IF((N43-Budget!B81)<2,IF((N43-Budget!B81)>-2,"Yes","No"),"No") -> Yes
A44: =Budget!A82 -> Instructional Equipment | B44: 0 | C44: 0 | D44: 0 | E44: 0 | F44: 0 | G44: 0 | H44: 0 | I44: 0 | J44: 0 | K44: 0 | L44: 0 | M44: 0 | N44: =ROUND(SUM(B44:M44),0) -> 0 | O44: =IF((N44-Budget!B82)<2,IF((N44-Budget!B82)>-2,"Yes","No"),"No") -> Yes
A45: =Budget!A83 -> Library and Media Center | B45: 0 | C45: 0 | D45: 0 | E45: 0 | F45: 0 | G45: 0 | H45: 0 | I45: 0 | J45: 0 | K45: 0 | L45: 0 | M45: 0 | N45: =ROUND(SUM(B45:M45),0) -> 0 | O45: =IF((N45-Budget!B83)<2,IF((N45-Budget!B83)>-2,"Yes","No"),"No") -> Yes
...

Sheet Cash Flow Projection Yr 1
A1: =IF(ISBLANK(+Budget!A2),"",Budget!A2) -> 100% Budget | B1: CASH FLOW PROJECTION YEAR 1
A2: =Budget!A1 -> Liberty Leadership Academy | B2: Jul | C2: Aug | D2: Sep | E2: Oct | F2: Nov | G2: Dec | H2: Jan | I2: Feb | J2: Mar | K2: Apr | L2: May | M2: Jun | N2: Total | O2: Equal to Corresponding Line in Budget tab?
A4: Beginning Operating Cash Balance: | B4: ='Cash Balances'!C5 -> 3400 | C4: =B99 -> 18258.233 | D4: =C99 -> 9623.6939 | E4: =D99 -> 4922.6545 | F4: =E99 -> 3579.1152 | G4: =F99 -> 3240.0758 | H4: =G99 -> 4560.5364 | I4: =H99 -> 2726.997 | J4: =I99 -> 1109.9576 | ... M4: =L99 -> 157.83939
A5: REVENUES
A6: =+Budget!A43 -> Total State Funding | B6: =Budget!$C$43/12 -> 92630.75 | C6: =Budget!$C$43/12 -> 92630.75 | D6: =Budget!$C$43/12 -> 92630.75 | E6: =Budget!$C$43/12 -> 92630.75 | F6: =Budget!$C$43/12 -> 92630.75 | G6: =Budget!$C$43/12 -> 92630.75 | H6: =Budget!$C$43/12 -> 92630.75 | I6: =Budget!$C$43/12 -> 92630.75 | ... M6: =Budget!$C$43/12 -> 92630.75 | N6: =ROUND(SUM(B6:M6),0) -> 1111569 | O6: =IF((N6-Budget!C43)<2,IF((N6-Budget!C43)>-2,"Yes","No"),"No") -> Yes
A7: =Budget!A45 -> Meal Fees (Recd fr Students) | N7: =ROUND(SUM(B7:M7),0) -> 0 | O7: =IF((N7-Budget!C45)<2,IF((N7-Budget!C45)>-2,"Yes","No"),"No") -> Yes
A8: =Budget!A46 -> 0 | N8: =ROUND(SUM(B8:M8),0) -> 0 | O8: =IF((N8-Budget!C46)<2,IF((N8-Budget!C46)>-2,"Yes","No"),"No") -> Yes
A9: =Budget!A47 -> Donations | N9: =ROUND(SUM(B9:M9),0) -> 0 | O9: =IF((N9-Budget!C47)<2,IF((N9-Budget!C47)>-2,"Yes","No"),"No") -> Yes
A10: =Budget!A48 -> 0 | N10: =ROUND(SUM(B10:M10),0) -> 0 | O10: =IF((N10-Budget!C48)<2,IF((N10-Budget!C48)>-2,"Yes","No"),"No") -> Yes
A11: =Budget!A49 -> 0 | N11: =ROUND(SUM(B11:M11),0) -> 0 | O11: =IF((N11-Budget!C49)<2,IF((N11-Budget!C49)>-2,"Yes","No"),"No") -> Yes
A12: =Budget!A50 -> Grants | N12: =ROUND(SUM(B12:M12),0) -> 0 | O12: =IF((N12-Budget!C50)<2,IF((N12-Budget!C50)>-2,"Yes","No"),"No") -> Yes
A13: =Budget!A51 -> 0 | N13: =ROUND(SUM(B13:M13),0) -> 0 | O13: =IF((N13-Budget!C51)<2,IF((N13-Budget!C51)>-2,"Yes","No"),"No") -> Yes
A14: =Budget!A52 -> 0 | N14: =ROUND(SUM(B14:M14),0) -> 0 | O14: =IF((N14-Budget!C52)<2,IF((N14-Budget!C52)>-2,"Yes","No"),"No") -> Yes
A15: =Budget!A53 -> 0 | N15: =ROUND(SUM(B15:M15),0) -> 0 | O15: =IF((N15-Budget!C53)<2,IF((N15-Budget!C53)>-2,"Yes","No"),"No") -> Yes
A16: TOTAL REVENUE RECEIPTS | B16: =SUM(B6:B15) -> 92630.75 | C16: =SUM(C6:C15) -> 92630.75 | D16: =SUM(D6:D15) -> 92630.75 | E16: =SUM(E6:E15) -> 92630.75 | F16: =SUM(F6:F15) -> 92630.75 | G16: =SUM(G6:G15) -> 92630.75 | H16: =SUM(H6:H15) -> 92630.75 | I16: =SUM(I6:I15) -> 92630.75 | ... M16: =SUM(M6:M15) -> 92630.75 | N16: =ROUND(SUM(B16:M16),2) -> 1111569 | O16: =IF((N16-Budget!C54)<2,IF((N16-Budget!C54)>-2,"Yes","No"),"No") -> Yes
A17: EXPENSES
A18: =Budget!A56 -> Personnel
A19: =Budget!A57 -> Principal | B19: =Budget!C57/12 -> 7250 | C19: =B19 -> 7250 | D19: =C19 -> 7250 | E19: =D19 -> 7250 | F19: =E19 -> 7250 | G19: =F19 -> 7250 | H19: =G19 -> 7250 | I19: =H19 -> 7250 | J19: =I19 -> 7250 | ... M19: =L19 -> 7250 | N19: =ROUND(SUM(B19:M19),0) -> 87000 | O19: =IF((N19-Budget!C57)<2,IF((N19-Budget!C57)>-2,"Yes","No"),"No") -> Yes
A20: =Budget!A58 -> Other Administrators (Asst. Principal, Curriculum Director…) | B20: =Budget!C58/12 -> 2916.6667 | C20: =B20 -> 2916.6667 | D20: =C20 -> 2916.6667 | E20: =D20 -> 2916.6667 | F20: =E20 -> 2916.6667 | G20: =F20 -> 2916.6667 | H20: =G20 -> 2916.6667 | I20: =H20 -> 2916.6667 | J20: =I20 -> 2916.6667 | ... M20: =L20 -> 2916.6667 | N20: =ROUND(SUM(B20:M20),0) -> 35000 | O20: =IF((N20-Budget!C58)<2,IF((N20-Budget!C58)>-2,"Yes","No"),"No") -> Yes
A21: =Budget!A59 -> Teachers | B21: =Budget!C59/12 -> 18333.333 | C21: =B21 -> 18333.333 | D21: =C21 -> 18333.333 | E21: =D21 -> 18333.333 | F21: =E21 -> 18333.333 | G21: =F21 -> 18333.333 | H21: =G21 -> 18333.333 | I21: =H21 -> 18333.333 | J21: =I21 -> 18333.333 | ... M21: =L21 -> 18333.333 | N21: =ROUND(SUM(B21:M21),0) -> 220000 | O21: =IF((N21-Budget!C59)<2,IF((N21-Budget!C59)>-2,"Yes","No"),"No") -> Yes
A22: =Budget!A60 -> Arts/PE/Connections Teachers | B22: =Budget!C60/12 -> 3916.6667 | C22: =B22 -> 3916.6667 | D22: =C22 -> 3916.6667 | E22: =D22 -> 3916.6667 | F22: =E22 -> 3916.6667 | G22: =F22 -> 3916.6667 | H22: =G22 -> 3916.6667 | I22: =H22 -> 3916.6667 | J22: =I22 -> 3916.6667 | ... M22: =L22 -> 3916.6667 | N22: =ROUND(SUM(B22:M22),0) -> 47000 | O22: =IF((N22-Budget!C60)<2,IF((N22-Budget!C60)>-2,"Yes","No"),"No") -> Yes
A23: =Budget!A61 -> Athletics/Extracurricular Coaches | B23: =Budget!C61/12 -> 0 | C23: =B23 -> 0 | D23: =C23 -> 0 | E23: =D23 -> 0 | F23: =E23 -> 0 | G23: =F23 -> 0 | H23: =G23 -> 0 | I23: =H23 -> 0 | J23: =I23 -> 0 | ... M23: =L23 -> 0 | N23: =ROUND(SUM(B23:M23),0) -> 0 | O23: =IF((N23-Budget!C61)<2,IF((N23-Budget!C61)>-2,"Yes","No"),"No") -> Yes
A24: =Budget!A62 -> Guidance Counselors | B24: =Budget!C62/12 -> 0 | C24: =B24 -> 0 | D24: =C24 -> 0 | E24: =D24 -> 0 | F24: =E24 -> 0 | G24: =F24 -> 0 | H24: =G24 -> 0 | I24: =H24 -> 0 | J24: =I24 -> 0 | ... M24: =L24 -> 0 | N24: =ROUND(SUM(B24:M24),0) -> 0 | O24: =IF((N24-Budget!C62)<2,IF((N24-Budget!C62)>-2,"Yes","No"),"No") -> Yes
A25: =Budget!A63 -> Special Education Personnel | B25: =Budget!C63/12 -> 4666.6667 | C25: =B25 -> 4666.6667 | D25: =C25 -> 4666.6667 | E25: =D25 -> 4666.6667 | F25: =E25 -> 4666.6667 | G25: =F25 -> 4666.6667 | H25: =G25 -> 4666.6667 | I25: =H25 -> 4666.6667 | J25: =I25 -> 4666.6667 | ... M25: =L25 -> 4666.6667 | N25: =ROUND(SUM(B25:M25),0) -> 56000 | O25: =IF((N25-Budget!C63)<2,IF((N25-Budget!C63)>-2,"Yes","No"),"No") -> Yes
A26: =Budget!A64 -> Office Manager | B26: =Budget!C64/12 -> 1833.3333 | C26: =B26 -> 1833.3333 | D26: =C26 -> 1833.3333 | E26: =D26 -> 1833.3333 | F26: =E26 -> 1833.3333 | G26: =F26 -> 1833.3333 | H26: =G26 -> 1833.3333 | I26: =H26 -> 1833.3333 | J26: =I26 -> 1833.3333 | ... M26: =L26 -> 1833.3333 | N26: =ROUND(SUM(B26:M26),0) -> 22000 | O26: =IF((N26-Budget!C64)<2,IF((N26-Budget!C64)>-2,"Yes","No"),"No") -> Yes
A27: =Budget!A65 -> Office Assistant | B27: 0 | C27: =Budget!C65/11 -> 1963.6364 | D27: =C27 -> 1963.6364 | E27: =D27 -> 1963.6364 | F27: =E27 -> 1963.6364 | G27: =F27 -> 1963.6364 | H27: =G27 -> 1963.6364 | I27: =H27 -> 1963.6364 | J27: =I27 -> 1963.6364 | K27: =J27 -> 1963.6364 | ... M27: =L27 -> 1963.6364 | N27: =ROUND(SUM(B27:M27),0) -> 21600 | O27: =IF((N27-Budget!C65)<2,IF((N27-Budget!C65)>-2,"Yes","No"),"No") -> Yes
A28: =Budget!A66 -> Business Manager | B28: 0 | C28: =Budget!C66/11 -> 3454.5455 | D28: =C28 -> 3454.5455 | E28: =D28 -> 3454.5455 | F28: =E28 -> 3454.5455 | G28: =F28 -> 3454.5455 | H28: =G28 -> 3454.5455 | I28: =H28 -> 3454.5455 | J28: =I28 -> 3454.5455 | K28: =J28 -> 3454.5455 | ... M28: =L28 -> 3454.5455 | N28: =ROUND(SUM(B28:M28),0) -> 38000 | O28: =IF((N28-Budget!C66)<2,IF((N28-Budget!C66)>-2,"Yes","No"),"No") -> Yes
A29: =Budget!A67 -> Maintenance Personnel | B29: =Budget!C67/12 -> 0 | C29: =B29 -> 0 | D29: =C29 -> 0 | E29: =D29 -> 0 | F29: =E29 -> 0 | G29: =F29 -> 0 | H29: =G29 -> 0 | I29: =H29 -> 0 | J29: =I29 -> 0 | ... M29: =L29 -> 0 | N29: =ROUND(SUM(B29:M29),0) -> 0 | O29: =IF((N29-Budget!C67)<2,IF((N29-Budget!C67)>-2,"Yes","No"),"No") -> Yes
A30: =Budget!A68 -> Food Service Personnel | B30: 0 | C30: =Budget!C68/11 -> 90.909091 | D30: =C30 -> 90.909091 | E30: =D30 -> 90.909091 | F30: =E30 -> 90.909091 | G30: =F30 -> 90.909091 | H30: =G30 -> 90.909091 | I30: =H30 -> 90.909091 | J30: =I30 -> 90.909091 | K30: =J30 -> 90.909091 | ... M30: =L30 -> 90.909091 | N30: =ROUND(SUM(B30:M30),0) -> 1000 | O30: =IF((N30-Budget!C68)<2,IF((N30-Budget!C68)>-2,"Yes","No"),"No") -> Yes
A31: =Budget!A69 -> Retirement Benefits - Membership in TRS is required for teachers. (FY23 rate=19.98%, recent yrs have been in this range) | B31: =Budget!C69/12 -> 5377.95 | C31: =B31 -> 5377.95 | D31: =C31 -> 5377.95 | E31: =D31 -> 5377.95 | F31: =E31 -> 5377.95 | G31: =F31 -> 5377.95 | H31: =G31 -> 5377.95 | I31: =H31 -> 5377.95 | J31: =I31 -> 5377.95 | ... M31: =L31 -> 5377.95 | N31: =ROUND(SUM(B31:M31),0) -> 64535 | O31: =IF((N31-Budget!C69)<2,IF((N31-Budget!C69)>-2,"Yes","No"),"No") -> Yes
A32: =Budget!A70 -> Health Benefits | B32: =Budget!C70/12 -> 4125 | C32: =B32 -> 4125 | D32: =C32 -> 4125 | E32: =D32 -> 4125 | F32: =E32 -> 4125 | G32: =F32 -> 4125 | H32: =G32 -> 4125 | I32: =H32 -> 4125 | J32: =I32 -> 4125 | ... M32: =L32 -> 4125 | N32: =ROUND(SUM(B32:M32),0) -> 49500 | O32: =IF((N32-Budget!C70)<2,IF((N32-Budget!C70)>-2,"Yes","No"),"No") -> Yes
A33: =Budget!A71 -> FICA (OASDI 6.2%, HI 1.45%) | B33: =Budget!C71/12 -> 3357.075 | C33: =B33 -> 3357.075 | D33: =C33 -> 3357.075 | E33: =D33 -> 3357.075 | F33: =E33 -> 3357.075 | G33: =F33 -> 3357.075 | H33: =G33 -> 3357.075 | I33: =H33 -> 3357.075 | J33: =I33 -> 3357.075 | ... M33: =L33 -> 3357.075 | N33: =ROUND(SUM(B33:M33),0) -> 40285 | O33: =IF((N33-Budget!C71)<2,IF((N33-Budget!C71)>-2,"Yes","No"),"No") -> Yes
A34: =Budget!A72 -> Other Payroll Expenses/Taxes | B34: =Budget!C72/12 -> 0 | C34: =B34 -> 0 | D34: =C34 -> 0 | E34: =D34 -> 0 | F34: =E34 -> 0 | G34: =F34 -> 0 | H34: =G34 -> 0 | I34: =H34 -> 0 | J34: =I34 -> 0 | ... M34: =L34 -> 0 | N34: =ROUND(SUM(B34:M34),0) -> 0 | O34: =IF((N34-Budget!C72)<2,IF((N34-Budget!C72)>-2,"Yes","No"),"No") -> Yes
A35: =Budget!A73 -> Endorsement/Incentive Increases | B35: =Budget!C73/12 -> 0 | C35: =B35 -> 0 | D35: =C35 -> 0 | E35: =D35 -> 0 | F35: =E35 -> 0 | G35: =F35 -> 0 | H35: =G35 -> 0 | I35: =H35 -> 0 | J35: =I35 -> 0 | ... M35: =L35 -> 0 | N35: =ROUND(SUM(B35:M35),0) -> 0 | O35: =IF((N35-Budget!C73)<2,IF((N35-Budget!C73)>-2,"Yes","No"),"No") -> Yes
A36: =Budget!A74 -> 0 | N36: =ROUND(SUM(B36:M36),0) -> 0 | O36: =IF((N36-Budget!C74)<2,IF((N36-Budget!C74)>-2,"Yes","No"),"No") -> Yes
A37: =Budget!A75 -> Total Personnel Expenses | B37: =SUM(B19:B36) -> 51776.692 | C37: =SUM(C19:C36) -> 57285.783 | D37: =SUM(D19:D36) -> 57285.783 | E37: =SUM(E19:E36) -> 57285.783 | F37: =SUM(F19:F36) -> 57285.783 | G37: =SUM(G19:G36) -> 57285.783 | H37: =SUM(H19:H36) -> 57285.783 | I37: =SUM(I19:I36) -> 57285.783 | ... M37: =SUM(M19:M36) -> 57285.783 | N37: =ROUND(SUM(B37:M37),0) -> 681920 | O37: =IF((N37-Budget!C75)<3,IF((N37-Budget!C75)>-3,"Yes","No"),"No") -> Yes
A38: =Budget!A76 -> Instructional
A39: =Budget!A77 -> Textbooks | B39: 0 | C39: 100 | D39: 100 | E39: 100 | F39: 250 | G39: 250 | H39: 300 | I39: 300 | J39: 400 | K39: 360 | L39: 0 | M39: 0 | N39: =ROUND(SUM(B39:M39),0) -> 2160 | O39: =IF((N39-Budget!C77)<2,IF((N39-Budget!C77)>-2,"Yes","No"),"No") -> Yes
A40: =Budget!A78 -> Classroom Supplies | B40: 350 | C40: 350 | D40: 300 | E40: 300 | F40: 500 | G40: 500 | H40: 500 | I40: 450 | J40: 300 | K40: 1000 | L40: 450 | M40: 400 | N40: =ROUND(SUM(B40:M40),0) -> 5400 | O40: =IF((N40-Budget!C78)<2,IF((N40-Budget!C78)>-2,"Yes","No"),"No") -> Yes
A41: =Budget!A79 -> Computers | B41: 4320 | C41: 4320 | D41: 4320 | E41: 0 | F41: 0 | G41: 0 | H41: 0 | I41: 0 | J41: 0 | K41: 0 | L41: 0 | M41: 0 | N41: =ROUND(SUM(B41:M41),0) -> 12960 | O41: =IF((N41-Budget!C79)<2,IF((N41-Budget!C79)>-2,"Yes","No"),"No") -> Yes
...

Sheet Cash Flow Projection Yr 2
A1: =IF(ISBLANK(+Budget!A2),"",Budget!A2) -> 100% Budget | B1: CASH FLOW PROJECTION YEAR 2
A2: =Budget!A1 -> Liberty Leadership Academy | B2: Jul | C2: Aug | D2: Sep | E2: Oct | F2: Nov | G2: Dec | H2: Jan | I2: Feb | J2: Mar | K2: Apr | L2: May | M2: Jun | N2: Total | O2: Equal to Corresponding Line in Budget tab?
A4: Beginning Operating Cash Balance: | B4: ='Cash Balances'!D5 -> 12083 | C4: =B99 -> 59343.438 | D4: =C99 -> 64403.194 | E4: =D99 -> 85980.451 | F4: =E99 -> 120082.21 | G4: =F99 -> 154761.46 | H4: =G99 -> 189150.22 | I4: =H99 -> 215088.98 | J4: =I99 -> 248498.23 | ... M4: =L99 -> 345588
A5: REVENUES
A6: =+Budget!A43 -> Total State Funding | B6: =Budget!$D$43/12 -> 173258.5 | C6: =Budget!$D$43/12 -> 173258.5 | D6: =Budget!$D$43/12 -> 173258.5 | E6: =Budget!$D$43/12 -> 173258.5 | F6: =Budget!$D$43/12 -> 173258.5 | G6: =Budget!$D$43/12 -> 173258.5 | H6: =Budget!$D$43/12 -> 173258.5 | I6: =Budget!$D$43/12 -> 173258.5 | ... M6: =Budget!$D$43/12 -> 173258.5 | N6: =ROUND(SUM(B6:M6),0) -> 2079102 | O6: =IF((N6-Budget!D43)<2,IF((N6-Budget!D43)>-2,"Yes","No"),"No") -> Yes
A7: =Budget!A45 -> Meal Fees (Recd fr Students) | N7: =ROUND(SUM(B7:M7),0) -> 0 | O7: =IF((N7-Budget!D45)<2,IF((N7-Budget!D45)>-2,"Yes","No"),"No") -> Yes
A8: =Budget!A46 -> 0 | N8: =ROUND(SUM(B8:M8),0) -> 0 | O8: =IF((N8-Budget!D46)<2,IF((N8-Budget!D46)>-2,"Yes","No"),"No") -> Yes
A9: =Budget!A47 -> Donations | N9: =ROUND(SUM(B9:M9),0) -> 0 | O9: =IF((N9-Budget!D47)<2,IF((N9-Budget!D47)>-2,"Yes","No"),"No") -> Yes
A10: =Budget!A48 -> 0 | N10: =ROUND(SUM(B10:M10),0) -> 0 | O10: =IF((N10-Budget!D48)<2,IF((N10-Budget!D48)>-2,"Yes","No"),"No") -> Yes
A11: =Budget!A49 -> 0 | N11: =ROUND(SUM(B11:M11),0) -> 0 | O11: =IF((N11-Budget!D49)<2,IF((N11-Budget!D49)>-2,"Yes","No"),"No") -> Yes
A12: =Budget!A50 -> Grants | N12: =ROUND(SUM(B12:M12),0) -> 0 | O12: =IF((N12-Budget!D50)<2,IF((N12-Budget!D50)>-2,"Yes","No"),"No") -> Yes
A13: =Budget!A51 -> 0 | N13: =ROUND(SUM(B13:M13),0) -> 0 | O13: =IF((N13-Budget!D51)<2,IF((N13-Budget!D51)>-2,"Yes","No"),"No") -> Yes
A14: =Budget!A52 -> 0 | N14: =ROUND(SUM(B14:M14),0) -> 0 | O14: =IF((N14-Budget!D52)<2,IF((N14-Budget!D52)>-2,"Yes","No"),"No") -> Yes
A15: =Budget!A53 -> 0 | N15: =ROUND(SUM(B15:M15),0) -> 0 | O15: =IF((N15-Budget!D53)<2,IF((N15-Budget!D53)>-2,"Yes","No"),"No") -> Yes
A16: TOTAL REVENUE RECEIPTS | B16: =SUM(B6:B15) -> 173258.5 | C16: =SUM(C6:C15) -> 173258.5 | D16: =SUM(D6:D15) -> 173258.5 | E16: =SUM(E6:E15) -> 173258.5 | F16: =SUM(F6:F15) -> 173258.5 | G16: =SUM(G6:G15) -> 173258.5 | H16: =SUM(H6:H15) -> 173258.5 | I16: =SUM(I6:I15) -> 173258.5 | ... M16: =SUM(M6:M15) -> 173258.5 | N16: =ROUND(SUM(B16:M16),2) -> 2079102 | O16: =IF((N16-Budget!D54)<2,IF((N16-Budget!D54)>-2,"Yes","No"),"No") -> Yes
A17: EXPENSES
A18: =Budget!A56 -> Personnel
A19: =Budget!A57 -> Principal | B19: =Budget!D57/12 -> 7431.25 | C19: =B19 -> 7431.25 | D19: =C19 -> 7431.25 | E19: =D19 -> 7431.25 | F19: =E19 -> 7431.25 | G19: =F19 -> 7431.25 | H19: =G19 -> 7431.25 | I19: =H19 -> 7431.25 | J19: =I19 -> 7431.25 | ... M19: =L19 -> 7431.25 | N19: =ROUND(SUM(B19:M19),0) -> 89175 | O19: =IF((N19-Budget!D57)<2,IF((N19-Budget!D57)>-2,"Yes","No"),"No") -> Yes
A20: =Budget!A58 -> Other Administrators (Asst. Principal, Curriculum Director…) | B20: =Budget!D58/12 -> 3004.1667 | C20: =B20 -> 3004.1667 | D20: =C20 -> 3004.1667 | E20: =D20 -> 3004.1667 | F20: =E20 -> 3004.1667 | G20: =F20 -> 3004.1667 | H20: =G20 -> 3004.1667 | I20: =H20 -> 3004.1667 | J20: =I20 -> 3004.1667 | ... M20: =L20 -> 3004.1667 | N20: =ROUND(SUM(B20:M20),0) -> 36050 | O20: =IF((N20-Budget!D58)<2,IF((N20-Budget!D58)>-2,"Yes","No"),"No") -> Yes
A21: =Budget!A59 -> Teachers | B21: =Budget!D59/12 -> 37766.667 | C21: =B21 -> 37766.667 | D21: =C21 -> 37766.667 | E21: =D21 -> 37766.667 | F21: =E21 -> 37766.667 | G21: =F21 -> 37766.667 | H21: =G21 -> 37766.667 | I21: =H21 -> 37766.667 | J21: =I21 -> 37766.667 | ... M21: =L21 -> 37766.667 | N21: =ROUND(SUM(B21:M21),0) -> 453200 | O21: =IF((N21-Budget!D59)<2,IF((N21-Budget!D59)>-2,"Yes","No"),"No") -> Yes
A22: =Budget!A60 -> Arts/PE/Connections Teachers | B22: =Budget!D60/12 -> 6051.25 | C22: =B22 -> 6051.25 | D22: =C22 -> 6051.25 | E22: =D22 -> 6051.25 | F22: =E22 -> 6051.25 | G22: =F22 -> 6051.25 | H22: =G22 -> 6051.25 | I22: =H22 -> 6051.25 | J22: =I22 -> 6051.25 | ... M22: =L22 -> 6051.25 | N22: =ROUND(SUM(B22:M22),0) -> 72615 | O22: =IF((N22-Budget!D60)<2,IF((N22-Budget!D60)>-2,"Yes","No"),"No") -> Yes
A23: =Budget!A61 -> Athletics/Extracurricular Coaches | B23: =Budget!D61/12 -> 0 | C23: =B23 -> 0 | D23: =C23 -> 0 | E23: =D23 -> 0 | F23: =E23 -> 0 | G23: =F23 -> 0 | H23: =G23 -> 0 | I23: =H23 -> 0 | J23: =I23 -> 0 | ... M23: =L23 -> 0 | N23: =ROUND(SUM(B23:M23),0) -> 0 | O23: =IF((N23-Budget!D61)<2,IF((N23-Budget!D61)>-2,"Yes","No"),"No") -> Yes
A24: =Budget!A62 -> Guidance Counselors | B24: =Budget!D62/12 -> 0 | C24: =B24 -> 0 | D24: =C24 -> 0 | E24: =D24 -> 0 | F24: =E24 -> 0 | G24: =F24 -> 0 | H24: =G24 -> 0 | I24: =H24 -> 0 | J24: =I24 -> 0 | ... M24: =L24 -> 0 | N24: =ROUND(SUM(B24:M24),0) -> 0 | O24: =IF((N24-Budget!D62)<2,IF((N24-Budget!D62)>-2,"Yes","No"),"No") -> Yes
A25: =Budget!A63 -> Special Education Personnel | B25: =Budget!D63/12 -> 4806.6667 | C25: =B25 -> 4806.6667 | D25: =C25 -> 4806.6667 | E25: =D25 -> 4806.6667 | F25: =E25 -> 4806.6667 | G25: =F25 -> 4806.6667 | H25: =G25 -> 4806.6667 | I25: =H25 -> 4806.6667 | J25: =I25 -> 4806.6667 | ... M25: =L25 -> 4806.6667 | N25: =ROUND(SUM(B25:M25),0) -> 57680 | O25: =IF((N25-Budget!D63)<2,IF((N25-Budget!D63)>-2,"Yes","No"),"No") -> Yes
A26: =Budget!A64 -> Office Manager | B26: =Budget!D64/12 -> 3776.6667 | C26: =B26 -> 3776.6667 | D26: =C26 -> 3776.6667 | E26: =D26 -> 3776.6667 | F26: =E26 -> 3776.6667 | G26: =F26 -> 3776.6667 | H26: =G26 -> 3776.6667 | I26: =H26 -> 3776.6667 | J26: =I26 -> 3776.6667 | ... M26: =L26 -> 3776.6667 | N26: =ROUND(SUM(B26:M26),0) -> 45320 | O26: =IF((N26-Budget!D64)<2,IF((N26-Budget!D64)>-2,"Yes","No"),"No") -> Yes
A27: =Budget!A65 -> Office Assistant | B27: 0 | C27: =Budget!D65/11 -> 2022.5455 | D27: =C27 -> 2022.5455 | E27: =D27 -> 2022.5455 | F27: =E27 -> 2022.5455 | G27: =F27 -> 2022.5455 | H27: =G27 -> 2022.5455 | I27: =H27 -> 2022.5455 | J27: =I27 -> 2022.5455 | K27: =J27 -> 2022.5455 | ... M27: =L27 -> 2022.5455 | N27: =ROUND(SUM(B27:M27),0) -> 22248 | O27: =IF((N27-Budget!D65)<2,IF((N27-Budget!D65)>-2,"Yes","No"),"No") -> Yes
A28: =Budget!A66 -> Business Manager | B28: 0 | C28: =Budget!D66/11 -> 3558.1818 | D28: =C28 -> 3558.1818 | E28: =D28 -> 3558.1818 | F28: =E28 -> 3558.1818 | G28: =F28 -> 3558.1818 | H28: =G28 -> 3558.1818 | I28: =H28 -> 3558.1818 | J28: =I28 -> 3558.1818 | K28: =J28 -> 3558.1818 | ... M28: =L28 -> 3558.1818 | N28: =ROUND(SUM(B28:M28),0) -> 39140 | O28: =IF((N28-Budget!D66)<2,IF((N28-Budget!D66)>-2,"Yes","No"),"No") -> Yes
A29: =Budget!A67 -> Maintenance Personnel | B29: =Budget!D67/12 -> 0 | C29: =B29 -> 0 | D29: =C29 -> 0 | E29: =D29 -> 0 | F29: =E29 -> 0 | G29: =F29 -> 0 | H29: =G29 -> 0 | I29: =H29 -> 0 | J29: =I29 -> 0 | ... M29: =L29 -> 0 | N29: =ROUND(SUM(B29:M29),0) -> 0 | O29: =IF((N29-Budget!D67)<2,IF((N29-Budget!D67)>-2,"Yes","No"),"No") -> Yes
A30: =Budget!A68 -> Food Service Personnel | B30: 0 | C30: =Budget!D68/11 -> 90.909091 | D30: =C30 -> 90.909091 | E30: =D30 -> 90.909091 | F30: =E30 -> 90.909091 | G30: =F30 -> 90.909091 | H30: =G30 -> 90.909091 | I30: =H30 -> 90.909091 | J30: =I30 -> 90.909091 | K30: =J30 -> 90.909091 | ... M30: =L30 -> 90.909091 | N30: =ROUND(SUM(B30:M30),0) -> 1000 | O30: =IF((N30-Budget!D68)<2,IF((N30-Budget!D68)>-2,"Yes","No"),"No") -> Yes
A31: =Budget!A69 -> Retirement Benefits - Membership in TRS is required for teachers. (FY23 rate=19.98%, recent yrs have been in this range) | B31: =Budget!D69/12 -> 9715.1917 | C31: =B31 -> 9715.1917 | D31: =C31 -> 9715.1917 | E31: =D31 -> 9715.1917 | F31: =E31 -> 9715.1917 | G31: =F31 -> 9715.1917 | H31: =G31 -> 9715.1917 | I31: =H31 -> 9715.1917 | J31: =I31 -> 9715.1917 | ... M31: =L31 -> 9715.1917 | N31: =ROUND(SUM(B31:M31),0) -> 116582 | O31: =IF((N31-Budget!D69)<2,IF((N31-Budget!D69)>-2,"Yes","No"),"No") -> Yes
A32: =Budget!A70 -> Health Benefits | B32: =Budget!D70/12 -> 5958.3333 | C32: =B32 -> 5958.3333 | D32: =C32 -> 5958.3333 | E32: =D32 -> 5958.3333 | F32: =E32 -> 5958.3333 | G32: =F32 -> 5958.3333 | H32: =G32 -> 5958.3333 | I32: =H32 -> 5958.3333 | J32: =I32 -> 5958.3333 | ... M32: =L32 -> 5958.3333 | N32: =ROUND(SUM(B32:M32),0) -> 71500 | O32: =IF((N32-Budget!D70)<2,IF((N32-Budget!D70)>-2,"Yes","No"),"No") -> Yes
A33: =Budget!A71 -> FICA (OASDI 6.2%, HI 1.45%) | B33: =Budget!D71/12 -> 5198.3535 | C33: =B33 -> 5198.3535 | D33: =C33 -> 5198.3535 | E33: =D33 -> 5198.3535 | F33: =E33 -> 5198.3535 | G33: =F33 -> 5198.3535 | H33: =G33 -> 5198.3535 | I33: =H33 -> 5198.3535 | J33: =I33 -> 5198.3535 | ... M33: =L33 -> 5198.3535 | N33: =ROUND(SUM(B33:M33),0) -> 62380 | O33: =IF((N33-Budget!D71)<2,IF((N33-Budget!D71)>-2,"Yes","No"),"No") -> Yes
A34: =Budget!A72 -> Other Payroll Expenses/Taxes | B34: =Budget!D72/12 -> 0 | C34: =B34 -> 0 | D34: =C34 -> 0 | E34: =D34 -> 0 | F34: =E34 -> 0 | G34: =F34 -> 0 | H34: =G34 -> 0 | I34: =H34 -> 0 | J34: =I34 -> 0 | ... M34: =L34 -> 0 | N34: =ROUND(SUM(B34:M34),0) -> 0 | O34: =IF((N34-Budget!D72)<2,IF((N34-Budget!D72)>-2,"Yes","No"),"No") -> Yes
A35: =Budget!A73 -> Endorsement/Incentive Increases | B35: =Budget!D73/12 -> 0 | C35: =B35 -> 0 | D35: =C35 -> 0 | E35: =D35 -> 0 | F35: =E35 -> 0 | G35: =F35 -> 0 | H35: =G35 -> 0 | I35: =H35 -> 0 | J35: =I35 -> 0 | ... M35: =L35 -> 0 | N35: =ROUND(SUM(B35:M35),0) -> 0 | O35: =IF((N35-Budget!D73)<2,IF((N35-Budget!D73)>-2,"Yes","No"),"No") -> Yes
A36: =Budget!A74 -> 0 | N36: =ROUND(SUM(B36:M36),0) -> 0 | O36: =IF((N36-Budget!D74)<2,IF((N36-Budget!D74)>-2,"Yes","No"),"No") -> Yes
A37: =Budget!A75 -> Total Personnel Expenses | B37: =SUM(B19:B36) -> 83708.545 | C37: =SUM(C19:C36) -> 89380.182 | D37: =SUM(D19:D36) -> 89380.182 | E37: =SUM(E19:E36) -> 89380.182 | F37: =SUM(F19:F36) -> 89380.182 | G37: =SUM(G19:G36) -> 89380.182 | H37: =SUM(H19:H36) -> 89380.182 | I37: =SUM(I19:I36) -> 89380.182 | ... M37: =SUM(M19:M36) -> 89380.182 | N37: =ROUND(SUM(B37:M37),0) -> 1066891 | O37: =IF((N37-Budget!D75)<3,IF((N37-Budget!D75)>-3,"Yes","No"),"No") -> Yes
A38: =Budget!A76 -> Instructional
A39: =Budget!A77 -> Textbooks | B39: 1440 | C39: 1440 | D39: 0 | E39: 0 | F39: 0 | G39: 0 | H39: 720 | I39: 0 | J39: 0 | K39: 0 | L39: 720 | M39: 0 | N39: =ROUND(SUM(B39:M39),0) -> 4320 | O39: =IF((N39-Budget!D77)<2,IF((N39-Budget!D77)>-2,"Yes","No"),"No") -> Yes
A40: =Budget!A78 -> Classroom Supplies | B40: 450 | C40: 5300 | D40: 450 | E40: 450 | F40: 450 | G40: 450 | H40: 450 | I40: 450 | J40: 450 | K40: 450 | L40: 450 | M40: 1000 | N40: =ROUND(SUM(B40:M40),0) -> 10800 | O40: =IF((N40-Budget!D78)<2,IF((N40-Budget!D78)>-2,"Yes","No"),"No") -> Yes
A41: =Budget!A79 -> Computers | B41: 8640 | C41: 8640 | D41: 8640 | E41: 0 | F41: 0 | G41: 0 | H41: 0 | I41: 0 | J41: 0 | K41: 0 | L41: 0 | M41: 0 | N41: =ROUND(SUM(B41:M41),0) -> 25920 | O41: =IF((N41-Budget!D79)<2,IF((N41-Budget!D79)>-2,"Yes","No"),"No") -> Yes
...
