Workbook

Sheet 5yr Budget Projection
A1: 5 YEAR BUDGET PROJECTION
A2: School Name: Tapestry Public Charter School Clayton | B2: FY2026 | D2: FY2027 | F2: FY2028 | H2: FY2029 | J2: FY2030 | L2: FY2031
B3: Planning Year | C3: % of Total | D3: Year 1 | E3: % of Total | F3: Year 2 | G3: % of Total | H3: Year 3 | I3: % of Total | J3: Year 4 | K3: % of Total | L3: Year 5 | M3: % of Total
A4: ASSUMPTIONS | N4: Notes
A5: Number of Students | D5: =220/2 -> 110 | F5: =263/2 -> 131.5 | H5: =301/2 -> 150.5 | J5: =301/2 -> 150.5 | L5: =301/2 -> 150.5 | N5: Enrollment at 50%
A6: Facility Square Footage | D6: =16875/2 -> 8437.5 | F6: =19875/2 -> 9937.5 | H6: =22575/2 -> 11287.5 | J6: =H6 -> 11287.5 | L6: =J6 -> 11287.5 | N6: Sqt at 50% of the enrollment
A7: Number of Full Time Employees | D7: =27/2 -> 13.5 | F7: =33.5/2 -> 16.75 | H7: 20 | J7: 20 | L7: 20
A8: Full Time Employees (eligible for benefits) | D8: =13.5 -> 13.5 | F8: =16.75 -> 16.75 | H8: 20 | J8: 20 | L8: 20
A9: Number of Administrators | D9: 1 | F9: 2 | H9: 2 | J9: 2 | L9: 2 | N9: Principal, Assistant Principle
A10: Number of Teachers | D10: 5 | F10: 6 | H10: 6.5 | J10: 6.5 | L10: 6.5 | N10: Classroom teachers,
A11: Number of Other Instructional Staff | D11: 1 | F11: 2 | H11: 4 | J11: 4 | L11: 4 | N11: PE, Art, Music and language, special ed
A12: Number of Clerical Staff | D12: 2 | F12: 2 | H12: 2 | J12: 2 | L12: 2 | N12: Registrar, bookkeeper
A13: Number of Maintenance Staff | D13: 1 | F13: 1 | H13: 1 | J13: 1 | L13: 1 | N13: Facility
A14: Number of Food Service Staff | D14: 0 | F14: 0 | H14: 0 | J14: 0 | L14: 0 | N14: Outsourced
A15: Student Teacher Ratio | D15: l:12 | F15: 0.057638889 | H15: 0.057638889 | J15: 0.057638889 | L15: 0.057638889
A16: Revenue Per Pupil (State and/or Local) | D16: 13571.65 | F16: =D16*1.02 -> 13843.083 | H16: =F16*1.02 -> 14119.945 | J16: =H16*1.02 -> 14402.344 | L16: =J16*1.02 -> 14690.39 | N16: consevative meansure with no increase per year with 2% increase
A17: Average Teacher Salary | D17: 59000 | F17: 57977.143 | H17: 58869.6 | J17: ='[1]Enrollment & Payroll Summary'!F33 -> 59708.437 | L17: ='[1]Enrollment & Payroll Summary'!F34 -> 59508.818 | N17: State salary schedule met local stipend with additional 8%. 2% step increae per year
A19: REVENUES
A20: State and/or Local Revenue (Rev Per Pupil*# of students) | B20: =B16*B5 -> 0 | C20: =IF($B$32=0,"",B20/$B$32) -> 0 | D20: =D16*D5 -> 1492881.5 | E20: =IF($D$32=0,"",D20/$D$32) -> 0.96684516 | F20: =F16*F5 -> 1820365.4 | G20: =IF($F$32=0,"",F20/$F$32) -> 0.96024941 | H20: =H16*H5 -> 2125051.7 | I20: =IF($H$32=0,"",H20/$H$32) -> 0.95007958 | J20: =J16*J5 -> 2167552.7 | K20: =IF($J$32=0,"",J20/$J$32) -> 0.92861217 | L20: =L16*L5 -> 2210903.8 | M20: =IF($L$32=0,"",L20/$L$32) -> 0.89851833
A21: 3% District Administrative Fee (Explain any changes in notes) | B21: =-(B20*0.03) -> 0 | C21: =IF($B$32=0,"",B21/$B$32) -> 0 | D21: =-(D20*0.03) -> -44786.445 | E21: =IF($D$32=0,"",D21/$D$32) -> -0.029005355 | F21: =-(F20*0.03) -> -54610.962 | G21: =IF($F$32=0,"",F21/$F$32) -> -0.028807482 | H21: =-(H20*0.03) -> -63751.55 | I21: =IF($H$32=0,"",H21/$H$32) -> -0.028502388 | J21: =-(J20*0.03) -> -65026.581 | K21: =IF($J$32=0,"",J21/$J$32) -> -0.027858365 | L21: =-(L20*0.03) -> -66327.113 | M21: =IF($L$32=0,"",L21/$L$32) -> -0.02695555 | N21: Clayton county 2% admin fee only
A22: Meal Fees | C22: =IF($B$32=0,"",B22/$B$32) -> 0 | D22: =D94 -> 45980 | E22: =IF($D$32=0,"",D22/$D$32) -> 0.029778345 | F22: =F94 -> 54967 | G22: =IF($F$32=0,"",F22/$F$32) -> 0.028995294 | H22: =H94 -> 62909 | I22: =IF($H$32=0,"",H22/$H$32) -> 0.028125696 | J22: =J94 -> 62909 | K22: =IF($J$32=0,"",J22/$J$32) -> 0.026951161 | L22: =L94 -> 62909 | M22: =IF($L$32=0,"",L22/$L$32) -> 0.025566418 | N22: Each year based on the $3.25/meal collected with 80% participation at 190 days
A23: Donation | C23: =IF($B$32=0,"",B23/$B$32) -> 0 | D23: 50000 | E23: =IF($D$32=0,"",D23/$D$32) -> 0.032381846 | F23: =D23*1.5 -> 75000 | G23: =IF($F$32=0,"",F23/$F$32) -> 0.039562774 | H23: =F23*1.5 -> 112500 | I23: =IF($H$32=0,"",H23/$H$32) -> 0.050297108 | J23: =H23*1.5 -> 168750 | K23: =IF($J$32=0,"",J23/$J$32) -> 0.072295037 | L23: =J23*1.5 -> 253125 | M23: =IF($L$32=0,"",L23/$L$32) -> 0.10287081 | N23: Initial start fund fund 180K. Y1 starting with $50K, with 50% increate per year
A24: Grants | B24: 225000 | C24: =IF($B$32=0,"",B24/$B$32) -> 0.42857143 | E24: =IF($D$32=0,"",D24/$D$32) -> 0 | G24: =IF($F$32=0,"",F24/$F$32) -> 0 | I24: =IF($H$32=0,"",H24/$H$32) -> 0 | K24: =IF($J$32=0,"",J24/$J$32) -> 0 | M24: =IF($L$32=0,"",L24/$L$32) -> 0 | N24: Use for facilities related expense
A25: Foundation | B25: 300000 | C25: =IF($B$32=0,"",B25/$B$32) -> 0.57142857 | E25: =IF($D$32=0,"",D25/$D$32) -> 0 | G25: =IF($F$32=0,"",F25/$F$32) -> 0 | I25: =IF($H$32=0,"",H25/$H$32) -> 0 | K25: =IF($J$32=0,"",J25/$J$32) -> 0 | M25: =IF($L$32=0,"",L25/$L$32) -> 0 | N25: Seed money from foundation
C26: =IF($B$32=0,"",B26/$B$32) -> 0 | E26: =IF($D$32=0,"",D26/$D$32) -> 0 | G26: =IF($F$32=0,"",F26/$F$32) -> 0 | I26: =IF($H$32=0,"",H26/$H$32) -> 0 | K26: =IF($J$32=0,"",J26/$J$32) -> 0 | M26: =IF($L$32=0,"",L26/$L$32) -> 0
C27: =IF($B$32=0,"",B27/$B$32) -> 0 | E27: =IF($D$32=0,"",D27/$D$32) -> 0 | G27: =IF($F$32=0,"",F27/$F$32) -> 0 | I27: =IF($H$32=0,"",H27/$H$32) -> 0 | K27: =IF($J$32=0,"",J27/$J$32) -> 0 | M27: =IF($L$32=0,"",L27/$L$32) -> 0
C28: =IF($B$32=0,"",B28/$B$32) -> 0 | E28: =IF($D$32=0,"",D28/$D$32) -> 0 | G28: =IF($F$32=0,"",F28/$F$32) -> 0 | I28: =IF($H$32=0,"",H28/$H$32) -> 0 | K28: =IF($J$32=0,"",J28/$J$32) -> 0 | M28: =IF($L$32=0,"",L28/$L$32) -> 0
C29: =IF($B$32=0,"",B29/$B$32) -> 0 | E29: =IF($D$32=0,"",D29/$D$32) -> 0 | G29: =IF($F$32=0,"",F29/$F$32) -> 0 | I29: =IF($H$32=0,"",H29/$H$32) -> 0 | K29: =IF($J$32=0,"",J29/$J$32) -> 0 | M29: =IF($L$32=0,"",L29/$L$32) -> 0
C30: =IF($B$32=0,"",B30/$B$32) -> 0 | E30: =IF($D$32=0,"",D30/$D$32) -> 0 | G30: =IF($F$32=0,"",F30/$F$32) -> 0 | I30: =IF($H$32=0,"",H30/$H$32) -> 0 | K30: =IF($J$32=0,"",J30/$J$32) -> 0 | M30: =IF($L$32=0,"",L30/$L$32) -> 0
C31: =IF($B$32=0,"",B31/$B$32) -> 0 | E31: =IF($D$32=0,"",D31/$D$32) -> 0 | G31: =IF($F$32=0,"",F31/$F$32) -> 0 | I31: =IF($H$32=0,"",H31/$H$32) -> 0 | K31: =IF($J$32=0,"",J31/$J$32) -> 0 | M31: =IF($L$32=0,"",L31/$L$32) -> 0
A32: Total Revenues | B32: =SUM(B20:B31) -> 525000 | D32: =SUM(D20:D31) -> 1544075.1 | F32: =SUM(F20:F31) -> 1895721.5 | H32: =SUM(H20:H31) -> 2236709.1 | J32: =SUM(J20:J31) -> 2334185.1 | L32: =SUM(L20:L31) -> 2460610.6
A34: EXPENSES
A35: PERSONNEL
A36: Principal | C36: =B36/B$115 -> 0 | D36: ='[1]Staffing Matrix'!J6+'[1]Staffing Matrix'!J8 -> 100000 | E36: =D36/D$115 -> 0.065674388 | F36: =D36*1.02 -> 102000 | G36: =F36/F$115 -> 0.055629927 | H36: =F36*1.02 -> 104040 | I36: =H36/H$115 -> 0.049264028 | J36: =H36*1.02 -> 106120.8 | K36: =J36/J$115 -> 0.049050391 | L36: =J36*1.02 -> 108243.22 | M36: =L36/L$115 -> 0.048599282 | N36: 1 Principal Each year included 2% increase
A37: Social Services (Social Worker/Counselor/Nurse) | C37: =B37/B$115 -> 0 | D37: 59000 | E37: =D37/D$115 -> 0.038747889 | F37: =D37*1.02 -> 60180 | G37: =F37/F$115 -> 0.032821657 | H37: =F37*1.02 -> 61383.6 | I37: =H37/H$115 -> 0.029065777 | J37: =H37*1.02 -> 62611.272 | K37: =J37/J$115 -> 0.02893973 | L37: =J37*1.02 -> 63863.497 | M37: =L37/L$115 -> 0.028673577 | N37: 1FT nurse with 2% increase
A38: Technology Support | C38: =B38/B$115 -> 0 | D38: 22500 | E38: =D38/D$115 -> 0.014776737 | F38: =D38*1.02 -> 22950 | G38: =F38/F$115 -> 0.012516734 | H38: =F38*1.02 -> 23409 | I38: =H38/H$115 -> 0.011084406 | J38: =H38*1.02 -> 23877.18 | K38: =J38/J$115 -> 0.011036338 | L38: =J38*1.02 -> 24354.724 | M38: =L38/L$115 -> 0.010934839 | N38: 1PT Each year included 2% increase
A39: Teachers | B39: =B10*B17 -> 0 | C39: =B39/B$115 -> 0 | D39: =D10*D17 -> 295000 | E39: =D39/D$115 -> 0.19373945 | F39: =F10*F17 -> 347862.86 | G39: =F39/F$115 -> 0.18972143 | H39: =H10*H17 -> 382652.4 | I39: =H39/H$115 -> 0.18118991 | J39: =J10*J17 -> 388104.84 | K39: =J39/J$115 -> 0.17938702 | L39: =L10*L17 -> 386807.32 | M39: =L39/L$115 -> 0.17366962 | N39: Auto calculate, included salary increase per average salary. Included classroom teachers and special ed teachers
A40: Arts/PE/Comp Sci | C40: =B40/B$115 -> 0 | D40: =59000 -> 59000 | E40: =D40/D$115 -> 0.038747889 | F40: =D40*1.02 -> 60180 | G40: =F40/F$115 -> 0.032821657 | H40: =F40*1.02+59000 -> 120383.6 | I40: =H40/H$115 -> 0.057002894 | J40: =H40*1.02 -> 122791.27 | K40: =J40/J$115 -> 0.056755696 | L40: =J40*1.02 -> 125247.1 | M40: =L40/L$115 -> 0.056233723 | N40: Y1 :1FT art, music, PE, drama, languge. Y2: Add 1FT each year. Each year included 2% increase.
A41: Athletics/Extracurricular Coaches | C41: =B41/B$115 -> 0 | E41: =D41/D$115 -> 0 | G41: =F41/F$115 -> 0 | I41: =H41/H$115 -> 0 | K41: =J41/J$115 -> 0 | M41: =L41/L$115 -> 0
A42: Guidance Counselor | C42: =B42/B$115 -> 0 | E42: =D42/D$115 -> 0 | F42: =D42*1.02 -> 0 | G42: =F42/F$115 -> 0 | H42: =F42*1.02 -> 0 | I42: =H42/H$115 -> 0 | J42: =H42*1.02+'[1]Staffing Matrix'!J141 -> 25000 | K42: =J42/J$115 -> 0.01155532 | L42: =J42*1.02 -> 25500 | M42: =L42/L$115 -> 0.011449047
...

Sheet Cash Flow Proj Yr0
A1: CASH FLOW PROJECTIONS-YEAR 0/Planning Year
A2: ='5yr Budget Projection'!A2 -> School Name: Tapestry Public Charter School Clayton | B2: July | C2: Aug | D2: Sept | E2: Oct | F2: Nov | G2: Dec | H2: Jan | I2: Feb | J2: March | K2: April | L2: May | M2: June | N2: Total
A3: (A) BEGINNING CASH | B3: ='5yr Budget Projection'!B123 -> 0 | C3: =B105 -> 20283.33 | D3: =C105 -> 40566.66 | E3: =D105 -> 60849.99 | F3: =E105 -> 81133.32 | G3: =F105 -> 101416.65 | H3: =G105 -> 121699.98 | I3: =H105 -> 141983.31 | J3: =I105 -> 162266.64 | ... M3: =L105 -> 223116.63
A4: Cash Receipts:
A5: Per Pupil Revenue (local and state share), net LEA Admin fee | B5: =$N$5/12 -> 0 | C5: =$N$5/12 -> 0 | D5: =$N$5/12 -> 0 | E5: =$N$5/12 -> 0 | F5: =$N$5/12 -> 0 | G5: =$N$5/12 -> 0 | H5: =$N$5/12 -> 0 | I5: =$N$5/12 -> 0 | ... M5: =$N$5/12 -> 0 | N5: ='5yr Budget Projection'!B20+'5yr Budget Projection'!B21 -> 0
A6: Donation | B6: ='5yr Budget Projection'!B23/12 -> 0 | C6: =B6 -> 0 | D6: =C6 -> 0 | E6: =D6 -> 0 | F6: =E6 -> 0 | G6: =F6 -> 0 | H6: =G6 -> 0 | I6: =H6 -> 0 | J6: =I6 -> 0 | ... M6: =L6 -> 0 | N6: =SUM(B6:M6) -> 0
A7: Grants | B7: ='5yr Budget Projection'!B24/12 -> 18750 | C7: =B7 -> 18750 | D7: =C7 -> 18750 | E7: =D7 -> 18750 | F7: =E7 -> 18750 | G7: =F7 -> 18750 | H7: =G7 -> 18750 | I7: =H7 -> 18750 | J7: =I7 -> 18750 | ... M7: =L7 -> 18750 | N7: =SUM(B7:M7) -> 225000
A8: Meals | N8: =SUM(B8:M8) -> 0
A9: Foundation | B9: ='5yr Budget Projection'!B25/12 -> 25000 | C9: =B9 -> 25000 | D9: =C9 -> 25000 | E9: =D9 -> 25000 | F9: =E9 -> 25000 | G9: =F9 -> 25000 | H9: =G9 -> 25000 | I9: =H9 -> 25000 | J9: =I9 -> 25000 | ... M9: =L9 -> 25000 | N9: =SUM(B9:M9) -> 300000
N10: =SUM(B10:M10) -> 0
N11: =SUM(B11:M11) -> 0
N12: =SUM(B12:M12) -> 0
N13: =SUM(B13:M13) -> 0
N14: =SUM(B14:M14) -> 0
N15: =SUM(B15:M15) -> 0
A16: (B) Total Receipts | B16: =ROUND(SUM(B5:B15),2) -> 43750 | C16: =ROUND(SUM(C5:C15),2) -> 43750 | D16: =ROUND(SUM(D5:D15),2) -> 43750 | E16: =ROUND(SUM(E5:E15),2) -> 43750 | F16: =ROUND(SUM(F5:F15),2) -> 43750 | G16: =ROUND(SUM(G5:G15),2) -> 43750 | H16: =ROUND(SUM(H5:H15),2) -> 43750 | I16: =ROUND(SUM(I5:I15),2) -> 43750 | ... M16: =ROUND(SUM(M5:M15),2) -> 43750 | N16: =SUM(N5:N15) -> 525000
A18: Cash Disbursements:
A19: PERSONNEL
A20: Principal | B20: ='5yr Budget Projection'!B36/12 -> 0 | C20: =$N20/12 -> 0 | D20: =$N20/12 -> 0 | E20: =$N20/12 -> 0 | F20: =$N20/12 -> 0 | G20: =$N20/12 -> 0 | H20: =$N20/12 -> 0 | I20: =$N20/12 -> 0 | J20: =$N20/12 -> 0 | ... M20: =$N20/12 -> 0 | N20: ='5yr Budget Projection'!B36 -> 0
A21: Social Services (Social Worker/Counselor/Nurse) | B21: ='5yr Budget Projection'!B37/12 -> 0 | C21: =$N21/12 -> 0 | D21: =$N21/12 -> 0 | E21: =$N21/12 -> 0 | F21: =$N21/12 -> 0 | G21: =$N21/12 -> 0 | H21: =$N21/12 -> 0 | I21: =$N21/12 -> 0 | J21: =$N21/12 -> 0 | ... M21: =$N21/12 -> 0 | N21: ='5yr Budget Projection'!B37 -> 0
A22: Technology Support | B22: ='5yr Budget Projection'!B38/12 -> 0 | C22: =$N22/12 -> 0 | D22: =$N22/12 -> 0 | E22: =$N22/12 -> 0 | F22: =$N22/12 -> 0 | G22: =$N22/12 -> 0 | H22: =$N22/12 -> 0 | I22: =$N22/12 -> 0 | J22: =$N22/12 -> 0 | ... M22: =$N22/12 -> 0 | N22: ='5yr Budget Projection'!B38 -> 0
A23: Teachers | B23: ='5yr Budget Projection'!B39/12 -> 0 | C23: =$N23/12 -> 0 | D23: =$N23/12 -> 0 | E23: =$N23/12 -> 0 | F23: =$N23/12 -> 0 | G23: =$N23/12 -> 0 | H23: =$N23/12 -> 0 | I23: =$N23/12 -> 0 | J23: =$N23/12 -> 0 | ... M23: =$N23/12 -> 0 | N23: ='5yr Budget Projection'!B39 -> 0
A24: Arts/PE/Comp Sci | B24: ='5yr Budget Projection'!B40/12 -> 0 | C24: =$N24/12 -> 0 | D24: =$N24/12 -> 0 | E24: =$N24/12 -> 0 | F24: =$N24/12 -> 0 | G24: =$N24/12 -> 0 | H24: =$N24/12 -> 0 | I24: =$N24/12 -> 0 | J24: =$N24/12 -> 0 | ... M24: =$N24/12 -> 0 | N24: ='5yr Budget Projection'!B40 -> 0
A25: Athletics/Extracurricular Coaches | B25: ='5yr Budget Projection'!B41/12 -> 0 | C25: =$N25/12 -> 0 | D25: =$N25/12 -> 0 | E25: =$N25/12 -> 0 | F25: =$N25/12 -> 0 | G25: =$N25/12 -> 0 | H25: =$N25/12 -> 0 | I25: =$N25/12 -> 0 | J25: =$N25/12 -> 0 | ... M25: =$N25/12 -> 0 | N25: ='5yr Budget Projection'!B41 -> 0
A26: Guidance Counselor | B26: ='5yr Budget Projection'!B42/12 -> 0 | C26: =$N26/12 -> 0 | D26: =$N26/12 -> 0 | E26: =$N26/12 -> 0 | F26: =$N26/12 -> 0 | G26: =$N26/12 -> 0 | H26: =$N26/12 -> 0 | I26: =$N26/12 -> 0 | J26: =$N26/12 -> 0 | ... M26: =$N26/12 -> 0 | N26: ='5yr Budget Projection'!B42 -> 0
A27: Special Education Teacher | B27: ='5yr Budget Projection'!B43/12 -> 0 | C27: =$N27/12 -> 0 | D27: =$N27/12 -> 0 | E27: =$N27/12 -> 0 | F27: =$N27/12 -> 0 | G27: =$N27/12 -> 0 | H27: =$N27/12 -> 0 | I27: =$N27/12 -> 0 | J27: =$N27/12 -> 0 | ... M27: =$N27/12 -> 0 | N27: ='5yr Budget Projection'!B43 -> 0
A28: Office Manager | B28: ='5yr Budget Projection'!B44/12 -> 0 | C28: =$N28/12 -> 0 | D28: =$N28/12 -> 0 | E28: =$N28/12 -> 0 | F28: =$N28/12 -> 0 | G28: =$N28/12 -> 0 | H28: =$N28/12 -> 0 | I28: =$N28/12 -> 0 | J28: =$N28/12 -> 0 | ... M28: =$N28/12 -> 0 | N28: ='5yr Budget Projection'!B44 -> 0
A29: Office Assistant | B29: ='5yr Budget Projection'!B45/12 -> 0 | C29: =$N29/12 -> 0 | D29: =$N29/12 -> 0 | E29: =$N29/12 -> 0 | F29: =$N29/12 -> 0 | G29: =$N29/12 -> 0 | H29: =$N29/12 -> 0 | I29: =$N29/12 -> 0 | J29: =$N29/12 -> 0 | ... M29: =$N29/12 -> 0 | N29: ='5yr Budget Projection'!B45 -> 0
A30: Business manager | B30: ='5yr Budget Projection'!B46/12 -> 0 | C30: =$N30/12 -> 0 | D30: =$N30/12 -> 0 | E30: =$N30/12 -> 0 | F30: =$N30/12 -> 0 | G30: =$N30/12 -> 0 | H30: =$N30/12 -> 0 | I30: =$N30/12 -> 0 | J30: =$N30/12 -> 0 | ... M30: =$N30/12 -> 0 | N30: ='5yr Budget Projection'!B46 -> 0
A31: Maintenance | B31: ='5yr Budget Projection'!B47/12 -> 0 | C31: =$N31/12 -> 0 | D31: =$N31/12 -> 0 | E31: =$N31/12 -> 0 | F31: =$N31/12 -> 0 | G31: =$N31/12 -> 0 | H31: =$N31/12 -> 0 | I31: =$N31/12 -> 0 | J31: =$N31/12 -> 0 | ... M31: =$N31/12 -> 0 | N31: ='5yr Budget Projection'!B47 -> 0
... A36: Other Payroll Expenses/Taxes | B36: ='5yr Budget Projection'!B52/12 -> 0 | C36: =$N36/12 -> 0 | D36: =$N36/12 -> 0 | E36: =$N36/12 -> 0 | F36: =$N36/12 -> 0 | G36: =$N36/12 -> 0 | H36: =$N36/12 -> 0 | I36: =$N36/12 -> 0 | J36: =$N36/12 -> 0 | ... M36: =$N36/12 -> 0 | N36: ='5yr Budget Projection'!B52 -> 0
A37: ='5yr Budget Projection'!A53 -> CEO & COO | B37: ='5yr Budget Projection'!B53/12 -> 0 | C37: 0 | D37: 0 | E37: 0 | F37: 0 | G37: 0 | H37: 0 | I37: 0 | J37: 0 | K37: 0 | L37: 0 | M37: 0 | N37: =SUM(B37:M37) -> 0
A38: ='5yr Budget Projection'!A54 -> Assistant Principle | B38: ='5yr Budget Projection'!B54/12 -> 0 | C38: 0 | D38: 0 | E38: 0 | F38: 0 | G38: 0 | H38: 0 | I38: 0 | J38: 0 | K38: 0 | L38: 0 | M38: 0 | N38: =SUM(B38:M38) -> 0
A39: Total Personnel | B39: =SUM(B20:B38) -> 0 | C39: =SUM(C20:C38) -> 0 | D39: =SUM(D20:D38) -> 0 | E39: =SUM(E20:E38) -> 0 | F39: =SUM(F20:F38) -> 0 | G39: =SUM(G20:G38) -> 0 | H39: =SUM(H20:H38) -> 0 | I39: =SUM(I20:I38) -> 0 | ... N39: =SUM(N20:N38) -> 0
A41: INSTRUCTION
A42: Textbooks | B42: ='5yr Budget Projection'!B58/12 -> 0 | C42: 0 | D42: 0 | E42: 0 | F42: 0 | G42: 0 | H42: 0 | I42: 0 | J42: 0 | K42: 0 | L42: 0 | M42: 0 | N42: =SUM(B42:M42) -> 0
A43: Classroom Supplies | B43: ='5yr Budget Projection'!B59/12 -> 416.66667 | C43: =B43 -> 416.66667 | D43: =B43 -> 416.66667 | E43: =B43 -> 416.66667 | F43: =B43 -> 416.66667 | G43: =B43 -> 416.66667 | H43: =B43 -> 416.66667 | I43: =B43 -> 416.66667 | J43: =B43 -> 416.66667 | K43: =B43 -> 416.66667 | L43: =B43 -> 416.66667 | M43: =B43 -> 416.66667 | N43: =SUM(B43:M43) -> 5000
A44: Computers | B44: ='5yr Budget Projection'!B60/12 -> 2291.6667 | C44: =B44 -> 2291.6667 | D44: =B44 -> 2291.6667 | E44: =B44 -> 2291.6667 | F44: =B44 -> 2291.6667 | G44: =B44 -> 2291.6667 | H44: =B44 -> 2291.6667 | I44: =B44 -> 2291.6667 | J44: =B44 -> 2291.6667 | K44: =B44 -> 2291.6667 | L44: =B44 -> 2291.6667 | M44: =B44 -> 2291.6667 | N44: =SUM(B44:M44) -> 27500
A45: Software | B45: ='5yr Budget Projection'!B61/12 -> 1250 | C45: =B45 -> 1250 | D45: =B45 -> 1250 | E45: =B45 -> 1250 | F45: =B45 -> 1250 | G45: =B45 -> 1250 | H45: =B45 -> 1250 | I45: =B45 -> 1250 | J45: =B45 -> 1250 | K45: =B45 -> 1250 | L45: =B45 -> 1250 | M45: =B45 -> 1250 | N45: =SUM(B45:M45) -> 15000
A46: Field Trips | B46: ='5yr Budget Projection'!B62/12 -> 0 | C46: =B46 -> 0 | D46: =B46 -> 0 | E46: =B46 -> 0 | F46: =B46 -> 0 | G46: =B46 -> 0 | H46: =B46 -> 0 | I46: =B46 -> 0 | J46: =B46 -> 0 | K46: =B46 -> 0 | L46: =B46 -> 0 | M46: =B46 -> 0 | N46: =SUM(B46:M46) -> 0
...

Sheet Cash Flow Proj Yr1
A1: CASH FLOW PROJECTIONS-YEAR 1
A2: ='5yr Budget Projection'!A2 -> School Name: Tapestry Public Charter School Clayton | B2: July | C2: Aug | D2: Sept | E2: Oct | F2: Nov | G2: Dec | H2: Jan | I2: Feb | J2: March | K2: April | L2: May | M2: June | N2: Total
A3: (A) BEGINNING CASH | B3: ='Cash Flow Proj Yr0'!M105 -> 243399.96 | C3: =B105 -> 241352.58 | D3: =C105 -> 243903.2 | E3: =D105 -> 246453.82 | F3: =E105 -> 249004.44 | G3: =F105 -> 251555.06 | H3: =G105 -> 254105.68 | I3: =H105 -> 256656.3 | J3: =I105 -> 259206.92 | ... M3: =L105 -> 266858.78
A4: Cash Receipts:
A5: Per Pupil Revenue (local and state share), net LEA Admin fee | B5: =$N$5/12 -> 120674.59 | C5: =$N$5/12 -> 120674.59 | D5: =$N$5/12 -> 120674.59 | E5: =$N$5/12 -> 120674.59 | F5: =$N$5/12 -> 120674.59 | G5: =$N$5/12 -> 120674.59 | H5: =$N$5/12 -> 120674.59 | I5: =$N$5/12 -> 120674.59 | ... M5: =$N$5/12 -> 120674.59 | N5: ='5yr Budget Projection'!D20+'5yr Budget Projection'!D21 -> 1448095.1
A6: Donation | B6: ='5yr Budget Projection'!D23/12 -> 4166.6667 | C6: =B6 -> 4166.6667 | D6: =C6 -> 4166.6667 | E6: =D6 -> 4166.6667 | F6: =E6 -> 4166.6667 | G6: =F6 -> 4166.6667 | H6: =G6 -> 4166.6667 | I6: =H6 -> 4166.6667 | J6: =I6 -> 4166.6667 | ... M6: =L6 -> 4166.6667 | N6: =SUM(B6:M6) -> 50000
A7: Grants | N7: =SUM(B7:M7) -> 0
A8: Meal Fees | C8: ='5yr Budget Projection'!D22/10 -> 4598 | D8: =C8 -> 4598 | E8: =D8 -> 4598 | F8: =E8 -> 4598 | G8: =F8 -> 4598 | H8: =G8 -> 4598 | I8: =H8 -> 4598 | J8: =I8 -> 4598 | K8: =J8 -> 4598 | L8: =K8 -> 4598 | N8: =SUM(B8:M8) -> 45980
N9: =SUM(B9:M9) -> 0
N10: =SUM(B10:M10) -> 0
N11: =SUM(B11:M11) -> 0
N12: =SUM(B12:M12) -> 0
N13: =SUM(B13:M13) -> 0
N14: =SUM(B14:M14) -> 0
N15: =SUM(B15:M15) -> 0
A16: (B) Total Receipts | B16: =ROUND(SUM(B5:B15),2) -> 124841.25 | C16: =ROUND(SUM(C5:C15),2) -> 129439.25 | D16: =ROUND(SUM(D5:D15),2) -> 129439.25 | E16: =ROUND(SUM(E5:E15),2) -> 129439.25 | F16: =ROUND(SUM(F5:F15),2) -> 129439.25 | G16: =ROUND(SUM(G5:G15),2) -> 129439.25 | H16: =ROUND(SUM(H5:H15),2) -> 129439.25 | I16: =ROUND(SUM(I5:I15),2) -> 129439.25 | ... M16: =ROUND(SUM(M5:M15),2) -> 124841.25 | N16: =SUM(N5:N15) -> 1544075.1
A18: Cash Disbursements:
A19: PERSONNEL
A20: Principal | B20: =$N20/12 -> 8333.3333 | C20: =B20 -> 8333.3333 | D20: =C20 -> 8333.3333 | E20: =D20 -> 8333.3333 | F20: =E20 -> 8333.3333 | G20: =F20 -> 8333.3333 | H20: =G20 -> 8333.3333 | I20: =H20 -> 8333.3333 | J20: =I20 -> 8333.3333 | ... M20: =L20 -> 8333.3333 | N20: ='5yr Budget Projection'!D36 -> 100000
A21: Social Services (Social Worker/Counselor/Nurse) | B21: =$N21/12 -> 4916.6667 | C21: =B21 -> 4916.6667 | D21: =C21 -> 4916.6667 | E21: =D21 -> 4916.6667 | F21: =E21 -> 4916.6667 | G21: =F21 -> 4916.6667 | H21: =G21 -> 4916.6667 | I21: =H21 -> 4916.6667 | J21: =I21 -> 4916.6667 | ... M21: =L21 -> 4916.6667 | N21: ='5yr Budget Projection'!D37 -> 59000
A22: Technology Support | B22: =$N22/12 -> 1875 | C22: =B22 -> 1875 | D22: =C22 -> 1875 | E22: =D22 -> 1875 | F22: =E22 -> 1875 | G22: =F22 -> 1875 | H22: =G22 -> 1875 | I22: =H22 -> 1875 | J22: =I22 -> 1875 | ... M22: =L22 -> 1875 | N22: ='5yr Budget Projection'!D38 -> 22500
A23: Teachers | B23: =$N23/12 -> 24583.333 | C23: =B23 -> 24583.333 | D23: =C23 -> 24583.333 | E23: =D23 -> 24583.333 | F23: =E23 -> 24583.333 | G23: =F23 -> 24583.333 | H23: =G23 -> 24583.333 | I23: =H23 -> 24583.333 | J23: =I23 -> 24583.333 | ... M23: =L23 -> 24583.333 | N23: ='5yr Budget Projection'!D39 -> 295000
A24: Arts/PE/Comp Sci | B24: =$N24/12 -> 4916.6667 | C24: =B24 -> 4916.6667 | D24: =C24 -> 4916.6667 | E24: =D24 -> 4916.6667 | F24: =E24 -> 4916.6667 | G24: =F24 -> 4916.6667 | H24: =G24 -> 4916.6667 | I24: =H24 -> 4916.6667 | J24: =I24 -> 4916.6667 | ... M24: =L24 -> 4916.6667 | N24: ='5yr Budget Projection'!D40 -> 59000
A25: Athletics/Extracurricular Coaches | B25: =$N25/12 -> 0 | C25: =B25 -> 0 | D25: =C25 -> 0 | E25: =D25 -> 0 | F25: =E25 -> 0 | G25: =F25 -> 0 | H25: =G25 -> 0 | I25: =H25 -> 0 | J25: =I25 -> 0 | ... M25: =L25 -> 0 | N25: ='5yr Budget Projection'!D41 -> 0
A26: Guidance Counselor | B26: =$N26/12 -> 0 | C26: =B26 -> 0 | D26: =C26 -> 0 | E26: =D26 -> 0 | F26: =E26 -> 0 | G26: =F26 -> 0 | H26: =G26 -> 0 | I26: =H26 -> 0 | J26: =I26 -> 0 | ... M26: =L26 -> 0 | N26: ='5yr Budget Projection'!D42 -> 0
A27: Special Education Teacher | B27: =$N27/12 -> 6250 | C27: =B27 -> 6250 | D27: =C27 -> 6250 | E27: =D27 -> 6250 | F27: =E27 -> 6250 | G27: =F27 -> 6250 | H27: =G27 -> 6250 | I27: =H27 -> 6250 | J27: =I27 -> 6250 | ... M27: =L27 -> 6250 | N27: ='5yr Budget Projection'!D43 -> 75000
A28: Office Manager | B28: =$N28/12 -> 4583.3333 | C28: =B28 -> 4583.3333 | D28: =C28 -> 4583.3333 | E28: =D28 -> 4583.3333 | F28: =E28 -> 4583.3333 | G28: =F28 -> 4583.3333 | H28: =G28 -> 4583.3333 | I28: =H28 -> 4583.3333 | J28: =I28 -> 4583.3333 | ... M28: =L28 -> 4583.3333 | N28: ='5yr Budget Projection'!D44 -> 55000
A29: Office Assistant | B29: =$N29/12 -> 0 | C29: =B29 -> 0 | D29: =C29 -> 0 | E29: =D29 -> 0 | F29: =E29 -> 0 | G29: =F29 -> 0 | H29: =G29 -> 0 | I29: =H29 -> 0 | J29: =I29 -> 0 | ... M29: =L29 -> 0 | N29: ='5yr Budget Projection'!D45 -> 0
A30: Business manager | B30: =$N30/12 -> 0 | C30: =B30 -> 0 | D30: =C30 -> 0 | E30: =D30 -> 0 | F30: =E30 -> 0 | G30: =F30 -> 0 | H30: =G30 -> 0 | I30: =H30 -> 0 | J30: =I30 -> 0 | ... M30: =L30 -> 0 | N30: ='5yr Budget Projection'!D46 -> 0
A31: Maintenance | B31: =$N31/12 -> 1666.6667 | C31: =B31 -> 1666.6667 | D31: =C31 -> 1666.6667 | E31: =D31 -> 1666.6667 | F31: =E31 -> 1666.6667 | G31: =F31 -> 1666.6667 | H31: =G31 -> 1666.6667 | I31: =H31 -> 1666.6667 | J31: =I31 -> 1666.6667 | ... M31: =L31 -> 1666.6667 | N31: ='5yr Budget Projection'!D47 -> 20000
... A36: Other Payroll Expenses/Taxes | B36: =$N36/12 -> 0 | C36: =B36 -> 0 | D36: =C36 -> 0 | E36: =D36 -> 0 | F36: =E36 -> 0 | G36: =F36 -> 0 | H36: =G36 -> 0 | I36: =H36 -> 0 | J36: =I36 -> 0 | ... M36: =L36 -> 0 | N36: ='5yr Budget Projection'!D52 -> 0
A37: ='5yr Budget Projection'!A53 -> CEO & COO | B37: ='5yr Budget Projection'!D53/12 -> 3125 | C37: =B37 -> 3125 | D37: =C37 -> 3125 | E37: =D37 -> 3125 | F37: =E37 -> 3125 | G37: =F37 -> 3125 | H37: =G37 -> 3125 | I37: =H37 -> 3125 | J37: =I37 -> 3125 | ... M37: =L37 -> 3125 | N37: =SUM(B37:M37) -> 37500
A38: ='5yr Budget Projection'!A54 -> Assistant Principle | B38: ='5yr Budget Projection'!D54/12 -> 0 | C38: =B38 -> 0 | D38: =C38 -> 0 | E38: =D38 -> 0 | F38: =E38 -> 0 | G38: =F38 -> 0 | H38: =G38 -> 0 | I38: =H38 -> 0 | J38: =I38 -> 0 | ... M38: =L38 -> 0 | N38: =SUM(B38:M38) -> 0
A39: Total Personnel | B39: =SUM(B20:B38) -> 91832.591 | C39: =SUM(C20:C38) -> 91832.591 | D39: =SUM(D20:D38) -> 91832.591 | E39: =SUM(E20:E38) -> 91832.591 | F39: =SUM(F20:F38) -> 91832.591 | G39: =SUM(G20:G38) -> 91832.591 | H39: =SUM(H20:H38) -> 91832.591 | I39: =SUM(I20:I38) -> 91832.591 | ... N39: =SUM(N20:N38) -> 1101991.1
A41: INSTRUCTION
A42: Textbooks | B42: ='5yr Budget Projection'!D58/12 -> 687.5 | C42: =B42 -> 687.5 | D42: =C42 -> 687.5 | E42: =D42 -> 687.5 | F42: =E42 -> 687.5 | G42: =F42 -> 687.5 | H42: =G42 -> 687.5 | I42: =H42 -> 687.5 | J42: =I42 -> 687.5 | ... M42: =L42 -> 687.5 | N42: =SUM(B42:M42) -> 8250
A43: Classroom Supplies | B43: ='5yr Budget Projection'!D59/12 -> 416.66667 | C43: =B43 -> 416.66667 | D43: =C43 -> 416.66667 | E43: =D43 -> 416.66667 | F43: =E43 -> 416.66667 | G43: =F43 -> 416.66667 | H43: =G43 -> 416.66667 | I43: =H43 -> 416.66667 | J43: =I43 -> 416.66667 | ... M43: =L43 -> 416.66667 | N43: =SUM(B43:M43) -> 5000
A44: Computers | B44: ='5yr Budget Projection'!D60/12 -> 0 | C44: =B44 -> 0 | D44: =C44 -> 0 | E44: =D44 -> 0 | F44: =E44 -> 0 | G44: =F44 -> 0 | H44: =G44 -> 0 | I44: =H44 -> 0 | J44: =I44 -> 0 | ... M44: =L44 -> 0 | N44: =SUM(B44:M44) -> 0
A45: Software | B45: ='5yr Budget Projection'!D61/12 -> 0 | C45: =B45 -> 0 | D45: =C45 -> 0 | E45: =D45 -> 0 | F45: =E45 -> 0 | G45: =F45 -> 0 | H45: =G45 -> 0 | I45: =H45 -> 0 | J45: =I45 -> 0 | ... M45: =L45 -> 0 | N45: =SUM(B45:M45) -> 0
A46: Field Trips | B46: ='5yr Budget Projection'!D62/12 -> 0 | C46: =B46 -> 0 | D46: =C46 -> 0 | E46: =D46 -> 0 | F46: =E46 -> 0 | G46: =F46 -> 0 | H46: =G46 -> 0 | I46: =H46 -> 0 | J46: =I46 -> 0 | ... M46: =L46 -> 0 | N46: =SUM(B46:M46) -> 0
...

Sheet Cash Flow Proj Yr2
A1: CASH FLOW PROJECTIONS-YEAR 2
A2: ='5yr Budget Projection'!A2 -> School Name: Tapestry Public Charter School Clayton | B2: July | C2: Aug | D2: Sept | E2: Oct | F2: Nov | G2: Dec | H2: Jan | I2: Feb | J2: March | K2: April | L2: May | M2: June | N2: Total
A3: (A) BEGINNING CASH | B3: ='Cash Flow Proj Yr1'!M105 -> 264811.4 | C3: =B107 -> 269992.74 | D3: =C107 -> 275174.08 | E3: =D107 -> 280355.42 | F3: =E107 -> 285536.76 | G3: =F107 -> 290718.1 | H3: =G107 -> 295899.44 | I3: =H107 -> 301080.78 | J3: =I107 -> 306262.12 | ... M3: =L107 -> 321806.14
A4: Cash Receipts:
A5: Per Pupil Revenue (local and state share), net LEA Admin fee | B5: =$N$5/12 -> 147146.2 | C5: =$N$5/12 -> 147146.2 | D5: =$N$5/12 -> 147146.2 | E5: =$N$5/12 -> 147146.2 | F5: =$N$5/12 -> 147146.2 | G5: =$N$5/12 -> 147146.2 | H5: =$N$5/12 -> 147146.2 | I5: =$N$5/12 -> 147146.2 | ... M5: =$N$5/12 -> 147146.2 | N5: ='5yr Budget Projection'!F20+'5yr Budget Projection'!F21 -> 1765754.5
A6: Donation | B6: ='5yr Budget Projection'!F23/12 -> 6250 | C6: =B6 -> 6250 | D6: =C6 -> 6250 | E6: =D6 -> 6250 | F6: =E6 -> 6250 | G6: =F6 -> 6250 | H6: =G6 -> 6250 | I6: =H6 -> 6250 | J6: =I6 -> 6250 | ... M6: =L6 -> 6250 | N6: =SUM(B6:M6) -> 75000
A7: Grants | B7: ='5yr Budget Projection'!F24/12 -> 0 | C7: =B7 -> 0 | D7: =C7 -> 0 | E7: =D7 -> 0 | F7: =E7 -> 0 | G7: =F7 -> 0 | H7: =G7 -> 0 | I7: =H7 -> 0 | J7: =I7 -> 0 | ... M7: =L7 -> 0 | N7: =SUM(B7:M7) -> 0
A8: Meal Fees | B8: ='5yr Budget Projection'!F22/12 -> 4580.5833 | C8: =B8 -> 4580.5833 | D8: =C8 -> 4580.5833 | E8: =D8 -> 4580.5833 | F8: =E8 -> 4580.5833 | G8: =F8 -> 4580.5833 | H8: =G8 -> 4580.5833 | I8: =H8 -> 4580.5833 | J8: =I8 -> 4580.5833 | ... M8: =L8 -> 4580.5833 | N8: =SUM(B8:M8) -> 54967
N9: =SUM(B9:M9) -> 0
N10: =SUM(B10:M10) -> 0
N11: =SUM(B11:M11) -> 0
N12: =SUM(B12:M12) -> 0
N13: =SUM(B13:M13) -> 0
N14: =SUM(B14:M14) -> 0
N15: =SUM(B15:M15) -> 0
A16: (B) Total Receipts | B16: =ROUND(SUM(B5:B15),2) -> 157976.79 | C16: =ROUND(SUM(C5:C15),2) -> 157976.79 | D16: =ROUND(SUM(D5:D15),2) -> 157976.79 | E16: =ROUND(SUM(E5:E15),2) -> 157976.79 | F16: =ROUND(SUM(F5:F15),2) -> 157976.79 | G16: =ROUND(SUM(G5:G15),2) -> 157976.79 | H16: =ROUND(SUM(H5:H15),2) -> 157976.79 | I16: =ROUND(SUM(I5:I15),2) -> 157976.79 | ... M16: =ROUND(SUM(M5:M15),2) -> 157976.79 | N16: =SUM(N5:N15) -> 1895721.5
A18: Cash Disbursements:
A19: PERSONNEL
A20: Principal | B20: ='5yr Budget Projection'!F36/12 -> 8500 | C20: =B20 -> 8500 | D20: =C20 -> 8500 | E20: =D20 -> 8500 | F20: =E20 -> 8500 | G20: =F20 -> 8500 | H20: =G20 -> 8500 | I20: =H20 -> 8500 | J20: =I20 -> 8500 | ... M20: =L20 -> 8500 | N20: ='5yr Budget Projection'!F36 -> 102000
A21: Social Services (Social Worker/Counselor/Nurse) | B21: ='5yr Budget Projection'!F37/12 -> 5015 | C21: =B21 -> 5015 | D21: =C21 -> 5015 | E21: =D21 -> 5015 | F21: =E21 -> 5015 | G21: =F21 -> 5015 | H21: =G21 -> 5015 | I21: =H21 -> 5015 | J21: =I21 -> 5015 | ... M21: =L21 -> 5015 | N21: ='5yr Budget Projection'!F37 -> 60180
A22: Technology Support | B22: ='5yr Budget Projection'!F38/12 -> 1912.5 | C22: =B22 -> 1912.5 | D22: =C22 -> 1912.5 | E22: =D22 -> 1912.5 | F22: =E22 -> 1912.5 | G22: =F22 -> 1912.5 | H22: =G22 -> 1912.5 | I22: =H22 -> 1912.5 | J22: =I22 -> 1912.5 | ... M22: =L22 -> 1912.5 | N22: ='5yr Budget Projection'!F38 -> 22950
A23: Teachers | B23: ='5yr Budget Projection'!F39/12 -> 28988.571 | C23: =B23 -> 28988.571 | D23: =C23 -> 28988.571 | E23: =D23 -> 28988.571 | F23: =E23 -> 28988.571 | G23: =F23 -> 28988.571 | H23: =G23 -> 28988.571 | I23: =H23 -> 28988.571 | J23: =I23 -> 28988.571 | ... M23: =L23 -> 28988.571 | N23: ='5yr Budget Projection'!F39 -> 347862.86
A24: Arts/PE/Comp Sci | B24: ='5yr Budget Projection'!F40/12 -> 5015 | C24: =B24 -> 5015 | D24: =C24 -> 5015 | E24: =D24 -> 5015 | F24: =E24 -> 5015 | G24: =F24 -> 5015 | H24: =G24 -> 5015 | I24: =H24 -> 5015 | J24: =I24 -> 5015 | ... M24: =L24 -> 5015 | N24: ='5yr Budget Projection'!F40 -> 60180
A25: Athletics/Extracurricular Coaches | B25: ='5yr Budget Projection'!F41/12 -> 0 | C25: =B25 -> 0 | D25: =C25 -> 0 | E25: =D25 -> 0 | F25: =E25 -> 0 | G25: =F25 -> 0 | H25: =G25 -> 0 | I25: =H25 -> 0 | J25: =I25 -> 0 | ... M25: =L25 -> 0 | N25: ='5yr Budget Projection'!F41 -> 0
A26: Guidance Counselor | B26: ='5yr Budget Projection'!F42/12 -> 0 | C26: =B26 -> 0 | D26: =C26 -> 0 | E26: =D26 -> 0 | F26: =E26 -> 0 | G26: =F26 -> 0 | H26: =G26 -> 0 | I26: =H26 -> 0 | J26: =I26 -> 0 | ... M26: =L26 -> 0 | N26: ='5yr Budget Projection'!F42 -> 0
A27: Special Education Teacher | B27: ='5yr Budget Projection'!F43/12 -> 6375 | C27: =B27 -> 6375 | D27: =C27 -> 6375 | E27: =D27 -> 6375 | F27: =E27 -> 6375 | G27: =F27 -> 6375 | H27: =G27 -> 6375 | I27: =H27 -> 6375 | J27: =I27 -> 6375 | ... M27: =L27 -> 6375 | N27: ='5yr Budget Projection'!F43 -> 76500
A28: Office Manager | B28: ='5yr Budget Projection'!F44/12 -> 4675 | C28: =B28 -> 4675 | D28: =C28 -> 4675 | E28: =D28 -> 4675 | F28: =E28 -> 4675 | G28: =F28 -> 4675 | H28: =G28 -> 4675 | I28: =H28 -> 4675 | J28: =I28 -> 4675 | ... M28: =L28 -> 4675 | N28: ='5yr Budget Projection'!F44 -> 56100
A29: Office Assistant | B29: ='5yr Budget Projection'!F45/12 -> 0 | C29: =B29 -> 0 | D29: =C29 -> 0 | E29: =D29 -> 0 | F29: =E29 -> 0 | G29: =F29 -> 0 | H29: =G29 -> 0 | I29: =H29 -> 0 | J29: =I29 -> 0 | ... M29: =L29 -> 0 | N29: ='5yr Budget Projection'!F45 -> 0
A30: Business manager | B30: ='5yr Budget Projection'!F46/12 -> 0 | C30: =B30 -> 0 | D30: =C30 -> 0 | E30: =D30 -> 0 | F30: =E30 -> 0 | G30: =F30 -> 0 | H30: =G30 -> 0 | I30: =H30 -> 0 | J30: =I30 -> 0 | ... M30: =L30 -> 0 | N30: ='5yr Budget Projection'!F46 -> 0
A31: Maintenance | B31: ='5yr Budget Projection'!F47/12 -> 1700 | C31: =B31 -> 1700 | D31: =C31 -> 1700 | E31: =D31 -> 1700 | F31: =E31 -> 1700 | G31: =F31 -> 1700 | H31: =G31 -> 1700 | I31: =H31 -> 1700 | J31: =I31 -> 1700 | ... M31: =L31 -> 1700 | N31: ='5yr Budget Projection'!F47 -> 20400
... A36: Other Payroll Expenses/Taxes | B36: ='5yr Budget Projection'!F52/12 -> 0 | C36: =B36 -> 0 | D36: =C36 -> 0 | E36: =D36 -> 0 | F36: =E36 -> 0 | G36: =F36 -> 0 | H36: =G36 -> 0 | I36: =H36 -> 0 | J36: =I36 -> 0 | ... M36: =L36 -> 0 | N36: ='5yr Budget Projection'!F52 -> 0
A37: ='5yr Budget Projection'!A53 -> CEO & COO | B37: ='5yr Budget Projection'!F53/12 -> 4375 | C37: =B37 -> 4375 | D37: =C37 -> 4375 | E37: =D37 -> 4375 | F37: =E37 -> 4375 | G37: =F37 -> 4375 | H37: =G37 -> 4375 | I37: =H37 -> 4375 | J37: =I37 -> 4375 | ... M37: =L37 -> 4375 | N37: =SUM(B37:M37) -> 52500
A38: ='5yr Budget Projection'!A54 -> Assistant Principle | B38: ='5yr Budget Projection'!F54/12 -> 7500 | C38: =B38 -> 7500 | D38: =C38 -> 7500 | E38: =D38 -> 7500 | F38: =E38 -> 7500 | G38: =F38 -> 7500 | H38: =G38 -> 7500 | I38: =H38 -> 7500 | J38: =I38 -> 7500 | ... M38: =L38 -> 7500 | N38: =SUM(B38:M38) -> 90000
A39: Total Personnel | B39: =SUM(B20:B38) -> 106902.07 | C39: =SUM(C20:C38) -> 106902.07 | D39: =SUM(D20:D38) -> 106902.07 | E39: =SUM(E20:E38) -> 106902.07 | F39: =SUM(F20:F38) -> 106902.07 | G39: =SUM(G20:G38) -> 106902.07 | H39: =SUM(H20:H38) -> 106902.07 | I39: =SUM(I20:I38) -> 106902.07 | ... N39: =SUM(N20:N38) -> 1282824.8
A41: INSTRUCTION
A42: Textbooks | B42: ='5yr Budget Projection'!F58/12 -> 821.875 | C42: =B42 -> 821.875 | D42: =C42 -> 821.875 | E42: =D42 -> 821.875 | F42: =E42 -> 821.875 | G42: =F42 -> 821.875 | H42: =G42 -> 821.875 | I42: =H42 -> 821.875 | J42: =I42 -> 821.875 | ... M42: =L42 -> 821.875 | N42: =SUM(B42:M42) -> 9862.5
A43: Classroom Supplies | B43: ='5yr Budget Projection'!F59/12 -> 416.66667 | C43: =B43 -> 416.66667 | D43: =C43 -> 416.66667 | E43: =D43 -> 416.66667 | F43: =E43 -> 416.66667 | G43: =F43 -> 416.66667 | H43: =G43 -> 416.66667 | I43: =H43 -> 416.66667 | J43: =I43 -> 416.66667 | ... M43: =L43 -> 416.66667 | N43: =SUM(B43:M43) -> 5000
A44: Computers | B44: ='5yr Budget Projection'!F60/12 -> 447.91667 | C44: =B44 -> 447.91667 | D44: =C44 -> 447.91667 | E44: =D44 -> 447.91667 | F44: =E44 -> 447.91667 | G44: =F44 -> 447.91667 | H44: =G44 -> 447.91667 | I44: =H44 -> 447.91667 | J44: =I44 -> 447.91667 | ... M44: =L44 -> 447.91667 | N44: =SUM(B44:M44) -> 5375
A45: Software | B45: ='5yr Budget Projection'!F61/12 -> 1275 | C45: =B45 -> 1275 | D45: =C45 -> 1275 | E45: =D45 -> 1275 | F45: =E45 -> 1275 | G45: =F45 -> 1275 | H45: =G45 -> 1275 | I45: =H45 -> 1275 | J45: =I45 -> 1275 | ... M45: =L45 -> 1275 | N45: =SUM(B45:M45) -> 15300
A46: Field Trips | B46: ='5yr Budget Projection'!F62/12 -> 0 | C46: =B46 -> 0 | D46: =C46 -> 0 | E46: =D46 -> 0 | F46: =E46 -> 0 | G46: =F46 -> 0 | H46: =G46 -> 0 | I46: =H46 -> 0 | J46: =I46 -> 0 | ... M46: =L46 -> 0 | N46: =SUM(B46:M46) -> 0
...

Sheet Red Flag
A1: ='5yr Budget Projection'!A2 -> School Name: Tapestry Public Charter School Clayton | B1: Planning Year | C1: Year 1 | D1: Year 2 | E1: Year 3 | F1: Year 4 | G1: Year 5
A2: Surplus (Deficit) | B2: =IF('5yr Budget Projection'!B119<0,"Red Flag!","OK") -> OK | C2: =IF('5yr Budget Projection'!D119<0,"Red Flag!","OK") -> OK | D2: =IF('5yr Budget Projection'!F119<0,"Red Flag!","OK") -> OK | E2: =IF('5yr Budget Projection'!H119<0,"Red Flag!","OK") -> OK | F2: =IF('5yr Budget Projection'!J119<0,"Red Flag!","OK") -> OK | G2: =IF('5yr Budget Projection'!L119<0,"Red Flag!","OK") -> OK
A3: Ending Cash Balance | B3: =IF('5yr Budget Projection'!B125<0,"Red Flag!","OK") -> OK | C3: =IF('5yr Budget Projection'!D125<0,"Red Flag!","OK") -> OK | D3: =IF('5yr Budget Projection'!F125<0,"Red Flag!","OK") -> OK | E3: =IF('5yr Budget Projection'!H125<0,"Red Flag!","OK") -> OK | F3: =IF('5yr Budget Projection'!J125<0,"Red Flag!","OK") -> OK | G3: =IF('5yr Budget Projection'!L125<0,"Red Flag!","OK") -> OK
A4: Total Facilities Costs>15% of Total Expenses | B4: =IF('5yr Budget Projection'!C113>15%,"Red Flag!","OK") -> Red Flag! | C4: =IF('5yr Budget Projection'!E113>15%,"Red Flag!","OK") -> OK | D4: =IF('5yr Budget Projection'!G113>15%,"Red Flag!","OK") -> OK | E4: =IF('5yr Budget Projection'!I113>15%,"Red Flag!","OK") -> OK | F4: =IF('5yr Budget Projection'!K113>15%,"Red Flag!","OK") -> OK | G4: =IF('5yr Budget Projection'!M113>15%,"Red Flag!","OK") -> OK
A6: Cash Flow Projections: Do the Cash Flow Proj. From the 5yr Budget match yr 0-2 Cash Flow Proj.? | B6: YES | C6: YES | D6: YES
