Workbook

Sheet July 2025
A1: Graves County Schools Timesheet 25-26
A2: Employee Name | C2: (enter information in July) | F2: Employee # | H2: (enter info in July)
A3: Location | C3: (enter information in July) | F3: Job Title | H3: (enter info in July)
F4: Hrs./Day | H4: (enter info in July)
B5: July 2025
B6: SUN | C6: MON | D6: TUE | E6: WED | F6: THU | G6: FRI | H6: SAT
D7: 1 | E7: 2 | F7: 3 | G7: 4 | H7: =G7+1 -> 5 | I7: TOTAL
A8: Hours | I8: =IF(SUM(B8:H8)>0,SUM(B8:H8)," ")
A9: Code
A10: OT Hrs
B11: =H7+1 -> 6 | C11: =B11+1 -> 7 | D11: =C11+1 -> 8 | E11: =D11+1 -> 9 | F11: =E11+1 -> 10 | G11: =F11+1 -> 11 | H11: =G11+1 -> 12 | I11: TOTAL
A12: Hours | I12: =IF(SUM(B12:H12)>0,SUM(B12:H12)," ")
A13: Code
A14: OT Hrs
B15: =H11+1 -> 13 | C15: =B15+1 -> 14 | D15: =C15+1 -> 15 | E15: =D15+1 -> 16 | F15: =E15+1 -> 17 | G15: =F15+1 -> 18 | H15: =G15+1 -> 19 | I15: TOTAL
A16: Hours | I16: =IF(SUM(B16:H16)>0,SUM(B16:H16)," ")
A17: Code
A18: OT Hrs
B19: =H15+1 -> 20 | C19: =B19+1 -> 21 | D19: =C19+1 -> 22 | E19: =D19+1 -> 23 | F19: =E19+1 -> 24 | G19: =F19+1 -> 25 | H19: =G19+1 -> 26 | I19: TOTAL
A20: Hours | I20: =IF(SUM(B20:H20)>0,SUM(B20:H20)," ")
A21: Code
A22: OT Hrs
B23: =H19+1 -> 27 | C23: =B23+1 -> 28 | D23: =C23+1 -> 29 | E23: =D23+1 -> 30 | F23: =E23+1 -> 31 | I23: TOTAL
A24: Hours | I24: =IF(SUM(B24:H24)>0,SUM(B24:H24)," ")
A25: Code
A26: OT Hrs
I27: TOTAL
A28: Hours | I28: =IF(SUM(B28:H28)>0,SUM(B28:H28)," ")
A29: Code
A30: OT Hrs
C32: Code | D32: Pay/Type | F32: Pay Type Total
C33: R | D33: Regular Wages
C34: OT | D34: Overtime Wages
C35: S | D35: Sick Leave
C36: E | D36: Emergency
C37: P | D37: Personal
C38: EP | D38: Extra Pay
C39: H | D39: Holiday
C40: J | D40: Jury Duty
D41: TOTAL
...

Sheet August 2025
A1: ='July 2025'!A1:I1 -> Graves County Schools Timesheet 25-26
A2: Employee Name | C2: ='July 2025'!C2:E2 -> (enter information in July) | F2: Employee # | H2: ='July 2025'!H2:I2 -> (enter info in July)
A3: Location | C3: ='July 2025'!C3:E3 -> (enter information in July) | F3: Job Title | H3: ='July 2025'!H3:I3 -> (enter info in July)
F4: Hrs./Day | H4: ='July 2025'!H4:I4 -> (enter info in July)
B5: August 2025
B6: SUN | C6: MON | D6: TUE | E6: WED | F6: THU | G6: FRI | H6: SAT
G7: =F7+1 -> 1 | H7: =G7+1 -> 2 | I7: TOTAL
A8: Hours | I8: =IF(SUM(B8:H8)>0,SUM(B8:H8)," ")
A9: Code
A10: OT Hrs
B11: =H7+1 -> 3 | C11: =B11+1 -> 4 | D11: =C11+1 -> 5 | E11: =D11+1 -> 6 | F11: =E11+1 -> 7 | G11: =F11+1 -> 8 | H11: =G11+1 -> 9 | I11: TOTAL
A12: Hours | I12: =IF(SUM(B12:H12)>0,SUM(B12:H12)," ")
A13: Code
A14: OT Hrs
B15: =H11+1 -> 10 | C15: =B15+1 -> 11 | D15: =C15+1 -> 12 | E15: =D15+1 -> 13 | F15: =E15+1 -> 14 | G15: =F15+1 -> 15 | H15: =G15+1 -> 16 | I15: TOTAL
A16: Hours | I16: =IF(SUM(B16:H16)>0,SUM(B16:H16)," ")
A17: Code
A18: OT Hrs
B19: =H15+1 -> 17 | C19: =B19+1 -> 18 | D19: =C19+1 -> 19 | E19: =D19+1 -> 20 | F19: =E19+1 -> 21 | G19: =F19+1 -> 22 | H19: =G19+1 -> 23 | I19: TOTAL
A20: Hours | I20: =IF(SUM(B20:H20)>0,SUM(B20:H20)," ")
A21: Code
A22: OT Hrs
B23: =H19+1 -> 24 | C23: =B23+1 -> 25 | D23: =C23+1 -> 26 | E23: =D23+1 -> 27 | F23: =E23+1 -> 28 | G23: =F23+1 -> 29 | H23: =G23+1 -> 30 | I23: TOTAL
A24: Hours | I24: =IF(SUM(B24:H24)>0,SUM(B24:H24)," ")
A25: Code
A26: OT Hrs
B27: =H23+1 -> 31 | I27: TOTAL
A28: Hours | I28: =IF(SUM(B28:H28)>0,SUM(B28:H28)," ")
A29: Code
A30: OT Hrs
C32: Code | D32: Pay/Type | F32: Pay Type Total
C33: R | D33: Regular Wages
C34: OT | D34: Overtime Wages
C35: S | D35: Sick Leave
C36: E | D36: Emergency
C37: P | D37: Personal
C38: EP | D38: Extra Pay
C39: H | D39: Holiday
C40: J | D40: Jury Duty
D41: TOTAL
...

Sheet September 2025
A1: ='July 2025'!A1:I1 -> Graves County Schools Timesheet 25-26
A2: Employee Name | C2: ='July 2025'!C2:E2 -> (enter information in July) | F2: Employee # | H2: ='July 2025'!H2:I2 -> (enter info in July)
A3: Location | C3: ='July 2025'!C3:E3 -> (enter information in July) | F3: Job Title | H3: ='July 2025'!H3:I3 -> (enter info in July)
F4: Hrs./Day | H4: ='July 2025'!H4:I4 -> (enter info in July)
B5: September 2025
B6: SUN | C6: MON | D6: TUE | E6: WED | F6: THU | G6: FRI | H6: SAT
C7: 1 | D7: =C7+1 -> 2 | E7: =D7+1 -> 3 | F7: =E7+1 -> 4 | G7: =F7+1 -> 5 | H7: =G7+1 -> 6 | I7: TOTAL
A8: Hours | I8: =IF(SUM(B8:H8)>0,SUM(B8:H8)," ")
A9: Code
A10: OT Hrs
B11: =H7+1 -> 7 | C11: =B11+1 -> 8 | D11: =C11+1 -> 9 | E11: =D11+1 -> 10 | F11: =E11+1 -> 11 | G11: =F11+1 -> 12 | H11: =G11+1 -> 13 | I11: TOTAL
A12: Hours | I12: =IF(SUM(B12:H12)>0,SUM(B12:H12)," ")
A13: Code
A14: OT Hrs
B15: =H11+1 -> 14 | C15: =B15+1 -> 15 | D15: =C15+1 -> 16 | E15: =D15+1 -> 17 | F15: =E15+1 -> 18 | G15: =F15+1 -> 19 | H15: =G15+1 -> 20 | I15: TOTAL
A16: Hours | I16: =IF(SUM(B16:H16)>0,SUM(B16:H16)," ")
A17: Code
A18: OT Hrs
B19: =H15+1 -> 21 | C19: =B19+1 -> 22 | D19: =C19+1 -> 23 | E19: =D19+1 -> 24 | F19: =E19+1 -> 25 | G19: =F19+1 -> 26 | H19: =G19+1 -> 27 | I19: TOTAL
A20: Hours | I20: =IF(SUM(B20:H20)>0,SUM(B20:H20)," ")
A21: Code
A22: OT Hrs
B23: =H19+1 -> 28 | C23: =B23+1 -> 29 | D23: =C23+1 -> 30 | I23: TOTAL
A24: Hours | I24: =IF(SUM(B24:H24)>0,SUM(B24:H24)," ")
A25: Code
A26: OT Hrs
I27: TOTAL
A28: Hours | I28: =IF(SUM(B28:H28)>0,SUM(B28:H28)," ")
A29: Code
A30: OT Hrs
C32: Code | D32: Pay/Type | F32: Pay Type Total
C33: R | D33: Regular Wages
C34: OT | D34: Overtime Wages
C35: S | D35: Sick Leave
C36: E | D36: Emergency
C37: P | D37: Personal
C38: EP | D38: Extra Pay
C39: H | D39: Holiday
C40: J | D40: Jury Duty
D41: TOTAL
...

Sheet October 2025
A1: ='July 2025'!A1:I1 -> Graves County Schools Timesheet 25-26
A2: Employee Name | C2: ='July 2025'!C2:E2 -> (enter information in July) | F2: Employee # | H2: ='July 2025'!H2:I2 -> (enter info in July)
A3: Location | C3: ='July 2025'!C3:E3 -> (enter information in July) | F3: Job Title | H3: ='July 2025'!H3:I3 -> (enter info in July)
F4: Hrs./Day | H4: ='July 2025'!H4:I4 -> (enter info in July)
B5: October 2025
B6: SUN | C6: MON | D6: TUE | E6: WED | F6: THU | G6: FRI | H6: SAT
E7: =D7+1 -> 1 | F7: =E7+1 -> 2 | G7: =F7+1 -> 3 | H7: =G7+1 -> 4 | I7: TOTAL
A8: Hours | I8: =IF(SUM(B8:H8)>0,SUM(B8:H8)," ")
A9: Code
A10: OT Hrs
B11: =H7+1 -> 5 | C11: =B11+1 -> 6 | D11: =C11+1 -> 7 | E11: =D11+1 -> 8 | F11: =E11+1 -> 9 | G11: =F11+1 -> 10 | H11: =G11+1 -> 11 | I11: TOTAL
A12: Hours | I12: =IF(SUM(B12:H12)>0,SUM(B12:H12)," ")
A13: Code
A14: OT Hrs
B15: =H11+1 -> 12 | C15: =B15+1 -> 13 | D15: =C15+1 -> 14 | E15: =D15+1 -> 15 | F15: =E15+1 -> 16 | G15: =F15+1 -> 17 | H15: =G15+1 -> 18 | I15: TOTAL
A16: Hours | I16: =IF(SUM(B16:H16)>0,SUM(B16:H16)," ")
A17: Code
A18: OT Hrs
B19: =H15+1 -> 19 | C19: =B19+1 -> 20 | D19: =C19+1 -> 21 | E19: =D19+1 -> 22 | F19: =E19+1 -> 23 | G19: =F19+1 -> 24 | H19: =G19+1 -> 25 | I19: TOTAL
A20: Hours | I20: =IF(SUM(B20:H20)>0,SUM(B20:H20)," ")
A21: Code
A22: OT Hrs
B23: =H19+1 -> 26 | C23: =B23+1 -> 27 | D23: =C23+1 -> 28 | E23: =D23+1 -> 29 | F23: =E23+1 -> 30 | G23: =F23+1 -> 31 | I23: TOTAL
A24: Hours | I24: =IF(SUM(B24:H24)>0,SUM(B24:H24)," ")
A25: Code
A26: OT Hrs
I27: TOTAL
A28: Hours | I28: =IF(SUM(B28:H28)>0,SUM(B28:H28)," ")
A29: Code
A30: OT Hrs
C32: Code | D32: Pay/Type | F32: Pay Type Total
C33: R | D33: Regular Wages
C34: OT | D34: Overtime Wages
C35: S | D35: Sick Leave
C36: E | D36: Emergency
C37: P | D37: Personal
C38: EP | D38: Extra Pay
C39: H | D39: Holiday
C40: J | D40: Jury Duty
D41: TOTAL
...

Sheet November 2025
A1: ='July 2025'!A1:I1 -> Graves County Schools Timesheet 25-26
A2: Employee Name | C2: ='July 2025'!C2:E2 -> (enter information in July) | F2: Employee # | H2: ='July 2025'!H2:I2 -> (enter info in July)
A3: Location | C3: ='July 2025'!C3:E3 -> (enter information in July) | F3: Job Title | H3: ='July 2025'!H3:I3 -> (enter info in July)
F4: Hrs./Day | H4: ='July 2025'!H4:I4 -> (enter info in July)
B5: November 2025
B6: SUN | C6: MON | D6: TUE | E6: WED | F6: THU | G6: FRI | H6: SAT
H7: =G7+1 -> 1 | I7: TOTAL
A8: Hours | I8: =IF(SUM(B8:H8)>0,SUM(B8:H8)," ")
A9: Code
A10: OT Hrs
B11: =H7+1 -> 2 | C11: =B11+1 -> 3 | D11: =C11+1 -> 4 | E11: =D11+1 -> 5 | F11: =E11+1 -> 6 | G11: =F11+1 -> 7 | H11: =G11+1 -> 8 | I11: TOTAL
A12: Hours | I12: =IF(SUM(B12:H12)>0,SUM(B12:H12)," ")
A13: Code
A14: OT Hrs
B15: =H11+1 -> 9 | C15: =B15+1 -> 10 | D15: =C15+1 -> 11 | E15: =D15+1 -> 12 | F15: =E15+1 -> 13 | G15: =F15+1 -> 14 | H15: =G15+1 -> 15 | I15: TOTAL
A16: Hours | I16: =IF(SUM(B16:H16)>0,SUM(B16:H16)," ")
A17: Code
A18: OT Hrs
B19: =H15+1 -> 16 | C19: =B19+1 -> 17 | D19: =C19+1 -> 18 | E19: =D19+1 -> 19 | F19: =E19+1 -> 20 | G19: =F19+1 -> 21 | H19: =G19+1 -> 22 | I19: TOTAL
A20: Hours | I20: =IF(SUM(B20:H20)>0,SUM(B20:H20)," ")
A21: Code
A22: OT Hrs
B23: =H19+1 -> 23 | C23: =B23+1 -> 24 | D23: =C23+1 -> 25 | E23: =D23+1 -> 26 | F23: =E23+1 -> 27 | G23: =F23+1 -> 28 | H23: =G23+1 -> 29 | I23: TOTAL
A24: Hours | I24: =IF(SUM(B24:H24)>0,SUM(B24:H24)," ")
A25: Code
A26: OT Hrs
B27: =H23+1 -> 30 | I27: TOTAL
A28: Hours | I28: =IF(SUM(B28:H28)>0,SUM(B28:H28)," ")
A29: Code
A30: OT Hrs
C32: Code | D32: Pay/Type | F32: Pay Type Total
C33: R | D33: Regular Wages
C34: OT | D34: Overtime Wages
C35: S | D35: Sick Leave
C36: E | D36: Emergency
C37: P | D37: Personal
C38: EP | D38: Extra Pay
C39: H | D39: Holiday
C40: J | D40: Jury Duty
D41: TOTAL
...

Sheet December 2025
A1: ='July 2025'!A1:I1 -> Graves County Schools Timesheet 25-26
A2: Employee Name | C2: ='July 2025'!C2:E2 -> (enter information in July) | F2: Employee # | H2: ='July 2025'!H2:I2 -> (enter info in July)
A3: Location | C3: ='July 2025'!C3:E3 -> (enter information in July) | F3: Job Title | H3: ='July 2025'!H3:I3 -> (enter info in July)
F4: Hrs./Day | H4: ='July 2025'!H4:I4 -> (enter info in July)
B5: December 2025
B6: SUN | C6: MON | D6: TUE | E6: WED | F6: THU | G6: FRI | H6: SAT
C7: =B7+1 -> 1 | D7: =C7+1 -> 2 | E7: =D7+1 -> 3 | F7: =E7+1 -> 4 | G7: =F7+1 -> 5 | H7: =G7+1 -> 6 | I7: TOTAL
A8: Hours | I8: =IF(SUM(B8:H8)>0,SUM(B8:H8)," ")
A9: Code
A10: OT Hrs
B11: =H7+1 -> 7 | C11: =B11+1 -> 8 | D11: =C11+1 -> 9 | E11: =D11+1 -> 10 | F11: =E11+1 -> 11 | G11: =F11+1 -> 12 | H11: =G11+1 -> 13 | I11: TOTAL
A12: Hours | I12: =IF(SUM(B12:H12)>0,SUM(B12:H12)," ")
A13: Code
A14: OT Hrs
B15: =H11+1 -> 14 | C15: =B15+1 -> 15 | D15: =C15+1 -> 16 | E15: =D15+1 -> 17 | F15: =E15+1 -> 18 | G15: =F15+1 -> 19 | H15: =G15+1 -> 20 | I15: TOTAL
A16: Hours | I16: =IF(SUM(B16:H16)>0,SUM(B16:H16)," ")
A17: Code
A18: OT Hrs
B19: =H15+1 -> 21 | C19: =B19+1 -> 22 | D19: =C19+1 -> 23 | E19: =D19+1 -> 24 | F19: =E19+1 -> 25 | G19: =F19+1 -> 26 | H19: =G19+1 -> 27 | I19: TOTAL
A20: Hours | I20: =IF(SUM(B20:H20)>0,SUM(B20:H20)," ")
A21: Code
A22: OT Hrs
B23: =H19+1 -> 28 | C23: =B23+1 -> 29 | D23: =C23+1 -> 30 | E23: =D23+1 -> 31 | I23: TOTAL
A24: Hours | I24: =IF(SUM(B24:H24)>0,SUM(B24:H24)," ")
A25: Code
A26: OT Hrs
I27: TOTAL
A28: Hours | I28: =IF(SUM(B28:H28)>0,SUM(B28:H28)," ")
A29: Code
A30: OT Hrs
C32: Code | D32: Pay/Type | F32: Pay Type Total
C33: R | D33: Regular Wages
C34: OT | D34: Overtime Wages
C35: S | D35: Sick Leave
C36: E | D36: Emergency
C37: P | D37: Personal
C38: EP | D38: Extra Pay
C39: H | D39: Holiday
C40: J | D40: Jury Duty
D41: TOTAL
...

Sheet January 2026
A1: ='July 2025'!A1:I1 -> Graves County Schools Timesheet 25-26
A2: Employee Name | C2: ='July 2025'!C2:E2 -> (enter information in July) | F2: Employee # | H2: ='July 2025'!H2:I2 -> (enter info in July)
A3: Location | C3: ='July 2025'!C3:E3 -> (enter information in July) | F3: Job Title | H3: ='July 2025'!H3:I3 -> (enter info in July)
F4: Hrs./Day | H4: ='July 2025'!H4:I4 -> (enter info in July)
B5: January 2026
B6: SUN | C6: MON | D6: TUE | E6: WED | F6: THU | G6: FRI | H6: SAT
F7: =E7+1 -> 1 | G7: =F7+1 -> 2 | H7: =G7+1 -> 3 | I7: TOTAL
A8: Hours | I8: =IF(SUM(B8:H8)>0,SUM(B8:H8)," ")
A9: Code
A10: OT Hrs
B11: =H7+1 -> 4 | C11: =B11+1 -> 5 | D11: =C11+1 -> 6 | E11: =D11+1 -> 7 | F11: =E11+1 -> 8 | G11: =F11+1 -> 9 | H11: =G11+1 -> 10 | I11: TOTAL
A12: Hours | I12: =IF(SUM(B12:H12)>0,SUM(B12:H12)," ")
A13: Code
A14: OT Hrs
B15: =H11+1 -> 11 | C15: =B15+1 -> 12 | D15: =C15+1 -> 13 | E15: =D15+1 -> 14 | F15: =E15+1 -> 15 | G15: =F15+1 -> 16 | H15: =G15+1 -> 17 | I15: TOTAL
A16: Hours | I16: =IF(SUM(B16:H16)>0,SUM(B16:H16)," ")
A17: Code
A18: OT Hrs
B19: =H15+1 -> 18 | C19: =B19+1 -> 19 | D19: =C19+1 -> 20 | E19: =D19+1 -> 21 | F19: =E19+1 -> 22 | G19: =F19+1 -> 23 | H19: =G19+1 -> 24 | I19: TOTAL
A20: Hours | I20: =IF(SUM(B20:H20)>0,SUM(B20:H20)," ")
A21: Code
A22: OT Hrs
B23: =H19+1 -> 25 | C23: =B23+1 -> 26 | D23: =C23+1 -> 27 | E23: =D23+1 -> 28 | F23: =E23+1 -> 29 | G23: =F23+1 -> 30 | H23: =G23+1 -> 31 | I23: TOTAL
A24: Hours | I24: =IF(SUM(B24:H24)>0,SUM(B24:H24)," ")
A25: Code
A26: OT Hrs
I27: TOTAL
A28: Hours | I28: =IF(SUM(B28:H28)>0,SUM(B28:H28)," ")
A29: Code
A30: OT Hrs
C32: Code | D32: Pay/Type | F32: Pay Type Total
C33: R | D33: Regular Wages
C34: OT | D34: Overtime Wages
C35: S | D35: Sick Leave
C36: E | D36: Emergency
C37: P | D37: Personal
C38: EP | D38: Extra Pay
C39: H | D39: Holiday
C40: J | D40: Jury Duty
D41: TOTAL
...

Sheet February 2026
A1: ='July 2025'!A1:I1 -> Graves County Schools Timesheet 25-26
A2: Employee Name | C2: ='July 2025'!C2:E2 -> (enter information in July) | F2: Employee # | H2: ='July 2025'!H2:I2 -> (enter info in July)
A3: Location | C3: ='July 2025'!C3:E3 -> (enter information in July) | F3: Job Title | H3: ='July 2025'!H3:I3 -> (enter info in July)
F4: Hrs./Day | H4: ='July 2025'!H4:I4 -> (enter info in July)
B5: February 2026
B6: SUN | C6: MON | D6: TUE | E6: WED | F6: THU | G6: FRI | H6: SAT
B7: 1 | C7: =B7+1 -> 2 | D7: =C7+1 -> 3 | E7: =D7+1 -> 4 | F7: =E7+1 -> 5 | G7: =F7+1 -> 6 | H7: =G7+1 -> 7 | I7: TOTAL
A8: Hours | I8: =IF(SUM(B8:H8)>0,SUM(B8:H8)," ")
A9: Code
A10: OT Hrs
B11: =H7+1 -> 8 | C11: =B11+1 -> 9 | D11: =C11+1 -> 10 | E11: =D11+1 -> 11 | F11: =E11+1 -> 12 | G11: =F11+1 -> 13 | H11: =G11+1 -> 14 | I11: TOTAL
A12: Hours | I12: =IF(SUM(B12:H12)>0,SUM(B12:H12)," ")
A13: Code
A14: OT Hrs
B15: =H11+1 -> 15 | C15: =B15+1 -> 16 | D15: =C15+1 -> 17 | E15: =D15+1 -> 18 | F15: =E15+1 -> 19 | G15: =F15+1 -> 20 | H15: =G15+1 -> 21 | I15: TOTAL
A16: Hours | I16: =IF(SUM(B16:H16)>0,SUM(B16:H16)," ")
A17: Code
A18: OT Hrs
B19: =H15+1 -> 22 | C19: =B19+1 -> 23 | D19: =C19+1 -> 24 | E19: =D19+1 -> 25 | F19: =E19+1 -> 26 | G19: =F19+1 -> 27 | H19: =G19+1 -> 28 | I19: TOTAL
A20: Hours | I20: =IF(SUM(B20:H20)>0,SUM(B20:H20)," ")
A21: Code
A22: OT Hrs
I23: TOTAL
A24: Hours | I24: =IF(SUM(B24:H24)>0,SUM(B24:H24)," ")
A25: Code
A26: OT Hrs
I27: TOTAL
A28: Hours | I28: =IF(SUM(B28:H28)>0,SUM(B28:H28)," ")
A29: Code
A30: OT Hrs
C32: Code | D32: Pay/Type | F32: Pay Type Total
C33: R | D33: Regular Wages
C34: OT | D34: Overtime Wages
C35: S | D35: Sick Leave
C36: E | D36: Emergency
C37: P | D37: Personal
C38: EP | D38: Extra Pay
C39: H | D39: Holiday
C40: J | D40: Jury Duty
D41: TOTAL
...

Sheet March 2026
A1: ='July 2025'!A1:I1 -> Graves County Schools Timesheet 25-26
A2: Employee Name | C2: ='July 2025'!C2:E2 -> (enter information in July) | F2: Employee # | H2: ='July 2025'!H2:I2 -> (enter info in July)
A3: Location | C3: ='July 2025'!C3:E3 -> (enter information in July) | F3: Job Title | H3: ='July 2025'!H3:I3 -> (enter info in July)
F4: Hrs./Day | H4: ='July 2025'!H4:I4 -> (enter info in July)
B5: March 2026
B6: SUN | C6: MON | D6: TUE | E6: WED | F6: THU | G6: FRI | H6: SAT
B7: 1 | C7: =B7+1 -> 2 | D7: =C7+1 -> 3 | E7: =D7+1 -> 4 | F7: =E7+1 -> 5 | G7: =F7+1 -> 6 | H7: =G7+1 -> 7 | I7: TOTAL
A8: Hours | I8: =IF(SUM(B8:H8)>0,SUM(B8:H8)," ")
A9: Code
A10: OT Hrs
B11: =H7+1 -> 8 | C11: =B11+1 -> 9 | D11: =C11+1 -> 10 | E11: =D11+1 -> 11 | F11: =E11+1 -> 12 | G11: =F11+1 -> 13 | H11: =G11+1 -> 14 | I11: TOTAL
A12: Hours | I12: =IF(SUM(B12:H12)>0,SUM(B12:H12)," ")
A13: Code
A14: OT Hrs
B15: =H11+1 -> 15 | C15: =B15+1 -> 16 | D15: =C15+1 -> 17 | E15: =D15+1 -> 18 | F15: =E15+1 -> 19 | G15: =F15+1 -> 20 | H15: =G15+1 -> 21 | I15: TOTAL
A16: Hours | I16: =IF(SUM(B16:H16)>0,SUM(B16:H16)," ")
A17: Code
A18: OT Hrs
B19: =H15+1 -> 22 | C19: =B19+1 -> 23 | D19: =C19+1 -> 24 | E19: =D19+1 -> 25 | F19: =E19+1 -> 26 | G19: =F19+1 -> 27 | H19: =G19+1 -> 28 | I19: TOTAL
A20: Hours | I20: =IF(SUM(B20:H20)>0,SUM(B20:H20)," ")
A21: Code
A22: OT Hrs
B23: =H19+1 -> 29 | C23: =B23+1 -> 30 | D23: =C23+1 -> 31 | I23: TOTAL
A24: Hours | I24: =IF(SUM(B24:H24)>0,SUM(B24:H24)," ")
A25: Code
A26: OT Hrs
I27: TOTAL
A28: Hours | I28: =IF(SUM(B28:H28)>0,SUM(B28:H28)," ")
A29: Code
A30: OT Hrs
C32: Code | D32: Pay/Type | F32: Pay Type Total
C33: R | D33: Regular Wages
C34: OT | D34: Overtime Wages
C35: S | D35: Sick Leave
C36: E | D36: Emergency
C37: P | D37: Personal
C38: EP | D38: Extra Pay
C39: H | D39: Holiday
C40: J | D40: Jury Duty
D41: TOTAL
...

Sheet April 2026
A1: ='July 2025'!A1:I1 -> Graves County Schools Timesheet 25-26
A2: Employee Name | C2: ='July 2025'!C2:E2 -> (enter information in July) | F2: Employee # | H2: ='July 2025'!H2:I2 -> (enter info in July)
A3: Location | C3: ='July 2025'!C3:E3 -> (enter information in July) | F3: Job Title | H3: ='July 2025'!H3:I3 -> (enter info in July)
F4: Hrs./Day | H4: ='July 2025'!H4:I4 -> (enter info in July)
B5: April 2026
B6: SUN | C6: MON | D6: TUE | E6: WED | F6: THU | G6: FRI | H6: SAT
E7: =D7+1 -> 1 | F7: =E7+1 -> 2 | G7: =F7+1 -> 3 | H7: =G7+1 -> 4 | I7: TOTAL
A8: Hours | I8: =IF(SUM(B8:H8)>0,SUM(B8:H8)," ")
A9: Code
A10: OT Hrs
B11: =H7+1 -> 5 | C11: =B11+1 -> 6 | D11: =C11+1 -> 7 | E11: =D11+1 -> 8 | F11: =E11+1 -> 9 | G11: =F11+1 -> 10 | H11: =G11+1 -> 11 | I11: TOTAL
A12: Hours | I12: =IF(SUM(B12:H12)>0,SUM(B12:H12)," ")
A13: Code
A14: OT Hrs
B15: =H11+1 -> 12 | C15: =B15+1 -> 13 | D15: =C15+1 -> 14 | E15: =D15+1 -> 15 | F15: =E15+1 -> 16 | G15: =F15+1 -> 17 | H15: =G15+1 -> 18 | I15: TOTAL
A16: Hours | I16: =IF(SUM(B16:H16)>0,SUM(B16:H16)," ")
A17: Code
A18: OT Hrs
B19: =H15+1 -> 19 | C19: =B19+1 -> 20 | D19: =C19+1 -> 21 | E19: =D19+1 -> 22 | F19: =E19+1 -> 23 | G19: =F19+1 -> 24 | H19: =G19+1 -> 25 | I19: TOTAL
A20: Hours | I20: =IF(SUM(B20:H20)>0,SUM(B20:H20)," ")
A21: Code
A22: OT Hrs
B23: =H19+1 -> 26 | C23: =B23+1 -> 27 | D23: =C23+1 -> 28 | E23: =D23+1 -> 29 | F23: =E23+1 -> 30 | I23: TOTAL
A24: Hours | I24: =IF(SUM(B24:H24)>0,SUM(B24:H24)," ")
A25: Code
A26: OT Hrs
I27: TOTAL
A28: Hours | I28: =IF(SUM(B28:H28)>0,SUM(B28:H28)," ")
A29: Code
A30: OT Hrs
C32: Code | D32: Pay/Type | F32: Pay Type Total
C33: R | D33: Regular Wages
C34: OT | D34: Overtime Wages
C35: S | D35: Sick Leave
C36: E | D36: Emergency
C37: P | D37: Personal
C38: EP | D38: Extra Pay
C39: H | D39: Holiday
C40: J | D40: Jury Duty
D41: TOTAL
...

Sheet May 2026
A1: ='July 2025'!A1:I1 -> Graves County Schools Timesheet 25-26
A2: Employee Name | C2: ='July 2025'!C2:E2 -> (enter information in July) | F2: Employee # | H2: ='July 2025'!H2:I2 -> (enter info in July)
A3: Location | C3: ='July 2025'!C3:E3 -> (enter information in July) | F3: Job Title | H3: ='July 2025'!H3:I3 -> (enter info in July)
F4: Hrs./Day | H4: ='July 2025'!H4:I4 -> (enter info in July)
B5: May 2026
B6: SUN | C6: MON | D6: TUE | E6: WED | F6: THU | G6: FRI | H6: SAT
G7: =F7+1 -> 1 | H7: =G7+1 -> 2 | I7: TOTAL
A8: Hours | I8: =IF(SUM(B8:H8)>0,SUM(B8:H8)," ")
A9: Code
A10: OT Hrs
B11: =H7+1 -> 3 | C11: =B11+1 -> 4 | D11: =C11+1 -> 5 | E11: =D11+1 -> 6 | F11: =E11+1 -> 7 | G11: =F11+1 -> 8 | H11: =G11+1 -> 9 | I11: TOTAL
A12: Hours | I12: =IF(SUM(B12:H12)>0,SUM(B12:H12)," ")
A13: Code
A14: OT Hrs
B15: =H11+1 -> 10 | C15: =B15+1 -> 11 | D15: =C15+1 -> 12 | E15: =D15+1 -> 13 | F15: =E15+1 -> 14 | G15: =F15+1 -> 15 | H15: =G15+1 -> 16 | I15: TOTAL
A16: Hours | I16: =IF(SUM(B16:H16)>0,SUM(B16:H16)," ")
A17: Code
A18: OT Hrs
B19: =H15+1 -> 17 | C19: =B19+1 -> 18 | D19: =C19+1 -> 19 | E19: =D19+1 -> 20 | F19: =E19+1 -> 21 | G19: =F19+1 -> 22 | H19: =G19+1 -> 23 | I19: TOTAL
A20: Hours | I20: =IF(SUM(B20:H20)>0,SUM(B20:H20)," ")
A21: Code
A22: OT Hrs
B23: =H19+1 -> 24 | C23: =B23+1 -> 25 | D23: =C23+1 -> 26 | E23: =D23+1 -> 27 | F23: =E23+1 -> 28 | G23: =F23+1 -> 29 | H23: =G23+1 -> 30 | I23: TOTAL
A24: Hours | I24: =IF(SUM(B24:H24)>0,SUM(B24:H24)," ")
A25: Code
A26: OT Hrs
B27: =H23+1 -> 31 | I27: TOTAL
A28: Hours | I28: =IF(SUM(B28:H28)>0,SUM(B28:H28)," ")
A29: Code
A30: OT Hrs
C32: Code | D32: Pay/Type | F32: Pay Type Total
C33: R | D33: Regular Wages
C34: OT | D34: Overtime Wages
C35: S | D35: Sick Leave
C36: E | D36: Emergency
C37: P | D37: Personal
C38: EP | D38: Extra Pay
C39: H | D39: Holiday
C40: J | D40: Jury Duty
D41: TOTAL
...

Sheet June 2026
A1: ='July 2025'!A1:I1 -> Graves County Schools Timesheet 25-26
A2: Employee Name | C2: ='July 2025'!C2:E2 -> (enter information in July) | F2: Employee # | H2: ='July 2025'!H2:I2 -> (enter info in July)
A3: Location | C3: ='July 2025'!C3:E3 -> (enter information in July) | F3: Job Title | H3: ='July 2025'!H3:I3 -> (enter info in July)
F4: Hrs./Day | H4: ='July 2025'!H4:I4 -> (enter info in July)
B5: June 2026
B6: SUN | C6: MON | D6: TUE | E6: WED | F6: THU | G6: FRI | H6: SAT
C7: =B7+1 -> 1 | D7: =C7+1 -> 2 | E7: =D7+1 -> 3 | F7: =E7+1 -> 4 | G7: =F7+1 -> 5 | H7: =G7+1 -> 6 | I7: TOTAL
A8: Hours | I8: =IF(SUM(B8:H8)>0,SUM(B8:H8)," ")
A9: Code
A10: OT Hrs
B11: =H7+1 -> 7 | C11: =B11+1 -> 8 | D11: =C11+1 -> 9 | E11: =D11+1 -> 10 | F11: =E11+1 -> 11 | G11: =F11+1 -> 12 | H11: =G11+1 -> 13 | I11: TOTAL
A12: Hours | I12: =IF(SUM(B12:H12)>0,SUM(B12:H12)," ")
A13: Code
A14: OT Hrs
B15: =H11+1 -> 14 | C15: =B15+1 -> 15 | D15: =C15+1 -> 16 | E15: =D15+1 -> 17 | F15: =E15+1 -> 18 | G15: =F15+1 -> 19 | H15: =G15+1 -> 20 | I15: TOTAL
A16: Hours | I16: =IF(SUM(B16:H16)>0,SUM(B16:H16)," ")
A17: Code
A18: OT Hrs
B19: =H15+1 -> 21 | C19: =B19+1 -> 22 | D19: =C19+1 -> 23 | E19: =D19+1 -> 24 | F19: =E19+1 -> 25 | G19: =F19+1 -> 26 | H19: =G19+1 -> 27 | I19: TOTAL
A20: Hours | I20: =IF(SUM(B20:H20)>0,SUM(B20:H20)," ")
A21: Code
A22: OT Hrs
B23: =H19+1 -> 28 | C23: =B23+1 -> 29 | D23: =C23+1 -> 30 | I23: TOTAL
A24: Hours | I24: =IF(SUM(B24:H24)>0,SUM(B24:H24)," ")
A25: Code
A26: OT Hrs
I27: TOTAL
A28: Hours | I28: =IF(SUM(B28:H28)>0,SUM(B28:H28)," ")
A29: Code
A30: OT Hrs
C32: Code | D32: Pay/Type | F32: Pay Type Total
C33: R | D33: Regular Wages
C34: OT | D34: Overtime Wages
C35: S | D35: Sick Leave
C36: E | D36: Emergency
C37: P | D37: Personal
C38: EP | D38: Extra Pay
C39: H | D39: Holiday
C40: J | D40: Jury Duty
D41: TOTAL
...
