Workbook
Name SCHADDRS: #REF!
Name SCHADDRS: #REF!
Name SCHADDRS: #REF!
Name SCHADDRS: #REF!
Name SCHADDRS: #REF!
Name SCHADDRS: #REF!
Name SCHADDRS: #REF!
Name SCHADDRS: #REF!
Name SCHADDRS: #REF!
Name SCHADDRS: #REF!
Name SCHCTY: #REF!
Name SCHCTY: #REF!
Name SCHCTY: #REF!
Name SCHCTY: #REF!
Name SCHCTY: #REF!
Name SCHCTY: #REF!
Name SCHCTY: #REF!
Name SCHCTY: #REF!
Name SCHCTY: #REF!
Name SCHCTY: #REF!
Name SCHNMBR: #REF!
Name SCHNMBR: #REF!
Name SCHNMBR: #REF!
Name SCHNMBR: #REF!
Name SCHNMBR: #REF!
Name SCHNMBR: #REF!
Name SCHNMBR: #REF!
Name SCHNMBR: #REF!
Name SCHNMBR: #REF!
Name SCHNMBR: #REF!
Name SCHNME: #REF!
Name SCHNME: #REF!
Name SCHNME: #REF!
Name SCHNME: #REF!
Name SCHNME: #REF!
Name SCHNME: #REF!
Name SCHNME: #REF!
Name SCHNME: #REF!
Name SCHNME: #REF!
Name SCHNME: #REF!
Name SUPT: #REF!
Name SUPT: #REF!
Name SUPT: #REF!
Name SUPT: #REF!
Name SUPT: #REF!
Name SUPT: #REF!
Name SUPT: #REF!
Name SUPT: #REF!
Name SUPT: #REF!
Name SUPT: #REF!

Sheet Single Audit Cover
A2: ANNUAL FEDERAL FINANCIAL COMPLIANCE REPORT (COVER SHEET)
A3: DISTRICT/JOINT AGREEMENT
A4: ="Year Ending June 30, "&[1]AFR21!E2 -> Year Ending June 30, 2021
A6: DISTRICT/JOINT AGREEMENT NAME | E6: RCDT NUMBER | G6: CPA FIRM 9-DIGIT STATE REGISTRATION NUMBER
A7: Coal City Community School District #1 | E7: 24-032-0010-26 | G7: 065-029342
A8: ADMINISTRATIVE AGENT IF JOINT AGREEMENT (as applicable) | G8: NAME AND ADDRESS OF AUDIT FIRM
A9: Dr. Kent Bugg | G9: Mack & Associates
G10: 116 E. Washington St., Suite 1
A11: ADDRESS OF AUDITED ENTITY | G11: Morris
A12: (Street and/or P.O. Box, City, State, Zip Code)
G13: E-MAIL ADDRESS: | I13: tmack@mackcpas.com
A14: 550 S. Carbon Hill Road | G14: NAME OF AUDIT SUPERVISOR
A15: Coal City | G15: Tawnya Mack, CPA
A16: 60416
G17: CPA FIRM TELEPHONE NUMBER | K17: FAX NUMBER
G18: 815-942-3306 | K18: 815-942-9430
A21: THE FOLLOWING INFORMATION MUST BE INCLUDED IN THE SINGLE AUDIT REPORT:
B23: x | C23: A copy of the CPA firm's most recent peer review report and acceptance letter has been submitted to
C24: ISBE (either with the audit or under separate cover).
B26: x | C26: Financial Statements including footnotes (Title 2 CFR §200.510 (a))
B28: x | C28: Schedule of Expenditures of Federal Awards including footnotes (Title 2 CFR §200.510 (b))
B30: x | C30: Independent Auditor's Report on the Financial Statements (Title 2 CFR §200.515 (a))
B32: x | C32: Independent Auditor's Report on Internal Control Over Financial Reporting and Compliance Based on an Audit of
C33: Financial Statements Performed in Accordance with Government Auditing Standards (Title 2 CFR §200.515 (b))
B35: x | C35: Independent Auditor's Report on Compliance for Each Major Federal Program and on Internal Control Over
C36: Compliance Required by Uniform Guidance (Title 2 CFR §200.515 (c))
B38: x | C38: Schedule of Findings and Questioned Costs (Title 2 CFR §200.515 (d))
B40: X | C40: Summary Schedule of Prior Audit Findings (Title 2 CFR §200.511 (b))
B42: N/A | C42: Corrective Action Plan on LEA letterhead (Title 2 CFR §200.511 (c))
A44: THE FOLLOWING INFORMATION IS HIGHLY RECOMMENDED TO BE INCLUDED:
C46: A Copy of the Federal Data Collection Form (Title 2 CFR §200.512 (b))
B48: X | C48: A Copy of each Management Letter

Sheet Single Audit Checklist
A1: ='Single Audit Cover'!A7 -> Coal City Community School District #1
A2: ='Single Audit Cover'!E7 -> 24-032-0010-26
A3: SINGLE AUDIT INFORMATION CHECKLIST
B5: The following checklist is OPTIONAL; it is not a required form for completion of Single Audit information. The purpose of the
B6: checklist is to assist in determining if appropriate information has been correctly completed within the Annual Financial Report (AFR).
B7: This is not a complete listing of all Single Audit requirements, but highlights some of the more common errors found during ISBE reviews.
B9: GENERAL INFORMATION
C11: 1 | D11: Signed and dated copies of audit opinion letters have been included with audit package submitted to ISBE.
C13: =C11+1 -> 2 | D13: All opinion letters use the most current audit language and formatting as mandated in SAS 115/SAS 117 and other pronouncements.
C15: =C13+1 -> 3 | D15: ALL Single Audit forms within the AFR Excel workbook have been completed, where appropriate.
D16: - For those forms that are not applicable, "N/A" or similar language has been indicated.
C18: =C15+1 -> 4 | D18: ALL Federal revenues reported in FRIS Report 0053 (Summary of Payments) are accounted for in the Schedule of Expenditures of
D19: Federal Awards (SEFA).
C21: =C18+1 -> 5 | D21: Federal revenues reported on the AFR reconcile to Federal revenues reported on the SEFA.
D22: - Verify or reconcile on reconciliation worksheet.
C24: =C21+1 -> 6 | D24: The total value of non-cash COMMODITIES has been included within the AFR on the INDIRECT COSTS page (ICR Computation 29) on Line 11.
D25: It should not be included in the Statement of Revenues Received (REVENUES 9-14) within the AFR Accounts 4210 - 4299.
D26: Those accounts are specific cash programs, not non-cash assistance such as COMMODITIES.
C28: =C24+1 -> 7 | D28: Complete audit package (Data Collection Form, audit reports, etc.) has been submitted electronically to the Federal Audit Clearinghouse
D29: https://harvester.census.gov/facweb/Default.aspx
B31: SCHEDULE OF EXPENDITURES OF FEDERAL AWARDS
C33: 8 | D33: All prior year's projects are included and reconciled to final FRIS report amounts.
D34: - Including receipt/revenue and expenditure/disbursement amounts.
C36: =C33+1 -> 9 | D36: All current year's projects are included and reconciled to most recent FRIS report filed.
D37: - Including receipt/revenue and expenditure/disbursement amounts.
C39: =C36+1 -> 10 | D39: Differences in reported spending amounts on the SEFA and the final FRIS reports should be detailed and/or documented in a finding,
D40: - discrepancies should be reported as Questioned Costs.
C42: 11 | D42: The total amount provided to subrecipients from each Federal program is included.
C44: =C42+1 -> 12 | D44: Prior-year and Current-year Child Nutrition Programs (CNP) are included on the SEFA (with prior-year program showing total cash received):
D45: Project year runs from October 1 to September 30, so projects will cross fiscal years;
D46: This means that audited year revenues will include funds from both the prior year and current year projects.
C48: =C44+1 -> 13 | D48: Each CNP project should be reported on a separate line (one line per project year per program).
C50: =C48+1 -> 14 | D50: Total CNP Revenue amounts are consistent with grant amounts awarded by ISBE for each program by project year.
C52: =C50+1 -> 15 | D52: Total CNP Expenditure amounts are consistent with grant amounts awarded by ISBE for each program by project year.
C54: =C52+1 -> 16 | D54: Exceptions should result in a finding with Questioned Costs.
C56: =C54+1 -> 17 | D56: The total value of non-cash COMMODITIES has been reported on the SEFA (CFDA 10.555).
D57: - The value is determined from the following, with each item on a separate line:
D58: * Non-Cash Commodities: Monthly Commodities Bulletin for April (From the Illinois Commodities System accessed through ISBE web site)
D59: Total commodities = A PAL Allocated + B PAL Allocated + Processing Deductions + Total Bonus Allocated
D60: Verify Non-Cash Commodities amount on ISBE web site: https://www.isbe.net/Pages/School-Nutrition-Programs-Food-Distribution.aspx
...

Sheet SEFA Reconcile
A1: ='Single Audit Cover'!A7 -> Coal City Community School District #1
A2: ='Single Audit Cover'!E7 -> 24-032-0010-26
A4: RECONCILIATION OF FEDERAL REVENUES
A5: ='Single Audit Cover'!A4 -> Year Ending June 30, 2021
A6: Annual Financial Report to Schedule of Expenditures of Federal Awards
A8: TOTAL FEDERAL REVENUE IN AFR
A10: Account Summary 7-9, Line 7 | B10: Account 4000 | D10: 1329870
A11: Flow-through Federal Revenues
A12: Revenues 10-15, Line 115 | B12: Account 2200
A13: Value of Commodities
A14: ICR Computation 37, Line 11 | D14: 59684
A16: Less: Medicaid Fee-for-Service Program
A17: Revenues 10-15, Line 266 | B17: Account 4992 | D17: -66870
A19: AFR TOTAL FEDERAL REVENUES: | D19: 1322684
A21: ADJUSTMENTS TO AFR FEDERAL REVENUE AMOUNTS:
A23: Reason for Adjustment:
A32: ADJUSTED AFR FEDERAL REVENUES | D32: 1322684
A34: Total Current Year Federal Revenues Reported on SEFA:
A35: Federal Revenues | B35: Column D | D35: 1322684
A37: Adjustments to SEFA Federal Revenues:
A39: Reason for Adjustment:
B47: ADJUSTED SEFA FEDERAL REVENUE: | D47: 1322684
B49: DIFFERENCE:

Sheet  SEFA
B1: ='Single Audit Cover'!A7 -> Coal City Community School District #1
B2: ='Single Audit Cover'!E7 -> 24-032-0010-26
B3: SCHEDULE OF EXPENDITURES OF FEDERAL AWARDS
B4: ='Single Audit Cover'!A4 -> Year Ending June 30, 2021
D6: ISBE Project # | E6: Receipts/Revenues | G6: Expenditure/Disbursements4
B7: Federal Grantor/Pass-Through Grantor | H7: Year | J7: Year | L7: Final
C8: CFDA | D8: (1st 8 digits) | E8: Year | F8: Year | G8: Year | H8: ="7/1/"&MID([1]AFR21!$E$2,3,2)-2&"-6/30/"&MID([1]AFR21!$E$2,3,2)-1 -> 7/1/19-6/30/20 | I8: Year | J8: ="7/1/"&MID([1]AFR21!$E$2,3,2)-1&"-6/30/"&MID([1]AFR21!$E$2,3,2) -> 7/1/20-6/30/21 | K8: Obligations/ | L8: Status | M8: Budget
B9: Program or Cluster Title and | C9: Number2 | D9: or Contract #3 | E9: ="7/1/"&MID([1]AFR21!$E$2,3,2)-2&"-6/30/"&MID([1]AFR21!$E$2,3,2)-1 -> 7/1/19-6/30/20 | F9: ="7/1/"&MID([1]AFR21!$E$2,3,2)-1&"-6/30/"&MID([1]AFR21!$E$2,3,2) -> 7/1/20-6/30/21 | G9: ="7/1/"&MID([1]AFR21!$E$2,3,2)-2&"-6/30/"&MID([1]AFR21!$E$2,3,2)-1 -> 7/1/19-6/30/20 | H9: Pass through to | I9: ="7/1/"&MID([1]AFR21!$E$2,3,2)-1&"-6/30/"&MID([1]AFR21!$E$2,3,2) -> 7/1/20-6/30/21 | J9: Pass through to | K9: Encumb. | L9: (E)+(F)+(G)
B10: Major Program Designation | C10: (A) | D10: (B) | E10: (C) | F10: (D) | G10: (E) | H10: Subrecipients | I10: (F) | J10: Subrecipients | K10: (G) | L10: (H) | M10: (I)
B11: NATIONAL SCHOOL LUNCH | C11: 10.555 | D11: 4210-2021 | F11: 300702 | I11: 300702 | L11: =+G11+I11+K11 -> 300702 | M11: N/A
B12: NATIONAL SCHOOL LUNCH | C12: 10.555 | D12: 4210-2020 | F12: 32495 | G12: 155811 | I12: 29172 | L12: =+G12+I12+K12 -> 184983 | M12: N/A
B13: SPECIAL MILK PROGRAM | C13: 10.556 | D13: 4215-2021 | L13: =+G13+I13+K13 -> 0 | M13: N/A
B14: SPECIAL MILK PROGRAM | C14: 10.556 | D14: 4215-2020 | G14: 1857 | L14: =+G14+I14+K14 -> 1857 | M14: N/A
B15: NATIONAL SCHOOL BREAKFAST | C15: 10.553 | D15: 4220-2021 | F15: 45770.42 | I15: 45770 | L15: =+G15+I15+K15 -> 45770 | M15: N/A
B16: NATIONAL SCHOOL BREAKFAST | C16: 10.553 | D16: 4220-2020 | F16: 7251 | G16: 21224 | I16: 5149 | L16: =+G16+I16+K16 -> 26373 | M16: N/A
B17: LANTER | C17: 10.555 | D17: 2021 | F17: 29728 | I17: 29728 | L17: =+G17+I17+K17 -> 29728 | M17: N/A
B18: FRUITS AND VEGGIES | C18: 10.555 | D18: 2021 | F18: 29956 | I18: 29956 | L18: =+G18+I18+K18 -> 29956 | M18: N/A
B19: TITLE I | C19: 84.01 | D19: 4300-2021 | F19: 176467 | I19: 188473 | L19: =+G19+I19+K19 -> 188473 | M19: 319975
B20: TITLE I | C20: 84.01 | D20: 4300-2020 | F20: 55126 | G20: 184295 | L20: =+G20+I20+K20 -> 184295 | M20: 272627
B21: TITLE IVA | C21: 84.424 | D21: 4400-2021 | F21: 5103 | I21: 5103 | L21: =+G21+I21+K21 -> 5103 | M21: 8850
B22: TITLE IVA | C22: 84.424 | D22: 4400-2020 | L22: =+G22+I22+K22 -> 0 | M22: 4589
B23: IDEA PRESCHOOL | C23: 84.027 | D23: 4600-2021 | F23: 8200 | I23: 11819 | L23: =+G23+I23+K23 -> 11819 | M23: 11819
B24: IDEA PRESCHOOL | C24: 84.027 | D24: 4600-2020 | F24: 2341 | G24: 9005 | L24: =+G24+I24+K24 -> 9005 | M24: 11207
B25: IDEA FLOW THROUGH *M | C25: 84.027 | D25: 4620-2021 | I25: 428925 | L25: =+G25+I25+K25 -> 428925 | M25: 447457
B26: IDEA FLOW THROUGH | C26: 84.027 | D26: 4620-2020 | F26: 333760 | G26: 435721 | L26: =+G26+I26+K26 -> 435721 | M26: 435721
B27: TITLE II | C27: 84.367 | D27: 4932-2021 | F27: 147794 | L27: =+G27+I27+K27 -> 0 | M27: 1500
B28: TITLE II | C28: 84.367 | D28: 4932-2020 | L28: =+G28+I28+K28 -> 0 | M28: 500
B29: OTHER FEDERAL PROGRAMS-E2 *M | C29: 84.425D | D29: 4998-2021 | I29: 596226 | L29: =+G29+I29+K29 -> 596226 | M29: 596226
B30: OTHER FEDERAL PROGRAMS-E1 *M | C30: 84.425D | D30: 4998-2020 | F30: 147991 | I30: 90771 | L30: =+G30+I30+K30 -> 90771 | M30: 152771
B31: Total | E31: =SUM(E11:E30) -> 0 | F31: =SUM(F11:F30) -> 1322684.4 | G31: =SUM(G11:G30) -> 807913 | H31: =SUM(H11:H30) -> 0 | I31: =SUM(I11:I30) -> 1761794 | J31: =SUM(J11:J30) -> 0 | K31: =SUM(K11:K30) -> 0 | L31: =SUM(L11:L30) -> 2569707 | M31: =SUM(M11:M30) -> 2263242
B33: • (M) Program was audited as a major program as defined by §200.518.
B35: *Include the total amount provided to subrecipients from each Federal program. §200.510 (b)(4).
B37: The accompanying notes are an integral part of this schedule.
B40: 1 To meet state or other requirements, auditees may decide to include certain nonfederal awards (for example, state awards) in this schedule. If such nonfederal data are presented,
B41: they should be segregated and clearly designated as nonfederal. The title of the schedule should also be modified to indicate that nonfederal awards are included.
B43: 2 When the CFDA number is not available, the auditee should indicate that the CFDA number is not available and include in the schedule the program's name and, if applicable,
B44: other identifying number.
B46: 3 When awards are received as a subrecipient, the name of the pass-through entity and identifying number assigned by the pass-through entity must be included in the schedule. §200.510 (b)(2)
B48: 4 The Uniform Guidance requires that the value of federal awards expended in the form of non-cash assistance, the amount of insurance in effect during the year, and loans or loan guarantees
B49: outstanding at year end be included in the schedule and suggests to include the amounts in the SEFA notes.

Sheet SEFA NOTES
A1: ='Single Audit Cover'!A7 -> Coal City Community School District #1
A2: ='Single Audit Cover'!E7 -> 24-032-0010-26
A3: NOTES TO THE SCHEDULE OF EXPENDITURES OF FEDERAL AWARDS (SEFA)
A4: ='Single Audit Cover'!A4 -> Year Ending June 30, 2021
A6: Note 1: Basis of Presentation5
A7: The accompanying Schedule of Expenditures of Federal Awards includes the federal grant activity of [Entity #XYZ] and is presented on the [Identify Basis of Accounting]. The information in this schedule is presented in accordance with the requirements of the Office of Management and Budget Uniform Administrative Requirements, Cost Principles, and Audit Requirements for Federal Awards. Therefore, some amounts presented in this schedule may differ from amounts presented in, or used in the preparation of, the [General-Purpose or Basic] financial statements.
A9: Note 2: Indirect Facilities & Administration costs6
A10: Auditee elected to use 10% de minimis cost rate? | D10: YES | E10: x | F10: NO
A12: Note 3: Subrecipients
A13: Of the federal expenditures presented in the schedule, [Entity #XYZ] provided federal awards to subrecipients as follows:
C15: Federal | D15: Amount Provided to
B16: Program Title/Subrecipient Name | C16: CFDA Number | D16: Subrecipient
B17: NONE | C17: N/A | D17: 0
A31: Note 4: Non-Cash Assistance
A32: The following amounts were expended in the form of non-cash assistance by [Entity #XYZ] and should be included in the Schedule of Expenditures of Federal Awards:
A33: NON-CASH COMMODITIES (CFDA 10.555)**: | C33: 59684
A34: OTHER NON-CASH ASSISTANCE - DEPT. OF DEFENSE FRUITS & VEGETABLES | D34: Total Non-Cash | E34: =+C33+C34 -> 59684
A36: Note 5: Other Information
A37: Insurance coverage in effect paid with Federal funds during the fiscal year:
B38: Property | C38: NONE
B39: Auto | C39: NONE
B40: General Liability | C40: NONE
B41: Workers Compensation | C41: NONE
A42: Loans/Loan Guarantees Outstanding at June 30: | C42: NONE
A43: District had Federal grants requiring matching expenditures | C43: YES
C44: (Yes/No)
A46: ** The amount reported here should match the value reported for non-cash Commodities on the Indirect Cost Rate Computation page.
A49: 5 | B49: This note is included to meet the Uniform Guidance requirement that the schedule include notes that describe the significant accounting policies used in preparing the schedule. (§200.510 (b)(6))
A51: 6 | B51: The Uniform Guidance requires the Schedule of Expenditures of Federal Awards to note whether or not the auditee elected to use the 10% de minimis cost rate as covered in §200.414 Indirect (F&A) costs. §200.510 (b)(6)

Sheet SF&QC Sec-1
B1: ='Single Audit Cover'!A7 -> Coal City Community School District #1
B2: ='Single Audit Cover'!E7 -> 24-032-0010-26
B3: SCHEDULE OF FINDINGS AND QUESTIONED COSTS
B4: ='Single Audit Cover'!A4 -> Year Ending June 30, 2021
B7: SECTION I - SUMMARY OF AUDITOR'S RESULTS
B10: FINANCIAL STATEMENTS
B11: Type of auditor's report issued: | C11: UNMODIFIED
C12: (Unmodified, Qualified, Adverse, Disclaimer)
B14: INTERNAL CONTROL OVER FINANCIAL REPORTING:
B15: • Material weakness(es) identified? | F15: YES | G15: X | H15: None Reported
B17: • Significant Deficiency(s) identified that are not considered to
B18: be material weakness(es)? | F18: YES | G18: X | H18: None Reported
B20: • Noncompliance material to the financial statements noted? | F20: YES | G20: X | H20: NO
B22: FEDERAL AWARDS
B23: INTERNAL CONTROL OVER MAJOR PROGRAMS:
B24: • Material weakness(es) identified? | F24: YES | G24: X | H24: None Reported
B26: • Significant Deficiency(s) identified that are not considered to
B27: be material weakness(es)? | F27: YES | G27: X | H27: None Reported
B29: Type of auditor's report issued on compliance for major programs: | D29: UNMODIFIED
D30: (Unmodified, Qualified, Adverse, Disclaimer7)
B32: Any audit findings disclosed that are required to be reported in
B33: accordance with §200.516 (a)? | F33: YES | G33: x | H33: NO
B35: IDENTIFICATION OF MAJOR PROGRAMS:8
B37: CFDA NUMBER(S)9 | C37: NAME OF FEDERAL PROGRAM or CLUSTER10 | G37: AMOUNT OF FEDERAL PROGRAM
B38: 84.425D | C38: Esser I & II | G38: 686997
B39: 84.03 | C39: IDEA Flow Through | G39: 428925
C43: Total Amount Tested as Major | G43: =SUM(G38:I42) -> 1115922
B45: ="Total Federal Expenditures for 7/1/"&MID([1]AFR21!E2,3,2)-1&"-6/30/"&MID([1]AFR21!E2,3,2) -> Total Federal Expenditures for 7/1/20-6/30/21 | D45: 1761794
B47: % tested as Major | D47: =+G43/D45 -> 0.63340095
B49: Dollar threshold used to distinguish between Type A and Type B programs: | E49: 750000
B51: Auditee qualified as low-risk auditee? | F51: YES | G51: x | H51: NO
B54: 7 If the audit report for one or more major programs is other than unmodified, indicate the type of report issued for each program.
B55: Example: "Unmodified for all major programs except for [name of program], which was modified and [name of program], which
B56: was a disclaimer."
B58: 8 Major programs should generally be reported in the same order as they appear on the SEFA.
B60: 9 When the CFDA number is not available, include other identifying number, if applicable.
B62: 10 The name of the federal program or cluster should be the same as that listed in the SEFA. For clusters, auditors are only required to list
B63: the name of the cluster.

Sheet SF&QC Sec-2
B1: ='Single Audit Cover'!A7 -> Coal City Community School District #1
B2: ='Single Audit Cover'!E7 -> 24-032-0010-26
B3: SCHEDULE OF FINDINGS AND QUESTIONED COSTS
B4: ='Single Audit Cover'!A4 -> Year Ending June 30, 2021
B7: SECTION II - FINANCIAL STATEMENT FINDINGS
B10: 1. FINDING NUMBER:11 | C10: =[1]AFR21!$E$2&"-" -> 2021- | D10: N/A | F10: 2. THIS FINDING IS: | H10: New | J10: Repeat from Prior Year?
I11: Year originally reported?
B13: 3. Criteria or specific requirement
B16: 4. Condition
B19: 5. Context12
B22: 6. Effect
B25: 7. Cause
B28: 8. Recommendation
B31: 9. Management's response13
B35: 11 A suggested format for assigning reference numbers is to use the digits of the fiscal year being audited followed by a numeric
B36: sequence of findings. For example, findings identified and reported in the audit of fiscal year 2021 would be assigned a reference
B37: number of 2021-001, 2021-002, etc. The sheet is formatted so that only the number need be entered (1, 2, etc.).
B38: 12 Provide sufficient information for judging the prevalence and consequences of the finding, such as relation to universe of costs and/or
B39: number of items examined and quantification of audit findings in dollars.
B40: 13 See §200.521 Management decision for additional guidance on reporting management's response.

Sheet SF&QC Sec-3
B1: ='Single Audit Cover'!A7 -> Coal City Community School District #1
B2: ='Single Audit Cover'!E7 -> 24-032-0010-26
B3: SCHEDULE OF FINDINGS AND QUESTIONED COSTS
B4: ='Single Audit Cover'!A4 -> Year Ending June 30, 2021
B6: SECTION III - FEDERAL AWARD FINDINGS AND QUESTIONED COSTS
B8: 1. FINDING NUMBER:14 | C8: =[1]AFR21!$E$2&"-" -> 2021- | D8: N/A | F8: 2. THIS FINDING IS: | H8: New | J8: Repeat from Prior year?
I9: Year originally reported?
B12: 3. Federal Program Name and Year:
B14: 4. Project No.: | H14: 5. CFDA No.:
B16: 6. Passed Through:
B17: 7. Federal Agency:
B19: 8. Criteria or specific requirement (including statutory, regulatory, or other citation)
B22: 9. Condition15
B25: 10. Questioned Costs16
B28: 11. Context17
B31: 12. Effect
B34: 13. Cause
B37: 14. Recommendation
B40: 15. Management's response18
B44: 14 See footnote 11.
B45: 15 Include facts that support the deficiency identified on the audit finding (§200.516 (b)(3)).
... B48: 18 To the extent practical, indicate when management does not agree with the finding, questioned cost, or both.

Sheet SSPAF
B1: ='Single Audit Cover'!A7 -> Coal City Community School District #1
B2: ='Single Audit Cover'!E7 -> 24-032-0010-26
B3: SUMMARY SCHEDULE OF PRIOR AUDIT FINDINGS19
B4: ='Single Audit Cover'!A4 -> Year Ending June 30, 2021
B5: [If there are no prior year audit findings, please submit schedule and indicate NONE]
B6: Finding Number | C6: Condition | D6: Current Status20
B9: NONE | C9: NONE | D9: NONE
B44: When possible, all prior findings should be on the same page
B45: 19 Explanation of this schedule - §200.511 (b)
B46: 20 Current Status should include one of the following:
B47: • A statement that corrective action was taken
B48: • A description of any partial or planned corrective action
B49: • An explanation if the corrective action taken was significantly different from that previously reported
B50: or in the management decision received from the pass-through entity.
