Workbook

Sheet Property Information
A1: PROPERTY INFORMATION SUMMARY
A2: Coal City School District No.1
A6: CAMPUS DETAILS
A7: NO. | B7: CAMPUS | C7: FACILITY | D7: ADDRESS | F7: AREA | G7: VISIT DATE | H7: COMMENTS | I7: YEARS BUILT | J7: NO. OF FLOORS | K7: FND TYPE | L7: FRAME CONSTR. | M7: EXT WALLS | N7: ROOF CONSTR. | O7: ROOF COVER | P7: HVAC | Q7: PARKING STALLS | R7: ROOF RPRT | S7: DWGS
A9: A | B9: Early Childhood | C9: Early Childhood Center | D9: 755 S. Carbon Hill Rd. Coal City, IL 60416 | F9: 73610 | G9: 43355 | I9: 2007 | J9: 1 | K9: Concrete | L9: Concrete | M9: Brick, Stone | N9: Steel | O9: Slate and Built up Asphalt | P9: Boiler ,Hot Water,A/C | Q9: 99 | R9: Y | S9: Y | U9: Gary Voss | V9: O: (630) 406-7360 | X9: KDOT Buildings
A10: B | B10: Elementary School | C10: Elementary School | D10: 300 N. Broadway St. Coal City, IL 60416 | F10: 67976 | G10: 43356 | I10: 1955-1995 | J10: 1 | K10: Concrete | L10: Steel | M10: Brick, Block, Stone | N10: Wood, Steel | O10: Built-up Asphalt | P10: Forced Air & Hot W | Q10: 102 | R10: Y | S10: Y | V10: C: (630) 816-9706
A11: C | B11: Intermediate School | C11: Intermediate School | D11: 305 E. Division St. Coal City, IL 60416 | F11: 72086 | G11: 43355 | I11: 1916-1989 | J11: 2 | K11: Concrete | L11: Steel | M11: Brick, Block | N11: Steel | O11: Built-up Asphalt | P11: Gas Forced air w/ A/C | Q11: 110 | R11: Y | S11: Y
A12: D | B12: Middle School | C12: Middle School | D12: 500 S. Carbon Hill Rd. Coal City, IL 60416 | F12: 98000 | G12: 43354 | I12: 2000 | J12: 1 | K12: Concrete | L12: Wall Bearing | M12: Block, Wd siding | N12: Wood | O12: Asphalt Shingles | P12: None | Q12: - | R12: Y | S12: N
A13: E | B13: High School | C13: High School | D13: 655 W. Division St. Coal City, IL 60416 | F13: 209922 | G13: 43381 | I13: 1971-2009 | J13: 1 | K13: Concrete | L13: Wall Bearing | M13: Brick, Block | N13: Wood | O13: Asphalt Shingles | P13: Boiler, Gas, Forced air | Q13: 20 | R13: Y | S13: Y
A14: F | B14: High School | C14: Operations & Maintenance Bldg. 1 | D14: 655 W. Division St. Coal City, IL 60416 | F14: 5600 | G14: 43381 | I14: 1976-1996 | J14: 1 | K14: Concrete | L14: Wall Bearing | M14: Masonry, Steel Siding | N14: Wood / Metal | O14: Metal | P14: Hat Water Units | Q14: 5 | R14: Y | S14: Y
A15: G | B15: High School | C15: High School Concessions Bldg. | D15: 655 W. Division St. Coal City, IL 60416 | F15: 5744 | G15: 43381 | I15: 2017 | J15: 1 | K15: Stone | L15: Wall Bearing | M15: Wood Siding | N15: Wood | O15: Asphalt Shingles | P15: Hot Water | Q15: 15 | R15: Y | S15: Y
A16: H | B16: High School | C16: High School Four Seasons Bldg. | D16: 655 W. Division St. Coal City, IL 60416 | F16: 797 | G16: 43381 | I16: 2013 | J16: 1 | K16: Stone/ Concrete | L16: Concrete | M16: Brick, Stone | N16: Wood | O16: Asphalt Sh, Copper | P16: Low Press Steam | R16: N | S16: Y
A17: I | B17: Middle School | C17: Operations & Maintenance Bldg. 2 | D17: 500 S. Carbon Hill Rd. Coal City, IL 60416 | F17: 2400 | G17: 43481 | H17: 2,862 Total SF. Basement is 400 | I17: 2008 | J17: 1 | K17: Stone/ Concrete | L17: Wall Bearing | M17: Brick, Stone | N17: Wood | O17: Asphalt Sh, Copper | P17: Low Press Steam | R17: Y | S17: N
A18: J | B18: Intermediate School | C18: Help for Hope Building | D18: 100 S. Baima St. Coal City, IL 60416 | F18: 2560 | G18: 43381 | I18: 1969-1993 | J18: 1 | K18: Concrete | L18: Wall Bearing | M18: Brick, Block | N18: Wood | O18: Built-up Asphalt | P18: Gas forced air. A/C | R18: N | S18: Y
A19: K | B19: Middle School | C19: District Office | D19: 550 S. Carbon Hill Rd. Coal City, IL 60416 | F19: 6576 | G19: Not assessed | I19: 2016 | J19: 1 | K19: Concrete | L19: Wall Bearing | M19: Brick | N19: Wood | O19: Asphalt Sh, Built up | P19: Hot Water, A/C | R19: Y | S19: N
F42: =SUM(F8:F41) -> 545271

Sheet Capital Needs
A1: CAPITAL NEEDS SUMMARY
A2: Coal City School District No.1
A6: Facility Name | C6: Gross SF | D6: CRV (Current Replacement Value) | E6: 2019 FCI (Facilities Cost Index) | F6: DMB (Deferred Maintenace Backlog) | G6: Capital Needs | Q6: CHECK | R6: COMMENTS
G7: 2020 | H7: 2021 | I7: 2022 | J7: 2023 | K7: 2024 | L7: 2025 | M7: 2026 | N7: 2027 | O7: 2028 | P7: 2029
A8: ='Property Information'!A9 -> A | B8: ='Property Information'!C9 -> Early Childhood Center | C8: ='Property Information'!F9 -> 73610 | D8: =C8*300 -> 22083000 | E8: =F8/D8 -> 0.12750532 | F8: =A!J88 -> 2815700 | G8: =A!K88 -> 10500 | H8: =A!L88 -> 107500 | I8: =A!M88 -> 473500 | J8: =A!N88 -> 190500 | K8: =A!O88 -> 1557200 | L8: =A!P88 -> 196000 | M8: =A!Q88 -> 73000 | ... P8: =A!T88 -> 57000 | Q8: =SUM(G8:P8) -> 2815700
A9: ='Property Information'!A10 -> B | B9: ='Property Information'!C10 -> Elementary School | C9: ='Property Information'!F10 -> 67976 | D9: =C9*300 -> 20392800 | E9: =F9/D9 -> 0.1113138 | F9: =B!J96 -> 2270000 | G9: =B!K96 -> 0 | H9: =B!L96 -> 358500 | I9: =B!M96 -> 716500 | J9: =B!N96 -> 207500 | K9: =B!O96 -> 201500 | L9: =B!P96 -> 98500 | M9: =B!Q96 -> 115500 | ... P9: =B!T96 -> 329000 | Q9: =SUM(G9:P9) -> 2270000
A10: ='Property Information'!A11 -> C | B10: ='Property Information'!C11 -> Intermediate School | C10: ='Property Information'!F11 -> 72086 | D10: =C10*300 -> 21625800 | E10: =F10/D10 -> 0.16961222 | F10: ='C'!J93 -> 3668000 | G10: ='C'!K93 -> 236000 | H10: ='C'!L93 -> 568000 | I10: ='C'!M93 -> 299500 | J10: ='C'!N93 -> 282500 | K10: ='C'!O93 -> 146000 | L10: ='C'!P93 -> 104000 | M10: ='C'!Q93 -> 79500 | ... P10: ='C'!T93 -> 1272000 | Q10: =SUM(G10:P10) -> 3668000
A11: ='Property Information'!A12 -> D | B11: ='Property Information'!C12 -> Middle School | C11: ='Property Information'!F12 -> 98000 | D11: =C11*300 -> 29400000 | E11: =F11/D11 -> 0.097006803 | F11: =D!J76 -> 2852000 | G11: =D!K76 -> 55000 | H11: =D!L76 -> 349500 | I11: =D!M76 -> 204000 | J11: =D!N76 -> 101000 | K11: =D!O76 -> 250500 | L11: =D!P76 -> 106000 | M11: =D!Q76 -> 96000 | ... P11: =D!T76 -> 106500 | Q11: =SUM(G11:P11) -> 2852000
A12: ='Property Information'!A13 -> E | B12: ='Property Information'!C13 -> High School | C12: ='Property Information'!F13 -> 209922 | D12: =C12*350 -> 73472700 | E12: =F12/D12 -> 0.045744882 | F12: =E!J127 -> 3361000 | G12: =E!K127 -> 163000 | H12: =E!L127 -> 250000 | I12: =E!M127 -> 283000 | J12: =E!N127 -> 317000 | K12: =E!O127 -> 208000 | L12: =E!P127 -> 640500 | M12: =E!Q127 -> 166500 | ... P12: =E!T127 -> 183000 | Q12: =SUM(G12:P12) -> 3361000
A13: ='Property Information'!A14 -> F | B13: ='Property Information'!C14 -> Operations & Maintenance Bldg. 1 | C13: ='Property Information'!F14 -> 5600 | D13: =C13*105 -> 588000 | E13: =F13/D13 -> 0.37329932 | F13: =F!J56 -> 219500 | G13: =F!K56 -> 0 | H13: =F!L56 -> 211500 | I13: =F!M56 -> 0 | J13: =F!N56 -> 8000 | K13: =F!O56 -> 0 | L13: =F!P56 -> 0 | M13: =F!Q56 -> 0 | ... P13: =F!T56 -> 0 | Q13: =SUM(G13:P13) -> 219500
A14: ='Property Information'!A15 -> G | B14: ='Property Information'!C15 -> High School Concessions Bldg. | C14: ='Property Information'!F15 -> 5744 | D14: =C14*150 -> 861600 | E14: =F14/D14 -> 0.032149489 | F14: =G!J61 -> 27700 | G14: =G!K61 -> 0 | H14: =G!L61 -> 0 | I14: =G!M61 -> 0 | J14: =G!N61 -> 0 | K14: =G!O61 -> 3000 | L14: =G!P61 -> 0 | M14: =G!Q61 -> 5000 | ... P14: =G!T61 -> 6700 | Q14: =SUM(G14:P14) -> 27700
A15: ='Property Information'!A16 -> H | B15: ='Property Information'!C16 -> High School Four Seasons Bldg. | C15: ='Property Information'!F16 -> 797 | D15: =C15*150 -> 119550 | E15: =F15/D15 -> 0.33877039 | F15: =H!J51 -> 40500 | G15: =H!K51 -> 0 | H15: =H!L51 -> 0 | I15: =H!M51 -> 0 | J15: =H!N51 -> 0 | K15: =H!O51 -> 0 | L15: =H!P51 -> 0 | M15: =H!Q51 -> 8000 | ... P15: =H!T51 -> 0 | Q15: =SUM(G15:P15) -> 40500
A16: ='Property Information'!A17 -> I | B16: ='Property Information'!C17 -> Operations & Maintenance Bldg. 2 | C16: ='Property Information'!F17 -> 2400 | D16: =C16*150 -> 360000 | E16: =F16/D16 -> 0.1 | F16: =I!J56 -> 36000 | G16: =I!K56 -> 0 | H16: =I!L56 -> 16000 | I16: =I!M56 -> 0 | J16: =I!N56 -> 0 | K16: =I!O56 -> 4000 | L16: =I!P56 -> 5000 | M16: =I!Q56 -> 3000 | ... P16: =I!T56 -> 3000 | Q16: =SUM(G16:P16) -> 36000
A17: ='Property Information'!A18 -> J | B17: ='Property Information'!C18 -> Help for Hope Building | C17: ='Property Information'!F18 -> 2560 | D17: =C17*250 -> 640000 | E17: =F17/D17 -> 0.15990625 | F17: =J!J64 -> 102340 | G17: =J!K64 -> 0 | H17: =J!L64 -> 17000 | I17: =J!M64 -> 53340 | J17: =J!N64 -> 14000 | K17: =J!O64 -> 4000 | L17: =J!P64 -> 3000 | M17: =J!Q64 -> 3000 | ... P17: =J!T64 -> 3000 | Q17: =SUM(G17:P17) -> 102340
A18: TOTALS: | C18: =SUM(C8:C17) -> 538695 | D18: =SUM(D8:D17) -> 169543450 | E18: =AVERAGE(E8:E17) -> 0.15553085 | F18: =SUM(F8:F17) -> 15392740 | G18: =SUM(G8:G17) -> 464500 | H18: =SUM(H8:H17) -> 1878000 | I18: =SUM(I8:I17) -> 2029840 | J18: =SUM(J8:J17) -> 1120500 | K18: =SUM(K8:K17) -> 2374200 | L18: =SUM(L8:L17) -> 1153000 | M18: =SUM(M8:M17) -> 549500 | ... P18: =SUM(P8:P17) -> 1960200 | Q18: =SUM(G18:P18) -> 15392740
H19: 0.05 | I19: 0.1 | J19: 0.15 | K19: 0.2 | L19: 0.25 | M19: 0.3 | N19: 0.35 | O19: 0.4 | P19: 0.45
F20: Inflation adjustment | H20: =H18*H19+H18 -> 1971900 | I20: =I18*I19+I18 -> 2232824 | J20: =J18*J19+J18 -> 1288575 | K20: =K18*K19+K18 -> 2849040 | L20: =L18*L19+L18 -> 1441250 | M20: =M18*M19+M18 -> 714350 | N20: =N18*N19+N18 -> 1744875 | O20: =O18*O19+O18 -> 3598700 | P20: =P18*P19+P18 -> 2842290
C22: FCI = 0% to 15% | E22: GOOD CONDITION
C23: FCI = 15% to 30% | E23: FAIR CONDITION
C24: FCI = 30% to 100% | E24: POOR CONDITION

Sheet A
A1: EARLY CHILDHOOD CENTER
A2: Facility Condition Assessment
B4: Building: | C4: Building A | G4: Facility Function:
B5: Gross SF: | C5: ='Property Information'!F9 -> 73610 | G5: Early Childhood Instruction
B6: Date of Visit | C6: ='Property Information'!G9 -> 43355
B7: Year Built: | C7: ='Property Information'!I9 -> 2007
A9: Property Components | C9: Area / Type / Location | D9: * Initial Installation | E9: Renovated Date * | F9: Life Exp. | G9: Comments / Equipment Tag | I9: Improvement Type | J9: Improv. Cost | K9: Recommended Capital Allocation Year & Amount
K10: 2020 | L10: 2021 | M10: 2022 | N10: 2023 | O10: 2024 | P10: 2025 | Q10: 2026 | R10: 2027 | S10: 2028 | T10: 2029
A11: Substructure
B12: Foundations | C12: Concrete | F12: 100 | G12: possible settlement, not a safety hazzard | I12: monitor yearly, Fix Hardware as Req'd | J12: =SUM(K12:T12) -> 0
B13: Slabs on Grade | C13: Concrete | F13: 100 | G13: moderate cracking, moderate settlement and heaving throughout building | I13: remove finished flooring, prep, floor leveler and seal cracks | J13: =SUM(K13:T13) -> 100000 | M13: 25000 | O13: 25000 | Q13: 25000 | S13: 25000
B14: Superstructure | C14: Steel | F14: 100 | G14: possible movement, not a safety hazzard | I14: monitor yearly | J14: =SUM(K14:T14) -> 0
A15: Exterior Envelope
B16: Exterior Doors | C16: Aluminum | F16: 40 | G16: good condition | I16: monitor yearly | J16: =SUM(K16:T16) -> 12000 | O16: 12000
B17: Exterior Doors | C17: Hollow Metal | F17: 50 | G17: good condition | I17: monitor yearly, Repaint as Req'd | J17: =SUM(K17:T17) -> 20000 | O17: 10000 | T17: 10000
B18: Exterior Lintels | C18: Steel | F18: 80 | G18: good condition, some surface rust | I18: monitor yearly, prep and repaint | J18: =SUM(K18:T18) -> 15000 | L18: 5000 | M18: 5000 | S18: 5000
B19: Exterior Door Seals | C19: Rubber | F19: 15 | G19: light wear | I19: replacement | J19: =SUM(K19:T19) -> 10000 | N19: 10000
B20: Exterior Door Thresholds | C20: Aluminum | F20: 30 | G20: light wear | I20: replacement | J20: =SUM(K20:T20) -> 15000 | R20: 15000
B21: Exterior Windows | C21: Aluminum Frames | F21: 40 | G21: glazing seals popping out of place throughout due to settement issues | I21: window replacement with dimensional perimeter adjustment for continous movement | J21: =SUM(K21:T21) -> 42000 | L21: 42000
B22: Exterior Window Glazing | C22: Double Glazed | F22: 20 | G22: good condition | I22: monitor yearly | J22: =SUM(K22:T22) -> 0
B23: Exterior Walls/Cladding | C23: Brick | F23: 100 | G23: good condition | I23: monitor yearly | J23: =SUM(K23:T23) -> 0
B24: Exterior Walls/Cladding | C24: Stone Sills | F24: 100 | G24: some mortar separation | I24: tuckpointing | J24: =SUM(K24:T24) -> 22000 | N24: 22000
B25: Exterior Walls/Cladding | C25: CMU | F25: 100 | G25: good contition | I25: monitor yearly | J25: =SUM(K25:T25) -> 6000 | O25: 3000 | R25: 3000
B26: Caulking at Openings | C26: Silicone, etc. | F26: 14 | G26: light wear | I26: monitor yearly | J26: =SUM(K26:T26) -> 3500 | S26: 3500
B27: Roofing | C27: Single-Ply | F27: 20 | G27: good condition, some slight tenting in areas, some existing patching, some aluminum gravel stop separation | I27: monitor quarterly, roof slightly past it's 20 year warranty, small spot repairs as required | J27: =SUM(K27:T27) -> 1472200 | O27: =C5*20 -> 1472200
A28: Interior Construction
B29: Interior Partitions | C29: CMU | F29: 100 | G29: moderate cracking, moderate settlement, not a safety hazzard | I29: monitor quarterly, prep, caulk and paint | J29: =SUM(K29:T29) -> 67500 | L29: 7500 | M29: 7500 | N29: 7500 | O29: 7500 | P29: 7500 | Q29: 7500 | R29: 7500 | S29: 7500 | T29: 7500
B30: Interior Partitions | C30: Metal Stud | F30: 100 | G30: good condition | I30: monitor yearly | J30: =SUM(K30:T30) -> 0
B31: Folding Partition | C31: Cafeteria | F31: 25 | G31: seals at bottom of door panels fail to drop as panels are locked into place, and door binds at times | I31: repair of door panels, or replacement | J31: =SUM(K31:T31) -> 45000 | L31: 45000
B32: Folding Lunch Tables | C32: Cafeteria | F32: 25 | G32: some lunch tables are non-functioning, binding and delaminating, movable hardware issues | I32: repair or replacement | J32: =SUM(K32:T32) -> 35000 | M32: 35000
B33: Interior Doors | C33: Wood | F33: 60 | G33: good condition, some binding due to settlement issues | I33: shim hinges, shave edges as required and monitor quarterly | J33: =SUM(K33:T33) -> 20000 | M33: 4000 | O33: 4000 | Q33: 4000 | S33: 4000 | T33: 4000
B34: Interior Door Hardware | C34: All | F34: 25 | G34: good condition | I34: monitor yearly | J34: =SUM(K34:T34) -> 22500 | L34: 2500 | M34: 2500 | N34: 2500 | O34: 2500 | P34: 2500 | Q34: 2500 | R34: 2500 | S34: 2500 | T34: 2500
B35: Interior Storefronts | C35: Aluminum | F35: 80 | G35: good condition | I35: monitor yearly | J35: =SUM(K35:T35) -> 0
B36: Casework | C36: Plam | F36: 30 | G36: good condition, some delamination in countertops and backsplashes in areas near sinks | I36: monitory yearly, replace as required | J36: =SUM(K36:T36) -> 17500 | L36: 3500 | N36: 3500 | P36: 3500 | R36: 3500 | T36: 3500
A37: Interior Finishes
B38: Floor Finish | C38: Carpet | F38: 15 | G38: good condition, some seams coming up | I38: monitor yearly | J38: =SUM(K38:T38) -> 172000 | P38: 172000
B39: Floor Finish | C39: Vinyl Comp Tile | F39: 35 | G39: good condition, areas of cracked VCT due to settlement | I39: replace as required | J39: =SUM(K39:T39) -> 16000 | N39: 8000 | Q39: 8000
B40: Floor Finish | C40: Ceramic Tile | F40: 60 | G40: good condition | I40: monitor yearly | J40: =SUM(K40:T40) -> 0
B41: Ceiling Finish | C41: Gypsum Board | F41: 30 | G41: good condition, some cracking due to settlement | I41: monitor quarterly, repair cracks as required | J41: =SUM(K41:T41) -> 20000 | M41: 5000 | O41: 5000 | Q41: 5000 | S41: 5000
B42: Ceiling Finish | C42: ACT | F42: 25 | G42: good condition, some evidence of water damage | I42: monitor yearly, replace damaged tiles | J42: =SUM(K42:T42) -> 10500 | M42: 3500 | P42: 3500 | S42: 3500
B43: Wall Finish | C43: Paint | F43: 10 | G43: good condition | I43: monitor yearly | J43: =SUM(K43:T43) -> 56000 | M43: 14000 | O43: 14000 | Q43: 14000 | S43: 14000
A44: Plumbing
B45: Plumbing Fixtures | C45: Water Closet | F45: 30 | G45: 37 +/- Count | I45: corrective maintenance | J45: =SUM(K45:T45) -> 4500 | R45: 1500 | S45: 1500 | T45: 1500
B46: Plumbing Fixtures | C46: Lavatories | F46: 30 | G46: 69 +/- Count | I46: corrective maintenance | J46: =SUM(K46:T46) -> 4500 | R46: 1500 | S46: 1500 | T46: 1500
B47: Plumbing Fixtures | C47: Urinals | F47: 30 | G47: 4 +/- Count | I47: corrective maintenance | J47: =SUM(K47:T47) -> 3000 | R47: 1000 | S47: 1000 | T47: 1000
B48: Plumbing Fixtures | C48: Flush Valves | F48: 12 | G48: 41 +/- Count | I48: corrective maintenance | J48: =SUM(K48:T48) -> 10000 | K48: 1000 | L48: 1000 | M48: 1000 | N48: 1000 | O48: 1000 | P48: 1000 | Q48: 1000 | R48: 1000 | S48: 1000 | T48: 1000
B49: Plumbing Fixtures | C49: Faucets | F49: 10 | G49: 69 +/- Count | I49: corrective maintenance | J49: =SUM(K49:T49) -> 10000 | K49: 1000 | L49: 1000 | M49: 1000 | N49: 1000 | O49: 1000 | P49: 1000 | Q49: 1000 | R49: 1000 | S49: 1000 | T49: 1000
B50: Plumbing Fixtures | C50: Sump Pump | F50: 10 | G50: Elevator Sump | I50: condition-based maintenance | J50: =SUM(K50:T50) -> 3500 | K50: 3500
B51: Plumbing Fixtures | C51: Drinking Fountain | F51: 30 | G51: Replace in kind | I51: corrective maintenance | J51: =SUM(K51:T51) -> 9000 | R51: 3000 | S51: 3000 | T51: 3000
B52: Plumbing Fixtures | C52: Backflow Prevntor | F52: 6 | G52: Replace in kind | I52: condition-based maintenance | J52: =SUM(K52:T52) -> 10000 | K52: 5000 | Q52: 5000
B53: Plumbing Fixtures | C53: Water heater | F53: 10 | G53: Replace in kind | I53: planned maintenance | J53: =SUM(K53:T53) -> 10000 | M53: 10000
B54: Domestic Water Distribution | C54: Piping | F54: 30 | G54: Repair domestic water leaks | I54: condition-based maintenance | J54: =SUM(K54:T54) -> 10000 | S54: 5000 | T54: 5000
A55: HVAC
B56: Packaged Rooftop Unit | C56: Roof - Area B | F56: 15 | G56: RTU-1: Replace in kind | I56: planned maintenance | J56: =SUM(K56:T56) -> 45000 | M56: 45000
B57: Packaged Rooftop Unit | C57: Roof - Area A | F57: 15 | G57: RTU-2: Replace in kind | I57: planned maintenance | J57: =SUM(K57:T57) -> 90000 | M57: 90000
B58: Packaged Rooftop Unit | C58: Roof - Area C | F58: 15 | G58: RTU-3: Replace in kind | I58: planned maintenance | J58: =SUM(K58:T58) -> 90000 | M58: 90000
B59: Packaged Rooftop Unit | C59: Roof - Area B | F59: 15 | G59: RTU-4: Replace in kind | I59: planned maintenance | J59: =SUM(K59:T59) -> 10000 | M59: 10000
B60: Packaged Rooftop Unit | C60: Roof - Area B | F60: 15 | G60: RTU-5: Replace in kind | I60: planned maintenance | J60: =SUM(K60:T60) -> 55000 | M60: 55000
B61: Gas piping | C61: Roof | G61: Add gas heat to RTU's above | I61: planned maintenance | J61: =SUM(K61:T61) -> 65000 | M61: 65000
B62: Exhaust Fan | C62: Roof | F62: 20 | G62: EF-1 TO EF-5 | I62: corrective maintenance | J62: =SUM(K62:T62) -> 9000 | R62: 3000 | S62: 3000 | T62: 3000
B63: Radon Fan | C63: Roof | F63: 20 | G63: RF-1 TO RF-3: Replace in kind | I63: corrective maintenance | J63: =SUM(K63:T63) -> 3000 | R63: 1000 | S63: 1000 | T63: 1000
B64: Unit Heater | C64: B-118 | F64: 20 | G64: HT-1 | I64: corrective maintenance | J64: =SUM(K64:T64) -> 6000 | R64: 2000 | S64: 2000 | T64: 2000
B65: Wall Cabinet Heater | C65: Vestibules | F65: 20 | G65: HT-2 | I65: corrective maintenance | J65: =SUM(K65:T65) -> 6000 | R65: 2000 | S65: 2000 | T65: 2000
B66: Hydronic Heating System | C66: Piping | F66: 30 | G66: Repair hydronic water leaks | I66: condition-based maintenance | J66: =SUM(K66:T66) -> 7500 | R66: 2500 | S66: 2500 | T66: 2500
A67: Electrical
B68: General electrical | F68: 30 | G68: Replace in kind | I68: corrective maintenance | J68: =SUM(K68:T68) -> 0
B69: Lighting/Control: Interior | F69: 20 | G69: Upgrade to LED Fixtures with wireless controls | I69: condition-based maintenance | J69: =SUM(K69:T69) -> 0
B70: Lighting: Exterior | F70: 20 | G70: Upgrade to LED fixtures | I70: condition-based maintenance | J70: =SUM(K70:T70) -> 0
B71: Branch Wiring | F71: 30 | G71: Replace in kind | I71: corrective maintenance | J71: =SUM(K71:T71) -> 0
B72: Electrical Service/Distribution | F72: 30 | G72: Replace in kind | I72: corrective maintenance | J72: =SUM(K72:T72) -> 0
B73: Fire Alarm | F73: 15 | G73: Replace in kind | I73: corrective maintenance | J73: =SUM(K73:T73) -> 0
B74: Information Technology | F74: 10 | I74: corrective maintenance | J74: =SUM(K74:T74) -> 0
A75: Equipment
B76: Kitchen / Commercial Equipment
B77: Fixed Furnishings
A78: Site
B79: Driveways | C79: Asphalt | F79: 20 | G79: good condition, some irregularities | I79: monitor yearly | J79: =SUM(K79:T79) -> 135000 | N79: 135000
B80: Pedestrian Paving | C80: Concrete | F80: 40 | G80: good condition | I80: monitor yearly | J80: =SUM(K80:T80) -> 0
B81: Drainage | J81: =SUM(K81:T81) -> 10000 | P81: 5000 | T81: 5000
B82: Landscaping | J82: =SUM(K82:T82) -> 10000 | M82: 5000 | R82: 5000
A83: Site Utilities
B84: Storm Sewer | J84: =SUM(K84:T84) -> 0
B85: Sanitary Sewer | J85: =SUM(K85:T85) -> 0
B86: Site Fuel Distribution - Gas | J86: =SUM(K86:T86) -> 0
B87: Site Electrical Distribution | J87: =SUM(K87:T87) -> 0
A88: TOTAL COSTS: | J88: =SUM(J12:J87) -> 2815700 | K88: =SUM(K12:K87) -> 10500 | L88: =SUM(L12:L87) -> 107500 | M88: =SUM(M12:M87) -> 473500 | N88: =SUM(N12:N87) -> 190500 | O88: =SUM(O12:O87) -> 1557200 | P88: =SUM(P12:P87) -> 196000 | Q88: =SUM(Q12:Q87) -> 73000 | ... T88: =SUM(T12:T87) -> 57000
A90: List of items recommended to be addressed in the near future:
A92: 1. Repair concrete slab settlement
A93: 2. Repair or replace folding partition in Gymnasium
A94: 3. Seal exterior masonry (only if recommended, may trap moisuture in wall cavities further investigation required)
A95: 4. Replace window seals
A97: Existing Mechanical System Replacement Priorities
A99: Based on the mechanical system evaluation, a priority list was established. Please refer to the priority key below and the notes area on the facility equipment list for individual equipment recommendations.
A101: Immediate Need - Replace Immediately (Systems that are currently not operating or consistently being repaired)
A102: Priority Level 1 - Replace in 1-2 years (Systems that are well beyond their useful service life and on the verge of failure)
A103: Priority Level 2 - Replace in 2-5 years (Systems that are nearing their useful service life)
A104: Priority Level 3 - Replace in 5+ years (Systems that should be scheduled for replacement based on anticipated remaining life and current condition)

Sheet B
A1: ELEMENTARY SCHOOL
A2: Facility Condition Assessment
B4: Building: | C4: Building B | G4: Facility Function:
B5: Gross SF: | C5: ='Property Information'!F10 -> 67976 | G5: Elementary School Instruction
B6: Date of Visit | C6: ='Property Information'!G10 -> 43356
B7: Year Built: | C7: ='Property Information'!I10 -> 1955-1995
A9: Property Components | C9: Area / Type / Location | D9: * Initial Installation | E9: Renovated Date * | F9: Life Exp. | G9: Comments / Equipment Tag | I9: Improvement Type | J9: Improv. Cost | K9: Recommended Capital Allocation Year & Amount
K10: 2020 | L10: 2021 | M10: 2022 | N10: 2023 | O10: 2024 | P10: 2025 | Q10: 2026 | R10: 2027 | S10: 2028 | T10: 2029
A11: Substructure
B12: Foundations | C12: Concrete | F12: 100 | G12: good condition | I12: monitor yearly | J12: =SUM(K12:T12) -> 0
B13: Slabs on Grade | C13: Concrete | F13: 100 | G13: moderate cracking, moderate settlement and heaving in adminstration area | I13: remove finished flooring, prep, mudjack and seal cracks | J13: =SUM(K13:T13) -> 38000 | Q13: 38000
B14: Superstructure | C14: Load bearing CMU | F14: 100 | G14: good condition | I14: monitor yearly | J14: =SUM(K14:T14) -> 33000 | N14: 15000 | R14: 18000
A15: Exterior Envelope
B16: Exterior Doors | C16: Aluminum | F16: 40 | G16: good condition | I16: monitor yearly | J16: =SUM(K16:T16) -> 28500 | L16: 6000 | O16: 7500 | P16: 7500 | Q16: 7500
B17: Exterior Doors | C17: Hollow Metal | F17: 50 | G17: good condition | I17: monitor yearly | J17: =SUM(K17:T17) -> 40000 | M17: 8000 | N17: 8000 | R17: 8000 | S17: 8000 | T17: 8000
B18: Exterior Lintels | C18: Steel | F18: 80 | G18: good condition, some surface rust | I18: monitor yearly, prep and repaint | J18: =SUM(K18:T18) -> 20000 | M18: 5000 | O18: 5000 | Q18: 5000 | S18: 5000
B19: Exterior Door Seals | C19: Rubber | F19: 15 | G19: moderate wear | I19: replacement | J19: =SUM(K19:T19) -> 25000 | L19: 25000
B20: Exterior Door Thresholds | C20: Aluminum | F20: 30 | G20: moderate wear | I20: replacement | J20: =SUM(K20:T20) -> 25000 | L20: 25000
B21: Exterior Windows | C21: Aluminum Frames | F21: 40 | G21: moderate to end-of-service life wear | I21: monitor yearly, replace as required | J21: =SUM(K21:T21) -> 235000 | M21: 235000
B22: Exterior Windows | C22: Steel Frames | F22: 40 | G22: end-of-service life wear | I22: replacement | J22: =SUM(K22:T22) -> 150000 | M22: 150000
B23: Exterior Window Glazing | C23: Double Glazed | F23: 20 | G23: good condition to end-of-service life wear | I23: monitor yearly, replace as required | J23: =SUM(K23:T23) -> 50000 | M23: 50000
B24: Exterior Window Glazing | C24: Single Glazed | F24: 20 | G24: end-of-service life wear | I24: replacement | J24: =SUM(K24:T24) -> 50000 | M24: 50000
B25: Exterior Walls/Cladding | C25: Brick | F25: 100 | G25: some mortar separation and deterioration | I25: tuckpointing | J25: =SUM(K25:T25) -> 100000 | N25: 50000 | S25: 50000
B26: Exterior Walls/Cladding | C26: Stone Sills | F26: 100 | G26: some mortar separation | I26: tuckpointing | J26: =SUM(K26:T26) -> 25000 | N26: 25000
B27: Caulking at Openings | C27: Silicone, etc. | F27: 14 | G27: moderate to end-of-service life wear | I27: monitor yearly, replace as required | J27: =SUM(K27:T27) -> 30000 | M27: 15000 | Q27: 15000
B28: Roofing | C28: Single-Ply / Ballasted | F28: 25 | G28: good condition, some seam separation in areas, some existing patching, some aluminum gravel stop separation, some missing flashing, ponding in some areas | I28: monitor quarterly, small spot repairs as required | J28: =SUM(K28:T28) -> 245000 | L28: 10000 | N28: 10000 | T28: 225000
B29: Roofing | C29: Gutters & Downspouts, soffit fascia | F29: 25 | G29: good condition, some localized damage | I29: monitor yearly, replace as required | J29: =SUM(K29:T29) -> 58000 | M29: 5000 | O29: 5000 | T29: 48000
A30: Interior Construction
B31: Interior Partitions | C31: CMU | F31: 100 | G31: good condition, moderate wear | I31: monitor yearly | J31: =SUM(K31:T31) -> 36000 | M31: 12000 | P31: 12000 | S31: 12000
B32: Interior Partitions | C32: Metal Stud | F32: 100 | G32: good condition | I32: monitor yearly | J32: =SUM(K32:T32) -> 32000 | M32: 8000 | O32: 8000 | Q32: 8000 | S32: 8000
B33: Interior Doors | C33: Wood | F33: 60 | G33: good condition, some moderate wear | I33: monitor yearly | J33: =SUM(K33:T33) -> 25000 | L33: 5000 | N33: 5000 | P33: 5000 | R33: 5000 | T33: 5000
B34: Interior Door Hardware | C34: All | F34: 25 | G34: good condition, some moderate wear | I34: monitor yearly | J34: =SUM(K34:T34) -> 38000 | N34: 10000 | Q34: 18000 | T34: 10000
B35: Casework | C35: Plam | F35: 30 | G35: good condition, some delamination in countertops | I35: monitory yearly, replace as required | J35: =SUM(K35:T35) -> 66000 | L35: 20000 | O35: 28000 | R35: 18000
B36: Casework | C36: Solid Surface | F36: 30 | G36: good conditioin | I36: monitor yearly | J36: =SUM(K36:T36) -> 32000 | M36: 16000 | P36: 16000
A37: Interior Finishes
B38: Floor Finish | C38: Carpet | F38: 15 | G38: good condition | I38: monitor yearly | J38: =SUM(K38:T38) -> 70000 | N38: 70000
B39: Floor Finish | C39: Vinyl Comp Tile | F39: 35 | G39: good condition, some moderate wear | I39: replace as required | J39: =SUM(K39:T39) -> 32000 | L39: 8000 | M39: 8000 | Q39: 8000 | R39: 8000
B40: Floor Finish | C40: Ceramic Tile | F40: 60 | G40: good condition, some moderate wear | I40: monitor yearly | J40: =SUM(K40:T40) -> 24000 | O40: 12000 | T40: 12000
B41: Floor Finish | C41: Terrazzo | F41: 100 | G41: good condition, some moderate wear | I41: monitor yearly | J41: =SUM(K41:T41) -> 25500 | M41: 8500 | P41: 8500 | S41: 8500
B42: Wall Finish | C42: Paint | F42: 10 | G42: good condition | I42: monitor yearly | J42: =SUM(K42:T42) -> 45000 | L42: 5000 | M42: 5000 | N42: 5000 | O42: 5000 | P42: 5000 | Q42: 5000 | R42: 5000 | S42: 5000 | T42: 5000
A43: Plumbing
B44: Plumbing Fixtures | C44: Water Closet | F44: 30 | G44: 27 +/- Count, moderate-to-end of service life wear | I44: corrective maintenance | J44: =SUM(K44:T44) -> 13500 | L44: 1500 | M44: 1500 | N44: 1500 | O44: 1500 | P44: 1500 | Q44: 1500 | R44: 1500 | S44: 1500 | T44: 1500
B45: Plumbing Fixtures | C45: Lavatories | F45: 30 | G45: 31 +/- Count, moderate-to-end of service life wear | I45: corrective maintenance | J45: =SUM(K45:T45) -> 13500 | L45: 1500 | M45: 1500 | N45: 1500 | O45: 1500 | P45: 1500 | Q45: 1500 | R45: 1500 | S45: 1500 | T45: 1500
B46: Plumbing Fixtures | C46: Urinals | F46: 30 | G46: 16 +/- Count, moderate-to-end of service life wear | I46: corrective maintenance | J46: =SUM(K46:T46) -> 9000 | L46: 1000 | M46: 1000 | N46: 1000 | O46: 1000 | P46: 1000 | Q46: 1000 | R46: 1000 | S46: 1000 | T46: 1000
B47: Plumbing Fixtures | C47: Flush Valves | F47: 12 | G47: 43 +/- Count, moderate-to-end of service life wear | I47: corrective maintenance | J47: =SUM(K47:T47) -> 9000 | L47: 1000 | M47: 1000 | N47: 1000 | O47: 1000 | P47: 1000 | Q47: 1000 | R47: 1000 | S47: 1000 | T47: 1000
B48: Plumbing Fixtures | C48: Faucets | F48: 10 | G48: 31 +/- Count, moderate-to-end of service life wear | I48: corrective maintenance | J48: =SUM(K48:T48) -> 9000 | L48: 1000 | M48: 1000 | N48: 1000 | O48: 1000 | P48: 1000 | Q48: 1000 | R48: 1000 | S48: 1000 | T48: 1000
B49: Plumbing Fixtures | C49: Sump Pump | F49: 10 | G49: Elevator Sump | I49: condition-based maintenance | J49: =SUM(K49:T49) -> 3500 | O49: 3500
B50: Plumbing Fixtures | C50: Drinking Fountain | F50: 30 | G50: Replace in kind | I50: corrective maintenance | J50: =SUM(K50:T50) -> 14000 | L50: 3500 | N50: 3500 | P50: 3500 | R50: 3500
B51: Plumbing Fixtures | C51: Backflow Prevntor | F51: 6 | G51: Replace in kind | I51: condition-based maintenance | J51: =SUM(K51:T51) -> 10000 | M51: 5000 | T51: 5000
B52: Plumbing Fixtures | C52: Water heater | F52: 10 | G52: Replace in kind | I52: planned maintenance | J52: =SUM(K52:T52) -> 10000 | R52: 10000
B53: Domestic Water Distribution | C53: Piping / Valves | F53: 60 | G53: original 1955 building piping walls are very thin, valves have seized, and are at the end of their useful service life | I53: condition-based maintenance | J53: =SUM(K53:T53) -> 125000 | L53: 125000
A54: HVAC
B55: Packaged Rooftop Unit | C55: Roof - Area J | F55: 15 | G55: RTU-702: Replace in kind | I55: planned maintenance | J55: =SUM(K55:T55) -> 7500 | L55: 7500
B56: Packaged Rooftop Unit | C56: Roof - Area H | F56: 15 | G56: RTU-707: Replace in kind | I56: planned maintenance | J56: =SUM(K56:T56) -> 12000 | O56: 12000
B57: Packaged Rooftop Unit | C57: Roof - Area H | F57: 15 | G57: RTU-723: Replace in kind | I57: planned maintenance | J57: =SUM(K57:T57) -> 12000 | O57: 12000
B58: Packaged Rooftop Unit | C58: Roof - Area H | F58: 15 | G58: RTU-720: Replace in kind | I58: planned maintenance | J58: =SUM(K58:T58) -> 12000 | O58: 12000
B59: Packaged Rooftop Unit | C59: Roof - Area H | F59: 15 | G59: RTU-768: Replace in kind | I59: planned maintenance | J59: =SUM(K59:T59) -> 12000 | O59: 12000
B60: Packaged Rooftop Unit | C60: Roof - Area H | F60: 15 | G60: RTU-1: Replace in kind | I60: planned maintenance | J60: =SUM(K60:T60) -> 7500 | L60: 7500
B61: Packaged Rooftop Unit | C61: Roof - Area H | F61: 15 | G61: RTU-718: Replace in kind | I61: planned maintenance | J61: =SUM(K61:T61) -> 12000 | O61: 12000
B62: Packaged Rooftop Unit | C62: Roof - Area H | F62: 15 | G62: RTU-719: Replace in kind | I62: planned maintenance | J62: =SUM(K62:T62) -> 12000 | O62: 12000
B63: Packaged Rooftop Unit | C63: Roof - Area H | F63: 15 | G63: RTU-716: Replace in kind | I63: planned maintenance | J63: =SUM(K63:T63) -> 12000 | O63: 12000
B64: Packaged Rooftop Unit | C64: Roof - Area H | F64: 15 | G64: RTU-717: Replace in kind | I64: planned maintenance | J64: =SUM(K64:T64) -> 12000 | O64: 12000
B65: Packaged Rooftop Unit | C65: Roof - Area G | F65: 15 | G65: RTU-721: Replace in kind | I65: planned maintenance | J65: =SUM(K65:T65) -> 8500 | O65: 8500
B66: Packaged Rooftop Unit | C66: Roof - Area G | F66: 15 | G66: RTU-7: Replace in kind | I66: planned maintenance | J66: =SUM(K66:T66) -> 12000 | O66: 12000
B67: Packaged Rooftop Unit | C67: Roof - Area G | F67: 15 | G67: RTU-2: Replace in kind | I67: planned maintenance | J67: =SUM(K67:T67) -> 20000 | L67: 20000
B68: Packaged Rooftop Unit | C68: Roof - Area D | F68: 15 | G68: RTU-769: Replace in kind | I68: planned maintenance | J68: =SUM(K68:T68) -> 15000 | L68: 15000
B69: Packaged Rooftop Unit | C69: Roof - Area D | F69: 15 | G69: RTU-770: Replace in kind | I69: planned maintenance | J69: =SUM(K69:T69) -> 15000 | L69: 15000
B70: Unit Ventilator | C70: Third Grade | F70: 25 | G70: Replace in kind | I70: planned maintenance | J70: =SUM(K70:T70) -> 125000 | M70: 125000
B71: CONDENSING UNIT | C71: Roof - Area F | F71: 20 | G71: CU-8: Replace in kind with new refrigerant piping and dx coil. | I71: planned maintenance | J71: =SUM(K71:T71) -> 4000 | S71: 4000
B72: CONDENSING UNIT | C72: Roof - Area F | F72: 20 | G72: CU-9: Replace in kind with new refrigerant piping and dx coil. | I72: planned maintenance | J72: =SUM(K72:T72) -> 5000 | S72: 5000
B73: SPLIT SYSTEM AC UNIT | C73: A-120 | F73: 20 | G73: AC-1: Replace in kind with new refrigerant piping and dx coil. | I73: planned maintenance | J73: =SUM(K73:T73) -> 4000 | L73: 4000
B74: SPLIT SYSTEM AC UNIT | C74: A-119 | F74: 20 | G74: AC-2: Replace in kind with new refrigerant piping and dx coil. | I74: planned maintenance | J74: =SUM(K74:T74) -> 4000 | L74: 4000
B75: SPLIT SYSTEM AC UNIT | C75: A-118 | F75: 20 | G75: AC-3: Replace in kind with new refrigerant piping and dx coil. | I75: planned maintenance | J75: =SUM(K75:T75) -> 4000 | L75: 4000
A76: Electrical
B77: General electrical | F77: 30 | G77: Replace in kind | I77: corrective maintenance | J77: =SUM(K77:T77) -> 0
B78: Lighting/Control: Interior | F78: 20 | G78: Upgrade to LED Fixtures | I78: condition-based maint. | J78: =SUM(K78:T78) -> 0
B79: Lighting: Exterior | F79: 20 | G79: Upgrade to LED fixtures | I79: condition-based maint. | J79: =SUM(K79:T79) -> 0
B80: Branch Wiring | F80: 30 | G80: Replace in kind | I80: corrective maintenance | J80: =SUM(K80:T80) -> 0
B81: Electrical Service/Distribution | F81: 30 | G81: Replace in kind | I81: corrective maintenance | J81: =SUM(K81:T81) -> 0
B82: Fire Alarm | F82: 15 | G82: Replace in kind | I82: corrective maintenance | J82: =SUM(K82:T82) -> 0
B83: Information Technology | F83: 10 | I83: corrective maintenance | J83: =SUM(K83:T83) -> 0
A84: Equipment
B85: Kitchen / Commercial Equipment | J85: =SUM(K85:T85) -> 0
A86: Site
B87: Pedestrian Paving | C87: Concrete | F87: 40 | G87: good condition, some irregularities | I87: monitor yearly | J87: =SUM(K87:T87) -> 25000 | L87: 15000 | O87: 5000 | R87: 5000
B88: Parking Lot / Drives | C88: Asphalt | F88: 20 | G88: good condition | I88: monitor yearly | J88: =SUM(K88:T88) -> 108000 | L88: 28000 | P88: 35000 | S88: 45000
B89: Drainage | J89: =SUM(K89:T89) -> 0
B90: Landscaping | J90: =SUM(K90:T90) -> 15000 | M90: 5000 | Q90: 5000 | T90: 5000
A91: Site Utilities
B92: Storm Sewer | J92: =SUM(K92:T92) -> 0
B93: Sanitary Sewer | J93: =SUM(K93:T93) -> 0
B94: Site Fuel Distribution - Gas | J94: =SUM(K94:T94) -> 0
B95: Site Electrical Distribution | J95: =SUM(K95:T95) -> 0
A96: TOTAL COSTS: | J96: =SUM(J12:J95) -> 2270000 | K96: =SUM(K12:K95) -> 0 | L96: =SUM(L12:L95) -> 358500 | M96: =SUM(M12:M95) -> 716500 | N96: =SUM(N12:N95) -> 207500 | O96: =SUM(O12:O95) -> 201500 | P96: =SUM(P12:P95) -> 98500 | Q96: =SUM(Q12:Q95) -> 115500 | ... T96: =SUM(T12:T95) -> 329000
A98: List of items recommended to be addressed in the near future:
A99: 1. Tuckpoint exterior masonry walls
A100: 2. Repair or replace HVAC unit / system in Third Grade area
A101: 3. Repair or replace plumbing pipes / fixtures
A102: 4. Replace windows in Third Grade area
A103: 5. Repair slab settlement in Main Office area
...

Sheet C
A1: INTERMEDIATE SCHOOL
A2: Facility Condition Assessment
B4: Building: | C4: Building C | G4: Facility Function:
B5: Gross SF: | C5: ='Property Information'!F11 -> 72086 | G5: Intermediate School Instruction
B6: Date of Visit | C6: ='Property Information'!G11 -> 43355
B7: Year Built: | C7: ='Property Information'!I11 -> 1916-1989
A9: Property Components | C9: Area / Type / Location | D9: * Initial Installation | E9: Renovated Date * | F9: Life Exp. | G9: Comments / Equipment Tag | I9: Improvement Type | J9: Improv. Cost | K9: Recommended Capital Allocation Year & Amount
K10: 2020 | L10: 2021 | M10: 2022 | N10: 2023 | O10: 2024 | P10: 2025 | Q10: 2026 | R10: 2027 | S10: 2028 | T10: 2029
A11: Substructure
B12: Foundations | C12: Concrete / CMU | F12: 100 | G12: good condition | I12: monitor yearly | J12: =SUM(K12:T12) -> 0
B13: Slabs on Grade | C13: Concrete | F13: 100 | G13: good condition, slight cracking, slight settlement | I13: remove finished flooring, prep, mudjack and seal cracks | J13: =SUM(K13:T13) -> 15000 | N13: 15000
B14: Superstructure | C14: Load bearing CMU | F14: 100 | G14: good condition | I14: monitor yearly | J14: =SUM(K14:T14) -> 250000 | R14: 250000
A15: Exterior Envelope
B16: Exterior Doors | C16: Aluminum | F16: 40 | G16: moderate wear | I16: monitor yearly | J16: =SUM(K16:T16) -> 30000 | K16: 6000 | M16: 6000 | O16: 6000 | Q16: 6000 | S16: 6000
B17: Exterior Doors | C17: Hollow Metal | F17: 50 | G17: moderate wear | I17: monitor yearly | J17: =SUM(K17:T17) -> 40000 | L17: 8000 | N17: 8000 | P17: 8000 | R17: 8000 | T17: 8000
B18: Exterior Lintels | C18: Steel | F18: 80 | G18: good condition, some surface rust | I18: monitor yearly, prep and repaint | J18: =SUM(K18:T18) -> 30000 | M18: 15000 | Q18: 15000
B19: Exterior Door Seals | C19: Rubber | F19: 15 | G19: moderate wear | I19: replacement | J19: =SUM(K19:T19) -> 14000 | L19: 14000
B20: Exterior Door Thresholds | C20: Aluminum | F20: 30 | G20: moderate wear | I20: replacement | J20: =SUM(K20:T20) -> 24000 | K20: 24000
B21: Exterior Windows | C21: Aluminum Frames | F21: 40 | G21: end-of-service life wear | I21: replacement | J21: =SUM(K21:T21) -> 238000 | L21: 238000
B22: Exterior Windows | C22: Steel Frames | F22: 40 | G22: end-of-service life wear | I22: replacement | J22: =SUM(K22:T22) -> 85000 | L22: 85000
B23: Exterior Window Glazing | C23: Double Glazed | F23: 20 | G23: end-of-service life wear | I23: replacement | J23: =SUM(K23:T23) -> 45000 | L23: 45000
B24: Exterior Window Glazing | C24: Single Glazed | F24: 20 | G24: end-of-service life wear | I24: replacement | J24: =SUM(K24:T24) -> 76000 | L24: 76000
B25: Exterior Walls/Cladding | C25: Brick | F25: 100 | G25: some mortar separation and deterioration | I25: tuckpointing | J25: =SUM(K25:T25) -> 105000 | M25: 35000 | P25: 35000 | S25: 35000
B26: Exterior Walls/Cladding | C26: Stone Sills | F26: 100 | G26: some mortar separation | I26: tuckpointing | J26: =SUM(K26:T26) -> 30000 | M26: 10000 | P26: 10000 | S26: 10000
B27: Caulking at Openings | C27: Silicone, etc. | F27: 14 | G27: end-of-service life wear | I27: replacement | J27: =SUM(K27:T27) -> 84000 | K27: 28000 | O27: 28000 | S27: 28000
B28: Roofing | C28: Built-up / Ballasted | F28: 25 | G28: good condition, some seam separation in areas, some existing patching, some aluminum gravel stop separation, some missing flashing, ponding in some areas | I28: monitor quarterly, small spot repairs as required | J28: =SUM(K28:T28) -> 1220000 | K28: 5000 | M28: 5000 | O28: 5000 | Q28: 5000 | T28: =60000*20 -> 1200000
B29: Roofing | C29: Gutters & Downspouts, soffit fascia | F29: 25 | G29: good condition, some localized damage | I29: monitor yearly, replace as required | J29: =SUM(K29:T29) -> 30000 | L29: 7500 | N29: 7500 | P29: 7500 | R29: 7500
A30: Interior Construction
B31: Interior Partitions | C31: CMU / Glazed CMU | F31: 100 | G31: good condition, moderate wear | I31: monitor yearly | J31: =SUM(K31:T31) -> 15000 | M31: 5000 | Q31: 5000 | T31: 5000
B32: Interior Partitions | C32: Metal Stud | F32: 100 | G32: good condition | I32: monitor yearly | J32: =SUM(K32:T32) -> 45000 | L32: 15000 | O32: 15000 | R32: 15000
B33: Interior Partitions | C33: Wood Stud | F33: 40 | G33: good condition | I33: monitor yearly | J33: =SUM(K33:T33) -> 20000 | K33: 10000 | P33: 10000
B34: Interior Doors | C34: Wood | F34: 60 | G34: good condition, some moderate wear | I34: monitor yearly | J34: =SUM(K34:T34) -> 36000 | M34: 12000 | Q34: 12000 | T34: 12000
B35: Interior Door Hardware | C35: All | F35: 25 | G35: good condition, some moderate wear | I35: monitor yearly | J35: =SUM(K35:T35) -> 40000 | K35: 10000 | L35: 10000 | O35: 10000 | R35: 10000
B36: Casework | C36: Plam / Wood | F36: 30 | G36: good condition, some delamination in countertops | I36: monitory yearly, replace as required | J36: =SUM(K36:T36) -> 45000 | N36: 45000
B37: Casework | C37: Solid Surface | F37: 30 | G37: good conditioin | I37: monitor yearly | J37: =SUM(K37:T37) -> 35000 | N37: 35000
A38: Interior Finishes
B39: Floor Finish | C39: Carpet | F39: 15 | G39: moderate wear to end-of-service life | I39: replace | J39: =SUM(K39:T39) -> 175000 | M39: 175000
B40: Floor Finish | C40: Vinyl Comp Tile | F40: 35 | G40: moderate wear to end-of-service life | I40: replace | J40: =SUM(K40:T40) -> 160000 | K40: 10000 | N40: 150000
B41: Floor Finish | C41: Ceramic Tile | F41: 60 | G41: good condition, some moderate wear | I41: monitor yearly | J41: =SUM(K41:T41) -> 30000 | L41: 10000 | Q41: 10000 | T41: 10000
B42: Floor Finish | C42: Terrazzo | F42: 100 | G42: good condition, some moderate wear | I42: monitor yearly | J42: =SUM(K42:T42) -> 45000 | K42: 35000 | O42: 10000
B43: Floor Finish | C43: Athletic Wood | F43: 50 | G43: good condition | I43: monitor yearly | J43: =SUM(K43:T43) -> 0
B44: Ceiling Finish | C44: ACT | F44: 25 | G44: moderate wear to end-of-service life | I44: replace as required | J44: =SUM(K44:T44) -> 30000 | M44: 10000 | P44: 10000 | S44: 10000
B45: Wall Finish (S. Gym) | C45: Paint | F45: 10 | G45: moderate wear | I45: monitor yearly | J45: =SUM(K45:T45) -> 80000 | K45: 80000
B46: Wall Finish | C46: Paint | F46: 10 | G46: moderate wear | I46: monitor yearly | J46: =SUM(K46:T46) -> 81500 | K46: 5000 | L46: 8500 | M46: 8500 | N46: 8500 | O46: 8500 | P46: 8500 | Q46: 8500 | R46: 8500 | S46: 8500 | T46: 8500
A47: Plumbing
B48: Plumbing Fixtures | C48: Water Closet | F48: 30 | G48: 26 +/- Count, moderate-to-end of service life wear | I48: corrective maintenance | J48: =SUM(K48:T48) -> 15000 | K48: 1500 | L48: 1500 | M48: 1500 | N48: 1500 | O48: 1500 | P48: 1500 | Q48: 1500 | R48: 1500 | S48: 1500 | T48: 1500
B49: Plumbing Fixtures | C49: Lavatories | F49: 30 | G49: 22 +/- Count, moderate-to-end of service life wear | I49: corrective maintenance | J49: =SUM(K49:T49) -> 15000 | K49: 1500 | L49: 1500 | M49: 1500 | N49: 1500 | O49: 1500 | P49: 1500 | Q49: 1500 | R49: 1500 | S49: 1500 | T49: 1500
B50: Plumbing Fixtures | C50: Urinals | F50: 30 | G50: 13 +/- Count, moderate-to-end of service life wear | I50: corrective maintenance | J50: =SUM(K50:T50) -> 10000 | K50: 1000 | L50: 1000 | M50: 1000 | N50: 1000 | O50: 1000 | P50: 1000 | Q50: 1000 | R50: 1000 | S50: 1000 | T50: 1000
B51: Plumbing Fixtures | C51: Flush Valves | F51: 12 | G51: 39 +/- Count, moderate-to-end of service life wear | I51: corrective maintenance | J51: =SUM(K51:T51) -> 10000 | K51: 1000 | L51: 1000 | M51: 1000 | N51: 1000 | O51: 1000 | P51: 1000 | Q51: 1000 | R51: 1000 | S51: 1000 | T51: 1000
B52: Plumbing Fixtures | C52: Faucets | F52: 10 | G52: 22 +/- Count, moderate-to-end of service life wear | I52: corrective maintenance | J52: =SUM(K52:T52) -> 10000 | K52: 1000 | L52: 1000 | M52: 1000 | N52: 1000 | O52: 1000 | P52: 1000 | Q52: 1000 | R52: 1000 | S52: 1000 | T52: 1000
B53: Plumbing Fixtures | C53: Sump Pump | F53: 10 | G53: Elevator Sump | I53: condition-based maintenance | J53: =SUM(K53:T53) -> 3500 | N53: 3500
B54: Plumbing Fixtures | C54: Drinking Fountain | F54: 30 | G54: Replace in kind | I54: corrective maintenance | J54: =SUM(K54:T54) -> 14000 | L54: 3500 | O54: 3500 | R54: 3500 | T54: 3500
B55: Plumbing Fixtures | C55: Backflow Prevntor | F55: 6 | G55: Replace in kind | I55: condition-based maintenance | J55: =SUM(K55:T55) -> 10000 | K55: 5000 | R55: 5000
B56: Plumbing Fixtures | C56: Water heater | F56: 10 | G56: Replace in kind | I56: planned maintenance | J56: =SUM(K56:T56) -> 10000 | K56: 5000 | T56: 5000
B57: Domestic Water Distribution | C57: Piping | F57: 30 | G57: Repair domestic water leaks | I57: condition-based maintenance | J57: =SUM(K57:T57) -> 20000 | K57: 2000 | L57: 2000 | M57: 2000 | N57: 2000 | O57: 2000 | P57: 2000 | Q57: 2000 | R57: 2000 | S57: 2000 | T57: 2000
B58: Plumbing | C58: Kitchen Drains | F58: 60 | G58: underfloor plumbing / drains in the kitchen are at the end of their useful service life | I58: condition-based maintenance | J58: =SUM(K58:T58) -> 30000 | L58: 30000
B59: Plumbing | C59: Locker Room Drains | F59: 60 | G59: underfloor plumbing / drains in the locker room are at the end of their useful service life | I59: condition-based maintenance | J59: =SUM(K59:T59) -> 7500 | L59: 7500
A60: HVAC
B61: Exhaust Fan | C61: Roof | F61: 20 | G61: EF-1 TO EF-7 | I61: corrective maintenance | J61: =SUM(K61:T61) -> 10000 | L61: 2000 | N61: 2000 | P61: 2000 | R61: 2000 | T61: 2000
B62: Packaged Rooftop Unit | C62: Roof - Area A | F62: 15 | G62: RTU-782: Replace in kind | I62: planned maintenance | J62: =SUM(K62:T62) -> 13000 | O62: 13000
B63: Packaged Rooftop Unit | C63: Roof - Area A | F63: 15 | G63: RTU-783: Replace in kind | I63: planned maintenance | J63: =SUM(K63:T63) -> 13000 | O63: 13000
B64: Packaged Rooftop Unit | C64: Roof - Area A | F64: 15 | G64: RTU-3: Replace in kind | I64: planned maintenance | J64: =SUM(K64:T64) -> 55000 | S64: 55000
B65: Packaged Rooftop Unit | C65: Roof - Area A | F65: 15 | G65: RTU-4: Replace in kind | I65: planned maintenance | J65: =SUM(K65:T65) -> 55000 | S65: 55000
B66: Packaged Rooftop Unit | C66: Roof - Area B | F66: 15 | G66: RTU-5: Replace in kind | I66: planned maintenance | J66: =SUM(K66:T66) -> 55000 | S66: 55000
B67: Packaged Rooftop Unit | C67: Roof - Area E | F67: 15 | G67: RTU-798: Replace in kind | I67: planned maintenance | J67: =SUM(K67:T67) -> 13000 | O67: 13000
B68: Packaged Rooftop Unit | C68: Roof - Area F | F68: 15 | G68: RTU-788: Replace in kind | I68: planned maintenance | J68: =SUM(K68:T68) -> 13000 | O68: 13000
B69: Packaged Rooftop Unit | C69: Roof - Area G | F69: 15 | G69: RTU-2: Replace in kind | I69: planned maintenance | J69: =SUM(K69:T69) -> 55000 | S69: 55000
B70: Packaged Rooftop Unit | C70: Roof - Area M | F70: 15 | G70: RTU-6: Replace in kind | I70: planned maintenance | J70: =SUM(K70:T70) -> 17500 | S70: 17500
B71: Packaged Rooftop Unit | C71: Roof - Area I | F71: 15 | G71: RTU-1: Replace in kind | I71: planned maintenance | J71: =SUM(K71:T71) -> 15000 | S71: 15000
A72: Electrical
B73: General electrical | F73: 30 | G73: Replace in kind | I73: corrective maintenance | J73: =SUM(K73:T73) -> 0
B74: Lighting/Control: Interior | F74: 20 | G74: Upgrade to LED Fixtures with wireless controls | I74: condition-based maintenance | J74: =SUM(K74:T74) -> 0
B75: Lighting: Exterior | F75: 20 | G75: Upgrade to LED fixtures | I75: condition-based maintenance | J75: =SUM(K75:T75) -> 0
B76: Branch Wiring | F76: 30 | G76: Replace in kind | I76: corrective maintenance | J76: =SUM(K76:T76) -> 0
B77: Electrical Service/Distribution | F77: 30 | G77: Replace in kind | I77: corrective maintenance | J77: =SUM(K77:T77) -> 0
B78: Fire Alarm | F78: 15 | G78: Replace in kind | I78: corrective maintenance | J78: =SUM(K78:T78) -> 0
B79: Information Technology | F79: 10 | I79: corrective maintenance | J79: =SUM(K79:T79) -> 0
A80: Equipment
B81: Kitchen / Commercial Equipment | J81: =SUM(K81:T81) -> 0
B82: Fixed Furnishings | J82: =SUM(K82:T82) -> 0
A83: Site
B84: Driveways | C84: Asphalt | F84: 20 | G84: good condition, some irregularities | I84: monitor yearly | J84: =SUM(K84:T84) -> 30000 | M84: 10000 | Q84: 10000 | T84: 10000
B85: Pedestrian Paving | C85: Concrete | F85: 40 | G85: good condition | I85: monitor yearly | J85: =SUM(K85:T85) -> 0
B86: Drainage | J86: =SUM(K86:T86) -> 0
B87: Landscaping | J87: =SUM(K87:T87) -> 15000 | K87: 5000 | P87: 5000 | S87: 5000
A88: Site Utilities
B89: Storm Sewer | J89: =SUM(K89:T89) -> 0
B90: Sanitary Sewer | J90: =SUM(K90:T90) -> 0
B91: Site Fuel Distribution - Gas | J91: =SUM(K91:T91) -> 0
B92: Site Electrical Distribution | J92: =SUM(K92:T92) -> 0
A93: TOTAL COSTS: | J93: =SUM(J12:J92) -> 3668000 | K93: =SUM(K12:K92) -> 236000 | L93: =SUM(L12:L92) -> 568000 | M93: =SUM(M12:M92) -> 299500 | N93: =SUM(N12:N92) -> 282500 | O93: =SUM(O12:O92) -> 146000 | P93: =SUM(P12:P92) -> 104000 | Q93: =SUM(Q12:Q92) -> 79500 | ... T93: =SUM(T12:T92) -> 1272000
A95: List of items recommended to be addressed in the near future:
A97: 1. Tuckpoint exterior masonry walls
A98: 2. Replace windows
A99: 3. Replace / repair Kitchen floor drains
A100: 4. Replace / repair Lockeroom plumbing due to storm water back-ups
A102: Existing Mechanical System Replacement Priorities
A104: Based on the mechanical system evaluation, a priority list was established. Please refer to the priority key below and the notes area on the facility equipment list for individual equipment recommendations.
A106: Immediate Need - Replace Immediately (Systems that are currently not operating or consistently being repaired)
A107: Priority Level 1 - Replace in 1-2 years (Systems that are well beyond their useful service life and on the verge of failure)
...

Sheet D
A1: MIDDLE SCHOOL
A2: Facility Condition Assessment
B4: Building: | C4: Building D | G4: Facility Function:
B5: Gross SF: | C5: ='Property Information'!F12 -> 98000 | G5: Middle school instruction
B6: Date of Visit | C6: ='Property Information'!G12 -> 43354
B7: Year Built: | C7: ='Property Information'!I12 -> 2000
A9: Property Components | C9: Area / Type / Location | D9: * Initial Installation | E9: Renovated Date * | F9: Life Exp. | G9: Comments / Equipment Tag | I9: Improvement Type | J9: Improv. Cost | K9: Recommended Capital Allocation Year & Amount
K10: 2020 | L10: 2021 | M10: 2022 | N10: 2023 | O10: 2024 | P10: 2025 | Q10: 2026 | R10: 2027 | S10: 2028 | T10: 2029
A11: Substructure
B12: Foundations | C12: Concrete | F12: 100 | G12: good condition | I12: monitor yearly | J12: =SUM(K12:T12) -> 0
B13: Slabs on Grade | F13: 100 | G13: good condition, slight cracking, some underground piping heaving / telegraphing in cafeteria | I13: remove finished flooring, cut localized concrete damage, re-install pipe, replace flooring | J13: =SUM(K13:T13) -> 75000 | M13: 75000
B14: Superstructure | C14: Load bearing CMU, Steel, Wood Glulam beams | F14: 100 | G14: good condition | I14: monitor yearly | J14: =SUM(K14:T14) -> 38000 | K14: 8000 | N14: 10000 | Q14: 10000 | T14: 10000
A15: Exterior Envelope
B16: Exterior Doors | C16: Aluminum | F16: 40 | G16: good condition | I16: monitor yearly | J16: =SUM(K16:T16) -> 22500 | O16: 7500 | R16: 7500 | T16: 7500
B17: Exterior Doors | C17: Hollow Metal | F17: 50 | G17: good condition | I17: monitor yearly | J17: =SUM(K17:T17) -> 24000 | M17: 8000 | P17: 8000 | S17: 8000
B18: Exterior Lintels | C18: Steel | F18: 80 | G18: good condition, some surface rust | I18: monitor yearly, prep and repaint | J18: =SUM(K18:T18) -> 34000 | K18: 10000 | N18: 12000 | T18: 12000
B19: Exterior Door Seals | C19: Rubber | F19: 15 | G19: moderate wear | I19: replacement | J19: =SUM(K19:T19) -> 28000 | L19: 14000 | P19: 14000
B20: Exterior Door Thresholds | C20: Aluminum | F20: 30 | G20: moderate wear | I20: replacement | J20: =SUM(K20:T20) -> 36000 | O20: 18000 | R20: 18000
B21: Exterior Windows | C21: Aluminum Frames | F21: 40 | G21: moderate wear, some caulking failing, some seals deteriorating | I21: remove old caulk and re-caulk, replace localized damaged seals | J21: =SUM(K21:T21) -> 35000 | M21: 35000
B22: Exterior Window Glazing | C22: Double Glazed | F22: 20 | G22: good condition | I22: monitory yearly | J22: =SUM(K22:T22) -> 0
B23: Exterior Walls/Cladding | C23: CMU | F23: 100 | G23: mortar separation, some cracked pieces | I23: tuckpoint, replace broken CMU | J23: =SUM(K23:T23) -> 38000 | K23: 8000 | P23: 15000 | T23: 15000
B24: Exterior Walls/Cladding | C24: CMU Sills | F24: 100 | G24: mortar separation | I24: CMU sills, tuckpoint | J24: =SUM(K24:T24) -> 16000 | P24: 8000 | T24: 8000
B25: Caulking at Openings | C25: Silicone, etc. | F25: 14 | G25: near end-of-service life wear | I25: replacement | J25: =SUM(K25:T25) -> 35000 | N25: 35000
B26: Entrance Steel | C26: Main Entrance | F26: 50 | G26: Steel at main entrance "mine shaft" | I26: prepare and repaint | J26: =SUM(K26:T26) -> 15000 | Q26: 15000
B27: Roofing | C27: Built-up / Ballasted | F27: 25 | G27: End of service life wear, delamination, tenting, extensive patching, some seam separation in areas, missing ballast, etc. | I27: replacement | J27: =SUM(K27:T27) -> 1460000 | S27: =(C5-25000)*20 -> 1460000
B28: Roofing | C28: Standing-Seam Metal | F28: 35 | G28: Moderate wear, small localized damage, missing / unattached snow guards | I28: repair damaged panels (cosmetic), replace / anchor snow guards | J28: =SUM(K28:T28) -> 20000 | O28: 10000 | R28: 10000
B29: Roofing | C29: Gutters & Downspouts, soffit fascia | F29: 25 | G29: good condition, some localized damage | I29: monitor yearly, replace as required | J29: =SUM(K29:T29) -> 20000 | M29: 10000 | Q29: 10000
A30: Interior Construction
B31: Interior Partitions | C31: CMU | F31: 100 | G31: good condition, moderate wear, some localized cracks | I31: monitor yearly, infill cracks, replace cracked CMU | J31: =SUM(K31:T31) -> 32000 | K31: 8000 | N31: 8000 | Q31: 8000 | T31: 8000
B32: Interior Partitions | C32: Metal Stud | F32: 100 | G32: good condition, small localized damage | I32: monitor yearly, repair | J32: =SUM(K32:T32) -> 22500 | L32: 7500 | O32: 7500 | R32: 7500
B33: Interior Doors | C33: Wood | F33: 60 | G33: good condition | I33: monitor yearly | J33: =SUM(K33:T33) -> 0
B34: Interior Door Hardware | C34: All | F34: 25 | G34: good condition, some moderate wear | I34: monitor yearly | J34: =SUM(K34:T34) -> 20000 | M34: 10000 | R34: 10000
B35: Casework | C35: Plam / Wood | F35: 30 | G35: good condition | I35: monitory yearly | J35: =SUM(K35:T35) -> 0
A36: Interior Finishes
B37: Floor Finish | C37: Carpet | F37: 15 | G37: good condition, some staining | I37: monitor yearly | J37: =SUM(K37:T37) -> 45000 | N37: 15000 | Q37: 15000 | T37: 15000
B38: Floor Finish | C38: Vinyl Comp Tile | F38: 35 | G38: good conditioin, some cracking | I38: monitory yearly, replace as required | J38: =SUM(K38:T38) -> 36000 | O38: 12000 | Q38: 12000 | S38: 12000
B39: Floor Finish | C39: Ceramic Tile | F39: 60 | G39: good condition, some moderate wear | I39: monitor yearly | J39: =SUM(K39:T39) -> 0
B40: Floor Finish | C40: Athletic Wood | F40: 50 | G40: good condition | I40: monitor yearly | J40: =SUM(K40:T40) -> 0
B41: Ceiling Finish | C41: ACT | F41: 25 | G41: moderate wear to end-of-service life | I41: replace as required | J41: =SUM(K41:T41) -> 35000 | M41: 35000
B42: Wall Finish | C42: Paint | F42: 10 | G42: good condition | I42: monitor yearly | J42: =SUM(K42:T42) -> 100000 | K42: 10000 | L42: 10000 | M42: 10000 | N42: 10000 | O42: 10000 | P42: 10000 | Q42: 10000 | R42: 10000 | S42: 10000 | T42: 10000
A43: Plumbing
B44: Plumbing Fixtures | C44: Water Closet | F44: 30 | G44: 42 +/- Count, moderate wear | I44: replace as required | J44: =SUM(K44:T44) -> 20000 | K44: 2000 | L44: 2000 | M44: 2000 | N44: 2000 | O44: 2000 | P44: 2000 | Q44: 2000 | R44: 2000 | S44: 2000 | T44: 2000
B45: Plumbing Fixtures | C45: Lavatories | F45: 30 | G45: 118 +/- Count, moderate wear | I45: replace as required | J45: =SUM(K45:T45) -> 35000 | K45: 3500 | L45: 3500 | M45: 3500 | N45: 3500 | O45: 3500 | P45: 3500 | Q45: 3500 | R45: 3500 | S45: 3500 | T45: 3500
B46: Plumbing Fixtures | C46: Urinals | F46: 30 | G46: 15 +/- Count, moderate wear | I46: replace as required | J46: =SUM(K46:T46) -> 15000 | K46: 1500 | L46: 1500 | M46: 1500 | N46: 1500 | O46: 1500 | P46: 1500 | Q46: 1500 | R46: 1500 | S46: 1500 | T46: 1500
B47: Plumbing Fixtures | C47: Flush Valves | F47: 12 | G47: 57 +/- Count, moderate wear | I47: replace as required | J47: =SUM(K47:T47) -> 10000 | K47: 1000 | L47: 1000 | M47: 1000 | N47: 1000 | O47: 1000 | P47: 1000 | Q47: 1000 | R47: 1000 | S47: 1000 | T47: 1000
B48: Plumbing Fixtures | C48: Faucets | F48: 10 | G48: 118 +/- Count, moderate wear | I48: corrective maintenance | J48: =SUM(K48:T48) -> 25000 | K48: 2500 | L48: 2500 | M48: 2500 | N48: 2500 | O48: 2500 | P48: 2500 | Q48: 2500 | R48: 2500 | S48: 2500 | T48: 2500
B49: Plumbing Fixtures | C49: Sump Pump | F49: 10 | G49: Elevator Sump | I49: condition-based maintenance | J49: =SUM(K49:T49) -> 3500 | L49: 3500
B50: Plumbing Fixtures | C50: Drinking Fountain | F50: 30 | G50: Replace in kind | I50: corrective maintenance | J50: =SUM(K50:T50) -> 10500 | L50: 3500 | O50: 3500 | R50: 3500
B51: Plumbing Fixtures | C51: Backflow Prevntor | F51: 6 | G51: Replace in kind | I51: condition-based maintenance | J51: =SUM(K51:T51) -> 10000 | M51: 5000 | T51: 5000
B52: Plumbing Fixtures | C52: Water heater | F52: 10 | G52: Replace in kind | I52: planned maintenance | J52: =SUM(K52:T52) -> 40000 | P52: 40000
B53: Domestic Water Distribution | C53: Piping | F53: 30 | G53: Repair domestic water leaks | I53: condition-based maintenance | J53: =SUM(K53:T53) -> 5000 | K53: 500 | L53: 500 | M53: 500 | N53: 500 | O53: 500 | P53: 500 | Q53: 500 | R53: 500 | S53: 500 | T53: 500
A54: HVAC
B55: Chiller | C55: Grade - East B | F55: 20 | G55: CH-1: Replace in kind | I55: planned maintenance | J55: =SUM(K55:T55) -> 300000 | L55: 300000
B56: Air Handling Unit | C56: Mechanical 401 | F56: 25 | G56: AHU-6: Replace in kind | I56: planned maintenance | J56: =SUM(K56:T56) -> 17000 | O56: 17000
B57: Air Handling Unit | C57: Mechanical 401 | F57: 25 | G57: AHU-5B: Replace in kind | I57: planned maintenance | J57: =SUM(K57:T57) -> 1500 | O57: 1500
B58: Air Handling Unit | C58: Mechanical 400 | F58: 25 | G58: AHU-5A: Replace in kind | I58: planned maintenance | J58: =SUM(K58:T58) -> 15000 | O58: 15000
B59: Air Handling Unit | C59: Mechanical 400 | F59: 25 | G59: AHU-4: Replace in kind | I59: planned maintenance | J59: =SUM(K59:T59) -> 15000 | O59: 15000
B60: Air Handling Unit | C60: Mechanical 402 | F60: 25 | G60: AHU-1: Replace in kind | I60: planned maintenance | J60: =SUM(K60:T60) -> 32000 | O60: 32000
B61: Air Handling Unit | C61: Mechanical 402 | F61: 25 | G61: AHU-2A: Replace in kind | I61: planned maintenance | J61: =SUM(K61:T61) -> 28000 | O61: 28000
B62: Air Handling Unit | C62: Mechanical 402 | F62: 25 | G62: AHU-2B: Replace in kind | I62: planned maintenance | J62: =SUM(K62:T62) -> 28000 | O62: 28000
B63: Air Handling Unit | C63: Mechanical 402 | F63: 25 | G63: AHU-3: Replace in kind | I63: planned maintenance | J63: =SUM(K63:T63) -> 22000 | O63: 22000
B64: Air Handling Unit | C64: Mechanical 402 | F64: 25 | G64: AHU-8: Replace in kind | I64: planned maintenance | J64: =SUM(K64:T64) -> 7500 | O64: 7500
A65: Electrical
B66: Lighting: Interior | F66: 30 | G66: Replace in kind | I66: corrective maintenance | J66: =SUM(K66:T66) -> 0
B67: Lighting: Controls | F67: 20 | G67: Upgrade to LED Fixtures with wireless controls | I67: condition-based maintenance | J67: =SUM(K67:T67) -> 0
B68: Lighting: Exterior | F68: 20 | G68: Upgrade to LED fixtures | I68: condition-based maintenance | J68: =SUM(K68:T68) -> 0
B69: Branch Wiring | F69: 30 | G69: Replace in kind | I69: corrective maintenance | J69: =SUM(K69:T69) -> 0
B70: Electrical Service/Distribution | F70: 30 | G70: Replace in kind | I70: corrective maintenance | J70: =SUM(K70:T70) -> 0
B71: Fire Alarm | F71: 15 | G71: Replace in kind | I71: corrective maintenance | J71: =SUM(K71:T71) -> 0
B72: Information Technology | F72: 10 | I72: corrective maintenance | J72: =SUM(K72:T72) -> 0
A73: Site
B74: Driveways | C74: Asphalt | F74: 20 | G74: good condition, some irregularities | I74: monitor yearly | J74: =SUM(K74:T74) -> 15000 | M74: 5000 | Q74: 5000 | T74: 5000
B75: Pedestrian Paving | C75: Concrete | F75: 40 | G75: good condition, some irregularities | I75: monitor yearly | J75: =SUM(K75:T75) -> 10000 | O75: 5000 | S75: 5000
A76: TOTAL COSTS: | J76: =SUM(J12:J75) -> 2852000 | K76: =SUM(K12:K75) -> 55000 | L76: =SUM(L12:L75) -> 349500 | M76: =SUM(M12:M75) -> 204000 | N76: =SUM(N12:N75) -> 101000 | O76: =SUM(O12:O75) -> 250500 | P76: =SUM(P12:P75) -> 106000 | Q76: =SUM(Q12:Q75) -> 96000 | ... T76: =SUM(T12:T75) -> 106500
A78: List of items recommended to be addressed in the near future:
A80: 1. Replace roofing system
A81: 2. Repair / reseal exterior windows
A82: 3. Seal exterior masonry (only if recommended, may trap moisuture in wall cavities further investigation required)
A83: 4. Tuckpoint exterior masonry
A84: 5. Replace rooftop unit in Art Room
A85: 6. Replace chiller unit
A87: Existing Mechanical System Replacement Priorities
A89: Based on the mechanical system evaluation, a priority list was established. Please refer to the priority key below and the notes area on the facility equipment list for individual equipment recommendations.
A91: Immediate Need - Replace Immediately (Systems that are currently not operating or consistently being repaired)
A92: Priority Level 1 - Replace in 1-2 years (Systems that are well beyond their useful service life and on the verge of failure)
A93: Priority Level 2 - Replace in 2-5 years (Systems that are nearing their useful service life)
A94: Priority Level 3 - Replace in 5+ years (Systems that should be scheduled for replacement based on anticipated remaining life and current condition)

Sheet E
A1: HIGH SCHOOL
A2: Facility Condition Assessment
B4: Building: | C4: Building E | G4: Facility Function:
B5: Gross SF: | C5: ='Property Information'!F13 -> 209922 | G5: High school instruction
B6: Date of Visit | C6: ='Property Information'!G13 -> 43381
B7: Year Built: | C7: ='Property Information'!I13 -> 1971-2009
A9: Property Components | C9: Area / Type / Location | D9: * Initial Installation | E9: Renovated Date * | F9: Life Exp. | G9: Comments / Equipment Tag | I9: Improvement Type | J9: Improv. Cost | K9: Recommended Capital Allocation Year & Amount
K10: 2020 | L10: 2021 | M10: 2022 | N10: 2023 | O10: 2024 | P10: 2025 | Q10: 2026 | R10: 2027 | S10: 2028 | T10: 2029
A11: Substructure
B12: Foundations | C12: Concrete | F12: 100 | G12: good condition | I12: monitor yearly | J12: =SUM(K12:T12) -> 0
B13: Slabs on Grade | C13: Concrete | F13: 100 | G13: good condition, slight cracking | I13: monitor yearly | J13: =SUM(K13:T13) -> 0
B14: Superstructure | C14: Load bearing CMU, steel, precast concrete | F14: 100 | G14: good condition | I14: monitor yearly | J14: =SUM(K14:T14) -> 12000 | S14: 12000
A15: Exterior Envelope
B16: Exterior Doors | C16: Aluminum | F16: 40 | G16: good condition, some moderate wear | I16: monitor yearly | J16: =SUM(K16:T16) -> 45000 | N16: 15000 | P16: 15000 | R16: 15000
B17: Exterior Doors | C17: Hollow Metal | F17: 50 | G17: good condition, some moderate wear | I17: monitor yearly, replace as required | J17: =SUM(K17:T17) -> 20000 | O17: 10000 | Q17: 10000
B18: Exterior Lintels | C18: Steel | F18: 80 | G18: good condition, some surface rust | I18: monitor yearly, prep and repaint as required | J18: =SUM(K18:T18) -> 30000 | M18: 15000 | S18: 15000
B19: Exterior Door Seals | C19: Rubber | F19: 15 | G19: moderate wear | I19: replacement | J19: =SUM(K19:T19) -> 0
B20: Exterior Door Thresholds | C20: Aluminum | F20: 30 | G20: moderate wear | I20: replacement | J20: =SUM(K20:T20) -> 23000 | L20: 23000
B21: Exterior Windows | C21: Aluminum Frames | F21: 40 | G21: moderate to end-of-service life wear | I21: monitor yearly, replace in original section of the building | J21: =SUM(K21:T21) -> 49000 | M21: 35000 | R21: 14000
B22: Exterior Window Glazing | C22: Double Glazed | F22: 20 | G22: good condition to end-of-service life wear | I22: monitor yearly, replace window seals as required | J22: =SUM(K22:T22) -> 85000 | P22: 85000
B23: Exterior Walls/Cladding | C23: Brick | F23: 100 | G23: some mortar separation and deterioration | I23: tuckpointing | J23: =SUM(K23:T23) -> 75000 | N23: 25000 | Q23: 25000 | T23: 25000
B24: Exterior Walls/Cladding | C24: Precast concrete | F24: 100 | G24: good condition | I24: monitor yearly, seal as required | J24: =SUM(K24:T24) -> 35000 | P24: 35000
B25: Exterior Walls/Cladding | C25: Corrugated metal panel | F25: 40 | G25: moderate wear, minor cosmetic damage | I25: monitor yearly, touch up as required | J25: =SUM(K25:T25) -> 40000 | O25: 20000 | S25: 20000
B26: Exterior Walls/Cladding | C26: Stone Sills | F26: 100 | G26: some mortar separation | I26: tuckpointing | J26: =SUM(K26:T26) -> 20000 | O26: 10000 | S26: 10000
B27: Caulking at Openings | C27: Silicone, etc. | F27: 14 | G27: moderate to end-of-service life wear | I27: monitor yearly, replace as required | J27: =SUM(K27:T27) -> 25000 | M27: 25000
B28: Roofing | C28: Single-Ply / Ballasted | F28: 25 | G28: good condition to end-of-service life in some areas, some seam separation in areas, some existing patching, some aluminum gravel stop separation, some missing flashing, ponding in some areas | I28: monitor quarterly, small spot repairs as required, replace in '98 addition and 'server room' area | J28: =SUM(K28:T28) -> 520000 | R28: =26000*20 -> 520000
B29: Roofing | C29: Gutters & Downspouts, soffit fascia | F29: 25 | G29: good condition, some localized damage | I29: monitor yearly, replace as required | J29: =SUM(K29:T29) -> 45000 | L29: 20000 | P29: 25000
A30: Interior Construction
B31: Interior Partitions | C31: CMU | F31: 100 | G31: good condition, moderate wear | I31: monitor yearly | J31: =SUM(K31:T31) -> 36000 | N31: 12000 | Q31: 12000 | T31: 12000
B32: Interior Partitions | C32: Metal Stud | F32: 100 | G32: good condition, moderate wear | I32: monitor yearly | J32: =SUM(K32:T32) -> 45000 | L32: 15000 | O32: 15000 | S32: 15000
B33: Lockers | C33: Metal Stud | F33: 20 | G33: good condition, some moderate wear | I33: monitor yearly | J33: =SUM(K33:T33) -> 30000 | L33: 15000 | M33: 15000
B34: Interior Doors | C34: Wood | F34: 60 | G34: good condition, some moderate wear | I34: monitor yearly | J34: =SUM(K34:T34) -> 0
B35: Interior Door Hardware | C35: All | F35: 25 | G35: good condition, some moderate wear | I35: monitor yearly | J35: =SUM(K35:T35) -> 30000 | L35: 10000 | P35: 10000 | T35: 10000
B36: Casework | C36: Plam | F36: 30 | G36: good condition, some delamination in countertops and vertical faces | I36: monitory yearly, replace as required | J36: =SUM(K36:T36) -> 90000 | M36: 30000 | P36: 30000 | R36: 30000
B37: Casework | C37: Solid Surface | F37: 30 | G37: good conditioin | I37: monitor yearly | J37: =SUM(K37:T37) -> 54000 | L37: 18000 | O37: 18000 | S37: 18000
A38: Interior Finishes
B39: Floor Finish | C39: Carpet | F39: 15 | G39: good condition to moderate wear | I39: monitor yearly | J39: =SUM(K39:T39) -> 100000 | N39: 50000 | T39: 50000
B40: Floor Finish | C40: Vinyl Comp Tile | F40: 35 | G40: good condition, some damage | I40: monitor yearly, replace | J40: =SUM(K40:T40) -> 100000 | M40: 50000 | Q40: 50000
B41: Floor Finish | C41: Ceramic Tile | F41: 40 | G41: good condition, some cracking, some missing pieces | I41: monitor yearly, replace | J41: =SUM(K41:T41) -> 85000 | L41: 15000 | O41: 35000 | S41: 35000
B42: Floor Finish | C42: Terrazzo | F42: 100 | G42: good condition, some moderate wear | I42: monitor yearly | J42: =SUM(K42:T42) -> 0
B43: Floor Finish | C43: Quarry tile | F43: 40 | G43: good condition to moderate wear | I43: monitor yearly | J43: =SUM(K43:T43) -> 20000 | M43: 10000 | R43: 10000
B44: Floor Finish | C44: Epoxy | F44: 50 | G44: good condition | I44: monitor yearly | J44: =SUM(K44:T44) -> 0
B45: Floor Finish | C45: Athletic Wood | F45: 50 | G45: good condition | I45: monitor yearly | J45: =SUM(K45:T45) -> 15000 | S45: 15000
B46: Ceiling Finish | C46: Gypsum Board | F46: 30 | G46: good condition, some damage | I46: monitor yearly, replace as required | J46: =SUM(K46:T46) -> 75000 | L46: 25000 | P46: 25000 | T46: 25000
B47: Ceiling Finish | C47: ACT | F47: 25 | G47: good condition, some damage | I47: monitor yearly, replace as required | J47: =SUM(K47:T47) -> 40000 | O47: 20000 | S47: 20000
B48: Wall Finish | C48: Paint | F48: 10 | G48: good condition, moderate wear | I48: monitor yearly, repaint as required | J48: =SUM(K48:T48) -> 225000 | L48: 25000 | M48: 25000 | N48: 25000 | O48: 25000 | P48: 25000 | Q48: 25000 | R48: 25000 | S48: 25000 | T48: 25000
B49: Wall Finish | C49: Ceramic Tile | F49: 40 | G49: good condition, some cracking, some missing pieces | I49: monitor yearly, replace as required | J49: =SUM(K49:T49) -> 54000 | M49: 18000 | Q49: 18000 | T49: 18000
B50: Wall Base | C50: Rubber | F50: 30 | G50: good condition to moderate wear | I50: monitor yearly, replace as required | J50: =SUM(K50:T50) -> 45000 | L50: 15000 | P50: 15000 | S50: 15000
A51: Plumbing
B52: Plumbing Fixtures | C52: Water Closet | F52: 30 | G52: 70 +/- Count, moderate wear | I52: corrective maintenance | J52: =SUM(K52:T52) -> 20000 | K52: 2000 | L52: 2000 | M52: 2000 | N52: 2000 | O52: 2000 | P52: 2000 | Q52: 2000 | R52: 2000 | S52: 2000 | T52: 2000
B53: Plumbing Fixtures | C53: Lavatories | F53: 30 | G53: 91 +/- Count, moderate wear | I53: corrective maintenance | J53: =SUM(K53:T53) -> 35000 | K53: 3500 | L53: 3500 | M53: 3500 | N53: 3500 | O53: 3500 | P53: 3500 | Q53: 3500 | R53: 3500 | S53: 3500 | T53: 3500
B54: Plumbing Fixtures | C54: Urinals | F54: 30 | G54: 21 +/- Count, moderate wear | I54: corrective maintenance | J54: =SUM(K54:T54) -> 15000 | K54: 1500 | L54: 1500 | M54: 1500 | N54: 1500 | O54: 1500 | P54: 1500 | Q54: 1500 | R54: 1500 | S54: 1500 | T54: 1500
B55: Plumbing Fixtures | C55: Flush Valves | F55: 12 | G55: 112 +/- Count, moderate-to-end of service life wear | I55: corrective maintenance | J55: =SUM(K55:T55) -> 10000 | K55: 1000 | L55: 1000 | M55: 1000 | N55: 1000 | O55: 1000 | P55: 1000 | Q55: 1000 | R55: 1000 | S55: 1000 | T55: 1000
B56: Plumbing Fixtures | C56: Faucets | F56: 10 | G56: 91 +/- Count, moderate-to-end of service life wear | I56: corrective maintenance | J56: =SUM(K56:T56) -> 25000 | K56: 2500 | L56: 2500 | M56: 2500 | N56: 2500 | O56: 2500 | P56: 2500 | Q56: 2500 | R56: 2500 | S56: 2500 | T56: 2500
B57: Plumbing Fixtures | C57: Sump Pump | F57: 10 | G57: Elevator Sump | I57: condition-based maintenance | J57: =SUM(K57:T57) -> 3500 | M57: 3500
B58: Plumbing Fixtures | C58: Drinking Fountain | F58: 30 | G58: Replace in kind | I58: corrective maintenance | J58: =SUM(K58:T58) -> 14000 | M58: 3500 | O58: 3500 | Q58: 3500 | S58: 3500
B59: Plumbing Fixtures | C59: Backflow Prevntor | F59: 6 | G59: Replace in kind | I59: condition-based maintenance | J59: =SUM(K59:T59) -> 10000 | K59: 5000 | Q59: 5000
B60: Domestic Water Distribution | C60: Piping | F60: 30 | G60: Repair domestic water leaks | I60: condition-based maintenance | J60: =SUM(K60:T60) -> 15000 | K60: 1500 | L60: 1500 | M60: 1500 | N60: 1500 | O60: 1500 | P60: 1500 | Q60: 1500 | R60: 1500 | S60: 1500 | T60: 1500
A61: HVAC
B62: Condensing Unit | C62: Roof - Area O | F62: 20 | G62: CU-2: Replace in kind with new refrigerant piping and dx coil. | I62: planned maintenance | J62: =SUM(K62:T62) -> 30000 | N62: 30000
B63: Packaged Rooftop Unit | C63: Roof - Area O | F63: 15 | G63: RTU-2: Replace in kind | I63: planned maintenance | J63: =SUM(K63:T63) -> 15000 | N63: 15000
B64: Packaged Rooftop Unit | C64: Roof - Area O | F64: 15 | G64: RTU-3: Replace in kind | I64: planned maintenance | J64: =SUM(K64:T64) -> 15000 | P64: 15000
B65: Makeup Air Unit | C65: Roof - Area O | F65: 15 | G65: MAU-1: Replace in kind | I65: planned maintenance | J65: =SUM(K65:T65) -> 15000 | O65: 15000
B66: Makeup Air Unit | C66: Roof - Area O | F66: 15 | G66: MAU-2: Replace in kind | I66: planned maintenance | J66: =SUM(K66:T66) -> 15000 | O66: 15000
B67: Packaged Rooftop Unit | C67: Roof - Area N | F67: 15 | G67: RTU-4: Replace in kind | I67: planned maintenance | J67: =SUM(K67:T67) -> 30000 | P67: 30000
B68: Exhaust Fan | C68: Roof | F68: 20 | G68: EF-1 TO EF-25 | I68: corrective maintenance | J68: =SUM(K68:T68) -> 24000 | K68: 6000 | L68: 2000 | M68: 2000 | N68: 2000 | O68: 2000 | P68: 2000 | Q68: 2000 | R68: 2000 | S68: 2000 | T68: 2000
B69: Condensing Unit | C69: Roof - Area H | F69: 20 | G69: CU-3: Replace in kind with new refrigerant piping and dx coil. | I69: planned maintenance | J69: =SUM(K69:T69) -> 65000 | N69: 65000
B70: Packaged Rooftop Unit | C70: Roof - Area B | F70: 15 | G70: RTU-6: Replace in kind | I70: planned maintenance | J70: =SUM(K70:T70) -> 20000 | K70: 20000
B71: Condensing Unit | C71: Roof - Area B | F71: 20 | G71: CU-4: Replace in kind with new refrigerant piping and dx coil. | I71: planned maintenance | J71: =SUM(K71:T71) -> 5000 | N71: 5000
B72: Packaged Rooftop Unit | C72: Roof - Area B | F72: 15 | G72: RTU-340: Replace in kind | I72: planned maintenance | J72: =SUM(K72:T72) -> 13000 | P72: 13000
B73: Packaged Rooftop Unit | C73: Roof - Area B | F73: 15 | G73: RTU-7: Replace in kind | I73: planned maintenance | J73: =SUM(K73:T73) -> 8500 | P73: 8500
B74: Packaged Rooftop Unit | C74: Roof - Area B | F74: 15 | G74: RTU-341: Replace in kind | I74: planned maintenance | J74: =SUM(K74:T74) -> 10000 | K74: 10000
B75: Condensing Unit | C75: Roof - Area B | F75: 20 | G75: CU-5: Replace in kind with new refrigerant piping and dx coil. | I75: planned maintenance | J75: =SUM(K75:T75) -> 5000 | N75: 5000
B76: Packaged Rooftop Unit | C76: Roof - Area CY | F76: 15 | G76: RTU-361: Replace in kind | I76: planned maintenance | J76: =SUM(K76:T76) -> 15000 | K76: 15000
B77: Condensing Unit | C77: Roof - Area CY | F77: 20 | G77: CU-6: Replace in kind with new refrigerant piping and dx coil. | I77: planned maintenance | J77: =SUM(K77:T77) -> 5000 | N77: 5000
B78: Packaged Rooftop Unit | C78: Roof - Area C | F78: 15 | G78: RTU-365: Replace in kind | I78: planned maintenance | J78: =SUM(K78:T78) -> 8500 | K78: 8500
B79: Packaged Rooftop Unit | C79: Roof - Area C | F79: 15 | G79: RTU-342: Replace in kind | I79: planned maintenance | J79: =SUM(K79:T79) -> 8500 | K79: 8500
B80: Packaged Rooftop Unit | C80: Roof - Area C | F80: 15 | G80: RTU-364: Replace in kind | I80: planned maintenance | J80: =SUM(K80:T80) -> 8500 | K80: 8500
B81: Packaged Rooftop Unit | C81: Roof - Area C | F81: 15 | G81: RTU-362: Replace in kind | I81: planned maintenance | J81: =SUM(K81:T81) -> 8500 | K81: 8500
B82: Packaged Rooftop Unit | C82: Roof - Area C | F82: 15 | G82: RTU-363: Replace in kind | I82: planned maintenance | J82: =SUM(K82:T82) -> 8000 | P82: 8000
B83: Packaged Rooftop Unit | C83: Roof - Area D | F83: 15 | G83: RTU-370: Replace in kind | I83: planned maintenance | J83: =SUM(K83:T83) -> 8500 | K83: 8500
B84: Packaged Rooftop Unit | C84: Roof - Area E | F84: 15 | G84: RTU-11: Replace in kind | I84: planned maintenance | J84: =SUM(K84:T84) -> 8500 | K84: 8500
B85: Packaged Rooftop Unit | C85: Roof - Area E | F85: 15 | G85: RTU-12: Replace in kind | I85: planned maintenance | J85: =SUM(K85:T85) -> 8000 | P85: 8000
B86: Packaged Rooftop Unit | C86: Roof - Area Z | F86: 15 | G86: RTU-15: Replace in kind | I86: planned maintenance | J86: =SUM(K86:T86) -> 65000 | P86: 65000
B87: Packaged Rooftop Unit | C87: Roof - Area S | F87: 15 | G87: RTU-16: Replace in kind | I87: planned maintenance | J87: =SUM(K87:T87) -> 38000 | P87: 38000
B88: Packaged Rooftop Unit | C88: Roof - Area S | F88: 15 | G88: RTU-17: Replace in kind | I88: planned maintenance | J88: =SUM(K88:T88) -> 38000 | P88: 38000
B89: Packaged Rooftop Unit | C89: Roof - Area S | F89: 15 | G89: RTU-18: Replace in kind | I89: planned maintenance | J89: =SUM(K89:T89) -> 65000 | P89: 65000
B90: Packaged Rooftop Unit | C90: Roof - Area S | F90: 15 | G90: RTU-19: Replace in kind | I90: planned maintenance | J90: =SUM(K90:T90) -> 65000 | P90: 65000
B91: Packaged Rooftop Unit | C91: Roof - Area K | F91: 15 | G91: RTU-20: Replace in kind | I91: planned maintenance | J91: =SUM(K91:T91) -> 16000 | N91: 16000
B92: Packaged Rooftop Unit | C92: Roof - Area A | F92: 15 | G92: RTU-21: Replace in kind | I92: planned maintenance | J92: =SUM(K92:T92) -> 8000 | P92: 8000
B93: Dust Collector System | C93: E-120 | F93: 25 | G93: Rehab ductwork as needed for equipment layout | I93: planned maintenance | J93: =SUM(K93:T93) -> 35000 | K93: 35000
B94: Boiler | C94: B-3 | F94: 25 | G94: Not functioning | I94: corrective maintenance | J94: =SUM(K94:T94) -> 6500 | K94: 6500
B95: Boiler Plant Pumps | C95: A-118 | F95: 10 | G95: P-1 to P-2: Replace pumps in kind and inculde hot water piping/insulation in boiler room. | I95: planned maintenance | J95: =SUM(L95:T95) -> 50000 | L95: 50000
B96: Air Handling Unit | C96: A-118 | F96: 25 | G96: AHU-1: Replace in kind | I96: planned maintenance | J96: =SUM(K96:T96) -> 18000 | R96: 18000
B97: Air Handling Unit | C97: A-118 | F97: 25 | G97: AHU-2: Replace in kind | I97: planned maintenance | J97: =SUM(K97:T97) -> 7500 | R97: 7500
B98: Air Handling Unit | C98: B-142 | F98: 25 | G98: AHU-3: Replace in kind | I98: planned maintenance | J98: =SUM(K98:T98) -> 50000 | R98: 50000
B99: Air Handling Unit | C99: D-126 | F99: 25 | G99: AHU-4: Replace in kind | I99: planned maintenance | J99: =SUM(K99:T99) -> 8500 | R99: 8500
B100: Unit Ventilator | C100: Locker Room | F100: 25 | G100: UV-1 TO UV-2: Replace in kind | I100: planned maintenance | J100: =SUM(K100:T100) -> 30000 | S100: 30000
B101: Unit Ventilator | C101: E Classrooms | F101: 25 | G101: UV-3 TO UV-11: Replace in kind | I101: planned maintenance | J101: =SUM(K101:T101) -> 135000 | S101: 135000
B102: Unit Ventilator | C102: F Classrooms | F102: 25 | G102: UV-12 TO UV-15: Replace in kind | I102: planned maintenance | J102: =SUM(K102:T102) -> 60000 | S102: =60000 -> 60000
...

Sheet F
A1: OPERATIONS & MAINTENANCE BUILDING 1
A2: Facility Condition Assessment
B4: Building: | C4: Building F | G4: Facility Function:
B5: Gross SF: | C5: ='Property Information'!F14 -> 5600 | G5: Maintenance & Vehicle Storage
B6: Date of Visit | C6: ='Property Information'!G14 -> 43381
B7: Year Built: | C7: ='Property Information'!I14 -> 1976-1996
A9: Property Components | C9: Area / Type / Location | D9: * Initial Installation | E9: Renovated Date * | F9: Life Exp. | G9: Comments / Equipment Tag | I9: Improvement Type | J9: Improv. Cost | K9: Recommended Capital Allocation Year & Amount
K10: 2020 | L10: 2021 | M10: 2022 | N10: 2023 | O10: 2024 | P10: 2025 | Q10: 2026 | R10: 2027 | S10: 2028 | T10: 2029
A11: Substructure
B12: Foundations | F12: 100 | G12: good condition | I12: monitor yearly | J12: =SUM(K12:T12) -> 0
B13: Slabs on Grade | F13: 100 | G13: near end-of-service life wear | I13: replacement | J13: =SUM(K13:T13) -> 25000 | L13: 25000
B14: Wood Roof Framing | F14: 50 | G14: good condition | I14: monitor yearly | J14: =SUM(K14:T14) -> 0
B15: Steel Roof Framing | F15: 100 | G15: good condition | I15: monitor yearly | J15: =SUM(K15:T15) -> 0
A16: Exterior Envelope
B17: Exterior Doors | C17: Hollow Metal | F17: 50 | G17: end-of-service life wear | I17: replacement | J17: =SUM(K17:T17) -> 15000 | L17: 15000
B18: Exterior Door Seals | C18: Rubber | F18: 15 | G18: end-of-service life wear | I18: replacement | J18: =SUM(K18:T18) -> 5000 | L18: 5000
B19: Exterior Door Thresholds | C19: Aluminum | F19: 30 | G19: end-of-service life wear | I19: replacement | J19: =SUM(K19:T19) -> 3500 | L19: 3500
B20: Exterior Walls/Cladding | C20: Al uminum Panels | F20: 30 | G20: end-of-service life wear | I20: replacement | J20: =SUM(K20:T20) -> 95000 | L20: 95000
B21: Caulking at Openings | C21: Silicone, etc. | F21: 14 | G21: end-of-service life wear | I21: replacement | J21: =SUM(K21:T21) -> 8000 | L21: 8000
B22: Roofing | C22: Standing-Seam Metal | F22: 35 | G22: end-of-service life wear | I22: replacement | J22: =SUM(K22:T22) -> 12000 | L22: 12000
B23: Roofing | C23: Gutters & Downspouts, soffit fascia | F23: 25 | G23: end-of-service life wear | I23: replacement | J23: =SUM(K23:T23) -> 5000 | L23: 5000
A24: Interior Construction
B25: Interior Partitions | C25: metal panel | F25: 30 | G25: end-of-service life wear | I25: replacement | J25: =SUM(K25:T25) -> 5000 | L25: 5000
B26: Interior Partitions | C26: foil-faced insulation | F26: 20 | G26: end-of-service life wear | I26: replacement | J26: =SUM(K26:T26) -> 5000 | L26: 5000
B27: Interior Doors | C27: Hollow Metal | F27: 80 | G27: end-of-service life wear | I27: replacement | J27: =SUM(K27:T27) -> 4500 | L27: 4500
A28: Interior Finishes
B29: Floor Finish | C29: Sealed Conc. | F29: 25 | G29: near end-of-service life wear | I29: replacement | J29: =SUM(K29:T29) -> 10000 | L29: 10000
B30: Ceiling Finish | C30: Exposed | F30: 30 | G30: near end-of-service life wear | I30: replacement | J30: =SUM(K30:T30) -> 5000 | L30: 5000
B31: Wall Insulated Panels | C31: foil-faced insulation | F31: 25 | G31: near end-of-service life wear | I31: replacement | J31: =SUM(K31:T31) -> 5000 | L31: 5000
A32: HVAC
B33: Modine-type heaters | C33: Ceiling | F33: 13 | G33: good condition | I33: corrective maintenance | J33: =SUM(K33:T33) -> 8000 | N33: 8000
A34: Electrical
B35: General electrical | F35: 30 | G35: Replace in kind | I35: corrective maintenance | J35: =SUM(K35:T35) -> 0
B36: Lighting/Control: Interior | F36: 20 | G36: Upgrade to LED Fixtures with wireless controls | I36: condition-based maintenance | J36: =SUM(K36:T36) -> 0
B37: Lighting: Exterior | F37: 20 | G37: Upgrade to LED fixtures | I37: condition-based maintenance | J37: =SUM(K37:T37) -> 0
B38: Branch Wiring | F38: 30 | G38: Replace in kind | I38: corrective maintenance | J38: =SUM(K38:T38) -> 0
B39: Electrical Service/Distribution | F39: 30 | G39: Replace in kind | I39: corrective maintenance | J39: =SUM(K39:T39) -> 0
B40: Fire Alarm | F40: 15 | G40: Replace in kind | I40: corrective maintenance | J40: =SUM(K40:T40) -> 0
B41: Information Technology | F41: 10 | I41: corrective maintenance | J41: =SUM(K41:T41) -> 0
A43: Equipment
B44: Kitchen / Commercial Equipment | J44: =SUM(K44:T44) -> 0
B45: Fixed Furnishings | J45: =SUM(K45:T45) -> 0
A46: Site
B47: Driveways | C47: Asphalt | F47: 20 | G47: good condition, some irregularities | I47: monitor yearly | J47: =SUM(K47:T47) -> 3500 | L47: 3500
B48: Pedestrian Paving | C48: Concrete | F48: 40 | G48: good condition, some irregularities | I48: monitor yearly | J48: =SUM(K48:T48) -> 3000 | L48: 3000
B49: Drainage | J49: =SUM(K49:T49) -> 0 | L49: 0
B50: Landscaping | J50: =SUM(K50:T50) -> 2000 | L50: 2000
A51: Site Utilities
B52: Storm Sewer | J52: =SUM(K52:T52) -> 0
B53: Sanitary Sewer | J53: =SUM(K53:T53) -> 0
B54: Site Fuel Distribution - Gas | J54: =SUM(K54:T54) -> 0
B55: Site Electrical Distribution | J55: =SUM(K55:T55) -> 0
A56: TOTAL COSTS: | J56: =SUM(J12:J55) -> 219500 | K56: =SUM(K12:K55) -> 0 | L56: =SUM(L12:L55) -> 211500 | M56: =SUM(M12:M55) -> 0 | N56: =SUM(N12:N55) -> 8000 | O56: =SUM(O12:O55) -> 0 | P56: =SUM(P12:P55) -> 0 | Q56: =SUM(Q12:Q55) -> 0 | ... T56: =SUM(T12:T55) -> 0
A58: List of items recommended to be addressed in the near future:
A60: 1. Extensively repair OR replace entire building
A62: Existing Mechanical System Replacement Priorities
A64: Based on the mechanical system evaluation, a priority list was established. Please refer to the priority key below and the notes area on the facility equipment list for individual equipment recommendations.
A66: Immediate Need - Replace Immediately (Systems that are currently not operating or consistently being repaired)
A67: Priority Level 1 - Replace in 1-2 years (Systems that are well beyond their useful service life and on the verge of failure)
A68: Priority Level 2 - Replace in 2-5 years (Systems that are nearing their useful service life)
A69: Priority Level 3 - Replace in 5+ years (Systems that should be scheduled for replacement based on anticipated remaining life and current condition)

Sheet G
A1: HIGH SCHOOL CONCESSIONS BUILDING
A2: Facility Condition Assessment
B4: Building: | C4: Building G | G4: Facility Function:
B5: Gross SF: | C5: ='Property Information'!F15 -> 5744 | G5: Athletic even concessions, public restrooms, storage
B6: Date of Visit | C6: ='Property Information'!G15 -> 43381
B7: Year Built: | C7: ='Property Information'!I15 -> 2017
A9: Property Components | C9: Area / Type / Location | D9: * Initial Installation | E9: Renovated Date * | F9: Life Exp. | G9: Comments / Equipment Tag | I9: Improvement Type | J9: Improv. Cost | K9: Recommended Capital Allocation Year & Amount
K10: 2020 | L10: 2021 | M10: 2022 | N10: 2023 | O10: 2024 | P10: 2025 | Q10: 2026 | R10: 2027 | S10: 2028 | T10: 2029
A11: Substructure
B12: Foundations | C12: Concrete | F12: 100 | G12: good condition | I12: monitor yearly | J12: =SUM(K12:T12) -> 0
B13: Slabs on Grade | C13: Concrete | F13: 100 | G13: good condition | I13: monitor yearly | J13: =SUM(K13:T13) -> 0
B14: Superstructure | C14: Wood | F14: 100 | G14: good condition | I14: monitor yearly | J14: =SUM(K14:T14) -> 0
A15: Exterior Envelope
B16: Exterior OH Doors | C16: Aluminum | F16: 40 | G16: good condition | I16: monitor yearly | J16: =SUM(K16:T16) -> 0
B17: Exterior Doors | C17: Hollow Metal | F17: 50 | G17: good condition | I17: monitor yearly | J17: =SUM(K17:T17) -> 0
B18: Exterior Door Seals | C18: Rubber | F18: 15 | G18: good condition | I18: monitor yearly | J18: =SUM(K18:T18) -> 3200 | T18: 3200
B19: Exterior Door Thresholds | C19: Aluminum | F19: 30 | G19: good condition | I19: monitor yearly | J19: =SUM(K19:T19) -> 0
B20: Exterior Walls/Cladding | C20: Thin brick | F20: 50 | G20: good condition | I20: monitor yearly | J20: =SUM(K20:T20) -> 0
B21: Caulking at Openings | C21: Silicone, etc. | F21: 14 | G21: good condition | I21: monitor yearly | J21: =SUM(K21:T21) -> 0
B22: Roofing | C22: Corrugated metal roof | F22: 40 | G22: good condition | I22: monitor yearly | J22: =SUM(K22:T22) -> 0
A23: Interior Construction
B24: Interior Partitions | C24: Wood Stud | F24: 40 | G24: good condition | I24: monitor yearly | J24: =SUM(K24:T24) -> 0
B25: Interior Door Hardware | C25: All | F25: 25 | G25: good condition | I25: monitor yearly | J25: =SUM(K25:T25) -> 0
B26: Casework | C26: Plam / Wood | F26: 30 | G26: good condition | I26: monitor yearly | J26: =SUM(K26:T26) -> 0
B27: Casework | C27: Stainless steel | F27: 80 | G27: good condition | I27: monitor yearly | J27: =SUM(K27:T27) -> 0
A28: Interior Finishes
B29: Floor Finish | C29: Concrete | F29: 100 | G29: good condition | I29: monitor yearly | J29: =SUM(K29:T29) -> 0
B30: Ceiling Finish | C30: ACT | F30: 25 | G30: good condition | I30: monitor yearly | J30: =SUM(K30:T30) -> 0
B31: Ceiling Finish | C31: Gypsum Board | F31: 30 | G31: good condition | I31: monitor yearly | J31: =SUM(K31:T31) -> 0
B32: Wall Finish | C32: FRP | F32: 40 | G32: good condition | I32: monitor yearly | J32: =SUM(K32:T32) -> 0
A33: Plumbing
B34: Plumbing Fixtures | C34: Flush Valves | F34: 12 | G34: 14 +/- Count, good condition | I34: condition-based maintenance | J34: =SUM(K34:T34) -> 0 | T34: x
B35: Plumbing Fixtures | C35: Faucets | F35: 10 | G35: 6 +/- Count, good condition | I35: condition-based maintenance | J35: =SUM(K35:T35) -> 0 | R35: x
B36: Plumbing Fixtures | C36: Backflow Preventor | F36: 6 | G36: Replace in kind | I36: condition-based maintenance | J36: =SUM(K36:T36) -> 0 | N36: x | R36: x
A37: HVAC
B38: Electric fin-tube | C38: Baseboard | F38: 10 | G38: good condition | I38: condition-based maintenance | J38: =SUM(K38:T38) -> 5000 | R38: 5000
A39: Electrical
B40: General electrical | F40: 30 | G40: Replace in kind | I40: corrective maintenance | J40: =SUM(K40:T40) -> 0
B41: Lighting/Control: Interior | F41: 20 | G41: Upgrade to LED Fixtures with wireless controls | I41: condition-based maintenance | J41: =SUM(K41:T41) -> 0
B42: Lighting: Exterior | F42: 20 | G42: Upgrade to LED fixtures | I42: condition-based maintenance | J42: =SUM(K42:T42) -> 0
B43: Branch Wiring | F43: 30 | G43: Replace in kind | I43: corrective maintenance | J43: =SUM(K43:T43) -> 0
B44: Electrical Service/Distribution | F44: 30 | G44: Replace in kind | I44: corrective maintenance | J44: =SUM(K44:T44) -> 0
B45: Fire Alarm | F45: 15 | G45: Replace in kind | I45: corrective maintenance | J45: =SUM(K45:T45) -> 0
B46: Information Technology | F46: 10 | I46: corrective maintenance | J46: =SUM(K46:T46) -> 0
A48: Equipment
B49: Kitchen / Commercial Equipment | J49: =SUM(K49:T49) -> 5000 | S49: 5000
B50: Fixed Furnishings | J50: =SUM(K50:T50) -> 0
A51: Site
B52: Driveways | C52: Asphalt | F52: 20 | G52: good condition, some irregularities | I52: monitor yearly | J52: =SUM(K52:T52) -> 5000 | Q52: 5000
B53: Pedestrian Paving | C53: Concrete | F53: 40 | G53: good condition, some irregularities | I53: monitor yearly | J53: =SUM(K53:T53) -> 6500 | O53: 3000 | T53: 3500
B54: Drainage | J54: =SUM(K54:T54) -> 0
B55: Landscaping | J55: =SUM(K55:T55) -> 3000 | R55: 3000
A56: Site Utilities
B57: Storm Sewer | J57: =SUM(K57:T57) -> 0
B58: Sanitary Sewer | J58: =SUM(K58:T58) -> 0
B59: Site Fuel Distribution - Gas | J59: =SUM(K59:T59) -> 0
B60: Site Electrical Distribution | J60: =SUM(K60:T60) -> 0
A61: TOTAL COSTS: | J61: =SUM(J12:J60) -> 27700 | K61: =SUM(K12:K60) -> 0 | L61: =SUM(L12:L60) -> 0 | M61: =SUM(M12:M60) -> 0 | N61: =SUM(N12:N60) -> 0 | O61: =SUM(O12:O60) -> 3000 | P61: =SUM(P12:P60) -> 0 | Q61: =SUM(Q12:Q60) -> 5000 | ... T61: =SUM(T12:T60) -> 6700
A63: Existing Mechanical System Replacement Priorities
A65: Based on the mechanical system evaluation, a priority list was established. Please refer to the priority key below and the notes area on the facility equipment list for individual equipment recommendations.
A67: Immediate Need - Replace Immediately (Systems that are currently not operating or consistently being repaired)
A68: Priority Level 1 - Replace in 1-2 years (Systems that are well beyond their useful service life and on the verge of failure)
A69: Priority Level 2 - Replace in 2-5 years (Systems that are nearing their useful service life)
A70: Priority Level 3 - Replace in 5+ years (Systems that should be scheduled for replacement based on anticipated remaining life and current condition)

Sheet H
A1: HIGH SCHOOL FOUR SEASONS BUILDING
A2: Facility Condition Assessment
B4: Building: | C4: Building H | G4: Facility Function:
B5: Gross SF: | C5: ='Property Information'!F16 -> 797 | G5: Multi-function gathering space
B6: Date of Visit | C6: ='Property Information'!G16 -> 43381
B7: Year Built: | C7: ='Property Information'!I16 -> 2013
A9: Property Components | C9: Area / Type / Location | D9: * Initial Installation | E9: Renovated Date * | F9: Life Exp. | G9: Comments / Equipment Tag | I9: Improvement Type | J9: Improv. Cost | K9: Recommended Capital Allocation Year & Amount
K10: 2020 | L10: 2021 | M10: 2022 | N10: 2023 | O10: 2024 | P10: 2025 | Q10: 2026 | R10: 2027 | S10: 2028 | T10: 2029
A11: Substructure
B12: Foundations | F12: 100 | G12: good condition | I12: monitor yearly | J12: =SUM(K12:T12) -> 0
B13: Slabs on Grade | F13: 100 | G13: good condition | I13: monitor yearly | J13: =SUM(K13:T13) -> 0
B14: Steel Roof Framing | F14: 100 | G14: good condition | I14: monitor yearly | J14: =SUM(K14:T14) -> 0
A15: Exterior Envelope
B16: Exterior Doors | C16: Aluminum | F16: 40 | G16: good condition | I16: monitor yearly | J16: =SUM(K16:T16) -> 0
B17: Exterior Door Thresholds | C17: Steel | F17: 30 | G17: good condition | I17: monitor yearly | J17: =SUM(K17:T17) -> 0
B18: Exterior Windows | C18: Aluminum Double Glazed | F18: 40 | G18: good condition | I18: monitor yearly | J18: =SUM(K18:T18) -> 0
B19: Exterior Walls/Cladding | C19: Metal panels | F19: 35 | G19: good condition | I19: monitor yearly | J19: =SUM(K19:T19) -> 0
B20: Caulking at Openings | C20: Silicone, etc. | F20: 14 | G20: good condition | I20: monitor yearly | J20: =SUM(K20:T20) -> 5000 | R20: 5000
B21: Roofing | C21: Metal panels | F21: 35 | G21: good condition | I21: monitor yearly | J21: =SUM(K21:T21) -> 0
A22: Interior Construction
B23: Interior Partitions | C23: metal panel | F23: 35 | G23: good condition | I23: monitor yearly | J23: =SUM(K23:T23) -> 0
A24: Interior Finishes
B25: Floor Finish | C25: Carpet | F25: 15 | G25: good condition | I25: monitor yearly | J25: =SUM(K25:T25) -> 7500 | S25: 7500
B26: Wall Finish | C26: metal panel | F26: 20 | G26: good condition | I26: monitor yearly | J26: =SUM(K26:T26) -> 5000 | R26: 5000
A27: HVAC
B28: Modine-type heater | C28: Ceiling | F28: 13 | G28: good condition | I28: condition based maintenance | J28: =SUM(K28:T28) -> 8000 | Q28: 8000
A29: Electrical
B30: General electrical | F30: 30 | G30: Replace in kind | I30: corrective maintenance | J30: =SUM(K30:T30) -> 0
B31: Lighting/Control: Interior | F31: 20 | G31: Upgrade to LED Fixtures with wireless controls | I31: condition-based maintenance | J31: =SUM(K31:T31) -> 0
B32: Lighting: Exterior | F32: 20 | G32: Upgrade to LED fixtures | I32: condition-based maintenance | J32: =SUM(K32:T32) -> 0
B33: Branch Wiring | F33: 30 | G33: Replace in kind | I33: corrective maintenance | J33: =SUM(K33:T33) -> 0
B34: Electrical Service/Distribution | F34: 30 | G34: Replace in kind | I34: corrective maintenance | J34: =SUM(K34:T34) -> 0
B35: Fire Alarm | F35: 15 | G35: Replace in kind | I35: corrective maintenance | J35: =SUM(K35:T35) -> 0
B36: Information Technology | F36: 10 | I36: corrective maintenance | J36: =SUM(K36:T36) -> 0
A38: Equipment
B39: Kitchen / Commercial Equipment | J39: =SUM(K39:T39) -> 0
B40: Fixed Furnishings | J40: =SUM(K40:T40) -> 0
A41: Site
B42: Driveways | C42: Asphalt | F42: 20 | G42: good condition, some irregularities | I42: monitor yearly | J42: =SUM(K42:T42) -> 5000 | R42: 5000
B43: Pedestrian Paving | C43: Concrete | F43: 40 | G43: good condition, some irregularities | I43: monitor yearly | J43: =SUM(K43:T43) -> 5000 | S43: 5000
B44: Drainage | J44: =SUM(K44:T44) -> 0
B45: Landscaping | J45: =SUM(K45:T45) -> 5000 | R45: 5000
A46: Site Utilities
B47: Storm Sewer | J47: =SUM(K47:T47) -> 0
B48: Sanitary Sewer | J48: =SUM(K48:T48) -> 0
B49: Site Fuel Distribution - Gas | J49: =SUM(K49:T49) -> 0
B50: Site Electrical Distribution | J50: =SUM(K50:T50) -> 0
A51: TOTAL COSTS: | J51: =SUM(J15:J50) -> 40500 | K51: =SUM(K15:K50) -> 0 | L51: =SUM(L15:L50) -> 0 | M51: =SUM(M15:M50) -> 0 | N51: =SUM(N15:N50) -> 0 | O51: =SUM(O15:O50) -> 0 | P51: =SUM(P15:P50) -> 0 | Q51: =SUM(Q15:Q50) -> 8000 | ... T51: =SUM(T15:T50) -> 0
A53: Existing Mechanical System Replacement Priorities
A55: Based on the mechanical system evaluation, a priority list was established. Please refer to the priority key below and the notes area on the facility equipment list for individual equipment recommendations.
A57: Immediate Need - Replace Immediately (Systems that are currently not operating or consistently being repaired)
A58: Priority Level 1 - Replace in 1-2 years (Systems that are well beyond their useful service life and on the verge of failure)
A59: Priority Level 2 - Replace in 2-5 years (Systems that are nearing their useful service life)
A60: Priority Level 3 - Replace in 5+ years (Systems that should be scheduled for replacement based on anticipated remaining life and current condition)

Sheet I
A1: OPERATIONS & MAINTENANCE BUILDING 2
A2: Facility Condition Assessment
B4: Building: | C4: Building I | G4: Facility Function:
B5: Gross SF: | C5: ='Property Information'!F17 -> 2400 | G5: Maintenance & Vehicle Storage
B6: Date of Visit | C6: ='Property Information'!G17 -> 43481
B7: Year Built: | C7: ='Property Information'!I17 -> 2008
A9: Property Components | C9: Area / Type / Location | D9: * Initial Installation | E9: Renovated Date * | F9: Life Exp. | G9: Comments / Equipment Tag | I9: Improvement Type | J9: Improv. Cost | K9: Recommended Capital Allocation Year & Amount
K10: 2020 | L10: 2021 | M10: 2022 | N10: 2023 | O10: 2024 | P10: 2025 | Q10: 2026 | R10: 2027 | S10: 2028 | T10: 2029
A11: Substructure
B12: Foundations | F12: 100 | G12: good condition | I12: monitor yearly | J12: =SUM(K12:S12) -> 0
B13: Slabs on Grade | F13: 100 | G13: good condition | I13: monitor yearly | J13: =SUM(K13:S13) -> 0
B14: Wood Roof Framing | F14: 50 | G14: good condition | I14: monitor yearly | J14: =SUM(K14:S14) -> 0
B15: Steel Roof Framing | F15: 100 | G15: good condition | I15: monitor yearly | J15: =SUM(K15:S15) -> 0
A16: Exterior Envelope
B17: Exterior Doors | C17: Hollow Metal | F17: 50 | G17: good condition | I17: monitor yearly | J17: =SUM(K17:S17) -> 0
B18: Exterior Door Seals | C18: Rubber | F18: 15 | G18: good condition | I18: monitor yearly | J18: =SUM(K18:S18) -> 0
B19: Exterior Door Thresholds | C19: Aluminum | F19: 30 | G19: good condition | I19: monitor yearly | J19: =SUM(K19:S19) -> 0
B20: Exterior Walls/Cladding | C20: Al uminum Panels | F20: 30 | G20: good condition | I20: monitor yearly | J20: =SUM(K20:S20) -> 0
B21: Caulking at Openings | C21: Silicone, etc. | F21: 14 | G21: good condition | I21: monitor yearly | J21: =SUM(K21:S21) -> 4000 | O21: 4000
B22: Roofing | C22: Standing-Seam Metal | F22: 35 | G22: good condition | I22: monitor yearly | J22: =SUM(K22:S22) -> 0
B23: Roofing | C23: Gutters & Downspouts, soffit fascia | F23: 25 | G23: good condition | I23: monitor yearly | J23: =SUM(K23:S23) -> 0
A24: Interior Construction
B25: Interior Partitions | C25: metal panel | F25: 30 | G25: good condition | I25: monitor yearly | J25: =SUM(K25:S25) -> 0
B26: Interior Partitions | C26: faced insulation | F26: 20 | G26: good condition | I26: monitor yearly | J26: =SUM(K26:S26) -> 0
B27: Interior Doors | C27: Hollow Metal | F27: 80 | G27: good condition | I27: monitor yearly | J27: =SUM(K27:S27) -> 0
A28: Interior Finishes
B29: Floor Finish | C29: Sealed Conc. | F29: 25 | G29: good condition | I29: monitor yearly | J29: =SUM(K29:S29) -> 0
B30: Ceiling Finish | C30: Exposed | F30: 30 | G30: good condition | I30: monitor yearly | J30: =SUM(K30:S30) -> 0
B31: Wall Insulated Panels | C31: faced insulation | F31: 25 | G31: good condition | I31: monitor yearly | J31: =SUM(K31:S31) -> 0
A32: HVAC
B33: Gas fired heaters | C33: Ceiling | F33: 13 | G33: Replace in kind | I33: condition-based maintenance | J33: =SUM(K33:S33) -> 16000 | L33: 16000
A34: Electrical
B35: General electrical | F35: 30 | G35: Replace in kind | I35: corrective maintenance | J35: =SUM(K35:S35) -> 0
B36: Lighting/Control: Interior | F36: 20 | G36: Upgrade to LED Fixtures with wireless controls | I36: condition-based maintenance | J36: =SUM(K36:S36) -> 0
B37: Lighting: Exterior | F37: 20 | G37: Upgrade to LED fixtures | I37: condition-based maintenance | J37: =SUM(K37:S37) -> 0
B38: Branch Wiring | F38: 30 | G38: Replace in kind | I38: corrective maintenance | J38: =SUM(K38:S38) -> 0
B39: Electrical Service/Distribution | F39: 30 | G39: Replace in kind | I39: corrective maintenance | J39: =SUM(K39:S39) -> 0
B40: Fire Alarm | F40: 15 | G40: Replace in kind | I40: corrective maintenance | J40: =SUM(K40:S40) -> 0
B41: Information Technology | F41: 10 | I41: corrective maintenance | J41: =SUM(K41:S41) -> 0
A43: Equipment
B44: Kitchen / Commercial Equipment | J44: =SUM(K44:S44) -> 0
B45: Fixed Furnishings | J45: =SUM(K45:S45) -> 0
A46: Site
B47: Driveways | C47: Asphalt | F47: 20 | G47: good condition, some irregularities | I47: monitor yearly | J47: =SUM(K47:S47) -> 5000 | P47: 5000
B48: Pedestrian Paving | C48: Concrete | F48: 40 | G48: good condition, some irregularities | I48: monitor yearly | J48: =SUM(K48:S48) -> 5000 | R48: 5000
B49: Drainage | J49: =SUM(K49:S49) -> 0
B50: Landscaping | J50: =SUM(K50:T50) -> 6000 | Q50: 3000 | T50: 3000
A51: Site Utilities
B52: Storm Sewer | J52: =SUM(K52:S52) -> 0
B53: Sanitary Sewer | J53: =SUM(K53:S53) -> 0
B54: Site Fuel Distribution - Gas | J54: =SUM(K54:S54) -> 0
B55: Site Electrical Distribution | J55: =SUM(K55:S55) -> 0
A56: TOTAL COSTS: | J56: =SUM(J12:J55) -> 36000 | K56: =SUM(K16:K55) -> 0 | L56: =SUM(L16:L55) -> 16000 | M56: =SUM(M16:M55) -> 0 | N56: =SUM(N16:N55) -> 0 | O56: =SUM(O16:O55) -> 4000 | P56: =SUM(P16:P55) -> 5000 | Q56: =SUM(Q16:Q55) -> 3000 | R56: =SUM(R16:R55) -> 5000 | ... T56: =SUM(T16:T55) -> 3000 | U56: =SUM(K56:T56) -> 36000
A58: Existing Mechanical System Replacement Priorities
A60: Based on the mechanical system evaluation, a priority list was established. Please refer to the priority key below and the notes area on the facility equipment list for individual equipment recommendations.
A62: Immediate Need - Replace Immediately (Systems that are currently not operating or consistently being repaired)
A63: Priority Level 1 - Replace in 1-2 years (Systems that are well beyond their useful service life and on the verge of failure)
A64: Priority Level 2 - Replace in 2-5 years (Systems that are nearing their useful service life)
A65: Priority Level 3 - Replace in 5+ years (Systems that should be scheduled for replacement based on anticipated remaining life and current condition)

Sheet J
A1: HELP FOR HOPE BUILDING
A2: Facility Condition Assessment
B4: Building: | C4: Building J | G4: Facility Function:
B5: Gross SF: | C5: ='Property Information'!F18 -> 2560 | G5: Community Food Pantry
B6: Date of Visit | C6: ='Property Information'!G18 -> 43381
B7: Year Built: | C7: ='Property Information'!I18 -> 1969-1993
A9: Property Components | C9: Area / Type / Location | D9: * Initial Installation | E9: Renovated Date * | F9: Life Exp. | G9: Comments / Equipment Tag | I9: Improvement Type | J9: Improv. Cost | K9: Recommended Capital Allocation Year & Amount
K10: 2020 | L10: 2021 | M10: 2022 | N10: 2023 | O10: 2024 | P10: 2025 | Q10: 2026 | R10: 2027 | S10: 2028 | T10: 2029
A11: Substructure
B12: Foundations | C12: Concrete | F12: 100 | G12: good condition | I12: monitor yearly | J12: =SUM(K12:T12) -> 0
B13: Slabs on Grade | C13: Concrete | F13: 100 | G13: good condition | I13: monitor yearly | J13: =SUM(K13:T13) -> 0
A14: Exterior Envelope
B15: Exterior Doors | C15: Wood | F15: 35 | G15: moderate wear | I15: monitor yearly | J15: =SUM(K15:T15) -> 0
B16: Exterior Door Seals | C16: Rubber | F16: 15 | G16: end-of-service life wear | I16: replacement | J16: =SUM(K16:T16) -> 4000 | L16: 4000
B17: Exterior Door Thresholds | C17: Aluminum | F17: 30 | G17: end-of-service life wear | I17: replacement | J17: =SUM(K17:T17) -> 3500 | M17: 3500
B18: Exterior Windows | C18: Wood | F18: 40 | G18: moderate wear | I18: monitor yearly | J18: =SUM(K18:T18) -> 0
B19: Exterior Walls/Cladding | C19: Siding | F19: 30 | G19: moderate wear | I19: monitor yearly | J19: =SUM(K19:T19) -> 3500 | N19: 3500
B20: Caulking at Openings | C20: Silicone, etc. | F20: 14 | G20: end-of-service life wear | I20: replacement | J20: =SUM(K20:T20) -> 4000 | O20: 4000
B21: Fascia | C21: Aluminum | F21: 50 | G21: moderate wear | I21: monitor yearly | J21: =SUM(K21:T21) -> 0
B22: Soffit | C22: Aluminum | F22: 40 | G22: moderate wear | I22: monitor yearly | J22: =SUM(K22:T22) -> 0
B23: Roofing | C23: Asphalt Shingles | F23: 20 | G23: end-of-service life wear | I23: replacement | J23: =SUM(K23:T23) -> 35840 | M23: =C5*14 -> 35840
A24: Interior Construction
B25: Interior Partitions | C25: Stud | F25: 100 | G25: moderate wear | I25: monitor yearly | J25: =SUM(K25:T25) -> 0
B26: Interior Doors | C26: Wood | F26: 60 | G26: moderate wear | I26: monitor yearly | J26: =SUM(K26:T26) -> 0
A27: Interior Finishes
B28: Floor Finish | C28: Carpet | F28: 15 | G28: moderate wear | I28: monitor yearly | J28: =SUM(K28:T28) -> 0
B29: Floor Finish | C29: Ceramic Tile | F29: 40 | G29: moderate wear | I29: monitor yearly | J29: =SUM(K29:T29) -> 0
B30: Ceiling Finish | C30: Gypsum Board | F30: 30 | G30: moderate wear | I30: monitor yearly | J30: =SUM(K30:T30) -> 0
B31: Ceiling Finish | C31: ACT | F31: 25 | G31: some water damaged tiles | I31: monitor yearly, replace as required | J31: =SUM(K31:T31) -> 10000 | L31: 5000 | R31: 5000
B32: Wall Finish | C32: Paint | F32: 10 | G32: moderate wear | I32: monitor yearly | J32: =SUM(K32:T32) -> 6000 | N32: 3000 | Q32: 3000
A33: Interior Miscellaneous
B34: Countertops | C34: Plastic Lam. | F34: 20 | G34: moderate wear | I34: monitor yearly | J34: =SUM(K34:T34) -> 6000 | P34: 3000 | T34: 3000
A35: Plumbing
B36: Plumbing Fixtures | C36: Water Closet | F36: 30 | G36: 2 +/- Count, moderate wear | I36: replace as required | J36: =SUM(K36:T36) -> 4500 | M36: 4500
B37: Plumbing Fixtures | C37: Lavatories | F37: 30 | G37: 4 +/- Count, moderate wear | I37: replace as required | J37: =SUM(K37:T37) -> 6500 | M37: 6500
B38: Plumbing Fixtures | C38: Faucets | F38: 10 | G38: 4 +/- Count, moderate wear | I38: replace as required | J38: =SUM(K38:T38) -> 3000 | M38: 3000
A39: HVAC
B40: Residential type furnace | F40: 18 | G40: moderate wear | I40: planned maintenance | J40: =SUM(K40:T40) -> 7500 | N40: 7500
B41: Residential air conditioner | F41: 18 | G41: moderate wear | I41: planned maintenance | J41: =SUM(K41:T41) -> 8000 | L41: 8000
A42: Electrical
B43: General electrical | F43: 30 | G43: Replace in kind | I43: corrective maintenance | J43: =SUM(K43:T43) -> 0
B44: Lighting/Control: Interior | F44: 20 | G44: Upgrade to LED Fixtures with wireless controls | I44: condition-based maintenance | J44: =SUM(K44:T44) -> 0
B45: Lighting: Exterior | F45: 20 | G45: Upgrade to LED fixtures | I45: condition-based maintenance | J45: =SUM(K45:T45) -> 0
B46: Branch Wiring | F46: 30 | G46: Replace in kind | I46: corrective maintenance | J46: =SUM(K46:T46) -> 0
B47: Electrical Service/Distribution | F47: 30 | G47: Replace in kind | I47: corrective maintenance | J47: =SUM(K47:T47) -> 0
B48: Fire Alarm | F48: 15 | G48: Replace in kind | I48: corrective maintenance | J48: =SUM(K48:T48) -> 0
B49: Information Technology | F49: 10 | I49: corrective maintenance | J49: =SUM(K49:T49) -> 0
A51: Equipment
B52: Kitchen / Commercial Equipment | J52: =SUM(K52:T52) -> 0
B53: Fixed Furnishings | J53: =SUM(K53:T53) -> 0
A54: Site
B55: Driveways | C55: Asphalt | F55: 20 | G55: good condition, some irregularities | I55: monitor yearly | J55: =SUM(K55:T55) -> 0
B56: Pedestrian Paving | C56: Concrete | F56: 40 | G56: good condition, some irregularities | I56: monitor yearly | J56: =SUM(K56:T56) -> 0
B57: Drainage | J57: =SUM(K57:T57) -> 0
B58: Landscaping | J58: =SUM(K58:T58) -> 0
A59: Site Utilities
B60: Storm Sewer | J60: =SUM(K60:T60) -> 0
B61: Sanitary Sewer | J61: =SUM(K61:T61) -> 0
B62: Site Fuel Distribution - Gas | J62: =SUM(K62:T62) -> 0
B63: Site Electrical Distribution | J63: =SUM(K63:T63) -> 0
A64: TOTAL COSTS: | J64: =SUM(J12:J63) -> 102340 | K64: =SUM(K12:K63) -> 0 | L64: =SUM(L12:L63) -> 17000 | M64: =SUM(M12:M63) -> 53340 | N64: =SUM(N12:N63) -> 14000 | O64: =SUM(O12:O63) -> 4000 | P64: =SUM(P12:P63) -> 3000 | Q64: =SUM(Q12:Q63) -> 3000 | ... T64: =SUM(T12:T63) -> 3000
A66: Existing Mechanical System Replacement Priorities
A68: Based on the mechanical system evaluation, a priority list was established. Please refer to the priority key below and the notes area on the facility equipment list for individual equipment recommendations.
A70: Immediate Need - Replace Immediately (Systems that are currently not operating or consistently being repaired)
A71: Priority Level 1 - Replace in 1-2 years (Systems that are well beyond their useful service life and on the verge of failure)
A72: Priority Level 2 - Replace in 2-5 years (Systems that are nearing their useful service life)
A73: Priority Level 3 - Replace in 5+ years (Systems that should be scheduled for replacement based on anticipated remaining life and current condition)

Sheet A MECH EQUIPMENT
A2: EARLY CHILDHOOD CENTER
A3: Facility Equipment List - Mechanical
A6: Mechanical Equipment | D6: Manufacturer Information | G6: Operational Capacity | J6: Notes
A8: TAG | B8: RTU-1 | D8: MANUFACTURER | E8: MCQUAY | G8: COOLING CAPACITIES (TONS) | H8: 32 | J8: YEAR MANUFACTURED | K8: 2007
A9: EQUIPMENT | B9: PACKAGED ROOFTOP UNIT | D9: MODEL NUMBER | E9: RPS030CLY | G9: HEATING CAPACITIES (MBH) | H9: NA | J9: PRIORITY | K9: 2
A10: LOCATION | B10: ROOF - AREA B | D10: SERIAL NUMBER | E10: FBOU071200365 | G10: REFRIGERATION TYPE | H10: R-22 | J10: QUANTITY | K10: 1
A11: TAG | B11: RTU-2 | D11: MANUFACTURER | E11: MCQUAY | G11: COOLING CAPACITIES (TONS) | H11: 66 | J11: YEAR MANUFACTURED | K11: 2007
A12: EQUIPMENT | B12: PACKAGED ROOFTOP UNIT | D12: MODEL NUMBER | E12: RPS060CSY | G12: HEATING CAPACITIES (MBH) | H12: NA | J12: PRIORITY | K12: 2
A13: LOCATION | B13: ROOF - AREA A | D13: SERIAL NUMBER | E13: FBOU071200013 | G13: REFRIGERATION TYPE | H13: R-22 | J13: QUANTITY | K13: 1
A14: TAG | B14: RTU-3 | D14: MANUFACTURER | E14: MCQUAY | G14: COOLING CAPACITIES (TONS) | H14: 66 | J14: YEAR MANUFACTURED | K14: 2007
A15: EQUIPMENT | B15: PACKAGED ROOFTOP UNIT | D15: MODEL NUMBER | E15: RPS060CSY | G15: HEATING CAPACITIES (MBH) | H15: NA | J15: PRIORITY | K15: 2
A16: LOCATION | B16: ROOF - AREA C | D16: SERIAL NUMBER | E16: FBOU071200363 | G16: REFRIGERATION TYPE | H16: R-22 | J16: QUANTITY | K16: 1
A17: TAG | B17: RTU-4 | D17: MANUFACTURER | E17: MCQUAY | G17: COOLING CAPACITIES (TONS) | H17: 3 | J17: YEAR MANUFACTURED | K17: 2007
A18: EQUIPMENT | B18: PACKAGED ROOFTOP UNIT | D18: MODEL NUMBER | E18: MPS003AYCK | G18: HEATING CAPACITIES (MBH) | H18: NA | J18: PRIORITY | K18: 2
A19: LOCATION | B19: ROOF - AREA B | D19: SERIAL NUMBER | E19: 7368F140705639 | G19: REFRIGERATION TYPE | H19: R-22 | J19: QUANTITY | K19: 1
A20: TAG | B20: RTU-5 | D20: MANUFACTURER | E20: MCQUAY | G20: COOLING CAPACITIES (TONS) | H20: 46 | J20: YEAR MANUFACTURED | K20: 2007
... A40: LOCATION | B40: B-133 | D40: SERIAL NUMBER | E40: NA | G40: REFRIGERATION TYPE | H40: NA | J40: QUANTITY | K40: 1
A41: TAG | B41: HT | D41: MANUFACTURER | E41: NA | G41: COOLING CAPACITIES (TONS) | H41: NA | J41: YEAR MANUFACTURED | K41: NA
A42: EQUIPMENT | B42: WALL CABINET HEATER | D42: MODEL NUMBER | E42: NA | G42: HEATING CAPACITIES (MBH) | H42: VARIES | J42: PRIORITY | K42: 3
A43: LOCATION | B43: VESTIBULES | D43: SERIAL NUMBER | E43: NA | G43: REFRIGERATION TYPE | H43: - | J43: QUANTITY | K43: 9

Sheet B MECH EQUIPMENT
A2: ELEMENTARY SCHOOL
A3: Facility Equipment List - Mechanical
A6: Mechanical Equipment | D6: Manufacturer Information | G6: Operational Capacity | J6: Notes
A8: TAG | B8: CU-1 | D8: MANUFACTURER | E8: LENNOX | G8: COOLING CAPACITIES (TONS) | H8: 4 | J8: YEAR MANUFACTURED | K8: 2013
A9: EQUIPMENT | B9: CONDENSING UNIT | D9: MODEL NUMBER | E9: TSA048S4N43Y | G9: HEATING CAPACITIES (MBH) | H9: NA | J9: PRIORITY | K9: 3
A10: LOCATION | B10: ROOF - AREA J | D10: SERIAL NUMBER | E10: 5813E18197 | G10: REFRIGERATION TYPE | H10: R-410A | J10: QUANTITY | K10: 1
A11: TAG | B11: CU-7 | D11: MANUFACTURER | E11: LENNOX | G11: COOLING CAPACITIES (TONS) | H11: 4 | J11: YEAR MANUFACTURED | K11: 2013
A12: EQUIPMENT | B12: CONDENSING UNIT | D12: MODEL NUMBER | E12: TSA048S4N43Y | G12: HEATING CAPACITIES (MBH) | H12: NA | J12: PRIORITY | K12: 3
A13: LOCATION | B13: ROOF - AREA J | D13: SERIAL NUMBER | E13: 5813D19857 | G13: REFRIGERATION TYPE | H13: R-410A | J13: QUANTITY | K13: 1
A14: TAG | B14: CU-2 | D14: MANUFACTURER | E14: LENNOX | G14: COOLING CAPACITIES (TONS) | H14: 4 | J14: YEAR MANUFACTURED | K14: 2012
A15: EQUIPMENT | B15: CONDENSING UNIT | D15: MODEL NUMBER | E15: TSA048S4N43Y | G15: HEATING CAPACITIES (MBH) | H15: NA | J15: PRIORITY | K15: 3
A16: LOCATION | B16: ROOF - AREA J | D16: SERIAL NUMBER | E16: 5812K06335 | G16: REFRIGERATION TYPE | H16: R-410A | J16: QUANTITY | K16: 1
A17: TAG | B17: CU-6 | D17: MANUFACTURER | E17: LENNOX | G17: COOLING CAPACITIES (TONS) | H17: 4 | J17: YEAR MANUFACTURED | K17: 2012
A18: EQUIPMENT | B18: CONDENSING UNIT | D18: MODEL NUMBER | E18: TSA048S4N43Y | G18: HEATING CAPACITIES (MBH) | H18: NA | J18: PRIORITY | K18: 3
A19: LOCATION | B19: ROOF - AREA J | D19: SERIAL NUMBER | E19: 5812H07822 | G19: REFRIGERATION TYPE | H19: R-410A | J19: QUANTITY | K19: 1
A20: TAG | B20: RTU-702 | D20: MANUFACTURER | E20: CARRIER | G20: COOLING CAPACITIES (TONS) | H20: 1.5 | J20: YEAR MANUFACTURED | K20: 1995
... A28: LOCATION | B28: ROOF - AREA J | D28: SERIAL NUMBER | E28: 5812M00701 | G28: REFRIGERATION TYPE | H28: R-410A | J28: QUANTITY | K28: 1
A29: TAG | B29: EF-1 TO EF-6 | D29: MANUFACTURER | E29: NA | G29: COOLING CAPACITIES (TONS) | H29: NA | J29: YEAR MANUFACTURED | K29: TBD
A30: EQUIPMENT | B30: EXHAUST FAN | D30: MODEL NUMBER | E30: NA | G30: HEATING CAPACITIES (MBH) | H30: NA | J30: PRIORITY | K30: 3
A31: LOCATION | B31: ROOF | D31: SERIAL NUMBER | E31: NA | G31: REFRIGERATION TYPE | H31: NA | J31: QUANTITY | K31: 6
A32: TAG | B32: RTU-707 | D32: MANUFACTURER | E32: CARRIER | G32: COOLING CAPACITIES (TONS) | H32: 4 | J32: YEAR MANUFACTURED | K32: 2009
A33: EQUIPMENT | B33: PACKAGED ROOFTOP UNIT | D33: MODEL NUMBER | E33: 48PDMC05-M-50-B3 | G33: HEATING CAPACITIES (MBH) | H33: 75 | J33: PRIORITY | K33: 2
A34: LOCATION | B34: ROOF - AREA H | D34: SERIAL NUMBER | E34: 3409G50005 | G34: REFRIGERATION TYPE | H34: R-410A | J34: QUANTITY | K34: 1
A35: TAG | B35: RTU-723 | D35: MANUFACTURER | E35: CARRIER | G35: COOLING CAPACITIES (TONS) | H35: 4 | J35: YEAR MANUFACTURED | K35: 2009
A36: EQUIPMENT | B36: PACKAGED ROOFTOP UNIT | D36: MODEL NUMBER | E36: 48PDMC05-M-50-B3 | G36: HEATING CAPACITIES (MBH) | H36: 75 | J36: PRIORITY | K36: 2
A37: LOCATION | B37: ROOF - AREA H | D37: SERIAL NUMBER | E37: 3409G40010 | G37: REFRIGERATION TYPE | H37: R-410A | J37: QUANTITY | K37: 1
A38: TAG | B38: RTU-720 | D38: MANUFACTURER | E38: CARRIER | G38: COOLING CAPACITIES (TONS) | H38: 4 | J38: YEAR MANUFACTURED | K38: 2009
A39: EQUIPMENT | B39: PACKAGED ROOFTOP UNIT | D39: MODEL NUMBER | E39: 48PDMC05-M-50-B3 | G39: HEATING CAPACITIES (MBH) | H39: 75 | J39: PRIORITY | K39: 2
A40: LOCATION | B40: ROOF - AREA H | D40: SERIAL NUMBER | E40: 3409G50001 | G40: REFRIGERATION TYPE | H40: R-410A | J40: QUANTITY | K40: 1
A41: TAG | B41: RTU-768 | D41: MANUFACTURER | E41: CARRIER | G41: COOLING CAPACITIES (TONS) | H41: 4 | J41: YEAR MANUFACTURED | K41: 2009
... A148: LOCATION | B148: A-157 | D148: SERIAL NUMBER | E148: 1619102945535 | G148: REFRIGERATION TYPE | H148: NA | J148: QUANTITY | K148: 1

Sheet C MECH EQUIPMENT
A2: INTERMEDIATE SCHOOL
A3: Facility Equipment List - Mechanical
A6: Mechanical Equipment | D6: Manufacturer Information | G6: Operational Capacity | J6: Notes
A8: TAG | B8: EF-1 TO EF-7 | D8: MANUFACTURER | E8: NA | G8: COOLING CAPACITIES (TONS) | H8: NA | J8: YEAR MANUFACTURED | K8: NA
A9: EQUIPMENT | B9: EXHAUST FAN | D9: MODEL NUMBER | E9: NA | G9: HEATING CAPACITIES (MBH) | H9: NA | J9: PRIORITY | K9: 3
A10: LOCATION | B10: ROOF | D10: SERIAL NUMBER | E10: NA | G10: REFRIGERATION TYPE | H10: NA | J10: QUANTITY | K10: 7
A11: TAG | B11: RTU-782 | D11: MANUFACTURER | E11: CARRIER | G11: COOLING CAPACITIES (TONS) | H11: 4 | J11: YEAR MANUFACTURED | K11: 2009
A12: EQUIPMENT | B12: PACKAGED ROOFTOP UNIT | D12: MODEL NUMBER | E12: 48PDMC05-M-50-B3 | G12: HEATING CAPACITIES (MBH) | H12: 75 | J12: PRIORITY | K12: 2
A13: LOCATION | B13: ROOF - AREA A | D13: SERIAL NUMBER | E13: 3409G40009 | G13: REFRIGERATION TYPE | H13: R-410A | J13: QUANTITY | K13: 1
A14: TAG | B14: RTU-783 | D14: MANUFACTURER | E14: CARRIER | G14: COOLING CAPACITIES (TONS) | H14: 4 | J14: YEAR MANUFACTURED | K14: 2009
A15: EQUIPMENT | B15: PACKAGED ROOFTOP UNIT | D15: MODEL NUMBER | E15: 48PDMC05-M-50-B3 | G15: HEATING CAPACITIES (MBH) | H15: 75 | J15: PRIORITY | K15: 2
A16: LOCATION | B16: ROOF - AREA A | D16: SERIAL NUMBER | E16: 3409G40013 | G16: REFRIGERATION TYPE | H16: R-410A | J16: QUANTITY | K16: 1
A17: TAG | B17: RTU-3 | D17: MANUFACTURER | E17: VALENT | G17: COOLING CAPACITIES (TONS) | H17: 45 | J17: YEAR MANUFACTURED | K17: 2013
A18: EQUIPMENT | B18: PACKAGED ROOFTOP UNIT | D18: MODEL NUMBER | E18: VPRX-350-50E-60I-A-1DX | G18: HEATING CAPACITIES (MBH) | H18: - | J18: PRIORITY | K18: 3
A19: LOCATION | B19: ROOF - AREA A | D19: SERIAL NUMBER | E19: 13298893 | G19: REFRIGERATION TYPE | H19: R-410A | J19: QUANTITY | K19: 1
A20: TAG | B20: RTU-4 | D20: MANUFACTURER | E20: VALENT | G20: COOLING CAPACITIES (TONS) | H20: 45 | J20: YEAR MANUFACTURED | K20: 2013
A21: EQUIPMENT | B21: PACKAGED ROOFTOP UNIT | D21: MODEL NUMBER | E21: VPRX-350-40E-90I-A-4DX | G21: HEATING CAPACITIES (MBH) | H21: NA | J21: PRIORITY | K21: 3
A22: LOCATION | B22: ROOF - AREA A | D22: SERIAL NUMBER | E22: 13298894 | G22: REFRIGERATION TYPE | H22: R-410A | J22: QUANTITY | K22: 1
A23: TAG | B23: RTU-5 | D23: MANUFACTURER | E23: VALENT | G23: COOLING CAPACITIES (TONS) | H23: 45 | J23: YEAR MANUFACTURED | K23: 2013
A24: EQUIPMENT | B24: PACKAGED ROOFTOP UNIT | D24: MODEL NUMBER | E24: VPRX-350-50E-60I-A-1DX | G24: HEATING CAPACITIES (MBH) | H24: - | J24: PRIORITY | K24: 3
A25: LOCATION | B25: ROOF - AREA B | D25: SERIAL NUMBER | E25: 13298895 | G25: REFRIGERATION TYPE | H25: R-410A | J25: QUANTITY | K25: 1
A26: TAG | B26: RTU-798 | D26: MANUFACTURER | E26: CARRIER | G26: COOLING CAPACITIES (TONS) | H26: 4 | J26: YEAR MANUFACTURED | K26: 2009
A27: EQUIPMENT | B27: PACKAGED ROOFTOP UNIT | D27: MODEL NUMBER | E27: 48PDMC05-M-50-B3 | G27: HEATING CAPACITIES (MBH) | H27: 75 | J27: PRIORITY | K27: 2
A28: LOCATION | B28: ROOF - AREA E | D28: SERIAL NUMBER | E28: 3409G50002 | G28: REFRIGERATION TYPE | H28: R-410A | J28: QUANTITY | K28: 1
A29: TAG | B29: RTU-788 | D29: MANUFACTURER | E29: CARRIER | G29: COOLING CAPACITIES (TONS) | H29: 4 | J29: YEAR MANUFACTURED | K29: 2009
A30: EQUIPMENT | B30: PACKAGED ROOFTOP UNIT | D30: MODEL NUMBER | E30: 48PDMC05-M-50-B3 | G30: HEATING CAPACITIES (MBH) | H30: 75 | J30: PRIORITY | K30: 2
A31: LOCATION | B31: ROOF - AREA F | D31: SERIAL NUMBER | E31: 3409G50015 | G31: REFRIGERATION TYPE | H31: R-410A | J31: QUANTITY | K31: 1
... A52: LOCATION | B52: 22A | D52: SERIAL NUMBER | E52: G-13-0903 | G52: REFRIGERATION TYPE | H52: NA | J52: QUANTITY | K52: 1
A53: TAG | B53: HT-1 | D53: MANUFACTURER | E53: NA | G53: COOLING CAPACITIES (TONS) | H53: NA | J53: YEAR MANUFACTURED | K53: NA
A54: EQUIPMENT | B54: CABINET WALL HEATER | D54: MODEL NUMBER | E54: NA | G54: HEATING CAPACITIES (MBH) | H54: NA | J54: PRIORITY | K54: 3
A55: LOCATION | B55: NE STAIRS | D55: SERIAL NUMBER | E55: NA | G55: REFRIGERATION TYPE | H55: NA | J55: QUANTITY | K55: 1
A56: TAG | B56: F-2 | D56: MANUFACTURER | E56: JACKSON & CHURCH | G56: COOLING CAPACITIES (TONS) | H56: - | J56: YEAR MANUFACTURED | K56: NA
A57: EQUIPMENT | B57: FURNACE | D57: MODEL NUMBER | E57: SDF25-GMSH-MB-RH | G57: HEATING CAPACITIES (MBH) | H57: 313 | J57: PRIORITY
A58: LOCATION | B58: 44B | D58: SERIAL NUMBER | E58: B92-479 | G58: REFRIGERATION TYPE | H58: NA | J58: QUANTITY | K58: 1
A59: TAG | B59: KH-1 | D59: MANUFACTURER | E59: NA | G59: COOLING CAPACITIES (TONS) | H59: NA | J59: YEAR MANUFACTURED | K59: NA
A60: EQUIPMENT | B60: KITCHEN HOOD | D60: MODEL NUMBER | E60: NA | G60: HEATING CAPACITIES (MBH) | H60: NA | J60: PRIORITY | K60: 3
A61: LOCATION | B61: 44C | D61: SERIAL NUMBER | E61: NA | G61: REFRIGERATION TYPE | H61: NA | J61: QUANTITY | K61: 1

Sheet D MECH EQUIPMENT
A2: MIDDLE SCHOOL
A3: Facility Equipment List - Mechanical
A6: Mechanical Equipment | D6: Manufacturer Information | G6: Operational Capacity | J6: Notes
A8: TAG | B8: RTU-MS6 | D8: MANUFACTURER | E8: CARRIER | G8: COOLING CAPACITIES (TONS) | H8: 5 | J8: YEAR MANUFACTURED | K8: 2016
A9: EQUIPMENT | B9: PACKAGED ROOFTOP UNIT | D9: MODEL NUMBER | E9: 48TCSA06A2M6A2B4C0 | G9: HEATING CAPACITIES (MBH) | H9: 72 | J9: PRIORITY | K9: 3
A10: LOCATION | B10: ROOF - AREA A | D10: SERIAL NUMBER | E10: 2316C89903 | G10: REFRIGERATION TYPE | H10: R-410A | J10: QUANTITY | K10: 1
A11: TAG | B11: RTU-MS7 | D11: MANUFACTURER | E11: CARRIER | G11: COOLING CAPACITIES (TONS) | H11: 5 | J11: YEAR MANUFACTURED | K11: 2016
A12: EQUIPMENT | B12: PACKAGED ROOFTOP UNIT | D12: MODEL NUMBER | E12: 48TCSA06A2M6A2B4C0 | G12: HEATING CAPACITIES (MBH) | H12: 72 | J12: PRIORITY | K12: 3
A13: LOCATION | B13: ROOF - AREA A | D13: SERIAL NUMBER | E13: Facility Equipment List - Mechanical | G13: REFRIGERATION TYPE | H13: R-410A | J13: QUANTITY | K13: 1
A14: TAG | B14: RTU-MS1 | D14: MANUFACTURER | E14: CARRIER | G14: COOLING CAPACITIES (TONS) | H14: 10 | J14: YEAR MANUFACTURED | K14: 2016
A15: EQUIPMENT | B15: PACKAGED ROOFTOP UNIT | D15: MODEL NUMBER | E15: 48TCRD12A2M6A2A4J0 | G15: HEATING CAPACITIES (MBH) | H15: 224 | J15: PRIORITY | K15: 3
A16: LOCATION | B16: ROOF - AREA A | D16: SERIAL NUMBER | E16: 2316P96897 | G16: REFRIGERATION TYPE | H16: R-410A | J16: QUANTITY | K16: 1
A17: TAG | B17: RTU-MS8 | D17: MANUFACTURER | E17: CARRIER | G17: COOLING CAPACITIES (TONS) | H17: 12.5 | J17: YEAR MANUFACTURED | K17: 2016
A18: EQUIPMENT | B18: PACKAGED ROOFTOP UNIT | D18: MODEL NUMBER | E18: 48LCSB14A7M6A1B4C0 | G18: HEATING CAPACITIES (MBH) | H18: 176 | J18: PRIORITY | K18: 3
A19: LOCATION | B19: ROOF - AREA A | D19: SERIAL NUMBER | E19: 2416P15930 | G19: REFRIGERATION TYPE | H19: R-410A | J19: QUANTITY | K19: 1
A20: TAG | B20: RTU-MS5 | D20: MANUFACTURER | E20: CARRIER | G20: COOLING CAPACITIES (TONS) | H20: 4 | J20: YEAR MANUFACTURED | K20: 2016
A21: EQUIPMENT | B21: PACKAGED ROOFTOP UNIT | D21: MODEL NUMBER | E21: 48TCSA05A2M6A2A4C0 | G21: HEATING CAPACITIES (MBH) | H21: 72 | J21: PRIORITY | K21: 3
A22: LOCATION | B22: ROOF - AREA A | D22: SERIAL NUMBER | E22: 2316C89894 | G22: REFRIGERATION TYPE | H22: R-410A | J22: QUANTITY | K22: 1
A23: TAG | B23: RTU-MS2 | D23: MANUFACTURER | E23: CARRIER | G23: COOLING CAPACITIES (TONS) | H23: 10 | J23: YEAR MANUFACTURED | K23: 2016
A24: EQUIPMENT | B24: PACKAGED ROOFTOP UNIT | D24: MODEL NUMBER | E24: 48TCRD12A2M6A2A4J0 | G24: HEATING CAPACITIES (MBH) | H24: 224 | J24: PRIORITY | K24: 3
... A31: LOCATION | B31: ROOF - AREA A | D31: SERIAL NUMBER | E31: 2316P96847 | G31: REFRIGERATION TYPE | H31: NA | J31: QUANTITY | K31: 1
A32: TAG | B32: EF-1 | D32: MANUFACTURER | E32: TWIN CITY | G32: COOLING CAPACITIES (TONS) | H32: NA | J32: YEAR MANUFACTURED | K32: NA
A33: EQUIPMENT | B33: EXHAUST FAN | D33: MODEL NUMBER | E33: DCRD130BE1 | G33: HEATING CAPACITIES (MBH) | H33: NA | J33: PRIORITY | K33: 3
A34: LOCATION | B34: ROOF - AREA B | D34: SERIAL NUMBER | E34: E16-000000183573 | G34: REFRIGERATION TYPE | H34: NA | J34: QUANTITY | K34: 1
A35: TAG | B35: CH-1 | D35: MANUFACTURER | E35: TRANE | G35: COOLING CAPACITIES (TONS) | H35: 300 | J35: YEAR MANUFACTURED | K35: 2000
A36: EQUIPMENT | B36: CHILLER | D36: MODEL NUMBER | E36: RTAA3004XT0IA3D0BFGKM | G36: HEATING CAPACITIES (MBH) | H36: NA | J36: PRIORITY | K36: 1
A37: LOCATION | B37: GRADE - EAST B | D37: SERIAL NUMBER | E37: U00006706 | G37: REFRIGERATION TYPE | H37: R-22 | J37: QUANTITY | K37: 1
A38: TAG | B38: UV-1 TO UV-9 | D38: MANUFACTURER | E38: NA | G38: COOLING CAPACITIES (TONS) | H38: VARIES | J38: YEAR MANUFACTURED | K38: 2016
A39: EQUIPMENT | B39: UNIT VENTILATOR | D39: MODEL NUMBER | E39: MAUVF411AFB223X0M1AAALAXA1A | G39: HEATING CAPACITIES (MBH) | H39: VARIES | J39: PRIORITY | K39: 3
A40: LOCATION | B40: CLASSROOMS | D40: SERIAL NUMBER | E40: W160789057 | G40: REFRIGERATION TYPE | H40: NA | J40: QUANTITY | K40: 44
A41: TAG | B41: KH-1 | D41: MANUFACTURER | E41: NA | G41: COOLING CAPACITIES (TONS) | H41: NA | J41: YEAR MANUFACTURED | K41: NA
A42: EQUIPMENT | B42: KITCHEN HOOD | D42: MODEL NUMBER | E42: NA | G42: HEATING CAPACITIES (MBH) | H42: NA | J42: PRIORITY | K42: -
A43: LOCATION | B43: KITCHEN 127 | D43: SERIAL NUMBER | E43: NA | G43: REFRIGERATION TYPE | H43: NA | J43: QUANTITY | K43: 1
A44: TAG | B44: HT-1 | D44: MANUFACTURER | E44: NA | G44: COOLING CAPACITIES (TONS) | H44: NA | J44: YEAR MANUFACTURED | K44: NA
A45: EQUIPMENT | B45: UNIT HEATER | D45: MODEL NUMBER | E45: NA | G45: HEATING CAPACITIES (MBH) | H45: 14.3 | J45: PRIORITY | K45: 3
A46: LOCATION | B46: CORRIDOR 130 | D46: SERIAL NUMBER | E46: NA | G46: REFRIGERATION TYPE | H46: - | J46: QUANTITY | K46: 1
A47: TAG | B47: HT-2 | D47: MANUFACTURER | E47: NA | G47: COOLING CAPACITIES (TONS) | H47: NA | J47: YEAR MANUFACTURED | K47: NA
A48: EQUIPMENT | B48: CABINET WALL HEATER | D48: MODEL NUMBER | E48: NA | G48: HEATING CAPACITIES (MBH) | H48: 14.5 | J48: PRIORITY | K48: 3
A49: LOCATION | B49: CORRIDOR 300C | D49: SERIAL NUMBER | E49: NA | G49: REFRIGERATION TYPE | H49: NA | J49: QUANTITY | K49: 1
A50: TAG | B50: AHU-6 | D50: MANUFACTURER | E50: TRANE | G50: COOLING CAPACITIES (TONS) | H50: 25 | J50: YEAR MANUFACTURED | K50: 1999
A51: EQUIPMENT | B51: AIR HANDLING UNIT | D51: MODEL NUMBER | E51: MCCA014BBJ0B0CA | G51: HEATING CAPACITIES (MBH) | H51: 630 | J51: PRIORITY | K51: 2
A52: LOCATION | B52: MECHANICAL 401 | D52: SERIAL NUMBER | E52: K99H50329N | G52: REFRIGERATION TYPE | H52: NA | J52: QUANTITY | K52: 1
A53: TAG | B53: AHU-5B | D53: MANUFACTURER | E53: TRANE | G53: COOLING CAPACITIES (TONS) | H53: 25 | J53: YEAR MANUFACTURED | K53: 1999
A54: EQUIPMENT | B54: AIR HANDLING UNIT | D54: MODEL NUMBER | E54: MCCA014GAW0ABA | G54: HEATING CAPACITIES (MBH) | H54: 622 | J54: PRIORITY | K54: 2
A55: LOCATION | B55: MECHANICAL 401 | D55: SERIAL NUMBER | E55: K99H50318N | G55: REFRIGERATION TYPE | H55: NA | J55: QUANTITY | K55: 1
A56: TAG | B56: AHU-5A | D56: MANUFACTURER | E56: TRANE | G56: COOLING CAPACITIES (TONS) | H56: 25 | J56: YEAR MANUFACTURED | K56: 1999
A57: EQUIPMENT | B57: AIR HANDLING UNIT | D57: MODEL NUMBER | E57: MCCA014GAW0ABA | G57: HEATING CAPACITIES (MBH) | H57: 622 | J57: PRIORITY | K57: 2
A58: LOCATION | B58: MECHANICAL 400 | D58: SERIAL NUMBER | E58: K99H50303N | G58: REFRIGERATION TYPE | H58: NA | J58: QUANTITY | K58: 1
A59: TAG | B59: AHU-4 | D59: MANUFACTURER | E59: TRANE | G59: COOLING CAPACITIES (TONS) | H59: - | J59: YEAR MANUFACTURED | K59: 1999
... A85: LOCATION | B85: MECHANICAL 402 | D85: SERIAL NUMBER | E85: H14H00267368 | G85: REFRIGERATION TYPE | H85: NA | J85: QUANTITY | K85: 1
A86: TAG | B86: HT-3 | D86: MANUFACTURER | E86: NA | G86: COOLING CAPACITIES (TONS) | H86: - | J86: YEAR MANUFACTURED | K86: NA
A87: EQUIPMENT | B87: UNIT HEATER | D87: MODEL NUMBER | E87: NA | G87: HEATING CAPACITIES (MBH) | H87: NA | J87: PRIORITY | K87: 3
A88: LOCATION | B88: MECHANICAL 402 | D88: SERIAL NUMBER | E88: NA | G88: REFRIGERATION TYPE | H88: NA | J88: QUANTITY | K88: 1

Sheet E MECH EQUIPMENT
A2: HIGH SCHOOL
A3: Facility Equipment List - Mechanical
A6: Mechanical Equipment | D6: Manufacturer Information | G6: Operational Capacity | J6: Notes
A8: TAG | B8: RTU-1 | D8: MANUFACTURER | E8: CARRIER | G8: COOLING CAPACITIES (TONS) | H8: 25 | J8: YEAR MANUFACTURED | K8: 2016
A9: EQUIPMENT | B9: PACKAGED ROOFTOP UNIT | D9: MODEL NUMBER | E9: 48TCTD28A2M6A2B4J0 | G9: HEATING CAPACITIES (MBH) | H9: 400 | J9: PRIORITY | K9: 3
A10: LOCATION | B10: ROOF - AREA 0 | D10: SERIAL NUMBER | E10: 2416P15949 | G10: REFRIGERATION TYPE | H10: R-410A | J10: QUANTITY | K10: 1
A11: TAG | B11: CU-1 | D11: MANUFACTURER | E11: HEATCRAFT | G11: COOLING CAPACITIES (TONS) | H11: 1 | J11: YEAR MANUFACTURED | K11: 2010
A12: EQUIPMENT | B12: CONDENSING UNIT | D12: MODEL NUMBER | E12: MOZ045L63CF | G12: HEATING CAPACITIES (MBH) | H12: NA | J12: PRIORITY | K12: 3
A13: LOCATION | B13: ROOF - AREA 0 | D13: SERIAL NUMBER | E13: T10D05574 | G13: REFRIGERATION TYPE | H13: R-404A | J13: QUANTITY | K13: 1
A14: TAG | B14: CU-2 | D14: MANUFACTURER | E14: TRANE | G14: COOLING CAPACITIES (TONS) | H14: 20 | J14: YEAR MANUFACTURED | K14: 2003
A15: EQUIPMENT | B15: CONDENSING UNIT | D15: MODEL NUMBER | E15: RAUCC204BX03A0DF | G15: HEATING CAPACITIES (MBH) | H15: NA | J15: PRIORITY | K15: 1
A16: LOCATION | B16: ROOF - AREA 0 | D16: SERIAL NUMBER | E16: C03B01213 | G16: REFRIGERATION TYPE | H16: R-22 | J16: QUANTITY | K16: 1
A17: TAG | B17: RTU-2 | D17: MANUFACTURER | E17: YORK | G17: COOLING CAPACITIES (TONS) | H17: 7.5 | J17: YEAR MANUFACTURED | K17: 2008
A18: EQUIPMENT | B18: PACKAGED ROOFTOP UNIT | D18: MODEL NUMBER | E18: J07HAC00A4AAA1A | G18: HEATING CAPACITIES (MBH) | H18: - | J18: PRIORITY | K18: 2
A19: LOCATION | B19: ROOF - AREA 0 | D19: SERIAL NUMBER | E19: (S)N0H8226938 | G19: REFRIGERATION TYPE | H19: R-22 | J19: QUANTITY | K19: 1
A20: TAG | B20: RTU-3 | D20: MANUFACTURER | E20: YORK | G20: COOLING CAPACITIES (TONS) | H20: 7.5 | J20: YEAR MANUFACTURED | K20: 2010
A21: EQUIPMENT | B21: PACKAGED ROOFTOP UNIT | D21: MODEL NUMBER | E21: J07ZHN15Q4AZZ50001A | G21: HEATING CAPACITIES (MBH) | H21: 180 | J21: PRIORITY | K21: 3
... A33: EQUIPMENT | B33: EXHAUST FAN | D33: MODEL NUMBER | E33: VEBK08L#A1UA108PC1 | G33: HEATING CAPACITIES (MBH) | H33: - | J33: PRIORITY | K33: 3
A34: LOCATION | B34: ROOF - AREA N | D34: SERIAL NUMBER | E34: 652401 | G34: REFRIGERATION TYPE | H34: - | J34: QUANTITY | K34: 1
A35: TAG | B35: RTU-5 | D35: MANUFACTURER | E35: CARRIER | G35: COOLING CAPACITIES (TONS) | H35: 25 | J35: YEAR MANUFACTURED | K35: 2016
A36: EQUIPMENT | B36: PACKAGED ROOFTOP UNIT | D36: MODEL NUMBER | E36: 48A3S025-NM62AFP | G36: HEATING CAPACITIES (MBH) | H36: 350 | J36: PRIORITY | K36: 3
A37: LOCATION | B37: ROOF - AREA H | D37: SERIAL NUMBER | E37: 2616U47654 | G37: REFRIGERATION TYPE | H37: R-410A | J37: QUANTITY | K37: 1
A38: TAG | B38: CU-3 | D38: MANUFACTURER | E38: TRANE | G38: COOLING CAPACITIES (TONS) | H38: 60 | J38: YEAR MANUFACTURED | K38: 2003
A39: EQUIPMENT | B39: CONDENSING UNIT | D39: MODEL NUMBER | E39: RAUCC604BX03A0DF | G39: HEATING CAPACITIES (MBH) | H39: NA | J39: PRIORITY | K39: 1
A40: LOCATION | B40: ROOF - AREA H | D40: SERIAL NUMBER | E40: C03B01214 | G40: REFRIGERATION TYPE | H40: R-22 | J40: QUANTITY | K40: 1
A41: TAG | B41: RTU-6 | D41: MANUFACTURER | E41: CARRIER | G41: COOLING CAPACITIES (TONS) | H41: 15 | J41: YEAR MANUFACTURED | K41: 2002
A42: EQUIPMENT | B42: PACKAGED ROOFTOP UNIT | D42: MODEL NUMBER | E42: 50TJ-016-681AA | G42: HEATING CAPACITIES (MBH) | H42: NA | J42: PRIORITY | K42: 1
A43: LOCATION | B43: ROOF - AREA B | D43: SERIAL NUMBER | E43: 2602F63551 | G43: REFRIGERATION TYPE | H43: R-22 | J43: QUANTITY | K43: 1
A44: TAG | B44: CU-4 | D44: MANUFACTURER | E44: COMFORTMAKER | G44: COOLING CAPACITIES (TONS) | H44: 3.5 | J44: YEAR MANUFACTURED | K44: 2003
A45: EQUIPMENT | B45: CONDENSING UNIT | D45: MODEL NUMBER | E45: CAC042AKA5 | G45: HEATING CAPACITIES (MBH) | H45: - | J45: PRIORITY | K45: 1
A46: LOCATION | B46: ROOF - AREA B | D46: SERIAL NUMBER | E46: E031431563 | G46: REFRIGERATION TYPE | H46: R-22 | J46: QUANTITY | K46: 1
... A124: LOCATION | B124: ROOF - AREA A | D124: SERIAL NUMBER | E124: N1A0541451 | G124: REFRIGERATION TYPE | H124: R-410A | J124: QUANTITY | K124: 1
A125: TAG | B125: KH-1 | D125: MANUFACTURER | E125: NA | G125: COOLING CAPACITIES (TONS) | H125: NA | J125: YEAR MANUFACTURED | K125: NA
A126: EQUIPMENT | B126: KITCHEN HOOD | D126: MODEL NUMBER | E126: NA | G126: HEATING CAPACITIES (MBH) | H126: NA | J126: PRIORITY | K126: 3
A127: LOCATION | D127: SERIAL NUMBER | E127: NA | G127: REFRIGERATION TYPE | H127: NA | J127: QUANTITY | K127: 1
A128: TAG | B128: HT-1 | D128: MANUFACTURER | E128: NA | G128: COOLING CAPACITIES (TONS) | H128: NA | J128: YEAR MANUFACTURED | K128: NA
A129: EQUIPMENT | B129: UNIT HEATER | D129: MODEL NUMBER | E129: NA | G129: HEATING CAPACITIES (MBH) | H129: NA | J129: PRIORITY | K129: 3
A130: LOCATION | D130: SERIAL NUMBER | E130: NA | G130: REFRIGERATION TYPE | H130: NA | J130: QUANTITY | K130: 1
A131: TAG | B131: AHU-A1 | D131: MANUFACTURER | E131: NA | G131: COOLING CAPACITIES (TONS) | H131: 20 | J131: YEAR MANUFACTURED | K131: 2009
A132: EQUIPMENT | B132: AIR HANDLING UNIT | D132: MODEL NUMBER | E132: NA | G132: HEATING CAPACITIES (MBH) | H132: 235 | J132: PRIORITY | K132: 2
A133: LOCATION | B133: A-113 | D133: SERIAL NUMBER | E133: NA | G133: REFRIGERATION TYPE | H133: R-22 | J133: QUANTITY | K133: 1
A134: TAG | B134: AHU-A2 | D134: MANUFACTURER | E134: NA | G134: COOLING CAPACITIES (TONS) | H134: 7.5 | J134: YEAR MANUFACTURED | K134: 2009
A135: EQUIPMENT | B135: AIR HANDLING UNIT | D135: MODEL NUMBER | E135: NA | G135: HEATING CAPACITIES (MBH) | H135: 110 | J135: PRIORITY | K135: 2
A136: LOCATION | B136: A-113 | D136: SERIAL NUMBER | E136: NA | G136: REFRIGERATION TYPE | H136: R-22 | J136: QUANTITY | K136: 1
A137: TAG | B137: B-1 | D137: MANUFACTURER | E137: DE DIETRICH GAS | G137: COOLING CAPACITIES (TONS) | H137: NA | J137: YEAR MANUFACTURED | K137: 2010
A138: EQUIPMENT | B138: BOILER | D138: MODEL NUMBER | E138: GAS 310-5 | G138: HEATING CAPACITIES (MBH) | H138: 1017 | J138: PRIORITY | K138: 3
A139: LOCATION | D139: SERIAL NUMBER | E139: 100096730009000027 | G139: REFRIGERATION TYPE | H139: NA | J139: QUANTITY | K139: 1
A140: TAG | B140: B-2 | D140: MANUFACTURER | E140: DE DIETRICH GAS | G140: COOLING CAPACITIES (TONS) | H140: NA | J140: YEAR MANUFACTURED | K140: 2010
A141: EQUIPMENT | B141: BOILER | D141: MODEL NUMBER | E141: GAS 310-5 | G141: HEATING CAPACITIES (MBH) | H141: 1017 | J141: PRIORITY | K141: 3
A142: LOCATION | D142: SERIAL NUMBER | E142: 100096730009000027 | G142: REFRIGERATION TYPE | H142: NA | J142: QUANTITY | K142: 1
A143: TAG | B143: B-3 | D143: MANUFACTURER | E143: CAMUS | G143: COOLING CAPACITIES (TONS) | H143: NA | J143: YEAR MANUFACTURED | K143: 2009
A144: EQUIPMENT | B144: BOILER | D144: MODEL NUMBER | E144: DFNH-3001-MHI | G144: HEATING CAPACITIES (MBH) | H144: 3000 | J144: PRIORITY | K144: IMMEDIATE REPAIR
A145: LOCATION | D145: SERIAL NUMBER | E145: 110909981 | G145: REFRIGERATION TYPE | H145: NA | J145: QUANTITY | K145: 1
A146: TAG | B146: KH-2 | D146: MANUFACTURER | E146: NA | G146: COOLING CAPACITIES (TONS) | H146: NA | J146: YEAR MANUFACTURED | K146: NA
A147: EQUIPMENT | B147: KITCHEN HOOD | D147: MODEL NUMBER | E147: NA | G147: HEATING CAPACITIES (MBH) | H147: NA | J147: PRIORITY | K147: 3
A148: LOCATION | D148: SERIAL NUMBER | E148: NA | G148: REFRIGERATION TYPE | H148: NA | J148: QUANTITY | K148: 1
A149: TAG | B149: AHU-D2 | D149: MANUFACTURER | E149: CHANGEAIR | G149: COOLING CAPACITIES (TONS) | H149: 10 | J149: YEAR MANUFACTURED | K149: 1987
A150: EQUIPMENT | B150: AIR HANDLING UNIT | D150: MODEL NUMBER | E150: NA | G150: HEATING CAPACITIES (MBH) | H150: 135 | J150: PRIORITY | K150: 1
A151: LOCATION | B151: D-126 | D151: SERIAL NUMBER | E151: NA | G151: REFRIGERATION TYPE | H151: R-22 | J151: QUANTITY | K151: 1
A152: TAG | B152: AHU-D1 | D152: MANUFACTURER | E152: YORK | G152: COOLING CAPACITIES (TONS) | H152: 60 | J152: YEAR MANUFACTURED | K152: NA
A153: EQUIPMENT | B153: AIR HANDLING UNIT | D153: MODEL NUMBER | E153: NT1-036X048-BAGA046A | G153: HEATING CAPACITIES (MBH) | H153: NA | J153: PRIORITY | K153: 2
A154: LOCATION | B154: D-201 | D154: SERIAL NUMBER | E154: AHTM XT0113 | G154: REFRIGERATION TYPE | H154: R-22 | J154: QUANTITY | K154: 1
A155: TAG | B155: UV-1 TO UV-2 | D155: MANUFACTURER | E155: NA | G155: COOLING CAPACITIES (TONS) | H155: VARIES | J155: YEAR MANUFACTURED | K155: 2003
A156: EQUIPMENT | B156: UNIT VENTILATOR | D156: MODEL NUMBER | E156: NA | G156: HEATING CAPACITIES (MBH) | H156: VARIES | J156: PRIORITY | K156: 3
A157: LOCATION | D157: SERIAL NUMBER | E157: NA | G157: REFRIGERATION TYPE | H157: NA | J157: QUANTITY | K157: 2
A158: TAG | B158: AC-1 TO AC-3 | D158: MANUFACTURER | E158: PANASONIC | G158: COOLING CAPACITIES (TONS) | H158: 4.5 | J158: YEAR MANUFACTURED | K158: NA
A159: EQUIPMENT | B159: SPLIT SYSTEM | D159: MODEL NUMBER | E159: U-52LE1U6 | G159: HEATING CAPACITIES (MBH) | H159: 52 | J159: PRIORITY | K159: 2
A160: LOCATION | B160: E CLASSROOMS | D160: SERIAL NUMBER | E160: 0002961 | G160: REFRIGERATION TYPE | H160: R-410A | J160: QUANTITY | K160: 1
A161: TAG | B161: UV-3 TO UV-11 | D161: MANUFACTURER | E161: NA | G161: COOLING CAPACITIES (TONS) | H161: NA | J161: YEAR MANUFACTURED | K161: 2003
A162: EQUIPMENT | B162: UNIT VENTILATOR | D162: MODEL NUMBER | E162: NA | G162: HEATING CAPACITIES (MBH) | H162: NA | J162: PRIORITY | K162: 3
A163: LOCATION | B163: E CLASSROOMS | D163: SERIAL NUMBER | E163: NA | G163: REFRIGERATION TYPE | H163: R-22 | J163: QUANTITY | K163: 8
A164: TAG | B164: UV-12 TO UV-15 | D164: MANUFACTURER | E164: NA | G164: COOLING CAPACITIES (TONS) | H164: NA | J164: YEAR MANUFACTURED | K164: 2003
A165: EQUIPMENT | B165: UNIT VENTILATOR | D165: MODEL NUMBER | E165: U.AZU.5.040.K.G.12.Z.B5.AL.22.G.W.B.2 | G165: HEATING CAPACITIES (MBH) | H165: NA | J165: PRIORITY | K165: 3
A166: LOCATION | B166: F CLASSROOMS | D166: SERIAL NUMBER | E166: E747933050 | G166: REFRIGERATION TYPE | H166: R-22 | J166: QUANTITY | K166: 4
A167: TAG | B167: HT-2 TO HT-3 | D167: MANUFACTURER | E167: NA | G167: COOLING CAPACITIES (TONS) | H167: NA | J167: YEAR MANUFACTURED | K167: NA
A168: EQUIPMENT | B168: UNIT HEATER | D168: MODEL NUMBER | E168: NA | G168: HEATING CAPACITIES (MBH) | H168: NA | J168: PRIORITY | K168: 3
A169: LOCATION | B169: VESTIBULES | D169: SERIAL NUMBER | E169: NA | G169: REFRIGERATION TYPE | H169: NA | J169: QUANTITY | K169: 3

Sheet ALL MECHANICAL
A1: COAL CITY SCHOOLS
A2: Facility Equipment List - Mechanical
A7: BUILDING | B7: EQUIPMENT | C7: LOCATION | D7: TAG | E7: MANUFACTURER | F7: MODEL NUMBER | G7: SERIAL NUMBER | H7: COOLING CAPACITIES (Tons) | I7: HEATING CAPACITIES (MBH) | J7: YEAR MANUFACTURED | K7: REFRIGERANT TYPE | L7: NOTES
A8: HIGH SCHOOL
B9: PACKAGED ROOFTOP UNIT | C9: ROOF - AREA O | D9: RTU-1 | E9: CARRIER | F9: 48TCTD28A2M6A2B4J0 | G9: 2416P15949 | H9: 25 | I9: 400 | J9: 2016 | K9: R-410A
B10: CONDENSING UNIT | C10: ROOF - AREA O | D10: CU-1 | E10: HEATCRAFT | F10: MOZ045L63CF | G10: T10D05574 | H10: 1 | I10: - | J10: 2010 | K10: R-404A
B11: CONDENSING UNIT | C11: ROOF - AREA O | D11: CU-2 | E11: TRANE | F11: RAUCC204BX03A0DF | G11: C03B01213 | H11: 20 | I11: - | J11: 2003 | K11: R-22
B12: PACKAGED ROOFTOP UNIT | C12: ROOF - AREA O | D12: RTU-2 | E12: YORK | F12: J07HAC00A4AAA1A | G12: (S)N0H8226938 | H12: 7.5 | I12: - | J12: 2008 | K12: R-22
B13: PACKAGED ROOFTOP UNIT | C13: ROOF - AREA O | D13: RTU-3 | E13: YORK | F13: J07ZHN15Q4AZZ50001A | G13: N1A0548042 | H13: 7.5 | I13: 180 | J13: 2010 | K13: R-410A
B14: MAKEUP AIR UNIT | C14: ROOF - AREA O | D14: MAU-1 | E14: BANANZA | F14: B650 | G14: 0912650.8 | H14: - | I14: 540 | J14: 2009 | K14: -
B15: MAKEUP AIR UNIT | C15: ROOF - AREA O | D15: MAU-2 | E15: BANANZA | F15: B650 | G15: 09102650.7 | H15: - | I15: 648 | J15: 2009 | K15: -
B16: PACKAGED ROOFTOP UNIT | C16: ROOF - AREA N | D16: RTU-4 | E16: YORK | F16: J25ZJC00Q4AZZ10007B | G16: N1A0538170 | H16: 25 | I16: - | J16: 2010 | K16: R-410A
B17: EXHAUST FAN | C17: ROOF | D17: EF-1 TO EF-25 | E17: CARNES | F17: VEBK08L#A1UA108PC1 | G17: 652401.003 | H17: - | I17: - | J17: 2009 | K17: - | L17: 115 V @ 1/4 HP
B18: PACKAGED ROOFTOP UNIT | C18: ROOF - AREA H | D18: RTU-5 | E18: CARRIER | F18: 48A3S025-NM62AFP | G18: 2616U47654 | H18: 25 | I18: 350 | J18: 2016 | K18: R-410A
B19: CONDENSING UNIT | C19: ROOF - AREA H | D19: CU-3 | E19: TRANE | F19: RAUCC604BX03A0DF | G19: C03B01214 | H19: 60 | I19: - | J19: 2003 | K19: R-22 | L19: Abandoned
B20: PACKAGED ROOFTOP UNIT | C20: ROOF - AREA B | D20: RTU-6 | E20: CARRIER | F20: 50TJ-016-681AA | G20: 2602F63551 | H20: 15 | I20: - | J20: 2002 | K20: R-22 | L20: W/ Electric Duct Heater
B21: CONDENSING UNIT | C21: ROOF - AREA B | D21: CU-4 | E21: COMFORTMAKER | F21: CAC042AKA5 | G21: E031431563 | H21: 3.5 | I21: - | J21: 2003 | K21: R-22
B22: PACKAGED ROOFTOP UNIT | C22: ROOF - AREA B | D22: RTU-340 | E22: YORK | F22: J05ZJE1504AZZ100031C | G22: N1A0538198 | H22: 5 | I22: NA | J22: 2010 | K22: R-410A | L22: LABEL PARTIALLY HIDDEN
B23: PACKAGED ROOFTOP UNIT | C23: ROOF - AREA B | D23: RTU-7 | E23: YORK | F23: J03ZJE07U4AZZ10002 | G23: N1A0541452 | H23: 3 | I23: NA | J23: 2010 | K23: R-410A | L23: LABEL PARTIALLY HIDDEN
B24: PACKAGED ROOFTOP UNIT | C24: ROOF - AREA B | D24: RTU-341 | E24: TRANE | F24: TCD048C40ABC | G24: M29103326D | H24: 4 | I24: - | J24: 1997 | K24: R-22
B25: CONDENSING UNIT | C25: ROOF - AREA B | D25: CU-5 | E25: COMFORTMAKER | F25: CAC042AKA5 | G25: NA | H25: 3.5 | I25: - | J25: 2003 | K25: R-22 | L25: LABEL NOT VISIBLE
B26: PACKAGED ROOFTOP UNIT | C26: ROOF - AREA CY | D26: RTU-8 | E26: CARRIER | F26: 48TCRA06A2M6A2B4C0 | G26: 2316C89900 | H26: 5 | I26: 115 | J26: 2016 | K26: R-410A
B27: PACKAGED ROOFTOP UNIT | C27: ROOF - AREA CY | D27: RTU-9 | E27: CARRIER | F27: 48TCRA06A2M6A2B4C0 | G27: 2316C89901 | H27: 5 | I27: 115 | J27: 2016 | K27: R-410A
B28: PACKAGED ROOFTOP UNIT | C28: ROOF - AREA CY | D28: RTU-361 | E28: TRANE | F28: YCD090C4HCBE | G28: M20100767D | H28: 7.5 | I28: 205 | J28: 1997 | K28: R-22
B29: CONDENSING UNIT | C29: ROOF - AREA CY | D29: CU-6 | E29: COMFORTMAKER | F29: CAC042AKA5 | G29: NA | H29: 3.5 | I29: - | J29: 2003 | K29: R-22 | L29: LABEL NOT VISIBLE
B30: PACKAGED ROOFTOP UNIT | C30: ROOF - AREA CY | D30: RTU-10 | E30: CARRIER | F30: 48TCSA04A1M6A2B4C0 | G30: 2316c89877 | H30: 3 | I30: 72 | J30: 2016 | K30: R-410A
B31: PACKAGED ROOFTOP UNIT | C31: ROOF - AREA C | D31: RTU-365 | E31: TRANE | F31: TCD060C40ABC | G31: M29103336D | H31: 5 | I31: - | J31: 1997 | K31: R-22
B32: PACKAGED ROOFTOP UNIT | C32: ROOF - AREA C | D32: RTU-342 | E32: TRANE | F32: TCD048C40ABC | G32: NA | H32: 4 | I32: - | J32: 1997 | K32: R-22 | L32: LABEL PARTIALLY HIDDEN
B33: PACKAGED ROOFTOP UNIT | C33: ROOF - AREA C | D33: RTU-364 | E33: TRANE | F33: TCD048C40ABC | G33: M29103323D | H33: 4 | I33: - | J33: 1997 | K33: R-22
B34: PACKAGED ROOFTOP UNIT | C34: ROOF - AREA C | D34: RTU-362 | E34: TRANE | F34: TCD048C40ABC | G34: M29103327D | H34: 4 | I34: - | J34: 1997 | K34: R-22
B35: PACKAGED ROOFTOP UNIT | C35: ROOF - AREA C | D35: RTU-363 | E35: YORK | F35: J03ZJE15U4AZZ10001C | G35: N1A0541453 | H35: 3 | I35: NA | J35: 2010 | K35: R-410A | L35: LABEL PARTIALLY HIDDEN
B36: PACKAGED ROOFTOP UNIT | C36: ROOF - AREA D | D36: RTU-370 | E36: TRANE | F36: TCD048C40ABC | G36: M29101510D | H36: 4 | I36: - | J36: 1997 | K36: R-22
B37: PACKAGED ROOFTOP UNIT | C37: ROOF - AREA E | D37: RTU-11 | E37: TRANE | F37: TCD036C40ABC | G37: M29103316D | H37: 3 | I37: - | J37: 1997 | K37: R-22
B38: PACKAGED ROOFTOP UNIT | C38: ROOF - AREA E | D38: RTU-12 | E38: TRANE | F38: TSC036E4E0A | G38: 101211123L | H38: 3 | I38: - | J38: 2010 | K38: R-410A
B39: PACKAGED ROOFTOP UNIT | C39: ROOF - AREA I | D39: RTU-13 | E39: CARRIER | F39: 48TCTD24A2M6A2B4J0 | G39: 2416P15941 | H39: 20 | I39: 400 | J39: 2016 | K39: R-410A
B40: PACKAGED ROOFTOP UNIT | C40: ROOF - AREA J | D40: RTU-14 | E40: TRANE | F40: YSD240F4RZA03D6 | G40: 143010812D | H40: 20 | I40: 400 | J40: 2014 | K40: R-410A
B41: PACKAGED ROOFTOP UNIT | C41: ROOF - AREA Z | D41: RTU-15 | E41: AAON | F41: RN-050-3-0-EB09 | G41: 201002-BNGW08967 | H41: 50 | I41: 540 | J41: 2010 | K41: R-410A
B42: PACKAGED ROOFTOP UNIT | C42: ROOF - AREA S | D42: RTU-16 | E42: AAON | F42: RN-031-3-0-000-3E9 | G42: 201002-BNGU08965 | H42: 31 | I42: 1080 | J42: 2010 | K42: R-410A
B43: PACKAGED ROOFTOP UNIT | C43: ROOF - AREA S | D43: RTU-17 | E43: AAON | F43: RN-031-3-0-000-3E9 | G43: 201002-BNGU08966 | H43: 31 | I43: 1080 | J43: 2010 | K43: R-410A
B44: PACKAGED ROOFTOP UNIT | C44: ROOF - AREA S | D44: RTU-18 | E44: AAON | F44: RN-050-3-0-EA09-000 | G44: 201002-BNCW02366 | H44: 50 | I44: NA | J44: 2010 | K44: R-410A
B45: PACKAGED ROOFTOP UNIT | C45: ROOF - AREA S | D45: RTU-19 | E45: AAON | F45: RN-050-3-0-EA09-000 | G45: 201002-BNCW02367 | H45: 50 | I45: NA | J45: 2010 | K45: R-410A
B46: PACKAGED ROOFTOP UNIT | C46: ROOF - AREA K | D46: RTU-20 | E46: YORK | F46: J10HAC00A4AAA1A | G46: (S)N0H8215018 | H46: 10 | I46: - | J46: 2008 | K46: R-22
B47: PACKAGED ROOFTOP UNIT | C47: ROOF - AREA A | D47: RTU-21 | E47: YORK | F47: J04ZJE15U4AZZ10001C | G47: N1A0541451 | H47: 4 | I47: NA | J47: 2010 | K47: R-410A | L47: LABEL PARTIALLY HIDDEN
B48: KITCHEN HOOD | C48: A-108 | D48: KH-1 | E48: NA | F48: NA | G48: NA | H48: - | I48: - | J48: NA | K48: - | L48: LABEL NOT VISIBLE
B49: UNIT HEATER | C49: A-111 | D49: HT-1 | E49: NA | F49: NA | G49: NA | H49: - | I49: NA | J49: NA | K49: - | L49: LABEL NOT VISIBLE
B50: AIR HANDLING UNIT | C50: A-118 | D50: AHU-1 | E50: NA | F50: NA | G50: NA | H50: - | I50: - | J50: NA | K50: NA | L50: LABEL NOT VISIBLE
B51: AIR HANDLING UNIT | C51: A-118 | D51: AHU-2 | E51: NA | F51: NA | G51: NA | H51: - | I51: - | J51: NA | K51: NA | L51: LABEL NOT VISIBLE
B52: BOILER | C52: A-118 | D52: B-1 | E52: DE DIETRICH GAS | F52: GAS 310-5 | G52: 100096730009000027 | H52: NA | I52: 1017 | J52: 2010 | K52: -
B53: BOILER | C53: A-118 | D53: B-2 | E53: DE DIETRICH GAS | F53: GAS 310-5 | G53: 100096730009000027 | H53: NA | I53: 1017 | J53: 2010 | K53: -
B54: BOILER | C54: A-118 | D54: B-3 | E54: CAMUS | F54: DFNH-3001-MHI | G54: 110909981 | H54: NA | I54: 3000 | J54: 2009 | K54: - | L54: CANNOT FIRE
B55: KITCHEN HOOD | C55: A-119 | D55: KH-2 | E55: NA | F55: NA | G55: NA | H55: - | I55: - | J55: NA | K55: - | L55: LABEL NOT VISIBLE
B56: AIR HANDLING UNIT | C56: B-142 | D56: AHU-3 | E56: CHANGEAIR | F56: NA | G56: NA | H56: NA | I56: NA | J56: NA | K56: NA | L56: VERTICAL AHU, LABEL NV
B57: AIR HANDLING UNIT | C57: D-126 | D57: AHU-4 | E57: YORK | F57: NT1-036X048-BAGA046A | G57: AHTM XT0113 | H57: - | I57: - | J57: 1987 | K57: R-12 | L57: POSSIBLE USE OF CFCs
B58: UNIT VENTILATOR | C58: LOCKER ROOMS | D58: UV-1 TO UV-2 | E58: NA | F58: NA | G58: NA | H58: NA | I58: NA | J58: 2003 | K58: R-22 | L58: LABEL NOT VISIBLE
B59: SPLIT SYSTEM | C59: E CLASSROOMS | D59: AC-1 TO AC-3 | E59: PANASONIC | F59: U-52LE1U6 | G59: 0002961 | H59: 4.5 | I59: 52 | J59: NA | K59: R-410A | L59: INDOOR UNIT LABEL NV
B60: UNIT VENTILATOR | C60: E CLASSROOMS | D60: UV-3 TO UV-11 | E60: NA | F60: NA | G60: NA | H60: NA | I60: NA | J60: 2003 | K60: R-22 | L60: LABEL NOT VISIBLE
B61: UNIT VENTILATOR | C61: F CLASSROOMS | D61: UV-12 TO UV-15 | E61: NA | F61: U.AZU.5.040.K.G.12.Z.B5.AL.22.G.W.B.2 | G61: E747933050 | H61: NA | I61: NA | J61: 2003 | K61: R-22 | L61: LABEL PARTIALLY HIDDEN
B62: UNIT HEATER | C62: VESTIBULES | D62: HT-2 TO HT-3 | E62: NA | F62: NA | G62: NA | H62: NA | I62: NA | J62: NA | K62: NA | L62: LABEL NOT VISIBLE
A64: INTERMEDIATE
B65: EXHAUST FAN | C65: ROOF | D65: EF-1 TO EF-7 | E65: NA | F65: NA | G65: NA | H65: - | I65: - | J65: NA | K65: NA | L65: LABEL NOT VISIBLE
B66: PACKAGED ROOFTOP UNIT | C66: ROOF - AREA A | D66: RTU-782 | E66: CARRIER | F66: 48PDMC05-M-50-B3 | G66: 3409G40009 | H66: 4 | I66: 75 | J66: 2009 | K66: R-410A
B67: PACKAGED ROOFTOP UNIT | C67: ROOF - AREA A | D67: RTU-783 | E67: CARRIER | F67: 48PDMC05-M-50-B3 | G67: 3409G40013 | H67: 4 | I67: 75 | J67: 2009 | K67: R-410A
B68: PACKAGED ROOFTOP UNIT | C68: ROOF - AREA A | D68: RTU-3 | E68: VALENT | F68: VPRX-350-50E-60I-A-1DX | G68: 13298893 | H68: 45 | I68: - | J68: 2013 | K68: R-410A | L68: BACKUP HEAT ONLY
B69: PACKAGED ROOFTOP UNIT | C69: ROOF - AREA A | D69: RTU-4 | E69: VALENT | F69: VPRX-350-40E-90I-A-4DX | G69: 13298894 | H69: 45 | I69: NA | J69: 2013 | K69: R-410A | L69: DENNY HAS HEAT INFO
B70: PACKAGED ROOFTOP UNIT | C70: ROOF - AREA B | D70: RTU-5 | E70: VALENT | F70: VPRX-350-50E-60I-A-1DX | G70: 13298895 | H70: 45 | I70: - | J70: 2013 | K70: R-410A | L70: BACKUP HEAT ONLY
B71: PACKAGED ROOFTOP UNIT | C71: ROOF - AREA E | D71: RTU-798 | E71: CARRIER | F71: 48PDMC05-M-50-B3 | G71: 3409G50002 | H71: 4 | I71: 75 | J71: 2009 | K71: R-410A
B72: PACKAGED ROOFTOP UNIT | C72: ROOF - AREA F | D72: RTU-788 | E72: CARRIER | F72: 48PDMC05-M-50-B3 | G72: 3409G50015 | H72: 4 | I72: 75 | J72: 2009 | K72: R-410A
B73: PACKAGED ROOFTOP UNIT | C73: ROOF - AREA G | D73: RTU-2 | E73: VALENT | F73: VPRX-350-30E-60I-A-4DX | G73: 13298856 | H73: 45 | I73: - | J73: 2013 | K73: R-410A | L73: BACKUP HEAT ONLY
B74: PACKAGED ROOFTOP UNIT | C74: ROOF - AREA M | D74: RTU-6 | E74: TRANE | F74: YSC120F3RZA0BD6 | G74: 143113028L | H74: 10 | I74: 250 | J74: 2014 | K74: R-410A
B75: PACKAGED ROOFTOP UNIT | C75: ROOF - AREA I | D75: RTU-1 | E75: STERLING | F75: M1P-PV80A6G03M53S5QB5L4 | G75: E1301224870001001 | H75: - | I75: 800 | J75: 2013 | K75: R-410A
B76: CONDENSING UNIT | C76: ROOF - SOUTH | D76: CU-1 | E76: HEATCRAFT | F76: NA | G76: NA | H76: NA | I76: - | J76: NA | K76: NA | L76: LABEL NOT VISIBLE
B77: CONDENSING UNIT | C77: ROOF - SOUTH | D77: CU-2 | E77: HEATCRAFT | F77: LHT030X6CFM | G77: T16D08845 | H77: 3 HP | I77: - | J77: 2016 | K77: R-404A
B78: BOILER | C78: 22A | D78: B-1 | E78: AERCO | F78: BENCHMARK 2.0LN | G78: G-13-0903 | H78: - | I78: 1500 | J78: 2013 | K78: -
B79: BOILER | C79: 22A | D79: B-2 | E79: AERCO | F79: BENCHMARK 2.0LN | G79: G-13-0903 | H79: - | I79: 1500 | J79: 2013 | K79: -
B80: CABINET WALL HEATER | C80: NE STAIRS | D80: HT-1 | E80: NA | F80: NA | G80: NA | H80: - | I80: NA | J80: NA | K80: NA | L80: LABEL NOT VISIBLE
B81: FURNACE | C81: 44B | D81: F-2 | E81: JACKSON & CHURCH | F81: SDF25-GMSH-MB-RH | G81: B92-479 | H81: - | I81: 313 | J81: NA | K81: NA | L81: LABEL PARTIALLY HIDDEN
B82: KITCHEN HOOD | C82: 44C | D82: KH-1 | E82: NA | F82: NA | G82: NA | H82: - | I82: - | J82: NA | K82: - | L82: LABEL NOT VISIBLE
A84: MIDDLE
B85: PACKAGED ROOFTOP UNIT | C85: ROOF - AREA A | D85: RTU-MS6 | E85: CARRIER | F85: 48TCSA06A2M6A2B4C0 | G85: 2316C89903 | H85: 5 | I85: 72 | J85: 2016 | K85: R-410A
B86: PACKAGED ROOFTOP UNIT | C86: ROOF - AREA A | D86: RTU-MS7 | E86: CARRIER | F86: 48TCSA06A2M6A2B4C0 | G86: 2316C89902 | H86: 5 | I86: 72 | J86: 2016 | K86: R-410A
B87: PACKAGED ROOFTOP UNIT | C87: ROOF - AREA A | D87: RTU-MS1 | E87: CARRIER | F87: 48TCRD12A2M6A2A4J0 | G87: 2316P96897 | H87: 10 | I87: 224 | J87: 2016 | K87: R-410A
B88: PACKAGED ROOFTOP UNIT | C88: ROOF - AREA A | D88: RTU-MS8 | E88: CARRIER | F88: 48LCSB14A7M6A1B4C0 | G88: 2416P15930 | H88: 12.5 | I88: 176 | J88: 2016 | K88: R-410A
B89: PACKAGED ROOFTOP UNIT | C89: ROOF - AREA A | D89: RTU-MS5 | E89: CARRIER | F89: 48TCSA05A2M6A2A4C0 | G89: 2316C89894 | H89: 4 | I89: 72 | J89: 2016 | K89: R-410A
B90: PACKAGED ROOFTOP UNIT | C90: ROOF - AREA A | D90: RTU-MS2 | E90: CARRIER | F90: 48TCRD12A2M6A2A4J0 | G90: 2316P96896 | H90: 10 | I90: 224 | J90: 2016 | K90: R-410A
B91: PACKAGED ROOFTOP UNIT | C91: ROOF - AREA A | D91: RTU-MS3 | E91: CARRIER | F91: 48TCRD12A2M6A2A4J0 | G91: 2316P96895 | H91: 10 | I91: 224 | J91: 2016 | K91: R-410A
B92: PACKAGED ROOFTOP UNIT | C92: ROOF - AREA A | D92: RTU-MS4 | E92: CARRIER | F92: 48TCRD08A2M62A4J0 | G92: 2316P96847 | H92: 7.5 | I92: NA | J92: 2016 | K92: NA | L92: LABEL PARTIALLY HIDDEN
B93: EXHAUST FAN | C93: ROOF - AREA B | D93: EF-1 | E93: TWIN CITY | F93: DCRD130BE1 | G93: E16-000000183573 | H93: - | I93: - | J93: NA | K93: -
B94: CHILLER | C94: GRADE - EAST B | D94: CH-1 | E94: TRANE | F94: RTAA3004XT0IA3D0BFGKM | G94: U00006706 | H94: 300 | I94: - | J94: 2006 | K94: R-22
B95: UNIT VENTILATOR | C95: CLASSROOMS | D95: UV-1 TO UV- | E95: NA | F95: MAUVF411AFB223X0M1AAALAXA1A | G95: W160789057 | H95: NA | I95: NA | J95: 2016 | K95: R-410A | L95: LABEL PARTIALLY HIDDEN
B96: KITCHEN HOOD | C96: KITCHEN 127 | D96: KH-1 | E96: NA | F96: NA | G96: NA | H96: - | I96: - | J96: NA | K96: - | L96: LABEL NOT VISIBLE
B97: UNIT HEATER | C97: CORRIDOR 130 | D97: HT-1 | E97: NA | F97: NA | G97: NA | H97: - | I97: NA | J97: NA | K97: - | L97: LABEL NOT VISIBLE
B98: CABINET WALL HEATER | C98: CORRIDOR 300C | D98: HT-2 | E98: NA | F98: NA | G98: NA | H98: - | I98: NA | J98: NA | K98: - | L98: LABEL NOT VISIBLE
B99: AIR HANDLING UNIT | C99: MECHANICAL 401 | D99: AHU-6 | E99: TRANE | F99: MCCA014BBJ0B0CA | G99: K99H50329N | H99: - | I99: - | J99: 1999 | K99: R-22
B100: AIR HANDLING UNIT | C100: MECHANICAL 401 | D100: AHU-5B | E100: TRANE | F100: MCCA014GAW0ABA | G100: K99H50318N | H100: - | I100: - | J100: 1999 | K100: R-22
B101: AIR HANDLING UNIT | C101: MECHANICAL 400 | D101: AHU-5A | E101: TRANE | F101: MCCA014GAW0ABA | G101: K99H50303N | H101: - | I101: - | J101: 1999 | K101: R-22
B102: AIR HANDLING UNIT | C102: MECHANICAL 400 | D102: AHU-4 | E102: TRANE | F102: MCCA008ABH0B0A | G102: K99H50368N | H102: - | I102: - | J102: 1999 | K102: R-22
B103: AIR HANDLING UNIT | C103: MECHANICAL 402 | D103: AHU-1 | E103: TRANE | F103: MCCA030GAW0AAA | G103: K99H50258N | H103: - | I103: - | J103: 1999 | K103: R-22
B104: AIR HANDLING UNIT | C104: MECHANICAL 402 | D104: AHU-2A | E104: TRANE | F104: MCCA025GAW0ABA | G104: K99H50266N | H104: - | I104: - | J104: 1999 | K104: R-22
B105: AIR HANDLING UNIT | C105: MECHANICAL 402 | D105: AHU-2B | E105: TRANE | F105: MCCA025GAW0ABA | G105: K99H50279N | H105: - | I105: - | J105: 1999 | K105: R-22
B106: AIR HANDLING UNIT | C106: MECHANICAL 402 | D106: AHU-3 | E106: TRANE | F106: MCCA021UB000A | G106: K99H50284N | H106: - | I106: - | J106: 1999 | K106: R-22
...
