Workbook

Sheet Property Information
A1: PROPERTY INFORMATION SUMMARY
A2: Coal City School District No.1
A6: CAMPUS DETAILS
A7: NO. | B7: CAMPUS | C7: FACILITY | D7: ADDRESS | F7: AREA | G7: VISIT DATE | H7: COMMENTS | I7: YEARS BUILT | J7: NO. OF FLOORS | K7: FND TYPE | L7: FRAME CONSTR. | M7: EXT WALLS | N7: ROOF CONSTR. | O7: ROOF COVER | P7: HVAC | Q7: PARKING STALLS | R7: ROOF RPRT | S7: DWGS
A9: A | B9: Early Childhood | C9: Early Childhood Center | D9: 755 S. Carbon Hill Rd. Coal City, IL 60416 | F9: 73610 | G9: 43355 | I9: 2007 | J9: 1 | K9: Concrete | L9: Concrete | M9: Brick, Stone | N9: Steel | O9: Slate and Built up Asphalt | P9: Boiler ,Hot Water,A/C | Q9: 99 | R9: Y | S9: Y | U9: Gary Voss | V9: O: (630) 406-7360 | X9: KDOT Buildings
A10: B | B10: Elementary School | C10: Elementary School | D10: 300 N. Broadway St. Coal City, IL 60416 | F10: 67976 | G10: 43356 | I10: 1955-1995 | J10: 1 | K10: Concrete | L10: Steel | M10: Brick, Block, Stone | N10: Wood, Steel | O10: Built-up Asphalt | P10: Forced Air & Hot W | Q10: 102 | R10: Y | S10: Y | V10: C: (630) 816-9706
A11: C | B11: Intermediate School | C11: Intermediate School | D11: 305 E. Division St. Coal City, IL 60416 | F11: 72086 | G11: 43355 | I11: 1916-1989 | J11: 2 | K11: Concrete | L11: Steel | M11: Brick, Block | N11: Steel | O11: Built-up Asphalt | P11: Gas Forced air w/ A/C | Q11: 110 | R11: Y | S11: Y
A12: D | B12: Middle School | C12: Middle School | D12: 500 S. Carbon Hill Rd. Coal City, IL 60416 | F12: 98000 | G12: 43354 | I12: 2000 | J12: 1 | K12: Concrete | L12: Wall Bearing | M12: Block, Wd siding | N12: Wood | O12: Asphalt Shingles | P12: None | Q12: - | R12: Y | S12: N
A13: E | B13: High School | C13: High School | D13: 655 W. Division St. Coal City, IL 60416 | F13: 209922 | G13: 43381 | I13: 1971-2009 | J13: 1 | K13: Concrete | L13: Wall Bearing | M13: Brick, Block | N13: Wood | O13: Asphalt Shingles | P13: Boiler, Gas, Forced air | Q13: 20 | R13: Y | S13: Y
A14: F | B14: High School | C14: Operations & Maintenance Bldg. 1 | D14: 655 W. Division St. Coal City, IL 60416 | F14: 5600 | G14: 43381 | I14: 1976-1996 | J14: 1 | K14: Concrete | L14: Wall Bearing | M14: Masonry, Steel Siding | N14: Wood / Metal | O14: Metal | P14: Hat Water Units | Q14: 5 | R14: Y | S14: Y
A15: G | B15: High School | C15: High School Concessions Bldg. | D15: 655 W. Division St. Coal City, IL 60416 | F15: 5744 | G15: 43381 | I15: 2017 | J15: 1 | K15: Stone | L15: Wall Bearing | M15: Wood Siding | N15: Wood | O15: Asphalt Shingles | P15: Hot Water | Q15: 15 | R15: Y | S15: Y
A16: H | B16: High School | C16: High School Four Seasons Bldg. | D16: 655 W. Division St. Coal City, IL 60416 | F16: 797 | G16: 43381 | I16: 2013 | J16: 1 | K16: Stone/ Concrete | L16: Concrete | M16: Brick, Stone | N16: Wood | O16: Asphalt Sh, Copper | P16: Low Press Steam | R16: N | S16: Y
A17: I | B17: Middle School | C17: Operations & Maintenance Bldg. 2 | D17: 500 S. Carbon Hill Rd. Coal City, IL 60416 | F17: 2400 | G17: 43481 | H17: 2,862 Total SF. Basement is 400 | I17: 2008 | J17: 1 | K17: Stone/ Concrete | L17: Wall Bearing | M17: Brick, Stone | N17: Wood | O17: Asphalt Sh, Copper | P17: Low Press Steam | R17: Y | S17: N
A18: J | B18: Intermediate School | C18: Help for Hope Building | D18: 100 S. Baima St. Coal City, IL 60416 | F18: 2560 | G18: 43381 | I18: 1969-1993 | J18: 1 | K18: Concrete | L18: Wall Bearing | M18: Brick, Block | N18: Wood | O18: Built-up Asphalt | P18: Gas forced air. A/C | R18: N | S18: Y
A19: K | B19: Middle School | C19: District Office | D19: 550 S. Carbon Hill Rd. Coal City, IL 60416 | F19: 6576 | G19: Not assessed | I19: 2016 | J19: 1 | K19: Concrete | L19: Wall Bearing | M19: Brick | N19: Wood | O19: Asphalt Sh, Built up | P19: Hot Water, A/C | R19: Y | S19: N
F42: =SUM(F8:F41) -> 545271

Sheet Capital Needs
A1: CAPITAL NEEDS SUMMARY
A2: Coal City School District No.1
A6: Facility Name | C6: Gross SF | D6: CRV (Current Replacement Value) | E6: 2019 FCI (Facilities Cost Index) | F6: DMB (Deferred Maintenace Backlog) | G6: Capital Needs | Q6: CHECK | R6: COMMENTS
G7: 2020 | H7: 2021 | I7: 2022 | J7: 2023 | K7: 2024 | L7: 2025 | M7: 2026 | N7: 2027 | O7: 2028 | P7: 2029
A8: ='Property Information'!A9 -> A | B8: ='Property Information'!C9 -> Early Childhood Center | C8: ='Property Information'!F9 -> 73610 | D8: =C8*300 -> 22083000 | E8: =F8/D8 -> 0.12750532 | F8: =A!J88 -> 2815700 | G8: =A!K88 -> 10500 | H8: =A!L88 -> 107500 | I8: =A!M88 -> 473500 | J8: =A!N88 -> 190500 | K8: =A!O88 -> 1557200 | L8: =A!P88 -> 196000 | M8: =A!Q88 -> 73000 | ... P8: =A!T88 -> 57000 | Q8: =SUM(G8:P8) -> 2815700
A9: ='Property Information'!A10 -> B | B9: ='Property Information'!C10 -> Elementary School | C9: ='Property Information'!F10 -> 67976 | D9: =C9*300 -> 20392800 | E9: =F9/D9 -> 0.1113138 | F9: =B!J96 -> 2270000 | G9: =B!K96 -> 0 | H9: =B!L96 -> 358500 | I9: =B!M96 -> 716500 | J9: =B!N96 -> 207500 | K9: =B!O96 -> 201500 | L9: =B!P96 -> 98500 | M9: =B!Q96 -> 115500 | ... P9: =B!T96 -> 329000 | Q9: =SUM(G9:P9) -> 2270000
A10: ='Property Information'!A11 -> C | B10: ='Property Information'!C11 -> Intermediate School | C10: ='Property Information'!F11 -> 72086 | D10: =C10*300 -> 21625800 | E10: =F10/D10 -> 0.16961222 | F10: ='C'!J93 -> 3668000 | G10: ='C'!K93 -> 236000 | H10: ='C'!L93 -> 568000 | I10: ='C'!M93 -> 299500 | J10: ='C'!N93 -> 282500 | K10: ='C'!O93 -> 146000 | L10: ='C'!P93 -> 104000 | M10: ='C'!Q93 -> 79500 | ... P10: ='C'!T93 -> 1272000 | Q10: =SUM(G10:P10) -> 3668000
A11: ='Property Information'!A12 -> D | B11: ='Property Information'!C12 -> Middle School | C11: ='Property Information'!F12 -> 98000 | D11: =C11*300 -> 29400000 | E11: =F11/D11 -> 0.097006803 | F11: =D!J76 -> 2852000 | G11: =D!K76 -> 55000 | H11: =D!L76 -> 349500 | I11: =D!M76 -> 204000 | J11: =D!N76 -> 101000 | K11: =D!O76 -> 250500 | L11: =D!P76 -> 106000 | M11: =D!Q76 -> 96000 | ... P11: =D!T76 -> 106500 | Q11: =SUM(G11:P11) -> 2852000
A12: ='Property Information'!A13 -> E | B12: ='Property Information'!C13 -> High School | C12: ='Property Information'!F13 -> 209922 | D12: =C12*350 -> 73472700 | E12: =F12/D12 -> 0.045744882 | F12: =E!J127 -> 3361000 | G12: =E!K127 -> 163000 | H12: =E!L127 -> 250000 | I12: =E!M127 -> 283000 | J12: =E!N127 -> 317000 | K12: =E!O127 -> 208000 | L12: =E!P127 -> 640500 | M12: =E!Q127 -> 166500 | ... P12: =E!T127 -> 183000 | Q12: =SUM(G12:P12) -> 3361000
A13: ='Property Information'!A14 -> F | B13: ='Property Information'!C14 -> Operations & Maintenance Bldg. 1 | C13: ='Property Information'!F14 -> 5600 | D13: =C13*105 -> 588000 | E13: =F13/D13 -> 0.37329932 | F13: =F!J56 -> 219500 | G13: =F!K56 -> 0 | H13: =F!L56 -> 211500 | I13: =F!M56 -> 0 | J13: =F!N56 -> 8000 | K13: =F!O56 -> 0 | L13: =F!P56 -> 0 | M13: =F!Q56 -> 0 | ... P13: =F!T56 -> 0 | Q13: =SUM(G13:P13) -> 219500
A14: ='Property Information'!A15 -> G | B14: ='Property Information'!C15 -> High School Concessions Bldg. | C14: ='Property Information'!F15 -> 5744 | D14: =C14*150 -> 861600 | E14: =F14/D14 -> 0.032149489 | F14: =G!J61 -> 27700 | G14: =G!K61 -> 0 | H14: =G!L61 -> 0 | I14: =G!M61 -> 0 | J14: =G!N61 -> 0 | K14: =G!O61 -> 3000 | L14: =G!P61 -> 0 | M14: =G!Q61 -> 5000 | ... P14: =G!T61 -> 6700 | Q14: =SUM(G14:P14) -> 27700
A15: ='Property Information'!A16 -> H | B15: ='Property Information'!C16 -> High School Four Seasons Bldg. | C15: ='Property Information'!F16 -> 797 | D15: =C15*150 -> 119550 | E15: =F15/D15 -> 0.33877039 | F15: =H!J51 -> 40500 | G15: =H!K51 -> 0 | H15: =H!L51 -> 0 | I15: =H!M51 -> 0 | J15: =H!N51 -> 0 | K15: =H!O51 -> 0 | L15: =H!P51 -> 0 | M15: =H!Q51 -> 8000 | ... P15: =H!T51 -> 0 | Q15: =SUM(G15:P15) -> 40500
A16: ='Property Information'!A17 -> I | B16: ='Property Information'!C17 -> Operations & Maintenance Bldg. 2 | C16: ='Property Information'!F17 -> 2400 | D16: =C16*150 -> 360000 | E16: =F16/D16 -> 0.1 | F16: =I!J56 -> 36000 | G16: =I!K56 -> 0 | H16: =I!L56 -> 16000 | I16: =I!M56 -> 0 | J16: =I!N56 -> 0 | K16: =I!O56 -> 4000 | L16: =I!P56 -> 5000 | M16: =I!Q56 -> 3000 | ... P16: =I!T56 -> 3000 | Q16: =SUM(G16:P16) -> 36000
A17: ='Property Information'!A18 -> J | B17: ='Property Information'!C18 -> Help for Hope Building | C17: ='Property Information'!F18 -> 2560 | D17: =C17*250 -> 640000 | E17: =F17/D17 -> 0.15990625 | F17: =J!J64 -> 102340 | G17: =J!K64 -> 0 | H17: =J!L64 -> 17000 | I17: =J!M64 -> 53340 | J17: =J!N64 -> 14000 | K17: =J!O64 -> 4000 | L17: =J!P64 -> 3000 | M17: =J!Q64 -> 3000 | ... P17: =J!T64 -> 3000 | Q17: =SUM(G17:P17) -> 102340
A18: TOTALS: | C18: =SUM(C8:C17) -> 538695 | D18: =SUM(D8:D17) -> 169543450 | E18: =AVERAGE(E8:E17) -> 0.15553085 | F18: =SUM(F8:F17) -> 15392740 | G18: =SUM(G8:G17) -> 464500 | H18: =SUM(H8:H17) -> 1878000 | I18: =SUM(I8:I17) -> 2029840 | J18: =SUM(J8:J17) -> 1120500 | K18: =SUM(K8:K17) -> 2374200 | L18: =SUM(L8:L17) -> 1153000 | M18: =SUM(M8:M17) -> 549500 | ... P18: =SUM(P8:P17) -> 1960200 | Q18: =SUM(G18:P18) -> 15392740
H19: 0.05 | I19: 0.1 | J19: 0.15 | K19: 0.2 | L19: 0.25 | M19: 0.3 | N19: 0.35 | O19: 0.4 | P19: 0.45
F20: Inflation adjustment | H20: =H18*H19+H18 -> 1971900 | I20: =I18*I19+I18 -> 2232824 | J20: =J18*J19+J18 -> 1288575 | K20: =K18*K19+K18 -> 2849040 | L20: =L18*L19+L18 -> 1441250 | M20: =M18*M19+M18 -> 714350 | N20: =N18*N19+N18 -> 1744875 | O20: =O18*O19+O18 -> 3598700 | P20: =P18*P19+P18 -> 2842290
C22: FCI = 0% to 15% | E22: GOOD CONDITION
C23: FCI = 15% to 30% | E23: FAIR CONDITION
C24: FCI = 30% to 100% | E24: POOR CONDITION

Sheet A
A1: EARLY CHILDHOOD CENTER
A2: Facility Condition Assessment
B4: Building: | C4: Building A | G4: Facility Function:
B5: Gross SF: | C5: ='Property Information'!F9 -> 73610 | G5: Early Childhood Instruction
B6: Date of Visit | C6: ='Property Information'!G9 -> 43355
B7: Year Built: | C7: ='Property Information'!I9 -> 2007
A9: Property Components | C9: Area / Type / Location | D9: * Initial Installation | E9: Renovated Date * | F9: Life Exp. | G9: Comments / Equipment Tag | I9: Improvement Type | J9: Improv. Cost | K9: Recommended Capital Allocation Year & Amount
K10: 2020 | L10: 2021 | M10: 2022 | N10: 2023 | O10: 2024 | P10: 2025 | Q10: 2026 | R10: 2027 | S10: 2028 | T10: 2029
A11: Substructure
B12: Foundations | C12: Concrete | F12: 100 | G12: possible settlement, not a safety hazzard | I12: monitor yearly, Fix Hardware as Req'd | J12: =SUM(K12:T12) -> 0
B13: Slabs on Grade | C13: Concrete | F13: 100 | G13: moderate cracking, moderate settlement and heaving throughout building | I13: remove finished flooring, prep, floor leveler and seal cracks | J13: =SUM(K13:T13) -> 100000 | M13: 25000 | O13: 25000 | Q13: 25000 | S13: 25000
B14: Superstructure | C14: Steel | F14: 100 | G14: possible movement, not a safety hazzard | I14: monitor yearly | J14: =SUM(K14:T14) -> 0
A15: Exterior Envelope
B16: Exterior Doors | C16: Aluminum | F16: 40 | G16: good condition | I16: monitor yearly | J16: =SUM(K16:T16) -> 12000 | O16: 12000
B17: Exterior Doors | C17: Hollow Metal | F17: 50 | G17: good condition | I17: monitor yearly, Repaint as Req'd | J17: =SUM(K17:T17) -> 20000 | O17: 10000 | T17: 10000
B18: Exterior Lintels | C18: Steel | F18: 80 | G18: good condition, some surface rust | I18: monitor yearly, prep and repaint | J18: =SUM(K18:T18) -> 15000 | L18: 5000 | M18: 5000 | S18: 5000
B19: Exterior Door Seals | C19: Rubber | F19: 15 | G19: light wear | I19: replacement | J19: =SUM(K19:T19) -> 10000 | N19: 10000
B20: Exterior Door Thresholds | C20: Aluminum | F20: 30 | G20: light wear | I20: replacement | J20: =SUM(K20:T20) -> 15000 | R20: 15000
B21: Exterior Windows | C21: Aluminum Frames | F21: 40 | G21: glazing seals popping out of place throughout due to settement issues | I21: window replacement with dimensional perimeter adjustment for continous movement | J21: =SUM(K21:T21) -> 42000 | L21: 42000
B22: Exterior Window Glazing | C22: Double Glazed | F22: 20 | G22: good condition | I22: monitor yearly | J22: =SUM(K22:T22) -> 0
B23: Exterior Walls/Cladding | C23: Brick | F23: 100 | G23: good condition | I23: monitor yearly | J23: =SUM(K23:T23) -> 0
B24: Exterior Walls/Cladding | C24: Stone Sills | F24: 100 | G24: some mortar separation | I24: tuckpointing | J24: =SUM(K24:T24) -> 22000 | N24: 22000
B25: Exterior Walls/Cladding | C25: CMU | F25: 100 | G25: good contition | I25: monitor yearly | J25: =SUM(K25:T25) -> 6000 | O25: 3000 | R25: 3000
B26: Caulking at Openings | C26: Silicone, etc. | F26: 14 | G26: light wear | I26: monitor yearly | J26: =SUM(K26:T26) -> 3500 | S26: 3500
B27: Roofing | C27: Single-Ply | F27: 20 | G27: good condition, some slight tenting in areas, some existing patching, some aluminum gravel stop separation | I27: monitor quarterly, roof slightly past it's 20 year warranty, small spot repairs as required | J27: =SUM(K27:T27) -> 1472200 | O27: =C5*20 -> 1472200
A28: Interior Construction
B29: Interior Partitions | C29: CMU | F29: 100 | G29: moderate cracking, moderate settlement, not a safety hazzard | I29: monitor quarterly, prep, caulk and paint | J29: =SUM(K29:T29) -> 67500 | L29: 7500 | M29: 7500 | N29: 7500 | O29: 7500 | P29: 7500 | Q29: 7500 | R29: 7500 | S29: 7500 | T29: 7500
B30: Interior Partitions | C30: Metal Stud | F30: 100 | G30: good condition | I30: monitor yearly | J30: =SUM(K30:T30) -> 0
B31: Folding Partition | C31: Cafeteria | F31: 25 | G31: seals at bottom of door panels fail to drop as panels are locked into place, and door binds at times | I31: repair of door panels, or replacement | J31: =SUM(K31:T31) -> 45000 | L31: 45000
B32: Folding Lunch Tables | C32: Cafeteria | F32: 25 | G32: some lunch tables are non-functioning, binding and delaminating, movable hardware issues | I32: repair or replacement | J32: =SUM(K32:T32) -> 35000 | M32: 35000
B33: Interior Doors | C33: Wood | F33: 60 | G33: good condition, some binding due to settlement issues | I33: shim hinges, shave edges as required and monitor quarterly | J33: =SUM(K33:T33) -> 20000 | M33: 4000 | O33: 4000 | Q33: 4000 | S33: 4000 | T33: 4000
B34: Interior Door Hardware | C34: All | F34: 25 | G34: good condition | I34: monitor yearly | J34: =SUM(K34:T34) -> 22500 | L34: 2500 | M34: 2500 | N34: 2500 | O34: 2500 | P34: 2500 | Q34: 2500 | R34: 2500 | S34: 2500 | T34: 2500
B35: Interior Storefronts | C35: Aluminum | F35: 80 | G35: good condition | I35: monitor yearly | J35: =SUM(K35:T35) -> 0
B36: Casework | C36: Plam | F36: 30 | G36: good condition, some delamination in countertops and backsplashes in areas near sinks | I36: monitory yearly, replace as required | J36: =SUM(K36:T36) -> 17500 | L36: 3500 | N36: 3500 | P36: 3500 | R36: 3500 | T36: 3500
A37: Interior Finishes
B38: Floor Finish | C38: Carpet | F38: 15 | G38: good condition, some seams coming up | I38: monitor yearly | J38: =SUM(K38:T38) -> 172000 | P38: 172000
B39: Floor Finish | C39: Vinyl Comp Tile | F39: 35 | G39: good condition, areas of cracked VCT due to settlement | I39: replace as required | J39: =SUM(K39:T39) -> 16000 | N39: 8000 | Q39: 8000
B40: Floor Finish | C40: Ceramic Tile | F40: 60 | G40: good condition | I40: monitor yearly | J40: =SUM(K40:T40) -> 0
B41: Ceiling Finish | C41: Gypsum Board | F41: 30 | G41: good condition, some cracking due to settlement | I41: monitor quarterly, repair cracks as required | J41: =SUM(K41:T41) -> 20000 | M41: 5000 | O41: 5000 | Q41: 5000 | S41: 5000
B42: Ceiling Finish | C42: ACT | F42: 25 | G42: good condition, some evidence of water damage | I42: monitor yearly, replace damaged tiles | J42: =SUM(K42:T42) -> 10500 | M42: 3500 | P42: 3500 | S42: 3500
...

Sheet B
A1: ELEMENTARY SCHOOL
A2: Facility Condition Assessment
B4: Building: | C4: Building B | G4: Facility Function:
B5: Gross SF: | C5: ='Property Information'!F10 -> 67976 | G5: Elementary School Instruction
B6: Date of Visit | C6: ='Property Information'!G10 -> 43356
B7: Year Built: | C7: ='Property Information'!I10 -> 1955-1995
A9: Property Components | C9: Area / Type / Location | D9: * Initial Installation | E9: Renovated Date * | F9: Life Exp. | G9: Comments / Equipment Tag | I9: Improvement Type | J9: Improv. Cost | K9: Recommended Capital Allocation Year & Amount
K10: 2020 | L10: 2021 | M10: 2022 | N10: 2023 | O10: 2024 | P10: 2025 | Q10: 2026 | R10: 2027 | S10: 2028 | T10: 2029
A11: Substructure
B12: Foundations | C12: Concrete | F12: 100 | G12: good condition | I12: monitor yearly | J12: =SUM(K12:T12) -> 0
B13: Slabs on Grade | C13: Concrete | F13: 100 | G13: moderate cracking, moderate settlement and heaving in adminstration area | I13: remove finished flooring, prep, mudjack and seal cracks | J13: =SUM(K13:T13) -> 38000 | Q13: 38000
B14: Superstructure | C14: Load bearing CMU | F14: 100 | G14: good condition | I14: monitor yearly | J14: =SUM(K14:T14) -> 33000 | N14: 15000 | R14: 18000
A15: Exterior Envelope
B16: Exterior Doors | C16: Aluminum | F16: 40 | G16: good condition | I16: monitor yearly | J16: =SUM(K16:T16) -> 28500 | L16: 6000 | O16: 7500 | P16: 7500 | Q16: 7500
B17: Exterior Doors | C17: Hollow Metal | F17: 50 | G17: good condition | I17: monitor yearly | J17: =SUM(K17:T17) -> 40000 | M17: 8000 | N17: 8000 | R17: 8000 | S17: 8000 | T17: 8000
B18: Exterior Lintels | C18: Steel | F18: 80 | G18: good condition, some surface rust | I18: monitor yearly, prep and repaint | J18: =SUM(K18:T18) -> 20000 | M18: 5000 | O18: 5000 | Q18: 5000 | S18: 5000
B19: Exterior Door Seals | C19: Rubber | F19: 15 | G19: moderate wear | I19: replacement | J19: =SUM(K19:T19) -> 25000 | L19: 25000
B20: Exterior Door Thresholds | C20: Aluminum | F20: 30 | G20: moderate wear | I20: replacement | J20: =SUM(K20:T20) -> 25000 | L20: 25000
B21: Exterior Windows | C21: Aluminum Frames | F21: 40 | G21: moderate to end-of-service life wear | I21: monitor yearly, replace as required | J21: =SUM(K21:T21) -> 235000 | M21: 235000
B22: Exterior Windows | C22: Steel Frames | F22: 40 | G22: end-of-service life wear | I22: replacement | J22: =SUM(K22:T22) -> 150000 | M22: 150000
B23: Exterior Window Glazing | C23: Double Glazed | F23: 20 | G23: good condition to end-of-service life wear | I23: monitor yearly, replace as required | J23: =SUM(K23:T23) -> 50000 | M23: 50000
B24: Exterior Window Glazing | C24: Single Glazed | F24: 20 | G24: end-of-service life wear | I24: replacement | J24: =SUM(K24:T24) -> 50000 | M24: 50000
B25: Exterior Walls/Cladding | C25: Brick | F25: 100 | G25: some mortar separation and deterioration | I25: tuckpointing | J25: =SUM(K25:T25) -> 100000 | N25: 50000 | S25: 50000
B26: Exterior Walls/Cladding | C26: Stone Sills | F26: 100 | G26: some mortar separation | I26: tuckpointing | J26: =SUM(K26:T26) -> 25000 | N26: 25000
B27: Caulking at Openings | C27: Silicone, etc. | F27: 14 | G27: moderate to end-of-service life wear | I27: monitor yearly, replace as required | J27: =SUM(K27:T27) -> 30000 | M27: 15000 | Q27: 15000
B28: Roofing | C28: Single-Ply / Ballasted | F28: 25 | G28: good condition, some seam separation in areas, some existing patching, some aluminum gravel stop separation, some missing flashing, ponding in some areas | I28: monitor quarterly, small spot repairs as required | J28: =SUM(K28:T28) -> 245000 | L28: 10000 | N28: 10000 | T28: 225000
B29: Roofing | C29: Gutters & Downspouts, soffit fascia | F29: 25 | G29: good condition, some localized damage | I29: monitor yearly, replace as required | J29: =SUM(K29:T29) -> 58000 | M29: 5000 | O29: 5000 | T29: 48000
A30: Interior Construction
B31: Interior Partitions | C31: CMU | F31: 100 | G31: good condition, moderate wear | I31: monitor yearly | J31: =SUM(K31:T31) -> 36000 | M31: 12000 | P31: 12000 | S31: 12000
B32: Interior Partitions | C32: Metal Stud | F32: 100 | G32: good condition | I32: monitor yearly | J32: =SUM(K32:T32) -> 32000 | M32: 8000 | O32: 8000 | Q32: 8000 | S32: 8000
B33: Interior Doors | C33: Wood | F33: 60 | G33: good condition, some moderate wear | I33: monitor yearly | J33: =SUM(K33:T33) -> 25000 | L33: 5000 | N33: 5000 | P33: 5000 | R33: 5000 | T33: 5000
B34: Interior Door Hardware | C34: All | F34: 25 | G34: good condition, some moderate wear | I34: monitor yearly | J34: =SUM(K34:T34) -> 38000 | N34: 10000 | Q34: 18000 | T34: 10000
B35: Casework | C35: Plam | F35: 30 | G35: good condition, some delamination in countertops | I35: monitory yearly, replace as required | J35: =SUM(K35:T35) -> 66000 | L35: 20000 | O35: 28000 | R35: 18000
B36: Casework | C36: Solid Surface | F36: 30 | G36: good conditioin | I36: monitor yearly | J36: =SUM(K36:T36) -> 32000 | M36: 16000 | P36: 16000
A37: Interior Finishes
B38: Floor Finish | C38: Carpet | F38: 15 | G38: good condition | I38: monitor yearly | J38: =SUM(K38:T38) -> 70000 | N38: 70000
B39: Floor Finish | C39: Vinyl Comp Tile | F39: 35 | G39: good condition, some moderate wear | I39: replace as required | J39: =SUM(K39:T39) -> 32000 | L39: 8000 | M39: 8000 | Q39: 8000 | R39: 8000
B40: Floor Finish | C40: Ceramic Tile | F40: 60 | G40: good condition, some moderate wear | I40: monitor yearly | J40: =SUM(K40:T40) -> 24000 | O40: 12000 | T40: 12000
B41: Floor Finish | C41: Terrazzo | F41: 100 | G41: good condition, some moderate wear | I41: monitor yearly | J41: =SUM(K41:T41) -> 25500 | M41: 8500 | P41: 8500 | S41: 8500
B42: Wall Finish | C42: Paint | F42: 10 | G42: good condition | I42: monitor yearly | J42: =SUM(K42:T42) -> 45000 | L42: 5000 | M42: 5000 | N42: 5000 | O42: 5000 | P42: 5000 | Q42: 5000 | R42: 5000 | S42: 5000 | T42: 5000
...

Sheet C
A1: INTERMEDIATE SCHOOL
A2: Facility Condition Assessment
B4: Building: | C4: Building C | G4: Facility Function:
B5: Gross SF: | C5: ='Property Information'!F11 -> 72086 | G5: Intermediate School Instruction
B6: Date of Visit | C6: ='Property Information'!G11 -> 43355
B7: Year Built: | C7: ='Property Information'!I11 -> 1916-1989
A9: Property Components | C9: Area / Type / Location | D9: * Initial Installation | E9: Renovated Date * | F9: Life Exp. | G9: Comments / Equipment Tag | I9: Improvement Type | J9: Improv. Cost | K9: Recommended Capital Allocation Year & Amount
K10: 2020 | L10: 2021 | M10: 2022 | N10: 2023 | O10: 2024 | P10: 2025 | Q10: 2026 | R10: 2027 | S10: 2028 | T10: 2029
A11: Substructure
B12: Foundations | C12: Concrete / CMU | F12: 100 | G12: good condition | I12: monitor yearly | J12: =SUM(K12:T12) -> 0
B13: Slabs on Grade | C13: Concrete | F13: 100 | G13: good condition, slight cracking, slight settlement | I13: remove finished flooring, prep, mudjack and seal cracks | J13: =SUM(K13:T13) -> 15000 | N13: 15000
B14: Superstructure | C14: Load bearing CMU | F14: 100 | G14: good condition | I14: monitor yearly | J14: =SUM(K14:T14) -> 250000 | R14: 250000
A15: Exterior Envelope
B16: Exterior Doors | C16: Aluminum | F16: 40 | G16: moderate wear | I16: monitor yearly | J16: =SUM(K16:T16) -> 30000 | K16: 6000 | M16: 6000 | O16: 6000 | Q16: 6000 | S16: 6000
B17: Exterior Doors | C17: Hollow Metal | F17: 50 | G17: moderate wear | I17: monitor yearly | J17: =SUM(K17:T17) -> 40000 | L17: 8000 | N17: 8000 | P17: 8000 | R17: 8000 | T17: 8000
B18: Exterior Lintels | C18: Steel | F18: 80 | G18: good condition, some surface rust | I18: monitor yearly, prep and repaint | J18: =SUM(K18:T18) -> 30000 | M18: 15000 | Q18: 15000
B19: Exterior Door Seals | C19: Rubber | F19: 15 | G19: moderate wear | I19: replacement | J19: =SUM(K19:T19) -> 14000 | L19: 14000
B20: Exterior Door Thresholds | C20: Aluminum | F20: 30 | G20: moderate wear | I20: replacement | J20: =SUM(K20:T20) -> 24000 | K20: 24000
B21: Exterior Windows | C21: Aluminum Frames | F21: 40 | G21: end-of-service life wear | I21: replacement | J21: =SUM(K21:T21) -> 238000 | L21: 238000
B22: Exterior Windows | C22: Steel Frames | F22: 40 | G22: end-of-service life wear | I22: replacement | J22: =SUM(K22:T22) -> 85000 | L22: 85000
B23: Exterior Window Glazing | C23: Double Glazed | F23: 20 | G23: end-of-service life wear | I23: replacement | J23: =SUM(K23:T23) -> 45000 | L23: 45000
B24: Exterior Window Glazing | C24: Single Glazed | F24: 20 | G24: end-of-service life wear | I24: replacement | J24: =SUM(K24:T24) -> 76000 | L24: 76000
B25: Exterior Walls/Cladding | C25: Brick | F25: 100 | G25: some mortar separation and deterioration | I25: tuckpointing | J25: =SUM(K25:T25) -> 105000 | M25: 35000 | P25: 35000 | S25: 35000
B26: Exterior Walls/Cladding | C26: Stone Sills | F26: 100 | G26: some mortar separation | I26: tuckpointing | J26: =SUM(K26:T26) -> 30000 | M26: 10000 | P26: 10000 | S26: 10000
B27: Caulking at Openings | C27: Silicone, etc. | F27: 14 | G27: end-of-service life wear | I27: replacement | J27: =SUM(K27:T27) -> 84000 | K27: 28000 | O27: 28000 | S27: 28000
B28: Roofing | C28: Built-up / Ballasted | F28: 25 | G28: good condition, some seam separation in areas, some existing patching, some aluminum gravel stop separation, some missing flashing, ponding in some areas | I28: monitor quarterly, small spot repairs as required | J28: =SUM(K28:T28) -> 1220000 | K28: 5000 | M28: 5000 | O28: 5000 | Q28: 5000 | T28: =60000*20 -> 1200000
B29: Roofing | C29: Gutters & Downspouts, soffit fascia | F29: 25 | G29: good condition, some localized damage | I29: monitor yearly, replace as required | J29: =SUM(K29:T29) -> 30000 | L29: 7500 | N29: 7500 | P29: 7500 | R29: 7500
A30: Interior Construction
B31: Interior Partitions | C31: CMU / Glazed CMU | F31: 100 | G31: good condition, moderate wear | I31: monitor yearly | J31: =SUM(K31:T31) -> 15000 | M31: 5000 | Q31: 5000 | T31: 5000
B32: Interior Partitions | C32: Metal Stud | F32: 100 | G32: good condition | I32: monitor yearly | J32: =SUM(K32:T32) -> 45000 | L32: 15000 | O32: 15000 | R32: 15000
B33: Interior Partitions | C33: Wood Stud | F33: 40 | G33: good condition | I33: monitor yearly | J33: =SUM(K33:T33) -> 20000 | K33: 10000 | P33: 10000
B34: Interior Doors | C34: Wood | F34: 60 | G34: good condition, some moderate wear | I34: monitor yearly | J34: =SUM(K34:T34) -> 36000 | M34: 12000 | Q34: 12000 | T34: 12000
B35: Interior Door Hardware | C35: All | F35: 25 | G35: good condition, some moderate wear | I35: monitor yearly | J35: =SUM(K35:T35) -> 40000 | K35: 10000 | L35: 10000 | O35: 10000 | R35: 10000
B36: Casework | C36: Plam / Wood | F36: 30 | G36: good condition, some delamination in countertops | I36: monitory yearly, replace as required | J36: =SUM(K36:T36) -> 45000 | N36: 45000
B37: Casework | C37: Solid Surface | F37: 30 | G37: good conditioin | I37: monitor yearly | J37: =SUM(K37:T37) -> 35000 | N37: 35000
A38: Interior Finishes
B39: Floor Finish | C39: Carpet | F39: 15 | G39: moderate wear to end-of-service life | I39: replace | J39: =SUM(K39:T39) -> 175000 | M39: 175000
B40: Floor Finish | C40: Vinyl Comp Tile | F40: 35 | G40: moderate wear to end-of-service life | I40: replace | J40: =SUM(K40:T40) -> 160000 | K40: 10000 | N40: 150000
B41: Floor Finish | C41: Ceramic Tile | F41: 60 | G41: good condition, some moderate wear | I41: monitor yearly | J41: =SUM(K41:T41) -> 30000 | L41: 10000 | Q41: 10000 | T41: 10000
B42: Floor Finish | C42: Terrazzo | F42: 100 | G42: good condition, some moderate wear | I42: monitor yearly | J42: =SUM(K42:T42) -> 45000 | K42: 35000 | O42: 10000
...

Sheet D
A1: MIDDLE SCHOOL
A2: Facility Condition Assessment
B4: Building: | C4: Building D | G4: Facility Function:
B5: Gross SF: | C5: ='Property Information'!F12 -> 98000 | G5: Middle school instruction
B6: Date of Visit | C6: ='Property Information'!G12 -> 43354
B7: Year Built: | C7: ='Property Information'!I12 -> 2000
A9: Property Components | C9: Area / Type / Location | D9: * Initial Installation | E9: Renovated Date * | F9: Life Exp. | G9: Comments / Equipment Tag | I9: Improvement Type | J9: Improv. Cost | K9: Recommended Capital Allocation Year & Amount
K10: 2020 | L10: 2021 | M10: 2022 | N10: 2023 | O10: 2024 | P10: 2025 | Q10: 2026 | R10: 2027 | S10: 2028 | T10: 2029
A11: Substructure
B12: Foundations | C12: Concrete | F12: 100 | G12: good condition | I12: monitor yearly | J12: =SUM(K12:T12) -> 0
B13: Slabs on Grade | F13: 100 | G13: good condition, slight cracking, some underground piping heaving / telegraphing in cafeteria | I13: remove finished flooring, cut localized concrete damage, re-install pipe, replace flooring | J13: =SUM(K13:T13) -> 75000 | M13: 75000
B14: Superstructure | C14: Load bearing CMU, Steel, Wood Glulam beams | F14: 100 | G14: good condition | I14: monitor yearly | J14: =SUM(K14:T14) -> 38000 | K14: 8000 | N14: 10000 | Q14: 10000 | T14: 10000
A15: Exterior Envelope
B16: Exterior Doors | C16: Aluminum | F16: 40 | G16: good condition | I16: monitor yearly | J16: =SUM(K16:T16) -> 22500 | O16: 7500 | R16: 7500 | T16: 7500
B17: Exterior Doors | C17: Hollow Metal | F17: 50 | G17: good condition | I17: monitor yearly | J17: =SUM(K17:T17) -> 24000 | M17: 8000 | P17: 8000 | S17: 8000
B18: Exterior Lintels | C18: Steel | F18: 80 | G18: good condition, some surface rust | I18: monitor yearly, prep and repaint | J18: =SUM(K18:T18) -> 34000 | K18: 10000 | N18: 12000 | T18: 12000
B19: Exterior Door Seals | C19: Rubber | F19: 15 | G19: moderate wear | I19: replacement | J19: =SUM(K19:T19) -> 28000 | L19: 14000 | P19: 14000
B20: Exterior Door Thresholds | C20: Aluminum | F20: 30 | G20: moderate wear | I20: replacement | J20: =SUM(K20:T20) -> 36000 | O20: 18000 | R20: 18000
B21: Exterior Windows | C21: Aluminum Frames | F21: 40 | G21: moderate wear, some caulking failing, some seals deteriorating | I21: remove old caulk and re-caulk, replace localized damaged seals | J21: =SUM(K21:T21) -> 35000 | M21: 35000
B22: Exterior Window Glazing | C22: Double Glazed | F22: 20 | G22: good condition | I22: monitory yearly | J22: =SUM(K22:T22) -> 0
B23: Exterior Walls/Cladding | C23: CMU | F23: 100 | G23: mortar separation, some cracked pieces | I23: tuckpoint, replace broken CMU | J23: =SUM(K23:T23) -> 38000 | K23: 8000 | P23: 15000 | T23: 15000
B24: Exterior Walls/Cladding | C24: CMU Sills | F24: 100 | G24: mortar separation | I24: CMU sills, tuckpoint | J24: =SUM(K24:T24) -> 16000 | P24: 8000 | T24: 8000
B25: Caulking at Openings | C25: Silicone, etc. | F25: 14 | G25: near end-of-service life wear | I25: replacement | J25: =SUM(K25:T25) -> 35000 | N25: 35000
B26: Entrance Steel | C26: Main Entrance | F26: 50 | G26: Steel at main entrance "mine shaft" | I26: prepare and repaint | J26: =SUM(K26:T26) -> 15000 | Q26: 15000
B27: Roofing | C27: Built-up / Ballasted | F27: 25 | G27: End of service life wear, delamination, tenting, extensive patching, some seam separation in areas, missing ballast, etc. | I27: replacement | J27: =SUM(K27:T27) -> 1460000 | S27: =(C5-25000)*20 -> 1460000
B28: Roofing | C28: Standing-Seam Metal | F28: 35 | G28: Moderate wear, small localized damage, missing / unattached snow guards | I28: repair damaged panels (cosmetic), replace / anchor snow guards | J28: =SUM(K28:T28) -> 20000 | O28: 10000 | R28: 10000
B29: Roofing | C29: Gutters & Downspouts, soffit fascia | F29: 25 | G29: good condition, some localized damage | I29: monitor yearly, replace as required | J29: =SUM(K29:T29) -> 20000 | M29: 10000 | Q29: 10000
A30: Interior Construction
B31: Interior Partitions | C31: CMU | F31: 100 | G31: good condition, moderate wear, some localized cracks | I31: monitor yearly, infill cracks, replace cracked CMU | J31: =SUM(K31:T31) -> 32000 | K31: 8000 | N31: 8000 | Q31: 8000 | T31: 8000
B32: Interior Partitions | C32: Metal Stud | F32: 100 | G32: good condition, small localized damage | I32: monitor yearly, repair | J32: =SUM(K32:T32) -> 22500 | L32: 7500 | O32: 7500 | R32: 7500
B33: Interior Doors | C33: Wood | F33: 60 | G33: good condition | I33: monitor yearly | J33: =SUM(K33:T33) -> 0
B34: Interior Door Hardware | C34: All | F34: 25 | G34: good condition, some moderate wear | I34: monitor yearly | J34: =SUM(K34:T34) -> 20000 | M34: 10000 | R34: 10000
B35: Casework | C35: Plam / Wood | F35: 30 | G35: good condition | I35: monitory yearly | J35: =SUM(K35:T35) -> 0
A36: Interior Finishes
B37: Floor Finish | C37: Carpet | F37: 15 | G37: good condition, some staining | I37: monitor yearly | J37: =SUM(K37:T37) -> 45000 | N37: 15000 | Q37: 15000 | T37: 15000
B38: Floor Finish | C38: Vinyl Comp Tile | F38: 35 | G38: good conditioin, some cracking | I38: monitory yearly, replace as required | J38: =SUM(K38:T38) -> 36000 | O38: 12000 | Q38: 12000 | S38: 12000
B39: Floor Finish | C39: Ceramic Tile | F39: 60 | G39: good condition, some moderate wear | I39: monitor yearly | J39: =SUM(K39:T39) -> 0
B40: Floor Finish | C40: Athletic Wood | F40: 50 | G40: good condition | I40: monitor yearly | J40: =SUM(K40:T40) -> 0
B41: Ceiling Finish | C41: ACT | F41: 25 | G41: moderate wear to end-of-service life | I41: replace as required | J41: =SUM(K41:T41) -> 35000 | M41: 35000
B42: Wall Finish | C42: Paint | F42: 10 | G42: good condition | I42: monitor yearly | J42: =SUM(K42:T42) -> 100000 | K42: 10000 | L42: 10000 | M42: 10000 | N42: 10000 | O42: 10000 | P42: 10000 | Q42: 10000 | R42: 10000 | S42: 10000 | T42: 10000
...

Sheet E
A1: HIGH SCHOOL
A2: Facility Condition Assessment
B4: Building: | C4: Building E | G4: Facility Function:
B5: Gross SF: | C5: ='Property Information'!F13 -> 209922 | G5: High school instruction
B6: Date of Visit | C6: ='Property Information'!G13 -> 43381
B7: Year Built: | C7: ='Property Information'!I13 -> 1971-2009
A9: Property Components | C9: Area / Type / Location | D9: * Initial Installation | E9: Renovated Date * | F9: Life Exp. | G9: Comments / Equipment Tag | I9: Improvement Type | J9: Improv. Cost | K9: Recommended Capital Allocation Year & Amount
K10: 2020 | L10: 2021 | M10: 2022 | N10: 2023 | O10: 2024 | P10: 2025 | Q10: 2026 | R10: 2027 | S10: 2028 | T10: 2029
A11: Substructure
B12: Foundations | C12: Concrete | F12: 100 | G12: good condition | I12: monitor yearly | J12: =SUM(K12:T12) -> 0
B13: Slabs on Grade | C13: Concrete | F13: 100 | G13: good condition, slight cracking | I13: monitor yearly | J13: =SUM(K13:T13) -> 0
B14: Superstructure | C14: Load bearing CMU, steel, precast concrete | F14: 100 | G14: good condition | I14: monitor yearly | J14: =SUM(K14:T14) -> 12000 | S14: 12000
A15: Exterior Envelope
B16: Exterior Doors | C16: Aluminum | F16: 40 | G16: good condition, some moderate wear | I16: monitor yearly | J16: =SUM(K16:T16) -> 45000 | N16: 15000 | P16: 15000 | R16: 15000
B17: Exterior Doors | C17: Hollow Metal | F17: 50 | G17: good condition, some moderate wear | I17: monitor yearly, replace as required | J17: =SUM(K17:T17) -> 20000 | O17: 10000 | Q17: 10000
B18: Exterior Lintels | C18: Steel | F18: 80 | G18: good condition, some surface rust | I18: monitor yearly, prep and repaint as required | J18: =SUM(K18:T18) -> 30000 | M18: 15000 | S18: 15000
B19: Exterior Door Seals | C19: Rubber | F19: 15 | G19: moderate wear | I19: replacement | J19: =SUM(K19:T19) -> 0
B20: Exterior Door Thresholds | C20: Aluminum | F20: 30 | G20: moderate wear | I20: replacement | J20: =SUM(K20:T20) -> 23000 | L20: 23000
B21: Exterior Windows | C21: Aluminum Frames | F21: 40 | G21: moderate to end-of-service life wear | I21: monitor yearly, replace in original section of the building | J21: =SUM(K21:T21) -> 49000 | M21: 35000 | R21: 14000
B22: Exterior Window Glazing | C22: Double Glazed | F22: 20 | G22: good condition to end-of-service life wear | I22: monitor yearly, replace window seals as required | J22: =SUM(K22:T22) -> 85000 | P22: 85000
B23: Exterior Walls/Cladding | C23: Brick | F23: 100 | G23: some mortar separation and deterioration | I23: tuckpointing | J23: =SUM(K23:T23) -> 75000 | N23: 25000 | Q23: 25000 | T23: 25000
B24: Exterior Walls/Cladding | C24: Precast concrete | F24: 100 | G24: good condition | I24: monitor yearly, seal as required | J24: =SUM(K24:T24) -> 35000 | P24: 35000
B25: Exterior Walls/Cladding | C25: Corrugated metal panel | F25: 40 | G25: moderate wear, minor cosmetic damage | I25: monitor yearly, touch up as required | J25: =SUM(K25:T25) -> 40000 | O25: 20000 | S25: 20000
B26: Exterior Walls/Cladding | C26: Stone Sills | F26: 100 | G26: some mortar separation | I26: tuckpointing | J26: =SUM(K26:T26) -> 20000 | O26: 10000 | S26: 10000
B27: Caulking at Openings | C27: Silicone, etc. | F27: 14 | G27: moderate to end-of-service life wear | I27: monitor yearly, replace as required | J27: =SUM(K27:T27) -> 25000 | M27: 25000
B28: Roofing | C28: Single-Ply / Ballasted | F28: 25 | G28: good condition to end-of-service life in some areas, some seam separation in areas, some existing patching, some aluminum gravel stop separation, some missing flashing, ponding in some areas | I28: monitor quarterly, small spot repairs as required, replace in '98 addition and 'server room' area | J28: =SUM(K28:T28) -> 520000 | R28: =26000*20 -> 520000
B29: Roofing | C29: Gutters & Downspouts, soffit fascia | F29: 25 | G29: good condition, some localized damage | I29: monitor yearly, replace as required | J29: =SUM(K29:T29) -> 45000 | L29: 20000 | P29: 25000
A30: Interior Construction
B31: Interior Partitions | C31: CMU | F31: 100 | G31: good condition, moderate wear | I31: monitor yearly | J31: =SUM(K31:T31) -> 36000 | N31: 12000 | Q31: 12000 | T31: 12000
B32: Interior Partitions | C32: Metal Stud | F32: 100 | G32: good condition, moderate wear | I32: monitor yearly | J32: =SUM(K32:T32) -> 45000 | L32: 15000 | O32: 15000 | S32: 15000
B33: Lockers | C33: Metal Stud | F33: 20 | G33: good condition, some moderate wear | I33: monitor yearly | J33: =SUM(K33:T33) -> 30000 | L33: 15000 | M33: 15000
B34: Interior Doors | C34: Wood | F34: 60 | G34: good condition, some moderate wear | I34: monitor yearly | J34: =SUM(K34:T34) -> 0
B35: Interior Door Hardware | C35: All | F35: 25 | G35: good condition, some moderate wear | I35: monitor yearly | J35: =SUM(K35:T35) -> 30000 | L35: 10000 | P35: 10000 | T35: 10000
B36: Casework | C36: Plam | F36: 30 | G36: good condition, some delamination in countertops and vertical faces | I36: monitory yearly, replace as required | J36: =SUM(K36:T36) -> 90000 | M36: 30000 | P36: 30000 | R36: 30000
B37: Casework | C37: Solid Surface | F37: 30 | G37: good conditioin | I37: monitor yearly | J37: =SUM(K37:T37) -> 54000 | L37: 18000 | O37: 18000 | S37: 18000
A38: Interior Finishes
B39: Floor Finish | C39: Carpet | F39: 15 | G39: good condition to moderate wear | I39: monitor yearly | J39: =SUM(K39:T39) -> 100000 | N39: 50000 | T39: 50000
B40: Floor Finish | C40: Vinyl Comp Tile | F40: 35 | G40: good condition, some damage | I40: monitor yearly, replace | J40: =SUM(K40:T40) -> 100000 | M40: 50000 | Q40: 50000
B41: Floor Finish | C41: Ceramic Tile | F41: 40 | G41: good condition, some cracking, some missing pieces | I41: monitor yearly, replace | J41: =SUM(K41:T41) -> 85000 | L41: 15000 | O41: 35000 | S41: 35000
B42: Floor Finish | C42: Terrazzo | F42: 100 | G42: good condition, some moderate wear | I42: monitor yearly | J42: =SUM(K42:T42) -> 0
...

Sheet F
A1: OPERATIONS & MAINTENANCE BUILDING 1
A2: Facility Condition Assessment
B4: Building: | C4: Building F | G4: Facility Function:
B5: Gross SF: | C5: ='Property Information'!F14 -> 5600 | G5: Maintenance & Vehicle Storage
B6: Date of Visit | C6: ='Property Information'!G14 -> 43381
B7: Year Built: | C7: ='Property Information'!I14 -> 1976-1996
A9: Property Components | C9: Area / Type / Location | D9: * Initial Installation | E9: Renovated Date * | F9: Life Exp. | G9: Comments / Equipment Tag | I9: Improvement Type | J9: Improv. Cost | K9: Recommended Capital Allocation Year & Amount
K10: 2020 | L10: 2021 | M10: 2022 | N10: 2023 | O10: 2024 | P10: 2025 | Q10: 2026 | R10: 2027 | S10: 2028 | T10: 2029
A11: Substructure
B12: Foundations | F12: 100 | G12: good condition | I12: monitor yearly | J12: =SUM(K12:T12) -> 0
B13: Slabs on Grade | F13: 100 | G13: near end-of-service life wear | I13: replacement | J13: =SUM(K13:T13) -> 25000 | L13: 25000
B14: Wood Roof Framing | F14: 50 | G14: good condition | I14: monitor yearly | J14: =SUM(K14:T14) -> 0
B15: Steel Roof Framing | F15: 100 | G15: good condition | I15: monitor yearly | J15: =SUM(K15:T15) -> 0
A16: Exterior Envelope
B17: Exterior Doors | C17: Hollow Metal | F17: 50 | G17: end-of-service life wear | I17: replacement | J17: =SUM(K17:T17) -> 15000 | L17: 15000
B18: Exterior Door Seals | C18: Rubber | F18: 15 | G18: end-of-service life wear | I18: replacement | J18: =SUM(K18:T18) -> 5000 | L18: 5000
B19: Exterior Door Thresholds | C19: Aluminum | F19: 30 | G19: end-of-service life wear | I19: replacement | J19: =SUM(K19:T19) -> 3500 | L19: 3500
B20: Exterior Walls/Cladding | C20: Al uminum Panels | F20: 30 | G20: end-of-service life wear | I20: replacement | J20: =SUM(K20:T20) -> 95000 | L20: 95000
B21: Caulking at Openings | C21: Silicone, etc. | F21: 14 | G21: end-of-service life wear | I21: replacement | J21: =SUM(K21:T21) -> 8000 | L21: 8000
B22: Roofing | C22: Standing-Seam Metal | F22: 35 | G22: end-of-service life wear | I22: replacement | J22: =SUM(K22:T22) -> 12000 | L22: 12000
B23: Roofing | C23: Gutters & Downspouts, soffit fascia | F23: 25 | G23: end-of-service life wear | I23: replacement | J23: =SUM(K23:T23) -> 5000 | L23: 5000
A24: Interior Construction
B25: Interior Partitions | C25: metal panel | F25: 30 | G25: end-of-service life wear | I25: replacement | J25: =SUM(K25:T25) -> 5000 | L25: 5000
B26: Interior Partitions | C26: foil-faced insulation | F26: 20 | G26: end-of-service life wear | I26: replacement | J26: =SUM(K26:T26) -> 5000 | L26: 5000
B27: Interior Doors | C27: Hollow Metal | F27: 80 | G27: end-of-service life wear | I27: replacement | J27: =SUM(K27:T27) -> 4500 | L27: 4500
A28: Interior Finishes
B29: Floor Finish | C29: Sealed Conc. | F29: 25 | G29: near end-of-service life wear | I29: replacement | J29: =SUM(K29:T29) -> 10000 | L29: 10000
B30: Ceiling Finish | C30: Exposed | F30: 30 | G30: near end-of-service life wear | I30: replacement | J30: =SUM(K30:T30) -> 5000 | L30: 5000
B31: Wall Insulated Panels | C31: foil-faced insulation | F31: 25 | G31: near end-of-service life wear | I31: replacement | J31: =SUM(K31:T31) -> 5000 | L31: 5000
A32: HVAC
B33: Modine-type heaters | C33: Ceiling | F33: 13 | G33: good condition | I33: corrective maintenance | J33: =SUM(K33:T33) -> 8000 | N33: 8000
A34: Electrical
B35: General electrical | F35: 30 | G35: Replace in kind | I35: corrective maintenance | J35: =SUM(K35:T35) -> 0
B36: Lighting/Control: Interior | F36: 20 | G36: Upgrade to LED Fixtures with wireless controls | I36: condition-based maintenance | J36: =SUM(K36:T36) -> 0
B37: Lighting: Exterior | F37: 20 | G37: Upgrade to LED fixtures | I37: condition-based maintenance | J37: =SUM(K37:T37) -> 0
B38: Branch Wiring | F38: 30 | G38: Replace in kind | I38: corrective maintenance | J38: =SUM(K38:T38) -> 0
B39: Electrical Service/Distribution | F39: 30 | G39: Replace in kind | I39: corrective maintenance | J39: =SUM(K39:T39) -> 0
B40: Fire Alarm | F40: 15 | G40: Replace in kind | I40: corrective maintenance | J40: =SUM(K40:T40) -> 0
B41: Information Technology | F41: 10 | I41: corrective maintenance | J41: =SUM(K41:T41) -> 0
A43: Equipment
...

Sheet G
A1: HIGH SCHOOL CONCESSIONS BUILDING
A2: Facility Condition Assessment
B4: Building: | C4: Building G | G4: Facility Function:
B5: Gross SF: | C5: ='Property Information'!F15 -> 5744 | G5: Athletic even concessions, public restrooms, storage
B6: Date of Visit | C6: ='Property Information'!G15 -> 43381
B7: Year Built: | C7: ='Property Information'!I15 -> 2017
A9: Property Components | C9: Area / Type / Location | D9: * Initial Installation | E9: Renovated Date * | F9: Life Exp. | G9: Comments / Equipment Tag | I9: Improvement Type | J9: Improv. Cost | K9: Recommended Capital Allocation Year & Amount
K10: 2020 | L10: 2021 | M10: 2022 | N10: 2023 | O10: 2024 | P10: 2025 | Q10: 2026 | R10: 2027 | S10: 2028 | T10: 2029
A11: Substructure
B12: Foundations | C12: Concrete | F12: 100 | G12: good condition | I12: monitor yearly | J12: =SUM(K12:T12) -> 0
B13: Slabs on Grade | C13: Concrete | F13: 100 | G13: good condition | I13: monitor yearly | J13: =SUM(K13:T13) -> 0
B14: Superstructure | C14: Wood | F14: 100 | G14: good condition | I14: monitor yearly | J14: =SUM(K14:T14) -> 0
A15: Exterior Envelope
B16: Exterior OH Doors | C16: Aluminum | F16: 40 | G16: good condition | I16: monitor yearly | J16: =SUM(K16:T16) -> 0
B17: Exterior Doors | C17: Hollow Metal | F17: 50 | G17: good condition | I17: monitor yearly | J17: =SUM(K17:T17) -> 0
B18: Exterior Door Seals | C18: Rubber | F18: 15 | G18: good condition | I18: monitor yearly | J18: =SUM(K18:T18) -> 3200 | T18: 3200
B19: Exterior Door Thresholds | C19: Aluminum | F19: 30 | G19: good condition | I19: monitor yearly | J19: =SUM(K19:T19) -> 0
B20: Exterior Walls/Cladding | C20: Thin brick | F20: 50 | G20: good condition | I20: monitor yearly | J20: =SUM(K20:T20) -> 0
B21: Caulking at Openings | C21: Silicone, etc. | F21: 14 | G21: good condition | I21: monitor yearly | J21: =SUM(K21:T21) -> 0
B22: Roofing | C22: Corrugated metal roof | F22: 40 | G22: good condition | I22: monitor yearly | J22: =SUM(K22:T22) -> 0
A23: Interior Construction
B24: Interior Partitions | C24: Wood Stud | F24: 40 | G24: good condition | I24: monitor yearly | J24: =SUM(K24:T24) -> 0
B25: Interior Door Hardware | C25: All | F25: 25 | G25: good condition | I25: monitor yearly | J25: =SUM(K25:T25) -> 0
B26: Casework | C26: Plam / Wood | F26: 30 | G26: good condition | I26: monitor yearly | J26: =SUM(K26:T26) -> 0
B27: Casework | C27: Stainless steel | F27: 80 | G27: good condition | I27: monitor yearly | J27: =SUM(K27:T27) -> 0
A28: Interior Finishes
B29: Floor Finish | C29: Concrete | F29: 100 | G29: good condition | I29: monitor yearly | J29: =SUM(K29:T29) -> 0
B30: Ceiling Finish | C30: ACT | F30: 25 | G30: good condition | I30: monitor yearly | J30: =SUM(K30:T30) -> 0
B31: Ceiling Finish | C31: Gypsum Board | F31: 30 | G31: good condition | I31: monitor yearly | J31: =SUM(K31:T31) -> 0
B32: Wall Finish | C32: FRP | F32: 40 | G32: good condition | I32: monitor yearly | J32: =SUM(K32:T32) -> 0
A33: Plumbing
B34: Plumbing Fixtures | C34: Flush Valves | F34: 12 | G34: 14 +/- Count, good condition | I34: condition-based maintenance | J34: =SUM(K34:T34) -> 0 | T34: x
B35: Plumbing Fixtures | C35: Faucets | F35: 10 | G35: 6 +/- Count, good condition | I35: condition-based maintenance | J35: =SUM(K35:T35) -> 0 | R35: x
B36: Plumbing Fixtures | C36: Backflow Preventor | F36: 6 | G36: Replace in kind | I36: condition-based maintenance | J36: =SUM(K36:T36) -> 0 | N36: x | R36: x
A37: HVAC
B38: Electric fin-tube | C38: Baseboard | F38: 10 | G38: good condition | I38: condition-based maintenance | J38: =SUM(K38:T38) -> 5000 | R38: 5000
A39: Electrical
B40: General electrical | F40: 30 | G40: Replace in kind | I40: corrective maintenance | J40: =SUM(K40:T40) -> 0
B41: Lighting/Control: Interior | F41: 20 | G41: Upgrade to LED Fixtures with wireless controls | I41: condition-based maintenance | J41: =SUM(K41:T41) -> 0
B42: Lighting: Exterior | F42: 20 | G42: Upgrade to LED fixtures | I42: condition-based maintenance | J42: =SUM(K42:T42) -> 0
...

Sheet H
A1: HIGH SCHOOL FOUR SEASONS BUILDING
A2: Facility Condition Assessment
B4: Building: | C4: Building H | G4: Facility Function:
B5: Gross SF: | C5: ='Property Information'!F16 -> 797 | G5: Multi-function gathering space
B6: Date of Visit | C6: ='Property Information'!G16 -> 43381
B7: Year Built: | C7: ='Property Information'!I16 -> 2013
A9: Property Components | C9: Area / Type / Location | D9: * Initial Installation | E9: Renovated Date * | F9: Life Exp. | G9: Comments / Equipment Tag | I9: Improvement Type | J9: Improv. Cost | K9: Recommended Capital Allocation Year & Amount
K10: 2020 | L10: 2021 | M10: 2022 | N10: 2023 | O10: 2024 | P10: 2025 | Q10: 2026 | R10: 2027 | S10: 2028 | T10: 2029
A11: Substructure
B12: Foundations | F12: 100 | G12: good condition | I12: monitor yearly | J12: =SUM(K12:T12) -> 0
B13: Slabs on Grade | F13: 100 | G13: good condition | I13: monitor yearly | J13: =SUM(K13:T13) -> 0
B14: Steel Roof Framing | F14: 100 | G14: good condition | I14: monitor yearly | J14: =SUM(K14:T14) -> 0
A15: Exterior Envelope
B16: Exterior Doors | C16: Aluminum | F16: 40 | G16: good condition | I16: monitor yearly | J16: =SUM(K16:T16) -> 0
B17: Exterior Door Thresholds | C17: Steel | F17: 30 | G17: good condition | I17: monitor yearly | J17: =SUM(K17:T17) -> 0
B18: Exterior Windows | C18: Aluminum Double Glazed | F18: 40 | G18: good condition | I18: monitor yearly | J18: =SUM(K18:T18) -> 0
B19: Exterior Walls/Cladding | C19: Metal panels | F19: 35 | G19: good condition | I19: monitor yearly | J19: =SUM(K19:T19) -> 0
B20: Caulking at Openings | C20: Silicone, etc. | F20: 14 | G20: good condition | I20: monitor yearly | J20: =SUM(K20:T20) -> 5000 | R20: 5000
B21: Roofing | C21: Metal panels | F21: 35 | G21: good condition | I21: monitor yearly | J21: =SUM(K21:T21) -> 0
A22: Interior Construction
B23: Interior Partitions | C23: metal panel | F23: 35 | G23: good condition | I23: monitor yearly | J23: =SUM(K23:T23) -> 0
A24: Interior Finishes
B25: Floor Finish | C25: Carpet | F25: 15 | G25: good condition | I25: monitor yearly | J25: =SUM(K25:T25) -> 7500 | S25: 7500
B26: Wall Finish | C26: metal panel | F26: 20 | G26: good condition | I26: monitor yearly | J26: =SUM(K26:T26) -> 5000 | R26: 5000
A27: HVAC
B28: Modine-type heater | C28: Ceiling | F28: 13 | G28: good condition | I28: condition based maintenance | J28: =SUM(K28:T28) -> 8000 | Q28: 8000
A29: Electrical
B30: General electrical | F30: 30 | G30: Replace in kind | I30: corrective maintenance | J30: =SUM(K30:T30) -> 0
B31: Lighting/Control: Interior | F31: 20 | G31: Upgrade to LED Fixtures with wireless controls | I31: condition-based maintenance | J31: =SUM(K31:T31) -> 0
B32: Lighting: Exterior | F32: 20 | G32: Upgrade to LED fixtures | I32: condition-based maintenance | J32: =SUM(K32:T32) -> 0
B33: Branch Wiring | F33: 30 | G33: Replace in kind | I33: corrective maintenance | J33: =SUM(K33:T33) -> 0
B34: Electrical Service/Distribution | F34: 30 | G34: Replace in kind | I34: corrective maintenance | J34: =SUM(K34:T34) -> 0
B35: Fire Alarm | F35: 15 | G35: Replace in kind | I35: corrective maintenance | J35: =SUM(K35:T35) -> 0
B36: Information Technology | F36: 10 | I36: corrective maintenance | J36: =SUM(K36:T36) -> 0
A38: Equipment
B39: Kitchen / Commercial Equipment | J39: =SUM(K39:T39) -> 0
B40: Fixed Furnishings | J40: =SUM(K40:T40) -> 0
A41: Site
B42: Driveways | C42: Asphalt | F42: 20 | G42: good condition, some irregularities | I42: monitor yearly | J42: =SUM(K42:T42) -> 5000 | R42: 5000
B43: Pedestrian Paving | C43: Concrete | F43: 40 | G43: good condition, some irregularities | I43: monitor yearly | J43: =SUM(K43:T43) -> 5000 | S43: 5000
...

Sheet I
A1: OPERATIONS & MAINTENANCE BUILDING 2
A2: Facility Condition Assessment
B4: Building: | C4: Building I | G4: Facility Function:
B5: Gross SF: | C5: ='Property Information'!F17 -> 2400 | G5: Maintenance & Vehicle Storage
B6: Date of Visit | C6: ='Property Information'!G17 -> 43481
B7: Year Built: | C7: ='Property Information'!I17 -> 2008
A9: Property Components | C9: Area / Type / Location | D9: * Initial Installation | E9: Renovated Date * | F9: Life Exp. | G9: Comments / Equipment Tag | I9: Improvement Type | J9: Improv. Cost | K9: Recommended Capital Allocation Year & Amount
K10: 2020 | L10: 2021 | M10: 2022 | N10: 2023 | O10: 2024 | P10: 2025 | Q10: 2026 | R10: 2027 | S10: 2028 | T10: 2029
A11: Substructure
B12: Foundations | F12: 100 | G12: good condition | I12: monitor yearly | J12: =SUM(K12:S12) -> 0
B13: Slabs on Grade | F13: 100 | G13: good condition | I13: monitor yearly | J13: =SUM(K13:S13) -> 0
B14: Wood Roof Framing | F14: 50 | G14: good condition | I14: monitor yearly | J14: =SUM(K14:S14) -> 0
B15: Steel Roof Framing | F15: 100 | G15: good condition | I15: monitor yearly | J15: =SUM(K15:S15) -> 0
A16: Exterior Envelope
B17: Exterior Doors | C17: Hollow Metal | F17: 50 | G17: good condition | I17: monitor yearly | J17: =SUM(K17:S17) -> 0
B18: Exterior Door Seals | C18: Rubber | F18: 15 | G18: good condition | I18: monitor yearly | J18: =SUM(K18:S18) -> 0
B19: Exterior Door Thresholds | C19: Aluminum | F19: 30 | G19: good condition | I19: monitor yearly | J19: =SUM(K19:S19) -> 0
B20: Exterior Walls/Cladding | C20: Al uminum Panels | F20: 30 | G20: good condition | I20: monitor yearly | J20: =SUM(K20:S20) -> 0
B21: Caulking at Openings | C21: Silicone, etc. | F21: 14 | G21: good condition | I21: monitor yearly | J21: =SUM(K21:S21) -> 4000 | O21: 4000
B22: Roofing | C22: Standing-Seam Metal | F22: 35 | G22: good condition | I22: monitor yearly | J22: =SUM(K22:S22) -> 0
B23: Roofing | C23: Gutters & Downspouts, soffit fascia | F23: 25 | G23: good condition | I23: monitor yearly | J23: =SUM(K23:S23) -> 0
A24: Interior Construction
B25: Interior Partitions | C25: metal panel | F25: 30 | G25: good condition | I25: monitor yearly | J25: =SUM(K25:S25) -> 0
B26: Interior Partitions | C26: faced insulation | F26: 20 | G26: good condition | I26: monitor yearly | J26: =SUM(K26:S26) -> 0
B27: Interior Doors | C27: Hollow Metal | F27: 80 | G27: good condition | I27: monitor yearly | J27: =SUM(K27:S27) -> 0
A28: Interior Finishes
B29: Floor Finish | C29: Sealed Conc. | F29: 25 | G29: good condition | I29: monitor yearly | J29: =SUM(K29:S29) -> 0
B30: Ceiling Finish | C30: Exposed | F30: 30 | G30: good condition | I30: monitor yearly | J30: =SUM(K30:S30) -> 0
B31: Wall Insulated Panels | C31: faced insulation | F31: 25 | G31: good condition | I31: monitor yearly | J31: =SUM(K31:S31) -> 0
A32: HVAC
B33: Gas fired heaters | C33: Ceiling | F33: 13 | G33: Replace in kind | I33: condition-based maintenance | J33: =SUM(K33:S33) -> 16000 | L33: 16000
A34: Electrical
B35: General electrical | F35: 30 | G35: Replace in kind | I35: corrective maintenance | J35: =SUM(K35:S35) -> 0
B36: Lighting/Control: Interior | F36: 20 | G36: Upgrade to LED Fixtures with wireless controls | I36: condition-based maintenance | J36: =SUM(K36:S36) -> 0
B37: Lighting: Exterior | F37: 20 | G37: Upgrade to LED fixtures | I37: condition-based maintenance | J37: =SUM(K37:S37) -> 0
B38: Branch Wiring | F38: 30 | G38: Replace in kind | I38: corrective maintenance | J38: =SUM(K38:S38) -> 0
B39: Electrical Service/Distribution | F39: 30 | G39: Replace in kind | I39: corrective maintenance | J39: =SUM(K39:S39) -> 0
B40: Fire Alarm | F40: 15 | G40: Replace in kind | I40: corrective maintenance | J40: =SUM(K40:S40) -> 0
B41: Information Technology | F41: 10 | I41: corrective maintenance | J41: =SUM(K41:S41) -> 0
A43: Equipment
...

Sheet J
A1: HELP FOR HOPE BUILDING
A2: Facility Condition Assessment
B4: Building: | C4: Building J | G4: Facility Function:
B5: Gross SF: | C5: ='Property Information'!F18 -> 2560 | G5: Community Food Pantry
B6: Date of Visit | C6: ='Property Information'!G18 -> 43381
B7: Year Built: | C7: ='Property Information'!I18 -> 1969-1993
A9: Property Components | C9: Area / Type / Location | D9: * Initial Installation | E9: Renovated Date * | F9: Life Exp. | G9: Comments / Equipment Tag | I9: Improvement Type | J9: Improv. Cost | K9: Recommended Capital Allocation Year & Amount
K10: 2020 | L10: 2021 | M10: 2022 | N10: 2023 | O10: 2024 | P10: 2025 | Q10: 2026 | R10: 2027 | S10: 2028 | T10: 2029
A11: Substructure
B12: Foundations | C12: Concrete | F12: 100 | G12: good condition | I12: monitor yearly | J12: =SUM(K12:T12) -> 0
B13: Slabs on Grade | C13: Concrete | F13: 100 | G13: good condition | I13: monitor yearly | J13: =SUM(K13:T13) -> 0
A14: Exterior Envelope
B15: Exterior Doors | C15: Wood | F15: 35 | G15: moderate wear | I15: monitor yearly | J15: =SUM(K15:T15) -> 0
B16: Exterior Door Seals | C16: Rubber | F16: 15 | G16: end-of-service life wear | I16: replacement | J16: =SUM(K16:T16) -> 4000 | L16: 4000
B17: Exterior Door Thresholds | C17: Aluminum | F17: 30 | G17: end-of-service life wear | I17: replacement | J17: =SUM(K17:T17) -> 3500 | M17: 3500
B18: Exterior Windows | C18: Wood | F18: 40 | G18: moderate wear | I18: monitor yearly | J18: =SUM(K18:T18) -> 0
B19: Exterior Walls/Cladding | C19: Siding | F19: 30 | G19: moderate wear | I19: monitor yearly | J19: =SUM(K19:T19) -> 3500 | N19: 3500
B20: Caulking at Openings | C20: Silicone, etc. | F20: 14 | G20: end-of-service life wear | I20: replacement | J20: =SUM(K20:T20) -> 4000 | O20: 4000
B21: Fascia | C21: Aluminum | F21: 50 | G21: moderate wear | I21: monitor yearly | J21: =SUM(K21:T21) -> 0
B22: Soffit | C22: Aluminum | F22: 40 | G22: moderate wear | I22: monitor yearly | J22: =SUM(K22:T22) -> 0
B23: Roofing | C23: Asphalt Shingles | F23: 20 | G23: end-of-service life wear | I23: replacement | J23: =SUM(K23:T23) -> 35840 | M23: =C5*14 -> 35840
A24: Interior Construction
B25: Interior Partitions | C25: Stud | F25: 100 | G25: moderate wear | I25: monitor yearly | J25: =SUM(K25:T25) -> 0
B26: Interior Doors | C26: Wood | F26: 60 | G26: moderate wear | I26: monitor yearly | J26: =SUM(K26:T26) -> 0
A27: Interior Finishes
B28: Floor Finish | C28: Carpet | F28: 15 | G28: moderate wear | I28: monitor yearly | J28: =SUM(K28:T28) -> 0
B29: Floor Finish | C29: Ceramic Tile | F29: 40 | G29: moderate wear | I29: monitor yearly | J29: =SUM(K29:T29) -> 0
B30: Ceiling Finish | C30: Gypsum Board | F30: 30 | G30: moderate wear | I30: monitor yearly | J30: =SUM(K30:T30) -> 0
B31: Ceiling Finish | C31: ACT | F31: 25 | G31: some water damaged tiles | I31: monitor yearly, replace as required | J31: =SUM(K31:T31) -> 10000 | L31: 5000 | R31: 5000
B32: Wall Finish | C32: Paint | F32: 10 | G32: moderate wear | I32: monitor yearly | J32: =SUM(K32:T32) -> 6000 | N32: 3000 | Q32: 3000
A33: Interior Miscellaneous
B34: Countertops | C34: Plastic Lam. | F34: 20 | G34: moderate wear | I34: monitor yearly | J34: =SUM(K34:T34) -> 6000 | P34: 3000 | T34: 3000
A35: Plumbing
B36: Plumbing Fixtures | C36: Water Closet | F36: 30 | G36: 2 +/- Count, moderate wear | I36: replace as required | J36: =SUM(K36:T36) -> 4500 | M36: 4500
B37: Plumbing Fixtures | C37: Lavatories | F37: 30 | G37: 4 +/- Count, moderate wear | I37: replace as required | J37: =SUM(K37:T37) -> 6500 | M37: 6500
B38: Plumbing Fixtures | C38: Faucets | F38: 10 | G38: 4 +/- Count, moderate wear | I38: replace as required | J38: =SUM(K38:T38) -> 3000 | M38: 3000
A39: HVAC
B40: Residential type furnace | F40: 18 | G40: moderate wear | I40: planned maintenance | J40: =SUM(K40:T40) -> 7500 | N40: 7500
B41: Residential air conditioner | F41: 18 | G41: moderate wear | I41: planned maintenance | J41: =SUM(K41:T41) -> 8000 | L41: 8000
A42: Electrical
...

Sheet A MECH EQUIPMENT
A2: EARLY CHILDHOOD CENTER
A3: Facility Equipment List - Mechanical
A6: Mechanical Equipment | D6: Manufacturer Information | G6: Operational Capacity | J6: Notes
A8: TAG | B8: RTU-1 | D8: MANUFACTURER | E8: MCQUAY | G8: COOLING CAPACITIES (TONS) | H8: 32 | J8: YEAR MANUFACTURED | K8: 2007
A9: EQUIPMENT | B9: PACKAGED ROOFTOP UNIT | D9: MODEL NUMBER | E9: RPS030CLY | G9: HEATING CAPACITIES (MBH) | H9: NA | J9: PRIORITY | K9: 2
A10: LOCATION | B10: ROOF - AREA B | D10: SERIAL NUMBER | E10: FBOU071200365 | G10: REFRIGERATION TYPE | H10: R-22 | J10: QUANTITY | K10: 1
A11: TAG | B11: RTU-2 | D11: MANUFACTURER | E11: MCQUAY | G11: COOLING CAPACITIES (TONS) | H11: 66 | J11: YEAR MANUFACTURED | K11: 2007
A12: EQUIPMENT | B12: PACKAGED ROOFTOP UNIT | D12: MODEL NUMBER | E12: RPS060CSY | G12: HEATING CAPACITIES (MBH) | H12: NA | J12: PRIORITY | K12: 2
A13: LOCATION | B13: ROOF - AREA A | D13: SERIAL NUMBER | E13: FBOU071200013 | G13: REFRIGERATION TYPE | H13: R-22 | J13: QUANTITY | K13: 1
A14: TAG | B14: RTU-3 | D14: MANUFACTURER | E14: MCQUAY | G14: COOLING CAPACITIES (TONS) | H14: 66 | J14: YEAR MANUFACTURED | K14: 2007
A15: EQUIPMENT | B15: PACKAGED ROOFTOP UNIT | D15: MODEL NUMBER | E15: RPS060CSY | G15: HEATING CAPACITIES (MBH) | H15: NA | J15: PRIORITY | K15: 2
