Workbook
Name EffectiveDates: #REF!
Name Licenses: #REF!
Name Schools: #REF!

Sheet Summary
A1: Item #11'!A1
C5: License Documentation Summary
A6: Employee Name:
A7: School(s):
A8: License For Renewal:
A9: Effective Dates of Current License:
A11: Item # On Plan (use as many as needed) | B11: Select to Jump | C11: Description (Wording From Your IPDP) | D11: Total Hours Completed For This Renewal.
A12: 1
A13: 2
A14: 3
A15: 4
A16: 5
A17: 6
A18: 7
A19: 8
A20: 9
A21: 10
A22: 11
A23: 12
C24: Total Hours For This Renewal: | D24: =SUM(D12:D23) -> 0

Sheet Item #1
A2: Employee:
A3: Item # On Plan : | B3: 1
A4: Description of Plan: | B4: =Summary!C12 -> 0
B5: Total Time Documented For This Item: | C5: =SUM(C8:C101) -> 0
A7: Date(s) of Activity | B7: Description of Activity | C7: Amount of Time Spent On Activity

Sheet Item #2
A2: Employee:
A3: Item # On Plan : | B3: 2
A4: Description of Plan: | B4: =Summary!C13 -> 0
B5: Total Time Documented For This Item: | C5: =SUM(C8:C100) -> 0
A7: Date(s) of Activity | B7: Description of Activity | C7: Amount of Time Spent On Activity

Sheet Item #3
A2: Employee:
A3: Item # On Plan : | B3: 3
A4: Description of Plan: | B4: =Summary!C14 -> 0
B5: Total Time Documented For This Item: | C5: =SUM(C8:C100) -> 0
A7: Date(s) of Activity | B7: Description of Activity | C7: Amount of Time Spent On Activity

Sheet Item #4
A2: Employee:
A3: Item # On Plan : | B3: =Summary!A15 -> 4
A4: Description of Plan: | B4: =Summary!C15 -> 0
B5: Total Time Documented For This Item: | C5: =SUM(C8:C100) -> 0
A7: Date(s) of Activity | B7: Description of Activity | C7: Amount of Time Spent On Activity

Sheet Item #5
A2: Employee:
A3: Item # On Plan : | B3: =Summary!A16 -> 5
A4: Description of Plan: | B4: =Summary!C16 -> 0
B5: Total Time Documented For This Item: | C5: =SUM(C8:C100) -> 0
A7: Date(s) of Activity | B7: Description of Activity | C7: Amount of Time Spent On Activity

Sheet Item #6
A2: Employee:
A3: Item # On Plan : | B3: 6
A4: Description of Plan:
B5: Total Time Documented For This Item: | C5: =SUM(C8:C100) -> 0
A7: Date(s) of Activity | B7: Description of Activity | C7: Amount of Time Spent On Activity

Sheet Item #7
A2: Employee:
A3: Item # On Plan : | B3: =Summary!A18 -> 7
A4: Description of Plan: | B4: =Summary!C18 -> 0
B5: Total Time Documented For This Item: | C5: =SUM(C8:C100) -> 0
A7: Date(s) of Activity | B7: Description of Activity | C7: Amount of Time Spent On Activity

Sheet Item #8
A2: Employee:
A3: Item # On Plan : | B3: =Summary!A19 -> 8
A4: Description of Plan: | B4: =Summary!C19 -> 0
B5: Total Time Documented For This Item: | C5: =SUM(C8:C100) -> 0
A7: Date(s) of Activity | B7: Description of Activity | C7: Amount of Time Spent On Activity

Sheet Sheet1

Sheet Item #9
A2: Employee:
A3: Item # On Plan : | B3: =Summary!A20 -> 9
A4: Description of Plan: | B4: =Summary!C20 -> 0
B5: Total Time Documented For This Item: | C5: =SUM(C8:C100) -> 0
A7: Date(s) of Activity | B7: Description of Activity | C7: Amount of Time Spent On Activity

Sheet Item #10
A2: Employee:
A3: Item # On Plan : | B3: =Summary!A21 -> 10
A4: Description of Plan: | B4: =Summary!C21 -> 0
B5: Total Time Documented For This Item: | C5: =SUM(C8:C100) -> 0
A7: Date(s) of Activity | B7: Description of Activity | C7: Amount of Time Spent On Activity

Sheet Item #11
A2: Employee:
A3: Item # On Plan : | B3: =Summary!A22 -> 11
A4: Description of Plan: | B4: =Summary!C22 -> 0
B5: Total Time Documented For This Item: | C5: =SUM(C8:C100) -> 0
A7: Date(s) of Activity | B7: Description of Activity | C7: Amount of Time Spent On Activity

Sheet Item #12
A2: Employee:
A3: Item # On Plan : | B3: =Summary!A23 -> 12
A4: Description of Plan: | B4: =Summary!C23 -> 0
B5: Total Time Documented For This Item: | C5: =SUM(C8:C100) -> 0
A7: Date(s) of Activity | B7: Description of Activity | C7: Amount of Time Spent On Activity
