Workbook

Sheet Instructions
A1: INSTRUCTIONS
A2: NOTE: THERE ARE INDIVIDUAL TABS AT THE BOTTOM OF THE SPREADSHEET TO FILL IN
A3: STEP ONE: START WITH THE TAB LABELED "CASES PER MENU"
A4: STEP TWO: PROCEED TO THE TAB LABELED "MENU PLANNING & YEARLY ESTIMATE"
H7: 2025-26 YANGS 5TH TASTE COMMODITY CALCULATOR
H8: A518 Chicken Legs Chilled-Bulk
H9: Material ID Number: 100113
C13: TAB "CASES PER MENU"
B16: RA# | H16: DISTRICT
B17: CONTACT | H17: TITLE
B18: ADDRESS | H18: PHONE
B19: CITY/STATE/ZIP | H19: EMAIL
G21: TOTAL POUNDS
B22: Product Code | C22: Description | D22: Net Case Weight | E22: DF#/cs | F22: #svgs/cs | G22: #svgs/ menu | H22: #case/menu | I22: pounds needed
B25: 8-52724-15552-4 | C25: Mandarin Orange Chicken | D25: 43.50 lbs. | E25: 37.78 | F25: 192 | H25: =G25/F25 -> 0 | I25: =+E25*H25 -> 0
B26: 8-52724-15553-1 | C26: Lemon Chicken | D26: 43.50 lbs. | E26: 37.78 | F26: 192 | H26: =G26/F26 -> 0 | I26: =+E26*H26 -> 0
B27: 8-52724-15555-5 | C27: Mandarin Orange Chicken JR | D27: 43.50 lbs. | E27: 37.78 | F27: 192 | H27: =G27/F27 -> 0 | I27: =+E27*H27 -> 0
B28: 8-52724-15551-7 | C28: Sweet & Sour Chicken | D28: 43.50 lbs. | E28: 37.78 | F28: 192 | H28: =G28/F28 -> 0 | I28: =+E28*H28 -> 0
B29: 8-52724-15550-0 | C29: Sweet Chili Thai Chicken | D29: 43.50 lbs. | E29: 37.78 | F29: 192 | H29: =G29/F29 -> 0 | I29: =+E29*H29 -> 0
B30: 8-52724-15563-0 | C30: General Tso's Chicken | D30: 43.50 lbs. | E30: 37.78 | F30: 192 | H30: =G30/F30 -> 0 | I30: =+E30*H30 -> 0
B31: 8-52724-15554-8 | C31: BBQ Teriyaki Chicken | D31: 42 lbs. | E31: 45.92 | F31: 240 | G31: 480 | H31: =G31/F31 -> 2 | I31: =+E31*H31 -> 91.84
B32: 8-52724-15559-3 | C32: Gluten Free BBQ Teriyaki Chicken | D32: 42 lbs. | E32: 45.92 | F32: 240 | H32: =G32/F32 -> 0 | I32: =+E32*H32 -> 0
B33: 8-52724-15556-2 | C33: Spicy Sichuan Chicken | D33: 42 lbs. | E33: 45.92 | F33: 240 | H33: =G33/F33 -> 0 | I33: =+E33*H33 -> 0
B34: 8-52724-15557-9 | C34: Edamame Kung Pao Chicken | D34: 43.50 lbs. | E34: 38.67 | F34: 182 | H34: =G34/F34 -> 0 | I34: =+E34*H34 -> 0
B35: 8-52724-15566-1 | C35: Chicken Nuggets Whole Muscle (NO SAUCE) | D35: 35 lbs. | E35: 44.06 | F35: 224 | H35: =G35/F35 -> 0 | I35: =+E35*H35 -> 0
B36: 8-52724-16667-4 | C36: BBQ Teriyaki Chicken Rice Bowl | D36: 20.25 lbs. | E36: 6.89 | F36: 36 | H36: =G36/F36 -> 0 | I36: =+E36*H36 -> 0
B37: 8-52724-16668-1 | C37: Mandarin Orange Chicken Rice Bowl | D37: 20.25 lbs. | E37: 7.09 | F37: 36 | H37: =G37/F37 -> 0 | I37: =+E37*H37 -> 0
I38: =SUM(I25:I37) -> 91.84
B42: Please Include Shipping Address: | G42: Broker Information:
B44: SHIPPING ADDRESS | G44: BROKER NAME
B46: ADDRESS | G46: ADDRESS
B48: CITY/STATE/ZIP | G48: CITY/STATE/ZIP
B50: CONTACT NAME | G50: CONTACT NAME
B52: PHONE/FAX | G52: PHONE/FAX
B54: EMAIL | G54: EMAIL
C62: TAB "MENU PLANNING & YEARLY ESTIMATE"
D66: NUMBER OF MENUS PER MONTH
B67: Product Code | C67: Description | D67: JUL. | E67: AUG. | F67: SEPT. | G67: OCT. | H67: NOV. | I67: DEC. | J67: JAN. | K67: FEB. | L67: MAR. | M67: APR. | N67: MAY | O67: JUN.
B70: 8-52724-15552-4 | C70: Mandarin Orange Chicken
B71: 8-52724-15553-1 | C71: Lemon Chicken
B72: 8-52724-15555-5 | C72: Mandarin Orange Chicken JR
B73: 8-52724-15551-7 | C73: Sweet & Sour Chicken
B74: 8-52724-15550-0 | C74: Sweet Chili Thai Chicken
B75: 8-52724-15563-0 | C75: General Tso's Chicken
B76: 8-52724-15554-8 | C76: BBQ Teriyaki Chicken | E76: 2 | F76: 1
B77: 8-52724-15559-3 | C77: Gluten Free BBQ Teriyaki Chicken
B78: 8-52724-15556-2 | C78: Spicy Sichuan Chicken
B79: 8-52724-15557-9 | C79: Edamame Kung Pao Chicken
B80: 8-52724-15566-1 | C80: Chicken Nuggets Whole Muscle (NO SAUCE)
B81: 8-52724-16667-4 | C81: BBQ Teriyaki Chicken Rice Bowl
B82: 8-52724-16668-1 | C82: Mandarin Orange Chicken Rice Bowl
C83: Total Menus/Mo. | D83: =SUM(D70:D82) -> 0 | E83: =SUM(E70:E82) -> 2 | F83: =SUM(F70:F82) -> 1 | G83: =SUM(G70:G82) -> 0 | H83: =SUM(H70:H82) -> 0 | I83: =SUM(I70:I82) -> 0 | J83: =SUM(J70:J82) -> 0 | K83: =SUM(K70:K82) -> 0 | ... O83: =SUM(O70:O82) -> 0
D86: NUMBER OF CASES PER MONTH based on number of menus | Q86: TOTAL POUNDS OF DIVERTED CHICKEN
B87: Product Code | C87: Description | D87: JUL. | E87: AUG. | F87: SEPT. | G87: OCT. | H87: NOV. | I87: DEC. | J87: JAN. | K87: FEB. | L87: MAR. | M87: APR. | N87: MAY | O87: JUN. | Q87: Total Cases /Yr | R87: Total #
B90: 8-52724-15552-4 | C90: Mandarin Orange Chicken | D90: =D70*H25 -> 0 | E90: =E70*H25 -> 0 | F90: =F70*H25 -> 0 | G90: =G70*H25 -> 0 | H90: =H70*H25 -> 0 | I90: =I70*H25 -> 0 | J90: =J70*H25 -> 0 | K90: =K70*H25 -> 0 | L90: =L70*H25 -> 0 | M90: =M70*H25 -> 0 | N90: =N70*H25 -> 0 | O90: =O70*H25 -> 0 | Q90: =SUM(D90:O90) -> 0 | R90: =Q90*'Cases Per Menu'!F16 -> 0
B91: 8-52724-15553-1 | C91: Lemon Chicken | D91: =D71*H26 -> 0 | E91: =E71*H26 -> 0 | F91: =F71*H26 -> 0 | G91: =G71*H26 -> 0 | H91: =H71*H26 -> 0 | I91: =I71*H26 -> 0 | J91: =J71*H26 -> 0 | K91: =K71*H26 -> 0 | L91: =L71*H26 -> 0 | M91: =M71*H26 -> 0 | N91: =N71*H26 -> 0 | O91: =O71*H26 -> 0 | Q91: =SUM(D91:O91) -> 0 | R91: =Q91*'Cases Per Menu'!F17 -> 0
B92: 8-52724-15555-5 | C92: Mandarin Orange Chicken JR | D92: =D72*H27 -> 0 | E92: =E72*H27 -> 0 | F92: =F72*H27 -> 0 | G92: =G72*H27 -> 0 | H92: =H72*H27 -> 0 | I92: =I72*H27 -> 0 | J92: =J72*H27 -> 0 | K92: =K72*H27 -> 0 | L92: =L72*H27 -> 0 | M92: =M72*H27 -> 0 | N92: =N72*H27 -> 0 | O92: =O72*H27 -> 0 | Q92: =SUM(D92:O92) -> 0 | R92: =Q92*'Cases Per Menu'!F18 -> 0
B93: 8-52724-15551-7 | C93: Sweet & Sour Chicken | D93: =D73*H28 -> 0 | E93: =E73*H28 -> 0 | F93: =F73*H28 -> 0 | G93: =G73*H28 -> 0 | H93: =H73*H28 -> 0 | I93: =I73*H28 -> 0 | J93: =J73*H28 -> 0 | K93: =K73*H28 -> 0 | L93: =L73*H28 -> 0 | M93: =M73*H28 -> 0 | N93: =N73*H28 -> 0 | O93: =O73*H28 -> 0 | Q93: =SUM(D93:O93) -> 0 | R93: =Q93*'Cases Per Menu'!F19 -> 0
B94: 8-52724-15550-0 | C94: Sweet Chili Thai Chicken | D94: =D74*H29 -> 0 | E94: =E74*H29 -> 0 | F94: =F74*H29 -> 0 | G94: =G74*H29 -> 0 | H94: =H74*H29 -> 0 | I94: =I74*H29 -> 0 | J94: =J74*H29 -> 0 | K94: =K74*H29 -> 0 | L94: =L74*H29 -> 0 | M94: =M74*H29 -> 0 | N94: =N74*H29 -> 0 | O94: =O74*H29 -> 0 | Q94: =SUM(D94:O94) -> 0 | R94: =Q94*'Cases Per Menu'!F20 -> 0
B95: 8-52724-15563-0 | C95: General Tso's Chicken | D95: =D75*H30 -> 0 | E95: =E75*H30 -> 0 | F95: =F75*H30 -> 0 | G95: =G75*H30 -> 0 | H95: =H75*H30 -> 0 | I95: =I75*H30 -> 0 | J95: =J75*H30 -> 0 | K95: =K75*H30 -> 0 | L95: =L75*H30 -> 0 | M95: =M75*H30 -> 0 | N95: =N75*H30 -> 0 | O95: =O75*H30 -> 0 | Q95: =SUM(D95:O95) -> 0 | R95: =Q95*'Cases Per Menu'!F21 -> 0
B96: 8-52724-15554-8 | C96: BBQ Teriyaki Chicken | D96: =D76*H31 -> 0 | E96: =E76*H31 -> 4 | F96: =F76*H31 -> 2 | G96: =G76*H31 -> 0 | H96: =H76*H31 -> 0 | I96: =I76*H31 -> 0 | J96: =J76*H31 -> 0 | K96: =K76*H31 -> 0 | L96: =L76*H31 -> 0 | M96: =M76*H31 -> 0 | N96: =N76*H31 -> 0 | O96: =O76*H31 -> 0 | Q96: =SUM(D96:O96) -> 6 | R96: =Q96*'Cases Per Menu'!F22 -> 275.52
B97: 8-52724-15559-3 | C97: Gluten Free BBQ Teriyaki Chicken | D97: =D77*H32 -> 0 | E97: =E77*H32 -> 0 | F97: =F77*H32 -> 0 | G97: =G77*H32 -> 0 | H97: =H77*H32 -> 0 | I97: =I77*H32 -> 0 | J97: =J77*H32 -> 0 | K97: =K77*H32 -> 0 | L97: =L77*H32 -> 0 | M97: =M77*H32 -> 0 | N97: =N77*H32 -> 0 | O97: =O77*H32 -> 0 | Q97: =SUM(D97:O97) -> 0 | R97: =Q97*'Cases Per Menu'!F23 -> 0
B98: 8-52724-15556-2 | C98: Spicy Sichuan Chicken | D98: =D78*H33 -> 0 | E98: =E78*H33 -> 0 | F98: =F78*H33 -> 0 | G98: =G78*H33 -> 0 | H98: =H78*H33 -> 0 | I98: =I78*H33 -> 0 | J98: =J78*H33 -> 0 | K98: =K78*H33 -> 0 | L98: =L78*H33 -> 0 | M98: =M78*H33 -> 0 | N98: =N78*H33 -> 0 | O98: =O78*H33 -> 0 | Q98: =SUM(D98:O98) -> 0 | R98: =Q98*'Cases Per Menu'!F24 -> 0
B99: 8-52724-15557-9 | C99: Edamame Kung Pao Chicken | D99: =D79*H34 -> 0 | E99: =E79*H34 -> 0 | F99: =F79*H34 -> 0 | G99: =G79*H34 -> 0 | H99: =H79*H34 -> 0 | I99: =I79*H34 -> 0 | J99: =J79*H34 -> 0 | K99: =K79*H34 -> 0 | L99: =L79*H34 -> 0 | M99: =M79*H34 -> 0 | N99: =N79*H34 -> 0 | O99: =O79*H34 -> 0 | Q99: =SUM(D99:O99) -> 0 | R99: =Q99*'Cases Per Menu'!F25 -> 0
B100: 8-52724-15566-1 | C100: Chicken Nuggets Whole Muscle (NO SAUCE) | D100: =D80*H35 -> 0 | E100: =E80*H35 -> 0 | F100: =F80*H35 -> 0 | G100: =G80*H35 -> 0 | H100: =H80*H35 -> 0 | I100: =I80*H35 -> 0 | J100: =J80*H35 -> 0 | K100: =K80*H35 -> 0 | L100: =L80*H35 -> 0 | M100: =M80*H35 -> 0 | N100: =N80*H35 -> 0 | O100: =O80*H35 -> 0 | Q100: =SUM(D100:O100) -> 0 | R100: =Q100*'Cases Per Menu'!F24 -> 0
B101: 8-52724-16667-4 | C101: BBQ Teriyaki Chicken Rice Bowl | D101: =D81*H36 -> 0 | E101: =E81*H36 -> 0 | F101: =F81*H36 -> 0 | G101: =G81*H36 -> 0 | H101: =H81*H36 -> 0 | I101: =I81*H36 -> 0 | J101: =J81*H36 -> 0 | K101: =K81*H36 -> 0 | L101: =L81*H36 -> 0 | M101: =M81*H36 -> 0 | N101: =N81*H36 -> 0 | O101: =O81*H36 -> 0 | Q101: =SUM(D101:O101) -> 0 | R101: =Q101*'Cases Per Menu'!F27 -> 0
B102: 8-52724-16668-1 | C102: Mandarin Orange Chicken Rice Bowl | D102: =D82*H37 -> 0 | E102: =E82*H37 -> 0 | F102: =F82*H37 -> 0 | G102: =G82*H37 -> 0 | H102: =H82*H37 -> 0 | I102: =I82*H37 -> 0 | J102: =J82*H37 -> 0 | K102: =K82*H37 -> 0 | L102: =L82*H37 -> 0 | M102: =M82*H37 -> 0 | N102: =N82*H37 -> 0 | O102: =O82*H37 -> 0 | Q102: =SUM(D102:O102) -> 0 | R102: =Q102*'Cases Per Menu'!F28 -> 0
C103: Total Cases/Mo. | D103: =SUM(D90:D102) -> 0 | E103: =SUM(E90:E102) -> 4 | F103: =SUM(F90:F102) -> 2 | G103: =SUM(G90:G102) -> 0 | H103: =SUM(H90:H102) -> 0 | I103: =SUM(I90:I102) -> 0 | J103: =SUM(J90:J102) -> 0 | K103: =SUM(K90:K102) -> 0 | ... O103: =SUM(O90:O102) -> 0 | Q103: =SUM(D103:O103) -> 6 | R103: =SUM(R90:R102) -> 275.52
Q104: Total Diverted
Q105: Difference | R105: =R104-R103 -> -275.52

Sheet Cases Per Menu
C2: 2025-26 YANGS 5TH TASTE COMMODITY CALCULATOR
C3: A518 Chicken Legs Chilled-Bulk
C4: Material ID Number: 100113
B7: RA# | G7: DISTRICT
B8: CONTACT | G8: TITLE
B9: ADDRESS | G9: PHONE
B10: CITY/STATE/ZIP | G10: EMAIL
G12: TOTAL POUNDS
B13: Product Code | C13: Description | D13: Cases per Pallet | E13: Net Case Weight | F13: DF#/cs | G13: #svgs/cs | H13: #svgs/ menu Required | I13: #case/menu | J13: pounds needed
B16: 8-52724-15552-4 | C16: Mandarin Orange Chicken | D16: 35 | E16: 43.50 lbs. | F16: 37.78 | G16: 192 | H16: 192 | I16: =ROUNDUP(H16/G16,0) -> 1 | J16: =+F16*I16 -> 37.78
B17: 8-52724-15553-1 | C17: Lemon Chicken | D17: 35 | E17: 43.50 lbs. | F17: 37.78 | G17: 192 | I17: =ROUNDUP(H17/G17,0) -> 0 | J17: =+F17*I17 -> 0
B18: 8-52724-15555-5 | C18: Mandarin Orange Chicken JR | D18: 35 | E18: 43.50 lbs. | F18: 37.78 | G18: 192 | I18: =ROUNDUP(H18/G18,0) -> 0 | J18: =+F18*I18 -> 0
B19: 8-52724-15551-7 | C19: Sweet & Sour Chicken | D19: 35 | E19: 43.50 lbs. | F19: 37.78 | G19: 192 | H19: 192 | I19: =ROUNDUP(H19/G19,0) -> 1 | J19: =+F19*I19 -> 37.78
B20: 8-52724-15550-0 | C20: Sweet Chili Thai Chicken | D20: 35 | E20: 43.50 lbs. | F20: 37.78 | G20: 192 | I20: =ROUNDUP(H20/G20,0) -> 0 | J20: =+F20*I20 -> 0
B21: 8-52724-15563-0 | C21: General Tso's Chicken | D21: 35 | E21: 43.50 lbs. | F21: 37.78 | G21: 192 | I21: =ROUNDUP(H21/G21,0) -> 0 | J21: =+F21*I21 -> 0
B22: 8-52724-15554-8 | C22: BBQ Teriyaki Chicken | D22: 35 | E22: 42 lbs. | F22: 45.92 | G22: 240 | H22: 240 | I22: =ROUNDUP(H22/G22,0) -> 1 | J22: =+F22*I22 -> 45.92
B23: 8-52724-15559-3 | C23: Gluten Free BBQ Teriyaki Chicken | D23: 35 | E23: 42 lbs. | F23: 45.92 | G23: 240 | I23: =ROUNDUP(H23/G23,0) -> 0 | J23: =+F23*I23 -> 0
B24: 8-52724-15556-2 | C24: Spicy Sichuan Chicken | D24: 35 | E24: 42 lbs. | F24: 45.92 | G24: 240 | I24: =ROUNDUP(H24/G24,0) -> 0 | J24: =+F24*I24 -> 0
B25: 8-52724-15557-9 | C25: Edamame Kung Pao Chicken | D25: 35 | E25: 43.50 lbs. | F25: 38.67 | G25: 182 | I25: =ROUNDUP(H25/G25,0) -> 0 | J25: =+F25*I25 -> 0
B26: 8-52724-15566-1 | C26: Chicken Nuggets Whole Muscle (NO SAUCE) | D26: 35 | E26: 35 lbs. | F26: 44.06 | G26: 224 | I26: =ROUNDUP(H26/G26,0) -> 0 | J26: =+F26*I26 -> 0
B27: 8-52724-16667-4 | C27: BBQ Teriyaki Chicken Rice Bowl | D27: 42 | E27: 20.25 lbs. | F27: 6.89 | G27: 36 | I27: =ROUNDUP(H27/G27,0) -> 0 | J27: =+F27*I27 -> 0
B28: 8-52724-16668-1 | C28: Mandarin Orange Chicken Rice Bowl | D28: 42 | E28: 20.25 lbs. | F28: 7.09 | G28: 36 | I28: =ROUNDUP(H28/G28,0) -> 0 | J28: =+F28*I28 -> 0
I29: =SUM(I16:I28) -> 3 | J29: =SUM(J16:J28) -> 121.48
B32: Please Include Shipping Address: | G32: Broker Information:
B34: SHIPPING ADDRESS | G34: BROKER NAME
B36: ADDRESS | G36: ADDRESS
B38: CITY/STATE/ZIP | G38: CITY/STATE/ZIP
B40: CONTACT NAME | G40: CONTACT NAME
B42: PHONE/FAX | G42: PHONE/FAX
B44: EMAIL | G44: EMAIL
B47: Yangs 5th Taste
B48: Phone: 1 (855) 622-6380
B49: http://www.yangs5thtaste.com/

Sheet Menu Planning & Yearly Estimate
F3: 2025-26 YANGS 5TH TASTE COMMODITY CALCULATOR
F4: A518 Chicken Legs Chilled-Bulk
F5: Material ID Number: 100113
D8: NUMBER OF MENUS PER MONTH
B9: Product Code | C9: Description | D9: JUL. | E9: AUG. | F9: SEPT. | G9: OCT. | H9: NOV. | I9: DEC. | J9: JAN. | K9: FEB. | L9: MAR. | M9: APR. | N9: MAY | O9: JUN.
B12: 8-52724-15552-4 | C12: Mandarin Orange Chicken | D12: 3 | F12: 3 | H12: 3 | J12: 3
B13: 8-52724-15553-1 | C13: Lemon Chicken
B14: 8-52724-15555-5 | C14: Mandarin Orange Chicken JR
B15: 8-52724-15551-7 | C15: Sweet & Sour Chicken | D15: 5 | F15: 5 | H15: 5 | J15: 5
B16: 8-52724-15550-0 | C16: Sweet Chili Thai Chicken
B17: 8-52724-15563-0 | C17: General Tso's Chicken
B18: 8-52724-15554-8 | C18: BBQ Teriyaki Chicken | D18: 6 | F18: 6 | H18: 6 | J18: 6
B19: 8-52724-15559-3 | C19: Gluten Free BBQ Teriyaki Chicken
B20: 8-52724-15556-2 | C20: Spicy Sichuan Chicken
B21: 8-52724-15557-9 | C21: Edamame Kung Pao Chicken
B22: 8-52724-15566-1 | C22: Chicken Nuggets Whole Muscle (NO SAUCE)
B23: 8-52724-16667-4 | C23: BBQ Teriyaki Chicken Rice Bowl
B24: 8-52724-16668-1 | C24: Mandarin Orange Chicken Rice Bowl
C25: Total Menus/Mo. | D25: =SUM(D12:D24) -> 14 | E25: =SUM(E12:E24) -> 0 | F25: =SUM(F12:F24) -> 14 | G25: =SUM(G12:G24) -> 0 | H25: =SUM(H12:H24) -> 14 | I25: =SUM(I12:I24) -> 0 | J25: =SUM(J12:J24) -> 14 | K25: =SUM(K12:K24) -> 0 | ... O25: =SUM(O12:O24) -> 0
D28: NUMBER OF CASES PER MONTH based on number of menus | Q28: TOTAL POUNDS OF DIVERTED CHICKEN
B29: Product Code | C29: Description | D29: JUL. | E29: AUG. | F29: SEPT. | G29: OCT. | H29: NOV. | I29: DEC. | J29: JAN. | K29: FEB. | L29: MAR. | M29: APR. | N29: MAY | O29: JUN. | Q29: Total Cases /Yr | R29: Total #
B32: 8-52724-15552-4 | C32: Mandarin Orange Chicken | D32: =D12*'Cases Per Menu'!I16 -> 3 | E32: =E12*'Cases Per Menu'!I16 -> 0 | F32: =F12*'Cases Per Menu'!I16 -> 3 | G32: =G12*'Cases Per Menu'!I16 -> 0 | H32: =H12*'Cases Per Menu'!I16 -> 3 | I32: =I12*'Cases Per Menu'!I16 -> 0 | J32: =J12*'Cases Per Menu'!I16 -> 3 | K32: =K12*'Cases Per Menu'!I16 -> 0 | L32: =L12*'Cases Per Menu'!I16 -> 0 | M32: =M12*'Cases Per Menu'!I16 -> 0 | N32: =N12*'Cases Per Menu'!I16 -> 0 | O32: =O12*'Cases Per Menu'!I16 -> 0 | Q32: =SUM(D32:O32) -> 12 | R32: =Q32*'Cases Per Menu'!F16 -> 453.36
B33: 8-52724-15553-1 | C33: Lemon Chicken | D33: =D13*'Cases Per Menu'!I17 -> 0 | E33: =E13*'Cases Per Menu'!I17 -> 0 | F33: =F13*'Cases Per Menu'!I17 -> 0 | G33: =G13*'Cases Per Menu'!I17 -> 0 | H33: =H13*'Cases Per Menu'!I17 -> 0 | I33: =I13*'Cases Per Menu'!I17 -> 0 | J33: =J13*'Cases Per Menu'!I17 -> 0 | K33: =K13*'Cases Per Menu'!I17 -> 0 | L33: =L13*'Cases Per Menu'!I17 -> 0 | M33: =M13*'Cases Per Menu'!I17 -> 0 | N33: =N13*'Cases Per Menu'!I17 -> 0 | O33: =O13*'Cases Per Menu'!I17 -> 0 | Q33: =SUM(D33:O33) -> 0 | R33: =Q33*'Cases Per Menu'!F17 -> 0
B34: 8-52724-15555-5 | C34: Mandarin Orange Chicken JR | D34: =D14*'Cases Per Menu'!I18 -> 0 | E34: =E14*'Cases Per Menu'!I18 -> 0 | F34: =F14*'Cases Per Menu'!I18 -> 0 | G34: =G14*'Cases Per Menu'!I18 -> 0 | H34: =H14*'Cases Per Menu'!I18 -> 0 | I34: =I14*'Cases Per Menu'!I18 -> 0 | J34: =J14*'Cases Per Menu'!I18 -> 0 | K34: =K14*'Cases Per Menu'!I18 -> 0 | L34: =L14*'Cases Per Menu'!I18 -> 0 | M34: =M14*'Cases Per Menu'!I18 -> 0 | N34: =N14*'Cases Per Menu'!I18 -> 0 | O34: =O14*'Cases Per Menu'!I18 -> 0 | Q34: =SUM(D34:O34) -> 0 | R34: =Q34*'Cases Per Menu'!F18 -> 0
B35: 8-52724-15551-7 | C35: Sweet & Sour Chicken | D35: =D15*'Cases Per Menu'!I19 -> 5 | E35: =E15*'Cases Per Menu'!I19 -> 0 | F35: =F15*'Cases Per Menu'!I19 -> 5 | G35: =G15*'Cases Per Menu'!I19 -> 0 | H35: =H15*'Cases Per Menu'!I19 -> 5 | I35: =I15*'Cases Per Menu'!I19 -> 0 | J35: =J15*'Cases Per Menu'!I19 -> 5 | K35: =K15*'Cases Per Menu'!I19 -> 0 | L35: =L15*'Cases Per Menu'!I19 -> 0 | M35: =M15*'Cases Per Menu'!I19 -> 0 | N35: =N15*'Cases Per Menu'!I19 -> 0 | O35: =O15*'Cases Per Menu'!I19 -> 0 | Q35: =SUM(D35:O35) -> 20 | R35: =Q35*'Cases Per Menu'!F19 -> 755.6
B36: 8-52724-15550-0 | C36: Sweet Chili Thai Chicken | D36: =D16*'Cases Per Menu'!I20 -> 0 | E36: =E16*'Cases Per Menu'!I20 -> 0 | F36: =F16*'Cases Per Menu'!I20 -> 0 | G36: =G16*'Cases Per Menu'!I20 -> 0 | H36: =H16*'Cases Per Menu'!I20 -> 0 | I36: =I16*'Cases Per Menu'!I20 -> 0 | J36: =J16*'Cases Per Menu'!I20 -> 0 | K36: =K16*'Cases Per Menu'!I20 -> 0 | L36: =L16*'Cases Per Menu'!I20 -> 0 | M36: =M16*'Cases Per Menu'!I20 -> 0 | N36: =N16*'Cases Per Menu'!I20 -> 0 | O36: =O16*'Cases Per Menu'!I20 -> 0 | Q36: =SUM(D36:O36) -> 0 | R36: =Q36*'Cases Per Menu'!F20 -> 0
B37: 8-52724-15563-0 | C37: General Tso's Chicken | D37: =D17*'Cases Per Menu'!I21 -> 0 | E37: =E17*'Cases Per Menu'!I21 -> 0 | F37: =F17*'Cases Per Menu'!I21 -> 0 | G37: =G17*'Cases Per Menu'!I21 -> 0 | H37: =H17*'Cases Per Menu'!I21 -> 0 | I37: =I17*'Cases Per Menu'!I21 -> 0 | J37: =J17*'Cases Per Menu'!I21 -> 0 | K37: =K17*'Cases Per Menu'!I21 -> 0 | L37: =L17*'Cases Per Menu'!I21 -> 0 | M37: =M17*'Cases Per Menu'!I21 -> 0 | N37: =N17*'Cases Per Menu'!I21 -> 0 | O37: =O17*'Cases Per Menu'!I21 -> 0 | Q37: =SUM(D37:O37) -> 0 | R37: =Q37*'Cases Per Menu'!F21 -> 0
B38: 8-52724-15554-8 | C38: BBQ Teriyaki Chicken | D38: =D18*'Cases Per Menu'!I22 -> 6 | E38: =E18*'Cases Per Menu'!I22 -> 0 | F38: =F18*'Cases Per Menu'!I22 -> 6 | G38: =G18*'Cases Per Menu'!I22 -> 0 | H38: =H18*'Cases Per Menu'!I22 -> 6 | I38: =I18*'Cases Per Menu'!I22 -> 0 | J38: =J18*'Cases Per Menu'!I22 -> 6 | K38: =K18*'Cases Per Menu'!I22 -> 0 | L38: =L18*'Cases Per Menu'!I22 -> 0 | M38: =M18*'Cases Per Menu'!I22 -> 0 | N38: =N18*'Cases Per Menu'!I22 -> 0 | O38: =O18*'Cases Per Menu'!I22 -> 0 | Q38: =SUM(D38:O38) -> 24 | R38: =Q38*'Cases Per Menu'!F22 -> 1102.08
B39: 8-52724-15559-3 | C39: Gluten Free BBQ Teriyaki Chicken | D39: =D19*'Cases Per Menu'!I23 -> 0 | E39: =E19*'Cases Per Menu'!I23 -> 0 | F39: =F19*'Cases Per Menu'!I23 -> 0 | G39: =G19*'Cases Per Menu'!I23 -> 0 | H39: =H19*'Cases Per Menu'!I23 -> 0 | I39: =I19*'Cases Per Menu'!I23 -> 0 | J39: =J19*'Cases Per Menu'!I23 -> 0 | K39: =K19*'Cases Per Menu'!I23 -> 0 | L39: =L19*'Cases Per Menu'!I23 -> 0 | M39: =M19*'Cases Per Menu'!I23 -> 0 | N39: =N19*'Cases Per Menu'!I23 -> 0 | O39: =O19*'Cases Per Menu'!I23 -> 0 | Q39: =SUM(D39:O39) -> 0 | R39: =Q39*'Cases Per Menu'!F23 -> 0
B40: 8-52724-15556-2 | C40: Spicy Sichuan Chicken | D40: =D20*'Cases Per Menu'!I24 -> 0 | E40: =E20*'Cases Per Menu'!I24 -> 0 | F40: =F20*'Cases Per Menu'!I24 -> 0 | G40: =G20*'Cases Per Menu'!I24 -> 0 | H40: =H20*'Cases Per Menu'!I24 -> 0 | I40: =I20*'Cases Per Menu'!I24 -> 0 | J40: =J20*'Cases Per Menu'!I24 -> 0 | K40: =K20*'Cases Per Menu'!I24 -> 0 | L40: =L20*'Cases Per Menu'!I24 -> 0 | M40: =M20*'Cases Per Menu'!I24 -> 0 | N40: =N20*'Cases Per Menu'!I24 -> 0 | O40: =O20*'Cases Per Menu'!I24 -> 0 | Q40: =SUM(D40:O40) -> 0 | R40: =Q40*'Cases Per Menu'!F24 -> 0
B41: 8-52724-15557-9 | C41: Edamame Kung Pao Chicken | D41: =D21*'Cases Per Menu'!I25 -> 0 | E41: =E21*'Cases Per Menu'!I25 -> 0 | F41: =F21*'Cases Per Menu'!I25 -> 0 | G41: =G21*'Cases Per Menu'!I25 -> 0 | H41: =H21*'Cases Per Menu'!I25 -> 0 | I41: =I21*'Cases Per Menu'!I25 -> 0 | J41: =J21*'Cases Per Menu'!I25 -> 0 | K41: =K21*'Cases Per Menu'!I25 -> 0 | L41: =L21*'Cases Per Menu'!I25 -> 0 | M41: =M21*'Cases Per Menu'!I25 -> 0 | N41: =N21*'Cases Per Menu'!I25 -> 0 | O41: =O21*'Cases Per Menu'!I25 -> 0 | Q41: =SUM(D41:O41) -> 0 | R41: =Q41*'Cases Per Menu'!F25 -> 0
B42: 8-52724-15566-1 | C42: Chicken Nuggets Whole Muscle (NO SAUCE) | D42: =D22*'Cases Per Menu'!I26 -> 0 | E42: =E22*'Cases Per Menu'!I26 -> 0 | F42: =F22*'Cases Per Menu'!I26 -> 0 | G42: =G22*'Cases Per Menu'!I26 -> 0 | H42: =H22*'Cases Per Menu'!I26 -> 0 | I42: =I22*'Cases Per Menu'!I26 -> 0 | J42: =J22*'Cases Per Menu'!I26 -> 0 | K42: =K22*'Cases Per Menu'!I26 -> 0 | L42: =L22*'Cases Per Menu'!I26 -> 0 | M42: =M22*'Cases Per Menu'!I26 -> 0 | N42: =N22*'Cases Per Menu'!I26 -> 0 | O42: =O22*'Cases Per Menu'!I26 -> 0 | Q42: =SUM(D42:O42) -> 0 | R42: =Q42*'Cases Per Menu'!F26 -> 0
B43: 8-52724-16667-4 | C43: BBQ Teriyaki Chicken Rice Bowl | D43: =D23*'Cases Per Menu'!I27 -> 0 | E43: =E23*'Cases Per Menu'!I27 -> 0 | F43: =F23*'Cases Per Menu'!I27 -> 0 | G43: =G23*'Cases Per Menu'!I27 -> 0 | H43: =H23*'Cases Per Menu'!I27 -> 0 | I43: =I23*'Cases Per Menu'!I27 -> 0 | J43: =J23*'Cases Per Menu'!I27 -> 0 | K43: =K23*'Cases Per Menu'!I27 -> 0 | L43: =L23*'Cases Per Menu'!I27 -> 0 | M43: =M23*'Cases Per Menu'!I27 -> 0 | N43: =N23*'Cases Per Menu'!I27 -> 0 | O43: =O23*'Cases Per Menu'!I27 -> 0 | Q43: =SUM(D43:O43) -> 0 | R43: =Q43*'Cases Per Menu'!F27 -> 0
B44: 8-52724-16668-1 | C44: Mandarin Orange Chicken Rice Bowl | D44: =D24*'Cases Per Menu'!I28 -> 0 | E44: =E24*'Cases Per Menu'!I28 -> 0 | F44: =F24*'Cases Per Menu'!I28 -> 0 | G44: =G24*'Cases Per Menu'!I28 -> 0 | H44: =H24*'Cases Per Menu'!I28 -> 0 | I44: =I24*'Cases Per Menu'!I28 -> 0 | J44: =J24*'Cases Per Menu'!I28 -> 0 | K44: =K24*'Cases Per Menu'!I28 -> 0 | L44: =L24*'Cases Per Menu'!I28 -> 0 | M44: =M24*'Cases Per Menu'!I28 -> 0 | N44: =N24*'Cases Per Menu'!I28 -> 0 | O44: =O24*'Cases Per Menu'!I28 -> 0 | Q44: =SUM(D44:O44) -> 0 | R44: =Q44*'Cases Per Menu'!F28 -> 0
C45: Total Cases/Mo. | D45: =SUM(D32:D44) -> 14 | E45: =SUM(E32:E44) -> 0 | F45: =SUM(F32:F44) -> 14 | G45: =SUM(G32:G44) -> 0 | H45: =SUM(H32:H44) -> 14 | I45: =SUM(I32:I44) -> 0 | J45: =SUM(J32:J44) -> 14 | K45: =SUM(K32:K44) -> 0 | ... O45: =SUM(O32:O44) -> 0 | Q45: =SUM(D45:O45) -> 56 | R45: =SUM(R32:R44) -> 2311.04
Q46: Total Diverted
Q47: Difference | R47: =R46-R45 -> -2311.04
