Workbook

Sheet Cover
B8: Lewisville Independent School District
B18: Adopted Budget
B20: For The
B22: 2019-2020
B24: Fiscal Year
B26: (Fiscal Year Ending August 31, 2020)
B34: Adopted by Board of School Trustees
B35: 43703

Sheet comb funds by func
B1: Lewisville Independent School District
B2: Combined Funds - General, Food Service, and Debt Service
B3: Adopted Budget for the Fiscal Year Ending August 31, 2020
C7: General | E7: Food Service | G7: Debt Service
C8: Fund | E8: Fund | G8: Fund
B9: Revenues
B10: Property Tax Revenue | C10: =+'GF Rev by Obj'!H8+'GF Rev by Obj'!H9+'GF Rev by Obj'!H10 -> 412745478 | E10: 0 | G10: ='DS Fund'!I11 -> 154670322
B11: Other Local Revenue | C11: =+'GF Rev by Obj'!H24-'comb funds by func'!C10 -> 15624315 | E11: ='FS Fund'!I12 -> 11377172 | G11: =SUM('DS Fund'!I12:I14) -> 700000
B12: State Revenue | C12: =+'GF Rev by Obj'!H33 -> 54426648 | E12: ='FS Fund'!I15 -> 113089 | G12: ='DS Fund'!I17 -> 0
B13: Federal Revenue | C13: =+'GF Rev by Obj'!H42 -> 6699000 | E13: ='FS Fund'!I25 -> 13834076 | G13: ='DS Fund'!I20 -> 493490
B14: Total Revenues | C14: =SUM(C10:C13) -> 489495441 | E14: =SUM(E10:E13) -> 25324337 | G14: =SUM(G10:G13) -> 155863812
B16: Expenditures
A17: 11 | B17: Instruction | C17: =+'GF by funct'!F16 -> 293273194 | E17: 0 | G17: 0
A18: 12 | B18: Instructional Resources & Media Services | C18: =+'GF by funct'!F17 -> 6465934 | E18: 0 | G18: 0
A19: 13 | B19: Curriculum & Staff Development | C19: =+'GF by funct'!F18 -> 2414835 | E19: 0 | G19: 0
A20: 21 | B20: Instruction Leadership | C20: =+'GF by funct'!F19 -> 11003797 | E20: 0 | G20: 0
A21: 23 | B21: School Leadership | C21: =+'GF by funct'!F20 -> 31911220 | E21: 0 | G21: 0
A22: 31 | B22: Guidance, Counseling, & Evaluation Services | C22: =+'GF by funct'!F21 -> 23375391 | E22: 0 | G22: 0
A23: 32 | B23: Social Work Services | C23: =+'GF by funct'!F22 -> 238327 | E23: 0 | G23: 0
A24: 33 | B24: Health Services | C24: =+'GF by funct'!F23 -> 5594606 | E24: 0 | G24: 0
A25: 34 | B25: Student Transportation | C25: =+'GF by funct'!F24 -> 16090184 | E25: 0 | G25: 0
A26: 35 | B26: Food Service | C26: =+'GF by funct'!F25 -> 36646 | E26: 24244616 | G26: 0
A27: 36 | B27: Cocurricular/Extracurricular Activities | C27: =+'GF by funct'!F26 -> 12216127 | E27: 0 | G27: 0
A28: 41 | B28: General Administration | C28: =+'GF by funct'!F27 -> 11153664 | E28: 0 | G28: 0
... A32: 61 | B32: Community Services | C32: =+'GF by funct'!F31 -> 8804966 | E32: 0 | G32: 0
A33: 71 | B33: Debt Service | C33: =+'GF by funct'!F32 -> 0 | E33: 0 | G33: =SUM('DS Fund'!I25:I27) -> 148061520
A34: 81 | B34: Facilities Acquisition and Construction | C34: =+'GF by funct'!F33 -> 0 | E34: 0 | G34: 0
A35: 91 | B35: Contracted Services Between Public Schools | C35: ='GF by funct'!F34 -> 18603784 | E35: 0 | G35: 0
A36: 93 | B36: Payments to Fiscal Agents/Shared Service | C36: =+'GF by funct'!F35 -> 210000 | E36: 0 | G36: 0
A37: 95 | B37: Juvenile Justice Alternative Ed. Program | C37: =+'GF by funct'!F36 -> 200000 | E37: 0 | G37: 0
A38: 99 | B38: Other Intergovernmental Charges | C38: =+'GF by funct'!F37 -> 3662088 | E38: 0 | G38: 0
B39: Total Expenditures | C39: =SUM(C17:C38) -> 504233482 | E39: =SUM(E17:E38) -> 25324337 | G39: =SUM(G17:G38) -> 148061520
B42: Excess(Deficiencies)
B43: Revenue over Expenditures | C43: =+C14-C39 -> -14738041 | E43: =+E14-E39 -> 0 | G43: =+G14-G39 -> 7802292
B45: Other Financing Resources ( Uses)
B46: Other Resources | C46: 0 | E46: 0
B47: Other Uses | C47: 0 | E47: 0
B48: Total Other Financing Resources (Uses) | C48: =+C46-C47 -> 0 | E48: =+E46-E47 -> 0 | G48: =+G46-G47 -> 0
B51: Excess (Deficiencies) of Revenues
B52: Over Expenditures | C52: =+C43+C48 -> -14738041 | E52: =+E43+E48 -> 0 | G52: =+G43+G48 -> 7802292
...

Sheet Cover Supporting Sch
B15: Supporting Schedules For
B18: Adopted Budget
B20: For The
B22: 2019-2020
B24: Fiscal Year
B26: (Fiscal Year Ending August 31, 2020)

Sheet GF by funct
B1: Lewisville Independent School District
B2: General Fund
G3: Change from
G4: 2018-19 Adopted
C5: Audited | G5: Budget to
C6: Actual | D6: Adopted Budget | E6: Projected Actual | F6: Adopted Budget | G6: 2019-20
C7: FY 2017-18 | D7: FY 2018-19 | E7: FY 2016-17 | F7: FY 2019-20 | G7: Adopted Budget
B8: Revenues
B9: Property Tax Revenue | C9: =ROUND(SUM('GF Rev by Obj'!C8:C10),0) -> 374957404 | D9: =ROUND(SUM('GF Rev by Obj'!E8:E10),0) -> 404932518 | E9: =+'GF Rev by Obj'!G8+'GF Rev by Obj'!G9+'GF Rev by Obj'!G10 -> 3.4010626e+08 | F9: =ROUND(SUM('GF Rev by Obj'!H8:H10),0) -> 412745478 | G9: =+F9-D9 -> 7812960
B10: Other Local Revenue | C10: =ROUND(SUM('GF Rev by Obj'!C11:C23),0) -> 14176407 | D10: =ROUND(SUM('GF Rev by Obj'!E11:E23),0) -> 14053070 | E10: =+'GF Rev by Obj'!G24-'GF by funct'!E9 -> 10688133 | F10: =ROUND(SUM('GF Rev by Obj'!H11:H23),0) -> 15624315 | G10: =+F10-D10 -> 1571245
B11: State Revenue | C11: =ROUND(SUM('GF Rev by Obj'!C27:C32),0) -> 62258259 | D11: =ROUND(SUM('GF Rev by Obj'!E27:E32),0) -> 64797332 | E11: =+'GF Rev by Obj'!G33 -> 68640251 | F11: =ROUND(SUM('GF Rev by Obj'!H27:H32),0) -> 54426648 | G11: =+F11-D11 -> -10370684
B12: Federal Revenue | C12: =ROUND(SUM('GF Rev by Obj'!C36:C41),0) -> 7094983 | D12: =SUM('GF Rev by Obj'!E36:E41) -> 6199000 | E12: =+'GF Rev by Obj'!G42 -> 6607038.5 | F12: =ROUND(SUM('GF Rev by Obj'!H36:H41),0) -> 6699000 | G12: =+F12-D12 -> 500000
B13: Total Revenues | C13: =SUM(C9:C12) -> 458487053 | D13: =SUM(D9:D12) -> 489981920 | E13: =SUM(E9:E12) -> 4.2604168e+08 | F13: =SUM(F9:F12) -> 489495441 | G13: =SUM(G9:G12) -> -486479
B15: Expenditures
A16: 11 | B16: Instruction | C16: 295395689 | D16: ='GF exp by funct and maj obj'!C14 -> 283320720 | E16: =250400383.36+1130569.45+209709.09 -> 2.5174066e+08 | F16: ='GF exp by funct and maj obj'!E14 -> 293273194 | G16: =+F16-D16 -> 9952474
A17: 12 | B17: Instructional Resources & Media Services | C17: 6704398 | D17: ='GF exp by funct and maj obj'!C21 -> 5825228 | E17: =5814724.33+25963.26 -> 5840687.6 | F17: ='GF exp by funct and maj obj'!E21 -> 6465934 | G17: =+F17-D17 -> 640706
A18: 13 | B18: Curriculum & Staff Development | C18: 2314061 | D18: ='GF exp by funct and maj obj'!C28 -> 2832774 | E18: =1794486.14+44257.66+5953.05 -> 1844696.8 | F18: ='GF exp by funct and maj obj'!E28 -> 2414835 | G18: =+F18-D18 -> -417939
A19: 21 | B19: Instruction Leadership | C19: 10129682 | D19: ='GF exp by funct and maj obj'!C35 -> 11236060 | E19: =8345619.99+25239.09+9358.83 -> 8380217.9 | F19: ='GF exp by funct and maj obj'!E35 -> 11003797 | G19: =+F19-D19 -> -232263
A20: 23 | B20: School Leadership | C20: 32352945 | D20: ='GF exp by funct and maj obj'!C42 -> 28692585 | E20: =27280216.66+37261.82+2596.94 -> 27320075 | F20: ='GF exp by funct and maj obj'!E42 -> 31911220 | G20: =+F20-D20 -> 3218635
A21: 31 | B21: Guidance, Counseling, & Evaluation Services | C21: 21563709 | D21: ='GF exp by funct and maj obj'!C49 -> 19818973 | E21: =17672092.61+27695.72+2957.4 -> 17702746 | F21: ='GF exp by funct and maj obj'!E49 -> 23375391 | G21: =+F21-D21 -> 3556418
A22: 32 | B22: Social Work Services | C22: 325302 | D22: ='GF exp by funct and maj obj'!C61 -> 214132 | E22: =882531.74+4177.2 -> 886708.94 | F22: ='GF exp by funct and maj obj'!E61 -> 238327 | G22: =+F22-D22 -> 24195
A23: 33 | B23: Health Services | C23: 5664211 | D23: ='GF exp by funct and maj obj'!C68 -> 4895194 | E23: =4740397.6+6234.27+7.08 -> 4746638.9 | F23: ='GF exp by funct and maj obj'!E68 -> 5594606 | G23: =+F23-D23 -> 699412
A24: 34 | B24: Student Transportation | C24: 15515870 | D24: ='GF exp by funct and maj obj'!C73 -> 15209089 | E24: =13071453.53+4042.13 -> 13075496 | F24: ='GF exp by funct and maj obj'!E73 -> 16090184 | G24: =+F24-D24 -> 881095
A25: 35 | B25: Food Service | C25: 35900 | D25: ='GF exp by funct and maj obj'!C81 -> 39099 | E25: =58137.95 -> 58137.95 | F25: ='GF exp by funct and maj obj'!E81 -> 36646 | G25: =+F25-D25 -> -2453
A26: 36 | B26: Cocurricular/Extracurricular Activities | C26: 10350197 | D26: ='GF exp by funct and maj obj'!C89 -> 11491934 | E26: =9625460.54+297750.93+3086.26 -> 9926297.7 | F26: ='GF exp by funct and maj obj'!E89 -> 12216127 | G26: =+F26-D26 -> 724193
A27: 41 | B27: General Administration | C27: 9704712 | D27: ='GF exp by funct and maj obj'!C96 -> 11264474 | E27: =8618600.5+139318.83+5504.88 -> 8763424.2 | F27: ='GF exp by funct and maj obj'!E96 -> 11153664 | G27: =+F27-D27 -> -110810
A28: 51 | B28: Plant Maintenance and Operations | C28: 39886191 | D28: ='GF exp by funct and maj obj'!C104 -> 43946478 | E28: =29174837.07+2425224.96+2294125.51 -> 33894188 | F28: ='GF exp by funct and maj obj'!E104 -> 43425543 | G28: =+F28-D28 -> -520935
A29: 52 | B29: Security and Monitoring Services | C29: 2116763 | D29: ='GF exp by funct and maj obj'!C119 -> 2763869 | E29: =1841394.27+178803.49 -> 2020197.8 | F29: ='GF exp by funct and maj obj'!E119 -> 3368639 | G29: =+F29-D29 -> 604770
A30: 53 | B30: Data Processing Services | C30: 11022216 | D30: ='GF exp by funct and maj obj'!C127 -> 12294291 | E30: =8788849.2+210912.26+117966.87 -> 9117728.3 | F30: ='GF exp by funct and maj obj'!E127 -> 12184537 | G30: =+F30-D30 -> -109754
A31: 61 | B31: Community Services | C31: 6605359 | D31: ='GF exp by funct and maj obj'!C134 -> 6496827 | E31: =5386295.69+19884.79+95.47 -> 5406276 | F31: ='GF exp by funct and maj obj'!E134 -> 8804966 | G31: =+F31-D31 -> 2308139
A32: 71 | B32: Debt Service | C32: 658425 | D32: ='GF exp by funct and maj obj'!C139 -> 0 | E32: =658425.2 -> 658425.2 | F32: ='GF exp by funct and maj obj'!E139 -> 0 | G32: =+F32-D32 -> 0
A33: 81 | B33: Facilities Acquisition and Construction | C33: 72092 | D33: ='GF exp by funct and maj obj'!C37 -> 0 | E33: 42834 | F33: 0 | G33: =+F33-D33 -> 0 | I33: LHS SCOREBOARD
A34: 91 | B34: Contracted Services Between Public Schools | C34: 0 | D34: ='GF exp by funct and maj obj'!C143 -> 34476000 | F34: ='GF exp by funct and maj obj'!E143 -> 18603784 | G34: =+F34-D34 -> -15872216
A35: 93 | B35: Payments to Fiscal Agents/Shared Service | C35: 82000 | D35: ='GF exp by funct and maj obj'!C152 -> 210000 | E35: 210000 | F35: ='GF exp by funct and maj obj'!E152 -> 210000 | G35: =+F35-D35 -> 0
A36: 95 | B36: Juvenile Justice Alternative Ed. Program | C36: 34176 | D36: ='GF exp by funct and maj obj'!C156 -> 200000 | E36: 200000 | F36: ='GF exp by funct and maj obj'!E156 -> 200000 | G36: =+F36-D36 -> 0
A37: 99 | B37: Other Intergovernmental Charges | C37: 2939064 | D37: ='GF exp by funct and maj obj'!C160 -> 3282088 | E37: 2853235 | F37: ='GF exp by funct and maj obj'!E160 -> 3662088 | G37: =+F37-D37 -> 380000 | I37: Tax Appraisal & Collections
B38: Total Expenditures | C38: =SUM(C16:C37) -> 473472962 | D38: =SUM(D16:D37) -> 498509815 | E38: =SUM(E16:E37) -> 4.0468867e+08 | F38: =SUM(F16:F37) -> 504233482 | G38: =SUM(G16:G37) -> 5723667
B41: Excess (Deficiencies) of
B42: Revenues over Expenditures | C42: =+C13-C38 -> -14985909 | D42: =+D13-D38 -> -8527895 | E42: =+E13-E38 -> 21353006 | F42: =+F13-F38 -> -14738041 | G42: =+G13-G38 -> -6210146
B44: Other Financing Resources (Uses)
...

Sheet GF Rev by Obj
A1: Lewisville Independent School District
A2: General Fund Revenue by Object
G4: As Of 7/21/17 | I4: Change from 2018-19 Adopted Budget to 2019-20 Adopted Budget
C6: Audited Actual FY 2017-18 | D6: Adopted Budget FY11-12 | E6: Adopted Budget FY 2018-19 | G6: Projected Actual FY 16-17 | H6: Adopted Budget FY 2019-20 | L6: Proposed Budget FY 12-13
A7: Local Revenues
A8: 5711 | B8: Current Tax Collections | C8: 371025021 | D8: 237864270 | E8: 400432518 | F8: 2.3512504e+08 | G8: 3.3633959e+08 | H8: 408245478 | I8: =+H8-E8 -> 7812960 | L8: 231921364
A9: 5712 | B9: Delinquent Tax Collections | C9: 2174339 | D9: 1000000 | E9: 2500000 | F9: 988993.15 | G9: 2266097.7 | H9: 2500000 | I9: =+H9-E9 -> 0 | L9: 1000000
A10: 5719 | B10: Penalties and Interest | C10: 1758044 | D10: 1300000 | E10: 2000000 | F10: 1358398.1 | G10: 1500573.9 | H10: 2000000 | I10: =+H10-E10 -> 0 | L10: 1300000
A11: 5739 | B11: Tuition and Fees Local Sources | C11: 6599983 | D11: 4159645 | E11: 6723070 | F11: 5579887.5 | G11: 5972063.8 | H11: 7188315 | I11: =+H11-E11 -> 465245 | L11: 4185645
A12: 5742 | B12: Interest Earnings | C12: 3906615 | D12: 250000 | E12: 4000000 | F12: 331961.7 | G12: 1268441.7 | H12: 5000000 | I12: =+H12-E12 -> 1000000 | L12: 250000
A13: 5743 | B13: Rent | C13: 1056768 | D13: 349384 | E13: 900000 | F13: 298373.25 | G13: 845691.95 | H13: 1000000 | I13: =+H13-E13 -> 100000 | L13: 349384
A14: 5744 | B14: Revenue from Foundations | C14: 832 | D14: 0 | E14: 0 | F14: 122590.31 | G14: 1175.84 | H14: 0 | I14: =+H14-E14 -> 0 | L14: 0
A15: 5745 | B15: Insurance Recovery | C15: 0 | D15: 0 | E15: 0 | F15: 254678.69 | G15: 1237.87 | H15: 0 | I15: =+H15-E15 -> 0 | L15: 0
A16: 5749 | B16: Other Revenue from Local Sources | C16: 1118983 | D16: 477258 | E16: 1000000 | F16: 409542.72 | G16: 1154549.1 | H16: 1000000 | I16: =+H16-E16 -> 0 | L16: 477258
A17: 5751 | B17: Food Service Activity | C17: 0 | E17: 0 | G17: 0 | H17: 0 | I17: =+H17-E17 -> 0
A18: 5752 | B18: Athletic Activity | C18: 813729 | D18: 664500 | E18: 875000 | F18: 835287.95 | G18: 828575.93 | H18: 925000 | I18: =+H18-E18 -> 50000 | L18: 664500
A19: 5753 | B19: Extracurricular Other than Athletics | C19: 131450 | D19: 136700 | E19: 130000 | F19: 108035 | G19: 123945 | H19: 136000 | I19: =+H19-E19 -> 6000 | L19: 136700
A20: 5755 | B20: Enterprising Services Revenue | C20: 0 | D20: 0 | E20: 0 | F20: 384 | G20: 0 | H20: 0 | I20: =+H20-E20 -> 0 | L20: 0
A21: 5759 | B21: Cocurricular Enterprising Services | C21: 0 | D21: 0 | E21: 0 | F21: 16117.8 | G21: 0 | H21: 0 | I21: =+H21-E21 -> 0 | L21: 0
A22: 5769 | B22: Misc. Rev. Intermediate Sources (JJAEP) | C22: 548047 | D22: 394628 | E22: 425000 | F22: 424449.18 | G22: 492451.43 | H22: 375000 | I22: =+H22-E22 -> -50000 | L22: 394628
B24: Total Local Revenues | C24: =SUM(C8:C23) -> 389133811 | D24: =SUM(D8:D23) -> 246596385 | E24: =SUM(E8:E23) -> 418985588 | F24: =SUM(F8:F23) -> 2.4585374e+08 | G24: =SUM(G8:G23) -> 3.5079439e+08 | H24: =SUM(H8:H23) -> 428369793 | I24: =SUM(I8:I23) -> 9384205 | L24: =SUM(L8:L23) -> 240679479
A26: State Revenues
A27: 5811 | B27: Per Capita Apportionment | C27: 10358029 | D27: 11973552 | E27: 22007130 | F27: 12633210 | G27: 14325430 | H27: 12114460 | I27: =+H27-E27 -> -9892670 | L27: 12818949
A28: 5812 | B28: Foundation School Program Revenue | C28: 29659568 | D28: 95040597 | E28: 19028360 | F28: 65875881 | G28: 38016800 | H28: 17625800 | I28: =+H28-E28 -> -1402560 | L28: 90909379
A29: 5819 | B29: Other Foundation Sch Prog Act | D29: 0 | E29: 0 | F29: 414.96 | H29: 0 | I29: =+H29-E29 -> 0 | J29: =+I29/I$29 -> #DIV/0! | L29: 0
A30: 5829 | B30: State Program Revenue Distr. by TEA | C30: 965 | D30: 0 | E30: 111000 | F30: 59394.02 | G30: 115700.25 | H30: 0 | I30: =+H30-E30 -> -111000 | L30: 0
A31: 5831 | B31: TRS on Behalf | C31: 22239697 | D31: 19000007 | E31: 23650842 | F31: 15301468 | G31: 16182320 | H31: 24686388 | I31: =+H31-E31 -> 1035546 | L31: 19000007
B33: Total State Revenues | C33: =SUM(C27:C32) -> 62258259 | D33: =SUM(D27:D32) -> 126014156 | E33: =SUM(E27:E32) -> 64797332 | F33: =SUM(F27:F32) -> 93870368 | G33: =SUM(G27:G32) -> 68640251 | H33: =SUM(H27:H32) -> 54426648 | I33: =SUM(I27:I32) -> -10370684 | L33: =SUM(L27:L32) -> 122728335
A35: Federal Revenues
A36: 5929 | B36: Federal Revenue Distr. by TEA | C36: 120693 | D36: 140700 | E36: 224000 | F36: 242506.84 | G36: 198353.56 | H36: 224000 | I36: =+H36-E36 -> 0 | L36: 140700
A37: 5931 | B37: School Health Related Services | C37: 3262951 | D37: 100000 | E37: 2700000 | F37: 685352.25 | G37: 3203795.1 | H37: 3200000 | I37: =+H37-E37 -> 500000 | L37: 100000
A38: 5939 | B38: Federal Rev Dist by State | D38: 0 | E38: 0 | F38: 620.92 | G38: 0 | H38: 0 | I38: =+H38-E38 -> 0 | L38: 0
A39: 5941 | B39: Impact Aid | C39: 3373940 | D39: 750000 | E39: 3000000 | F39: 2191640 | G39: 2902591.9 | H39: 3000000 | I39: =+H39-E39 -> 0 | L39: 750000
A40: 5949 | B40: Federal Revenue Distr. by Federal Govt. | C40: 337399 | D40: 255000 | E40: 275000 | F40: 220157.97 | G40: 302297.9 | H40: 275000 | I40: =+H40-E40 -> 0 | L40: 255000
B42: Total Federal Revenues | C42: =SUM(C36:C41) -> 7094983 | D42: =SUM(D36:D41) -> 1245700 | E42: =SUM(E36:E41) -> 6199000 | F42: =SUM(F36:F41) -> 3340278 | G42: =SUM(G36:G41) -> 6607038.5 | H42: =SUM(H36:H41) -> 6699000 | I42: =SUM(I36:I41) -> 500000 | L42: =SUM(L36:L41) -> 1245700
A44: Other Resources
A45: 7912 | B45: Sale of Real Property | C45: 80911 | D45: 0 | E45: 0 | F45: 89540.44 | G45: 0 | H45: 0 | I45: =+H45-E45 -> 0 | L45: 0
A46: 7913 | B46: Proceeds from Capital Leases | C46: 0 | E46: 0 | G46: 0 | H46: 0 | I46: =+H46-E46 -> 0
A47: 7915 | B47: Operating Transfers In | C47: 46574 | E47: 0 | G47: 0 | H47: 493490 | I47: =+H47-E47 -> 493490
B49: Total Other Resources | C49: =SUM(C45:C48) -> 127485 | D49: =SUM(D45:D48) -> 0 | E49: =SUM(E45:E48) -> 0 | F49: =SUM(F45:F48) -> 89540.44 | G49: =SUM(G45:G48) -> 0 | H49: =SUM(H45:H48) -> 493490 | I49: =SUM(I45:I48) -> 493490
...

Sheet GF exp by funct and maj obj
A1: Lewisville Independent School District
A2: General Fund
A3: Expenditure Summary by Major Object within Function
C5: General Fund | E5: General Fund | G5: Percent | K5: Percent
C6: Adopted Budget | E6: Adopted Budget | G6: Increase | I6: Percent | K6: Increase
C7: FY 2018-19 | E7: FY 2019-20 | G7: (Decrease) | I7: of Total | K7: (Decrease)
A8: 11 - Instruction
A9: 6100 Payroll costs | C9: 274024373 | E9: 283861612 | G9: =(+E9-C9)/C9 -> 0.035899139 | I9: =+E9/E$162 -> 0.56295669 | K9: =(+E9-#REF!)/#REF! -> #REF!
A10: 6200 Purchased and contracted services | C10: 1985092 | E10: 2318603 | F10: =+E10/E$28 -> 0.96014966 | G10: =(+E10-C10)/C10 -> 0.16800783 | I10: =+E10/E$162 -> 0.0045982726 | K10: =(+E10-#REF!)/#REF! -> #REF!
A11: 6300 Supplies and materials | C11: 6878060 | E11: 6626040 | F11: =+E11/E$28 -> 2.7438893 | G11: =(+E11-C11)/C11 -> -0.036641146 | I11: =+E11/E$162 -> 0.013140817 | K11: =(+E11-#REF!)/#REF! -> #REF!
A12: 6400 Other operating expenditures | C12: 433045 | E12: 466814 | G12: =(+E12-C12)/C12 -> 0.077980348 | I12: =+E12/E$162 -> 0.00092578937 | K12: =(+E12-#REF!)/#REF! -> #REF!
A13: 6600 Capital outlay | C13: 150 | E13: 125 | F13: =+E13/E$28 -> 5.1763371e-05 | G13: =(+E13-C13)/C13 -> -0.16666667 | I13: =+E13/E$162 -> 2.4790103e-07 | K13: =(+E13-#REF!)/#REF! -> #REF!
A14: Total Function 11 | C14: =SUM(C9:C13) -> 283320720 | E14: =SUM(E9:E13) -> 293273194 | G14: =(+E14-C14)/C14 -> 0.035127943 | I14: =+E14/E$162 -> 0.58162182 | K14: =(+E14-#REF!)/#REF! -> #REF!
A16: 12 - Instructional resources and media | F16: =+E16/E$28 -> 0
A17: 6100 Payroll costs | C17: 5145435 | E17: 5820273 | F17: =+E17/E$28 -> 2.4102156 | G17: =(+E17-C17)/C17 -> 0.13115276 | I17: =+E17/E$162 -> 0.011542813 | K17: =(+E17-#REF!)/#REF! -> #REF!
A18: 6200 Purchased and contracted services | C18: 277875 | E18: 254405 | G18: =(+E18-C18)/C18 -> -0.084462438 | I18: =+E18/E$162 -> 0.00050453809 | K18: =(+E18-#REF!)/#REF! -> #REF!
A19: 6300 Supplies and materials | C19: 397963 | E19: 387141 | F19: =+E19/E$28 -> 0.16031779 | G19: =(+E19-C19)/C19 -> -0.027193483 | I19: =+E19/E$162 -> 0.00076778122 | K19: =(+E19-#REF!)/#REF! -> #REF!
A20: 6400 Other operating expenditures | C20: 3955 | E20: 4115 | G20: =(+E20-C20)/C20 -> 0.04045512 | I20: =+E20/E$162 -> 8.1609019e-06 | K20: =(+E20-#REF!)/#REF! -> #REF!
A21: Total Function 12 | C21: =SUM(C17:C20) -> 5825228 | E21: =SUM(E17:E20) -> 6465934 | G21: =(+E21-C21)/C21 -> 0.10998814 | I21: =+E21/E$162 -> 0.012823294 | K21: =(+E21-#REF!)/#REF! -> #REF!
F22: =+E22/E$28 -> 0
A23: 13 - Curriculum & Staff Development | F23: =+E23/E$28 -> 0
A24: 6100 Payroll costs | C24: 1503363 | E24: 1276651 | F24: =+E24/E$28 -> 0.52867007 | G24: =(+E24-C24)/C24 -> -0.15080323 | I24: =+E24/E$162 -> 0.0025318648 | K24: =(+E24-#REF!)/#REF! -> #REF!
A25: 6200 Purchased and contracted services | C25: 505208 | E25: 416001 | G25: =(+E25-C25)/C25 -> -0.1765748 | I25: =+E25/E$162 -> 0.00082501661 | K25: =(+E25-#REF!)/#REF! -> #REF!
A26: 6300 Supplies and materials | C26: 338617 | E26: 278201 | F26: =+E26/E$28 -> 0.11520497 | G26: =(+E26-C26)/C26 -> -0.17841987 | I26: =+E26/E$162 -> 0.00055173052 | K26: =(+E26-#REF!)/#REF! -> #REF!
A27: 6400 Other operating expenditures | C27: 485586 | E27: 443982 | G27: =(+E27-C27)/C27 -> -0.085677923 | I27: =+E27/E$162 -> 0.00088050876 | K27: =(+E27-#REF!)/#REF! -> #REF!
A28: Total Function 13 | C28: =SUM(C24:C27) -> 2832774 | E28: =SUM(E24:E27) -> 2414835 | F28: =+E28/E$28 -> 1 | G28: =(+E28-C28)/C28 -> -0.14753701 | I28: =+E28/E$162 -> 0.0047891207 | K28: =(+E28-#REF!)/#REF! -> #REF!
A30: 21 - Instructional Leadership
A31: 6100 Payroll costs | C31: 10555256 | E31: 10289279 | G31: =(+E31-C31)/C31 -> -0.025198536 | I31: =+E31/E$162 -> 0.020405783 | K31: =(+E31-#REF!)/#REF! -> #REF!
A32: 6200 Purchased and contracted services | C32: 291074 | E32: 324870 | G32: =(+E32-C32)/C32 -> 0.11610793 | I32: =+E32/E$162 -> 0.00064428486 | K32: =(+E32-#REF!)/#REF! -> #REF!
A33: 6300 Supplies and materials | C33: 214955 | E33: 216347 | G33: =(+E33-C33)/C33 -> 0.006475774 | I33: =+E33/E$162 -> 0.00042906115 | K33: =(+E33-#REF!)/#REF! -> #REF!
A34: 6400 Other operating expenditures | C34: 174775 | E34: 173301 | G34: =(+E34-C34)/C34 -> -0.0084337005 | I34: =+E34/E$162 -> 0.00034369197 | K34: =(+E34-#REF!)/#REF! -> #REF!
A35: Total Function 21 | C35: =SUM(C31:C34) -> 11236060 | E35: =SUM(E31:E34) -> 11003797 | G35: =(+E35-C35)/C35 -> -0.020671214 | I35: =+E35/E$162 -> 0.021822821 | K35: =(+E35-#REF!)/#REF! -> #REF!
A37: 23 - School Leadership
A38: 6100 Payroll costs | C38: 28136227 | E38: 31365001 | G38: =(+E38-C38)/C38 -> 0.11475505 | I38: =+E38/E$162 -> 0.062203329 | K38: =(+E38-#REF!)/#REF! -> #REF!
A39: 6200 Purchased and contracted services | C39: 125316 | E39: 153888 | G39: =(+E39-C39)/C39 -> 0.22799962 | I39: =+E39/E$162 -> 0.00030519195 | K39: =(+E39-#REF!)/#REF! -> #REF!
A40: 6300 Supplies and materials | C40: 239728 | E40: 194624 | G40: =(+E40-C40)/C40 -> -0.18814657 | I40: =+E40/E$162 -> 0.00038597992 | K40: =(+E40-#REF!)/#REF! -> #REF!
A41: 6400 Other operating expenditures | C41: 191314 | E41: 197707 | G41: =(+E41-C41)/C41 -> 0.033416269 | I41: =+E41/E$162 -> 0.00039209415 | K41: =(+E41-#REF!)/#REF! -> #REF!
A42: Total Function 23 | C42: =SUM(C38:C41) -> 28692585 | E42: =SUM(E38:E41) -> 31911220 | G42: =(+E42-C42)/C42 -> 0.11217654 | I42: =+E42/E$162 -> 0.063286595 | K42: =(+E42-#REF!)/#REF! -> #REF!
A44: 31 - Guidance, Counseling & Eval.
A45: 6100 Payroll costs | C45: 19246442 | E45: 22712609 | G45: =(+E45-C45)/C45 -> 0.18009391 | I45: =+E45/E$162 -> 0.045043833 | K45: =(+E45-#REF!)/#REF! -> #REF!
...

Sheet GF Exp by Maj Obj
A1: Lewisville Independent School District
A2: Expenditure Summary by Major Object
C4: General Fund | E4: General Fund | G4: General Fund | I4: Percent
C5: Audited Actual | E5: Adopted Budget | G5: Adopted Budget | I5: Increase | K5: Percent
C6: FY 2017-18 | E6: FY 2018-19 | G6: FY 2019-20 | I6: (Decrease) | K6: of Total
A8: 61XX | B8: Payroll costs | C8: 398725070 | E8: =+'GF exp by funct and maj obj'!C9+'GF exp by funct and maj obj'!C17+'GF exp by funct and maj obj'!C24+'GF exp by funct and maj obj'!C31+'GF exp by funct and maj obj'!C38+'GF exp by funct and maj obj'!C45+'GF exp by funct and maj obj'!C59+'GF exp by funct and maj obj'!C64+'GF exp by funct and maj obj'!C71+'GF exp by funct and maj obj'!C80+'GF exp by funct and maj obj'!C84+'GF exp by funct and maj obj'!C92+'GF exp by funct and maj obj'!C99+'GF exp by funct and maj obj'!C114+'GF exp by funct and maj obj'!C122+'GF exp by funct and maj obj'!C130 -> 379280913 | G8: =+'GF exp by funct and maj obj'!E9+'GF exp by funct and maj obj'!E17+'GF exp by funct and maj obj'!E24+'GF exp by funct and maj obj'!E31+'GF exp by funct and maj obj'!E38+'GF exp by funct and maj obj'!E45+'GF exp by funct and maj obj'!E59+'GF exp by funct and maj obj'!E64+'GF exp by funct and maj obj'!E71+'GF exp by funct and maj obj'!E80+'GF exp by funct and maj obj'!E84+'GF exp by funct and maj obj'!E92+'GF exp by funct and maj obj'!E99+'GF exp by funct and maj obj'!E114+'GF exp by funct and maj obj'!E122+'GF exp by funct and maj obj'!E130 -> 399721012 | I8: =(+G8-E8)/E8 -> 0.053891715 | K8: =+G8/G$15 -> 0.79273001
A9: 62XX | B9: Purchased & cont. serv. | C9: 56317948 | E9: =+'GF exp by funct and maj obj'!C10+'GF exp by funct and maj obj'!C18+'GF exp by funct and maj obj'!C25+'GF exp by funct and maj obj'!C32+'GF exp by funct and maj obj'!C39+'GF exp by funct and maj obj'!C46+'GF exp by funct and maj obj'!C65+'GF exp by funct and maj obj'!C72+'GF exp by funct and maj obj'!C85+'GF exp by funct and maj obj'!C93+'GF exp by funct and maj obj'!C100+'GF exp by funct and maj obj'!C115+'GF exp by funct and maj obj'!C123+'GF exp by funct and maj obj'!C131+'GF exp by funct and maj obj'!C142+'GF exp by funct and maj obj'!C155+'GF exp by funct and maj obj'!C159 -> 97236599 | G9: =+'GF exp by funct and maj obj'!E10+'GF exp by funct and maj obj'!E18+'GF exp by funct and maj obj'!E25+'GF exp by funct and maj obj'!E32+'GF exp by funct and maj obj'!E39+'GF exp by funct and maj obj'!E46+'GF exp by funct and maj obj'!E65+'GF exp by funct and maj obj'!E72+'GF exp by funct and maj obj'!E85+'GF exp by funct and maj obj'!E93+'GF exp by funct and maj obj'!E100+'GF exp by funct and maj obj'!E115+'GF exp by funct and maj obj'!E123+'GF exp by funct and maj obj'!E131+'GF exp by funct and maj obj'!E142+'GF exp by funct and maj obj'!E155+'GF exp by funct and maj obj'!E159 -> 81282163 | I9: =(+G9-E9)/E9 -> -0.16407851 | K9: =+G9/G$15 -> 0.16119946
A10: 63XX | B10: Supplies & Materials | C10: 11020578 | E10: =+'GF exp by funct and maj obj'!C11+'GF exp by funct and maj obj'!C19+'GF exp by funct and maj obj'!C26+'GF exp by funct and maj obj'!C33+'GF exp by funct and maj obj'!C40+'GF exp by funct and maj obj'!C47+'GF exp by funct and maj obj'!C60+'GF exp by funct and maj obj'!C66+'GF exp by funct and maj obj'!C86+'GF exp by funct and maj obj'!C94+'GF exp by funct and maj obj'!C101+'GF exp by funct and maj obj'!C116+'GF exp by funct and maj obj'!C124+'GF exp by funct and maj obj'!C132 -> 14859856 | G10: =+'GF exp by funct and maj obj'!E11+'GF exp by funct and maj obj'!E19+'GF exp by funct and maj obj'!E26+'GF exp by funct and maj obj'!E33+'GF exp by funct and maj obj'!E40+'GF exp by funct and maj obj'!E47+'GF exp by funct and maj obj'!E60+'GF exp by funct and maj obj'!E66+'GF exp by funct and maj obj'!E86+'GF exp by funct and maj obj'!E94+'GF exp by funct and maj obj'!E101+'GF exp by funct and maj obj'!E116+'GF exp by funct and maj obj'!E124+'GF exp by funct and maj obj'!E132 -> 14411293 | I10: =(+G10-E10)/E10 -> -0.030186228 | K10: =+G10/G$15 -> 0.028580595
A11: 64XX | B11: Other operating expend. | C11: 5860674 | E11: =+'GF exp by funct and maj obj'!C12+'GF exp by funct and maj obj'!C20+'GF exp by funct and maj obj'!C27+'GF exp by funct and maj obj'!C34+'GF exp by funct and maj obj'!C41+'GF exp by funct and maj obj'!C48+'GF exp by funct and maj obj'!C67+'GF exp by funct and maj obj'!C87+'GF exp by funct and maj obj'!C95+'GF exp by funct and maj obj'!C102+'GF exp by funct and maj obj'!C117+'GF exp by funct and maj obj'!C125+'GF exp by funct and maj obj'!C133+'GF exp by funct and maj obj'!C151 -> 6922297 | G11: =+'GF exp by funct and maj obj'!E12+'GF exp by funct and maj obj'!E20+'GF exp by funct and maj obj'!E27+'GF exp by funct and maj obj'!E34+'GF exp by funct and maj obj'!E41+'GF exp by funct and maj obj'!E48+'GF exp by funct and maj obj'!E67+'GF exp by funct and maj obj'!E87+'GF exp by funct and maj obj'!E95+'GF exp by funct and maj obj'!E102+'GF exp by funct and maj obj'!E117+'GF exp by funct and maj obj'!E125+'GF exp by funct and maj obj'!E133+'GF exp by funct and maj obj'!E151 -> 8608889 | I11: =(+G11-E11)/E11 -> 0.24364629 | K11: =+G11/G$15 -> 0.01707322
A12: 65XX | B12: Debt Service | C12: 658425 | E12: =+'GF exp by funct and maj obj'!C138 -> 0 | G12: =+'GF exp by funct and maj obj'!E138 -> 0 | I12: 0 | K12: =+G12/G$15 -> 0
A13: 66XX | B13: Capital Outlay | C13: 890267 | E13: =+'GF exp by funct and maj obj'!C13+'GF exp by funct and maj obj'!C103+'GF exp by funct and maj obj'!C118 -> 210150 | G13: =+'GF exp by funct and maj obj'!E13+'GF exp by funct and maj obj'!E103+'GF exp by funct and maj obj'!E118 -> 210125 | I13: =(+G13-E13)/E13 -> -0.00011896265 | K13: =+G13/G$15 -> 0.00041672163
B15: Total Expenditures | C15: =SUM(C8:C14) -> 473472962 | E15: =SUM(E8:E14) -> 498509815 | G15: =SUM(G8:G14) -> 504233482 | I15: =(+G15-E15)/E15 -> 0.011481553 | K15: =SUM(K8:K14) -> 1

Sheet FS Fund
B1: Lewisville Independent School District
B2: Food Service Fund
C4: Audited | G4: Projected | I4: Adopted
C5: Actual | E5: Adopted Budget | G5: Actual | I5: Budget
C6: FY 2017-18 | E6: FY 2018-19 | G6: 2016-17 | I6: FY 2019-20
A7: Revenues
A8: Local Revenues
A9: 5751 | B9: Food Service Activity | C9: 11225529 | E9: 11489931 | G9: 10100000 | I9: 11261075 | J9: =+I9/I$27 -> 0.44467403
B10: Other | C10: 110219 | E10: 116097 | G10: 7843 | I10: 116097 | J10: =+I10/I$27 -> 0.0045844043
B12: Total Local Revenues | C12: =SUM(C9:C11) -> 11335748 | E12: =SUM(E9:E11) -> 11606028 | G12: =SUM(G9:G11) -> 10107843 | I12: =SUM(I9:I11) -> 11377172 | J12: =+I12/I$27 -> 0.44925843
A14: State Revenues
A15: 5829 | B15: Program Revenue Distributed by TEA | C15: 109399 | E15: 113089 | G15: 109688 | I15: 113089 | J15: =+I15/I$27 -> 0.0044656253
A16: 5831 | B16: TRS on Behalf | C16: 0 | E16: 0 | G16: 0 | I16: 0 | J16: =+I16/I$27 -> 0
B18: Total State Revenues | C18: =SUM(C15:C17) -> 109399 | E18: =SUM(E15:E17) -> 113089 | G18: =SUM(G15:G17) -> 109688 | I18: =SUM(I15:I17) -> 113089 | J18: =+I18/I$27 -> 0.0044656253
A20: Federal Revenues
A21: 5921 | B21: Federal Breakfast Reimbursement | C21: 2733786 | E21: 2681938 | G21: 2725036 | I21: 2776590 | J21: =+I21/I$27 -> 0.10964117
A22: 5922 | B22: Federal Lunch Reimbursement | C22: 8757774 | E22: 8438272 | G22: 8374075 | I22: 9294080 | J22: =+I22/I$27 -> 0.36700191
A23: 5923 | B23: USDA Commodities | C23: 1513908 | E23: 1441107 | G23: 1016966 | I23: 1388669 | J23: =+I23/I$27 -> 0.054835355
A24: 5939 | B24: Other Federal Revenues | C24: 288858 | E24: 0 | I24: 374737
B25: Total Federal Revenues | C25: =SUM(C21:C24) -> 13294326 | E25: =SUM(E21:E24) -> 12561317 | G25: =SUM(G21:G24) -> 12116077 | I25: =SUM(I21:I24) -> 13834076 | J25: =+I25/I$27 -> 0.54627594
B27: Total Revenues | C27: =+C25+C18+C12 -> 24739473 | E27: =+E25+E18+E12 -> 24280434 | G27: =+G25+G18+G12 -> 22333608 | I27: =+I25+I18+I12 -> 25324337 | J27: =+I27/I$27 -> 1
A29: Expenditures
B30: Payroll | C30: 9065406 | E30: 9195882 | G30: 9764384 | I30: 9571988 | J30: =+I30/I$35 -> 0.37797586
B31: Contracted Services | C31: 3687832 | E31: 3903650 | G31: 3709491 | I31: 4132542 | J31: =+I31/I$35 -> 0.16318461
B32: Supplies and Materials | C32: 10527211 | E32: 10557736 | G32: 8582597 | I32: 11149449 | J32: =+I32/I$35 -> 0.44026618
B33: Other Operating Costs | C33: 142289 | E33: 185671 | G33: 157252 | I33: 120858 | J33: =+I33/I$35 -> 0.0047724053
B34: Capital Outlay | C34: 59347 | E34: 498500 | G34: 0 | I34: 349500 | J34: =+I34/I$35 -> 0.013800954
B35: Total Expenditures | C35: =SUM(C30:C34) -> 23482085 | E35: =SUM(E30:E34) -> 24341439 | G35: =SUM(G30:G34) -> 22213724 | I35: =SUM(I30:I34) -> 25324337 | J35: =+I35/I$35 -> 1
B38: Excess (Deficiencies) of
B39: Revenues over Expenditures | C39: =+C27-C35 -> 1257388 | E39: =+E27-E35 -> -61005 | G39: =+G27-G35 -> 119884 | I39: =+I27-I35 -> 0
B41: Other Financing Resources (Uses)
B42: Other Resources | C42: 7525 | E42: 0 | G42: 0 | I42: 0
B43: Other Uses | C43: 0 | E43: 0 | G43: 0 | I43: 0
B44: Total Other Financing Resources (Uses) | C44: =SUM(C42:C43) -> 7525 | E44: =SUM(E42:E43) -> 0 | G44: =SUM(G42:G43) -> 0 | I44: =SUM(I42:I43) -> 0
B46: Excess (Deficiencies) of Revenues and
B47: Other Financial Resources Over Expenditures
B48: and Other Financial Uses | C48: =+C39+C44 -> 1264913 | E48: =+E39+E44 -> -61005 | G48: =+G39+G44 -> 119884 | I48: =+I39+I44 -> 0
B50: Fund Balance, beginning, 9/1 | C50: 2495643 | E50: =+C51 -> 3760556 | G50: =+C51 -> 3760556 | I50: =+E51 -> 3699551
B51: Fund Balance, ending, 8/31 | C51: =SUM(C48:C50) -> 3760556 | E51: =SUM(E48:E50) -> 3699551 | G51: =SUM(G48:G50) -> 3880440 | I51: =SUM(I48:I50) -> 3699551
K115: =IF(C115=0,"n/a",(+I115-C115)/C115) -> n/a

Sheet DS Fund
B1: Lewisville Independent School District
A2: Debt Service Fund
B4: Adopted Tax Rate | C4: 0.3675 | E4: 0.3675 | G4: 0.38 | I4: 0.3675
C6: Audited | E6: Adopted | G6: Projected | I6: Adopted
C7: Actual | E7: Budget | G7: Actual | I7: Budget
C8: FY 2017-18 | E8: FY 2018-19 | G8: 2016-17 | I8: FY 2019-20
A9: Revenues
A10: Local Revenues
B11: Current Property Tax Collections | C11: 131113913 | E11: 141498990 | G11: 124293111 | I11: 154670322 | J11: =+I11/I$22 -> 0.99234274
B12: Delinquent Property Tax Collections | C12: 878077 | E12: 100000 | G12: 909867 | I12: 100000 | J12: =+I12/I$22 -> 0.00064158575
B13: Penalties and Interest | C13: 579340 | E13: 100000 | G13: 478185 | I13: 100000 | J13: =+I13/I$22 -> 0.00064158575
B14: Interest Earnings | C14: 1607873 | E14: 500000 | G14: 510745 | I14: 500000 | J14: =+I14/I$22 -> 0.0032079287
A16: State Revenues
B17: Foundation School Prog Revenue | C17: 2125354 | E17: 1966051 | G17: 2292127 | I17: 0 | J17: =+I17/I$22 -> 0
A19: Federal Revenues
B20: Federal Program Revenues | C20: 491386 | E20: 489807 | G20: 490334 | I20: 493490 | J20: =+I20/I$22 -> 0.0031661615
B22: Total Revenues | C22: =SUM(C11:C21) -> 136795943 | E22: =SUM(E11:E21) -> 144654848 | G22: =SUM(G11:G21) -> 128974369 | I22: =SUM(I11:I21) -> 155863812 | J22: =+I22/I$22 -> 1
A24: Expenditures
B25: Principal on Bonds | C25: 73760515 | E25: 80490665 | G25: 60063384 | I25: 88008440 | J25: =+I25/I$28 -> 0.59440454
B26: Interest on Bonds | C26: 65936246 | E26: 58204900 | G26: =22221481+34204609 -> 56426090 | I26: 59853080 | J26: =+I26/I$28 -> 0.40424467
B27: Other Debt Service Fees | C27: 0 | E27: 200000 | G27: 131014578 | I27: 200000 | J27: =+I27/I$28 -> 0.0013507899
B28: Total Expenditures | C28: =SUM(C25:C27) -> 139696761 | E28: =SUM(E25:E27) -> 138895565 | G28: =SUM(G25:G27) -> 247504052 | I28: =SUM(I25:I27) -> 148061520 | J28: =+I28/I$28 -> 1
B31: Excess (Deficiencies) of
B32: Revenues over Expenditures | C32: =+C22-C28 -> -2900818 | E32: =+E22-E28 -> 5759283 | G32: =+G22-G28 -> -118529683 | I32: =+I22-I28 -> 7802292
B34: Other Financing Resources (Uses)
B35: Other Resources | C35: 80723676 | E35: 0 | G35: 0 | I35: 0
B36: Other Uses | C36: -80032053 | E36: -5000000 | G36: 0 | I36: -6493490
B37: Total Other Financing Resources (Uses) | C37: =SUM(C35:C36) -> 691623 | E37: =SUM(E35:E36) -> -5000000 | G37: =+G35-G36 -> 0 | I37: =SUM(I35:I36) -> -6493490
B39: Excess (Deficiencies) of Revenues and
B40: Other Financial Resources Over Expenditures
B41: and Other Financial Uses | C41: =+C32+C37 -> -2209195 | E41: =+E32+E37 -> 759283 | G41: =+G32+G37 -> -118529683 | I41: =+I32+I37 -> 1308802
B43: Fund Balance, beginning, 9/1 | C43: 29411804 | E43: =+C44 -> 27202609 | G43: =+C44 -> 27202609 | I43: =+E44 -> 27961892
B44: Fund Balance, ending, 8/31 | C44: =SUM(C41:C43) -> 27202609 | E44: =SUM(E41:E43) -> 27961892 | G44: =SUM(G41:G43) -> -91327074 | I44: =SUM(I41:I43) -> 29270694
