Workbook
Name _1_2005_06_RE_CERTIFICATIO: #REF!
Name _1_2005_06_RE_CERTIFICATIO: #REF!
Name _1_2005_06_RE_CERTIFICATIO: #REF!
Name Add_Ons: #REF!
Name Add_Ons: #REF!
Name Add_Ons: #REF!
Name Att_COE: #REF!
Name Att_COE: #REF!
Name Att_COE: #REF!
Name Att_CS: #REF!
Name Att_CS: #REF!
Name CharterInfoReport: #REF!
Name CharterInfoReport: #REF!
Name closed: #REF!
Name closed: #REF!
Name County_UPP: #REF!
Name County_UPP: #REF!
Name Current_Period: #REF!
Name Current_Period: #REF!
Name CY_P2: #REF!
Name CY_P2: #REF!
Name District_Count: #REF!
Name District_Count: #REF!
Name DistrictDetailExpanded: #REF!
Name DistrictDetailExpanded: #REF!
Name EL_Count_and_Criteria: '[1]137-MRPD-EL'!#REF!
Name EL_Count_and_Criteria: '[1]137-MRPD-EL'!#REF!
Name EPA: #REF!
Name EPA: #REF!
Name Foster_Youth_Floor: #REF!
Name Foster_Youth_Floor: #REF!
Name Foster_Youth_Target: #REF!
Name Foster_Youth_Target: #REF!
Name Local_Revenue: #REF!
Name Local_Revenue: #REF!
Name Merge_ELPD_Base_Data3: #REF!
Name Merge_ELPD_Base_Data3: #REF!
Name Merged_CBEDS_Charter_Data: #REF!
Name Merged_CBEDS_Charter_Data: #REF!
Name Open_ClosedSchools: #REF!
Name Open_ClosedSchools: #REF!
Name Ops_Grant: #REF!
Name Ops_Grant: #REF!
Name PA_Summary: #REF!
Name PA_Summary: #REF!
Name pmt: #REF!
Name pmt: #REF!
Name Prior_Period: #REF!
Name Prior_Period: #REF!
Name PY_P2: #REF!
Name PY_P2: #REF!
Name PYC_Summary: #REF!
Name PYC_Summary: #REF!
Name qry_08_09_AdjSchLvl___Dist___LFs: #REF!
Name qry_08_09_AdjSchLvl___Dist___LFs: #REF!
Name qry_aggr2007_Teacher_ct_to_LEA_level: #REF!
Name qry_aggr2007_Teacher_ct_to_LEA_level: #REF!
Name qry_aggre_2007_CBED_PAR_Sch_Level_to_dist_level: #REF!
Name qry_aggre_2007_CBED_PAR_Sch_Level_to_dist_level: #REF!
Name qry_may_7_master_IV_16_programs: #REF!

Sheet Awards Master
B2: GEER | C2: CRF | D2: Prop 98 | F2: Prop 98 | H2: Elementary & Secondary School Emergency Relief | N2: AB86- COVID-19 relief & school reopening, reporting & public health requirements
A3: Program | B3: SB98 Learning Loss Mitigation | F3: SB117 | R3: TOTAL
A4: Resource | B4: 3215 | C4: 3220 | D4: 7420 | F4: 7388 | H4: 3210 | I4: 3212 | J4: 3213 | K4: 3214 LLM | L4: ESSER III | N4: 7422 | O4: 7425 | P4: 7426
A5: District | B5: Award | C5: Award | D5: Award | F5: Award | H5: Award | I5: Preliminary | J5: ESSER III 80%* | K5: ESSER III 20%* | L5: Total Estimate | N5: Preliminary | O5: Preliminary | P5: Preliminary | R5: TOTAL
A6: Sonoma County Office of Education | B6: 213445 | C6: 1159663 | D6: 156251 | F6: 8931 | H6: 0 | I6: 960597 | J6: =VLOOKUP(A6,'ESSER III'!$H$1734:$V$1794,12,FALSE) -> 1753035.6 | K6: =VLOOKUP(A6,'ESSER III'!$H$1734:$V$1794,13,FALSE) -> 438258.89 | L6: =VLOOKUP(A6,'ESSER III'!$H$1734:$V$1794,14,FALSE) -> 2191294.5 | N6: 602612 | O6: 1145363 | P6: 126929 | R6: =SUM(B6:Q6)-L6 -> 6565085.5
A7: Alexander Valley Union Elementary | B7: 5060 | C7: 27598 | D7: 4578 | F7: 1988 | H7: 0 | I7: 0 | J7: =VLOOKUP(A7,'ESSER III'!$H$1734:$V$1794,12,FALSE) -> 0 | K7: =VLOOKUP(A7,'ESSER III'!$H$1734:$V$1794,13,FALSE) -> 0 | L7: =VLOOKUP(A7,'ESSER III'!$H$1734:$V$1794,14,FALSE) -> 0 | N7: 15418 | O7: 29227 | P7: 3248 | R7: =SUM(B7:Q7)-L7 -> 87117
A8: West Sonoma County Union High | B8: 139843 | C8: 893867 | D8: 153346 | F8: 29827 | H8: 121021 | I8: 480241 | J8: =VLOOKUP(A8,'ESSER III'!$H$1734:$V$1794,12,FALSE) -> 867352.59 | K8: =VLOOKUP(A8,'ESSER III'!$H$1734:$V$1794,13,FALSE) -> 216838.15 | L8: =VLOOKUP(A8,'ESSER III'!$H$1734:$V$1794,14,FALSE) -> 1084190.7 | N8: 588522 | O8: 1139653 | P8: 123962 | R8: =SUM(B8:Q8)-L8 -> 4754472.7
A9: Bellevue Union | B9: 128343 | C9: 1855309 | D9: 149459 | F9: 26648 | H9: 395041 | I9: 1626429 | J9: =VLOOKUP(A9,'ESSER III'!$H$1734:$V$1794,12,FALSE) -> 2971273.9 | K9: =VLOOKUP(A9,'ESSER III'!$H$1734:$V$1794,13,FALSE) -> 742818.47 | L9: =VLOOKUP(A9,'ESSER III'!$H$1734:$V$1794,14,FALSE) -> 3714092.3 | N9: 571489 | O9: 1145363 | P9: 120374 | R9: =SUM(B9:Q9)-L9 -> 9732547.3
A10: Bennett Valley Union Elementary | B10: 41861 | C10: 328528 | D10: 73175 | F10: 16908 | H10: 41627 | I10: 211493 | J10: =VLOOKUP(A10,'ESSER III'!$H$1734:$V$1794,12,FALSE) -> 386416.52 | K10: =VLOOKUP(A10,'ESSER III'!$H$1734:$V$1794,13,FALSE) -> 96604.14 | L10: =VLOOKUP(A10,'ESSER III'!$H$1734:$V$1794,14,FALSE) -> 483020.66 | N10: 282212 | O10: 534985 | P10: 59443 | R10: =SUM(B10:Q10)-L10 -> 2073252.7
A11: Cinnabar Elementary | B11: 920 | C11: 18125 | D11: 2098 | F11: 306 | H11: 32656 | I11: 119376 | J11: =VLOOKUP(A11,'ESSER III'!$H$1734:$V$1794,12,FALSE) -> 215145.76 | K11: =VLOOKUP(A11,'ESSER III'!$H$1734:$V$1794,13,FALSE) -> 53786.44 | L11: =VLOOKUP(A11,'ESSER III'!$H$1734:$V$1794,14,FALSE) -> 268932.2 | N11: 8259 | O11: 15655 | P11: 1740 | R11: =SUM(B11:Q11)-L11 -> 468067.2
A12: Cinnabar Charter | B12: 16560 | C12: 195901 | D12: 19250 | F12: 3912 | H12: 0 | I12: 0 | J12: =_xlfn.IFNA(VLOOKUP($A12,'ESSER III'!$H$1734:$V$1794,12,FALSE),0) -> 0 | K12: =_xlfn.IFNA(VLOOKUP($A12,'ESSER III'!$H$1734:$V$1794,13,FALSE),0) -> 0 | L12: =_xlfn.IFNA(VLOOKUP($A12,'ESSER III'!$H$1734:$V$1794,14,FALSE),0) -> 0 | N12: 76127 | O12: 144313 | P12: 16035 | R12: =SUM(B12:Q12)-L12 -> 472098
A13: Cloverdale Unified | B13: 95682 | C13: 974735 | D13: 114529 | F13: 23000 | H13: 112771 | I13: 536392 | J13: =_xlfn.IFNA(VLOOKUP($A13,'ESSER III'!$H$1734:$V$1794,12,FALSE),0) -> 980041.92 | K13: =_xlfn.IFNA(VLOOKUP($A13,'ESSER III'!$H$1734:$V$1794,13,FALSE),0) -> 245010.49 | L13: =_xlfn.IFNA(VLOOKUP($A13,'ESSER III'!$H$1734:$V$1794,14,FALSE),0) -> 1225052.4 | N13: 432485 | O13: 835856 | P13: 91095 | R13: =SUM(B13:Q13)-L13 -> 4441597.4
A14: Dunham Elementary | B14: 2300 | C14: 9204 | D14: 691 | F14: 250 | H14: 0 | I14: 0 | J14: =_xlfn.IFNA(VLOOKUP($A14,'ESSER III'!$H$1734:$V$1794,12,FALSE),0) -> 0 | K14: =_xlfn.IFNA(VLOOKUP($A14,'ESSER III'!$H$1734:$V$1794,13,FALSE),0) -> 0 | L14: =_xlfn.IFNA(VLOOKUP($A14,'ESSER III'!$H$1734:$V$1794,14,FALSE),0) -> 0 | N14: 2584 | O14: 4898 | P14: 544 | R14: =SUM(B14:Q14)-L14 -> 20471
A15: Dunham Charter | B15: 9660 | C15: 59865 | D15: 11138 | F15: 2551 | H15: 0 | I15: 0 | J15: =_xlfn.IFNA(VLOOKUP($A15,'ESSER III'!$H$1734:$V$1794,12,FALSE),0) -> 0 | K15: =_xlfn.IFNA(VLOOKUP($A15,'ESSER III'!$H$1734:$V$1794,13,FALSE),0) -> 0 | L15: =_xlfn.IFNA(VLOOKUP($A15,'ESSER III'!$H$1734:$V$1794,14,FALSE),0) -> 0 | N15: 43082 | O15: 81670 | P15: 9074 | R15: =SUM(B15:Q15)-L15 -> 217040
A16: Forestville Union Elementary | B16: 2760 | C16: 23804 | D16: 4598 | F16: 935 | H16: 36246 | I16: 143124 | J16: =_xlfn.IFNA(VLOOKUP($A16,'ESSER III'!$H$1734:$V$1794,12,FALSE),0) -> 257725.24 | K16: =_xlfn.IFNA(VLOOKUP($A16,'ESSER III'!$H$1734:$V$1794,13,FALSE),0) -> 64431.31 | L16: =_xlfn.IFNA(VLOOKUP($A16,'ESSER III'!$H$1734:$V$1794,14,FALSE),0) -> 322156.55 | N16: 16646 | O16: 31556 | P16: 3506 | R16: =SUM(B16:Q16)-L16 -> 585331.55
A17: Forestville Academy | B17: 12420 | C17: 108606 | D17: 16676 | F17: 3827 | H17: 0 | I17: 0 | J17: =_xlfn.IFNA(VLOOKUP($A17,'ESSER III'!$H$1734:$V$1794,12,FALSE),0) -> 0 | K17: =_xlfn.IFNA(VLOOKUP($A17,'ESSER III'!$H$1734:$V$1794,13,FALSE),0) -> 0 | L17: =_xlfn.IFNA(VLOOKUP($A17,'ESSER III'!$H$1734:$V$1794,14,FALSE),0) -> 0 | N17: 64403 | O17: 125088 | P17: 13565 | R17: =SUM(B17:Q17)-L17 -> 344585
A18: Fort Ross Elementary | B18: 1380 | C18: 19110 | D18: 2335 | F18: 296 | H18: 9553 | I18: 46184 | J18: =_xlfn.IFNA(VLOOKUP($A18,'ESSER III'!$H$1734:$V$1794,12,FALSE),0) -> 84333.72 | K18: =_xlfn.IFNA(VLOOKUP($A18,'ESSER III'!$H$1734:$V$1794,13,FALSE),0) -> 21083.42 | L18: =_xlfn.IFNA(VLOOKUP($A18,'ESSER III'!$H$1734:$V$1794,14,FALSE),0) -> 105417.14 | N18: 7670 | O18: 14540 | P18: 1616 | R18: =SUM(B18:Q18)-L18 -> 208101.14
A19: Geyserville Unified | B19: 15640 | C19: 133155 | D19: 14138 | F19: 3738 | H19: 12231 | I19: 73562 | J19: =_xlfn.IFNA(VLOOKUP($A19,'ESSER III'!$H$1734:$V$1794,12,FALSE),0) -> 134405.76 | K19: =_xlfn.IFNA(VLOOKUP($A19,'ESSER III'!$H$1734:$V$1794,13,FALSE),0) -> 33601.43 | L19: =_xlfn.IFNA(VLOOKUP($A19,'ESSER III'!$H$1734:$V$1794,14,FALSE),0) -> 168007.19 | N19: 53797 | O19: 107983 | P19: 11331 | R19: =SUM(B19:Q19)-L19 -> 593582.19
A20: Gravenstein Union Elementary | B20: 2300 | C20: 20341 | D20: 6334 | F20: 699 | H20: 33753 | I20: 137931 | J20: =_xlfn.IFNA(VLOOKUP($A20,'ESSER III'!$H$1734:$V$1794,12,FALSE),0) -> 252010.79 | K20: =_xlfn.IFNA(VLOOKUP($A20,'ESSER III'!$H$1734:$V$1794,13,FALSE),0) -> 63002.69 | L20: =_xlfn.IFNA(VLOOKUP($A20,'ESSER III'!$H$1734:$V$1794,14,FALSE),0) -> 315013.48 | N20: 24363 | O20: 46183 | P20: 5132 | R20: =SUM(B20:Q20)-L20 -> 592049.48
A21: Gravenstein Elementary | B21: 15180 | C21: 126372 | D21: 31875 | F21: 7443 | H21: 0 | I21: 0 | J21: =_xlfn.IFNA(VLOOKUP($A21,'ESSER III'!$H$1734:$V$1794,12,FALSE),0) -> 0 | K21: =_xlfn.IFNA(VLOOKUP($A21,'ESSER III'!$H$1734:$V$1794,13,FALSE),0) -> 0 | L21: =_xlfn.IFNA(VLOOKUP($A21,'ESSER III'!$H$1734:$V$1794,14,FALSE),0) -> 0 | N21: 123218 | O21: 234583 | P21: 25954 | R21: =SUM(B21:Q21)-L21 -> 564625
A22: Hillcrest Middle | B22: 7360 | C22: 63978 | D22: 18613 | F22: 4554 | H22: 0 | I22: 0 | J22: =_xlfn.IFNA(VLOOKUP($A22,'ESSER III'!$H$1734:$V$1794,12,FALSE),0) -> 0 | K22: =_xlfn.IFNA(VLOOKUP($A22,'ESSER III'!$H$1734:$V$1794,13,FALSE),0) -> 0 | L22: =_xlfn.IFNA(VLOOKUP($A22,'ESSER III'!$H$1734:$V$1794,14,FALSE),0) -> 0 | N22: 71688 | O22: 138898 | P22: 15100 | R22: =SUM(B22:Q22)-L22 -> 320191
A23: Guerneville Elementary | B23: 1840 | C23: 20356 | D23: 2889 | F23: 388 | H23: 87766 | I23: 327679 | J23: =_xlfn.IFNA(VLOOKUP($A23,'ESSER III'!$H$1734:$V$1794,12,FALSE),0) -> 588420.3 | K23: =_xlfn.IFNA(VLOOKUP($A23,'ESSER III'!$H$1734:$V$1794,13,FALSE),0) -> 147105.07 | L23: =_xlfn.IFNA(VLOOKUP($A23,'ESSER III'!$H$1734:$V$1794,14,FALSE),0) -> 735525.37 | N23: 11151 | O23: 21138 | P23: 2349 | R23: =SUM(B23:Q23)-L23 -> 1211081.4
... A51: Petaluma City Elementary | B51: 180784 | C51: 1012733 | D51: 122894 | F51: 27849 | H51: 175515 | I51: 696554 | J51: =_xlfn.IFNA(VLOOKUP($A51,'ESSER III'!$H$1734:$V$1794,12,FALSE),0) -> 1247978.1 | K51: =_xlfn.IFNA(VLOOKUP($A51,'ESSER III'!$H$1734:$V$1794,13,FALSE),0) -> 311994.52 | L51: =_xlfn.IFNA(VLOOKUP($A51,'ESSER III'!$H$1734:$V$1794,14,FALSE),0) -> 1559972.6 | N51: 481102 | O51: 932018 | P51: 101335 | R51: =SUM(B51:Q51)-L51 -> 5290756.6
A52: Sixth Grade Charter Academy at Petaluma Jr. High | B52: 2300 | C52: 11871 | D52: 1811 | F52: 459 | H52: 0 | J52: =_xlfn.IFNA(VLOOKUP($A52,'ESSER III'!$H$1734:$V$1794,12,FALSE),0) -> 0 | K52: =_xlfn.IFNA(VLOOKUP($A52,'ESSER III'!$H$1734:$V$1794,13,FALSE),0) -> 0 | L52: =_xlfn.IFNA(VLOOKUP($A52,'ESSER III'!$H$1734:$V$1794,14,FALSE),0) -> 0 | N52: 0 | O52: 0 | P52: 0 | R52: 0
A53: Penngrove Elementary | B53: 29901 | C53: 180560 | D53: 31251 | F53: 7323 | H53: 0 | I53: 0 | J53: =_xlfn.IFNA(VLOOKUP($A53,'ESSER III'!$H$1734:$V$1794,12,FALSE),0) -> 0 | K53: =_xlfn.IFNA(VLOOKUP($A53,'ESSER III'!$H$1734:$V$1794,13,FALSE),0) -> 0 | L53: =_xlfn.IFNA(VLOOKUP($A53,'ESSER III'!$H$1734:$V$1794,14,FALSE),0) -> 0 | N53: 120903 | O53: 229193 | P53: 25466 | R53: =SUM(B53:Q53)-L53 -> 624597
A54: Live Oak Charter | B54: 15180 | C54: 91985 | D54: 20236 | F54: 4787 | H54: 0 | I54: 53004 | J54: =_xlfn.IFNA(VLOOKUP($A54,'ESSER III'!$H$1734:$V$1794,12,FALSE),0) -> 96841.1 | K54: =_xlfn.IFNA(VLOOKUP($A54,'ESSER III'!$H$1734:$V$1794,13,FALSE),0) -> 24210.28 | L54: =_xlfn.IFNA(VLOOKUP($A54,'ESSER III'!$H$1734:$V$1794,14,FALSE),0) -> 121051.38 | N54: 78197 | O54: 150237 | P54: 16471 | R54: =SUM(B54:Q54)-L54 -> 551148.38
A55: Petaluma Joint Union High | B55: 330748 | C55: 2317655 | D55: 396813 | F55: 80086 | H55: 272784 | I55: 1158607 | J55: =_xlfn.IFNA(VLOOKUP($A55,'ESSER III'!$H$1734:$V$1794,12,FALSE),0) -> 2116890.6 | K55: =_xlfn.IFNA(VLOOKUP($A55,'ESSER III'!$H$1734:$V$1794,13,FALSE),0) -> 529222.64 | L55: =_xlfn.IFNA(VLOOKUP($A55,'ESSER III'!$H$1734:$V$1794,14,FALSE),0) -> 2646113.2 | N55: 1534532 | O55: 2939993 | P55: 323221 | R55: =SUM(B55:Q55)-L55 -> 12000552
A56: Gateway to College Academy | B56: 10120 | C56: 44038 | D56: 4005 | F56: 833 | H56: 0 | I56: 0 | J56: =_xlfn.IFNA(VLOOKUP($A56,'ESSER III'!$H$1734:$V$1794,12,FALSE),0) -> 0 | K56: =_xlfn.IFNA(VLOOKUP($A56,'ESSER III'!$H$1734:$V$1794,13,FALSE),0) -> 0 | L56: =_xlfn.IFNA(VLOOKUP($A56,'ESSER III'!$H$1734:$V$1794,14,FALSE),0) -> 0 | N56: 0 | O56: 0 | P56: 0 | R56: 0
A57: Petaluma Accelerated Charter School | B57: 1840 | C57: 24164 | D57: 7892 | F57: 1933 | H57: 0 | I57: 0 | J57: =_xlfn.IFNA(VLOOKUP($A57,'ESSER III'!$H$1734:$V$1794,12,FALSE),0) -> 0 | K57: =_xlfn.IFNA(VLOOKUP($A57,'ESSER III'!$H$1734:$V$1794,13,FALSE),0) -> 0 | L57: =_xlfn.IFNA(VLOOKUP($A57,'ESSER III'!$H$1734:$V$1794,14,FALSE),0) -> 0 | N57: 30523 | O57: 58862 | P57: 6429 | R57: =SUM(B57:Q57)-L57 -> 131643
A58: Mary Collins Charter School at Cherry Valley | B58: 27601 | C58: 150294 | D58: 28454 | F58: 6905 | H58: 0 | I58: 0 | J58: =_xlfn.IFNA(VLOOKUP($A58,'ESSER III'!$H$1734:$V$1794,12,FALSE),0) -> 0 | K58: =_xlfn.IFNA(VLOOKUP($A58,'ESSER III'!$H$1734:$V$1794,13,FALSE),0) -> 0 | L58: =_xlfn.IFNA(VLOOKUP($A58,'ESSER III'!$H$1734:$V$1794,14,FALSE),0) -> 0 | N58: 110687 | O58: 212829 | P58: 23314 | R58: =SUM(B58:Q58)-L58 -> 560084
A59: Piner-Olivet Union Elementary | B59: 13800 | C59: 127744 | D59: 23329 | F59: 4728 | H59: 81218 | I59: 322324 | J59: =_xlfn.IFNA(VLOOKUP($A59,'ESSER III'!$H$1734:$V$1794,12,FALSE),0) -> 577493.19 | K59: =_xlfn.IFNA(VLOOKUP($A59,'ESSER III'!$H$1734:$V$1794,13,FALSE),0) -> 144373.29 | L59: =_xlfn.IFNA(VLOOKUP($A59,'ESSER III'!$H$1734:$V$1794,14,FALSE),0) -> 721866.48 | N59: 88326 | O59: 167439 | P59: 18604 | R59: =SUM(B59:Q59)-L59 -> 1569378.5
A60: Northwest Prep Charter | B60: 0 | C60: 7055 | D60: 8661 | F60: 1277 | H60: 16879 | I60: 64856 | J60: =_xlfn.IFNA(VLOOKUP($A60,'ESSER III'!$H$1734:$V$1794,12,FALSE),0) -> 116200.41 | K60: =_xlfn.IFNA(VLOOKUP($A60,'ESSER III'!$H$1734:$V$1794,13,FALSE),0) -> 29050.1 | L60: =_xlfn.IFNA(VLOOKUP($A60,'ESSER III'!$H$1734:$V$1794,14,FALSE),0) -> 145250.51 | N60: 0 | O60: 62680 | P60: 6965 | R60: =SUM(B60:Q60)-L60 -> 313623.51
A61: Olivet Elementary Charter | B61: 11500 | C61: 132822 | D61: 24460 | F61: 5437 | H61: 49477 | I61: 173977 | J61: =_xlfn.IFNA(VLOOKUP($A61,'ESSER III'!$H$1734:$V$1794,12,FALSE),0) -> 311703.77 | K61: =_xlfn.IFNA(VLOOKUP($A61,'ESSER III'!$H$1734:$V$1794,13,FALSE),0) -> 77925.94 | L61: =_xlfn.IFNA(VLOOKUP($A61,'ESSER III'!$H$1734:$V$1794,14,FALSE),0) -> 389629.71 | N61: 93721 | O61: 177666 | P61: 19741 | R61: =SUM(B61:Q61)-L61 -> 1078430.7
A62: Morrice Schaefer Charter | B62: 9200 | C62: 142286 | D62: 25529 | F62: 5750 | H62: 78507 | I62: 267324 | J62: =_xlfn.IFNA(VLOOKUP($A62,'ESSER III'!$H$1734:$V$1794,12,FALSE),0) -> 478951.31 | K62: =_xlfn.IFNA(VLOOKUP($A62,'ESSER III'!$H$1734:$V$1794,13,FALSE),0) -> 119737.83 | L62: =_xlfn.IFNA(VLOOKUP($A62,'ESSER III'!$H$1734:$V$1794,14,FALSE),0) -> 598689.14 | N62: 97756 | O62: 185314 | P62: 20590 | R62: =SUM(B62:Q62)-L62 -> 1430945.1
A63: Piner-Olivet Charter | B63: 6440 | C63: 79292 | D63: 15097 | F63: 3505 | H63: 33239 | I63: 113181 | J63: =_xlfn.IFNA(VLOOKUP($A63,'ESSER III'!$H$1734:$V$1794,12,FALSE),0) -> 202782.61 | K63: =_xlfn.IFNA(VLOOKUP($A63,'ESSER III'!$H$1734:$V$1794,13,FALSE),0) -> 50695.66 | L63: =_xlfn.IFNA(VLOOKUP($A63,'ESSER III'!$H$1734:$V$1794,14,FALSE),0) -> 253478.27 | N63: 57993 | O63: 109937 | P63: 12215 | R63: =SUM(B63:Q63)-L63 -> 684377.27
A64: Kashia Elementary | B64: 1840 | C64: 17866 | D64: 1732 | F64: 250 | H64: 0 | I64: 0 | J64: =_xlfn.IFNA(VLOOKUP($A64,'ESSER III'!$H$1734:$V$1794,12,FALSE),0) -> 0 | K64: =_xlfn.IFNA(VLOOKUP($A64,'ESSER III'!$H$1734:$V$1794,13,FALSE),0) -> 0 | L64: =_xlfn.IFNA(VLOOKUP($A64,'ESSER III'!$H$1734:$V$1794,14,FALSE),0) -> 0 | N64: 6452 | O64: 22232 | P64: 1359 | R64: =SUM(B64:Q64)-L64 -> 51731
A65: Rincon Valley Union Elementary | B65: 135703 | C65: 676320 | D65: 106673 | F65: 22021 | H65: 189256 | I65: 751014 | J65: =_xlfn.IFNA(VLOOKUP($A65,'ESSER III'!$H$1734:$V$1794,12,FALSE),0) -> 1345552.9 | K65: =_xlfn.IFNA(VLOOKUP($A65,'ESSER III'!$H$1734:$V$1794,13,FALSE),0) -> 336388.21 | L65: =_xlfn.IFNA(VLOOKUP($A65,'ESSER III'!$H$1734:$V$1794,14,FALSE),0) -> 1681941.1 | N65: 421896 | O65: 808782 | P65: 88865 | R65: =SUM(B65:Q65)-L65 -> 4882471.1
A66: Rincon Valley Charter | B66: 22081 | C66: 137113 | D66: 25329 | F66: 5342 | H66: 0 | I66: 0 | J66: =_xlfn.IFNA(VLOOKUP($A66,'ESSER III'!$H$1734:$V$1794,12,FALSE),0) -> 0 | K66: =_xlfn.IFNA(VLOOKUP($A66,'ESSER III'!$H$1734:$V$1794,13,FALSE),0) -> 0 | L66: =_xlfn.IFNA(VLOOKUP($A66,'ESSER III'!$H$1734:$V$1794,14,FALSE),0) -> 0 | N66: 97701 | O66: 187210 | P66: 20579 | R66: =SUM(B66:Q66)-L66 -> 495355
A67: Spring Creek Matanzas Charter | B67: 45081 | C67: 278500 | D67: 35556 | F67: 7573 | H67: 0 | I67: 0 | J67: =_xlfn.IFNA(VLOOKUP($A67,'ESSER III'!$H$1734:$V$1794,12,FALSE),0) -> 0 | K67: =_xlfn.IFNA(VLOOKUP($A67,'ESSER III'!$H$1734:$V$1794,13,FALSE),0) -> 0 | L67: =_xlfn.IFNA(VLOOKUP($A67,'ESSER III'!$H$1734:$V$1794,14,FALSE),0) -> 0 | N67: 137556 | O67: 261763 | P67: 28974 | R67: =SUM(B67:Q67)-L67 -> 795003
A68: Whited Elementary Charter | B68: 22541 | C68: 181014 | D68: 27855 | F68: 6229 | H68: 0 | I68: 0 | J68: =_xlfn.IFNA(VLOOKUP($A68,'ESSER III'!$H$1734:$V$1794,12,FALSE),0) -> 0 | K68: =_xlfn.IFNA(VLOOKUP($A68,'ESSER III'!$H$1734:$V$1794,13,FALSE),0) -> 0 | L68: =_xlfn.IFNA(VLOOKUP($A68,'ESSER III'!$H$1734:$V$1794,14,FALSE),0) -> 0 | N68: 107858 | O68: 204465 | P68: 22718 | R68: =SUM(B68:Q68)-L68 -> 572680
...

Sheet ESSER III
A1: American Rescue Plan (ARP) Act , 2020–21
A2: Elementary and Secondary School Relief III (ESSER III) Fund
A3: To receive a preliminary allocation amount for ESSER III, the LEA must have received a 2020-21 Title I allocation by 1) meeting Title I, Part A eligiblity requirements, 2) submitting the 2020-21 CARS Application for Funding by 4/16/2021, and 3) submitting the LCAP Federal Addendum by 4/16/2021.
A4: LEAs with $0 preliminary ESSER III allocation in Column K did not meet one or more of the requirements listed above in row 3.
A5: LEAs must complete the ESSER III Legal Assurances to receive payment.
A6: 1An LEA must reserve not less than 20 percent of its total ESSER III allocation to address learning loss through the implementation of evidence-based interventions and ensure that such interventions respond to students’ academic, social, and emotional needs.
A7: The U.S. Department of Education (ED) has made $10,045,923,031 of ESSER III funding available to California for allocation to LEAs as of May 2021. | S7: a | T7: b
A8: County Name | B8: Full CDS Code | C8: County Code | D8: District Code | E8: School Code | F8: Direct Funded Charter School Number | G8: Service Location Field | H8: Local Educational Agency | I8: 2020–21 Title I pre-MOE Allocation | J8: Percentage Share of Title I | K8: ESSER III Preliminary Allocation | L8: Current Budget Authority per 6100-163-0890 | M8: Current Authority 80% of Funding for Allowable Uses of ESSER III Resource 3213 | N8: Current Authority 20% of Funding to Address Learning Loss1 Resource 3214 | O8: Future Budget Authority per 6100-163-0890 | P8: Future Authority 80% of Funding for Allowable Uses of ESSER III Resource 3213 | Q8: Future Authority 20% of Funding to Address Learning Loss1 Resource 3214 | S8: Current + Future Authority 80% | T8: Current + Future Authority 20% | U8: a+ b | V8: double check
A9: Alameda | B9: 01100170000000 | C9: 01 | D9: 10017 | E9: 0000000 | F9: N/A | G9: 10017 | H9: Alameda County Office of Education | I9: 742048.95 | J9: 0.00040638512 | K9: =ROUND(J9*13561996091,2) -> 5511393.3 | L9: =ROUND(K9*(10045923031/13561996091),2) -> 4082513.6 | M9: =ROUND(L9*0.8,2) -> 3266010.9 | N9: =L9-M9 -> 816502.72 | O9: =K9-L9 -> 1428879.8 | P9: =ROUND(O9*0.8,2) -> 1143103.8 | Q9: =O9-P9 -> 285775.95
A10: Alameda | B10: 01611190000000 | C10: 01 | D10: 61119 | E10: 0000000 | F10: N/A | G10: 61119 | H10: Alameda Unified | I10: 959620.62 | J10: 0.00052553883 | K10: =ROUND(J10*13561996091,2) -> 7127355.5 | L10: =ROUND(K10*(10045923031/13561996091),2) -> 5279522.6 | M10: =ROUND(L10*0.8,2) -> 4223618.1 | N10: =L10-M10 -> 1055904.5 | O10: =K10-L10 -> 1847832.9 | P10: =ROUND(O10*0.8,2) -> 1478266.3 | Q10: =O10-P10 -> 369566.58
A11: Alameda | B11: 01611270000000 | C11: 01 | D11: 61127 | E11: 0000000 | F11: N/A | G11: 61127 | H11: Albany City Unified | I11: 175740.89 | J11: 9.6244973e-05 | K11: =ROUND(J11*13561996091,2) -> 1305273.9 | L11: =ROUND(K11*(10045923031/13561996091),2) -> 966869.59 | M11: =ROUND(L11*0.8,2) -> 773495.67 | N11: =L11-M11 -> 193373.92 | O11: =K11-L11 -> 338404.36 | P11: =ROUND(O11*0.8,2) -> 270723.49 | Q11: =O11-P11 -> 67680.87
A12: Alameda | B12: 01611430000000 | C12: 01 | D12: 61143 | E12: 0000000 | F12: N/A | G12: 61143 | H12: Berkeley Unified | I12: 708781.98 | J12: 0.00038816637 | K12: =ROUND(J12*13561996091,2) -> 5264310.7 | L12: =ROUND(K12*(10045923031/13561996091),2) -> 3899489.4 | M12: =ROUND(L12*0.8,2) -> 3119591.5 | N12: =L12-M12 -> 779897.89 | O12: =K12-L12 -> 1364821.3 | P12: =ROUND(O12*0.8,2) -> 1091857 | Q12: =O12-P12 -> 272964.26
A13: Alameda | B13: 01611500000000 | C13: 01 | D13: 61150 | E13: 0000000 | F13: N/A | G13: 61150 | H13: Castro Valley Unified | I13: 314013.42 | J13: 0.0001719703 | K13: =ROUND(J13*13561996091,2) -> 2332260.5 | L13: =ROUND(K13*(10045923031/13561996091),2) -> 1727600.4 | M13: =ROUND(L13*0.8,2) -> 1382080.3 | N13: =L13-M13 -> 345520.08 | O13: =K13-L13 -> 604660.14 | P13: =ROUND(O13*0.8,2) -> 483728.11 | Q13: =O13-P13 -> 120932.03
A14: Alameda | B14: 01611680000000 | C14: 01 | D14: 61168 | E14: 0000000 | F14: N/A | G14: 61168 | H14: Emery Unified | I14: 96406.531 | J14: 5.2797297e-05 | K14: =ROUND(J14*13561996091,2) -> 716036.74 | L14: =ROUND(K14*(10045923031/13561996091),2) -> 530397.59 | M14: =ROUND(L14*0.8,2) -> 424318.07 | N14: =L14-M14 -> 106079.52 | O14: =K14-L14 -> 185639.15 | P14: =ROUND(O14*0.8,2) -> 148511.32 | Q14: =O14-P14 -> 37127.83
A15: Alameda | B15: 01611760000000 | C15: 01 | D15: 61176 | E15: 0000000 | F15: N/A | G15: 61176 | H15: Fremont Unified | I15: 1129966.1 | J15: 0.00061882899 | K15: =ROUND(J15*13561996091,2) -> 8392556.3 | L15: =ROUND(K15*(10045923031/13561996091),2) -> 6216708.4 | M15: =ROUND(L15*0.8,2) -> 4973366.7 | N15: =L15-M15 -> 1243341.7 | O15: =K15-L15 -> 2175847.9 | P15: =ROUND(O15*0.8,2) -> 1740678.3 | Q15: =O15-P15 -> 435169.59
A16: Alameda | B16: 01611920000000 | C16: 01 | D16: 61192 | E16: 0000000 | F16: N/A | G16: 61192 | H16: Hayward Unified | I16: 4504328.1 | J16: 0.0024668075 | K16: =ROUND(J16*13561996091,2) -> 33454833 | L16: =ROUND(K16*(10045923031/13561996091),2) -> 24781358 | M16: =ROUND(L16*0.8,2) -> 19825086 | N16: =L16-M16 -> 4956271.6 | O16: =K16-L16 -> 8673475.3 | P16: =ROUND(O16*0.8,2) -> 6938780.3 | Q16: =O16-P16 -> 1734695.1
A17: Alameda | B17: 01612000000000 | C17: 01 | D17: 61200 | E17: 0000000 | F17: N/A | G17: 61200 | H17: Livermore Valley Joint Unified | I17: 480917.63 | J17: 0.00026337584 | K17: =ROUND(J17*13561996091,2) -> 3571902.1 | L17: =ROUND(K17*(10045923031/13561996091),2) -> 2645853.4 | M17: =ROUND(L17*0.8,2) -> 2116682.7 | N17: =L17-M17 -> 529170.68 | O17: =K17-L17 -> 926048.7 | P17: =ROUND(O17*0.8,2) -> 740838.96 | Q17: =O17-P17 -> 185209.74
A18: Alameda | B18: 01612180000000 | C18: 01 | D18: 61218 | E18: 0000000 | F18: N/A | G18: 61218 | H18: Mountain House Elementary | I18: 17490.296 | J18: 9.5786076e-06 | K18: =ROUND(J18*13561996091,2) -> 129905.04 | L18: =ROUND(K18*(10045923031/13561996091),2) -> 96225.96 | M18: =ROUND(L18*0.8,2) -> 76980.77 | N18: =L18-M18 -> 19245.19 | O18: =K18-L18 -> 33679.08 | P18: =ROUND(O18*0.8,2) -> 26943.26 | Q18: =O18-P18 -> 6735.82
A19: Alameda | B19: 01612340000000 | C19: 01 | D19: 61234 | E19: 0000000 | F19: N/A | G19: 61234 | H19: Newark Unified | I19: 562137.43 | J19: 0.00030785608 | K19: =ROUND(J19*13561996091,2) -> 4175143 | L19: =ROUND(K19*(10045923031/13561996091),2) -> 3092698.5 | M19: =ROUND(L19*0.8,2) -> 2474158.8 | N19: =L19-M19 -> 618539.7 | O19: =K19-L19 -> 1082444.5 | P19: =ROUND(O19*0.8,2) -> 865955.58 | Q19: =O19-P19 -> 216488.9
A20: Alameda | B20: 01612420000000 | C20: 01 | D20: 61242 | E20: 0000000 | F20: N/A | G20: 61242 | H20: New Haven Unified | I20: 1105815.1 | J20: 0.00060560263 | K20: =ROUND(J20*13561996091,2) -> 8213180.5 | L20: =ROUND(K20*(10045923031/13561996091),2) -> 6083837.4 | M20: =ROUND(L20*0.8,2) -> 4867070 | N20: =L20-M20 -> 1216767.5 | O20: =K20-L20 -> 2129343.1 | P20: =ROUND(O20*0.8,2) -> 1703474.5 | Q20: =O20-P20 -> 425868.62
... A158: Contra Costa | B158: 07617960132118 | C158: 07 | D158: 61796 | E158: 0132118 | F158: 1740 | G158: C1740 | H158: Aspire Richmond Technology Academy | I158: 115840.45 | J158: 6.3440336e-05 | K158: =ROUND(J158*13561996091,2) -> 860377.59 | L158: =ROUND(K158*(10045923031/13561996091),2) -> 637316.73 | M158: =ROUND(L158*0.8,2) -> 509853.38 | N158: =L158-M158 -> 127463.35 | O158: =K158-L158 -> 223060.86 | P158: =ROUND(O158*0.8,2) -> 178448.69 | Q158: =O158-P158 -> 44612.17
A159: Contra Costa | B159: 07773540132233 | C159: 07 | D159: 77354 | E159: 0132233 | F159: 1741 | G159: C1741 | H159: John Henry High | I159: 108322.21 | J159: 5.9322951e-05 | K159: =ROUND(J159*13561996091,2) -> 804537.63 | L159: =ROUND(K159*(10045923031/13561996091),2) -> 595953.8 | M159: =ROUND(L159*0.8,2) -> 476763.04 | N159: =L159-M159 -> 119190.76 | O159: =K159-L159 -> 208583.83 | P159: =ROUND(O159*0.8,2) -> 166867.06 | Q159: =O159-P159 -> 41716.77
A160: Contra Costa | B160: 07100740134114 | C160: 07 | D160: 10074 | E160: 0134114 | F160: 1773 | G160: C1773 | H160: Contra Costa School of Performing Arts | I160: 36431.376 | J160: 1.9951741e-05 | K160: =ROUND(J160*13561996091,2) -> 270585.44 | L160: =ROUND(K160*(10045923031/13561996091),2) -> 200433.66 | M160: =ROUND(L160*0.8,2) -> 160346.93 | N160: =L160-M160 -> 40086.73 | O160: =K160-L160 -> 70151.78 | P160: =ROUND(O160*0.8,2) -> 56121.42 | Q160: =O160-P160 -> 14030.36
A161: Contra Costa | B161: 07617960133637 | C161: 07 | D161: 61796 | E161: 0133637 | F161: 1774 | G161: C1774 | H161: Summit Public School: Tamalpais | I161: 108749.93 | J161: 5.9557191e-05 | K161: =ROUND(J161*13561996091,2) -> 807714.39 | L161: =ROUND(K161*(10045923031/13561996091),2) -> 598306.96 | M161: =ROUND(L161*0.8,2) -> 478645.57 | N161: =L161-M161 -> 119661.39 | O161: =K161-L161 -> 209407.43 | P161: =ROUND(O161*0.8,2) -> 167525.94 | Q161: =O161-P161 -> 41881.49
A162: Contra Costa | B162: 07770240134072 | C162: 07 | D162: 77024 | E162: 0134072 | F162: 1805 | G162: C1805 | H162: Rocketship Futuro Academy | I162: 151981.54 | J162: 8.3233102e-05 | K162: =ROUND(J162*13561996091,2) -> 1128807 | L162: =ROUND(K162*(10045923031/13561996091),2) -> 836153.34 | M162: =ROUND(L162*0.8,2) -> 668922.67 | N162: =L162-M162 -> 167230.67 | O162: =K162-L162 -> 292653.67 | P162: =ROUND(O162*0.8,2) -> 234122.94 | Q162: =O162-P162 -> 58530.73
A163: Contra Costa | B163: 07617960136903 | C163: 07 | D163: 61796 | E163: 0136903 | F163: 1906 | G163: C1906 | H163: Voices College-Bound Language Academy at West Contra Costa County | I163: 51685.873 | J163: 2.8305908e-05 | K163: =ROUND(J163*13561996091,2) -> 383884.61 | L163: =ROUND(K163*(10045923031/13561996091),2) -> 284358.97 | M163: =ROUND(L163*0.8,2) -> 227487.18 | N163: =L163-M163 -> 56871.79 | O163: =K163-L163 -> 99525.64 | P163: =ROUND(O163*0.8,2) -> 79620.51 | Q163: =O163-P163 -> 19905.13
A164: Contra Costa | B164: 07100740137026 | C164: 07 | D164: 10074 | E164: 0137026 | F164: 1933 | G164: C1933 | H164: Invictus Academy of Richmond | I164: 48321.866 | J164: 2.64636e-05 | K164: =ROUND(J164*13561996091,2) -> 358899.25 | L164: =ROUND(K164*(10045923031/13561996091),2) -> 265851.3 | M164: =ROUND(L164*0.8,2) -> 212681.04 | N164: =L164-M164 -> 53170.26 | O164: =K164-L164 -> 93047.95 | P164: =ROUND(O164*0.8,2) -> 74438.36 | Q164: =O164-P164 -> 18609.59
A165: Contra Costa | B165: 07616480137430 | C165: 07 | D165: 61648 | E165: 0137430 | F165: 1965 | G165: C1965 | H165: Rocketship Delta Prep | I165: 119338.36 | J165: 6.5355976e-05 | K165: =ROUND(J165*13561996091,2) -> 886357.5 | L165: =ROUND(K165*(10045923031/13561996091),2) -> 656561.11 | M165: =ROUND(L165*0.8,2) -> 525248.89 | N165: =L165-M165 -> 131312.22 | O165: =K165-L165 -> 229796.39 | P165: =ROUND(O165*0.8,2) -> 183837.11 | Q165: =O165-P165 -> 45959.28
A166: Del Norte | B166: 08100820000000 | C166: 08 | D166: 10082 | E166: 0000000 | F166: N/A | G166: 10082 | H166: Del Norte County Office of Education | I166: 88585.857 | J166: 4.8514284e-05 | K166: =ROUND(J166*13561996091,2) -> 657950.53 | L166: =ROUND(K166*(10045923031/13561996091),2) -> 487370.76 | M166: =ROUND(L166*0.8,2) -> 389896.61 | N166: =L166-M166 -> 97474.15 | O166: =K166-L166 -> 170579.77 | P166: =ROUND(O166*0.8,2) -> 136463.82 | Q166: =O166-P166 -> 34115.95
A167: Del Norte | B167: 08618200000000 | C167: 08 | D167: 61820 | E167: 0000000 | F167: N/A | G167: 61820 | H167: Del Norte County Unified | I167: 1602160.1 | J167: 0.00087742732 | K167: =ROUND(J167*13561996091,2) -> 11899666 | L167: =ROUND(K167*(10045923031/13561996091),2) -> 8814567.3 | M167: =ROUND(L167*0.8,2) -> 7051653.8 | N167: =L167-M167 -> 1762913.5 | O167: =K167-L167 -> 3085098.6 | P167: =ROUND(O167*0.8,2) -> 2468078.9 | Q167: =O167-P167 -> 617019.71
A168: Del Norte | B168: 08618200137729 | C168: 08 | D168: 61820 | E168: 0137729 | F168: 0859 | G168: C0859 | H168: Uncharted Shores Academy | I168: 55669.859 | J168: 3.0487749e-05 | K168: =ROUND(J168*13561996091,2) -> 413474.73 | L168: =ROUND(K168*(10045923031/13561996091),2) -> 306277.58 | M168: =ROUND(L168*0.8,2) -> 245022.06 | N168: =L168-M168 -> 61255.52 | O168: =K168-L168 -> 107197.15 | P168: =ROUND(O168*0.8,2) -> 85757.72 | Q168: =O168-P168 -> 21439.43
A169: El Dorado | B169: 09100900000000 | C169: 09 | D169: 10090 | E169: 0000000 | F169: N/A | G169: 10090 | H169: El Dorado County Office of Education | I169: 364801.61 | J169: 0.00019978459 | K169: =ROUND(J169*13561996091,2) -> 2709477.8 | L169: =ROUND(K169*(10045923031/13561996091),2) -> 2007020.6 | M169: =ROUND(L169*0.8,2) -> 1605616.5 | N169: =L169-M169 -> 401404.12 | O169: =K169-L169 -> 702457.22 | P169: =ROUND(O169*0.8,2) -> 561965.78 | Q169: =O169-P169 -> 140491.44
A170: El Dorado | B170: 09618380000000 | C170: 09 | D170: 61838 | E170: 0000000 | F170: N/A | G170: 61838 | H170: Buckeye Union Elementary | I170: 275730 | J170: 0.00015100428 | K170: =ROUND(J170*13561996091,2) -> 2047919.4 | L170: =ROUND(K170*(10045923031/13561996091),2) -> 1516977.4 | M170: =ROUND(L170*0.8,2) -> 1213581.9 | N170: =L170-M170 -> 303395.47 | O170: =K170-L170 -> 530942.07 | P170: =ROUND(O170*0.8,2) -> 424753.66 | Q170: =O170-P170 -> 106188.41
A171: El Dorado | B171: 09618460000000 | C171: 09 | D171: 61846 | E171: 0000000 | F171: N/A | G171: 61846 | H171: Camino Union Elementary | I171: 270809.19 | J171: 0.00014830939 | K171: =ROUND(J171*13561996091,2) -> 2011371.3 | L171: =ROUND(K171*(10045923031/13561996091),2) -> 1489904.7 | M171: =ROUND(L171*0.8,2) -> 1191923.8 | N171: =L171-M171 -> 297980.94 | O171: =K171-L171 -> 521466.64 | P171: =ROUND(O171*0.8,2) -> 417173.31 | Q171: =O171-P171 -> 104293.33
... A1733: Solano | B1733: 48705810139816 | C1733: 48 | D1733: 70581 | E1733: 0139816 | F1733: 2083 | G1733: C2083 | H1733: Griffin Academy High | I1733: 21635.186 | J1733: 1.1848568e-05 | K1733: =ROUND(J1733*13561996091,2) -> 160690.23 | L1733: =ROUND(K1733*(10045923031/13561996091),2) -> 119029.8 | M1733: =ROUND(L1733*0.8,2) -> 95223.84 | N1733: =L1733-M1733 -> 23805.96 | O1733: =K1733-L1733 -> 41660.43 | P1733: =ROUND(O1733*0.8,2) -> 33328.34 | Q1733: =O1733-P1733 -> 8332.09
A1734: Sonoma | B1734: 49104960000000 | C1734: 49 | D1734: 10496 | E1734: 0000000 | F1734: N/A | G1734: 10496 | H1734: Sonoma County Office of Education | I1734: 295033.88 | J1734: 0.0001615761 | K1734: =ROUND(J1734*13561996091,2) -> 2191294.5 | L1734: =ROUND(K1734*(10045923031/13561996091),2) -> 1623181.1 | M1734: =ROUND(L1734*0.8,2) -> 1298544.9 | N1734: =L1734-M1734 -> 324636.21 | O1734: =K1734-L1734 -> 568113.38 | P1734: =ROUND(O1734*0.8,2) -> 454490.7 | Q1734: =O1734-P1734 -> 113622.68 | S1734: =+Table1[[#This Row],[Future Authority 80% of Funding for Allowable Uses of ESSER III Resource 3213]]+Table1[[#This Row],[Current Authority 80% of Funding for Allowable Uses of ESSER III Resource 3213]] -> 1753035.6 | T1734: =+Table1[[#This Row],[Future Authority 20% of Funding to Address Learning Loss1 Resource 3214]]+Table1[[#This Row],[Current Authority 20% of Funding to Address Learning Loss1 Resource 3214]] -> 438258.89 | U1734: =+S1734+T1734 -> 2191294.5 | V1734: =IF(U1734=K1734,"allocation match ","error not matching") -> allocation match
A1735: Sonoma | B1735: 49705990000000 | C1735: 49 | D1735: 70599 | E1735: 0000000 | F1735: N/A | G1735: 70599 | H1735: Alexander Valley Union Elementary | I1735: 0 | J1735: 0 | K1735: =ROUND(J1735*13561996091,2) -> 0 | L1735: =ROUND(K1735*(10045923031/13561996091),2) -> 0 | M1735: =ROUND(L1735*0.8,2) -> 0 | N1735: =L1735-M1735 -> 0 | O1735: =K1735-L1735 -> 0 | P1735: =ROUND(O1735*0.8,2) -> 0 | Q1735: =O1735-P1735 -> 0 | S1735: =+Table1[[#This Row],[Future Authority 80% of Funding for Allowable Uses of ESSER III Resource 3213]]+Table1[[#This Row],[Current Authority 80% of Funding for Allowable Uses of ESSER III Resource 3213]] -> 0 | T1735: =+Table1[[#This Row],[Future Authority 20% of Funding to Address Learning Loss1 Resource 3214]]+Table1[[#This Row],[Current Authority 20% of Funding to Address Learning Loss1 Resource 3214]] -> 0 | U1735: =+S1735+T1735 -> 0 | V1735: =IF(U1735=K1735,"allocation match ","error not matching") -> allocation match
A1736: Sonoma | B1736: 49706070000000 | C1736: 49 | D1736: 70607 | E1736: 0000000 | F1736: N/A | G1736: 70607 | H1736: West Sonoma County Union High | I1736: 145974.45 | J1736: 7.9943301e-05 | K1736: =ROUND(J1736*13561996091,2) -> 1084190.7 | L1736: =ROUND(K1736*(10045923031/13561996091),2) -> 803104.25 | M1736: =ROUND(L1736*0.8,2) -> 642483.4 | N1736: =L1736-M1736 -> 160620.85 | O1736: =K1736-L1736 -> 281086.49 | P1736: =ROUND(O1736*0.8,2) -> 224869.19 | Q1736: =O1736-P1736 -> 56217.3 | S1736: =+Table1[[#This Row],[Future Authority 80% of Funding for Allowable Uses of ESSER III Resource 3213]]+Table1[[#This Row],[Current Authority 80% of Funding for Allowable Uses of ESSER III Resource 3213]] -> 867352.59 | T1736: =+Table1[[#This Row],[Future Authority 20% of Funding to Address Learning Loss1 Resource 3214]]+Table1[[#This Row],[Current Authority 20% of Funding to Address Learning Loss1 Resource 3214]] -> 216838.15 | U1736: =+S1736+T1736 -> 1084190.7 | V1736: =IF(U1736=K1736,"allocation match ","error not matching") -> allocation match
A1737: Sonoma | B1737: 49706150000000 | C1737: 49 | D1737: 70615 | E1737: 0000000 | F1737: N/A | G1737: 70615 | H1737: Bellevue Union | I1737: 500061.99 | J1737: 0.0002738603 | K1737: =ROUND(J1737*13561996091,2) -> 3714092.4 | L1737: =ROUND(K1737*(10045923031/13561996091),2) -> 2751179.5 | M1737: =ROUND(L1737*0.8,2) -> 2200943.6 | N1737: =L1737-M1737 -> 550235.9 | O1737: =K1737-L1737 -> 962912.83 | P1737: =ROUND(O1737*0.8,2) -> 770330.26 | Q1737: =O1737-P1737 -> 192582.57 | S1737: =+Table1[[#This Row],[Future Authority 80% of Funding for Allowable Uses of ESSER III Resource 3213]]+Table1[[#This Row],[Current Authority 80% of Funding for Allowable Uses of ESSER III Resource 3213]] -> 2971273.9 | T1737: =+Table1[[#This Row],[Future Authority 20% of Funding to Address Learning Loss1 Resource 3214]]+Table1[[#This Row],[Current Authority 20% of Funding to Address Learning Loss1 Resource 3214]] -> 742818.47 | U1737: =+S1737+T1737 -> 3714092.3 | V1737: =IF(U1737=K1737,"allocation match ","error not matching") -> allocation match
A1738: Sonoma | B1738: 49706230000000 | C1738: 49 | D1738: 70623 | E1738: 0000000 | F1738: N/A | G1738: 70623 | H1738: Bennett Valley Union Elementary | I1738: 65033.46 | J1738: 3.561575e-05 | K1738: =ROUND(J1738*13561996091,2) -> 483020.66 | L1738: =ROUND(K1738*(10045923031/13561996091),2) -> 357793.08 | M1738: =ROUND(L1738*0.8,2) -> 286234.46 | N1738: =L1738-M1738 -> 71558.62 | O1738: =K1738-L1738 -> 125227.58 | P1738: =ROUND(O1738*0.8,2) -> 100182.06 | Q1738: =O1738-P1738 -> 25045.52 | S1738: =+Table1[[#This Row],[Future Authority 80% of Funding for Allowable Uses of ESSER III Resource 3213]]+Table1[[#This Row],[Current Authority 80% of Funding for Allowable Uses of ESSER III Resource 3213]] -> 386416.52 | T1738: =+Table1[[#This Row],[Future Authority 20% of Funding to Address Learning Loss1 Resource 3214]]+Table1[[#This Row],[Current Authority 20% of Funding to Address Learning Loss1 Resource 3214]] -> 96604.14 | U1738: =+S1738+T1738 -> 483020.66 | V1738: =IF(U1738=K1738,"allocation match ","error not matching") -> allocation match
...

Sheet Allowable Uses
C1: FEDERAL Funding | J1: STATE Funding
B2: Resource | C2: Resource 3215 | D2: Resource 3220 | E2: Resource 7420 | F2: Resource 3210 | G2: Resource 3212 | H2: Resource TBD | J2: Resource 7388 | K2: Resource 7422 | L2: Resource 7425/7426
B3: Resource Name | C3: Learning Loss Mitigation Paid from Governor's Emergency Education Relief (GEER) | D3: Learning Loss Mitigation Paid from Coronavirus Relief (CR) Fund | E3: Learning Loss Mitigation Paid from General Fund | F3: Elementary & Secondary School Emergency Relief (ESSER) I | G3: Elementary & Secondary School Emergency Relief (ESSER) II | H3: Elementary & Secondary School Emergency Relief (ESSER) III | J3: Senate Bill 117 | K3: In-Person Instruction Grant | L3: Expanded Learning Opportunities Grant
B4: Deadline to Spend | C4: 44834 | D4: 44347 | E4: 44377 | F4: 44834 | G4: 45199 | H4: 45565 | J4: N/A | K4: 44804 | L4: 44804
B5: SACS Revenue Code | C5: 8290 | D5: 8290 | E5: 8590 | F5: 8290 | G5: 8290 | H5: 8290 | J5: 8590 | K5: 8590 | L5: 8590
B6: Unearned Revenue/Fund Bal | C6: F | D6: U | E6: F | F6: F | G6: F | H6: TBD | J6: F | K6: U | L6: F
B7: Excess Interest earned | C7: YES | D7: NO | F7: YES | G7: YES | H7: YES
B8: Private School Equitable Services | C8: YES | D8: NO | F8: YES | G8: NO | H8: NO
B9: Supplement not supplant | C9: NO | D9: NO | F9: NO | G9: NO | H9: NO
B10: Maintenance of Effort | C10: YES | D10: NO | F10: YES | G10: YES | H10: YES
B11: NEW Maintenance of Equity | C11: n/a | D11: N/A | F11: NO | G11: NO | H11: YES
B12: Indirect Costs | C12: YES | D12: NO | F12: YES | G12: YES | H12: YES
B13: Cash dependent on reporting | C13: YES | D13: NO | F13: YES | G13: YES | H13: YES
B14: Apportionment Schedules | C14: https://www.cde.ca.gov/fg/cr/learningloss.asp#fundapportionment | F14: https://www.cde.ca.gov/fg/aa/ca/esserf.asp | G14: https://www.cde.ca.gov/fg/aa/ca/esserfii.asp | H14: https://www.sscal.com/publications/fiscal-reports/congress-approves-19-trillion-american-rescue-plan | J14: https://www.cde.ca.gov/fg/fo/r14/covid19learesponse19result.asp | K14: https://www.cde.ca.gov/fg/fo/r14/ipielo20result.asp
B15: Distribution | C15: Allocated based on 2019-20 SPED Count-Ages 3 to 22 | D15: Sec A-Allocated on 19-20 SpEd Sec B-Allocated on Supple/Concen: Sec C-LCFF entitlement | E15: Allocated based on LEA proportion of statewide LCFF entitlement in 19/20 | F15: Allocated based on 19/20 Title 1 | G15: Allocated based on 20/21 Title 1 | H15: Allocated based on 20/21 Title 1 | J15: On the basis of 2019–20 First Principal Apportionment | K15: Allocated based on LEA proportion of statewide LCFF entitlement in 20/21 | L15: Allocated based on LEA proportion of statewide LCFF entitlement in 20/21 + $1,000 per homeless pupil
B16: Allowable Uses
B17: 1 | C17: SB 820 clarifies that funds may be used to support individuals served by LEAs, including, but not limited to, those enrolled in a childcare program, California state preschool program, kindergarten, any of grades 1 to 12, inclusive, and adult education programs so long as the funds meet one of the four allowable buckets below. | F17: Activities to address the unique needs of low-income children or students, children with disabilities, English learners, racial and ethnic minorities, students experiencing homelessness, and foster care youth, including how outreach and service delivery will meet the needs of each population | J17: Maintaining nutrition services, cleaning and disinfecting facilities, personal protective equipment, and materials necessary to provide students with opportunities for distance learning | K17: Any purpose consistent with providing in-person instruction for any pupil participating in in-person instruction, including, but not limited to, COVID-19 testing, cleaning and disinfection, personal protective equipment, ventilation and other school site upgrades necessary for health and safety, salaries for certificated or classified employees providing in-person instruction or services and social and mental health support services provided in conjunction with in-person instruction | L17: Extending instructional learning time beyond 20-21 minimum daily, as well as annual minimums for 21-22 and 22-23
B18: 2 | C18: Addressing learning loss or accelerating progress to close learning gaps through the implementation, expansion, or enhancement of learning supports that begin before the start of the school year and the continuation of intensive instruction and supports into the school year. | F18: Coordination of preparedness and response efforts of LEAs with State, local, Tribal, and territorial public health departments, and other relevant agencies | L18: Accelerating progress to close learning gaps
B19: 3 | C19: Extending the instructional school year by making adjustments to the academic calendar, increasing the number of instructional minutes provided during each week or schoolday, or taking any other action that increases the amount of instructional time or services provided to pupils based on their learning needs. | F19: Providing principals and others school leaders with the resources necessary to address the needs of their individual schools | L19: Integrated pupil supports such as the provision of health, counseling, access to school meal programs, before and after school programs or programs to address trauma
B20: 4 | C20: Providing additional academic services for pupils, such as diagnostic assessments of pupil learning needs, intensive instruction for addressing gaps in core academic skills, additional instructional materials or supports, or devices or connectivity for the provision of in-classroom and distance learning. | F20: Staff training and professional development on sanitation and minimizing the spread of infectious disease | L20: Community learning hubs that provide pupils with access to technology, high-speed internet, and other academic supports
B21: 5 | C21: Providing integrated pupil supports to address other barriers to learning, such as the provision of health, counseling, or mental health services, professional development opportunities to help teachers and parents support pupils in distance-learning contexts, access to school breakfast and lunch programs, or programs to address pupil trauma and social-emotional learning. | F21: Planning for and coordinating on long-term closures (including on meeting IDEA requirements, how to provide online learning, and how to provide meals to students) | L21: Supports for credit deficient pupils to complete graduation or promotion requirements and to increase or improve pupils' college eligibility
B22: 6 | C22: Addressing health and safety concerns, including, but not limited to, purchasing public health testing, personal protective equipment, supplies to sanitize and clean the facilities and school buses of a local educational agency, and for other related needs. | F22: Developing and implementing procedures and systems to improve the preparedness and response efforts of LEAs | L22: Additional academic services for pupils, such as diagnostic, progress monitoring, and benchmark assessments of pupil learning
B23: 7 | D23: Expenditures not accounted for in the budget most recently approved as of March 27, 2020, unless expenditure is for a substantially different use. | F23: Purchasing supplies to sanitize and clean the facilities of LEA, including buildings operated by the LEA | L23: Training for school staff on strategies, including trauma-informed practices, to engage pupils and families in pupils' social-emotional health needs and academic needs
B24: 8 | F24: Purchasing educational technology (hardware, software, and connectivity) for students, that aids in the regular and substantive educational interaction between students and their classroom instructors, including low-income students and students with disabilities, which may include assistive or adaptive technology
B25: 9 | F25: Mental health services and supports
B26: 10 | F26: Summer learning and supplemental after-school programs, including providing classroom instruction or online learning during the summer months and addressing the needs of low-income students, students with disabilities, English learners, migrant students, students experiencing homelessness, and children in foster care
B27: 11 | F27: Discretionary funds for school principals to address the needs of their individual schools
B28: 12 | G28: School facility repair and imrovements to enable operation of schools to reduce risk of virus transmission and exposure to environmental health hazards
B29: 13 | G29: Inspection, testing, maintenance, repair, replacement and upgrade projects to improve the indoor air quality in school facilities, including mechanical and non-mechanical HVAC systems, filter, purification and other air cleaning systems, and window and door repair and replacement
B30: 14 | H30: Developing strategies and implementing policies in line with the CDC for reopening and operating schools
B31: 15 | F31: Other activities that are necessary to maintain the operation and continuity of services in LEAs and to continuing the employment of their existing staff
B32: CARES Expenditure Reporting Categories | C32: GEER. CRF & Prop 98 | F32: ESSER
C33: 1. Addressing learning loss or accelerating progress to close learning gaps through the implementation, expansion, or enhancement of learning supports. | F33: 1. Coordination of preparedness and response efforts of LEAs
C34: 2. Extending the instructional minutes, time, or school year to increase the amount of instructional time or services provided to pupils based on their learning needs. | F34: 2. Resources necessary to address the needs of their individual schools
C35: 3. Providing additional academic services for pupils, such as diagnostic assessments of pupil learning needs or intensive instruction for addressing gaps in core academic skills. | F35: 3. Activities to address the unique needs of low-income children or students, children with disabilities, English learners, racial and ethnic minorities, students experiencing homelessness, and foster care youth
C36: 4. Providing additional instructional materials or supports. | F36: 4. Developing and implementing procedures and systems to improve the preparedness and response efforts of LEAs
C37: 5. Providing devices or connectivity for in-classroom and distance learning. | F37: 5. Planning for and coordinating on long-term closures
C38: 6. Providing health, counseling, or mental health services. | F38: 6. Staff training and professional development on sanitation and minimizing the spread of infectious disease
C39: 7. Professional development opportunities to help teachers and parents support pupils in distance-learning contexts. | F39: 7. Purchasing cleaning supplies
C40: 8. Access to school breakfast and lunch programs. | F40: 8. Purchasing educational technology
...

Sheet TimeLine To Spend
A1: COVID-19 Accounting & Timeline
E3: FROM | H3: SPENDING PERIOD THROUGH
D4: Fiscal Yr | E4: 2019-20 | F4: 2020-21 | H4: 2020-21 | I4: 2020-21 | J4: 2022-23 | K4: 2022-23 | L4: 2023-24 | M4: 2024-25
B5: Resource | C5: Program Name | D5: Funding | E5: 43903 | H5: 44347 | I5: 44377 | J5: 44804 | K5: 44834 | L5: 45199 | M5: 45565
B6: 7388 | C6: COVID-19 | D6: Prop 98
B7: 3215 | C7: LLM | D7: GEER
B8: 3220 | C8: LLM | D8: CRF
B9: 7420 | C9: LLM | D9: Prop 98
B10: 3210 | C10: ESSER I | D10: CARES
B11: 3212 | C11: ESSER II | D11: CRSAA
B12: 321? | C12: ESSER III | D12: ARP | F12: 44266
B13: 7422 | C13: IPI | D13: Prop 98
B14: 7425 | C14: ELO | D14: Prop 98
B15: 7426 | C15: ELO paras | D15: Prop 98
C17: SB98 Learning Loss Mitigation | F17: SB117 | H17: Elementary & Secondary School Emergency Relief | K17: AB86- In Person Instruction (IPI) and Expanded Learning Opportunities (ELO)
A18: Program
A19: Program Acronym | C19: LLM | D19: LLM | E19: LLM | F19: COVID-19 | H19: ESSER I | I19: ESSER II | J19: ESSER III | K19: IPI | L19: ELO | M19: ELO paras
A20: Source | C20: Federal | D20: Federal | E20: State | F20: State | H20: Federal | I20: Federal | J20: Federal | K20: State | L20: State | M20: State
A21: Funding | C21: GEER | D21: CRF | E21: Prop 98 | F21: Prop 98 | H21: CARES | I21: CRSAA | J21: ARP | K21: Prop 98 | L21: Prop 98 | M21: Prop 98
A22: Spending deadline | C22: 44834 | D22: 44347 | E22: 44377 | F22: n/a | H22: 44834 | I22: 45199 | J22: 45565 | K22: 44804 | L22: 44804 | M22: 44804
A24: Resource | C24: 3215 | D24: 3220 | E24: 7420 | F24: 7388 | H24: 3210 | I24: 3212 | J24: 321? | K24: 7422 | L24: 7425 | M24: 7426

Sheet Fund 01 Rev & Exp Detail
B2: Choose LEA from Dropdown | D2: Fiscal Year 2019/20
D3: SB 117 | E3: Expenditure Reporting Categories: Prop 98, GEER, & CRF (choose from dropdown) | F3: Learning Loss Mitigation | I3: Expenditure Reporting Categories: ESSER (choose from dropdown) | J3: Elementary & Secondary School Emergency Relief | N3: AB 86
C4: Total Allocation | D4: =_xlfn.IFNA(VLOOKUP(C2,'Awards Master'!$A$6:$R$102,6,FALSE),0) -> 0 | F4: =_xlfn.IFNA(VLOOKUP(C2,'Awards Master'!$A$6:$R$102,4,FALSE),0) -> 0 | G4: =_xlfn.IFNA(VLOOKUP(C2,'Awards Master'!$A$6:$R$102,3,FALSE),0) -> 0 | H4: =_xlfn.IFNA(VLOOKUP(C2,'Awards Master'!$A$6:$R$102,2,FALSE),0) -> 0 | J4: =_xlfn.IFNA(VLOOKUP(C2,'Awards Master'!$A$6:$R$102,8,FALSE),0) -> 0 | K4: =_xlfn.IFNA(VLOOKUP(C2,'Awards Master'!$A$6:$R$102,9,FALSE),0) -> 0 | L4: =_xlfn.IFNA(VLOOKUP(C2,'Awards Master'!$A$6:$R$102,10,FALSE),0) -> 0 | M4: =_xlfn.IFNA(VLOOKUP(C2,'Awards Master'!$A$6:$R$102,11,FALSE),0) -> 0 | N4: =_xlfn.IFNA(VLOOKUP(C2,'Awards Master'!$A$6:$R$102,14,FALSE),0) -> 0 | O4: =_xlfn.IFNA(VLOOKUP(C2,'Awards Master'!$A$6:$R$102,15,FALSE),0) -> 0 | P4: =_xlfn.IFNA(VLOOKUP(C2,'Awards Master'!$A$6:$R$102,16,FALSE),0) -> 0
B5: Expenditure Description | C5: Program Name | D5: Prop 98 | F5: Prop 98 | G5: CRF* | H5: GEER | J5: ESSER I | K5: ESSER II | L5: ESSER III (80%) | M5: ESSER III (20%) | N5: In- Person Learning | O5: Expanded Learning Opportunities
C6: Resource | D6: 7388 | F6: 7420 | G6: 3220 | H6: 3215 | J6: 3210* | K6: 3212* | L6: 321? | M6: 321? | N6: 7422 | O6: 7425 | P6: 7426 (Paras) | Q6: Totals | R6: Account Code Used
B7: Enter Description of Expenditure, or Account Code | D7: 0 | F7: 0 | G7: 0 | H7: 0 | J7: 0 | K7: 0 | Q7: =SUM(D7:P7) -> 0
B8: Add more rows as needed | D8: 0 | F8: 0 | G8: 0 | H8: 0 | J8: 0 | K8: 0 | Q8: =SUM(D8:P8) -> 0
D9: 0 | F9: 0 | G9: 0 | H9: 0 | J9: 0 | K9: 0 | Q9: =SUM(D9:P9) -> 0
D10: 0 | F10: 0 | G10: 0 | H10: 0 | J10: 0 | K10: 0 | Q10: =SUM(D10:P10) -> 0
D11: 0 | F11: 0 | G11: 0 | H11: 0 | J11: 0 | K11: 0 | Q11: =SUM(D11:P11) -> 0
B12: Do not add more rows below this line | D12: 0 | F12: 0 | G12: 0 | H12: 0 | J12: 0 | K12: 0 | Q12: =SUM(D12:P12) -> 0
D13: 0 | F13: 0 | G13: 0 | H13: 0 | J13: 0 | K13: 0 | Q13: =SUM(D13:P13) -> 0
C14: Total Expenditures per Period | D14: =SUM(D7:D13) -> 0 | F14: =SUM(F7:F13) -> 0 | G14: =SUM(G7:G13) -> 0 | H14: =SUM(H7:H13) -> 0 | J14: =SUM(J7:J13) -> 0 | K14: =SUM(K7:K13) -> 0 | L14: =SUM(L7:L13) -> 0 | M14: =SUM(M7:M13) -> 0 | N14: =SUM(N7:N13) -> 0 | O14: =SUM(O7:O13) -> 0 | P14: =SUM(P7:P13) -> 0 | Q14: =SUM(D14:P14) -> 0
C15: Remaining Allocation to Date | D15: =$D$4-$D$14 -> 0 | F15: =$F$4-$F$14 -> 0 | G15: =$G$4-$G$14 -> 0 | H15: =$H$4-$H$14 -> 0 | J15: =$J$4-$J$14 -> 0 | K15: =$K$4-$K$14 -> 0 | L15: =$L$4-$L$14 -> 0 | M15: =$M$4-$M$14 -> 0 | N15: =$N$4-$N$14 -> 0 | O15: =$O$4-$O$14 -> 0 | P15: =$P$4-$P$14 -> 0 | Q15: =SUM(D15:P15) -> 0
J16: * Expenditures must be dated 3/13/20 and later. Expenditures during this time period are reported in Quarter 1 of 20/21.
F17: CFR Categories | G17: Federal CARES Reporting Data: 3/1/2020 - 6/30/2020 - Resource 3220 Only
D18: 1. Addressing learning loss or accelerating progress to close learning gaps through the implementation, expansion, or enhancement of learning supports. | F18: 1 | G18: =ROUND(SUMIF($E$7:$E$13,$D18,$G$7:$G$13)/$G$14,3) -> #DIV/0!
D19: 2. Extending the instructional minutes, time, or school year to increase the amount of instructional time or services provided to pupils based on their learning needs. | F19: 2 | G19: =ROUND(SUMIF($E$7:$E$13,$D19,$G$7:$G$13)/$G$14,3) -> #DIV/0!
D20: 3. Providing additional academic services for pupils, such as diagnostic assessments of pupil learning needs or intensive instruction for addressing gaps in core academic skills. | F20: 3 | G20: =ROUND(SUMIF($E$7:$E$13,$D20,$G$7:$G$13)/$G$14,3) -> #DIV/0!
D21: 4. Providing additional instructional materials or supports. | F21: 4 | G21: =ROUND(SUMIF($E$7:$E$13,$D21,$G$7:$G$13)/$G$14,3) -> #DIV/0!
D22: 5. Providing devices or connectivity for in-classroom and distance learning. | F22: 5 | G22: =ROUND(SUMIF($E$7:$E$13,$D22,$G$7:$G$13)/$G$14,3) -> #DIV/0!
D23: 6. Providing health, counseling, or mental health services. | F23: 6 | G23: =ROUND(SUMIF($E$7:$E$13,$D23,$G$7:$G$13)/$G$14,3) -> #DIV/0!
D24: 7. Professional development opportunities to help teachers and parents support pupils in distance-learning contexts. | F24: 7 | G24: =ROUND(SUMIF($E$7:$E$13,$D24,$G$7:$G$13)/$G$14,3) -> #DIV/0!
D25: 8. Access to school breakfast and lunch programs. | F25: 8 | G25: =ROUND(SUMIF($E$7:$E$13,$D25,$G$7:$G$13)/$G$14,3) -> #DIV/0!
D26: 9. Pupil trauma and social-emotional learning. | F26: 9 | G26: =ROUND(SUMIF($E$7:$E$13,$D26,$G$7:$G$13)/$G$14,3) -> #DIV/0!
D27: 10. Public health testing, personal protective equipment, supplies to sanitize and clean the facilities and school buses. | F27: 10 | G27: =ROUND(SUMIF($E$7:$E$13,$D27,$G$7:$G$13)/$G$14,3) -> #DIV/0!
F28: Totals | G28: =SUM(G18:G27) -> #DIV/0!
G29: *For the first CARES reporting cycle, only Coronavirus Relief (CFR), RS 3220 was required. Date range for repoting was backdated to 3/1/20 - 6/30/20.
B32: Quarter 1 Reporting Fiscal Year 2020/21
D33: SB 117 | E33: Expenditure Reporting Categories: Prop 98, GEER, & CRF (choose from dropdown) | F33: Learning Loss Mitigation | I33: Expenditure Reporting Categories: ESSER (choose from dropdown) | J33: Elementary & Secondary School Emergency Relief | N33: AB 86
C34: Carryover from Prior Period | D34: =D$15 -> 0 | F34: =F$15 -> 0 | G34: =G$15 -> 0 | H34: =H$15 -> 0 | J34: =J$15 -> 0 | K34: =K$15 -> 0 | L34: =L$15 -> 0 | M34: =M$15 -> 0 | N34: =N$15 -> 0 | O34: =O$15 -> 0 | P34: =P$15 -> 0
B35: Expenditure Description | C35: Program Name | D35: Prop 98 | F35: Prop 98 | G35: CRF* | H35: GEER | J35: ESSER I | K35: ESSER II | L35: ESSER III (80%) | M35: ESSER III (20%) | N35: In- Person Learning | O35: Expanded Learning Opportunities
C36: Resource | D36: 7388 | F36: 7420 | G36: 3220 | H36: 3215 | J36: 3210 | K36: 3212 | L36: 321? | M36: 321? | N36: 7422 | O36: 7425 | P36: 7426 (Paras) | Q36: Totals | R36: Account Code Used
D37: 0 | F37: 0 | G37: 0 | H37: 0 | J37: 0 | K37: 0 | Q37: =SUM(D37:P37) -> 0
D38: 0 | F38: 0 | G38: 0 | H38: 0 | J38: 0 | K38: 0 | Q38: =SUM(D38:P38) -> 0
D39: 0 | F39: 0 | G39: 0 | H39: 0 | J39: 0 | K39: 0 | Q39: =SUM(D39:P39) -> 0
D40: 0 | F40: 0 | G40: 0 | H40: 0 | J40: 0 | K40: 0 | Q40: =SUM(D40:P40) -> 0
D41: 0 | F41: 0 | G41: 0 | H41: 0 | J41: 0 | K41: 0 | Q41: =SUM(D41:P41) -> 0
D42: 0 | F42: 0 | G42: 0 | H42: 0 | J42: 0 | K42: 0 | Q42: =SUM(D42:P42) -> 0
D43: 0 | F43: 0 | G43: 0 | H43: 0 | J43: 0 | K43: 0 | Q43: =SUM(D43:P43) -> 0
...

Sheet Fund 03 Rev & Exp Detail
B2: Choose LEA from Dropdown | D2: Fiscal Year 2019/20
D3: SB 117 | E3: Expenditure Reporting Categories: Prop 98, GEER, & CRF (choose from dropdown) | F3: Learning Loss Mitigation | I3: Expenditure Reporting Categories: ESSER (choose from dropdown) | J3: Elementary & Secondary School Emergency Relief | N3: AB 86
C4: Total Allocation | D4: =_xlfn.IFNA(VLOOKUP(C2,'Awards Master'!$A$6:$R$102,6,FALSE),0) -> 0 | F4: =_xlfn.IFNA(VLOOKUP(C2,'Awards Master'!$A$6:$R$102,4,FALSE),0) -> 0 | G4: =_xlfn.IFNA(VLOOKUP(C2,'Awards Master'!$A$6:$R$102,3,FALSE),0) -> 0 | H4: =_xlfn.IFNA(VLOOKUP(C2,'Awards Master'!$A$6:$R$102,2,FALSE),0) -> 0 | J4: =_xlfn.IFNA(VLOOKUP(C2,'Awards Master'!$A$6:$R$102,8,FALSE),0) -> 0 | K4: =_xlfn.IFNA(VLOOKUP(C2,'Awards Master'!$A$6:$R$102,9,FALSE),0) -> 0 | L4: =_xlfn.IFNA(VLOOKUP(C2,'Awards Master'!$A$6:$R$102,10,FALSE),0) -> 0 | M4: =_xlfn.IFNA(VLOOKUP(C2,'Awards Master'!$A$6:$R$102,11,FALSE),0) -> 0 | N4: =_xlfn.IFNA(VLOOKUP(C2,'Awards Master'!$A$6:$R$102,14,FALSE),0) -> 0 | O4: =_xlfn.IFNA(VLOOKUP(C2,'Awards Master'!$A$6:$R$102,15,FALSE),0) -> 0 | P4: =_xlfn.IFNA(VLOOKUP(C2,'Awards Master'!$A$6:$R$102,16,FALSE),0) -> 0
B5: Expenditure Description | C5: Program Name | D5: Prop 98 | F5: Prop 98 | G5: CRF* | H5: GEER | J5: ESSER I | K5: ESSER II | L5: ESSER III (80%) | M5: ESSER III (20%) | N5: In- Person Learning | O5: Expanded Learning Opportunities
C6: Resource | D6: 7388 | F6: 7420 | G6: 3220 | H6: 3215 | J6: 3210* | K6: 3212* | L6: 321? | M6: 321? | N6: 7422 | O6: 7425 | P6: 7426 (Paras) | Q6: Totals | R6: Account Code Used
B7: Enter Description of Expenditure, or Account Code | D7: 0 | F7: 0 | G7: 0 | H7: 0 | J7: 0 | K7: 0 | Q7: =SUM(D7:P7) -> 0
B8: Add more rows as needed | D8: 0 | F8: 0 | G8: 0 | H8: 0 | J8: 0 | K8: 0 | Q8: =SUM(D8:P8) -> 0
D9: 0 | F9: 0 | G9: 0 | H9: 0 | J9: 0 | K9: 0 | Q9: =SUM(D9:P9) -> 0
D10: 0 | F10: 0 | G10: 0 | H10: 0 | J10: 0 | K10: 0 | Q10: =SUM(D10:P10) -> 0
D11: 0 | F11: 0 | G11: 0 | H11: 0 | J11: 0 | K11: 0 | Q11: =SUM(D11:P11) -> 0
B12: Do not add more rows below this line | D12: 0 | F12: 0 | G12: 0 | H12: 0 | J12: 0 | K12: 0 | Q12: =SUM(D12:P12) -> 0
D13: 0 | F13: 0 | G13: 0 | H13: 0 | J13: 0 | K13: 0 | Q13: =SUM(D13:P13) -> 0
C14: Total Expenditures per Period | D14: =SUM(D7:D13) -> 0 | F14: =SUM(F7:F13) -> 0 | G14: =SUM(G7:G13) -> 0 | H14: =SUM(H7:H13) -> 0 | J14: =SUM(J7:J13) -> 0 | K14: =SUM(K7:K13) -> 0 | L14: =SUM(L7:L13) -> 0 | M14: =SUM(M7:M13) -> 0 | N14: =SUM(N7:N13) -> 0 | O14: =SUM(O7:O13) -> 0 | P14: =SUM(P7:P13) -> 0 | Q14: =SUM(D14:P14) -> 0
C15: Remaining Allocation to Date | D15: =$D$4-$D$14 -> 0 | F15: =$F$4-$F$14 -> 0 | G15: =$G$4-$G$14 -> 0 | H15: =$H$4-$H$14 -> 0 | J15: =$J$4-$J$14 -> 0 | K15: =$K$4-$K$14 -> 0 | L15: =$L$4-$L$14 -> 0 | M15: =$M$4-$M$14 -> 0 | N15: =$N$4-$N$14 -> 0 | O15: =$O$4-$O$14 -> 0 | P15: =$P$4-$P$14 -> 0 | Q15: =SUM(D15:P15) -> 0
J16: * Expenditures must be dated 3/13/20 and later. Expenditures during this time period are reported in Quarter 1 of 20/21.
F17: CFR Categories | G17: Federal CARES Reporting Data: 3/1/2020 - 6/30/2020 - Resource 3220 Only
D18: 1. Addressing learning loss or accelerating progress to close learning gaps through the implementation, expansion, or enhancement of learning supports. | F18: 1 | G18: =ROUND(SUMIF($E$7:$E$13,$D18,$G$7:$G$13)/$G$14,3) -> #DIV/0!
D19: 2. Extending the instructional minutes, time, or school year to increase the amount of instructional time or services provided to pupils based on their learning needs. | F19: 2 | G19: =ROUND(SUMIF($E$7:$E$13,$D19,$G$7:$G$13)/$G$14,3) -> #DIV/0!
D20: 3. Providing additional academic services for pupils, such as diagnostic assessments of pupil learning needs or intensive instruction for addressing gaps in core academic skills. | F20: 3 | G20: =ROUND(SUMIF($E$7:$E$13,$D20,$G$7:$G$13)/$G$14,3) -> #DIV/0!
D21: 4. Providing additional instructional materials or supports. | F21: 4 | G21: =ROUND(SUMIF($E$7:$E$13,$D21,$G$7:$G$13)/$G$14,3) -> #DIV/0!
