Workbook
Name T9_02: 'Page 1 - General Information'!$K$4996:$K$4998
Name T9_LEA_Name: 'PIMS LEA'!$B$2:$B$760
Name T9_Sch: 'Page 1 - General Information'!$H$4996:$H$5279

Sheet Page 1 - General Information
E4: =" INTERSCHOLASTIC ATHLETIC OPPORTUNITIES DISCLOSURE FORM "&M7 -> INTERSCHOLASTIC ATHLETIC OPPORTUNITIES DISCLOSURE FORM 15.6
E5: 2014 - 2015 School Year
E7: Page 1 - Section 1: General Information | L7: Ver | M7: 15.6
E9: LEA & School Information
E10: LEA Name: | G10: Upper Merion Area SD
E11: LEA Address: | G11: =IF(ISERROR(VLOOKUP(G10,'PIMS LEA'!$B$1:$H$760,4,FALSE)),"",(VLOOKUP(G10,'PIMS LEA'!$B$1:$H$760,4,FALSE))) -> 435 Crossfield Rd King of Prussia, PA 19406
E12: LEA AUN: | G12: =IF(ISERROR(VLOOKUP(G10,'PIMS LEA'!$B$1:$H$760,2,FALSE)),"",(VLOOKUP(G10,'PIMS LEA'!$B$1:$H$760,2,FALSE))) -> 123468402
E14: School Name: | G14: Upper Merion HS
E15: School Address: | G15: =IF(ISERROR(VLOOKUP(G12&G14,'PIMS School'!$D$1:$K$1543,8,FALSE)),"",(VLOOKUP(G12&G14,'PIMS School'!$D$1:$K$1543,8,FALSE))) -> 440 Crossfield Rd King of Prussia, PA 19406
E16: School Number: | G16: =IF(ISERROR(VLOOKUP(G12&G14,'PIMS School'!$D$1:$K$1543,7,FALSE)),"",(VLOOKUP(G12&G14,'PIMS School'!$D$1:$K$1543,7,FALSE))) -> 3395
E18: School Enrollment Data
H20: Grade | J20: Boys | K20: Girls | L20: Total
H21: 7th | J21: =IF(ISERROR(VLOOKUP($G$12&$G$16,'Enrollment Report'!$A$3:$N$1478,3,FALSE)),0,(VLOOKUP($G$12&$G$16,'Enrollment Report'!$A$3:$N$1478,3,FALSE))) -> 0 | K21: =IF(ISERROR(VLOOKUP($G$12&$G$16,'Enrollment Report'!$A$3:$N$1478,2,FALSE)),0,(VLOOKUP($G$12&$G$16,'Enrollment Report'!$A$3:$N$1478,2,FALSE))) -> 0 | L21: =J21+K21 -> 0
H22: 8th | J22: =IF(ISERROR(VLOOKUP($G$12&$G$16,'Enrollment Report'!$A$3:$N$1478,5,FALSE)),0,(VLOOKUP($G$12&$G$16,'Enrollment Report'!$A$3:$N$1478,5,FALSE))) -> 0 | K22: =IF(ISERROR(VLOOKUP($G$12&$G$16,'Enrollment Report'!$A$3:$N$1478,4,FALSE)),0,(VLOOKUP($G$12&$G$16,'Enrollment Report'!$A$3:$N$1478,4,FALSE))) -> 0 | L22: =J22+K22 -> 0
H23: 9th | J23: =IF(ISERROR(VLOOKUP($G$12&$G$16,'Enrollment Report'!$A$3:$N$1478,7,FALSE)),0,(VLOOKUP($G$12&$G$16,'Enrollment Report'!$A$3:$N$1478,7,FALSE))) -> 138 | K23: =IF(ISERROR(VLOOKUP($G$12&$G$16,'Enrollment Report'!$A$3:$N$1478,6,FALSE)),0,(VLOOKUP($G$12&$G$16,'Enrollment Report'!$A$3:$N$1478,6,FALSE))) -> 155 | L23: =J23+K23 -> 293
H24: 10th | J24: =IF(ISERROR(VLOOKUP($G$12&$G$16,'Enrollment Report'!$A$3:$N$1478,9,FALSE)),0,(VLOOKUP($G$12&$G$16,'Enrollment Report'!$A$3:$N$1478,9,FALSE))) -> 168 | K24: =IF(ISERROR(VLOOKUP($G$12&$G$16,'Enrollment Report'!$A$3:$N$1478,8,FALSE)),0,(VLOOKUP($G$12&$G$16,'Enrollment Report'!$A$3:$N$1478,8,FALSE))) -> 136 | L24: =J24+K24 -> 304
H25: 11th | J25: =IF(ISERROR(VLOOKUP($G$12&$G$16,'Enrollment Report'!$A$3:$N$1478,11,FALSE)),0,(VLOOKUP($G$12&$G$16,'Enrollment Report'!$A$3:$N$1478,11,FALSE))) -> 138 | K25: =IF(ISERROR(VLOOKUP($G$12&$G$16,'Enrollment Report'!$A$3:$N$1478,10,FALSE)),0,(VLOOKUP($G$12&$G$16,'Enrollment Report'!$A$3:$N$1478,10,FALSE))) -> 123 | L25: =J25+K25 -> 261
H26: 12th | J26: =IF(ISERROR(VLOOKUP($G$12&$G$16,'Enrollment Report'!$A$3:$N$1478,13,FALSE)),0,(VLOOKUP($G$12&$G$16,'Enrollment Report'!$A$3:$N$1478,13,FALSE))) -> 136 | K26: =IF(ISERROR(VLOOKUP($G$12&$G$16,'Enrollment Report'!$A$3:$N$1478,12,FALSE)),0,(VLOOKUP($G$12&$G$16,'Enrollment Report'!$A$3:$N1478,12,FALSE))) -> 143 | L26: =J26+K26 -> 279
H27: Total | J27: =SUM(J21:J26) -> 580 | K27: =SUM(K21:K26) -> 557 | L27: =SUM(L21:L26) -> 1137
E29: Contact Information
E30: Name of LEAs Title IX Compliance Officer: | G30: Michelle Longo
E31: Telephone Number: | L31: Extension: | M31: 6428
E32: Email Address: | G32: mlongo@umasd.org
E34: Name of Individual Completing This Form: | G34: Robert Devers
E35: Telephone Number: | G35: 610-205-2980 | L35: Extension:
E36: Email Address: | G36: rdevers@umasd.org
E38: Interscholastic Team Sponsorship
E39: Does This School Sponsor Any Interscholastic Athletic Teams? (Yes or No) | G39: Yes
E40: If Your Answer To The Above Question Is No, Stop! If You Have Athletes Playing For Another School, Please Explain On Page 4. Otherwise, You Do Not Need To Complete The Remainder Of The Survey For This School. Please Submit Per The Instructions Provided.
G4994: T9_Sch & T9_Number | K4994: T9_02
H4996: [Make Selection From Drop-Down List ] | I4996: 0000 | K4996: [Make Selection From Drop-Down List ]
D4997: 1 | G4997: 1 | H4997: =IF(ISERROR(VLOOKUP($G$12&$G4997,'PIMS School'!$C$1:$R$1543,7,FALSE)),"",(VLOOKUP($G$12&$G4997,'PIMS School'!$C$1:$R$1543,7,FALSE))) -> Upper Merion HS | I4997: =IF(ISERROR(VLOOKUP($G$12&$G4997,'PIMS School'!$C$1:$R$1543,8,FALSE)),"",(VLOOKUP($G$12&$G4997,'PIMS School'!$C$1:$R$1543,8,FALSE))) -> 3395 | K4997: Yes
G4998: 2 | H4998: =IF(ISERROR(VLOOKUP($G$12&$G4998,'PIMS School'!$C$1:$R$1543,7,FALSE)),"",(VLOOKUP($G$12&$G4998,'PIMS School'!$C$1:$R$1543,7,FALSE))) -> Upper Merion MS | I4998: =IF(ISERROR(VLOOKUP($G$12&$G4998,'PIMS School'!$C$1:$R$1543,8,FALSE)),"",(VLOOKUP($G$12&$G4998,'PIMS School'!$C$1:$R$1543,8,FALSE))) -> 3394 | K4998: No
G4999: 3 | H4999: =IF(ISERROR(VLOOKUP($G$12&$G4999,'PIMS School'!$C$1:$R$1543,7,FALSE)),"",(VLOOKUP($G$12&$G4999,'PIMS School'!$C$1:$R$1543,7,FALSE))) | I4999: =IF(ISERROR(VLOOKUP($G$12&$G4999,'PIMS School'!$C$1:$R$1543,8,FALSE)),"",(VLOOKUP($G$12&$G4999,'PIMS School'!$C$1:$R$1543,8,FALSE)))
G5000: 4 | H5000: =IF(ISERROR(VLOOKUP($G$12&$G5000,'PIMS School'!$C$1:$R$1543,7,FALSE)),"",(VLOOKUP($G$12&$G5000,'PIMS School'!$C$1:$R$1543,7,FALSE))) | I5000: =IF(ISERROR(VLOOKUP($G$12&$G5000,'PIMS School'!$C$1:$R$1543,8,FALSE)),"",(VLOOKUP($G$12&$G5000,'PIMS School'!$C$1:$R$1543,8,FALSE)))
G5001: 5 | H5001: =IF(ISERROR(VLOOKUP($G$12&$G5001,'PIMS School'!$C$1:$R$1543,7,FALSE)),"",(VLOOKUP($G$12&$G5001,'PIMS School'!$C$1:$R$1543,7,FALSE))) | I5001: =IF(ISERROR(VLOOKUP($G$12&$G5001,'PIMS School'!$C$1:$R$1543,8,FALSE)),"",(VLOOKUP($G$12&$G5001,'PIMS School'!$C$1:$R$1543,8,FALSE)))
G5002: 6 | H5002: =IF(ISERROR(VLOOKUP($G$12&$G5002,'PIMS School'!$C$1:$R$1543,7,FALSE)),"",(VLOOKUP($G$12&$G5002,'PIMS School'!$C$1:$R$1543,7,FALSE))) | I5002: =IF(ISERROR(VLOOKUP($G$12&$G5002,'PIMS School'!$C$1:$R$1543,8,FALSE)),"",(VLOOKUP($G$12&$G5002,'PIMS School'!$C$1:$R$1543,8,FALSE)))
G5003: 7 | H5003: =IF(ISERROR(VLOOKUP($G$12&$G5003,'PIMS School'!$C$1:$R$1543,7,FALSE)),"",(VLOOKUP($G$12&$G5003,'PIMS School'!$C$1:$R$1543,7,FALSE))) | I5003: =IF(ISERROR(VLOOKUP($G$12&$G5003,'PIMS School'!$C$1:$R$1543,8,FALSE)),"",(VLOOKUP($G$12&$G5003,'PIMS School'!$C$1:$R$1543,8,FALSE)))
G5004: 8 | H5004: =IF(ISERROR(VLOOKUP($G$12&$G5004,'PIMS School'!$C$1:$R$1543,7,FALSE)),"",(VLOOKUP($G$12&$G5004,'PIMS School'!$C$1:$R$1543,7,FALSE))) | I5004: =IF(ISERROR(VLOOKUP($G$12&$G5004,'PIMS School'!$C$1:$R$1543,8,FALSE)),"",(VLOOKUP($G$12&$G5004,'PIMS School'!$C$1:$R$1543,8,FALSE)))
G5005: 9 | H5005: =IF(ISERROR(VLOOKUP($G$12&$G5005,'PIMS School'!$C$1:$R$1543,7,FALSE)),"",(VLOOKUP($G$12&$G5005,'PIMS School'!$C$1:$R$1543,7,FALSE))) | I5005: =IF(ISERROR(VLOOKUP($G$12&$G5005,'PIMS School'!$C$1:$R$1543,8,FALSE)),"",(VLOOKUP($G$12&$G5005,'PIMS School'!$C$1:$R$1543,8,FALSE)))
...

Sheet Page 2 - Team Information
E4: ='Page 1 - General Information'!E4 -> INTERSCHOLASTIC ATHLETIC OPPORTUNITIES DISCLOSURE FORM 15.6
E5: ='Page 1 - General Information'!E5 -> 2014 - 2015 School Year
G7: =IF('Page 1 - General Information'!G14="[Make Selection From Drop-Down List ]","",("School: "&'Page 1 - General Information'!G14&" - "&'Page 1 - General Information'!G16)) -> School: Upper Merion HS - 3395 | T7: Page 2 - Section 1: Team Information | AI7: =IF('Page 1 - General Information'!G10=" [Make Selection From Drop-Down List ]","",("LEA: "&'Page 1 - General Information'!G10&" - "&'Page 1 - General Information'!G12)) -> LEA: Upper Merion Area SD - 123468402
E9: TEAM MEMBERSHIP | AH9: COACHES & TRAINERS
E10: Sport | G10: Boys/Girls | I10: Level | K10: Total Number of Participants (As Of The Day Of The First Scheduled Team Competition) | O10: Season(s) Team Competes | S10: Team History (Format =YYYY, e.g. 1955) | X10: Total Number of Competitions Scheduled Per Season | AC10: Total Number of Competitions Played Per Season | AH10: NUMBER OF COACHES PER TEAM | AM10: PERCENTAGE OF TIME SPENT BY EACH ATHLETIC TRAINER WITH EACH TEAM
AH11: Head | AJ11: Assistant | AM11: Trainer 1 | AN11: Trainer 2 | AO11: Trainer 3 | AP11: Trainer 4
K12: Boys | L12: Girls | M12: TOTAL | O12: F | P12: W | Q12: S | S12: Year Established 1 | T12: Year of Demotion | U12: Year of Elimination | V12: Year of Reinstatement | X12: F | Y12: W | Z12: S | AA12: Total | AC12: F | AD12: W | AE12: S | AF12: Total | AH12: Full Time | AI12: Part Time | AJ12: Full Time | AK12: Part Time | AM12: =SUM(AM14:AM184) -> 0.68 | AN12: =SUM(AN14:AN184) -> 0.68 | AO12: =SUM(AO14:AO184) -> 0 | AP12: =SUM(AP14:AP184) -> 0
K13: 1 | L13: 2 | M13: 3 | N13: 9 | O13: 5 | P13: 6 | Q13: 7 | R13: 22 | S13: 9 | T13: 10 | U13: 11 | V13: 12 | W13: 27 | X13: 14 | Y13: 15 | Z13: 16 | AA13: 17 | AB13: 32 | AC13: 19 | AD13: 20 | AE13: 21 | AF13: 22 | AG13: 37 | AH13: 24 | AI13: 25 | AJ13: 26 | AK13: 27 | AL13: 42 | AM13: 29 | AN13: 30 | AO13: 31 | AP13: 32
D14: 1 | E14: Baseball | G14: Boys | I14: Varsity | K14: 15 | M14: =SUM(K14:L14) -> 15 | Q14: Yes | S14: 1966 | Z14: 20 | AA14: =SUM(X14:Z14) -> 20 | AE14: 20 | AF14: =SUM(AC14:AE14) -> 20 | AI14: 1 | AK14: 1 | AM14: 0.012 | AN14: 0.012 | AO14: 0 | AP14: 0
D15: 2 | E15: Basketball | G15: Boys | I15: Varsity | K15: 12 | M15: =SUM(K15:L15) -> 12 | P15: Yes | S15: 1966 | Y15: 22 | AA15: =SUM(X15:Z15) -> 22 | AD15: 22 | AF15: =SUM(AC15:AE15) -> 22 | AI15: 1 | AM15: 0.012 | AN15: 0.012 | AO15: 0 | AP15: 0
D16: 3 | E16: Bowling | G16: Boys | I16: Varsity | M16: =SUM(K16:L16) -> 0 | AA16: =SUM(X16:Z16) -> 0 | AF16: =SUM(AC16:AE16) -> 0 | AM16: 0 | AN16: 0 | AO16: 0 | AP16: 0
D17: 4 | E17: Cross Country | G17: Boys | I17: Varsity | K17: 13 | M17: =SUM(K17:L17) -> 13 | O17: Yes | S17: 1966 | X17: 16 | AA17: =SUM(X17:Z17) -> 16 | AC17: 16 | AF17: =SUM(AC17:AE17) -> 16 | AI17: 0.5 | AM17: 0.012 | AN17: 0.012 | AO17: 0 | AP17: 0
D18: 5 | E18: Football | G18: Boys | I18: Varsity | K18: 33 | M18: =SUM(K18:L18) -> 33 | O18: Yes | S18: 1966 | X18: 11 | AA18: =SUM(X18:Z18) -> 11 | AC18: 11 | AF18: =SUM(AC18:AE18) -> 11 | AI18: 1 | AK18: 1 | AM18: 0.012 | AN18: 0.012 | AO18: 0 | AP18: 0
D19: 6 | E19: Golf | G19: Boys | I19: Varsity | K19: 11 | M19: =SUM(K19:L19) -> 11 | O19: Yes | S19: 1966 | X19: 18 | AA19: =SUM(X19:Z19) -> 18 | AC19: 18 | AF19: =SUM(AC19:AE19) -> 18 | AI19: 0.5 | AM19: 0.01 | AN19: 0.01 | AO19: 0 | AP19: 0
D20: 7 | E20: Lacrosse | G20: Boys | I20: Varsity | K20: 19 | M20: =SUM(K20:L20) -> 19 | Q20: Yes | S20: 2008 | Z20: 18 | AA20: =SUM(X20:Z20) -> 18 | AE20: 18 | AF20: =SUM(AC20:AE20) -> 18 | AI20: 1 | AM20: 0.012 | AN20: 0.012 | AO20: 0 | AP20: 0
D21: 8 | E21: Rifle | G21: Boys | I21: Varsity | K21: 9 | M21: =SUM(K21:L21) -> 9 | Q21: Yes | S21: 1966 | Z21: 12 | AA21: =SUM(X21:Z21) -> 12 | AE21: 12 | AF21: =SUM(AC21:AE21) -> 12 | AI21: 0.25 | AK21: 1 | AM21: 0.01 | AN21: 0.01 | AO21: 0 | AP21: 0
D22: 9 | E22: Soccer | G22: Boys | I22: Varsity | K22: 29 | M22: =SUM(K22:L22) -> 29 | O22: Yes | S22: 1966 | X22: 18 | AA22: =SUM(X22:Z22) -> 18 | AC22: 18 | AF22: =SUM(AC22:AE22) -> 18 | AI22: 1 | AK22: 1 | AM22: 0.012 | AN22: 0.012 | AO22: 0 | AP22: 0
D23: 10 | E23: Swimming and Diving | G23: Boys | I23: Varsity | K23: 10 | M23: =SUM(K23:L23) -> 10 | P23: Yes | S23: 1966 | Y23: 18 | AA23: =SUM(X23:Z23) -> 18 | AD23: 18 | AF23: =SUM(AC23:AE23) -> 18 | AI23: 1 | AM23: 0.012 | AN23: 0.012 | AO23: 0 | AP23: 0
D24: 11 | E24: Tennis | G24: Boys | I24: Varsity | K24: 9 | M24: =SUM(K24:L24) -> 9 | Q24: Yes | S24: 1966 | Z24: 18 | AA24: =SUM(X24:Z24) -> 18 | AE24: 18 | AF24: =SUM(AC24:AE24) -> 18 | AI24: 1 | AM24: 0.012 | AN24: 0.012 | AO24: 0 | AP24: 0
D25: 12 | E25: Track & Field (Indoor) | G25: Boys | I25: Varsity | K25: 14 | M25: =SUM(K25:L25) -> 14 | P25: Yes | S25: 1966 | Y25: 16 | AA25: =SUM(X25:Z25) -> 16 | AD25: 16 | AF25: =SUM(AC25:AE25) -> 16 | AI25: 0.25 | AK25: 0.5 | AM25: 0.012 | AN25: 0.012 | AO25: 0 | AP25: 0
D26: 13 | E26: Track & Field (Outdoor) | G26: Boys | I26: Varsity | K26: 26 | M26: =SUM(K26:L26) -> 26 | Q26: Yes | S26: 1966 | Z26: 16 | AA26: =SUM(X26:Z26) -> 16 | AE26: 16 | AF26: =SUM(AC26:AE26) -> 16 | AI26: 0.5 | AK26: 1 | AM26: 0.012 | AN26: 0.012 | AO26: 0 | AP26: 0
D27: 14 | E27: Volleyball | G27: Boys | I27: Varsity | M27: =SUM(K27:L27) -> 0 | AA27: =SUM(X27:Z27) -> 0 | AF27: =SUM(AC27:AE27) -> 0 | AM27: 0 | AN27: 0 | AO27: 0 | AP27: 0
D28: 15 | E28: Water Polo | G28: Boys | I28: Varsity | K28: 14 | M28: =SUM(K28:L28) -> 14 | O28: Yes | S28: 1966 | X28: 22 | AA28: =SUM(X28:Z28) -> 22 | AC28: 22 | AF28: =SUM(AC28:AE28) -> 22 | AI28: 0.5 | AK28: 0.5 | AM28: 0.012 | AN28: 0.012 | AO28: 0 | AP28: 0
D29: 16 | E29: Wrestling | G29: Boys | I29: Varsity | K29: 11 | M29: =SUM(K29:L29) -> 11 | P29: Yes | S29: 1966 | Y29: 22 | AA29: =SUM(X29:Z29) -> 22 | AD29: 22 | AF29: =SUM(AC29:AE29) -> 22 | AI29: 1 | AM29: 0.012 | AN29: 0.012 | AO29: 0 | AP29: 0
D30: 17 | E30: Baseball | G30: Boys | I30: Jr Varsity | K30: 14 | M30: =SUM(K30:L30) -> 14 | Q30: Yes | S30: 1966 | Z30: 20 | AA30: =SUM(X30:Z30) -> 20 | AE30: 20 | AF30: =SUM(AC30:AE30) -> 20 | AI30: 1 | AM30: 0.012 | AN30: 0.012 | AO30: 0 | AP30: 0
D31: 18 | E31: Basketball | G31: Boys | I31: Jr Varsity | K31: 11 | M31: =SUM(K31:L31) -> 11 | P31: Yes | S31: 1966 | Y31: 22 | AA31: =SUM(X31:Z31) -> 22 | AD31: 22 | AF31: =SUM(AC31:AE31) -> 22 | AI31: 1 | AM31: 0.012 | AN31: 0.012 | AO31: 0 | AP31: 0
D32: 19 | E32: Bowling | G32: Boys | I32: Jr Varsity | M32: =SUM(K32:L32) -> 0 | AA32: =SUM(X32:Z32) -> 0 | AF32: =SUM(AC32:AE32) -> 0 | AM32: 0 | AN32: 0 | AO32: 0 | AP32: 0
D33: 20 | E33: Cross Country | G33: Boys | I33: Jr Varsity | K33: 13 | M33: =SUM(K33:L33) -> 13 | O33: Yes | S33: 1966 | X33: 16 | AA33: =SUM(X33:Z33) -> 16 | AC33: 16 | AF33: =SUM(AC33:AE33) -> 16 | AI33: 0.5 | AM33: 0.012 | AN33: 0.012 | AO33: 0 | AP33: 0
D34: 21 | E34: Football | G34: Boys | I34: Jr Varsity | K34: 21 | M34: =SUM(K34:L34) -> 21 | O34: Yes | S34: 1966 | X34: 10 | AA34: =SUM(X34:Z34) -> 10 | AC34: 10 | AF34: =SUM(AC34:AE34) -> 10 | AI34: 1 | AK34: 1 | AM34: 0.01 | AN34: 0.01 | AO34: 0 | AP34: 0
D35: 22 | E35: Golf | G35: Boys | I35: Jr Varsity | M35: =SUM(K35:L35) -> 0 | AA35: =SUM(X35:Z35) -> 0 | AF35: =SUM(AC35:AE35) -> 0 | AM35: 0 | AN35: 0 | AO35: 0 | AP35: 0
D36: 23 | E36: Lacrosse | G36: Boys | I36: Jr Varsity | K36: 14 | M36: =SUM(K36:L36) -> 14 | Q36: Yes | S36: 2008 | Z36: 18 | AA36: =SUM(X36:Z36) -> 18 | AE36: 18 | AF36: =SUM(AC36:AE36) -> 18 | AI36: 1 | AM36: 0.012 | AN36: 0.012 | AO36: 0 | AP36: 0
D37: 24 | E37: Rifle | G37: Boys | I37: Jr Varsity | K37: 8 | M37: =SUM(K37:L37) -> 8 | Q37: Yes | S37: 1966 | Z37: 12 | AA37: =SUM(X37:Z37) -> 12 | AE37: 12 | AF37: =SUM(AC37:AE37) -> 12 | AI37: 0.25 | AK37: 0.5 | AM37: 0.01 | AN37: 0.01 | AO37: 0 | AP37: 0
D38: 25 | E38: Soccer | G38: Boys | I38: Jr Varsity | K38: 22 | M38: =SUM(K38:L38) -> 22 | O38: Yes | S38: 1966 | X38: 18 | AA38: =SUM(X38:Z38) -> 18 | AC38: 18 | AF38: =SUM(AC38:AE38) -> 18 | AI38: 1 | AM38: 0.012 | AN38: 0.012 | AO38: 0 | AP38: 0
D39: 26 | E39: Swimming and Diving | G39: Boys | I39: Jr Varsity | K39: 10 | M39: =SUM(K39:L39) -> 10 | P39: Yes | S39: 1966 | Y39: 18 | AA39: =SUM(X39:Z39) -> 18 | AD39: 18 | AF39: =SUM(AC39:AE39) -> 18 | AI39: 1 | AM39: 0.012 | AN39: 0.012 | AO39: 0 | AP39: 0
D40: 27 | E40: Tennis | G40: Boys | I40: Jr Varsity | K40: 9 | M40: =SUM(K40:L40) -> 9 | Q40: Yes | S40: 1966 | Z40: 18 | AA40: =SUM(X40:Z40) -> 18 | AE40: 18 | AF40: =SUM(AC40:AE40) -> 18 | AI40: 1 | AM40: 0.012 | AN40: 0.012 | AO40: 0 | AP40: 0
D41: 28 | E41: Track & Field (Indoor) | G41: Boys | I41: Jr Varsity | K41: 13 | M41: =SUM(K41:L41) -> 13 | P41: Yes | S41: 1966 | Z41: 16 | AA41: =SUM(X41:Z41) -> 16 | AE41: 16 | AF41: =SUM(AC41:AE41) -> 16 | AI41: 0.25 | AK41: 0.5 | AM41: 0.01 | AN41: 0.012 | AO41: 0 | AP41: 0
D42: 29 | E42: Track & Field (Outdoor) | G42: Boys | I42: Jr Varsity | K42: 26 | M42: =SUM(K42:L42) -> 26 | Q42: Yes | S42: 1966 | Z42: 16 | AA42: =SUM(X42:Z42) -> 16 | AE42: 16 | AF42: =SUM(AC42:AE42) -> 16 | AI42: 0.5 | AK42: 1 | AM42: 0.012 | AN42: 0.012 | AO42: 0 | AP42: 0
D43: 30 | E43: Volleyball | G43: Boys | I43: Jr Varsity | M43: =SUM(K43:L43) -> 0 | AA43: =SUM(X43:Z43) -> 0 | AF43: =SUM(AC43:AE43) -> 0 | AM43: 0 | AN43: 0 | AO43: 0 | AP43: 0
D44: 31 | E44: Water Polo | G44: Boys | I44: Jr Varsity | M44: =SUM(K44:L44) -> 0 | AA44: =SUM(X44:Z44) -> 0 | AF44: =SUM(AC44:AE44) -> 0 | AM44: 0 | AN44: 0 | AO44: 0 | AP44: 0
D45: 32 | E45: Wrestling | G45: Boys | I45: Jr Varsity | K45: 10 | L45: 1 | M45: =SUM(K45:L45) -> 11 | P45: Yes | S45: 1966 | Y45: 22 | AA45: =SUM(X45:Z45) -> 22 | AD45: 22 | AF45: =SUM(AC45:AE45) -> 22 | AI45: 1 | AM45: 0.012 | AN45: 0.012 | AO45: 0 | AP45: 0
...

Sheet Page 3 - Financial Information
E4: ='Page 1 - General Information'!E4 -> INTERSCHOLASTIC ATHLETIC OPPORTUNITIES DISCLOSURE FORM 15.6
E5: ='Page 1 - General Information'!E5 -> 2014 - 2015 School Year
E7: =IF('Page 1 - General Information'!G14="[Make Selection From Drop-Down List ]","",("School: "&'Page 1 - General Information'!G14&" - "&'Page 1 - General Information'!G16)) -> School: Upper Merion HS - 3395 | O7: Page 3 - Section 1: Financial Information | W7: =IF('Page 1 - General Information'!G10=" [Make Selection From Drop-Down List ]","",("LEA: "&'Page 1 - General Information'!G10&" - "&'Page 1 - General Information'!G12)) -> LEA: Upper Merion Area SD - 123468402
E9: ATHLETIC EXPENDITURES
E10: Team | G10: Boys/Girls | I10: Level | K10: Total Annual School Team Expenditures | M10: SCHOOL'S ANNUAL EXPENDITURES FOR EACH TEAM | W10: NON-SCHOOL (BOOSTER CLUBS, ALUMNI & OTHER NON-SCHOOL) CONTRIBUTIONS & PURCHASES
M11: Travel 1 | N11: Uniforms 2 | O11: Supplies and Equipment 3 | P11: Facilities 4 | Q11: Other | R11: Coaching Staff Compensation per Sport per Season | U11: Total Compensation For All Athletic Trainers Per Academic Year | W11: List total value of contributions per team | X11: List total value of purchases per team
R13: Fall | S13: Winter | T13: Spring | U13: 81015
K14: Totals | M14: =SUM(M16:M186) -> 80219.08 | N14: =SUM(N16:N186) -> 24100.97 | O14: =SUM(O16:O186) -> 22776.44 | P14: =SUM(P16:P186) -> 0 | Q14: =SUM(Q16:Q186) -> 65688.52 | R14: =SUM(R16:R186) -> 160703.02 | S14: =SUM(S16:S186) -> 99250.66 | T14: =SUM(T16:T186) -> 140289.5 | W14: =SUM(W16:W186) -> 113511.27 | X14: =SUM(X16:X186) -> 108325.99
K15: 1 | L15: 2 | M15: 3 | N15: 4 | O15: 5 | P15: 6 | Q15: 7 | R15: 8 | S15: 9 | T15: 10 | U15: 11 | V15: 12 | W15: 13 | X15: 14
D16: 1 | E16: Baseball | G16: Boys | I16: Varsity | K16: =SUM(M16:T16) -> 18093.54 | M16: 1943.44 | N16: 577.15 | O16: 1057.23 | Q16: 1008 | T16: 13507.72 | W16: 818.63 | X16: 556.69
D17: 2 | E17: Basketball | G17: Boys | I17: Varsity | K17: =SUM(M17:T17) -> 19369.37 | M17: 1639.37 | O17: 163.33 | Q17: 3785.17 | S17: 13781.5 | W17: 2166.33 | X17: 2157.75
D18: 3 | E18: Bowling | G18: Boys | I18: Varsity | K18: =SUM(M18:T18) -> 0 | W18: 0 | X18: 0
D19: 4 | E19: Cross Country | G19: Boys | I19: Varsity | K19: =SUM(M19:T19) -> 4730.23 | M19: 1002.6 | Q19: 531 | R19: 3196.63 | W19: 2.25 | X19: 162.84
D20: 5 | E20: Football | G20: Boys | I20: Varsity | K20: =SUM(M20:T20) -> 32509.08 | M20: 3667.75 | N20: 597.97 | O20: 1198.97 | Q20: 5440.75 | R20: 21603.64 | W20: 5180.44 | X20: 5058.82
D21: 6 | E21: Golf | G21: Boys | I21: Varsity | K21: =SUM(M21:T21) -> 3823.44 | M21: 348.13 | O21: 415 | Q21: 503.01 | R21: 2557.3 | W21: 0 | X21: 0
D22: 7 | E22: Lacrosse | G22: Boys | I22: Varsity | K22: =SUM(M22:T22) -> 14959.79 | M22: 1546.69 | N22: 2700 | O22: 1293.93 | Q22: 2003 | T22: 7416.17 | W22: 3858.81 | X22: 3285.58
D23: 8 | E23: Rifle | G23: Boys | I23: Varsity | K23: =SUM(M23:T23) -> 5435.02 | M23: 1220.16 | N23: 200 | Q23: 562.5 | T23: 3452.36 | W23: 15000.26 | X23: 14862.49
D24: 9 | E24: Soccer | G24: Boys | I24: Varsity | K24: =SUM(M24:T24) -> 15026.36 | M24: 808.38 | N24: 103.6 | O24: 2.95 | Q24: 1928.33 | R24: 12183.1 | W24: 1208.44 | X24: 1208.47
D25: 10 | E25: Swimming and Diving | G25: Boys | I25: Varsity | K25: =SUM(M25:T25) -> 9937.74 | M25: 866.18 | N25: 658.18 | O25: 22 | R25: 463.75 | S25: 7927.63 | W25: 1.65 | X25: 211.89
D26: 11 | E26: Tennis | G26: Boys | I26: Varsity | K26: =SUM(M26:T26) -> 6119.36 | M26: 414.38 | O26: 407.98 | T26: 5297 | W26: 0 | X26: 0
D27: 12 | E27: Track & Field (Indoor) | G27: Boys | I27: Varsity | K27: =SUM(M27:T27) -> 6825.31 | M27: 2013.58 | Q27: 250 | S27: 4561.73 | W27: 0 | X27: 0
D28: 13 | E28: Track & Field (Outdoor) | G28: Boys | I28: Varsity | K28: =SUM(M28:T28) -> 11658.49 | M28: 1989.63 | N28: 975.75 | O28: 506.59 | Q28: 1026.5 | T28: 7160.02 | W28: 0 | X28: 0
D29: 14 | E29: Volleyball | G29: Boys | I29: Varsity | K29: =SUM(M29:T29) -> 0 | W29: 0 | X29: 0
D30: 15 | E30: Water Polo | G30: Boys | I30: Varsity | K30: =SUM(M30:T30) -> 8494.6 | M30: 2515.01 | Q30: 308.25 | R30: 5671.34 | W30: 689.5 | X30: 250.85
D31: 16 | E31: Wrestling | G31: Boys | I31: Varsity | K31: =SUM(M31:T31) -> 12707.91 | M31: 2847.38 | N31: 253.45 | O31: 811.6 | Q31: 1151.5 | S31: 7643.98 | W31: 0 | X31: 0
D32: 17 | E32: Baseball | G32: Boys | I32: Jr Varsity | K32: =SUM(M32:T32) -> 10757.16 | M32: 1943.44 | N32: 577.15 | O32: 1057.23 | Q32: 1508 | T32: 5671.34 | W32: 818.64 | X32: 556.69
D33: 18 | E33: Basketball | G33: Boys | I33: Jr Varsity | K33: =SUM(M33:T33) -> 7015.82 | M33: 1639.36 | O33: 163.33 | Q33: 2254.17 | S33: 2958.96 | W33: 2166.33 | X33: 2157.75
D34: 19 | E34: Bowling | G34: Boys | I34: Jr Varsity | K34: =SUM(M34:T34) -> 0 | W34: 0 | X34: 0
D35: 20 | E35: Cross Country | G35: Boys | I35: Jr Varsity | K35: =SUM(M35:T35) -> 4730.22 | M35: 1002.6 | Q35: 531 | R35: 3196.62 | W35: 2.24 | X35: 162.83
D36: 21 | E36: Football | G36: Boys | I36: Jr Varsity | K36: =SUM(M36:T36) -> 27416.82 | M36: 447.5 | N36: 597.97 | O36: 1198.97 | Q36: 3568.75 | R36: 21603.63 | W36: 5180.43 | X36: 5058.81
D37: 22 | E37: Golf | G37: Boys | I37: Jr Varsity | K37: =SUM(M37:T37) -> 0 | W37: 0 | X37: 0
D38: 23 | E38: Lacrosse | G38: Boys | I38: Jr Varsity | K38: =SUM(M38:T38) -> 12839.96 | M38: 1546.69 | N38: 2700 | O38: 1293.93 | Q38: 1628 | T38: 5671.34 | W38: 3858.81 | X38: 3285.58
D39: 24 | E39: Rifle | G39: Boys | I39: Jr Varsity | K39: =SUM(M39:T39) -> 9471.56 | M39: 1220.16 | N39: 200 | Q39: 562.5 | T39: 7488.9 | W39: 15000.25 | X39: 14862.49
D40: 25 | E40: Soccer | G40: Boys | I40: Jr Varsity | K40: =SUM(M40:T40) -> 7396.31 | M40: 808.38 | N40: 103.6 | Q40: 1187.33 | R40: 5297 | W40: 1208.44 | X40: 1208.47
D41: 26 | E41: Swimming and Diving | G41: Boys | I41: Jr Varsity | K41: =SUM(M41:T41) -> 8366.51 | M41: 866.18 | N41: 658.18 | O41: 22 | Q41: 463.75 | S41: 6356.4 | W41: 1.65 | X41: 211.89
D42: 27 | E42: Tennis | G42: Boys | I42: Jr Varsity | K42: =SUM(M42:T42) -> 4767.63 | M42: 414.37 | O42: 407.98 | T42: 3945.28 | W42: 0 | X42: 0
D43: 28 | E43: Track & Field (Indoor) | G43: Boys | I43: Jr Varsity | K43: =SUM(M43:T43) -> 6825.3 | M43: 2013.57 | Q43: 250 | S43: 4561.73 | W43: 0 | X43: 0
D44: 29 | E44: Track & Field (Outdoor) | G44: Boys | I44: Jr Varsity | K44: =SUM(M44:T44) -> 16334.52 | M44: 1989.63 | N44: 975.75 | O44: 506.59 | Q44: 1026.5 | T44: 11836.05 | W44: 0 | X44: 0
D45: 30 | E45: Volleyball | G45: Boys | I45: Jr Varsity | K45: =SUM(M45:T45) -> 0 | W45: 0 | X45: 0
D46: 31 | E46: Water Polo | G46: Boys | I46: Jr Varsity | K46: =SUM(M46:T46) -> 0 | W46: 0 | X46: 0
...

Sheet Page 4 - Gender and Race Info
E4: ='Page 1 - General Information'!E4 -> INTERSCHOLASTIC ATHLETIC OPPORTUNITIES DISCLOSURE FORM 15.6
C5: ='Page 1 - General Information'!E5 -> 2014 - 2015 School Year | E5: ='Page 1 - General Information'!E5 -> 2014 - 2015 School Year
E7: =IF('Page 1 - General Information'!G14="[Make Selection From Drop-Down List ]","",("School: "&'Page 1 - General Information'!G14&" - "&'Page 1 - General Information'!G16)) -> School: Upper Merion HS - 3395 | J7: Page 5 - Section 1: Gender and Race/Ethnicity Information | S7: =IF('Page 1 - General Information'!H10=" [Make Selection From Drop-Down List ]","",("LEA: "&'Page 1 - General Information'!G10&" - "&'Page 1 - General Information'!G12)) -> LEA: Upper Merion Area SD - 123468402
E10: Gender | F10: School Totals | O10: Athletic Program Totals
F11: Race/Ethnicity Code | O11: Race/Ethnicity Code
F12: American Indian/Alaskan Native | G12: Black/African American (Not Hispanic) | H12: Hispanic (Any Race) | I12: White/Caucasian (Not Hispanic) | J12: Multi-Racial (Not Hispanic) | K12: Asian (Not Hispanic) | L12: Native Hawaiian or Other Pacific Islander (Not Hispanic) | M12: Total | O12: American Indian/Alaskan Native | P12: Black/African American (Not Hispanic) | Q12: Hispanic (Any Race) | R12: White/Caucasian (Not Hispanic) | S12: Multi-Racial (Not Hispanic) | T12: Asian (Not Hispanic) | U12: Native Hawaiian or Other Pacific Islander (Not Hispanic) | V12: Total
F13: 1 | G13: 2 | H13: 3 | I13: 4 | J13: 5 | K13: 6 | L13: 7 | M13: 8 | N13: 9 | O13: 10 | P13: 11 | Q13: 12 | R13: 13 | S13: 14 | T13: 15 | U13: 16 | V13: 17
D14: ='Page 1 - General Information'!G12&'Page 1 - General Information'!G16&'Page 4 - Gender and Race Info'!E14 -> 1234684023395Male | E14: Male | F14: =IF(ISERROR(VLOOKUP($D$14,'Race Data'!$B:$O,7,FALSE))," ",(VLOOKUP($D$14,'Race Data'!$B:$O,7,FALSE))) -> * | G14: =IF(ISERROR(VLOOKUP($D$14,'Race Data'!$B:$O,8,FALSE))," ",(VLOOKUP($D$14,'Race Data'!$B:$O,8,FALSE))) -> 59 | H14: =IF(ISERROR(VLOOKUP($D$14,'Race Data'!$B:$O,9,FALSE))," ",(VLOOKUP($D$14,'Race Data'!$B:$O,9,FALSE))) -> 34 | I14: =IF(ISERROR(VLOOKUP($D$14,'Race Data'!$B:$O,10,FALSE))," ",(VLOOKUP($D$14,'Race Data'!$B:$O,10,FALSE))) -> 383 | J14: =IF(ISERROR(VLOOKUP($D$14,'Race Data'!$B:$O,11,FALSE))," ",(VLOOKUP($D$14,'Race Data'!$B:$O,11,FALSE))) -> * | K14: =IF(ISERROR(VLOOKUP($D$14,'Race Data'!$B:$O,12,FALSE))," ",(VLOOKUP($D$14,'Race Data'!$B:$O,12,FALSE))) -> 79 | L14: =IF(ISERROR(VLOOKUP($D$14,'Race Data'!$B:$O,13,FALSE))," ",(VLOOKUP($D$14,'Race Data'!$B:$O,13,FALSE))) -> * | M14: =IF(ISERROR(VLOOKUP($D$14,'Race Data'!$B:$O,14,FALSE))," ",(VLOOKUP($D$14,'Race Data'!$B:$O,14,FALSE))) -> 580 | O14: 1 | P14: 47 | Q14: 16 | R14: 312 | S14: 11 | T14: 67 | U14: 16 | V14: =SUM(O14:U14) -> 470
D15: ='Page 1 - General Information'!G12&'Page 1 - General Information'!G16&'Page 4 - Gender and Race Info'!E15 -> 1234684023395Female | E15: Female | F15: =IF(ISERROR(VLOOKUP($D$15,'Race Data'!$B:$O,7,FALSE))," ",(VLOOKUP($D$15,'Race Data'!$B:$O,7,FALSE))) -> * | G15: =IF(ISERROR(VLOOKUP($D$15,'Race Data'!$B:$O,8,FALSE))," ",(VLOOKUP($D$15,'Race Data'!$B:$O,8,FALSE))) -> 71 | H15: =IF(ISERROR(VLOOKUP($D$15,'Race Data'!$B:$O,9,FALSE))," ",(VLOOKUP($D$15,'Race Data'!$B:$O,9,FALSE))) -> 39 | I15: =IF(ISERROR(VLOOKUP($D$15,'Race Data'!$B:$O,10,FALSE))," ",(VLOOKUP($D$15,'Race Data'!$B:$O,10,FALSE))) -> 342 | J15: =IF(ISERROR(VLOOKUP($D$15,'Race Data'!$B:$O,11,FALSE))," ",(VLOOKUP($D$15,'Race Data'!$B:$O,11,FALSE))) -> 14 | K15: =IF(ISERROR(VLOOKUP($D$15,'Race Data'!$B:$O,12,FALSE))," ",(VLOOKUP($D$15,'Race Data'!$B:$O,12,FALSE))) -> 77 | L15: =IF(ISERROR(VLOOKUP($D$15,'Race Data'!$B:$O,13,FALSE))," ",(VLOOKUP($D$15,'Race Data'!$B:$O,13,FALSE))) -> * | M15: =IF(ISERROR(VLOOKUP($D$15,'Race Data'!$B:$O,14,FALSE))," ",(VLOOKUP($D$15,'Race Data'!$B:$O,14,FALSE))) -> 557 | O15: 3 | P15: 41 | Q15: 22 | R15: 274 | S15: 6 | T15: 50 | U15: 7 | V15: =SUM(O15:U15) -> 403
D16: ='Page 1 - General Information'!G12&'Page 1 - General Information'!G16&" "&'Page 4 - Gender and Race Info'!E16 -> 1234684023395 Total | E16: Total | F16: =IF(ISERROR(VLOOKUP($D$16,'Race Data'!$B:$O,7,FALSE))," ",(VLOOKUP($D$16,'Race Data'!$B:$O,7,FALSE))) -> * | G16: =IF(ISERROR(VLOOKUP($D$16,'Race Data'!$B:$O,8,FALSE))," ",(VLOOKUP($D$16,'Race Data'!$B:$O,8,FALSE))) -> 130 | H16: =IF(ISERROR(VLOOKUP($D$16,'Race Data'!$B:$O,9,FALSE))," ",(VLOOKUP($D$16,'Race Data'!$B:$O,9,FALSE))) -> 73 | I16: =IF(ISERROR(VLOOKUP($D$16,'Race Data'!$B:$O,10,FALSE))," ",(VLOOKUP($D$16,'Race Data'!$B:$O,10,FALSE))) -> 725 | J16: =IF(ISERROR(VLOOKUP($D$16,'Race Data'!$B:$O,11,FALSE))," ",(VLOOKUP($D$16,'Race Data'!$B:$O,11,FALSE))) -> * | K16: =IF(ISERROR(VLOOKUP($D$16,'Race Data'!$B:$O,12,FALSE))," ",(VLOOKUP($D$16,'Race Data'!$B:$O,12,FALSE))) -> 156 | L16: =IF(ISERROR(VLOOKUP($D$16,'Race Data'!$B:$O,13,FALSE))," ",(VLOOKUP($D$16,'Race Data'!$B:$O,13,FALSE))) -> 20 | M16: =IF(ISERROR(VLOOKUP($D$16,'Race Data'!$B:$O,14,FALSE))," ",(VLOOKUP($D$16,'Race Data'!$B:$O,14,FALSE))) -> 1137 | N16: =N14+N15 -> 0 | O16: =O14+O15 -> 4 | P16: =P14+P15 -> 88 | Q16: =Q14+Q15 -> 38 | R16: =R14+R15 -> 586 | S16: =S14+S15 -> 17 | T16: =T14+T15 -> 117 | U16: =U14+U15 -> 23 | V16: =V14+V15 -> 873
E20: Note: Some information has been redacted in order to protect individual idendtification

Sheet Page 5 - Comments
D4: ='Page 1 - General Information'!E4 -> INTERSCHOLASTIC ATHLETIC OPPORTUNITIES DISCLOSURE FORM 15.6
D5: ='Page 1 - General Information'!E5 -> 2014 - 2015 School Year
E7: =IF('Page 1 - General Information'!G14="[Make Selection From Drop-Down List ]","",("School: "&'Page 1 - General Information'!G14&" - "&'Page 1 - General Information'!G16)) -> School: Upper Merion HS - 3395 | J7: Page 4 - Section 1: Comments | N7: =IF('Page 1 - General Information'!G10=" [Make Selection From Drop-Down List ]","",("LEA: "&'Page 1 - General Information'!G10&" - "&'Page 1 - General Information'!G12)) -> LEA: Upper Merion Area SD - 123468402
E11: Please Provide All Applicable Comments Below
E12: For Best Results, Compose In A Word Processor, Copy And Paste To The Formula Bar Above, Then Press Enter.
E13: Input Is Limited To 100 Characters
E15: Crew is not a sport that was eligible to record information on the TEAM INFORMATION tab PAGE 2 and FINANCIAL INFORMATION tab PAGE 3. Upper Merion Area High School's Crew info has been recorded under the Boys and Girls Varsity Rifle tab on PAGE 2 and PAGE 3.

Sheet PIMS LEA
A1: AUN | B1: LEA Name | C1: AUN | D1: LEA Type | E1: Full Address | F1: District Street Address | G1: District Address 2 | H1: District Address 3 | I1: District City | J1: State Code | K1: District Zip Code
A2: 000000000 | B2: [Make Selection From Drop-Down List ] | C2: 000000000
A3: 124150002 | B3: 21st Century Cyber CS | C3: 124150002 | D3: CS | E3: 126 Wallace Ave. Downingtown, PA 19335
A4: 103020407 | B4: A W Beattie Career Center | C4: 103020407 | D4: OCCCTC | E4: 9600 Babcock Boulevard Allison Park, PA 15101
A5: 119350303 | B5: Abington Heights SD | C5: 119350303 | D5: SD | E5: 200 E Grove St Clarks Summit, PA 18411
A6: 123460302 | B6: Abington SD | C6: 123460302 | D6: SD | E6: 970 Highland Ave Abington, PA 19001
A7: 102020003 | B7: Academy CS | C7: 102020003 | D7: CS | E7: 900 Agnew Rd Pittsburgh, PA 15227
A8: 125230001 | B8: Achievement House CS | C8: 125230001 | D8: CS | E8: 600 Eagleview Boulevard Exton, PA 19341
A9: 126514368 | B9: ACT Academy Cyber CS | C9: 126514368 | D9: CS | E9: 2111 Eastburn Avenue Philadelphia, PA 19138
A10: 126510015 | B10: Ad Prima CS | C10: 126510015 | D10: CS | E10: 124 Bryn Mawr Ave Bala Cynwyd, PA 19004
A11: 108110307 | B11: Admiral Peary AVTS | C11: 108110307 | D11: OCCCTC | E11: 948 Ben Franklin Highway Ebensburg, PA 15931
A12: 126510020 | B12: Agora Cyber CS | C12: 126510020 | D12: CS | E12: 995 Old Eagle School Rd Suite 315 Wayne, PA 19087
A13: 101260303 | B13: Albert Gallatin Area SD | C13: 101260303 | D13: SD | E13: 2625 Morgantown Rd Uniontown, PA 15401
A14: 127040503 | B14: Aliquippa SD | C14: 127040503 | D14: SD | E14: 800 21st Street Aliquippa, PA 15001
... A757: 111319998 | B757: Youth Forestry Camp #3 | C757: 111319998 | D757: SJCI | E757: 4534 Tar Kiln Road James Creek, PA 16657

Sheet PIMS School
A1: AUN | B1: Index | C1: Building Key | D1: Building Key 2 | E1: LEA Name | F1: LEA Type | G1: School Type | H1: Location ID | I1: Full Location Name | J1: Location ID | K1: Full Address | L1: Location Street Address | M1: Location Address 1 | N1: Location Address 2 | O1: Location Address 3 | P1: Location City | Q1: Location State Code | R1: Location Full Zip Code
A2: 124150002 | B2: 1 | C2: 1241500021 | D2: 12415000221st Century Cyber CS | E2: 21st Century Cyber CS | F2: CS | G2: 0000 | H2: 7691 | I2: 21st Century Cyber CS | J2: 7691 | K2: 126 Wallace Ave. Downingtown, PA 19335
A3: 103020407 | B3: 1 | C3: 1030204071 | D3: 103020407A W Beattie Career Center | E3: A W Beattie Career Center | F3: OCCCTC | G3: 0000 | H3: 5273 | I3: A W Beattie Career Center | J3: 5273 | K3: 9600 Babcock Boulevard Allison Park, PA 15101
A4: 119350303 | B4: 1 | C4: 1193503031 | D4: 119350303Abington Heights HS | E4: Abington Heights SD | F4: SD | G4: 0000 | H4: 5091 | I4: Abington Heights HS | J4: 5091 | K4: 222 Noble Road Clarks Summit, PA 18411
A5: 119350303 | B5: 2 | C5: 1193503032 | D5: 119350303Abington Heights MS | E5: Abington Heights SD | F5: SD | G5: 0000 | H5: 6839 | I5: Abington Heights MS | J5: 6839 | K5: 1555 Newton Ransom Blvd Clarks Summit, PA 18411
A6: 123460302 | B6: 1 | C6: 1234603021 | D6: 123460302Abington JHS | E6: Abington SD | F6: SD | G6: 0000 | H6: 3242 | I6: Abington JHS | J6: 3242 | K6: 2056 Susquehanna St Abington, PA 19001
A7: 123460302 | B7: 2 | C7: 1234603022 | D7: 123460302Abington SHS | E7: Abington SD | F7: SD | G7: 0000 | H7: 3241 | I7: Abington SHS | J7: 3241 | K7: 900 Highland Avenue Abington, PA 19001
A8: 102020003 | B8: 1 | C8: 1020200031 | D8: 102020003Academy CS | E8: Academy CS | F8: CS | G8: 0000 | H8: 7846 | I8: Academy CS | J8: 7846 | K8: 900 Agnew Rd Pittsburgh, PA 15227
A9: 125230001 | B9: 1 | C9: 1252300011 | D9: 125230001Achievement House CS | E9: Achievement House CS | F9: CS | G9: 0000 | H9: 7824 | I9: Achievement House CS | J9: 7824 | K9: 600 Eagleview Boulevard Exton, PA 19341
A10: 126514368 | B10: 1 | C10: 1265143681 | D10: 126514368ACT Academy Cyber CS | E10: ACT Academy Cyber CS | F10: CS | G10: 0000 | H10: 8217 | I10: ACT Academy Cyber CS | J10: 8217 | K10: 2111 Eastburn Avenue Philadelphia, PA 19138
A11: 126510015 | B11: 1 | C11: 1265100151 | D11: 126510015Ad Prima CS | E11: Ad Prima CS | F11: CS | G11: 0000 | H11: 7825 | I11: Ad Prima CS | J11: 7825 | K11: Administrative Office Bala Cynwyd, PA 19004
A12: 108110307 | B12: 1 | C12: 1081103071 | D12: 108110307Admiral Peary AVTS | E12: Admiral Peary AVTS | F12: OCCCTC | G12: 0000 | H12: 6661 | I12: Admiral Peary AVTS | J12: 6661 | K12: 948 Ben Franklin Highway Ebensburg, PA 15931
A13: 126510020 | B13: 1 | C13: 1265100201 | D13: 126510020Agora Cyber CS | E13: Agora Cyber CS | F13: CS | G13: 0000 | H13: 7858 | I13: Agora Cyber CS | J13: 7858 | K13: 995 Old Eagle School Rd Suite 315 Wayne, PA 19087
... A1457: 111319998 | B1457: 1 | C1457: 1113199981 | D1457: 111319998Youth Forestry Camp #3 | E1457: Youth Forestry Camp #3 | F1457: SJCI | G1457: 0000 | H1457: 7154 | I1457: Youth Forestry Camp #3 | J1457: 7154 | K1457: 4534 Tar Kiln Road James Creek, PA 16657

Sheet Enrollment Report
A1: Final Oct 2014 Enrollment Tony D File 09/01/2015 | B1: Grade Level
B2: 007 | C2: 007 | D2: 008 | E2: 008 | F2: 009 | G2: 009 | H2: 010 | I2: 010 | J2: 011 | K2: 011 | L2: 012 | M2: 012 | N2: Grand Total
A3: Key | B3: Female | C3: Male | D3: Female | E3: Male | F3: Female | G3: Male | H3: Female | I3: Male | J3: Female | K3: Male | L3: Female | M3: Male
A4: 1005100007744 | B4: 46 | C4: 38 | D4: 56 | E4: 27 | F4: 36 | G4: 37 | H4: 59 | I4: 38 | J4: 0 | K4: 0 | L4: 0 | M4: 0 | N4: =SUM(B4:M4) -> 337
A5: 1012603036001 | B5: 0 | C5: 0 | D5: 0 | E5: 0 | F5: 136 | G5: 148 | H5: 136 | I5: 144 | J5: 124 | K5: 144 | L5: 137 | M5: 128 | N5: =SUM(B5:M5) -> 1097
A6: 1012603037607 | B6: 52 | C6: 77 | D6: 74 | E6: 71 | F6: 0 | G6: 0 | H6: 0 | I6: 0 | J6: 0 | K6: 0 | L6: 0 | M6: 0 | N6: =SUM(B6:M6) -> 274
A7: 1012603037608 | B7: 72 | C7: 66 | D7: 67 | E7: 70 | F7: 0 | G7: 0 | H7: 0 | I7: 0 | J7: 0 | K7: 0 | L7: 0 | M7: 0 | N7: =SUM(B7:M7) -> 275
A8: 1012608032154 | B8: 68 | C8: 65 | D8: 66 | E8: 63 | F8: 0 | G8: 0 | H8: 0 | I8: 0 | J8: 0 | K8: 0 | L8: 0 | M8: 0 | N8: =SUM(B8:M8) -> 262
A9: 1012608034818 | B9: 0 | C9: 0 | D9: 0 | E9: 0 | F9: 69 | G9: 93 | H9: 64 | I9: 50 | J9: 55 | K9: 63 | L9: 61 | M9: 55 | N9: =SUM(B9:M9) -> 510
A10: 1012613022105 | B10: 186 | C10: 197 | D10: 168 | E10: 198 | F10: 0 | G10: 0 | H10: 0 | I10: 0 | J10: 0 | K10: 0 | L10: 0 | M10: 0 | N10: =SUM(B10:M10) -> 749
A11: 1012613025228 | B11: 1 | C11: 0 | D11: 0 | E11: 0 | F11: 170 | G11: 220 | H11: 163 | I11: 193 | J11: 120 | K11: 106 | L11: 99 | M11: 102 | N11: =SUM(B11:M11) -> 1174
A12: 1012625074842 | B12: 0 | C12: 0 | D12: 0 | E12: 0 | F12: 0 | G12: 0 | H12: 99 | I12: 107 | J12: 94 | K12: 126 | L12: 59 | M12: 98 | N12: =SUM(B12:M12) -> 583
A13: 1012629032126 | B13: 0 | C13: 0 | D13: 0 | E13: 0 | F13: 45 | G13: 52 | H13: 41 | I13: 48 | J13: 38 | K13: 42 | L13: 40 | M13: 44 | N13: =SUM(B13:M13) -> 350
A14: 1012629037176 | B14: 47 | C14: 46 | D14: 48 | E14: 53 | F14: 0 | G14: 0 | H14: 0 | I14: 0 | J14: 0 | K14: 0 | L14: 0 | M14: 0 | N14: =SUM(B14:M14) -> 194
A15: 1012640035146 | B15: 118 | C15: 124 | D15: 135 | E15: 145 | F15: 0 | G15: 0 | H15: 0 | I15: 0 | J15: 0 | K15: 0 | L15: 0 | M15: 0 | N15: =SUM(B15:M15) -> 522
... A1478: 1990254468028 | B1478: 29 | C1478: 38 | D1478: 33 | E1478: 27 | F1478: 0 | G1478: 0 | H1478: 0 | I1478: 0 | J1478: 0 | K1478: 0 | L1478: 0 | M1478: 0 | N1478: =SUM(B1478:M1478) -> 127

Sheet Race Data
B1: 9/1/2015 File
B2: 1 | C2: 2 | D2: 3 | E2: 4 | F2: 5 | G2: 6 | H2: 7 | I2: 8 | J2: 9 | K2: 10 | L2: 11 | M2: 12 | N2: 13 | O2: 14
B3: KEY | C3: AUN | D3: LEA | E3: School | F3: Bld # | G3: Gender | H3: American Indian/Alaskan Native | I3: Black/African American (Not Hispanic) | J3: Hispanic (Any Race) | K3: White/Caucasian (Not Hispanic) | L3: Multi-Racial (Not Hispanic) | M3: Asian (Not Hispanic) | N3: Native Hawaiian or Other Pacific Islander (Not Hispanic) | O3: Total
B4: 1241500027691Female | C4: 124150002 | D4: 21st Century Cyber CS | E4: 21st Century Cyber CS | F4: 7691 | G4: Female | H4: * | I4: 34 | J4: 30 | K4: 388 | L4: 15 | M4: * | N4: * | O4: 476
B5: 1241500027691Male | C5: 124150002 | D5: 21st Century Cyber CS | E5: 21st Century Cyber CS | F5: 7691 | G5: Male | H5: 0 | I5: 31 | J5: 21 | K5: 253 | L5: * | M5: * | N5: * | O5: 316
B6: =C6&F6 -> 1241500027691 Total | C6: 124150002 | D6: 21st Century Cyber CS | E6: 21st Century Cyber CS | F6: 7691 Total | G6: Total | H6: * | I6: 65 | J6: 51 | K6: 641 | L6: * | M6: * | N6: * | O6: 792
B7: 1030204075273Female | C7: 103020407 | D7: A W Beattie Career Center | E7: A W Beattie Career Center | F7: 5273 | G7: Female | H7: 0 | I7: 15 | J7: * | K7: 255 | L7: * | M7: * | N7: 0 | O7: 281
B8: 1030204075273Male | C8: 103020407 | D8: A W Beattie Career Center | E8: A W Beattie Career Center | F8: 5273 | G8: Male | H8: * | I8: 13 | J8: * | K8: 358 | L8: * | M8: * | N8: 0 | O8: 380
B9: =C9&F9 -> 1030204075273 Total | C9: 103020407 | D9: A W Beattie Career Center | E9: A W Beattie Career Center | F9: 5273 Total | G9: Total | H9: * | I9: 28 | J9: * | K9: 613 | L9: * | M9: * | N9: 0 | O9: 661
B10: 1193503035091Female | C10: 119350303 | D10: Abington Heights SD | E10: Abington Heights HS | F10: 5091 | G10: Female | H10: 0 | I10: * | J10: 11 | K10: 447 | L10: * | M10: 21 | N10: 0 | O10: 492
B11: 1193503035091Male | C11: 119350303 | D11: Abington Heights SD | E11: Abington Heights HS | F11: 5091 | G11: Male | H11: 0 | I11: * | J11: * | K11: 491 | L11: * | M11: 28 | N11: 0 | O11: 542
B12: =C12&F12 -> 1193503035091 Total | C12: 119350303 | D12: Abington Heights SD | E12: Abington Heights HS | F12: 5091 Total | G12: Total | H12: 0 | I12: * | J12: * | K12: 938 | L12: * | M12: 49 | N12: 0 | O12: 1034
B13: 1193503036839Female | C13: 119350303 | D13: Abington Heights SD | E13: Abington Heights MS | F13: 6839 | G13: Female | H13: * | I13: * | J13: * | K13: 232 | L13: * | M13: * | N13: 0 | O13: 250
B14: 1193503036839Male | C14: 119350303 | D14: Abington Heights SD | E14: Abington Heights MS | F14: 6839 | G14: Male | H14: * | I14: * | J14: * | K14: 251 | L14: * | M14: 13 | N14: 0 | O14: 273
B15: =C15&F15 -> 1193503036839 Total | C15: 119350303 | D15: Abington Heights SD | E15: Abington Heights MS | F15: 6839 Total | G15: Total | H15: * | I15: * | J15: * | K15: 483 | L15: * | M15: * | N15: 0 | O15: 523
B16: 1234603023241Female | C16: 123460302 | D16: Abington SD | E16: Abington SHS | F16: 3241 | G16: Female | H16: 0 | I16: 177 | J16: 51 | K16: 540 | L16: 15 | M16: 40 | N16: 0 | O16: 823
B17: 1234603023241Male | C17: 123460302 | D17: Abington SD | E17: Abington SHS | F17: 3241 | G17: Male | H17: 0 | I17: 228 | J17: 45 | K17: 588 | L17: * | M17: 39 | N17: * | O17: 920
B18: =C18&F18 -> 1234603023241 Total | C18: 123460302 | D18: Abington SD | E18: Abington SHS | F18: 3241 Total | G18: Total | H18: 0 | I18: 405 | J18: 96 | K18: 1128 | L18: * | M18: 79 | N18: * | O18: 1743
B19: 1234603023242Female | C19: 123460302 | D19: Abington SD | E19: Abington JHS | F19: 3242 | G19: Female | H19: * | I19: 164 | J19: 54 | K19: 531 | L19: * | M19: 34 | N19: 0 | O19: 810
B20: 1234603023242Male | C20: 123460302 | D20: Abington SD | E20: Abington JHS | F20: 3242 | G20: Male | H20: * | I20: 183 | J20: 65 | K20: 608 | L20: 21 | M20: 39 | N20: * | O20: 921
B21: =C21&F21 -> 1234603023242 Total | C21: 123460302 | D21: Abington SD | E21: Abington JHS | F21: 3242 Total | G21: Total | H21: * | I21: 347 | J21: 119 | K21: 1139 | L21: * | M21: 73 | N21: * | O21: 1731
B22: 1020200037846Female | C22: 102020003 | D22: Academy CS | E22: Academy CS | F22: 7846 | G22: Female | H22: 0 | I22: * | J22: 0 | K22: * | L22: 0 | M22: 0 | N22: 0 | O22: 49
B23: 1020200037846Male | C23: 102020003 | D23: Academy CS | E23: Academy CS | F23: 7846 | G23: Male | H23: 0 | I23: 103 | J23: 0 | K23: * | L23: * | M23: 0 | N23: 0 | O23: 118
B24: =C24&F24 -> 1020200037846 Total | C24: 102020003 | D24: Academy CS | E24: Academy CS | F24: 7846 Total | G24: Total | H24: 0 | I24: * | J24: 0 | K24: * | L24: * | M24: 0 | N24: 0 | O24: 167
B25: 1252300017824Female | C25: 125230001 | D25: Achievement House CS | E25: Achievement House CS | F25: 7824 | G25: Female | H25: * | I25: 116 | J25: 127 | K25: 184 | L25: 28 | M25: * | N25: 0 | O25: 458
B26: 1252300017824Male | C26: 125230001 | D26: Achievement House CS | E26: Achievement House CS | F26: 7824 | G26: Male | H26: * | I26: 123 | J26: 133 | K26: 147 | L26: * | M26: * | N26: * | O26: 427
B27: =C27&F27 -> 1252300017824 Total | C27: 125230001 | D27: Achievement House CS | E27: Achievement House CS | F27: 7824 Total | G27: Total | H27: * | I27: 239 | J27: 260 | K27: 331 | L27: * | M27: * | N27: * | O27: 885
B28: 1265143688217Female | C28: 126514368 | D28: ACT Academy Cyber CS | E28: ACT Academy Cyber CS | F28: 8217 | G28: Female | H28: 0 | I28: 45 | J28: * | K28: * | L28: * | M28: 0 | N28: 0 | O28: 57
B29: 1265143688217Male | C29: 126514368 | D29: ACT Academy Cyber CS | E29: ACT Academy Cyber CS | F29: 8217 | G29: Male | H29: 0 | I29: 45 | J29: * | K29: * | L29: * | M29: 0 | N29: 0 | O29: 53
B30: =C30&F30 -> 1265143688217 Total | C30: 126514368 | D30: ACT Academy Cyber CS | E30: ACT Academy Cyber CS | F30: 8217 Total | G30: Total | H30: 0 | I30: 90 | J30: * | K30: * | L30: * | M30: 0 | N30: 0 | O30: 110
B31: 1265100157825Female | C31: 126510015 | D31: Ad Prima CS | E31: Ad Prima CS | F31: 7825 | G31: Female | H31: 0 | I31: 35 | J31: 0 | K31: 0 | L31: * | M31: * | N31: 0 | O31: 38
B32: 1265100157825Male | C32: 126510015 | D32: Ad Prima CS | E32: Ad Prima CS | F32: 7825 | G32: Male | H32: 0 | I32: 27 | J32: * | K32: 0 | L32: * | M32: * | N32: 0 | O32: 33
B33: =C33&F33 -> 1265100157825 Total | C33: 126510015 | D33: Ad Prima CS | E33: Ad Prima CS | F33: 7825 Total | G33: Total | H33: 0 | I33: 62 | J33: * | K33: 0 | L33: * | M33: * | N33: 0 | O33: 71
B34: 1081103076661Female | C34: 108110307 | D34: Admiral Peary AVTS | E34: Admiral Peary AVTS | F34: 6661 | G34: Female | H34: 0 | I34: 0 | J34: 0 | K34: 151 | L34: 0 | M34: 0 | N34: 0 | O34: 151
B35: 1081103076661Male | C35: 108110307 | D35: Admiral Peary AVTS | E35: Admiral Peary AVTS | F35: 6661 | G35: Male | H35: 0 | I35: * | J35: 0 | K35: * | L35: * | M35: 0 | N35: 0 | O35: 307
B36: =C36&F36 -> 1081103076661 Total | C36: 108110307 | D36: Admiral Peary AVTS | E36: Admiral Peary AVTS | F36: 6661 Total | G36: Total | H36: 0 | I36: * | J36: 0 | K36: * | L36: * | M36: 0 | N36: 0 | O36: 458
B37: 1265100207858Female | C37: 126510020 | D37: Agora Cyber CS | E37: Agora Cyber CS | F37: 7858 | G37: Female | H37: * | I37: 844 | J37: 344 | K37: 2088 | L37: 55 | M37: 37 | N37: * | O37: 3397
B38: 1265100207858Male | C38: 126510020 | D38: Agora Cyber CS | E38: Agora Cyber CS | F38: 7858 | G38: Male | H38: * | I38: 710 | J38: 246 | K38: 1774 | L38: 52 | M38: 20 | N38: * | O38: 2827
B39: =C39&F39 -> 1265100207858 Total | C39: 126510020 | D39: Agora Cyber CS | E39: Agora Cyber CS | F39: 7858 Total | G39: Total | H39: 37 | I39: 1554 | J39: 590 | K39: 3862 | L39: 107 | M39: 57 | N39: 17 | O39: 6224
B40: 1012603036001Female | C40: 101260303 | D40: Albert Gallatin Area SD | E40: Albert Gallatin Area SHS | F40: 6001 | G40: Female | H40: 0 | I40: 25 | J40: * | K40: 493 | L40: * | M40: * | N40: * | O40: 533
...
