Workbook
Name T9_02: 'Page 1 - General Information'!$K$4996:$K$4998
Name T9_LEA_Name: 'PIMS LEA'!$B$2:$B$756
Name T9_Sch: 'Page 1 - General Information'!$H$4996:$H$5279

Sheet Page 1 - General Information
E4: =" INTERSCHOLASTIC ATHLETIC OPPORTUNITIES DISCLOSURE FORM "&M7 -> INTERSCHOLASTIC ATHLETIC OPPORTUNITIES DISCLOSURE FORM 17.2
E5: 2016 - 2017 School Year
E7: Page 1 - Section 1: General Information | L7: Ver | M7: 17.2
E9: LEA & School Information
E10: LEA Name: | G10: Upper Merion Area SD
E11: LEA Address: | G11: =IF(ISERROR(VLOOKUP(G10,'PIMS LEA'!$B$1:$H$756,4,FALSE)),"",(VLOOKUP(G10,'PIMS LEA'!$B$1:$H$756,4,FALSE))) -> 435 Crossfield Rd King of Prussia, PA 19406
E12: LEA AUN: | G12: =IF(ISERROR(VLOOKUP(G10,'PIMS LEA'!$B$1:$H$756,2,FALSE)),"",(VLOOKUP(G10,'PIMS LEA'!$B$1:$H$756,2,FALSE))) -> 123468402
E14: School Name: | G14: Upper Merion HS
E15: School Address: | G15: =IF(ISERROR(VLOOKUP(G12&G14,'PIMS School'!$D$1:$K$1457,8,FALSE)),"",(VLOOKUP(G12&G14,'PIMS School'!$D$1:$K$1457,8,FALSE))) -> 440 Crossfield Rd King of Prussia, PA 19406
E16: School Number: | G16: =IF(ISERROR(VLOOKUP(G12&G14,'PIMS School'!$D$1:$K$1457,7,FALSE)),"",(VLOOKUP(G12&G14,'PIMS School'!$D$1:$K$1457,7,FALSE))) -> 3395
E18: School Enrollment Data
H20: Grade | J20: Boys | K20: Girls | L20: Total
H21: 7th | J21: =IF(ISERROR(VLOOKUP($G$12&$G$16,'Enrollment Report'!$A$3:$N$1495,3,FALSE)),0,(VLOOKUP($G$12&$G$16,'Enrollment Report'!$A$3:$N$1495,3,FALSE))) -> 0 | K21: =IF(ISERROR(VLOOKUP($G$12&$G$16,'Enrollment Report'!$A$3:$N$1495,2,FALSE)),0,(VLOOKUP($G$12&$G$16,'Enrollment Report'!$A$3:$N$1495,2,FALSE))) -> 0 | L21: =J21+K21 -> 0
H22: 8th | J22: =IF(ISERROR(VLOOKUP($G$12&$G$16,'Enrollment Report'!$A$3:$N$1495,5,FALSE)),0,(VLOOKUP($G$12&$G$16,'Enrollment Report'!$A$3:$N$1495,5,FALSE))) -> 0 | K22: =IF(ISERROR(VLOOKUP($G$12&$G$16,'Enrollment Report'!$A$3:$N$1495,4,FALSE)),0,(VLOOKUP($G$12&$G$16,'Enrollment Report'!$A$3:$N$1495,4,FALSE))) -> 0 | L22: =J22+K22 -> 0
H23: 9th | J23: =IF(ISERROR(VLOOKUP($G$12&$G$16,'Enrollment Report'!$A$3:$N$1495,7,FALSE)),0,(VLOOKUP($G$12&$G$16,'Enrollment Report'!$A$3:$N$1495,7,FALSE))) -> 149 | K23: =IF(ISERROR(VLOOKUP($G$12&$G$16,'Enrollment Report'!$A$3:$N$1495,6,FALSE)),0,(VLOOKUP($G$12&$G$16,'Enrollment Report'!$A$3:$N$1495,6,FALSE))) -> 162 | L23: =J23+K23 -> 311
H24: 10th | J24: =IF(ISERROR(VLOOKUP($G$12&$G$16,'Enrollment Report'!$A$3:$N$1495,9,FALSE)),0,(VLOOKUP($G$12&$G$16,'Enrollment Report'!$A$3:$N$1495,9,FALSE))) -> 141 | K24: =IF(ISERROR(VLOOKUP($G$12&$G$16,'Enrollment Report'!$A$3:$N$1495,8,FALSE)),0,(VLOOKUP($G$12&$G$16,'Enrollment Report'!$A$3:$N$1495,8,FALSE))) -> 153 | L24: =J24+K24 -> 294
H25: 11th | J25: =IF(ISERROR(VLOOKUP($G$12&$G$16,'Enrollment Report'!$A$3:$N$1495,11,FALSE)),0,(VLOOKUP($G$12&$G$16,'Enrollment Report'!$A$3:$N$1495,11,FALSE))) -> 129 | K25: =IF(ISERROR(VLOOKUP($G$12&$G$16,'Enrollment Report'!$A$3:$N$1495,10,FALSE)),0,(VLOOKUP($G$12&$G$16,'Enrollment Report'!$A$3:$N$1495,10,FALSE))) -> 148 | L25: =J25+K25 -> 277
H26: 12th | J26: =IF(ISERROR(VLOOKUP($G$12&$G$16,'Enrollment Report'!$A$3:$N$1495,13,FALSE)),0,(VLOOKUP($G$12&$G$16,'Enrollment Report'!$A$3:$N$1495,13,FALSE))) -> 160 | K26: =IF(ISERROR(VLOOKUP($G$12&$G$16,'Enrollment Report'!$A$3:$N$1495,12,FALSE)),0,(VLOOKUP($G$12&$G$16,'Enrollment Report'!$A$3:$N$1495,12,FALSE))) -> 130 | L26: =J26+K26 -> 290
H27: Total | J27: =SUM(J21:J26) -> 579 | K27: =SUM(K21:K26) -> 593 | L27: =SUM(L21:L26) -> 1172
E29: Contact Information
E30: Name of LEAs Title IX Compliance Officer: | G30: Michelle O'Reilly
E31: Telephone Number: | G31: 610-205-6400 | L31: Extension: | M31: 6428
E32: Email Address: | G32: moreilly@umasd.org
E34: Name of Individual Completing This Form: | G34: Robert Devers
E35: Telephone Number: | G35: 610-205-3980 | L35: Extension:
E36: Email Address: | G36: rdevers@umasd.org
E38: Interscholastic Team Sponsorship
E39: Does This School Sponsor Any Interscholastic Athletic Teams? (Yes or No) | G39: Yes
E40: If Your Answer To The Above Question Is No, Stop! If You Have Athletes Playing For Another School, Please Explain On Page 4. Otherwise, You Do Not Need To Complete The Remainder Of The Survey For This School. Please Submit Per The Instructions Provided.
G4994: T9_Sch & T9_Number | K4994: T9_02
H4996: [Make Selection From Drop-Down List ] | I4996: 0000 | K4996: [Make Selection From Drop-Down List ]
D4997: 1 | G4997: 1 | H4997: =IF(ISERROR(VLOOKUP($G$12&$G4997,'PIMS School'!$C$1:$R$1457,7,FALSE)),"",(VLOOKUP($G$12&$G4997,'PIMS School'!$C$1:$R$1457,7,FALSE))) -> Upper Merion HS | I4997: =IF(ISERROR(VLOOKUP($G$12&$G4997,'PIMS School'!$C$1:$R$1457,8,FALSE)),"",(VLOOKUP($G$12&$G4997,'PIMS School'!$C$1:$R$1457,8,FALSE))) -> 3395 | K4997: Yes
G4998: 2 | H4998: =IF(ISERROR(VLOOKUP($G$12&$G4998,'PIMS School'!$C$1:$R$1457,7,FALSE)),"",(VLOOKUP($G$12&$G4998,'PIMS School'!$C$1:$R$1457,7,FALSE))) -> Upper Merion MS | I4998: =IF(ISERROR(VLOOKUP($G$12&$G4998,'PIMS School'!$C$1:$R$1457,8,FALSE)),"",(VLOOKUP($G$12&$G4998,'PIMS School'!$C$1:$R$1457,8,FALSE))) -> 3394 | K4998: No
G4999: 3 | H4999: =IF(ISERROR(VLOOKUP($G$12&$G4999,'PIMS School'!$C$1:$R$1457,7,FALSE)),"",(VLOOKUP($G$12&$G4999,'PIMS School'!$C$1:$R$1457,7,FALSE))) | I4999: =IF(ISERROR(VLOOKUP($G$12&$G4999,'PIMS School'!$C$1:$R$1457,8,FALSE)),"",(VLOOKUP($G$12&$G4999,'PIMS School'!$C$1:$R$1457,8,FALSE)))
G5000: 4 | H5000: =IF(ISERROR(VLOOKUP($G$12&$G5000,'PIMS School'!$C$1:$R$1457,7,FALSE)),"",(VLOOKUP($G$12&$G5000,'PIMS School'!$C$1:$R$1457,7,FALSE))) | I5000: =IF(ISERROR(VLOOKUP($G$12&$G5000,'PIMS School'!$C$1:$R$1457,8,FALSE)),"",(VLOOKUP($G$12&$G5000,'PIMS School'!$C$1:$R$1457,8,FALSE)))
G5001: 5 | H5001: =IF(ISERROR(VLOOKUP($G$12&$G5001,'PIMS School'!$C$1:$R$1457,7,FALSE)),"",(VLOOKUP($G$12&$G5001,'PIMS School'!$C$1:$R$1457,7,FALSE))) | I5001: =IF(ISERROR(VLOOKUP($G$12&$G5001,'PIMS School'!$C$1:$R$1457,8,FALSE)),"",(VLOOKUP($G$12&$G5001,'PIMS School'!$C$1:$R$1457,8,FALSE)))
G5002: 6 | H5002: =IF(ISERROR(VLOOKUP($G$12&$G5002,'PIMS School'!$C$1:$R$1457,7,FALSE)),"",(VLOOKUP($G$12&$G5002,'PIMS School'!$C$1:$R$1457,7,FALSE))) | I5002: =IF(ISERROR(VLOOKUP($G$12&$G5002,'PIMS School'!$C$1:$R$1457,8,FALSE)),"",(VLOOKUP($G$12&$G5002,'PIMS School'!$C$1:$R$1457,8,FALSE)))
G5003: 7 | H5003: =IF(ISERROR(VLOOKUP($G$12&$G5003,'PIMS School'!$C$1:$R$1457,7,FALSE)),"",(VLOOKUP($G$12&$G5003,'PIMS School'!$C$1:$R$1457,7,FALSE))) | I5003: =IF(ISERROR(VLOOKUP($G$12&$G5003,'PIMS School'!$C$1:$R$1457,8,FALSE)),"",(VLOOKUP($G$12&$G5003,'PIMS School'!$C$1:$R$1457,8,FALSE)))
G5004: 8 | H5004: =IF(ISERROR(VLOOKUP($G$12&$G5004,'PIMS School'!$C$1:$R$1457,7,FALSE)),"",(VLOOKUP($G$12&$G5004,'PIMS School'!$C$1:$R$1457,7,FALSE))) | I5004: =IF(ISERROR(VLOOKUP($G$12&$G5004,'PIMS School'!$C$1:$R$1457,8,FALSE)),"",(VLOOKUP($G$12&$G5004,'PIMS School'!$C$1:$R$1457,8,FALSE)))
G5005: 9 | H5005: =IF(ISERROR(VLOOKUP($G$12&$G5005,'PIMS School'!$C$1:$R$1457,7,FALSE)),"",(VLOOKUP($G$12&$G5005,'PIMS School'!$C$1:$R$1457,7,FALSE))) | I5005: =IF(ISERROR(VLOOKUP($G$12&$G5005,'PIMS School'!$C$1:$R$1457,8,FALSE)),"",(VLOOKUP($G$12&$G5005,'PIMS School'!$C$1:$R$1457,8,FALSE)))
...

Sheet Page 2 - Team Information
E4: ='Page 1 - General Information'!E4 -> INTERSCHOLASTIC ATHLETIC OPPORTUNITIES DISCLOSURE FORM 17.2
E5: ='Page 1 - General Information'!E5 -> 2016 - 2017 School Year
G7: =IF('Page 1 - General Information'!G14="[Make Selection From Drop-Down List ]","",("School: "&'Page 1 - General Information'!G14&" - "&'Page 1 - General Information'!G16)) -> School: Upper Merion HS - 3395 | T7: Page 2 - Section 1: Team Information | AI7: =IF('Page 1 - General Information'!G10=" [Make Selection From Drop-Down List ]","",("LEA: "&'Page 1 - General Information'!G10&" - "&'Page 1 - General Information'!G12)) -> LEA: Upper Merion Area SD - 123468402
E9: TEAM MEMBERSHIP | AH9: COACHES & TRAINERS
E10: Sport | G10: Boys/Girls | I10: Level | K10: Total Number of Participants (As Of The Day Of The First Scheduled Team Competition) | O10: Season(s) Team Competes | S10: Team History (Format =YYYY, e.g. 1955) | X10: Total Number of Competitions Scheduled Per Season | AC10: Total Number of Competitions Played Per Season | AH10: NUMBER OF COACHES PER TEAM | AM10: PERCENTAGE OF TIME SPENT BY EACH ATHLETIC TRAINER WITH EACH TEAM
AH11: Head | AJ11: Assistant | AM11: Trainer 1 | AN11: Trainer 2 | AO11: Trainer 3 | AP11: Trainer 4
K12: Boys | L12: Girls | M12: TOTAL | O12: F | P12: W | Q12: S | S12: Year Established 1 | T12: Year of Demotion | U12: Year of Elimination | V12: Year of Reinstatement | X12: F | Y12: W | Z12: S | AA12: Total | AC12: F | AD12: W | AE12: S | AF12: Total | AH12: Full Time | AI12: Part Time | AJ12: Full Time | AK12: Part Time | AM12: =SUM(AM14:AM184) -> 0.66 | AN12: =SUM(AN14:AN184) -> 0.66 | AO12: =SUM(AO14:AO184) -> 0 | AP12: =SUM(AP14:AP184) -> 0
K13: 1 | L13: 2 | M13: 3 | N13: 9 | O13: 5 | P13: 6 | Q13: 7 | R13: 22 | S13: 9 | T13: 10 | U13: 11 | V13: 12 | W13: 27 | X13: 14 | Y13: 15 | Z13: 16 | AA13: 17 | AB13: 32 | AC13: 19 | AD13: 20 | AE13: 21 | AF13: 22 | AG13: 37 | AH13: 24 | AI13: 25 | AJ13: 26 | AK13: 27 | AL13: 42 | AM13: 29 | AN13: 30 | AO13: 31 | AP13: 32
D14: 1 | E14: Baseball | G14: Boys | I14: Varsity | K14: 16 | M14: =SUM(K14:L14) -> 16 | Q14: Yes | S14: 1966 | Z14: 20 | AA14: =SUM(X14:Z14) -> 20 | AE14: 20 | AF14: =SUM(AC14:AE14) -> 20 | AI14: 1 | AK14: 1 | AM14: 0.012 | AN14: 0.012 | AO14: 0 | AP14: 0
D15: 2 | E15: Basketball | G15: Boys | I15: Varsity | K15: 10 | M15: =SUM(K15:L15) -> 10 | P15: Yes | S15: 1966 | Y15: 22 | AA15: =SUM(X15:Z15) -> 22 | AD15: 22 | AF15: =SUM(AC15:AE15) -> 22 | AI15: 1 | AM15: 0.012 | AN15: 0.012 | AO15: 0 | AP15: 0
D16: 3 | E16: Bowling | G16: Boys | I16: Varsity | M16: =SUM(K16:L16) -> 0 | AA16: =SUM(X16:Z16) -> 0 | AF16: =SUM(AC16:AE16) -> 0 | AM16: 0 | AN16: 0 | AO16: 0 | AP16: 0
D17: 4 | E17: Cross Country | G17: Boys | I17: Varsity | K17: 11 | M17: =SUM(K17:L17) -> 11 | O17: Yes | S17: 1966 | X17: 16 | AA17: =SUM(X17:Z17) -> 16 | AC17: 16 | AF17: =SUM(AC17:AE17) -> 16 | AI17: 1 | AM17: 0.01 | AN17: 0.01 | AO17: 0 | AP17: 0
D18: 5 | E18: Football | G18: Boys | I18: Varsity | K18: 29 | M18: =SUM(K18:L18) -> 29 | O18: Yes | S18: 1966 | X18: 11 | AA18: =SUM(X18:Z18) -> 11 | AC18: 11 | AF18: =SUM(AC18:AE18) -> 11 | AI18: 1 | AK18: 2 | AM18: 0.012 | AN18: 0.012 | AO18: 0 | AP18: 0
D19: 6 | E19: Golf | G19: Boys | I19: Varsity | K19: 14 | M19: =SUM(K19:L19) -> 14 | O19: Yes | S19: 1966 | X19: 18 | AA19: =SUM(X19:Z19) -> 18 | AC19: 18 | AF19: =SUM(AC19:AE19) -> 18 | AI19: 1 | AM19: 0.01 | AN19: 0.01 | AO19: 0 | AP19: 0
D20: 7 | E20: Lacrosse | G20: Boys | I20: Varsity | K20: 19 | M20: =SUM(K20:L20) -> 19 | Q20: Yes | S20: 2008 | Z20: 18 | AA20: =SUM(X20:Z20) -> 18 | AE20: 18 | AF20: =SUM(AC20:AE20) -> 18 | AI20: 1 | AK20: 1 | AM20: 0.012 | AN20: 0.012 | AO20: 0 | AP20: 0
D21: 8 | E21: Rifle | G21: Boys | I21: Varsity | K21: 6 | M21: =SUM(K21:L21) -> 6 | Q21: Yes | S21: 1966 | Z21: 12 | AA21: =SUM(X21:Z21) -> 12 | AE21: 12 | AF21: =SUM(AC21:AE21) -> 12 | AI21: 1 | AK21: 1 | AM21: 0.01 | AN21: 0.01 | AO21: 0 | AP21: 0
D22: 9 | E22: Soccer | G22: Boys | I22: Varsity | K22: 19 | M22: =SUM(K22:L22) -> 19 | O22: Yes | S22: 1966 | X22: 18 | AA22: =SUM(X22:Z22) -> 18 | AC22: 18 | AF22: =SUM(AC22:AE22) -> 18 | AI22: 1 | AK22: 1 | AM22: 0.012 | AN22: 0.012 | AO22: 0 | AP22: 0
D23: 10 | E23: Swimming and Diving | G23: Boys | I23: Varsity | K23: 17 | M23: =SUM(K23:L23) -> 17 | P23: Yes | S23: 1966 | Y23: 18 | AA23: =SUM(X23:Z23) -> 18 | AD23: 18 | AF23: =SUM(AC23:AE23) -> 18 | AI23: 1 | AM23: 0.012 | AN23: 0.012 | AO23: 0 | AP23: 0
D24: 11 | E24: Tennis | G24: Boys | I24: Varsity | K24: 15 | M24: =SUM(K24:L24) -> 15 | Q24: Yes | S24: 1966 | Z24: 18 | AA24: =SUM(X24:Z24) -> 18 | AE24: 18 | AF24: =SUM(AC24:AE24) -> 18 | AI24: 1 | AM24: 0.01 | AN24: 0.01 | AO24: 0 | AP24: 0
D25: 12 | E25: Track & Field (Indoor) | G25: Boys | I25: Varsity | K25: 14 | M25: =SUM(K25:L25) -> 14 | P25: Yes | S25: 1966 | Y25: 16 | AA25: =SUM(X25:Z25) -> 16 | AD25: 16 | AF25: =SUM(AC25:AE25) -> 16 | AI25: 1 | AK25: 1 | AM25: 0.012 | AN25: 0.012 | AO25: 0 | AP25: 0
D26: 13 | E26: Track & Field (Outdoor) | G26: Boys | I26: Varsity | K26: 24 | M26: =SUM(K26:L26) -> 24 | Q26: Yes | S26: 1966 | Z26: 16 | AA26: =SUM(X26:Z26) -> 16 | AE26: 16 | AF26: =SUM(AC26:AE26) -> 16 | AI26: 1 | AK26: 1 | AM26: 0.012 | AN26: 0.012 | AO26: 0 | AP26: 0
D27: 14 | E27: Volleyball | G27: Boys | I27: Varsity | M27: =SUM(K27:L27) -> 0 | AA27: =SUM(X27:Z27) -> 0 | AF27: =SUM(AC27:AE27) -> 0 | AM27: 0 | AN27: 0 | AO27: 0 | AP27: 0
D28: 15 | E28: Water Polo | G28: Boys | I28: Varsity | K28: 9 | L28: 6 | M28: =SUM(K28:L28) -> 15 | O28: Yes | S28: 1966 | X28: 22 | AA28: =SUM(X28:Z28) -> 22 | AC28: 22 | AF28: =SUM(AC28:AE28) -> 22 | AI28: 1 | AK28: 1 | AM28: 0.01 | AN28: 0.01 | AO28: 0 | AP28: 0
D29: 16 | E29: Wrestling | G29: Boys | I29: Varsity | K29: 4 | M29: =SUM(K29:L29) -> 4 | P29: Yes | S29: 1966 | Y29: 22 | AA29: =SUM(X29:Z29) -> 22 | AD29: 22 | AF29: =SUM(AC29:AE29) -> 22 | AI29: 1 | AM29: 0.012 | AN29: 0.012 | AO29: 0 | AP29: 0
D30: 17 | E30: Baseball | G30: Boys | I30: Jr Varsity | K30: 15 | M30: =SUM(K30:L30) -> 15 | Q30: Yes | S30: 1966 | Z30: 20 | AA30: =SUM(X30:Z30) -> 20 | AE30: 20 | AF30: =SUM(AC30:AE30) -> 20 | AI30: 1 | AM30: 0.012 | AN30: 0.012 | AO30: 0 | AP30: 0
D31: 18 | E31: Basketball | G31: Boys | I31: Jr Varsity | K31: 9 | M31: =SUM(K31:L31) -> 9 | P31: Yes | S31: 1966 | Y31: 22 | AA31: =SUM(X31:Z31) -> 22 | AD31: 22 | AF31: =SUM(AC31:AE31) -> 22 | AI31: 1 | AM31: 0.012 | AN31: 0.012 | AO31: 0 | AP31: 0
D32: 19 | E32: Bowling | G32: Boys | I32: Jr Varsity | M32: =SUM(K32:L32) -> 0 | AA32: =SUM(X32:Z32) -> 0 | AF32: =SUM(AC32:AE32) -> 0 | AM32: 0 | AN32: 0 | AO32: 0 | AP32: 0
D33: 20 | E33: Cross Country | G33: Boys | I33: Jr Varsity | K33: 11 | M33: =SUM(K33:L33) -> 11 | O33: Yes | S33: 1966 | X33: 16 | AA33: =SUM(X33:Z33) -> 16 | AC33: 16 | AF33: =SUM(AC33:AE33) -> 16 | AI33: 1 | AM33: 0.01 | AN33: 0.01 | AO33: 0 | AP33: 0
D34: 21 | E34: Football | G34: Boys | I34: Jr Varsity | K34: 29 | M34: =SUM(K34:L34) -> 29 | O34: Yes | S34: 1966 | X34: 10 | AA34: =SUM(X34:Z34) -> 10 | AC34: 10 | AF34: =SUM(AC34:AE34) -> 10 | AK34: 2 | AM34: 0.01 | AN34: 0.01 | AO34: 0 | AP34: 0
D35: 22 | E35: Golf | G35: Boys | I35: Jr Varsity | M35: =SUM(K35:L35) -> 0 | AA35: =SUM(X35:Z35) -> 0 | AF35: =SUM(AC35:AE35) -> 0 | AM35: 0 | AN35: 0 | AO35: 0 | AP35: 0
D36: 23 | E36: Lacrosse | G36: Boys | I36: Jr Varsity | K36: 19 | M36: =SUM(K36:L36) -> 19 | Q36: Yes | S36: 2008 | Z36: 18 | AA36: =SUM(X36:Z36) -> 18 | AE36: 18 | AF36: =SUM(AC36:AE36) -> 18 | AI36: 1 | AM36: 0.012 | AN36: 0.012 | AO36: 0 | AP36: 0
D37: 24 | E37: Rifle | G37: Boys | I37: Jr Varsity | K37: 6 | M37: =SUM(K37:L37) -> 6 | Q37: Yes | S37: 1966 | Z37: 12 | AA37: =SUM(X37:Z37) -> 12 | AE37: 12 | AF37: =SUM(AC37:AE37) -> 12 | AI37: 1 | AK37: 1 | AM37: 0.01 | AN37: 0.01 | AO37: 0 | AP37: 0
D38: 25 | E38: Soccer | G38: Boys | I38: Jr Varsity | K38: 19 | M38: =SUM(K38:L38) -> 19 | O38: Yes | S38: 1966 | X38: 18 | AA38: =SUM(X38:Z38) -> 18 | AC38: 18 | AF38: =SUM(AC38:AE38) -> 18 | AI38: 1 | AM38: 0.012 | AN38: 0.012 | AO38: 0 | AP38: 0
D39: 26 | E39: Swimming and Diving | G39: Boys | I39: Jr Varsity | K39: 16 | M39: =SUM(K39:L39) -> 16 | P39: Yes | S39: 1966 | Y39: 18 | AA39: =SUM(X39:Z39) -> 18 | AD39: 18 | AF39: =SUM(AC39:AE39) -> 18 | AI39: 1 | AM39: 0.012 | AN39: 0.012 | AO39: 0 | AP39: 0
D40: 27 | E40: Tennis | G40: Boys | I40: Jr Varsity | K40: 15 | M40: =SUM(K40:L40) -> 15 | Q40: Yes | S40: 1966 | Z40: 18 | AA40: =SUM(X40:Z40) -> 18 | AE40: 18 | AF40: =SUM(AC40:AE40) -> 18 | AI40: 1 | AM40: 0.012 | AN40: 0.012 | AO40: 0 | AP40: 0
D41: 28 | E41: Track & Field (Indoor) | G41: Boys | I41: Jr Varsity | K41: 14 | M41: =SUM(K41:L41) -> 14 | P41: Yes | S41: 1966 | Z41: 16 | AA41: =SUM(X41:Z41) -> 16 | AE41: 16 | AF41: =SUM(AC41:AE41) -> 16 | AI41: 1 | AK41: 1 | AM41: 0.01 | AN41: 0.01 | AO41: 0 | AP41: 0
D42: 29 | E42: Track & Field (Outdoor) | G42: Boys | I42: Jr Varsity | K42: 23 | M42: =SUM(K42:L42) -> 23 | Q42: Yes | S42: 1966 | Z42: 16 | AA42: =SUM(X42:Z42) -> 16 | AE42: 16 | AF42: =SUM(AC42:AE42) -> 16 | AI42: 1 | AK42: 1 | AM42: 0.012 | AN42: 0.012 | AO42: 0 | AP42: 0
D43: 30 | E43: Volleyball | G43: Boys | I43: Jr Varsity | M43: =SUM(K43:L43) -> 0 | AA43: =SUM(X43:Z43) -> 0 | AF43: =SUM(AC43:AE43) -> 0 | AM43: 0 | AN43: 0 | AO43: 0 | AP43: 0
D44: 31 | E44: Water Polo | G44: Boys | I44: Jr Varsity | M44: =SUM(K44:L44) -> 0 | AA44: =SUM(X44:Z44) -> 0 | AF44: =SUM(AC44:AE44) -> 0 | AM44: 0 | AN44: 0 | AO44: 0 | AP44: 0
D45: 32 | E45: Wrestling | G45: Boys | I45: Jr Varsity | K45: 3 | M45: =SUM(K45:L45) -> 3 | P45: Yes | S45: 1966 | Y45: 22 | AA45: =SUM(X45:Z45) -> 22 | AD45: 22 | AF45: =SUM(AC45:AE45) -> 22 | AI45: 1 | AM45: 0.012 | AN45: 0.012 | AO45: 0 | AP45: 0
...

Sheet Page 3 - Financial Information
E4: ='Page 1 - General Information'!E4 -> INTERSCHOLASTIC ATHLETIC OPPORTUNITIES DISCLOSURE FORM 17.2
E5: ='Page 1 - General Information'!E5 -> 2016 - 2017 School Year
E7: =IF('Page 1 - General Information'!G14="[Make Selection From Drop-Down List ]","",("School: "&'Page 1 - General Information'!G14&" - "&'Page 1 - General Information'!G16)) -> School: Upper Merion HS - 3395 | O7: Page 3 - Section 1: Financial Information | W7: =IF('Page 1 - General Information'!G10=" [Make Selection From Drop-Down List ]","",("LEA: "&'Page 1 - General Information'!G10&" - "&'Page 1 - General Information'!G12)) -> LEA: Upper Merion Area SD - 123468402
E9: ATHLETIC EXPENDITURES
E10: Team | G10: Boys/Girls | I10: Level | K10: Total Annual School Team Expenditures | M10: SCHOOL'S ANNUAL EXPENDITURES FOR EACH TEAM | W10: NON-SCHOOL (BOOSTER CLUBS, ALUMNI & OTHER NON-SCHOOL) CONTRIBUTIONS & PURCHASES
M11: Travel 1 | N11: Uniforms 2 | O11: Supplies and Equipment 3 | P11: Facilities 4 | Q11: Other | R11: Coaching Staff Compensation per Sport per Season | U11: Total Compensation For All Athletic Trainers Per Academic Year | W11: List total value of contributions per team | X11: List total value of purchases per team
R13: Fall | S13: Winter | T13: Spring | U13: 98110.13
K14: Totals | M14: =SUM(M16:M186) -> 79931.92 | N14: =SUM(N16:N186) -> 42484.06 | O14: =SUM(O16:O186) -> 96585.04 | P14: =SUM(P16:P186) -> 0 | Q14: =SUM(Q16:Q186) -> 65198.75 | R14: =SUM(R16:R186) -> 164306.77 | S14: =SUM(S16:S186) -> 102611.82 | T14: =SUM(T16:T186) -> 149233.48 | W14: =SUM(W16:W186) -> 104286.01 | X14: =SUM(X16:X186) -> 134947.27
K15: 1 | L15: 2 | M15: 3 | N15: 4 | O15: 5 | P15: 6 | Q15: 7 | R15: 8 | S15: 9 | T15: 10 | U15: 11 | V15: 12 | W15: 13 | X15: 14
D16: 1 | E16: Baseball | G16: Boys | I16: Varsity | K16: =SUM(M16:T16) -> 19137.93 | M16: 2259.13 | N16: 302.5 | O16: 1560.42 | Q16: 1271 | T16: 13744.88 | W16: 1662.19 | X16: 1794.77
D17: 2 | E17: Basketball | G17: Boys | I17: Varsity | K17: =SUM(M17:T17) -> 21964.9 | M17: 3309.57 | N17: 296.13 | O17: 3082.88 | Q17: 3975.5 | S17: 11300.82 | W17: 3423.34 | X17: 3873.7
D18: 3 | E18: Bowling | G18: Boys | I18: Varsity | K18: =SUM(M18:T18) -> 0 | W18: 0 | X18: 0
D19: 4 | E19: Cross Country | G19: Boys | I19: Varsity | K19: =SUM(M19:T19) -> 9859.96 | M19: 1087.28 | N19: 1002.09 | O19: 1002.09 | Q19: 31 | R19: 6737.5 | W19: 0 | X19: 0
D20: 5 | E20: Football | G20: Boys | I20: Varsity | K20: =SUM(M20:T20) -> 54490.49 | M20: 4253.5 | N20: 2652.89 | O20: 7699.14 | Q20: 14858.75 | R20: 25026.21 | W20: 8417.44 | X20: 6884.46
D21: 6 | E21: Golf | G21: Boys | I21: Varsity | K21: =SUM(M21:T21) -> 11151.9 | M21: 2509.25 | N21: 500 | O21: 2938.25 | R21: 5204.4 | W21: 0 | X21: 0
D22: 7 | E22: Lacrosse | G22: Boys | I22: Varsity | K22: =SUM(M22:T22) -> 18410.58 | M22: 990.57 | O22: 2926.22 | Q22: 1359 | T22: 13134.79 | W22: 0 | X22: 0
D23: 8 | E23: Rifle | G23: Boys | I23: Varsity | K23: =SUM(M23:T23) -> 10404.64 | M23: 1844.63 | N23: 941.33 | O23: 3290.45 | T23: 4328.23 | W23: 11295.42 | X23: 19729.95
D24: 9 | E24: Soccer | G24: Boys | I24: Varsity | K24: =SUM(M24:T24) -> 17061.32 | M24: 1456.82 | O24: 1706.25 | Q24: 1501.25 | R24: 12397 | W24: 0 | X24: 0
D25: 10 | E25: Swimming and Diving | G25: Boys | I25: Varsity | K25: =SUM(M25:T25) -> 11337.12 | M25: 704.72 | N25: 506.49 | O25: 1103.34 | Q25: 955.75 | S25: 8066.82 | W25: 665.91 | X25: 157
D26: 11 | E26: Tennis | G26: Boys | I26: Varsity | K26: =SUM(M26:T26) -> 7051.81 | M26: 335.25 | N26: 142.45 | O26: 1184.11 | T26: 5390 | W26: 0 | X26: 0
D27: 12 | E27: Track & Field (Indoor) | G27: Boys | I27: Varsity | K27: =SUM(M27:T27) -> 6774.27 | M27: 1092.76 | O27: 974.5 | S27: 4707.01 | W27: 0 | X27: 0
D28: 13 | E28: Track & Field (Outdoor) | G28: Boys | I28: Varsity | K28: =SUM(M28:T28) -> 11972.1 | M28: 1368 | O28: 915.98 | Q28: 144 | T28: 9544.12 | W28: 0 | X28: 0
D29: 14 | E29: Volleyball | G29: Boys | I29: Varsity | K29: =SUM(M29:T29) -> 0 | W29: 0 | X29: 0
D30: 15 | E30: Water Polo | G30: Boys | I30: Varsity | K30: =SUM(M30:T30) -> 10048.92 | M30: 2646.64 | N30: 474.05 | O30: 893.3 | Q30: 264 | R30: 5770.93 | W30: 0 | X30: 344.49
D31: 16 | E31: Wrestling | G31: Boys | I31: Varsity | K31: =SUM(M31:T31) -> 14191.99 | M31: 1539.5 | N31: 573.75 | O31: 3295.92 | Q31: 716 | S31: 8066.82 | W31: 417.88 | X31: 367.86
D32: 17 | E32: Baseball | G32: Boys | I32: Jr Varsity | K32: =SUM(M32:T32) -> 10584.6 | M32: 2259.12 | N32: 302.5 | O32: 766.92 | Q32: 1271 | T32: 5985.06 | W32: 1662.19 | X32: 1794.77
D33: 18 | E33: Basketball | G33: Boys | I33: Jr Varsity | K33: =SUM(M33:T33) -> 14828.83 | M33: 3309.56 | N33: 296.12 | O33: 2289.37 | Q33: 2688.5 | S33: 6245.28 | W33: 3423.33 | X33: 3873.69
D34: 19 | E34: Bowling | G34: Boys | I34: Jr Varsity | K34: =SUM(M34:T34) -> 0 | W34: 0 | X34: 0
D35: 20 | E35: Cross Country | G35: Boys | I35: Jr Varsity | K35: =SUM(M35:T35) -> 1326.86 | M35: 1087.28 | O35: 208.58 | Q35: 31 | W35: 0 | X35: 0
D36: 21 | E36: Football | G36: Boys | I36: Jr Varsity | K36: =SUM(M36:T36) -> 27389.11 | M36: 1009.38 | N36: 2652.89 | O36: 6905.63 | Q36: 1766.5 | R36: 15054.71 | W36: 8417.43 | X36: 6884.45
D37: 22 | E37: Golf | G37: Boys | I37: Jr Varsity | K37: =SUM(M37:T37) -> 0 | W37: 0 | X37: 0
D38: 23 | E38: Lacrosse | G38: Boys | I38: Jr Varsity | K38: =SUM(M38:T38) -> 11253.22 | M38: 990.57 | O38: 3132.72 | Q38: 1359 | T38: 5770.93 | W38: 0 | X38: 0
D39: 24 | E39: Rifle | G39: Boys | I39: Jr Varsity | K39: =SUM(M39:T39) -> 9611.12 | M39: 1844.63 | N39: 941.32 | O39: 2496.95 | T39: 4328.22 | W39: 11295.41 | X39: 19729.95
D40: 25 | E40: Soccer | G40: Boys | I40: Jr Varsity | K40: =SUM(M40:T40) -> 9260.81 | M40: 1456.82 | O40: 912.74 | Q40: 1501.25 | R40: 5390 | W40: 0 | X40: 0
D41: 26 | E41: Swimming and Diving | G41: Boys | I41: Jr Varsity | K41: =SUM(M41:T41) -> 8944.79 | M41: 704.72 | N41: 506.49 | O41: 309.83 | Q41: 955.75 | S41: 6468 | W41: 665.91 | X41: 157
D42: 27 | E42: Tennis | G42: Boys | I42: Jr Varsity | K42: =SUM(M42:T42) -> 5031.83 | M42: 335.25 | N42: 142.45 | O42: 390.61 | T42: 4163.52 | W42: 0 | X42: 0
D43: 28 | E43: Track & Field (Indoor) | G43: Boys | I43: Jr Varsity | K43: =SUM(M43:T43) -> 5980.76 | M43: 1092.76 | O43: 181 | S43: 4707 | W43: 0 | X43: 0
D44: 29 | E44: Track & Field (Outdoor) | G44: Boys | I44: Jr Varsity | K44: =SUM(M44:T44) -> 11604.59 | M44: 1794 | O44: 122.47 | Q44: 144 | T44: 9544.12 | W44: 0 | X44: 0
D45: 30 | E45: Volleyball | G45: Boys | I45: Jr Varsity | K45: =SUM(M45:T45) -> 0 | W45: 0 | X45: 0
D46: 31 | E46: Water Polo | G46: Boys | I46: Jr Varsity | K46: =SUM(M46:T46) -> 0 | W46: 0 | X46: 0
...

Sheet Page 4 - Gender and Race Info
E4: ='Page 1 - General Information'!E4 -> INTERSCHOLASTIC ATHLETIC OPPORTUNITIES DISCLOSURE FORM 17.2
C5: ='Page 1 - General Information'!E5 -> 2016 - 2017 School Year | E5: ='Page 1 - General Information'!E5 -> 2016 - 2017 School Year
E7: =IF('Page 1 - General Information'!G14="[Make Selection From Drop-Down List ]","",("School: "&'Page 1 - General Information'!G14&" - "&'Page 1 - General Information'!G16)) -> School: Upper Merion HS - 3395 | J7: Page 5 - Section 1: Gender and Race/Ethnicity Information | S7: =IF('Page 1 - General Information'!G10=" [Make Selection From Drop-Down List ]","",("LEA: "&'Page 1 - General Information'!G10&" - "&'Page 1 - General Information'!G12)) -> LEA: Upper Merion Area SD - 123468402
E10: Gender | F10: School Totals | O10: Athletic Program Totals
F11: Race/Ethnicity Code | O11: Race/Ethnicity Code
F12: American Indian/Alaskan Native | G12: Black/African American (Not Hispanic) | H12: Hispanic (Any Race) | I12: White/Caucasian (Not Hispanic) | J12: Multi-Racial (Not Hispanic) | K12: Asian (Not Hispanic) | L12: Native Hawaiian or Other Pacific Islander (Not Hispanic) | M12: Total | O12: American Indian/Alaskan Native | P12: Black/African American (Not Hispanic) | Q12: Hispanic (Any Race) | R12: White/Caucasian (Not Hispanic) | S12: Multi-Racial (Not Hispanic) | T12: Asian (Not Hispanic) | U12: Native Hawaiian or Other Pacific Islander (Not Hispanic) | V12: Total
F13: 1 | G13: 2 | H13: 3 | I13: 4 | J13: 5 | K13: 6 | L13: 7 | M13: 8 | N13: 9 | O13: 10 | P13: 11 | Q13: 12 | R13: 13 | S13: 14 | T13: 15 | U13: 16 | V13: 17
D14: ='Page 1 - General Information'!G12&'Page 1 - General Information'!G16&'Page 4 - Gender and Race Info'!E14 -> 1234684023395Male | E14: Male | F14: =IF(ISERROR(VLOOKUP($D$14,'Race Data'!$B:$O,7,FALSE))," ",(VLOOKUP($D$14,'Race Data'!$B:$O,7,FALSE))) -> * | G14: =IF(ISERROR(VLOOKUP($D$14,'Race Data'!$B:$O,8,FALSE))," ",(VLOOKUP($D$14,'Race Data'!$B:$O,8,FALSE))) -> 67 | H14: =IF(ISERROR(VLOOKUP($D$14,'Race Data'!$B:$O,9,FALSE))," ",(VLOOKUP($D$14,'Race Data'!$B:$O,9,FALSE))) -> 44 | I14: =IF(ISERROR(VLOOKUP($D$14,'Race Data'!$B:$O,10,FALSE))," ",(VLOOKUP($D$14,'Race Data'!$B:$O,10,FALSE))) -> 359 | J14: =IF(ISERROR(VLOOKUP($D$14,'Race Data'!$B:$O,11,FALSE))," ",(VLOOKUP($D$14,'Race Data'!$B:$O,11,FALSE))) -> 21 | K14: =IF(ISERROR(VLOOKUP($D$14,'Race Data'!$B:$O,12,FALSE))," ",(VLOOKUP($D$14,'Race Data'!$B:$O,12,FALSE))) -> 75 | L14: =IF(ISERROR(VLOOKUP($D$14,'Race Data'!$B:$O,13,FALSE))," ",(VLOOKUP($D$14,'Race Data'!$B:$O,13,FALSE))) -> * | M14: =IF(ISERROR(VLOOKUP($D$14,'Race Data'!$B:$O,14,FALSE))," ",(VLOOKUP($D$14,'Race Data'!$B:$O,14,FALSE))) -> 579 | O14: 2 | P14: 45 | Q14: 16 | R14: 262 | S14: 19 | T14: 71 | U14: 11 | V14: =SUM(O14:U14) -> 426
D15: ='Page 1 - General Information'!G12&'Page 1 - General Information'!G16&'Page 4 - Gender and Race Info'!E15 -> 1234684023395Female | E15: Female | F15: =IF(ISERROR(VLOOKUP($D$15,'Race Data'!$B:$O,7,FALSE))," ",(VLOOKUP($D$15,'Race Data'!$B:$O,7,FALSE))) -> * | G15: =IF(ISERROR(VLOOKUP($D$15,'Race Data'!$B:$O,8,FALSE))," ",(VLOOKUP($D$15,'Race Data'!$B:$O,8,FALSE))) -> 77 | H15: =IF(ISERROR(VLOOKUP($D$15,'Race Data'!$B:$O,9,FALSE))," ",(VLOOKUP($D$15,'Race Data'!$B:$O,9,FALSE))) -> 62 | I15: =IF(ISERROR(VLOOKUP($D$15,'Race Data'!$B:$O,10,FALSE))," ",(VLOOKUP($D$15,'Race Data'!$B:$O,10,FALSE))) -> 349 | J15: =IF(ISERROR(VLOOKUP($D$15,'Race Data'!$B:$O,11,FALSE))," ",(VLOOKUP($D$15,'Race Data'!$B:$O,11,FALSE))) -> 23 | K15: =IF(ISERROR(VLOOKUP($D$15,'Race Data'!$B:$O,12,FALSE))," ",(VLOOKUP($D$15,'Race Data'!$B:$O,12,FALSE))) -> 71 | L15: =IF(ISERROR(VLOOKUP($D$15,'Race Data'!$B:$O,13,FALSE))," ",(VLOOKUP($D$15,'Race Data'!$B:$O,13,FALSE))) -> * | M15: =IF(ISERROR(VLOOKUP($D$15,'Race Data'!$B:$O,14,FALSE))," ",(VLOOKUP($D$15,'Race Data'!$B:$O,14,FALSE))) -> 593 | O15: 3 | P15: 32 | Q15: 20 | R15: 265 | S15: 12 | T15: 34 | U15: 4 | V15: =SUM(O15:U15) -> 370
D16: ='Page 1 - General Information'!G12&'Page 1 - General Information'!G16&'Page 4 - Gender and Race Info'!E16 -> 1234684023395Total | E16: Total | F16: =IF(ISERROR(VLOOKUP($D$16,'Race Data'!$B:$O,7,FALSE))," ",(VLOOKUP($D$16,'Race Data'!$B:$O,7,FALSE))) -> * | G16: =IF(ISERROR(VLOOKUP($D$16,'Race Data'!$B:$O,8,FALSE))," ",(VLOOKUP($D$16,'Race Data'!$B:$O,8,FALSE))) -> 144 | H16: =IF(ISERROR(VLOOKUP($D$16,'Race Data'!$B:$O,9,FALSE))," ",(VLOOKUP($D$16,'Race Data'!$B:$O,9,FALSE))) -> 106 | I16: =IF(ISERROR(VLOOKUP($D$16,'Race Data'!$B:$O,10,FALSE))," ",(VLOOKUP($D$16,'Race Data'!$B:$O,10,FALSE))) -> 708 | J16: =IF(ISERROR(VLOOKUP($D$16,'Race Data'!$B:$O,11,FALSE))," ",(VLOOKUP($D$16,'Race Data'!$B:$O,11,FALSE))) -> 44 | K16: =IF(ISERROR(VLOOKUP($D$16,'Race Data'!$B:$O,12,FALSE))," ",(VLOOKUP($D$16,'Race Data'!$B:$O,12,FALSE))) -> 146 | L16: =IF(ISERROR(VLOOKUP($D$16,'Race Data'!$B:$O,13,FALSE))," ",(VLOOKUP($D$16,'Race Data'!$B:$O,13,FALSE))) -> * | M16: =IF(ISERROR(VLOOKUP($D$16,'Race Data'!$B:$O,14,FALSE))," ",(VLOOKUP($D$16,'Race Data'!$B:$O,14,FALSE))) -> 1172 | N16: =N14+N15 -> 0 | O16: =O14+O15 -> 5 | P16: =P14+P15 -> 77 | Q16: =Q14+Q15 -> 36 | R16: =R14+R15 -> 527 | S16: =S14+S15 -> 31 | T16: =T14+T15 -> 105 | U16: =U14+U15 -> 15 | V16: =V14+V15 -> 796
E20: Note: Some information has been redacted in order to protect individual idendtification

Sheet Page 5 - Comments
D4: ='Page 1 - General Information'!E4 -> INTERSCHOLASTIC ATHLETIC OPPORTUNITIES DISCLOSURE FORM 17.2
D5: ='Page 1 - General Information'!E5 -> 2016 - 2017 School Year
E7: =IF('Page 1 - General Information'!G14="[Make Selection From Drop-Down List ]","",("School: "&'Page 1 - General Information'!G14&" - "&'Page 1 - General Information'!G16)) -> School: Upper Merion HS - 3395 | J7: Page 4 - Section 1: Comments | N7: =IF('Page 1 - General Information'!G10=" [Make Selection From Drop-Down List ]","",("LEA: "&'Page 1 - General Information'!G10&" - "&'Page 1 - General Information'!G12)) -> LEA: Upper Merion Area SD - 123468402
E11: Please Provide All Applicable Comments Below
E12: For Best Results, Compose In A Word Processor, Copy And Paste To The Formula Bar Above, Then Press Enter.
E13: Input Is Limited To 100 Characters
E15: Crew is not a sport that was eligible to record information on the TEAM INFORMATION tab PAGE 2 and FINANCIAL INFORMATION tab PAGE 3. Upper Merion Area High School's Crew info has been recorded under the Boys and Girls Varsity Rifle tab on PAGE 2 and PAGE 3.

Sheet PIMS LEA
A1: AUN | B1: LEA Name | C1: AUN | D1: LEA Type | E1: Full Address | F1: District Street Address | G1: District Address 2 | H1: District Address 3 | I1: District City | J1: State Code | K1: District Zip Code
A2: 000000000 | B2: [Make Selection From Drop-Down List ] | C2: 000000000 | F2: From: Diana K 06/2017
A3: 124150002 | B3: 21st Century Cyber CS | C3: 124150002 | D3: Charter School | E3: 126 Wallace Ave. Downingtown, PA 19335
A4: 103020407 | B4: A W Beattie Career Center | C4: 103020407 | D4: Career and Technical Center | E4: 9600 Babcock Boulevard Allison Park, PA 15101
A5: 119350303 | B5: Abington Heights SD | C5: 119350303 | D5: School District | E5: 200 E Grove St Clarks Summit, PA 18411
A6: 123460302 | B6: Abington SD | C6: 123460302 | D6: School District | E6: 970 Highland Ave Abington, PA 19001
A7: 102020003 | B7: Academy CS | C7: 102020003 | D7: Charter School | E7: 900 Agnew Rd Pittsburgh, PA 15227
A8: 125230001 | B8: Achievement House CS | C8: 125230001 | D8: Charter School | E8: 600 Eagleview Boulevard Exton, PA 19341
A9: 126514368 | B9: ACT Academy Cyber CS | C9: 126514368 | D9: Charter School | E9: 2111 Eastburn Avenue Philadelphia, PA 19138
A10: 126510015 | B10: Ad Prima CS | C10: 126510015 | D10: Charter School | E10: 1920 N 63rd Street Philadelphia, PA 19151
A11: 108110307 | B11: Admiral Peary AVTS | C11: 108110307 | D11: Career and Technical Center | E11: 948 Ben Franklin Highway Ebensburg, PA 15931
A12: 126510020 | B12: Agora Cyber CS | C12: 126510020 | D12: Charter School | E12: 590 North Gulph Road King of Prussia, PA 19406
A13: 101260303 | B13: Albert Gallatin Area SD | C13: 101260303 | D13: School District | E13: 2625 Morgantown Rd Uniontown, PA 15401
A14: 127040503 | B14: Aliquippa SD | C14: 127040503 | D14: School District | E14: 800 21st Street Aliquippa, PA 15001
... A753: 126512870 | B753: Youth Build Phila CS | C753: 126512870 | D753: Charter School | E753: 1231 N Broad St Philadelphia, PA 19122

Sheet PIMS School
A1: AUN | B1: AUN Index | C1: Building Key | D1: Building Key 2 | E1: LEAInstName | F1: LEACategory | G1: LEAStatus | H1: SchoolBranchNum | I1: SchoolName | J1: SchoolBranchNum | K1: LEAMailingAddressLine2
A2: 124150002 | B2: 1 | C2: 1241500021 | D2: 12415000221st Century Cyber CS | E2: 21st Century Cyber CS | F2: Charter School | G2: 0000 | H2: 7691 | I2: 21st Century Cyber CS | J2: 7691 | K2: 126 Wallace Ave. Downingtown, PA 19335 | L2: From: Diana K. 06/2017
A3: 103020407 | B3: 1 | C3: 1030204071 | D3: 103020407A W Beattie Career Center | E3: A W Beattie Career Center | F3: Career and Technical Center | G3: 0000 | H3: 5273 | I3: A W Beattie Career Center | J3: 5273 | K3: 9600 Babcock Boulevard Allison Park, PA 15101
A4: 119350303 | B4: 1 | C4: 1193503031 | D4: 119350303Abington Heights HS | E4: Abington Heights SD | F4: School District | G4: 0000 | H4: 5091 | I4: Abington Heights HS | J4: 5091 | K4: 222 Noble Road Clarks Summit, PA 18411
A5: 119350303 | B5: 2 | C5: 1193503032 | D5: 119350303Abington Heights MS | E5: Abington Heights SD | F5: School District | G5: 0000 | H5: 6839 | I5: Abington Heights MS | J5: 6839 | K5: 1555 Newton Ransom Blvd Clarks Summit, PA 18411
A6: 123460302 | B6: 1 | C6: 1234603021 | D6: 123460302Abington JHS | E6: Abington SD | F6: School District | G6: 0000 | H6: 3242 | I6: Abington JHS | J6: 3242 | K6: 2056 Susquehanna St Abington, PA 19001
A7: 123460302 | B7: 2 | C7: 1234603022 | D7: 123460302Abington SHS | E7: Abington SD | F7: School District | G7: 0000 | H7: 3241 | I7: Abington SHS | J7: 3241 | K7: 900 Highland Avenue Abington, PA 19001
A8: 102020003 | B8: 1 | C8: 1020200031 | D8: 102020003Academy CS | E8: Academy CS | F8: Charter School | G8: 0000 | H8: 7846 | I8: Academy CS | J8: 7846 | K8: 900 Agnew Rd Pittsburgh, PA 15227
A9: 125230001 | B9: 1 | C9: 1252300011 | D9: 125230001Achievement House CS | E9: Achievement House CS | F9: Charter School | G9: 0000 | H9: 7824 | I9: Achievement House CS | J9: 7824 | K9: 600 Eagleview Boulevard Exton, PA 19341
A10: 126514368 | B10: 1 | C10: 1265143681 | D10: 126514368ACT Academy Cyber CS | E10: ACT Academy Cyber CS | F10: Charter School | G10: 0000 | H10: 8217 | I10: ACT Academy Cyber CS | J10: 8217 | K10: 2111 Eastburn Avenue Philadelphia, PA 19138
A11: 126510015 | B11: 1 | C11: 1265100151 | D11: 126510015Ad Prima CS | E11: Ad Prima CS | F11: Charter School | G11: 0000 | H11: 7825 | I11: Ad Prima CS | J11: 7825 | K11: 3556 Frankford Avenue Philadelphia, PA 19134
A12: 108110307 | B12: 1 | C12: 1081103071 | D12: 108110307Admiral Peary AVTS | E12: Admiral Peary AVTS | F12: Career and Technical Center | G12: 0000 | H12: 6661 | I12: Admiral Peary AVTS | J12: 6661 | K12: 948 Ben Franklin Highway Ebensburg, PA 15931
A13: 126510020 | B13: 1 | C13: 1265100201 | D13: 126510020Agora Cyber CS | E13: Agora Cyber CS | F13: Charter School | G13: 0000 | H13: 7858 | I13: Agora Cyber CS | J13: 7858 | K13: 590 North Gulph Road King of Prussia, PA 19406
A14: 101260303 | B14: 1 | C14: 1012603031 | D14: 101260303Albert Gallatin Area SHS | E14: Albert Gallatin Area SD | F14: School District | G14: 0000 | H14: 6001 | I14: Albert Gallatin Area SHS | J14: 6001 | K14: 1119 Twp Dr Uniontown, PA 15401
... A1447: 126512870 | B1447: 1 | C1447: 1265128701 | D1447: 126512870Youth Build Phila CS | E1447: Youth Build Phila CS | F1447: Charter School | G1447: 0000 | H1447: 7513 | I1447: Youth Build Phila CS | J1447: 7513 | K1447: 1231 N Broad St 5th floor Philadelphia, PA 19122

Sheet Enrollment Report
B1: Grade Level
B2: 007 | C2: 007 | D2: 008 | E2: 008 | F2: 009 | G2: 009 | H2: 010 | I2: 010 | J2: 011 | K2: 011 | L2: 012 | M2: 012 | N2: Grand Total | P2: Per S. Clark 06/27/2017
A3: Key | B3: Female | C3: Male | D3: Female | E3: Male | F3: Female | G3: Male | H3: Female | I3: Male | J3: Female | K3: Male | L3: Female | M3: Male
A4: 1241500027691 | B4: 63 | C4: 44 | D4: 71 | E4: 69 | F4: 94 | G4: 73 | H4: 122 | I4: 67 | J4: 122 | K4: 50 | L4: 93 | M4: 48 | N4: =SUM(B4:M4) -> 916
A5: 1030204075273 | B5: 0 | C5: 0 | D5: 0 | E5: 0 | F5: 0 | G5: 0 | H5: 73 | I5: 55 | J5: 116 | K5: 152 | L5: 126 | M5: 154 | N5: =SUM(B5:M5) -> 676
A6: 1193503035091 | B6: 0 | C6: 0 | D6: 0 | E6: 0 | F6: 112 | G6: 136 | H6: 120 | I6: 144 | J6: 135 | K6: 128 | L6: 121 | M6: 146 | N6: =SUM(B6:M6) -> 1042
A7: 1193503036839 | B7: 113 | C7: 143 | D7: 128 | E7: 145 | F7: 0 | G7: 0 | H7: 0 | I7: 0 | J7: 0 | K7: 0 | L7: 0 | M7: 0 | N7: =SUM(B7:M7) -> 529
A8: 1234603023242 | B8: 305 | C8: 332 | D8: 305 | E8: 306 | F8: 295 | G8: 312 | H8: 0 | I8: 0 | J8: 0 | K8: 0 | L8: 0 | M8: 0 | N8: =SUM(B8:M8) -> 1855
A9: 1234603023241 | B9: 0 | C9: 0 | D9: 0 | E9: 0 | F9: 0 | G9: 0 | H9: 269 | I9: 303 | J9: 276 | K9: 315 | L9: 273 | M9: 312 | N9: =SUM(B9:M9) -> 1748
A10: 1020200037846 | B10: 0 | C10: 0 | D10: 2 | E10: 10 | F10: 6 | G10: 23 | H10: 7 | I10: 17 | J10: 6 | K10: 19 | L10: 2 | M10: 18 | N10: =SUM(B10:M10) -> 110
A11: 1252300017824 | B11: 6 | C11: 6 | D11: 36 | E11: 29 | F11: 39 | G11: 36 | H11: 59 | I11: 47 | J11: 41 | K11: 28 | L11: 77 | M11: 54 | N11: =SUM(B11:M11) -> 458
A12: 1265143688217 | B12: 0 | C12: 0 | D12: 0 | E12: 0 | F12: 18 | G12: 17 | H12: 21 | I12: 18 | J12: 23 | K12: 16 | L12: 16 | M12: 17 | N12: =SUM(B12:M12) -> 146
A13: 1265100157825 | B13: 36 | C13: 24 | D13: 29 | E13: 14 | F13: 0 | G13: 0 | H13: 0 | I13: 0 | J13: 0 | K13: 0 | L13: 0 | M13: 0 | N13: =SUM(B13:M13) -> 103
A14: 1081103076661 | B14: 0 | C14: 0 | D14: 0 | E14: 0 | F14: 4 | G14: 28 | H14: 41 | I14: 67 | J14: 59 | K14: 142 | L14: 58 | M14: 95 | N14: =SUM(B14:M14) -> 494
A15: 1265100207858 | B15: 218 | C15: 248 | D15: 287 | E15: 319 | F15: 359 | G15: 417 | H15: 428 | I15: 376 | J15: 402 | K15: 306 | L15: 384 | M15: 269 | N15: =SUM(B15:M15) -> 4013
... A124: 1140607536306 | B124: 0 | C124: 0 | D124: 0 | E124: 0 | F124: 0 | G124: 0 | H124: 281 | I124: 260 | J124: 268 | K124: 275 | L124: 268 | M124: 294 | N124: =SUM(B124:M124) -> 1646
A125: 1855155237981 | C125: 115 | E125: 118 | G125: 153 | I125: 103 | K125: 109 | M125: 81 | N125: =SUM(B125:M125) -> 679
A126: 1094208034691 | B126: 0 | C126: 0 | D126: 0 | E126: 0 | F126: 91 | G126: 105 | H126: 86 | I126: 124 | J126: 105 | K126: 78 | L126: 105 | M126: 83 | N126: =SUM(B126:M126) -> 777
A127: 1094208033092 | B127: 80 | C127: 95 | D127: 93 | E127: 96 | F127: 0 | G127: 0 | H127: 0 | I127: 0 | J127: 0 | K127: 0 | L127: 0 | M127: 0 | N127: =SUM(B127:M127) -> 364
A128: 1140608536308 | B128: 0 | C128: 0 | D128: 0 | E128: 0 | F128: 63 | G128: 67 | H128: 54 | I128: 64 | J128: 63 | K128: 48 | L128: 65 | M128: 68 | N128: =SUM(B128:M128) -> 492
A129: 1140608538383 | B129: 56 | C129: 62 | D129: 40 | E129: 56 | F129: 0 | G129: 0 | H129: 0 | I129: 0 | J129: 0 | K129: 0 | L129: 0 | M129: 0 | N129: =SUM(B129:M129) -> 214
A130: 1030214537342 | B130: 49 | C130: 50 | D130: 41 | E130: 47 | F130: 0 | G130: 0 | H130: 0 | I130: 0 | J130: 0 | K130: 0 | L130: 0 | M130: 0 | N130: =SUM(B130:M130) -> 187
A131: 1030214530070 | B131: 0 | C131: 0 | D131: 0 | E131: 0 | F131: 40 | G131: 56 | H131: 31 | I131: 47 | J131: 53 | K131: 57 | L131: 38 | M131: 49 | N131: =SUM(B131:M131) -> 371
A132: 1220913031014 | B132: 0 | C132: 0 | D132: 45 | E132: 58 | F132: 34 | G132: 48 | H132: 28 | I132: 47 | J132: 29 | K132: 37 | L132: 37 | M132: 42 | N132: =SUM(B132:M132) -> 405
A133: 1220913037743 | B133: 54 | C133: 56 | D133: 0 | E133: 0 | F133: 0 | G133: 0 | H133: 0 | I133: 0 | J133: 0 | K133: 0 | L133: 0 | M133: 0 | N133: =SUM(B133:M133) -> 110
A134: 1220913525305 | B134: 144 | C134: 129 | D134: 114 | E134: 116 | F134: 0 | G134: 0 | H134: 0 | I134: 0 | J134: 0 | K134: 0 | L134: 0 | M134: 0 | N134: =SUM(B134:M134) -> 503
A135: 1220913521027 | B135: 111 | C135: 137 | D135: 118 | E135: 121 | F135: 0 | G135: 0 | H135: 0 | I135: 0 | J135: 0 | K135: 0 | L135: 0 | M135: 0 | N135: =SUM(B135:M135) -> 487
A136: 1220913521029 | B136: 0 | C136: 0 | D136: 0 | E136: 0 | F136: 187 | G136: 263 | H136: 180 | I136: 219 | J136: 168 | K136: 200 | L136: 188 | M136: 174 | N136: =SUM(B136:M136) -> 1579
A137: 1063307032362 | B137: 41 | C137: 44 | D137: 39 | E137: 43 | F137: 38 | G137: 35 | H137: 21 | I137: 43 | J137: 20 | K137: 41 | L137: 40 | M137: 31 | N137: =SUM(B137:M137) -> 436
... A310: 1164718033425 | B310: 0 | C310: 0 | D310: 0 | E310: 0 | F310: 74 | G310: 88 | H310: 80 | I310: 88 | J310: 81 | K310: 70 | L310: 97 | M310: 64 | N310: =SUM(B310:M310) -> 642
A311: 1164711117627 | B311: 0 | D311: 0 | F311: 4 | H311: 8 | J311: 3 | L311: 6 | N311: =SUM(B311:M311) -> 21
A312: 1152216075278 | B312: 0 | C312: 0 | D312: 0 | E312: 0 | F312: 123 | G312: 147 | H312: 131 | I312: 156 | J312: 127 | K312: 121 | L312: 107 | M312: 133 | N312: =SUM(B312:M312) -> 1045
A313: 1030222530513 | B313: 0 | C313: 0 | D313: 0 | E313: 0 | F313: 58 | G313: 63 | H313: 70 | I313: 74 | J313: 75 | K313: 88 | L313: 68 | M313: 87 | N313: =SUM(B313:M313) -> 583
A314: 1030222537595 | B314: 77 | C314: 89 | D314: 80 | E314: 71 | F314: 0 | G314: 0 | H314: 0 | I314: 0 | J314: 0 | K314: 0 | L314: 0 | M314: 0 | N314: =SUM(B314:M314) -> 317
A315: 1250000000000 | B315: 2 | C315: 16 | D315: 4 | E315: 14 | F315: 10 | G315: 27 | H315: 11 | I315: 44 | J315: 12 | K315: 34 | L315: 30 | M315: 75 | N315: =SUM(B315:M315) -> 279
A316: 1252324077058 | B316: 0 | C316: 0 | D316: 0 | E316: 0 | F316: 1 | G316: 3 | H316: 19 | I316: 44 | J316: 41 | K316: 98 | L316: 155 | M316: 148 | N316: =SUM(B316:M316) -> 509
A317: 1252324077057 | B317: 0 | C317: 0 | D317: 0 | E317: 0 | F317: 0 | G317: 0 | H317: 59 | I317: 35 | J317: 119 | K317: 94 | L317: 119 | M317: 98 | N317: =SUM(B317:M317) -> 524
A318: 1252324076504 | B318: 0 | C318: 0 | D318: 0 | E318: 0 | F318: 0 | G318: 0 | H318: 1 | I318: 2 | J318: 8 | K318: 1 | L318: 6 | M318: 8 | N318: =SUM(B318:M318) -> 26
A319: 1265134707671 | B319: 0 | C319: 0 | D319: 0 | E319: 0 | F319: 104 | G319: 82 | H319: 99 | I319: 79 | J319: 85 | K319: 79 | L319: 69 | M319: 75 | N319: =SUM(B319:M319) -> 672
A320: 1205220035261 | B320: 0 | C320: 0 | D320: 0 | E320: 0 | F320: 176 | G320: 214 | H320: 204 | I320: 174 | J320: 193 | K320: 212 | L320: 187 | M320: 207 | N320: =SUM(B320:M320) -> 1567
...

Sheet Race Data
B1: 06/2017 File
B2: 1 | C2: 2 | D2: 3 | E2: 4 | F2: 5 | G2: 6 | H2: 7 | I2: 8 | J2: 9 | K2: 10 | L2: 11 | M2: 12 | N2: 13 | O2: 14
B3: KEY | C3: AUN | D3: LEA | E3: School | F3: Bld # | G3: Gender | H3: American Indian/Alaskan Native | I3: Black/African American (Not Hispanic) | J3: Hispanic (Any Race) | K3: White/Caucasian (Not Hispanic) | L3: Multi-Racial (Not Hispanic) | M3: Asian (Not Hispanic) | N3: Native Hawaiian or Other Pacific Islander (Not Hispanic) | O3: Total
B4: =C4&F4&G4 -> 1241500027691Female | C4: 124150002 | D4: 21st Century Cyber CS | E4: 21st Century Cyber CS | F4: 7691 | G4: Female | H4: * | I4: 48 | J4: 38 | K4: 438 | L4: 30 | M4: * | N4: * | O4: 565 | Q4: Per: A McCann 06/2017
B5: =C5&F5&G5 -> 1241500027691Male | C5: 124150002 | D5: 21st Century Cyber CS | E5: 21st Century Cyber CS | F5: 7691 | G5: Male | H5: * | I5: 35 | J5: 20 | K5: 274 | L5: 14 | M5: * | N5: 0 | O5: 351
B6: =C6&F6&G6 -> 1241500027691Total | C6: 124150002 | D6: 21st Century Cyber CS | E6: 21st Century Cyber CS | F6: =F5 -> 7691 | G6: Total | H6: * | I6: 83 | J6: 58 | K6: 712 | L6: 44 | M6: 15 | N6: * | O6: 916
B7: =C7&F7&G7 -> 1030204075273Female | C7: 103020407 | D7: A W Beattie Career Center | E7: A W Beattie Career Center | F7: 5273 | G7: Female | H7: * | I7: 18 | J7: * | K7: 282 | L7: * | M7: * | N7: * | O7: 315
B8: =C8&F8&G8 -> 1030204075273Male | C8: 103020407 | D8: A W Beattie Career Center | E8: A W Beattie Career Center | F8: 5273 | G8: Male | H8: 0 | I8: * | J8: * | K8: 347 | L8: * | M8: * | N8: * | O8: 361
B9: =C9&F9&G9 -> 1030204075273Total | C9: 103020407 | D9: A W Beattie Career Center | E9: A W Beattie Career Center | F9: =F8 -> 5273 | G9: Total | H9: * | I9: * | J9: * | K9: 629 | L9: * | M9: * | N9: * | O9: 676
B10: =C10&F10&G10 -> 1193503035091Female | C10: 119350303 | D10: Abington Heights SD | E10: Abington Heights HS | F10: 5091 | G10: Female | H10: * | I10: * | J10: 11 | K10: 447 | L10: * | M10: 19 | N10: 0 | O10: 488
B11: =C11&F11&G11 -> 1193503035091Male | C11: 119350303 | D11: Abington Heights SD | E11: Abington Heights HS | F11: 5091 | G11: Male | H11: * | I11: * | J11: * | K11: 510 | L11: * | M11: 24 | N11: 0 | O11: 554
B12: =C12&F12&G12 -> 1193503035091Total | C12: 119350303 | D12: Abington Heights SD | E12: Abington Heights HS | F12: =F11 -> 5091 | G12: Total | H12: * | I12: 17 | J12: * | K12: 957 | L12: * | M12: 43 | N12: 0 | O12: 1042
B13: =C13&F13&G13 -> 1193503036839Female | C13: 119350303 | D13: Abington Heights SD | E13: Abington Heights MS | F13: 6839 | G13: Female | H13: 0 | I13: * | J13: * | K13: 218 | L13: * | M13: 12 | N13: 0 | O13: 241
B14: =C14&F14&G14 -> 1193503036839Male | C14: 119350303 | D14: Abington Heights SD | E14: Abington Heights MS | F14: 6839 | G14: Male | H14: 0 | I14: * | J14: * | K14: 263 | L14: * | M14: 11 | N14: 0 | O14: 288
B15: =C15&F15&G15 -> 1193503036839Total | C15: 119350303 | D15: Abington Heights SD | E15: Abington Heights MS | F15: =F14 -> 6839 | G15: Total | H15: 0 | I15: 13 | J15: * | K15: 481 | L15: * | M15: 23 | N15: 0 | O15: 529
B16: =C16&F16&G16 -> 1234603023242Female | C16: 123460302 | D16: Abington SD | E16: Abington JHS | F16: 3242 | G16: Female | H16: * | I16: 189 | J16: 69 | K16: 570 | L16: * | M16: 41 | N16: 0 | O16: 905
B17: =C17&F17&G17 -> 1234603023242Male | C17: 123460302 | D17: Abington SD | E17: Abington JHS | F17: 3242 | G17: Male | H17: 0 | I17: 196 | J17: 70 | K17: 606 | L17: 40 | M17: * | N17: * | O17: 950
B18: =C18&F18&G18 -> 1234603023242Total | C18: 123460302 | D18: Abington SD | E18: Abington JHS | F18: =F17 -> 3242 | G18: Total | H18: * | I18: 385 | J18: 139 | K18: 1176 | L18: * | M18: * | N18: * | O18: 1855
B19: =C19&F19&G19 -> 1234603023241Female | C19: 123460302 | D19: Abington SD | E19: Abington SHS | F19: 3241 | G19: Female | H19: * | I19: 178 | J19: 57 | K19: 529 | L19: * | M19: 28 | N19: 0 | O19: 818
B20: =C20&F20&G20 -> 1234603023241Male | C20: 123460302 | D20: Abington SD | E20: Abington SHS | F20: 3241 | G20: Male | H20: 0 | I20: 212 | J20: 58 | K20: 577 | L20: 36 | M20: 47 | N20: 0 | O20: 930
B21: =C21&F21&G21 -> 1234603023241Total | C21: 123460302 | D21: Abington SD | E21: Abington SHS | F21: =F20 -> 3241 | G21: Total | H21: * | I21: 390 | J21: 115 | K21: 1106 | L21: * | M21: 75 | N21: 0 | O21: 1748
B22: =C22&F22&G22 -> 1020200037846Female | C22: 102020003 | D22: Academy CS | E22: Academy CS | F22: 7846 | G22: Female | H22: 0 | I22: * | J22: 0 | K22: * | L22: 0 | M22: 0 | N22: 0 | O22: 23
B23: =C23&F23&G23 -> 1020200037846Male | C23: 102020003 | D23: Academy CS | E23: Academy CS | F23: 7846 | G23: Male | H23: 0 | I23: 71 | J23: * | K23: 12 | L23: * | M23: 0 | N23: 0 | O23: 87
B24: =C24&F24&G24 -> 1020200037846Total | C24: 102020003 | D24: Academy CS | E24: Academy CS | F24: =F23 -> 7846 | G24: Total | H24: 0 | I24: * | J24: * | K24: * | L24: * | M24: 0 | N24: 0 | O24: 110
B25: =C25&F25&G25 -> 1252300017824Female | C25: 125230001 | D25: Achievement House CS | E25: Achievement House CS | F25: 7824 | G25: Female | H25: * | I25: 45 | J25: 52 | K25: 138 | L25: * | M25: 0 | N25: 0 | O25: 258
B26: =C26&F26&G26 -> 1252300017824Male | C26: 125230001 | D26: Achievement House CS | E26: Achievement House CS | F26: 7824 | G26: Male | H26: 0 | I26: 46 | J26: 46 | K26: 92 | L26: * | M26: 0 | N26: * | O26: 200
B27: =C27&F27&G27 -> 1252300017824Total | C27: 125230001 | D27: Achievement House CS | E27: Achievement House CS | F27: =F26 -> 7824 | G27: Total | H27: * | I27: 91 | J27: 98 | K27: 230 | L27: 35 | M27: 0 | N27: * | O27: 458
B28: =C28&F28&G28 -> 1265143688217Female | C28: 126514368 | D28: ACT Academy Cyber CS | E28: ACT Academy Cyber CS | F28: 8217 | G28: Female | H28: 0 | I28: 74 | J28: * | K28: * | L28: 0 | M28: 0 | N28: 0 | O28: 78
B29: =C29&F29&G29 -> 1265143688217Male | C29: 126514368 | D29: ACT Academy Cyber CS | E29: ACT Academy Cyber CS | F29: 8217 | G29: Male | H29: 0 | I29: 58 | J29: * | K29: * | L29: 0 | M29: 0 | N29: 0 | O29: 68
B30: =C30&F30&G30 -> 1265143688217Total | C30: 126514368 | D30: ACT Academy Cyber CS | E30: ACT Academy Cyber CS | F30: =F29 -> 8217 | G30: Total | H30: 0 | I30: 132 | J30: * | K30: * | L30: 0 | M30: 0 | N30: 0 | O30: 146
B31: =C31&F31&G31 -> 1265100157825Female | C31: 126510015 | D31: Ad Prima CS | E31: Ad Prima CS | F31: 7825 | G31: Female | H31: 0 | I31: 55 | J31: * | K31: * | L31: * | M31: 0 | N31: 0 | O31: 65
B32: =C32&F32&G32 -> 1265100157825Male | C32: 126510015 | D32: Ad Prima CS | E32: Ad Prima CS | F32: 7825 | G32: Male | H32: 0 | I32: 26 | J32: * | K32: * | L32: * | M32: 0 | N32: 0 | O32: 38
B33: =C33&F33&G33 -> 1265100157825Total | C33: 126510015 | D33: Ad Prima CS | E33: Ad Prima CS | F33: =F32 -> 7825 | G33: Total | H33: 0 | I33: 81 | J33: 13 | K33: * | L33: * | M33: 0 | N33: 0 | O33: 103
B34: =C34&F34&G34 -> 1081103076661Female | C34: 108110307 | D34: Admiral Peary AVTS | E34: Admiral Peary AVTS | F34: 6661 | G34: Female | H34: 0 | I34: * | J34: 0 | K34: * | L34: 0 | M34: 0 | N34: 0 | O34: 162
B35: =C35&F35&G35 -> 1081103076661Male | C35: 108110307 | D35: Admiral Peary AVTS | E35: Admiral Peary AVTS | F35: 6661 | G35: Male | H35: 0 | I35: * | J35: 0 | K35: * | L35: * | M35: 0 | N35: 0 | O35: 332
B36: =C36&F36&G36 -> 1081103076661Total | C36: 108110307 | D36: Admiral Peary AVTS | E36: Admiral Peary AVTS | F36: =F35 -> 6661 | G36: Total | H36: 0 | I36: * | J36: 0 | K36: 489 | L36: * | M36: 0 | N36: 0 | O36: 494
B37: =C37&F37&G37 -> 1265100207858Female | C37: 126510020 | D37: Agora Cyber CS | E37: Agora Cyber CS | F37: 7858 | G37: Female | H37: * | I37: 560 | J37: 214 | K37: 1241 | L37: 21 | M37: 26 | N37: * | O37: 2078
B38: =C38&F38&G38 -> 1265100207858Male | C38: 126510020 | D38: Agora Cyber CS | E38: Agora Cyber CS | F38: 7858 | G38: Male | H38: * | I38: 486 | J38: 159 | K38: 1250 | L38: 25 | M38: * | N38: * | O38: 1935
B39: =C39&F39&G39 -> 1265100207858Total | C39: 126510020 | D39: Agora Cyber CS | E39: Agora Cyber CS | F39: =F38 -> 7858 | G39: Total | H39: * | I39: 1046 | J39: 373 | K39: 2491 | L39: 46 | M39: * | N39: * | O39: 4013
B40: =C40&F40&G40 -> 1012603036001Female | C40: 101260303 | D40: Albert Gallatin Area SD | E40: Albert Gallatin Area SHS | F40: 6001 | G40: Female | H40: 0 | I40: 21 | J40: * | K40: 490 | L40: * | M40: 0 | N40: * | O40: 527
...
