Workbook

Sheet Stores-Whs Req. Sorted By Desc
A1: VUSD - WAREHOUSE STOCK REQUISITION
A2: Please get appropriate approval and signature prior to submitting this form.
A3: REQUESTOR NAME:
A4: DEPARTMENT: | D4: DATE:
A5: DELIVER TO:
A6: ACCOUNT #
A8: ITEM ID # | B8: UOM | C8: ITEM DESCRIPTION | D8: COST PER UNIT | E8: REQUESTED QTY. | F8: TOTAL AMOUNT
A9: 00050001 | B9: BO | C9: ALCOHOL, RUBBING, 16 OZ., 70% ISOPROPYL | D9: 1.23 | F9: =D9*E9 -> 0
A10: 00050006 | B10: EA | C10: BANDAGES, 37"X37"X52" TRIANGULAR, MUSLIN, W/2 PINS | D10: 0.44 | F10: =D10*E10 -> 0
A11: 00050005 | B11: EA | C11: BANDAGES, ELASTIC, 3" X 4.5 YDS, ELASTEX Q12-EB3 | D11: 0.35 | F11: =D11*E11 -> 0
A12: 00050003 | B12: BX | C12: BANDAID, 3/4" X 3", BOX/100, 1126138 | D12: 1.08 | F12: =D12*E12 -> 0
A13: 00060025 | B13: EA | C13: BATTERIES, AAA, ALKALINE | D13: 0.1475 | F13: =D13*E13 -> 0
A14: 00060007 | B14: EA | C14: BATTERY, AA, ALKALINE | D14: 0.1575 | F14: =D14*E14 -> 0
A15: 00010078 | B15: BX | C15: BINDER, VIEW, 1", 2 INSIDE POCKETS, WHITE, BOX/12 | D15: 15.24 | F15: =D15*E15 -> 0
A16: 00040092 | B16: EA | C16: BOX, STORAGE, LETTER/LEGAL SIZE WITH LID | D16: 1.3042 | F16: =D16*E16 -> 0
A17: 00010056 | B17: BX | C17: CLIP, BINDER, 1-1/4" MEDIUM,5/8" CAPACITY, BOX/12 | D17: 0.32 | F17: =D17*E17 -> 0
A18: 00010054 | B18: BX | C18: CLIP, BINDER, 3/4" SMALL, 3/8" CAPACITY, BOX/12 | D18: 0.11 | F18: =D18*E18 -> 0
A19: 00040240 | B19: BX | C19: CLIPS, PAPER, JUMBO, 100/BOX, 10 BOX/CTN | D19: 0.3 | F19: =D19*E19 -> 0
A20: 00040014 | B20: BX | C20: CLIPS, PAPER, STANDARD 10box/carton | D20: 0.111 | F20: =D20*E20 -> 0
... A103: 00010000 | B103: RL | C103: VISITOR BADGE LABELS, DYMO-2.25" X 4", 1760756 | D103: 12.81 | F103: =D103*E103 -> 0
A104: Name and Title: | D104: SUBTOTAL | F104: =SUM(F9:F103) -> 0
A105: Signature: | D105: Tax @ 8.25% | F105: =F104*0.0775 -> 0
A106: Date: | D106: TOTAL | F106: =SUM(F104:F105) -> 0

Sheet Whs Req. Sorted By Item
A1: VUSD - WAREHOUSE STOCK REQUISITION
A2: Please get appropriate approval and signature prior to submitting this form.
A3: REQUESTOR NAME:
A4: DEPARTMENT: | D4: DATE:
A5: DELIVER TO:
A6: ACCOUNT #
A8: ITEM ID # | B8: UOM | C8: ITEM DESCRIPTION | D8: COST PER UNIT | E8: REQUESTED QTY. | F8: TOTAL AMOUNT
A9: 00010000 | B9: RL | C9: VISITOR BADGE LABELS, DYMO-2.25" X 4", 1760756 | D9: 26.69 | F9: =D9*E9 -> 0
A10: 00010011 | B10: BX | C10: ENVELOPES, WHITE, PLAIN, #10BOX/500 | D10: 8.77 | F10: =D10*E10 -> 0
A11: 00010021 | B11: DZ | C11: MARKERS, DRY ERASE, BLACK CHISEL POINT, | D11: 5.82 | F11: =D11*E11 -> 0
A12: 00010024 | B12: BX | C12: FOLDER, FILE, MANILA, LETTERASSORTED 1/3 CUT, BOX/100 | D12: 5.35 | F12: =D12*E12 -> 0
A13: 00010025 | B13: EA | C13: GLUE STICK, RUBS ON PURPLE DRIES CLEAR, ODORLESS | D13: 0.1466 | F13: =D13*E13 -> 0
A14: 00010027 | B14: PK | C14: INDEX CARDS, 3" X 5", PLAIN, WHITE, PKG/100 | D14: 0.35 | F14: =D14*E14 -> 0
A15: 00010028 | B15: PK | C15: INDEX CARDS, 3" X 5", RULED, WHITE, PKG/100 | D15: 0.38 | F15: =D15*E15 -> 0
A16: 00010054 | B16: BX | C16: CLIP, BINDER, 3/4" SMALL, 3/8" CAPACITY, BOX/12 | D16: 0.16 | F16: =D16*E16 -> 0
A17: 00010056 | B17: BX | C17: CLIP, BINDER, 1-1/4" MEDIUM,5/8" CAPACITY, BOX/12 | D17: 0.36 | F17: =D17*E17 -> 0
A18: 00010061 | B18: PK | C18: HEALTH INSERT/CA CUMULATIVE RECORD, FORM HL, PKG/100 | D18: 49.2 | F18: =D18*E18 -> 0
A19: 00010062 | B19: PK | C19: FOLDER, CUMULATIVE RECORD, FORM LM, PKG/100 | D19: 37.2 | F19: =D19*E19 -> 0
A20: 00010066 | B20: DZ | C20: PEN, BALL POINT, BLACK, MED | D20: 0.85 | F20: =D20*E20 -> 0
... A113: 00060025 | B113: EA | C113: BATTERIES, AAA, ALKALINE | D113: 0.4475 | F113: =D113*E113 -> 0
A114: Name and Title: | D114: SUBTOTAL | F114: =SUM(F9:F113) -> 0
A115: Signature: | D115: Tax @ 8.25% | F115: =F114*0.0825 -> 0
A116: Date: | D116: TOTAL | F116: =SUM(F114:F115) -> 0

Sheet Whs Req. Sorted By Desc.
A1: VUSD - WAREHOUSE STOCK REQUISITION
A2: Please get appropriate approval and signature prior to submitting this form.
A3: REQUESTOR NAME:
A4: DEPARTMENT: | D4: DATE:
A5: DELIVER TO:
A6: ACCOUNT #
A8: ITEM ID # | B8: UOM | C8: ITEM DESCRIPTION | D8: COST PER UNIT | E8: REQUESTED QTY. | F8: TOTAL AMOUNT
A9: 00010000 | B9: RL | C9: VISITOR BADGE LABELS, DYMO-2.25" X 4", 1760756 | D9: 12.81 | F9: =D9*E9 -> 0
A10: 00010011 | B10: BX | C10: ENVELOPES, WHITE, PLAIN, #10BOX/500 | D10: 8.8 | F10: =D10*E10 -> 0
A11: 00010021 | B11: DZ | C11: MARKERS, DRY ERASE, BLACK CHISEL POINT, | D11: 5.96 | F11: =D11*E11 -> 0
A12: 00010024 | B12: BX | C12: FOLDER, FILE, MANILA, LETTERASSORTED 1/3 CUT, BOX/100 | D12: 4.1 | F12: =D12*E12 -> 0
A13: 00010025 | B13: EA | C13: GLUE STICK, RUBS ON PURPLE DRIES CLEAR, ODORLESS | D13: 0.08 | F13: =D13*E13 -> 0
A14: 00010027 | B14: PK | C14: INDEX CARDS, 3" X 5", PLAIN, WHITE, PKG/100 | D14: 0.28 | F14: =D14*E14 -> 0
A15: 00010028 | B15: PK | C15: INDEX CARDS, 3" X 5", RULED, WHITE, PKG/100 | D15: 0.27 | F15: =D15*E15 -> 0
A16: 00010054 | B16: BX | C16: CLIP, BINDER, 3/4" SMALL, 3/8" CAPACITY, BOX/12 | D16: 0.17 | F16: =D16*E16 -> 0
A17: 00010056 | B17: BX | C17: CLIP, BINDER, 1-1/4" MEDIUM,5/8" CAPACITY, BOX/12 | D17: 0.38 | F17: =D17*E17 -> 0
A18: 00010061 | B18: PK | C18: HEALTH INSERT/CA CUMULATIVE RECORD, FORM HL, PKG/100 | D18: 49.2 | F18: =D18*E18 -> 0
A19: 00010062 | B19: PK | C19: FOLDER, CUMULATIVE RECORD, FORM LM, PKG/100 | D19: 37.2 | F19: =D19*E19 -> 0
A20: 00010066 | B20: DZ | C20: PEN, BALL POINT, BLACK, MED | D20: 0.83 | F20: =D20*E20 -> 0
... A113: 00060025 | B113: EA | C113: BATTERIES, AAA, ALKALINE | D113: 0.25 | F113: =D113*E113 -> 0
A114: Name and Title: | D114: SUBTOTAL | F114: =SUM(F9:F113) -> 0
A115: Signature: | D115: Tax @ 8.25% | F115: =F114*0.0825 -> 0
A116: Date: | D116: TOTAL | F116: =SUM(F114:F115) -> 0

Sheet Stores-Whs Req. Sorted By Descr
A1: VUSD - WAREHOUSE STOCK REQUISITION
A2: Please get appropriate approval and signature prior to submitting this form.
A3: REQUESTOR NAME:
A4: DEPARTMENT: | D4: DATE:
A5: DELIVER TO:
A6: ACCOUNT #
A8: ITEM ID # | B8: UOM | C8: ITEM DESCRIPTION | D8: COST PER UNIT | E8: REQUESTED QTY. | F8: TOTAL AMOUNT
A9: 00050001 | B9: BO | C9: ALCOHOL, RUBBING, 16 OZ., 70% ISOPROPYL | D9: =VLOOKUP($A9,'Whs Req. Sorted By Item'!A9:D113,4,FALSE) -> 2.54 | F9: =D9*E9 -> 0
A10: 00040099 | B10: CT | C10: BAG, T-SHIRT PLASTIC, CLEAR, .65MIL 18X10X30", 50/CT | D10: =VLOOKUP($A10,'Whs Req. Sorted By Item'!A10:D114,4,FALSE) -> 52.5 | F10: =D10*E10 -> 0
A11: 00050006 | B11: EA | C11: BANDAGES, 37"X37"X52" TRIANGULAR, MUSLIN, W/2 PINS | D11: =VLOOKUP($A11,'Whs Req. Sorted By Item'!A11:D115,4,FALSE) -> 0.65 | F11: =D11*E11 -> 0
A12: 00050005 | B12: EA | C12: BANDAGES, ELASTIC, 3" X 4.5 YDS, ELASTEX Q12-EB3 | D12: =VLOOKUP($A12,'Whs Req. Sorted By Item'!A12:D116,4,FALSE) -> 0.463 | F12: =D12*E12 -> 0
A13: 00050003 | B13: BX | C13: BANDAID, 3/4" X 3", BOX/100, 1126138 | D13: =VLOOKUP($A13,'Whs Req. Sorted By Item'!A13:D117,4,FALSE) -> 1.38 | F13: =D13*E13 -> 0
A14: 00060025 | B14: EA | C14: BATTERIES, AAA, ALKALINE | D14: =VLOOKUP($A14,'Whs Req. Sorted By Item'!A14:D118,4,FALSE) -> 0.4475 | F14: =D14*E14 -> 0
A15: 00060007 | B15: EA | C15: BATTERY, AA, ALKALINE | D15: =VLOOKUP($A15,'Whs Req. Sorted By Item'!A15:D119,4,FALSE) -> 0.4475 | F15: =D15*E15 -> 0
A16: 00010078 | B16: BX | C16: BINDER, VIEW, 1", 2 INSIDE POCKETS, WHITE, BOX/12 | D16: =VLOOKUP($A16,'Whs Req. Sorted By Item'!A16:D120,4,FALSE) -> 16.2 | F16: =D16*E16 -> 0
A17: 00040092 | B17: EA | C17: BOX, STORAGE, LETTER/LEGAL SIZE WITH LID | D17: =VLOOKUP($A17,'Whs Req. Sorted By Item'!A17:D121,4,FALSE) -> 2.4375 | F17: =D17*E17 -> 0
A18: 00050053 | B18: BX | C18: CLEAR MASK, 24/BX | D18: =VLOOKUP($A18,'Whs Req. Sorted By Item'!A18:D122,4,FALSE) -> 0.01 | F18: =D18*E18 -> 0
A19: 00010056 | B19: BX | C19: CLIP, BINDER, 1-1/4" MEDIUM,5/8" CAPACITY, BOX/12 | D19: 0.38 | F19: =D19*E19 -> 0
A20: 00010054 | B20: BX | C20: CLIP, BINDER, 3/4" SMALL, 3/8" CAPACITY, BOX/12 | D20: 0.17 | F20: =D20*E20 -> 0
A21: 00040240 | B21: BX | C21: CLIPS, PAPER, JUMBO, 100/BOX, 10 BOX/CTN | D21: =VLOOKUP($A21,'Whs Req. Sorted By Item'!A21:D125,4,FALSE) -> 0.332 | F21: =D21*E21 -> 0
A22: 00040014 | B22: BX | C22: CLIPS, PAPER, STANDARD 10box/carton | D22: =VLOOKUP($A22,'Whs Req. Sorted By Item'!A22:D126,4,FALSE) -> 2.04 | F22: =D22*E22 -> 0
A23: 00050022 | B23: CT | C23: CLOROX DISINFECTING WIPES, FRESH SCENT, 7X8, WHITE, 75/CT | D23: =VLOOKUP($A23,'Whs Req. Sorted By Item'!A23:D127,4,FALSE) -> 6.54 | F23: =D23*E23 -> 0
A24: 00040190 | B24: PK | C24: COMPOSITION BOOK, GR 3-5, 9-3/4"X7-1/2", PKG/12 * | D24: =VLOOKUP($A24,'Whs Req. Sorted By Item'!A24:D128,4,FALSE) -> 9.36 | F24: =D24*E24 -> 0
A25: 00040009 | B25: PK | C25: COMPOSITION BOOK,PKG/24 RULED, 8-1/2" X 6-3/4", | D25: =VLOOKUP($A25,'Whs Req. Sorted By Item'!A25:D129,4,FALSE) -> 6.84 | F25: =D25*E25 -> 0
A26: 00050010 | B26: BG | C26: COTTON BALLS, LARGE, NON- STERILE, BAG/1,000 | D26: =VLOOKUP($A26,'Whs Req. Sorted By Item'!A26:D130,4,FALSE) -> 8.1 | F26: =D26*E26 -> 0
A27: 00030065 | B27: BX | C27: CRAYOLA 12-COLOR WASHABLE MARKERS,B&S 7812 | D27: =VLOOKUP($A27,'Whs Req. Sorted By Item'!A27:D131,4,FALSE) -> 2.34 | F27: =D27*E27 -> 0
A28: 00030026 | B28: BX | C28: CRAYONS, DRAWING 4X7/16" 16 COLORS, BOX/12 BXS/DZ * | D28: =VLOOKUP($A28,'Whs Req. Sorted By Item'!A28:D132,4,FALSE) -> 15.6 | F28: =D28*E28 -> 0
A29: 00020025 | B29: TB | C29: CUP, PAPER, DRINKING, 3-1/2 OZ., TUBE/100 | D29: =VLOOKUP($A29,'Whs Req. Sorted By Item'!A29:D133,4,FALSE) -> 1.452 | F29: =D29*E29 -> 0
A30: 00010113 | B30: PK | C30: DIVIDERS, NOTEBOOK, 5 CLEAR PLASTIC TABS | D30: 0.28 | F30: =D30*E30 -> 0
A31: 00040028 | B31: PD | C31: EASEL PADS, WHITE, FAINT RULE, 27" X 34", PAD/50 SHTS | D31: =VLOOKUP($A31,'Whs Req. Sorted By Item'!A31:D135,4,FALSE) -> 24.79 | F31: =D31*E31 -> 0
A32: 00010011 | B32: BX | C32: ENVELOPES, WHITE, PLAIN, #10BOX/500 | D32: 8.8 | F32: =D32*E32 -> 0
A33: 00050052 | B33: EA | C33: FACE SHIELD, PLASTIC WITH FOAM, ADJUSTABLE | D33: =VLOOKUP($A33,'Whs Req. Sorted By Item'!A33:D137,4,FALSE) -> 1.658 | F33: =D33*E33 -> 0
A34: 00020147 | B34: EA | C34: FLAG, CALIFORNIA, 4X6 NYLON, OUTDOOR | D34: =VLOOKUP($A34,'Whs Req. Sorted By Item'!A34:D138,4,FALSE) -> 44.5 | F34: =D34*E34 -> 0
A35: 00020145 | B35: EA | C35: FLAG, U.S. 5X8 NYLON, OUTDOOR | D35: =VLOOKUP($A35,'Whs Req. Sorted By Item'!A35:D139,4,FALSE) -> 51.75 | F35: =D35*E35 -> 0
A36: 00010062 | B36: PK | C36: FOLDER, CUMULATIVE RECORD, FORM LM, PKG/100 | D36: 37.2 | F36: =D36*E36 -> 0
A37: 00010024 | B37: BX | C37: FOLDER, FILE, MANILA, LETTERASSORTED 1/3 CUT, BOX/100 | D37: 4.1 | F37: =D37*E37 -> 0
A38: 00050033 | B38: BX | C38: GLOVES, VINYL, NON-LATEX, UNPOWDERED, LARGE | D38: =VLOOKUP($A38,'Whs Req. Sorted By Item'!A38:D142,4,FALSE) -> 1.944 | F38: =D38*E38 -> 0
A39: 00050004 | B39: BX | C39: GLOVES, VINYL, NON-LATEX, UNPOWDERED, MEDIUM | D39: =VLOOKUP($A39,'Whs Req. Sorted By Item'!A39:D143,4,FALSE) -> 1.94 | F39: =D39*E39 -> 0
A40: 00050020 | B40: BX | C40: GLOVES, VINYL, NON-LATEX, UNPOWDERED, SMALL | D40: =VLOOKUP($A40,'Whs Req. Sorted By Item'!A40:D144,4,FALSE) -> 1.94 | F40: =D40*E40 -> 0
A41: 00050042 | B41: BX | C41: GLOVES, VINYL, NON-LATEX, UNPOWDERED, X-LARGE | D41: =VLOOKUP($A41,'Whs Req. Sorted By Item'!A41:D145,4,FALSE) -> 1.94 | F41: =D41*E41 -> 0
...

Sheet Stores-Whs Req. Sorted By Desc.
A1: VUSD - WAREHOUSE STOCK REQUISITION
A2: Please get appropriate approval and signature prior to submitting this form.
A3: REQUESTOR NAME:
A4: DEPARTMENT: | D4: DATE:
A5: DELIVER TO:
A6: ACCOUNT #
A8: ITEM ID # | B8: UOM | C8: ITEM DESCRIPTION | D8: COST PER UNIT | E8: REQUESTED QTY. | F8: TOTAL AMOUNT
A9: 00050001 | B9: BO | C9: ALCOHOL, RUBBING, 16 OZ., 70% ISOPROPYL | D9: 2.5 | F9: =D9*E9 -> 0
A10: 00050006 | B10: EA | C10: BANDAGES, 37"X37"X52" TRIANGULAR, MUSLIN, W/2 PINS | D10: 0.35 | F10: =D10*E10 -> 0
A11: 00050005 | B11: EA | C11: BANDAGES, ELASTIC, 3" X 4.5 YDS, ELASTEX Q12-EB3 | D11: 0.335 | F11: =D11*E11 -> 0
A12: 00050003 | B12: BX | C12: BANDAID, 3/4" X 3", BOX/100, 1126138 | D12: 1.07 | F12: =D12*E12 -> 0
A13: 00060025 | B13: EA | C13: BATTERIES, AAA, ALKALINE | D13: 0.275 | F13: =D13*E13 -> 0
A14: 00060007 | B14: EA | C14: BATTERY, AA, ALKALINE | D14: 0.275 | F14: =D14*E14 -> 0
A15: 00010078 | B15: BX | C15: BINDER, VIEW, 1", 2 INSIDE POCKETS, WHITE, BOX/12 | D15: 13.08 | F15: =D15*E15 -> 0
A16: 00040092 | B16: EA | C16: BOX, STORAGE, LETTER/LEGAL SIZE WITH LID | D16: 1.4958 | F16: =D16*E16 -> 0
A17: 00050053 | B17: BX | C17: CLEAR MASK, 24/BX | D17: 0.01 | F17: =D17*E17 -> 0
A18: 00010056 | B18: BX | C18: CLIP, BINDER, 1-1/4" MEDIUM,5/8" CAPACITY, BOX/12 | D18: 0.33 | F18: =D18*E18 -> 0
A19: 00010054 | B19: BX | C19: CLIP, BINDER, 3/4" SMALL, 3/8" CAPACITY, BOX/12 | D19: 0.1 | F19: =D19*E19 -> 0
A20: 00040240 | B20: BX | C20: CLIPS, PAPER, JUMBO, 100/BOX, 10 BOX/CTN | D20: 0.312 | F20: =D20*E20 -> 0
... A107: 00010000 | B107: RL | C107: VISITOR BADGE LABELS, DYMO-2.25" X 4", 1760756 | D107: 12.81 | F107: =D107*E107 -> 0
A108: Name and Title: | D108: SUBTOTAL | F108: =SUM(F9:F107) -> 0
A109: Signature: | D109: Tax @ 8.25% | F109: =F108*0.0825 -> 0
A110: Date: | D110: TOTAL | F110: =SUM(F108:F109) -> 0

Sheet Sheet1
