Workbook

Sheet Bryant St
A2: COUNT DATA
A3: BRYANT ST BT EMBARCADERO RD AND KELLOGG AVE
B4: Monday, September 30, 2024 | E4: Tuesday, October 1, 2024 | H4: Wednesday, October 2, 2024 | K4: Thursday, October 3, 2024 | N4: Friday, October 4, 2024 | Q4: Saturday, October 5, 2024 | T4: Sunday, October 6, 2024
A5: TIME | B5: NB | C5: SB | D5: TOTAL | E5: NB | F5: SB | G5: TOTAL | H5: NB | I5: SB | J5: TOTAL | K5: NB | L5: SB | M5: TOTAL | N5: NB | O5: SB | P5: TOTAL | Q5: NB | R5: SB | S5: TOTAL | T5: NB | U5: SB | V5: TOTAL
A6: 0 | B6: 0 | C6: 1 | D6: =B6+C6 -> 1 | E6: 0 | F6: 0 | G6: =E6+F6 -> 0 | H6: 0 | I6: 0 | J6: =H6+I6 -> 0 | K6: 0 | L6: 0 | M6: =K6+L6 -> 0 | N6: 1 | O6: 0 | P6: =N6+O6 -> 1 | Q6: 0 | R6: 0 | S6: =Q6+R6 -> 0 | T6: 0 | U6: 1 | V6: =T6+U6 -> 1
A7: 0.010416667 | B7: 0 | C7: 0 | D7: =B7+C7 -> 0 | E7: 0 | F7: 0 | G7: =E7+F7 -> 0 | H7: 0 | I7: 0 | J7: =H7+I7 -> 0 | K7: 0 | L7: 0 | M7: =K7+L7 -> 0 | N7: 0 | O7: 0 | P7: =N7+O7 -> 0 | Q7: 0 | R7: 0 | S7: =Q7+R7 -> 0 | T7: 0 | U7: 0 | V7: =T7+U7 -> 0
A8: 0.020833333 | B8: 0 | C8: 0 | D8: =B8+C8 -> 0 | E8: 0 | F8: 0 | G8: =E8+F8 -> 0 | H8: 0 | I8: 0 | J8: =H8+I8 -> 0 | K8: 0 | L8: 0 | M8: =K8+L8 -> 0 | N8: 0 | O8: 0 | P8: =N8+O8 -> 0 | Q8: 0 | R8: 0 | S8: =Q8+R8 -> 0 | T8: 0 | U8: 0 | V8: =T8+U8 -> 0
A9: 0.03125 | B9: 1 | C9: 0 | D9: =B9+C9 -> 1 | E9: 0 | F9: 2 | G9: =E9+F9 -> 2 | H9: 0 | I9: 0 | J9: =H9+I9 -> 0 | K9: 0 | L9: 1 | M9: =K9+L9 -> 1 | N9: 0 | O9: 0 | P9: =N9+O9 -> 0 | Q9: 0 | R9: 0 | S9: =Q9+R9 -> 0 | T9: 0 | U9: 0 | V9: =T9+U9 -> 0
A10: 0.041666667 | B10: 0 | C10: 0 | D10: =B10+C10 -> 0 | E10: 0 | F10: 0 | G10: =E10+F10 -> 0 | H10: 0 | I10: 0 | J10: =H10+I10 -> 0 | K10: 0 | L10: 0 | M10: =K10+L10 -> 0 | N10: 0 | O10: 0 | P10: =N10+O10 -> 0 | Q10: 1 | R10: 0 | S10: =Q10+R10 -> 1 | T10: 0 | U10: 2 | V10: =T10+U10 -> 2
A11: 0.052083333 | B11: 1 | C11: 0 | D11: =B11+C11 -> 1 | E11: 0 | F11: 0 | G11: =E11+F11 -> 0 | H11: 0 | I11: 0 | J11: =H11+I11 -> 0 | K11: 0 | L11: 0 | M11: =K11+L11 -> 0 | N11: 1 | O11: 0 | P11: =N11+O11 -> 1 | Q11: 0 | R11: 1 | S11: =Q11+R11 -> 1 | T11: 0 | U11: 0 | V11: =T11+U11 -> 0
A12: 0.0625 | B12: 0 | C12: 1 | D12: =B12+C12 -> 1 | E12: 0 | F12: 0 | G12: =E12+F12 -> 0 | H12: 0 | I12: 0 | J12: =H12+I12 -> 0 | K12: 0 | L12: 0 | M12: =K12+L12 -> 0 | N12: 0 | O12: 0 | P12: =N12+O12 -> 0 | Q12: 0 | R12: 0 | S12: =Q12+R12 -> 0 | T12: 0 | U12: 1 | V12: =T12+U12 -> 1
A13: 0.072916667 | B13: 0 | C13: 0 | D13: =B13+C13 -> 0 | E13: 0 | F13: 1 | G13: =E13+F13 -> 1 | H13: 0 | I13: 0 | J13: =H13+I13 -> 0 | K13: 0 | L13: 0 | M13: =K13+L13 -> 0 | N13: 0 | O13: 0 | P13: =N13+O13 -> 0 | Q13: 1 | R13: 0 | S13: =Q13+R13 -> 1 | T13: 0 | U13: 0 | V13: =T13+U13 -> 0
A14: 0.083333333 | B14: 0 | C14: 0 | D14: =B14+C14 -> 0 | E14: 0 | F14: 0 | G14: =E14+F14 -> 0 | H14: 0 | I14: 0 | J14: =H14+I14 -> 0 | K14: 0 | L14: 0 | M14: =K14+L14 -> 0 | N14: 0 | O14: 0 | P14: =N14+O14 -> 0 | Q14: 0 | R14: 0 | S14: =Q14+R14 -> 0 | T14: 0 | U14: 0 | V14: =T14+U14 -> 0
A15: 0.09375 | B15: 0 | C15: 0 | D15: =B15+C15 -> 0 | E15: 0 | F15: 0 | G15: =E15+F15 -> 0 | H15: 0 | I15: 0 | J15: =H15+I15 -> 0 | K15: 0 | L15: 0 | M15: =K15+L15 -> 0 | N15: 0 | O15: 0 | P15: =N15+O15 -> 0 | Q15: 0 | R15: 0 | S15: =Q15+R15 -> 0 | T15: 0 | U15: 0 | V15: =T15+U15 -> 0
A16: 0.10416667 | B16: 0 | C16: 0 | D16: =B16+C16 -> 0 | E16: 0 | F16: 0 | G16: =E16+F16 -> 0 | H16: 0 | I16: 0 | J16: =H16+I16 -> 0 | K16: 0 | L16: 0 | M16: =K16+L16 -> 0 | N16: 0 | O16: 0 | P16: =N16+O16 -> 0 | Q16: 0 | R16: 1 | S16: =Q16+R16 -> 1 | T16: 0 | U16: 0 | V16: =T16+U16 -> 0
A17: 0.11458333 | B17: 0 | C17: 0 | D17: =B17+C17 -> 0 | E17: 0 | F17: 0 | G17: =E17+F17 -> 0 | H17: 0 | I17: 0 | J17: =H17+I17 -> 0 | K17: 0 | L17: 0 | M17: =K17+L17 -> 0 | N17: 0 | O17: 0 | P17: =N17+O17 -> 0 | Q17: 0 | R17: 0 | S17: =Q17+R17 -> 0 | T17: 0 | U17: 0 | V17: =T17+U17 -> 0
... A101: 0.98958333 | B101: 0 | C101: 1 | D101: =B101+C101 -> 1 | E101: 0 | F101: 0 | G101: =E101+F101 -> 0 | H101: 0 | I101: 0 | J101: =H101+I101 -> 0 | K101: 0 | L101: 0 | M101: =K101+L101 -> 0 | N101: 1 | O101: 0 | P101: =N101+O101 -> 1 | Q101: 1 | R101: 0 | S101: =Q101+R101 -> 1 | T101: 0 | U101: 0 | V101: =T101+U101 -> 0

Sheet Emerson St
A1: COUNT DATA
A2: EMERSON ST BT MELVILLE AVE AND KELLOGG AVE
B3: ='Bryant St'!B4 -> Monday, September 30, 2024 | E3: ='Bryant St'!E4 -> Tuesday, October 1, 2024 | H3: ='Bryant St'!H4 -> Wednesday, October 2, 2024 | K3: ='Bryant St'!K4 -> Thursday, October 3, 2024 | N3: ='Bryant St'!N4 -> Friday, October 4, 2024 | Q3: ='Bryant St'!Q4 -> Saturday, October 5, 2024 | T3: ='Bryant St'!T4 -> Sunday, October 6, 2024
A4: TIME | B4: NB | C4: SB | D4: TOTAL | E4: NB | F4: SB | G4: TOTAL | H4: NB | I4: SB | J4: TOTAL | K4: NB | L4: SB | M4: TOTAL | N4: NB | O4: SB | P4: TOTAL | Q4: NB | R4: SB | S4: TOTAL | T4: NB | U4: SB | V4: TOTAL
A5: 0 | B5: 0 | C5: 0 | D5: =B5+C5 -> 0 | E5: 0 | F5: 0 | G5: =E5+F5 -> 0 | H5: 0 | I5: 0 | J5: =H5+I5 -> 0 | K5: 0 | L5: 0 | M5: =K5+L5 -> 0 | N5: 0 | O5: 0 | P5: =N5+O5 -> 0 | Q5: 1 | R5: 3 | S5: =Q5+R5 -> 4 | T5: 0 | U5: 0 | V5: =T5+U5 -> 0
A6: 0.010416667 | B6: 0 | C6: 0 | D6: =B6+C6 -> 0 | E6: 0 | F6: 0 | G6: =E6+F6 -> 0 | H6: 0 | I6: 0 | J6: =H6+I6 -> 0 | K6: 0 | L6: 0 | M6: =K6+L6 -> 0 | N6: 0 | O6: 0 | P6: =N6+O6 -> 0 | Q6: 2 | R6: 3 | S6: =Q6+R6 -> 5 | T6: 0 | U6: 0 | V6: =T6+U6 -> 0
A7: 0.020833333 | B7: 1 | C7: 0 | D7: =B7+C7 -> 1 | E7: 0 | F7: 0 | G7: =E7+F7 -> 0 | H7: 0 | I7: 0 | J7: =H7+I7 -> 0 | K7: 1 | L7: 0 | M7: =K7+L7 -> 1 | N7: 0 | O7: 0 | P7: =N7+O7 -> 0 | Q7: 0 | R7: 2 | S7: =Q7+R7 -> 2 | T7: 1 | U7: 0 | V7: =T7+U7 -> 1
A8: 0.03125 | B8: 0 | C8: 0 | D8: =B8+C8 -> 0 | E8: 0 | F8: 0 | G8: =E8+F8 -> 0 | H8: 0 | I8: 0 | J8: =H8+I8 -> 0 | K8: 0 | L8: 0 | M8: =K8+L8 -> 0 | N8: 1 | O8: 0 | P8: =N8+O8 -> 1 | Q8: 1 | R8: 0 | S8: =Q8+R8 -> 1 | T8: 0 | U8: 0 | V8: =T8+U8 -> 0
A9: 0.041666667 | B9: 1 | C9: 0 | D9: =B9+C9 -> 1 | E9: 0 | F9: 0 | G9: =E9+F9 -> 0 | H9: 0 | I9: 1 | J9: =H9+I9 -> 1 | K9: 1 | L9: 0 | M9: =K9+L9 -> 1 | N9: 1 | O9: 0 | P9: =N9+O9 -> 1 | Q9: 1 | R9: 0 | S9: =Q9+R9 -> 1 | T9: 0 | U9: 0 | V9: =T9+U9 -> 0
A10: 0.052083333 | B10: 0 | C10: 0 | D10: =B10+C10 -> 0 | E10: 0 | F10: 0 | G10: =E10+F10 -> 0 | H10: 1 | I10: 0 | J10: =H10+I10 -> 1 | K10: 0 | L10: 0 | M10: =K10+L10 -> 0 | N10: 2 | O10: 0 | P10: =N10+O10 -> 2 | Q10: 0 | R10: 0 | S10: =Q10+R10 -> 0 | T10: 0 | U10: 0 | V10: =T10+U10 -> 0
A11: 0.0625 | B11: 1 | C11: 0 | D11: =B11+C11 -> 1 | E11: 0 | F11: 0 | G11: =E11+F11 -> 0 | H11: 0 | I11: 0 | J11: =H11+I11 -> 0 | K11: 0 | L11: 0 | M11: =K11+L11 -> 0 | N11: 0 | O11: 0 | P11: =N11+O11 -> 0 | Q11: 1 | R11: 0 | S11: =Q11+R11 -> 1 | T11: 0 | U11: 0 | V11: =T11+U11 -> 0
A12: 0.072916667 | B12: 0 | C12: 0 | D12: =B12+C12 -> 0 | E12: 0 | F12: 1 | G12: =E12+F12 -> 1 | H12: 0 | I12: 0 | J12: =H12+I12 -> 0 | K12: 0 | L12: 0 | M12: =K12+L12 -> 0 | N12: 0 | O12: 0 | P12: =N12+O12 -> 0 | Q12: 2 | R12: 1 | S12: =Q12+R12 -> 3 | T12: 0 | U12: 0 | V12: =T12+U12 -> 0
A13: 0.083333333 | B13: 0 | C13: 0 | D13: =B13+C13 -> 0 | E13: 0 | F13: 0 | G13: =E13+F13 -> 0 | H13: 0 | I13: 0 | J13: =H13+I13 -> 0 | K13: 0 | L13: 0 | M13: =K13+L13 -> 0 | N13: 0 | O13: 1 | P13: =N13+O13 -> 1 | Q13: 1 | R13: 3 | S13: =Q13+R13 -> 4 | T13: 0 | U13: 1 | V13: =T13+U13 -> 1
A14: 0.09375 | B14: 0 | C14: 0 | D14: =B14+C14 -> 0 | E14: 0 | F14: 0 | G14: =E14+F14 -> 0 | H14: 0 | I14: 0 | J14: =H14+I14 -> 0 | K14: 0 | L14: 0 | M14: =K14+L14 -> 0 | N14: 0 | O14: 0 | P14: =N14+O14 -> 0 | Q14: 0 | R14: 1 | S14: =Q14+R14 -> 1 | T14: 0 | U14: 0 | V14: =T14+U14 -> 0
A15: 0.10416667 | B15: 0 | C15: 0 | D15: =B15+C15 -> 0 | E15: 0 | F15: 0 | G15: =E15+F15 -> 0 | H15: 0 | I15: 0 | J15: =H15+I15 -> 0 | K15: 0 | L15: 0 | M15: =K15+L15 -> 0 | N15: 0 | O15: 0 | P15: =N15+O15 -> 0 | Q15: 2 | R15: 1 | S15: =Q15+R15 -> 3 | T15: 0 | U15: 0 | V15: =T15+U15 -> 0
A16: 0.11458333 | B16: 0 | C16: 0 | D16: =B16+C16 -> 0 | E16: 0 | F16: 0 | G16: =E16+F16 -> 0 | H16: 0 | I16: 0 | J16: =H16+I16 -> 0 | K16: 0 | L16: 0 | M16: =K16+L16 -> 0 | N16: 0 | O16: 0 | P16: =N16+O16 -> 0 | Q16: 0 | R16: 2 | S16: =Q16+R16 -> 2 | T16: 0 | U16: 0 | V16: =T16+U16 -> 0
... A100: 0.98958333 | B100: 0 | C100: 0 | D100: =B100+C100 -> 0 | E100: 0 | F100: 0 | G100: =E100+F100 -> 0 | H100: 0 | I100: 0 | J100: =H100+I100 -> 0 | K100: 0 | L100: 0 | M100: =K100+L100 -> 0 | N100: 2 | O100: 0 | P100: =N100+O100 -> 2 | Q100: 0 | R100: 0 | S100: =Q100+R100 -> 0 | T100: 0 | U100: 0 | V100: =T100+U100 -> 0

Sheet Kellogg Ave
A1: COUNT DATA
A2: KELLOGG AVE BT EMERSON ST AND BRYANT ST
B3: ='Emerson St'!B3 -> Monday, September 30, 2024 | E3: ='Emerson St'!E3 -> Tuesday, October 1, 2024 | H3: ='Emerson St'!H3 -> Wednesday, October 2, 2024 | K3: ='Emerson St'!K3 -> Thursday, October 3, 2024 | N3: ='Emerson St'!N3 -> Friday, October 4, 2024 | Q3: ='Emerson St'!Q3 -> Saturday, October 5, 2024 | T3: ='Emerson St'!T3 -> Sunday, October 6, 2024
A4: TIME | B4: EB | C4: WB | D4: TOTAL | E4: EB | F4: WB | G4: TOTAL | H4: EB | I4: WB | J4: TOTAL | K4: EB | L4: WB | M4: TOTAL | N4: EB | O4: WB | P4: TOTAL | Q4: EB | R4: WB | S4: TOTAL | T4: EB | U4: WB | V4: TOTAL
A5: 0 | B5: 0 | C5: 0 | D5: =B5+C5 -> 0 | E5: 0 | F5: 0 | G5: =E5+F5 -> 0 | H5: 0 | I5: 0 | J5: =H5+I5 -> 0 | K5: 0 | L5: 0 | M5: =K5+L5 -> 0 | N5: 0 | O5: 0 | P5: =N5+O5 -> 0 | Q5: 1 | R5: 1 | S5: =Q5+R5 -> 2 | T5: 0 | U5: 0 | V5: =T5+U5 -> 0
A6: 0.010416667 | B6: 0 | C6: 1 | D6: =B6+C6 -> 1 | E6: 0 | F6: 0 | G6: =E6+F6 -> 0 | H6: 0 | I6: 0 | J6: =H6+I6 -> 0 | K6: 0 | L6: 0 | M6: =K6+L6 -> 0 | N6: 0 | O6: 0 | P6: =N6+O6 -> 0 | Q6: 0 | R6: 0 | S6: =Q6+R6 -> 0 | T6: 0 | U6: 0 | V6: =T6+U6 -> 0
A7: 0.020833333 | B7: 0 | C7: 1 | D7: =B7+C7 -> 1 | E7: 1 | F7: 0 | G7: =E7+F7 -> 1 | H7: 0 | I7: 0 | J7: =H7+I7 -> 0 | K7: 0 | L7: 0 | M7: =K7+L7 -> 0 | N7: 0 | O7: 0 | P7: =N7+O7 -> 0 | Q7: 1 | R7: 1 | S7: =Q7+R7 -> 2 | T7: 0 | U7: 0 | V7: =T7+U7 -> 0
A8: 0.03125 | B8: 0 | C8: 1 | D8: =B8+C8 -> 1 | E8: 0 | F8: 0 | G8: =E8+F8 -> 0 | H8: 0 | I8: 0 | J8: =H8+I8 -> 0 | K8: 0 | L8: 0 | M8: =K8+L8 -> 0 | N8: 0 | O8: 0 | P8: =N8+O8 -> 0 | Q8: 0 | R8: 0 | S8: =Q8+R8 -> 0 | T8: 0 | U8: 0 | V8: =T8+U8 -> 0
A9: 0.041666667 | B9: 0 | C9: 0 | D9: =B9+C9 -> 0 | E9: 0 | F9: 0 | G9: =E9+F9 -> 0 | H9: 0 | I9: 0 | J9: =H9+I9 -> 0 | K9: 0 | L9: 0 | M9: =K9+L9 -> 0 | N9: 0 | O9: 0 | P9: =N9+O9 -> 0 | Q9: 0 | R9: 0 | S9: =Q9+R9 -> 0 | T9: 0 | U9: 0 | V9: =T9+U9 -> 0
A10: 0.052083333 | B10: 0 | C10: 0 | D10: =B10+C10 -> 0 | E10: 0 | F10: 0 | G10: =E10+F10 -> 0 | H10: 0 | I10: 0 | J10: =H10+I10 -> 0 | K10: 0 | L10: 0 | M10: =K10+L10 -> 0 | N10: 1 | O10: 1 | P10: =N10+O10 -> 2 | Q10: 0 | R10: 0 | S10: =Q10+R10 -> 0 | T10: 0 | U10: 0 | V10: =T10+U10 -> 0
A11: 0.0625 | B11: 0 | C11: 1 | D11: =B11+C11 -> 1 | E11: 0 | F11: 0 | G11: =E11+F11 -> 0 | H11: 0 | I11: 0 | J11: =H11+I11 -> 0 | K11: 0 | L11: 0 | M11: =K11+L11 -> 0 | N11: 0 | O11: 0 | P11: =N11+O11 -> 0 | Q11: 0 | R11: 0 | S11: =Q11+R11 -> 0 | T11: 0 | U11: 0 | V11: =T11+U11 -> 0
A12: 0.072916667 | B12: 0 | C12: 0 | D12: =B12+C12 -> 0 | E12: 0 | F12: 1 | G12: =E12+F12 -> 1 | H12: 0 | I12: 0 | J12: =H12+I12 -> 0 | K12: 0 | L12: 0 | M12: =K12+L12 -> 0 | N12: 0 | O12: 0 | P12: =N12+O12 -> 0 | Q12: 1 | R12: 1 | S12: =Q12+R12 -> 2 | T12: 0 | U12: 0 | V12: =T12+U12 -> 0
A13: 0.083333333 | B13: 0 | C13: 0 | D13: =B13+C13 -> 0 | E13: 0 | F13: 1 | G13: =E13+F13 -> 1 | H13: 0 | I13: 0 | J13: =H13+I13 -> 0 | K13: 0 | L13: 0 | M13: =K13+L13 -> 0 | N13: 0 | O13: 0 | P13: =N13+O13 -> 0 | Q13: 1 | R13: 1 | S13: =Q13+R13 -> 2 | T13: 1 | U13: 0 | V13: =T13+U13 -> 1
A14: 0.09375 | B14: 0 | C14: 0 | D14: =B14+C14 -> 0 | E14: 0 | F14: 0 | G14: =E14+F14 -> 0 | H14: 0 | I14: 0 | J14: =H14+I14 -> 0 | K14: 0 | L14: 0 | M14: =K14+L14 -> 0 | N14: 0 | O14: 0 | P14: =N14+O14 -> 0 | Q14: 0 | R14: 0 | S14: =Q14+R14 -> 0 | T14: 0 | U14: 0 | V14: =T14+U14 -> 0
A15: 0.10416667 | B15: 0 | C15: 0 | D15: =B15+C15 -> 0 | E15: 0 | F15: 0 | G15: =E15+F15 -> 0 | H15: 0 | I15: 0 | J15: =H15+I15 -> 0 | K15: 0 | L15: 0 | M15: =K15+L15 -> 0 | N15: 0 | O15: 0 | P15: =N15+O15 -> 0 | Q15: 0 | R15: 0 | S15: =Q15+R15 -> 0 | T15: 0 | U15: 0 | V15: =T15+U15 -> 0
A16: 0.11458333 | B16: 0 | C16: 0 | D16: =B16+C16 -> 0 | E16: 0 | F16: 0 | G16: =E16+F16 -> 0 | H16: 0 | I16: 0 | J16: =H16+I16 -> 0 | K16: 0 | L16: 0 | M16: =K16+L16 -> 0 | N16: 0 | O16: 0 | P16: =N16+O16 -> 0 | Q16: 0 | R16: 0 | S16: =Q16+R16 -> 0 | T16: 0 | U16: 0 | V16: =T16+U16 -> 0
... A100: 0.98958333 | B100: 0 | C100: 0 | D100: =B100+C100 -> 0 | E100: 0 | F100: 0 | G100: =E100+F100 -> 0 | H100: 0 | I100: 0 | J100: =H100+I100 -> 0 | K100: 0 | L100: 0 | M100: =K100+L100 -> 0 | N100: 1 | O100: 1 | P100: =N100+O100 -> 2 | Q100: 0 | R100: 0 | S100: =Q100+R100 -> 0 | T100: 0 | U100: 0 | V100: =T100+U100 -> 0
