Workbook
Name OLE_LINK1: 'RI 3 academ School Grade Level'!$B$6

Sheet Home
C2: Summary | G2: District All Languages | K2: All Schools Most Freq Langs | O2: Graphs
C4: ELL Enrollment | G4: Foreign Born | K4: Recent Immigrant 2020-21 SY | O4: Recent Immigrants
C6: % of Enrollment by School | G6: % of Enrollment by School | K6: % of Enrollment by School | O6: % of Enrollment by School
C8: by School and Grade Level | G8: by School and Grade Level | K8: by School and Grade Level | O8: by School and Grade Level
C10: by School and Students' Most Frequently Spoken Languages | G10: by School and Students' Most Frequently Spoken Languages | K10: by School and Students' Most Frequently Spoken Languages | O10: by School and Students' Most Frequently Spoken Languages
C12: by Students' Country of Birth | G12: by Students' Country of Birth | K12: by Students' Country of Birth | O12: by Students' Country of Birth
C14: by Students' Primary Language | G14: by Students' Primary Language | K14: by Students' Primary Language | O14: by Students' Primary Language
C16: by School and SWD Status | K16: by Month Entered US School (based on DEUSS) | O16: by School Year Entered US School (based on DEUSS)
C18: by School and Long-Term in ESOL Program
C20: by School and Learning Location

Sheet Summary
Q2: Home
E8: Total Enrollment (PK-12) | J8: Number of Students
E9: District | J9: ='All Languages'!P155 -> 259450 | K9: =J9/$J$9 -> 1
E10: ESOL
E11: LY (Active ELL - Grades KG -12) | J11: ='ELL Enroll '!C336 -> 27968 | K11: =J11/$J$9 -> 0.10779726
E12: LY-T (PreK) | J12: ='ELL Enroll '!D336 -> 1436 | K12: =J12/$J$9 -> 0.0055347851
E13: LP (Pending Testing) | J13: 240 | K13: 0.0002
E14: LF (Former ELL- Years 1 and 2) | J14: 10866 | K14: =J14/$J$9 -> 0.041880902
E15: LA (Former ELL - Years 3 and 4) | J15: 11905 | K15: =J15/$J$9 -> 0.045885527
E16: Total (LY + LY-T + LP + LF) | J16: =SUM(J11:J14) -> 40510 | K16: =J16/$J$9 -> 0.15613798
E17: Foreign Born | J17: ='Foreign Born Enrollment'!C336 -> 37656 | K17: =J17/$J$9 -> 0.14513779
E18: Recent Immigrants (KG-12)
E19: Entered U.S. school in the 2020-21SY | J19: ='RI Current Year Enrollment'!C337 -> 2046 | K19: =J19/$J$9 -> 0.0078859125
E20: Enrolled for less than three academic years | J20: ='RI 3 academ Enrollment'!C337 -> 14712 | K20: =J20/$J$9 -> 0.056704567
E21: Hispanic | J21: 93516 | K21: =J21/$J$9 -> 0.36043939
E23: District | J23: N
E24: Number of languages represented | J24: ='All Languages'!A3 -> 149
E25: Number of countries represented | J25: ='Foreign Born Country'!A3 -> 170
A31: English Language Learners (ELL) (Grades KG–12)
A33: Number of Active (LY) and Former (LF) ELL Students Enrolled in Broward District
A35: LP (Pending Testing) | D35: LY- T (Active ELLs - PreK) | G35: LY (Active ELL - Grades KG -12) | K35: LF (Former ELL) | N35: Total
A36: =J13 -> 240 | D36: =J12 -> 1436 | G36: =J11 -> 27968 | K36: =J14 -> 10866 | N36: =SUM(A36:M36) -> 40510
A38: Number of Active (LY) ELL Students Enrolled in Broward District
A40: Grade Level
A42: KG | B42: 01 | C42: 02 | D42: 03 | E42: 04 | F42: 05 | G42: 06 | H42: 07 | I42: 08 | J42: 09 | K42: 10 | L42: 11 | M42: 12 | N42: Total
A43: ='ELL Enroll School Grade Level'!C318 -> 3426 | B43: ='ELL Enroll School Grade Level'!D318 -> 3463 | C43: ='ELL Enroll School Grade Level'!E318 -> 3698 | D43: ='ELL Enroll School Grade Level'!F318 -> 2971 | E43: ='ELL Enroll School Grade Level'!G318 -> 2925 | F43: ='ELL Enroll School Grade Level'!H318 -> 2252 | G43: ='ELL Enroll School Grade Level'!I318 -> 1537 | H43: ='ELL Enroll School Grade Level'!J318 -> 1298 | ... M43: ='ELL Enroll School Grade Level'!O318 -> 1143 | N43: =SUM(A43:M43) -> 27968
A44: =A43/$N$43 -> 0.12249714 | B44: =B43/$N$43 -> 0.12382008 | C44: =C43/$N$43 -> 0.13222254 | D44: =D43/$N$43 -> 0.10622855 | E44: =E43/$N$43 -> 0.10458381 | F44: =F43/$N$43 -> 0.080520595 | G44: =G43/$N$43 -> 0.054955664 | H44: =H43/$N$43 -> 0.046410183 | ... M44: =M43/$N$43 -> 0.040868135 | N44: =SUM(A44:M44) -> 1
A46: Language Classification | L46: SWD Status
A48: 1/A1 | B48: 2/A2 | C48: 3/B1 | D48: 4/B2 | E48: 5/C1 | F48: 6/C2 | G48: T | H48: U | I48: Other | J48: Total | L48: Non-SWD | N48: =SUM(N49:N50) -> 24915 | O48: =N48/$N$64 -> 0.89083953
A49: ='Three Year Trend'!B191 -> 6732 | B49: ='Three Year Trend'!B192 -> 5094 | C49: ='Three Year Trend'!B193 -> 10482 | D49: ='Three Year Trend'!B194 -> 4789 | E49: ='Three Year Trend'!B195 -> 500 | F49: ='Three Year Trend'!B196 -> 49 | G49: ='Three Year Trend'!B197 -> 0 | H49: ='Three Year Trend'!B198 -> 32 | I49: ='Three Year Trend'!B202 -> 290 | J49: =SUM(A49:I49) -> 27968 | L49: Gifted | N49: ='ELL by ESE Status'!$R$318 -> 35 | O49: =N49/$N$64 -> 0.0012514302
A50: =A49/$J$49 -> 0.24070366 | B50: =B49/$J$49 -> 0.18213673 | C50: =C49/$J$49 -> 0.37478547 | D50: =D49/$J$49 -> 0.17123141 | E50: =E49/$J$49 -> 0.017877574 | F50: =F49/$J$49 -> 0.0017520023 | G50: =G49/$J$49 -> 0 | H50: =H49/$J$49 -> 0.0011441648 | I50: =I49/$J$49 -> 0.010368993 | J50: =SUM(A50:I50) -> 1 | L50: Non-Gifted | N50: ='ELL by ESE Status'!S318 -> 24880 | O50: =N50/$N$64 -> 0.8895881
L51: SWD | N51: =SUM(N52:N62) -> 3053 | O51: =N51/$N$64 -> 0.10916047
B52: Top Twenty Countries of Origin | G52: Top Twenty Spoken Languages | L52: Autism Spectrum Dis. | N52: ='ELL by ESE Status'!C318 -> 404 | O52: =N52/$N$64 -> 0.01444508
A53: 1st | B53: =PROPER('Three Year Trend'!$B77) -> Venezuela | D53: ='Three Year Trend'!$C77 -> 2835 | E53: =D53/$D$76 -> 0.10136585 | F53: 1st | G53: =PROPER('Three Year Trend'!$H77) -> Spanish | I53: ='Three Year Trend'!$I77 -> 18256 | J53: =I53/$I$75 -> 0.652746 | L53: Deaf/Hard of Hearing | N53: ='ELL by ESE Status'!D318 -> 19 | O53: =N53/$N$64 -> 0.00067934783
A54: 2nd | B54: =PROPER('Three Year Trend'!$B78) -> Haiti | D54: ='Three Year Trend'!$C78 -> 2466 | E54: =D54/$D$76 -> 0.088172197 | F54: 2nd | G54: =PROPER('Three Year Trend'!$H78) -> Haitian-Creole | I54: ='Three Year Trend'!$I78 -> 5555 | J54: =I54/$I$75 -> 0.19861985 | L54: Develop. Delayed | N54: ='ELL by ESE Status'!E318 -> 218 | O54: =N54/$N$64 -> 0.0077946224
A55: 3rd | B55: =PROPER('Three Year Trend'!$B79) -> Honduras | D55: ='Three Year Trend'!$C79 -> 1206 | E55: =D55/$D$76 -> 0.043120709 | F55: 3rd | G55: =PROPER('Three Year Trend'!$H79) -> Portuguese | I55: ='Three Year Trend'!$I79 -> 1475 | J55: =I55/$I$75 -> 0.052738844 | L55: Emotional/Behav. Dis. | N55: ='ELL by ESE Status'!F318 -> 20 | O55: =N55/$N$64 -> 0.00071510297
A56: 4th | B56: =PROPER('Three Year Trend'!$B80) -> Colombia | D56: ='Three Year Trend'!$C80 -> 1200 | E56: =D56/$D$76 -> 0.042906178 | F56: 4th | G56: =PROPER('Three Year Trend'!$H80) -> Russian | I56: ='Three Year Trend'!$I80 -> 389 | J56: =I56/$I$75 -> 0.013908753 | L56: Intellectual Disability | N56: ='ELL by ESE Status'!H318 -> 96 | O56: =N56/$N$64 -> 0.0034324943
A57: 5th | B57: =PROPER('Three Year Trend'!$B81) -> Brazil | D57: ='Three Year Trend'!$C81 -> 1154 | E57: =D57/$D$76 -> 0.041261442 | F57: 5th | G57: =PROPER('Three Year Trend'!$H81) -> Vietnamese | I57: ='Three Year Trend'!$I81 -> 364 | J57: =I57/$I$75 -> 0.013014874 | L57: Language Impaired | N57: ='ELL by ESE Status'!I318 -> 452 | O57: =N57/$N$64 -> 0.016161327
A58: 6th | B58: =PROPER('Three Year Trend'!$B82) -> Guatemala | D58: ='Three Year Trend'!$C82 -> 819 | E58: =D58/$D$76 -> 0.029283467 | F58: 6th | G58: =PROPER('Three Year Trend'!$H82) -> Chinese | I58: ='Three Year Trend'!$I82 -> 218 | J58: =I58/$I$75 -> 0.0077946224 | L58: Orthopedically Imp. | N58: ='ELL by ESE Status'!J318 -> 19 | O58: =N58/$N$64 -> 0.00067934783
A59: 7th | B59: =PROPER('Three Year Trend'!$B83) -> Dominican Republic | D59: ='Three Year Trend'!$C83 -> 690 | E59: =D59/$D$76 -> 0.024671053 | F59: 7th | G59: =PROPER('Three Year Trend'!$H83) -> Creole | I59: ='Three Year Trend'!$I83 -> 205 | J59: =I59/$I$75 -> 0.0073298055 | L59: Other Health Impaired | N59: ='ELL by ESE Status'!K318 -> 251 | O59: =N59/$N$64 -> 0.0089745423
A60: 8th | B60: =PROPER('Three Year Trend'!$B84) -> El Salvador | D60: ='Three Year Trend'!$C84 -> 533 | E60: =D60/$D$76 -> 0.019057494 | F60: 8th | G60: =PROPER('Three Year Trend'!$H84) -> Arabic | I60: ='Three Year Trend'!$I84 -> 200 | J60: =I60/$I$75 -> 0.0071510297 | L60: Specific Learning Dis. | N60: ='ELL by ESE Status'!L318 -> 1034 | O60: =N60/$N$64 -> 0.036970824
A61: 9th | B61: =PROPER('Three Year Trend'!$B85) -> Puerto Rico | D61: ='Three Year Trend'!$C85 -> 483 | E61: =D61/$D$76 -> 0.017269737 | F61: 9th | G61: =PROPER('Three Year Trend'!$H85) -> Hebrew | I61: ='Three Year Trend'!$I85 -> 192 | J61: =I61/$I$75 -> 0.0068649886 | L61: Speech Impaired | N61: ='ELL by ESE Status'!M318 -> 526 | O61: =N61/$N$64 -> 0.018807208
A62: 10th | B62: =PROPER('Three Year Trend'!$B86) -> Cuba | D62: ='Three Year Trend'!$C86 -> 393 | E62: =D62/$D$76 -> 0.014051773 | F62: 10th | G62: =PROPER('Three Year Trend'!$H86) -> French | I62: ='Three Year Trend'!$I86 -> 151 | J62: =I62/$I$75 -> 0.0053990275 | L62: Other | N62: ='ELL by ESE Status'!P318-SUM(N52:N61) -> 14 | O62: =N62/$N$64 -> 0.00050057208
A63: 11th | B63: =PROPER('Three Year Trend'!$B87) -> Mexico | D63: ='Three Year Trend'!$C87 -> 306 | E63: =D63/$D$76 -> 0.010941076 | F63: 11th | G63: =PROPER('Three Year Trend'!$H87) -> Bengali | I63: ='Three Year Trend'!$I87 -> 121 | J63: =I63/$I$75 -> 0.004326373
A64: 12th | B64: =PROPER('Three Year Trend'!$B88) -> Ecuador | D64: ='Three Year Trend'!$C88 -> 236 | E64: =D64/$D$76 -> 0.0084382151 | F64: 12th | G64: =PROPER('Three Year Trend'!$H88) -> Urdu | I64: ='Three Year Trend'!$I88 -> 109 | J64: =I64/$I$75 -> 0.0038973112 | L64: Total | N64: =N48+N51 -> 27968 | O64: =N64/$N$64 -> 1
A65: 13th | B65: =PROPER('Three Year Trend'!$B89) -> Peru | D65: ='Three Year Trend'!$C89 -> 228 | E65: =D65/$D$76 -> 0.0081521739 | F65: 13th | G65: =PROPER('Three Year Trend'!$H89) -> Jamaican-Creole | I65: ='Three Year Trend'!$I89 -> 56 | J65: =I65/$I$75 -> 0.0020022883
A66: 14th | B66: =PROPER('Three Year Trend'!$B90) -> Argentina | D66: ='Three Year Trend'!$C90 -> 217 | E66: =D66/$D$76 -> 0.0077588673 | F66: 14th | G66: =PROPER('Three Year Trend'!$H90) -> Malayam | I66: ='Three Year Trend'!$I90 -> 39 | J66: =I66/$I$75 -> 0.0013944508 | L66: Race/Ethnicity
A67: 15th | B67: =PROPER('Three Year Trend'!$B91) -> Vietnam | D67: ='Three Year Trend'!$C91 -> 189 | E67: =D67/$D$76 -> 0.0067577231 | F67: 15th | G67: =PROPER('Three Year Trend'!$H91) -> Hindi | I67: ='Three Year Trend'!$I91 -> 37 | J67: =I67/$I$75 -> 0.0013229405 | L67: American Indian | N67: ='Three Year Trend'!C181 -> 28 | O67: =N67/$N$75 -> 0.0010011442
A68: 16th | B68: =PROPER('Three Year Trend'!$B92) -> Nicaragua | D68: ='Three Year Trend'!$C92 -> 133 | E68: =D68/$D$76 -> 0.0047554348 | F68: 16th | G68: =PROPER('Three Year Trend'!$H92) -> Romanian | I68: ='Three Year Trend'!$I92 -> 36 | J68: =I68/$I$75 -> 0.0012871854 | L68: Asian | N68: ='Three Year Trend'!C182 -> 1110 | O68: =N68/$N$75 -> 0.039688215
A69: 17th | B69: =PROPER('Three Year Trend'!$B93) -> Russia | D69: ='Three Year Trend'!$C93 -> 133 | E69: =D69/$D$76 -> 0.0047554348 | F69: 17th | G69: =PROPER('Three Year Trend'!$H93) -> Tagalog | I69: ='Three Year Trend'!$I93 -> 35 | J69: =I69/$I$75 -> 0.0012514302 | L69: Black | N69: ='Three Year Trend'!C183 -> 6147 | O69: =N69/$N$75 -> 0.2197869
A70: 18th | B70: =PROPER('Three Year Trend'!$B94) -> Chile | D70: ='Three Year Trend'!$C94 -> 125 | E70: =D70/$D$76 -> 0.0044693936 | F70: 18th | G70: =PROPER('Three Year Trend'!$H94) -> Korean | I70: ='Three Year Trend'!$I94 -> 34 | J70: =I70/$I$75 -> 0.0012156751 | L70: Hispanic | N70: ='Three Year Trend'!C184 -> 18266 | O70: =N70/$N$75 -> 0.65310355
A71: 19th | B71: =PROPER('Three Year Trend'!$B95) -> Spain | D71: ='Three Year Trend'!$C95 -> 113 | E71: =D71/$D$76 -> 0.0040403318 | F71: 19th | G71: =PROPER('Three Year Trend'!$H95) -> Italian | I71: ='Three Year Trend'!$I95 -> 33 | J71: =I71/$I$75 -> 0.0011799199 | L71: Pacific Island | N71: ='Three Year Trend'!C185 -> 11 | O71: =N71/$N$75 -> 0.00039330664
A72: 20th | B72: =PROPER('Three Year Trend'!$B96) -> Bahamas | D72: ='Three Year Trend'!$C96 -> 87 | E72: =D72/$D$76 -> 0.0031106979 | F72: 20th | G72: =PROPER('Three Year Trend'!$H96) -> Turkish | I72: ='Three Year Trend'!$I96 -> 32 | J72: =I72/$I$75 -> 0.0011441648 | L72: White | N72: ='Three Year Trend'!C186 -> 2260 | O72: =N72/$N$75 -> 0.080806636
B73: United States | D73: ='Three Year Trend'!$C$76 -> 13275 | E73: =D73/$D$76 -> 0.4746496 | G73: Other Languages | I73: =I75-(SUM(I53:I72)) -> 431 | J73: =I73/$I$75 -> 0.015410469 | L73: Multi-Racial | N73: ='Three Year Trend'!C187 -> 146 | O73: =N73/$N$75 -> 0.0052202517
B74: Other Countries | D74: =D76-(SUM(D53:D73)) -> 1147 | E74: =D74/$D$76 -> 0.041011156
G75: Total | I75: =J11 -> 27968 | J75: =I75/$I$75 -> 1 | L75: Total | N75: =SUM(N67:N74) -> 27968 | O75: =N75/$N$75 -> 1
B76: Total | D76: =J11 -> 27968 | E76: =D76/$D$76 -> 1
A79: English Language Learners (ELL) (Grades KG–12)
A81: Time in ESOL Program
A83: First Year | C83: Up to 2 Years | E83: Up to 3 Years | G83: Up to 4 Years | I83: Up to 5 Years | K83: Up to 6 Years | M83: 6 Years or More | O83: Total
A84: ='ELL Long-Term'!C318 -> 5073 | C84: ='ELL Long-Term'!D318 -> 6736 | E84: ='ELL Long-Term'!E318 -> 5602 | G84: ='ELL Long-Term'!F318 -> 3844 | I84: ='ELL Long-Term'!G318 -> 3214 | K84: ='ELL Long-Term'!H318 -> 1797 | M84: ='ELL Long-Term'!I318 -> 1702 | O84: =SUM(A84:N84) -> 27968
A85: =A84/$O$84 -> 0.18138587 | C85: =C84/$O$84 -> 0.24084668 | E85: =E84/$O$84 -> 0.20030034 | G85: =G84/$O$84 -> 0.13744279 | I85: =I84/$O$84 -> 0.11491705 | K85: =K84/$O$84 -> 0.064252002 | M85: =M84/$O$84 -> 0.060855263 | O85: =SUM(A85:N85) -> 1
A87: Free/Reduced Lunch | G87: School Type
A88: FRL | C88: NON-FRL | E88: Total | G88: Public | I88: Charter | K88: Center | M88: Agency | O88: Total
A89: ='Three Year Trend'!$C$223 -> 16855 | C89: ='Three Year Trend'!$D$223 -> 11113 | E89: =SUM(A89:D89) -> 27968 | G89: ='ELL Enroll School Grade Level'!P331 -> 22668 | I89: ='ELL Enroll School Grade Level'!P326 -> 5034 | K89: ='ELL Enroll School Grade Level'!P327 -> 265 | M89: ='ELL Enroll School Grade Level'!P328 -> 1 | O89: =SUM(G89:N89) -> 27968
A90: =A89/$E$89 -> 0.60265303 | C90: =C89/$E$89 -> 0.39734697 | E90: =SUM(A90:D90) -> 1 | G90: =G89/$O$89 -> 0.81049771 | I90: =I89/$O$89 -> 0.17999142 | K90: =K89/$O$89 -> 0.0094751144 | M90: =M89/$O$89 -> 3.5755149e-05 | O90: =SUM(G90:N90) -> 1
A92: Gender | G92: Learning Location
A93: Female | C93: Male | E93: TOTAL | G93: School | I93: Remote | K93: TOTAL
A94: ='Three Year Trend'!$C$209 -> 12756 | C94: ='Three Year Trend'!$D$209 -> 15212 | E94: =SUM(A94:D94) -> 27968 | G94: ='ELL Social Distance'!D318 -> 10090 | I94: =K94-G94 -> 17878 | K94: ='ELL Social Distance'!E318 -> 27968
A95: =A94/$E$94 -> 0.45609268 | C95: =C94/$E$94 -> 0.54390732 | E95: =SUM(A95:D95) -> 1 | G95: =G94/$K$94 -> 0.36076945 | I95: =I94/$K$94 -> 0.63923055 | K95: =SUM(G95:J95) -> 1
A97: 504 Plans
A98: Yes | C98: No | E98: TOTAL
A99: ='Three Year Trend'!$D$216 -> 261 | C99: ='Three Year Trend'!$C$216 -> 27707 | E99: =SUM(A99:D99) -> 27968
A100: =A99/$E$99 -> 0.0093320938 | C100: =C99/$E$99 -> 0.99066791 | E100: =SUM(A100:D100) -> 1
A113: Foreign-Born Students (Grades PK–12)
A115: Number of Foreign-Born Students Enrolled in Broward District
A117: Grade Level
A119: PK | B119: KG | C119: 01 | D119: 02 | E119: 03 | F119: 04 | G119: 05 | H119: 06 | I119: 07 | J119: 08 | K119: 09 | L119: 10 | M119: 11 | N119: 12 | O119: Total
A120: ='Foreign Born School Grade Level'!C331 -> 148 | B120: ='Foreign Born School Grade Level'!D331 -> 1124 | C120: ='Foreign Born School Grade Level'!E331 -> 1850 | D120: ='Foreign Born School Grade Level'!F331 -> 2207 | E120: ='Foreign Born School Grade Level'!G331 -> 2469 | F120: ='Foreign Born School Grade Level'!H331 -> 2648 | G120: ='Foreign Born School Grade Level'!I331 -> 2797 | H120: ='Foreign Born School Grade Level'!J331 -> 2884 | ... N120: ='Foreign Born School Grade Level'!P331 -> 4298 | O120: =SUM(A120:N120) -> 37656
A121: =A120/$O$120 -> 0.0039303165 | B121: =B120/$O$120 -> 0.029849161 | C121: =C120/$O$120 -> 0.049128957 | D121: =D120/$O$120 -> 0.058609518 | E121: =E120/$O$120 -> 0.06556724 | F121: =F120/$O$120 -> 0.070320799 | G121: =G120/$O$120 -> 0.074277672 | H121: =H120/$O$120 -> 0.07658806 | ... N121: =N120/$O$120 -> 0.11413852 | O121: =SUM(A121:N121) -> 1
A123: Top Twenty Countries of Origin
A125: 1st | B125: =PROPER('Three Year Trend'!$B$103) -> Venezuela | D125: ='Three Year Trend'!$C$103 -> 6059 | E125: =D125/$N$131 -> 0.16090397 | F125: 9th | G125: =PROPER('Three Year Trend'!$B$111) -> Cuba | I125: ='Three Year Trend'!$C$111 -> 1040 | J125: =I125/$N$131 -> 0.027618441 | K125: 17th | L125: =PROPER('Three Year Trend'!$B$119) -> Ecuador | N125: ='Three Year Trend'!$C$119 -> 494 | O125: =N125/$N$131 -> 0.013118759
A126: 2nd | B126: =PROPER('Three Year Trend'!$B$104) -> Haiti | D126: ='Three Year Trend'!$C$104 -> 5114 | E126: =D126/$N$131 -> 0.13580837 | F126: 10th | G126: =PROPER('Three Year Trend'!$B$112) -> Guatemala | I126: ='Three Year Trend'!$C$112 -> 1034 | J126: =I126/$N$131 -> 0.027459103 | K126: 18th | L126: =PROPER('Three Year Trend'!$B$120) -> Canada | N126: ='Three Year Trend'!$C$120 -> 456 | O126: =N126/$N$131 -> 0.012109624
A127: 3rd | B127: =PROPER('Three Year Trend'!$B$105) -> Jamaica | D127: ='Three Year Trend'!$C$105 -> 3422 | E127: =D127/$N$131 -> 0.090875292 | F127: 11th | G127: =PROPER('Three Year Trend'!$B$113) -> Mexico | I127: ='Three Year Trend'!$C$113 -> 821 | J127: =I127/$N$131 -> 0.021802634 | K127: 19th | L127: =PROPER('Three Year Trend'!$B$121) -> Vietnam | N127: ='Three Year Trend'!$C$121 -> 396 | O127: =N127/$N$131 -> 0.010516252
A128: 4th | B128: =PROPER('Three Year Trend'!$B$106) -> Colombia | D128: ='Three Year Trend'!$C$106 -> 2628 | E128: =D128/$N$131 -> 0.069789675 | F128: 12th | G128: =PROPER('Three Year Trend'!$B$114) -> El Salvador | I128: ='Three Year Trend'!$C$114 -> 760 | J128: =I128/$N$131 -> 0.020182707 | K128: 20th | L128: =PROPER('Three Year Trend'!$B$122) -> Russia | N128: ='Three Year Trend'!$C$122 -> 390 | O128: =N128/$N$131 -> 0.010356915
A129: 5th | B129: =PROPER('Three Year Trend'!$B$107) -> Brazil | D129: ='Three Year Trend'!$C$107 -> 2264 | E129: =D129/$N$131 -> 0.060123221 | F129: 13th | G129: =PROPER('Three Year Trend'!$B$115) -> Bahamas | I129: ='Three Year Trend'!$C$115 -> 750 | J129: =I129/$N$131 -> 0.019917145
A130: 6th | B130: =PROPER('Three Year Trend'!$B$108) -> Honduras | D130: ='Three Year Trend'!$C$108 -> 1739 | E130: =D130/$N$131 -> 0.046181219 | F130: 14th | G130: =PROPER('Three Year Trend'!$B$116) -> Peru | I130: ='Three Year Trend'!$C$116 -> 593 | J130: =I130/$N$131 -> 0.015747822 | L130: Other Countries | N130: =N131-(SUM(D125:D132)+SUM(I125:I132)+SUM(N125:N128)) -> 5528 | O130: =N130/$N$131 -> 0.14680263
A131: 7th | B131: =PROPER('Three Year Trend'!$B$109) -> Puerto Rico | D131: ='Three Year Trend'!$C$109 -> 1691 | E131: =D131/$N$131 -> 0.044906522 | F131: 15th | G131: =PROPER('Three Year Trend'!$B$117) -> India | I131: ='Three Year Trend'!$C$117 -> 561 | J131: =I131/$N$131 -> 0.014898024 | L131: Total | N131: =J17 -> 37656 | O131: =N131/$N$131 -> 1
A132: 8th | B132: =PROPER('Three Year Trend'!$B$110) -> Dominican Republic | D132: ='Three Year Trend'!$C$110 -> 1357 | E132: =D132/$N$131 -> 0.036036754 | F132: 16th | G132: =PROPER('Three Year Trend'!$B$118) -> Argentina | I132: ='Three Year Trend'!$C$118 -> 559 | J132: =I132/$N$131 -> 0.014844912
A134: Top Twenty Most Frequently Spoken Languages
A136: 1st | B136: =PROPER('Three Year Trend'!$H$103) -> Spanish | D136: ='Three Year Trend'!$I$103 -> 18221 | E136: =D136/$N$142 -> 0.48388039 | F136: 9th | G136: =PROPER('Three Year Trend'!$H$111) -> Arabic | I136: ='Three Year Trend'!$I$111 -> 203 | J136: =I136/$N$142 -> 0.0053909072 | K136: 17th | L136: =PROPER('Three Year Trend'!$H$119) -> Italian | N136: ='Three Year Trend'!$I$119 -> 91 | O136: =N136/$N$142 -> 0.0024166136
A137: 2nd | B137: =PROPER('Three Year Trend'!$H$104) -> English | D137: ='Three Year Trend'!$I$104 -> 9267 | E137: =D137/$N$142 -> 0.24609624 | F137: 10th | G137: =PROPER('Three Year Trend'!$H$112) -> Hebrew | I137: ='Three Year Trend'!$I$112 -> 165 | J137: =I137/$N$142 -> 0.0043817718 | K137: 18th | L137: =PROPER('Three Year Trend'!$H$120) -> Telugu | N137: ='Three Year Trend'!$I$120 -> 80 | O137: =N137/$N$142 -> 0.0021244954
A138: 3rd | B138: =PROPER('Three Year Trend'!$H$105) -> Haitian-Creole | D138: ='Three Year Trend'!$I$105 -> 4754 | E138: =D138/$N$142 -> 0.12624814 | F138: 11th | G138: =PROPER('Three Year Trend'!$H$113) -> Urdu | I138: ='Three Year Trend'!$I$113 -> 152 | J138: =I138/$N$142 -> 0.0040365413 | K138: 19th | L138: =PROPER('Three Year Trend'!$H$121) -> Romanian | N138: ='Three Year Trend'!$I$121 -> 57 | O138: =N138/$N$142 -> 0.001513703
A139: 4th | B139: =PROPER('Three Year Trend'!$H$106) -> Portuguese | D139: ='Three Year Trend'!$I$106 -> 2049 | E139: =D139/$N$142 -> 0.054413639 | F139: 12th | G139: =PROPER('Three Year Trend'!$H$114) -> Bengali | I139: ='Three Year Trend'!$I$114 -> 144 | J139: =I139/$N$142 -> 0.0038240918 | K139: 20th | L139: =PROPER('Three Year Trend'!$H$122) -> Tamil | N139: ='Three Year Trend'!$I$122 -> 53 | O139: =N139/$N$142 -> 0.0014074782
A140: 5th | B140: =PROPER('Three Year Trend'!$H$107) -> Russian | D140: ='Three Year Trend'!$I$107 -> 495 | E140: =D140/$N$142 -> 0.013145315 | F140: 13th | G140: =PROPER('Three Year Trend'!$H$115) -> Hindi | I140: ='Three Year Trend'!$I$115 -> 101 | J140: =I140/$N$142 -> 0.0026821755
A141: 6th | B141: =PROPER('Three Year Trend'!$H$108) -> Vietnamese | D141: ='Three Year Trend'!$I$108 -> 346 | E141: =D141/$N$142 -> 0.0091884427 | F141: 14th | G141: =PROPER('Three Year Trend'!$H$116) -> Jamaican-Creole | I141: ='Three Year Trend'!$I$116 -> 99 | J141: =I141/$N$142 -> 0.0026290631 | L141: Other Languages | N141: =N142-(SUM(D136:D143)+SUM(I136:I143)+SUM(N136:N139)) -> 740 | O141: =N141/$N$142 -> 0.019651583
A142: 7th | B142: =PROPER('Three Year Trend'!$H$109) -> Chinese | D142: ='Three Year Trend'!$I$109 -> 228 | E142: =D142/$N$142 -> 0.006054812 | F142: 15th | G142: =PROPER('Three Year Trend'!$H$117) -> Malayam | I142: ='Three Year Trend'!$I$117 -> 94 | J142: =I142/$N$142 -> 0.0024962821 | L142: Total | N142: =J17 -> 37656 | O142: =N142/$N$142 -> 1
A143: 8th | B143: =PROPER('Three Year Trend'!$H$110) -> French | D143: ='Three Year Trend'!$I$110 -> 223 | E143: =D143/$N$142 -> 0.005922031 | F143: 16th | G143: =PROPER('Three Year Trend'!$H$118) -> Tagalog | I143: ='Three Year Trend'!$I$118 -> 94 | J143: =I143/$N$142 -> 0.0024962821
A146: Active Recent Immigrant (Grades K-12; 2020-21 School Year)
A148: Number of 2020-21 Recent Immigrant Students Enrolled in Broward District
...

Sheet Graphs
P2: Home
A73: * Data clean-up conducted. ** Only students in Grades KG-12. In previous school years, PK students were being included in the count of ELLs.

Sheet Three Year Trend
B3: Active (LY) ELL Students Enrolled in Broward District
B4: Sep | C4: Oct | D4: Nov | E4: Dec | F4: Jan | G4: Feb | H4: Mar | I4: Apr | J4: May
A5: 2018-19 SY | B5: 32634 | C5: 32798 | D5: 32919 | E5: 32922 | F5: 33195 | G5: 33480 | H5: 33701 | I5: 33862 | J5: 33690
A6: 2019-20 SY | B6: 30455 | C6: 30218 | D6: 30266 | E6: 30133 | F6: 30303 | G6: 30350 | H6: 30401 | I6: 30291 | J6: 30178
A7: 2020-21 SY | B7: 28801 | C7: 28140 | D7: 27968
B25: Foreign-Born Students Enrolled in Broward District
B26: Sep | C26: Oct | D26: Nov | E26: Dec | F26: Jan | G26: Feb | H26: Mar | I26: Apr | J26: May
A27: 2018-19 SY | B27: 37483 | C27: 37833 | D27: 37967 | E27: 37991 | F27: 38362 | G27: 38556 | H27: 38695 | I27: 38842 | J27: 38737
A28: 2019-20 SY | B28: 38226 | C28: 39119 | D28: 39178 | E28: 39163 | F28: 39450 | G28: 39388 | H28: 39412 | I28: 39279 | J28: 39113
A29: 2020-21 SY | B29: 37780 | C29: 37720 | D29: 37656
B47: Recent-Immigrant Students Enrolled in Broward District
B48: Sep | C48: Oct | D48: Nov | E48: Dec | F48: Jan | G48: Feb | H48: Mar | I48: Apr | J48: May
A49: 2018-19 SY | B49: 14822 | C49: 16846 | D49: 16942 | E49: 16954 | F49: 17727 | G49: 17942 | H49: 18066 | I49: 18233 | J49: 18209
A50: 2019-20 SY | B50: 18246 | C50: 18908 | D50: 19026 | E50: 19051 | F50: 19379 | G50: 19486 | H50: 19552 | I50: 19495 | J50: 19399
A51: 2020-21 SY | B51: 14690 | C51: 14752 | D51: 14712
A74: Top ELL Countries | G74: Top ELL Languages
A76: US | B76: UNITED STATES | C76: 13275
A77: 1 | B77: VENEZUELA | C77: 2835 | G77: 1 | H77: SPANISH | I77: 18256
A78: 2 | B78: HAITI | C78: 2466 | G78: 2 | H78: HAITIAN-CREOLE | I78: 5555
A79: 3 | B79: HONDURAS | C79: 1206 | G79: 3 | H79: PORTUGUESE | I79: 1475
A80: 4 | B80: COLOMBIA | C80: 1200 | G80: 4 | H80: RUSSIAN | I80: 389
A81: 5 | B81: BRAZIL | C81: 1154 | G81: 5 | H81: VIETNAMESE | I81: 364
A82: 6 | B82: GUATEMALA | C82: 819 | G82: 6 | H82: CHINESE | I82: 218
A83: 7 | B83: DOMINICAN REPUBLIC | C83: 690 | G83: 7 | H83: CREOLE | I83: 205
A84: 8 | B84: EL SALVADOR | C84: 533 | G84: 8 | H84: ARABIC | I84: 200
A85: 9 | B85: PUERTO RICO | C85: 483 | G85: 9 | H85: HEBREW | I85: 192
A86: 10 | B86: CUBA | C86: 393 | G86: 10 | H86: FRENCH | I86: 151
A87: 11 | B87: MEXICO | C87: 306 | G87: 11 | H87: BENGALI | I87: 121
A88: 12 | B88: ECUADOR | C88: 236 | G88: 12 | H88: URDU | I88: 109
... A95: 19 | B95: SPAIN | C95: 113 | G95: 19 | H95: ITALIAN | I95: 33
A96: 20 | B96: BAHAMAS | C96: 87 | D96: ='ELL Country'!O138 -> 27968 | G96: 20 | H96: TURKISH | I96: 32 | J96: ='ELL Language'!O110 -> 27968
A97: OTHER | C97: 1147 | D97: =SUM(C76:C96) -> 26821 | E97: =Summary!D74 -> 1147 | F97: =C97-E97 -> 0 | G97: OTHER | I97: 431 | J97: =SUM(I77:I96) -> 27537 | K97: =Summary!I73 -> 431 | L97: =K97-I97 -> 0
A101: Top FB Countries | G101: Top FB Languages
A103: 1 | B103: VENEZUELA | C103: 6059 | G103: 1 | H103: SPANISH | I103: 18221
A104: 2 | B104: HAITI | C104: 5114 | G104: 2 | H104: ENGLISH | I104: 9267
A105: 3 | B105: JAMAICA | C105: 3422 | G105: 3 | H105: HAITIAN-CREOLE | I105: 4754
A106: 4 | B106: COLOMBIA | C106: 2628 | G106: 4 | H106: PORTUGUESE | I106: 2049
A107: 5 | B107: BRAZIL | C107: 2264 | G107: 5 | H107: RUSSIAN | I107: 495
A108: 6 | B108: HONDURAS | C108: 1739 | G108: 6 | H108: VIETNAMESE | I108: 346
A109: 7 | B109: PUERTO RICO | C109: 1691 | G109: 7 | H109: CHINESE | I109: 228
A110: 8 | B110: DOMINICAN REPUBLIC | C110: 1357 | G110: 8 | H110: FRENCH | I110: 223
A111: 9 | B111: CUBA | C111: 1040 | G111: 9 | H111: ARABIC | I111: 203
A112: 10 | B112: GUATEMALA | C112: 1034 | G112: 10 | H112: HEBREW | I112: 165
A113: 11 | B113: MEXICO | C113: 821 | G113: 11 | H113: URDU | I113: 152
A114: 12 | B114: EL SALVADOR | C114: 760 | G114: 12 | H114: BENGALI | I114: 144
... A121: 19 | B121: VIETNAM | C121: 396 | G121: 19 | H121: ROMANIAN | I121: 57
A122: 20 | B122: RUSSIA | C122: 390 | D122: ='Foreign Born Country'!P176 -> 37656 | G122: 20 | H122: TAMIL | I122: 53 | J122: ='Foreign Born Language'!P117 -> 37656
A123: OTHER | C123: 5528 | D123: =SUM(C103:C122) -> 32128 | E123: =Summary!N130 -> 5528 | F123: =E123-C123 -> 0 | G123: OTHER | I123: 740 | J123: =SUM(I103:I122) -> 36916 | K123: =Summary!N141 -> 740 | L123: =I123-K123 -> 0
A127: Top RI Countries | G127: Top RI Languages
A129: 1 | B129: VENEZUELA | C129: 280 | G129: 1 | H129: SPANISH | I129: 955
A130: 2 | B130: HAITI | C130: 224 | G130: 2 | H130: ENGLISH | I130: 532
A131: 3 | B131: BRAZIL | C131: 180 | G131: 3 | H131: HAITIAN-CREOLE | I131: 215
A132: 4 | B132: JAMAICA | C132: 178 | G132: 4 | H132: PORTUGUESE | I132: 130
A133: 5 | B133: COLOMBIA | C133: 147 | G133: 5 | H133: RUSSIAN | I133: 51
A134: 6 | B134: HONDURAS | C134: 126 | G134: 6 | H134: VIETNAMESE | I134: 20
A135: 7 | B135: DOMINICAN REPUBLIC | C135: 95 | G135: 7 | H135: ARABIC | I135: 16
A136: 8 | B136: MEXICO | C136: 54 | G136: 8 | H136: CHINESE | I136: 13
A137: 9 | B137: GUATEMALA | C137: 47 | G137: 9 | H137: HEBREW | I137: 10
A138: 10 | B138: ECUADOR | C138: 45 | G138: 10 | H138: FRENCH | I138: 9
A139: 11 | B139: ARGENTINA | C139: 40 | G139: 11 | H139: HINDI | I139: 9
A140: 12 | B140: INDIA | C140: 39 | G140: 12 | H140: JAMAICAN-CREOLE | I140: 7
... A147: 19 | B147: PERU | C147: 27 | G147: 19 | H147: POLISH | I147: 5
A148: 20 | B148: VIETNAM | C148: 23 | D148: ='RI Current Year Country'!O103 -> 2046 | G148: 20 | H148: BENGALI | I148: 4 | J148: =D148 -> 2046
A149: OTHER | C149: 340 | D149: =SUM(C129:C148) -> 1706 | E149: =Summary!N169 -> 340 | F149: =C149-E149 -> 0 | G149: OTHER | I149: 33 | J149: =SUM(I129:I148) -> 2013 | K149: =Summary!N180 -> 33 | L149: =I149-K149 -> 0
A153: Top RI3 Countries | G153: Top RI3 Languages
A155: 1 | B155: VENEZUELA | C155: 2589 | G155: 1 | H155: SPANISH | I155: 7607
A156: 2 | B156: HAITI | C156: 1696 | G156: 2 | H156: ENGLISH | I156: 3002
A157: 3 | B157: JAMAICA | C157: 1294 | G157: 3 | H157: HAITIAN-CREOLE | I157: 1612
A158: 4 | B158: BRAZIL | C158: 1228 | G158: 4 | H158: PORTUGUESE | I158: 1122
A159: 5 | B159: COLOMBIA | C159: 1103 | G159: 5 | H159: RUSSIAN | I159: 252
A160: 6 | B160: HONDURAS | C160: 948 | G160: 6 | H160: VIETNAMESE | I160: 165
A161: 7 | B161: GUATEMALA | C161: 653 | G161: 7 | H161: FRENCH | I161: 92
A162: 8 | B162: DOMINICAN REPUBLIC | C162: 559 | G162: 8 | H162: CHINESE | I162: 81
A163: 9 | B163: EL SALVADOR | C163: 387 | G163: 9 | H163: ARABIC | I163: 80
A164: 10 | B164: BAHAMAS | C164: 304 | G164: 10 | H164: HEBREW | I164: 70
A165: 11 | B165: MEXICO | C165: 279 | G165: 11 | H165: BENGALI | I165: 50
A166: 12 | B166: CUBA | C166: 264 | G166: 12 | H166: HINDI | I166: 44
... A173: 19 | B173: CANADA | C173: 127 | G173: 19 | H173: KOREAN | I173: 22
A174: 20 | B174: CHILE | C174: 127 | D174: ='RI 3 academ years country'!O154 -> 14712 | G174: 20 | H174: MALAYAM | I174: 21 | J174: =D174 -> 14712
A175: OTHER | C175: 1955 | D175: =SUM(C155:C174) -> 12757 | E175: =Summary!N208 -> 1955 | F175: =C175-E175 -> 0 | G175: OTHER | I175: 312 | J175: =SUM(I155:I174) -> 14400 | K175: =Summary!N219 -> 312 | L175: =I175-K175 -> 0
A180: Race
A181: American Indian | C181: 28 | E181: AMERICAN INDIAN | F181: 28
A182: Asian | C182: 1110 | E182: ASIAN | F182: 1110
A183: Black | C183: 6147 | E183: BLACK | F183: 6147
A184: Hispanic | C184: 18266 | E184: HISPANIC/LATINO | F184: 18266
A185: Pacific Island | C185: 11 | E185: PACIFIC ISLAND | F185: 11
A186: White | C186: 2260 | E186: WHITE | F186: 2260
A187: Multi-Racial | C187: 146 | E187: MULTI-RACIAL | F187: 146
C188: =SUM(C181:C187) -> 27968 | F188: 27968
A190: LC | B190: Frequency
A191: 1 | B191: 6732 | D191: 1 | E191: 6732
A192: 2 | B192: 5094 | D192: 2 | E192: 5094
A193: 3 | B193: 10482 | D193: 3 | E193: 10482
A194: 4 | B194: 4789 | D194: 4 | E194: 4789
A195: 5 | B195: 500 | D195: 5 | E195: 500
A196: 6 | B196: 49 | D196: 6 | E196: 49
A197: T
A198: U | B198: 32 | D198: U | E198: 32
A199: BLANK | B199: 278 | D199: BLANK | E199: 278
A200: OTHER | B200: 12 | D200: OTHER | E200: 12
...

Sheet All Languages
A1: Languages Spoken in the District (Ages 3-21 Years) | P1: November 2020
R2: Home
A3: =COUNTA(A5:A153) -> 149 | B3: Grade Level
A4: =CONCATENATE("Language (N=",A3,")") -> Language (N=149) | B4: PK | C4: KG | D4: 01 | E4: 02 | F4: 03 | G4: 04 | H4: 05 | I4: 06 | J4: 07 | K4: 08 | L4: 09 | M4: 10 | N4: 11 | O4: 12 | P4: Number of Students
A5: (AFAN) OROMO | B5: 0 | C5: 0 | D5: 2 | E5: 0 | F5: 0 | G5: 0 | H5: 1 | I5: 0 | J5: 0 | K5: 0 | L5: 0 | M5: 0 | N5: 0 | O5: 0 | P5: 3
A6: ABKHAZIAN | B6: 0 | C6: 0 | D6: 2 | E6: 1 | F6: 0 | G6: 1 | H6: 0 | I6: 0 | J6: 1 | K6: 0 | L6: 0 | M6: 0 | N6: 1 | O6: 1 | P6: 7
A7: AFAR | B7: 0 | C7: 0 | D7: 1 | E7: 0 | F7: 0 | G7: 0 | H7: 0 | I7: 0 | J7: 0 | K7: 0 | L7: 0 | M7: 0 | N7: 0 | O7: 0 | P7: 1
A8: AFRIKAANS | B8: 0 | C8: 0 | D8: 1 | E8: 3 | F8: 1 | G8: 0 | H8: 0 | I8: 5 | J8: 1 | K8: 2 | L8: 2 | M8: 2 | N8: 0 | O8: 3 | P8: 20
A9: AKATEKO | B9: 0 | C9: 0 | D9: 1 | E9: 0 | F9: 0 | G9: 0 | H9: 0 | I9: 0 | J9: 0 | K9: 0 | L9: 0 | M9: 0 | N9: 0 | O9: 0 | P9: 1
A10: ALBANIAN | B10: 0 | C10: 4 | D10: 4 | E10: 3 | F10: 3 | G10: 4 | H10: 6 | I10: 3 | J10: 3 | K10: 2 | L10: 2 | M10: 2 | N10: 1 | O10: 6 | P10: 43
A11: AMHARIC | B11: 1 | C11: 1 | D11: 3 | E11: 1 | F11: 1 | G11: 0 | H11: 0 | I11: 0 | J11: 2 | K11: 0 | L11: 2 | M11: 1 | N11: 0 | O11: 1 | P11: 13
A12: ARABIC | B12: 28 | C12: 41 | D12: 46 | E12: 43 | F12: 48 | G12: 48 | H12: 55 | I12: 39 | J12: 44 | K12: 50 | L12: 53 | M12: 46 | N12: 66 | O12: 54 | P12: 661
A13: ARIKARA | B13: 0 | C13: 0 | D13: 1 | E13: 1 | F13: 1 | G13: 1 | H13: 0 | I13: 0 | J13: 1 | K13: 0 | L13: 1 | M13: 0 | N13: 1 | O13: 3 | P13: 10
A14: ARMENIAN | B14: 0 | C14: 1 | D14: 0 | E14: 1 | F14: 1 | G14: 0 | H14: 0 | I14: 0 | J14: 0 | K14: 2 | L14: 0 | M14: 1 | N14: 3 | O14: 0 | P14: 9
A15: ASL | B15: 0 | C15: 0 | D15: 5 | E15: 1 | F15: 1 | G15: 2 | H15: 0 | I15: 1 | J15: 0 | K15: 0 | L15: 0 | M15: 0 | N15: 0 | O15: 0 | P15: 10
A16: ASSAMESE | B16: 0 | C16: 0 | D16: 0 | E16: 0 | F16: 0 | G16: 0 | H16: 0 | I16: 0 | J16: 0 | K16: 0 | L16: 2 | M16: 0 | N16: 1 | O16: 0 | P16: 3
... A155: Total | B155: 5832 | C155: 16529 | D155: 18305 | E155: 18638 | F155: 19045 | G155: 19769 | H155: 19535 | I155: 19851 | J155: 20337 | K155: 20486 | L155: 20355 | M155: 20152 | N155: 19649 | O155: 20967 | P155: 259450

Sheet All Schools Most Freq Langs
A1: Languages Spoken in the District (Ages 3-21 Years) | L1: November 2020
N2: Home
C3: Most Frequently Spoken Languages
A4: School Number | B4: School | C4: Arabic | D4: Chinese | E4: English | F4: Haitian-Creole | G4: Portuguese | H4: Russian | I4: Spanish | J4: Vietnamese | K4: Other | L4: Number of Students
A5: 0011 | B5: DEERFIELD BEACH ELEMENTARY | C5: 0 | D5: 2 | E5: 294 | F5: 20 | G5: 64 | H5: 0 | I5: 151 | J5: 1 | K5: 15 | L5: 547
A6: 0021 | B6: POMPANO BEACH MIDDLE | C6: 4 | D6: 1 | E6: 668 | F6: 109 | G6: 9 | H6: 1 | I6: 231 | J6: 2 | K6: 16 | L6: 1041
A7: 0031 | B7: OAKLAND PARK ELEMENTARY | C7: 0 | D7: 0 | E7: 277 | F7: 45 | G7: 0 | H7: 0 | I7: 230 | J7: 0 | K7: 2 | L7: 554
A8: 0041 | B8: NORTH SIDE ELEMENTARY | C8: 0 | D8: 0 | E8: 183 | F8: 128 | G8: 0 | H8: 0 | I8: 20 | J8: 2 | K8: 2 | L8: 335
A9: 0101 | B9: DANIA ELEMENTARY | C9: 2 | D9: 0 | E9: 310 | F9: 15 | G9: 3 | H9: 5 | I9: 61 | J9: 1 | K9: 7 | L9: 404
A10: 0111 | B10: HOLLYWOOD HILLS ELEMENTARY | C10: 3 | D10: 0 | E10: 565 | F10: 2 | G10: 6 | H10: 8 | I10: 132 | J10: 0 | K10: 29 | L10: 745
A11: 0121 | B11: HOLLYWOOD CENTRAL ELEMENTARY | C11: 3 | D11: 0 | E11: 203 | F11: 2 | G11: 5 | H11: 16 | I11: 115 | J11: 1 | K11: 18 | L11: 363
A12: 0131 | B12: GULFSTREAM ACAD OF HALL BEACH | C12: 5 | D12: 4 | E12: 755 | F12: 66 | G12: 4 | H12: 22 | I12: 509 | J12: 1 | K12: 18 | L12: 1384
A13: 0151 | B13: RIVERLAND ELEMENTARY | C13: 0 | D13: 0 | E13: 251 | F13: 62 | G13: 0 | H13: 0 | I13: 216 | J13: 1 | K13: 0 | L13: 530
A14: 0161 | B14: WEST HOLLYWOOD ELEMENTARY | C14: 0 | D14: 1 | E14: 224 | F14: 24 | G14: 2 | H14: 0 | I14: 215 | J14: 0 | K14: 20 | L14: 486
A15: 0171 | B15: SOUTH BROWARD HIGH | C15: 9 | D15: 2 | E15: 1511 | F15: 76 | G15: 15 | H15: 24 | I15: 566 | J15: 4 | K15: 55 | L15: 2262
A16: 0185 | B16: POMPANO BEACH INSTIT OF INTERN | C16: 1 | D16: 8 | E16: 959 | F16: 30 | G16: 40 | H16: 1 | I16: 121 | J16: 6 | K16: 45 | L16: 1211
... A334: 6501 | B334: HENRY D PERRY EDUCATION CENTER | C334: 5 | D334: 1 | E334: 885 | F334: 69 | G334: 9 | H334: 6 | I334: 323 | J334: 2 | K334: 18 | L334: 1318
A336: Total | C336: 661 | D336: 852 | E336: 177398 | F336: 15585 | G336: 3556 | H336: 984 | I336: 53033 | J336: 938 | K336: 6443 | L336: 259450
C337: =C336/$L$336 -> 0.0025476971 | D337: =D336/$L$336 -> 0.0032838697 | E337: =E336/$L$336 -> 0.68374639 | F337: =F336/$L$336 -> 0.060069378 | G337: =G336/$L$336 -> 0.013705916 | H337: =H336/$L$336 -> 0.0037926383 | I337: =I336/$L$336 -> 0.20440547 | J337: =J336/$L$336 -> 0.0036153401 | ... L337: =L336/$L$336 -> 1

Sheet ELL Enroll 
A1: English Language Learners (Ages 3-21 Years; Grades KG-12) | F1: November 2020
H2: Home
C3: Enrollment
A4: School Number | B4: School | C4: Total Number ELL Enrolled (KG-12) | D4: LY- T (PreK) | E4: Total Number of Students Enrolled | F4: Percent of ELL Enrollment (KG-12)
A5: 0011 | B5: DEERFIELD BEACH ELEMENTARY | C5: 201 | D5: 0 | E5: 547 | F5: =C5/E5 -> 0.36745887
A6: 0021 | B6: POMPANO BEACH MIDDLE | C6: 92 | D6: 0 | E6: 1041 | F6: =C6/E6 -> 0.088376561
A7: 0031 | B7: OAKLAND PARK ELEMENTARY | C7: 216 | D7: 16 | E7: 554 | F7: =C7/E7 -> 0.3898917
A8: 0041 | B8: NORTH SIDE ELEMENTARY | C8: 103 | D8: 15 | E8: 335 | F8: =C8/E8 -> 0.30746269
A9: 0101 | B9: DANIA ELEMENTARY | C9: 36 | D9: 14 | E9: 404 | F9: =C9/E9 -> 0.089108911
A10: 0111 | B10: HOLLYWOOD HILLS ELEMENTARY | C10: 78 | D10: 0 | E10: 745 | F10: =C10/E10 -> 0.10469799
A11: 0121 | B11: HOLLYWOOD CENTRAL ELEMENTARY | C11: 71 | D11: 12 | E11: 363 | F11: =C11/E11 -> 0.19559229
A12: 0131 | B12: GULFSTREAM ACAD OF HALL BEACH | C12: 277 | D12: 1 | E12: 1384 | F12: =C12/E12 -> 0.20014451
A13: 0151 | B13: RIVERLAND ELEMENTARY | C13: 143 | D13: 1 | E13: 530 | F13: =C13/E13 -> 0.26981132
A14: 0161 | B14: WEST HOLLYWOOD ELEMENTARY | C14: 150 | D14: 30 | E14: 486 | F14: =C14/E14 -> 0.30864198
A15: 0171 | B15: SOUTH BROWARD HIGH | C15: 168 | D15: 0 | E15: 2262 | F15: =C15/E15 -> 0.074270557
A16: 0185 | B16: POMPANO BEACH INSTIT OF INTERN | C16: 0 | D16: 0 | E16: 1211 | F16: =C16/E16 -> 0
... A334: 6501 | B334: HENRY D PERRY EDUCATION CENTER | C334: 105 | D334: 0 | E334: 1318 | F334: =C334/E334 -> 0.079666161
A336: Total | C336: 27968 | D336: 1436 | E336: 259450 | F336: =C336/E336 -> 0.10779726

Sheet ELL Enroll School Grade Level
A1: English Language Learners (Ages 3-21 Years; Grades KG-12) | P1: November 2020
S2: Home
A4: School Number | B4: School | C4: KG | D4: 01 | E4: 02 | F4: 03 | G4: 04 | H4: 05 | I4: 06 | J4: 07 | K4: 08 | L4: 09 | M4: 10 | N4: 11 | O4: 12 | P4: Total Number ELL Enrolled | Q4: School Level
A5: 0011 | B5: DEERFIELD BEACH ELEMENTARY | C5: 34 | D5: 48 | E5: 35 | F5: 24 | G5: 32 | H5: 28 | I5: 0 | J5: 0 | K5: 0 | L5: 0 | M5: 0 | N5: 0 | O5: 0 | P5: 201 | Q5: ELEMENTARY
A6: 0021 | B6: POMPANO BEACH MIDDLE | C6: 0 | D6: 0 | E6: 0 | F6: 0 | G6: 0 | H6: 0 | I6: 44 | J6: 17 | K6: 31 | L6: 0 | M6: 0 | N6: 0 | O6: 0 | P6: 92 | Q6: MIDDLE
A7: 0031 | B7: OAKLAND PARK ELEMENTARY | C7: 31 | D7: 30 | E7: 44 | F7: 35 | G7: 43 | H7: 33 | I7: 0 | J7: 0 | K7: 0 | L7: 0 | M7: 0 | N7: 0 | O7: 0 | P7: 216 | Q7: ELEMENTARY
A8: 0041 | B8: NORTH SIDE ELEMENTARY | C8: 18 | D8: 9 | E8: 18 | F8: 33 | G8: 12 | H8: 13 | I8: 0 | J8: 0 | K8: 0 | L8: 0 | M8: 0 | N8: 0 | O8: 0 | P8: 103 | Q8: ELEMENTARY
A9: 0101 | B9: DANIA ELEMENTARY | C9: 7 | D9: 6 | E9: 6 | F9: 8 | G9: 6 | H9: 3 | I9: 0 | J9: 0 | K9: 0 | L9: 0 | M9: 0 | N9: 0 | O9: 0 | P9: 36 | Q9: ELEMENTARY
A10: 0111 | B10: HOLLYWOOD HILLS ELEMENTARY | C10: 16 | D10: 16 | E10: 8 | F10: 19 | G10: 11 | H10: 8 | I10: 0 | J10: 0 | K10: 0 | L10: 0 | M10: 0 | N10: 0 | O10: 0 | P10: 78 | Q10: ELEMENTARY
A11: 0121 | B11: HOLLYWOOD CENTRAL ELEMENTARY | C11: 4 | D11: 13 | E11: 15 | F11: 11 | G11: 13 | H11: 15 | I11: 0 | J11: 0 | K11: 0 | L11: 0 | M11: 0 | N11: 0 | O11: 0 | P11: 71 | Q11: ELEMENTARY
A12: 0131 | B12: GULFSTREAM ACAD OF HALL BEACH | C12: 38 | D12: 23 | E12: 34 | F12: 29 | G12: 43 | H12: 42 | I12: 25 | J12: 25 | K12: 18 | L12: 0 | M12: 0 | N12: 0 | O12: 0 | P12: 277 | Q12: COMBINATION
A13: 0151 | B13: RIVERLAND ELEMENTARY | C13: 25 | D13: 29 | E13: 26 | F13: 31 | G13: 19 | H13: 13 | I13: 0 | J13: 0 | K13: 0 | L13: 0 | M13: 0 | N13: 0 | O13: 0 | P13: 143 | Q13: ELEMENTARY
A14: 0161 | B14: WEST HOLLYWOOD ELEMENTARY | C14: 36 | D14: 27 | E14: 27 | F14: 19 | G14: 25 | H14: 16 | I14: 0 | J14: 0 | K14: 0 | L14: 0 | M14: 0 | N14: 0 | O14: 0 | P14: 150 | Q14: ELEMENTARY
A15: 0171 | B15: SOUTH BROWARD HIGH | C15: 0 | D15: 0 | E15: 0 | F15: 0 | G15: 0 | H15: 0 | I15: 0 | J15: 0 | K15: 0 | L15: 56 | M15: 44 | N15: 38 | O15: 30 | P15: 168 | Q15: HIGH
A16: 0191 | B16: WILTON MANORS ELEMENTARY | C16: 29 | D16: 24 | E16: 19 | F16: 16 | G16: 15 | H16: 6 | I16: 0 | J16: 0 | K16: 0 | L16: 0 | M16: 0 | N16: 0 | O16: 0 | P16: 109 | Q16: ELEMENTARY
... A316: 6501 | B316: HENRY D PERRY EDUCATION CENTER | C316: 0 | D316: 0 | E316: 0 | F316: 0 | G316: 0 | H316: 0 | I316: 0 | J316: 0 | K316: 1 | L316: 5 | M316: 5 | N316: 9 | O316: 85 | P316: 105 | Q316: CENTER
A318: Total | C318: 3426 | D318: 3463 | E318: 3698 | F318: 2971 | G318: 2925 | H318: 2252 | I318: 1537 | J318: 1298 | K318: 1289 | L318: 1279 | M318: 1388 | N318: 1299 | O318: 1143 | P318: 27968
C319: =C318/$P$318 -> 0.12249714 | D319: =D318/$P$318 -> 0.12382008 | E319: =E318/$P$318 -> 0.13222254 | F319: =F318/$P$318 -> 0.10622855 | G319: =G318/$P$318 -> 0.10458381 | H319: =H318/$P$318 -> 0.080520595 | I319: =I318/$P$318 -> 0.054955664 | J319: =J318/$P$318 -> 0.046410183 | ... P319: =P318/$P$318 -> 1
O323: ES | P323: =SUMIF($Q$5:$Q$316,"=ELEMENTARY",$P$5:$P$316) -> 14474
O324: MS | P324: =SUMIF($Q$5:$Q$316,"=MIDDLE",$P$5:$P$316) -> 3147
O325: HS | P325: =SUMIF($Q$5:$Q$316,"=HIGH",$P$5:$P$316) -> 4226
O326: CHARTER | P326: =SUMIF($Q$5:$Q$316,"=CHARTER",$P$5:$P$316) -> 5034
O327: CENTER | P327: =SUMIF($Q$5:$Q$316,"=CENTER",$P$5:$P$316) -> 265
O328: AGENCY | P328: =SUMIF($Q$5:$Q$316,"=AGENCY",$P$5:$P$316) -> 1
O329: COMBIN | P329: =SUMIF($Q$5:$Q$316,"=COMBINATION",$P$5:$P$316) -> 821
P330: =SUM(P323:P329) -> 27968
P331: =P323+P324+P325+P329 -> 22668

Sheet ELL Enroll Most Freq Langs
A1: English Language Learners (Ages 3-21 Years; Grades KG-12) | L1: November 2020
O2: Home
C3: Most Frequently Spoken Languages
A4: School Number | B4: School | C4: Arabic | D4: Chinese | E4: English | F4: Haitian-Creole | G4: Portuguese | H4: Russian | I4: Spanish | J4: Vietnamese | K4: Other | L4: Total Number ELL Enrolled | M4: School Level
A5: 0011 | B5: DEERFIELD BEACH ELEMENTARY | C5: 0 | D5: 2 | E5: 0 | F5: 15 | G5: 49 | H5: 0 | I5: 123 | J5: 1 | K5: 11 | L5: 201 | M5: ELEMENTARY
A6: 0021 | B6: POMPANO BEACH MIDDLE | C6: 1 | D6: 0 | E6: 0 | F6: 18 | G6: 6 | H6: 0 | I6: 65 | J6: 0 | K6: 2 | L6: 92 | M6: MIDDLE
A7: 0031 | B7: OAKLAND PARK ELEMENTARY | C7: 0 | D7: 0 | E7: 0 | F7: 32 | G7: 0 | H7: 0 | I7: 182 | J7: 0 | K7: 2 | L7: 216 | M7: ELEMENTARY
A8: 0041 | B8: NORTH SIDE ELEMENTARY | C8: 0 | D8: 0 | E8: 0 | F8: 86 | G8: 0 | H8: 0 | I8: 15 | J8: 1 | K8: 1 | L8: 103 | M8: ELEMENTARY
A9: 0101 | B9: DANIA ELEMENTARY | C9: 1 | D9: 0 | E9: 0 | F9: 5 | G9: 2 | H9: 2 | I9: 25 | J9: 1 | K9: 0 | L9: 36 | M9: ELEMENTARY
A10: 0111 | B10: HOLLYWOOD HILLS ELEMENTARY | C10: 2 | D10: 0 | E10: 0 | F10: 1 | G10: 0 | H10: 0 | I10: 68 | J10: 0 | K10: 7 | L10: 78 | M10: ELEMENTARY
A11: 0121 | B11: HOLLYWOOD CENTRAL ELEMENTARY | C11: 2 | D11: 0 | E11: 0 | F11: 2 | G11: 0 | H11: 10 | I11: 53 | J11: 0 | K11: 4 | L11: 71 | M11: ELEMENTARY
A12: 0131 | B12: GULFSTREAM ACAD OF HALL BEACH | C12: 4 | D12: 0 | E12: 0 | F12: 18 | G12: 2 | H12: 14 | I12: 235 | J12: 1 | K12: 3 | L12: 277 | M12: COMBINATION
A13: 0151 | B13: RIVERLAND ELEMENTARY | C13: 0 | D13: 0 | E13: 0 | F13: 26 | G13: 0 | H13: 0 | I13: 117 | J13: 0 | K13: 0 | L13: 143 | M13: ELEMENTARY
A14: 0161 | B14: WEST HOLLYWOOD ELEMENTARY | C14: 0 | D14: 1 | E14: 0 | F14: 14 | G14: 2 | H14: 0 | I14: 123 | J14: 0 | K14: 10 | L14: 150 | M14: ELEMENTARY
A15: 0171 | B15: SOUTH BROWARD HIGH | C15: 0 | D15: 0 | E15: 0 | F15: 21 | G15: 3 | H15: 6 | I15: 127 | J15: 2 | K15: 9 | L15: 168 | M15: HIGH
A16: 0191 | B16: WILTON MANORS ELEMENTARY | C16: 0 | D16: 0 | E16: 0 | F16: 39 | G16: 3 | H16: 1 | I16: 59 | J16: 0 | K16: 7 | L16: 109 | M16: ELEMENTARY
... A316: 6501 | B316: HENRY D PERRY EDUCATION CENTER | C316: 1 | D316: 1 | E316: 0 | F316: 18 | G316: 2 | H316: 2 | I316: 80 | J316: 0 | K316: 1 | L316: 105 | M316: CENTER
A318: Total | C318: 200 | D318: 218 | E318: 1 | F318: 5555 | G318: 1475 | H318: 389 | I318: 18256 | J318: 364 | K318: 1510 | L318: 27968
C319: =C318/$L$318 -> 0.0071510297 | D319: =D318/$L$318 -> 0.0077946224 | E319: =E318/$L$318 -> 3.5755149e-05 | F319: =F318/$L$318 -> 0.19861985 | G319: =G318/$L$318 -> 0.052738844 | H319: =H318/$L$318 -> 0.013908753 | I319: =I318/$L$318 -> 0.652746 | J319: =J318/$L$318 -> 0.013014874 | ... L319: =L318/$L$318 -> 1

Sheet ELL Country
A1: English Language Learners (Ages 3-21 Years; Grades KG-12) | O1: November 2020
Q2: Home
A3: =COUNTA(A5:A136) -> 132 | B3: Grade Level
A4: =CONCATENATE("Country (N=",A3,")") -> Country (N=132) | B4: KG | C4: 01 | D4: 02 | E4: 03 | F4: 04 | G4: 05 | H4: 06 | I4: 07 | J4: 08 | K4: 09 | L4: 10 | M4: 11 | N4: 12 | O4: Total Number ELL Enrolled
A5: AFGHANISTAN | B5: 0 | C5: 0 | D5: 0 | E5: 0 | F5: 1 | G5: 0 | H5: 0 | I5: 0 | J5: 0 | K5: 0 | L5: 0 | M5: 0 | N5: 0 | O5: 1
A6: ALBANIA | B6: 0 | C6: 0 | D6: 1 | E6: 0 | F6: 2 | G6: 1 | H6: 0 | I6: 0 | J6: 0 | K6: 0 | L6: 0 | M6: 0 | N6: 0 | O6: 4
A7: ALGERIA | B7: 0 | C7: 0 | D7: 0 | E7: 1 | F7: 0 | G7: 0 | H7: 1 | I7: 0 | J7: 0 | K7: 0 | L7: 0 | M7: 0 | N7: 0 | O7: 2
A8: ANGOLA | B8: 0 | C8: 0 | D8: 0 | E8: 0 | F8: 1 | G8: 0 | H8: 0 | I8: 0 | J8: 0 | K8: 0 | L8: 0 | M8: 0 | N8: 0 | O8: 1
A9: ARGENTINA | B9: 13 | C9: 14 | D9: 24 | E9: 17 | F9: 15 | G9: 19 | H9: 16 | I9: 15 | J9: 22 | K9: 20 | L9: 16 | M9: 15 | N9: 11 | O9: 217
A10: ARMENIA | B10: 1 | C10: 0 | D10: 1 | E10: 0 | F10: 0 | G10: 0 | H10: 0 | I10: 0 | J10: 0 | K10: 0 | L10: 0 | M10: 0 | N10: 0 | O10: 2
A11: AUSTRALIA | B11: 1 | C11: 0 | D11: 0 | E11: 0 | F11: 0 | G11: 0 | H11: 0 | I11: 0 | J11: 0 | K11: 0 | L11: 0 | M11: 0 | N11: 0 | O11: 1
A12: AZERBAIJAN | B12: 0 | C12: 2 | D12: 0 | E12: 0 | F12: 0 | G12: 0 | H12: 0 | I12: 1 | J12: 0 | K12: 1 | L12: 0 | M12: 0 | N12: 1 | O12: 5
A13: BAHAMAS | B13: 3 | C13: 11 | D13: 4 | E13: 15 | F13: 8 | G13: 6 | H13: 8 | I13: 5 | J13: 6 | K13: 7 | L13: 5 | M13: 5 | N13: 4 | O13: 87
A14: BAHRAIN | B14: 1 | C14: 0 | D14: 0 | E14: 0 | F14: 0 | G14: 0 | H14: 0 | I14: 0 | J14: 0 | K14: 0 | L14: 0 | M14: 0 | N14: 0 | O14: 1
A15: BANGLADESH | B15: 1 | C15: 6 | D15: 9 | E15: 5 | F15: 4 | G15: 2 | H15: 4 | I15: 5 | J15: 1 | K15: 4 | L15: 5 | M15: 5 | N15: 8 | O15: 59
A16: BELARUS | B16: 2 | C16: 1 | D16: 1 | E16: 0 | F16: 3 | G16: 2 | H16: 1 | I16: 2 | J16: 1 | K16: 0 | L16: 1 | M16: 0 | N16: 0 | O16: 14
... A138: Total | B138: 3426 | C138: 3463 | D138: 3698 | E138: 2971 | F138: 2925 | G138: 2252 | H138: 1537 | I138: 1298 | J138: 1289 | K138: 1279 | L138: 1388 | M138: 1299 | N138: 1143 | O138: 27968

Sheet ELL Language
A1: English Language Learners (Ages 3-21 Years; Grades KG-12) | O1: November 2020
Q2: Home
A3: =COUNTA(A5:A108) -> 104
A4: =CONCATENATE("Language (N=",A3,")") -> Language (N=104) | B4: KG | C4: 01 | D4: 02 | E4: 03 | F4: 04 | G4: 05 | H4: 06 | I4: 07 | J4: 08 | K4: 09 | L4: 10 | M4: 11 | N4: 12 | O4: Total Number ELL Enrolled
A5: (AFAN) OROMO | B5: 0 | C5: 2 | D5: 0 | E5: 0 | F5: 0 | G5: 0 | H5: 0 | I5: 0 | J5: 0 | K5: 0 | L5: 0 | M5: 0 | N5: 0 | O5: 2
A6: ABKHAZIAN | B6: 0 | C6: 1 | D6: 1 | E6: 0 | F6: 1 | G6: 0 | H6: 0 | I6: 0 | J6: 0 | K6: 0 | L6: 0 | M6: 0 | N6: 0 | O6: 3
A7: AFRIKAANS | B7: 0 | C7: 0 | D7: 0 | E7: 0 | F7: 0 | G7: 0 | H7: 0 | I7: 0 | J7: 0 | K7: 1 | L7: 0 | M7: 0 | N7: 0 | O7: 1
A8: AKATEKO | B8: 0 | C8: 1 | D8: 0 | E8: 0 | F8: 0 | G8: 0 | H8: 0 | I8: 0 | J8: 0 | K8: 0 | L8: 0 | M8: 0 | N8: 0 | O8: 1
A9: ALBANIAN | B9: 1 | C9: 0 | D9: 2 | E9: 1 | F9: 2 | G9: 2 | H9: 0 | I9: 0 | J9: 0 | K9: 0 | L9: 0 | M9: 0 | N9: 0 | O9: 8
A10: AMHARIC | B10: 1 | C10: 2 | D10: 0 | E10: 0 | F10: 0 | G10: 0 | H10: 0 | I10: 0 | J10: 0 | K10: 0 | L10: 0 | M10: 0 | N10: 0 | O10: 3
A11: ARABIC | B11: 27 | C11: 26 | D11: 23 | E11: 19 | F11: 24 | G11: 22 | H11: 10 | I11: 14 | J11: 7 | K11: 6 | L11: 6 | M11: 9 | N11: 7 | O11: 200
A12: ARIKARA | B12: 0 | C12: 0 | D12: 0 | E12: 0 | F12: 0 | G12: 0 | H12: 0 | I12: 0 | J12: 0 | K12: 0 | L12: 0 | M12: 0 | N12: 1 | O12: 1
A13: ARMENIAN | B13: 1 | C13: 0 | D13: 1 | E13: 0 | F13: 0 | G13: 0 | H13: 0 | I13: 0 | J13: 0 | K13: 0 | L13: 0 | M13: 0 | N13: 0 | O13: 2
A14: ASL | B14: 0 | C14: 2 | D14: 0 | E14: 1 | F14: 0 | G14: 0 | H14: 0 | I14: 0 | J14: 0 | K14: 0 | L14: 0 | M14: 0 | N14: 0 | O14: 3
A15: AZERBAIJANI | B15: 0 | C15: 0 | D15: 0 | E15: 0 | F15: 0 | G15: 0 | H15: 0 | I15: 1 | J15: 0 | K15: 1 | L15: 0 | M15: 0 | N15: 0 | O15: 2
A16: BANTU | B16: 0 | C16: 0 | D16: 1 | E16: 0 | F16: 0 | G16: 1 | H16: 0 | I16: 0 | J16: 0 | K16: 0 | L16: 0 | M16: 0 | N16: 0 | O16: 2
... A110: Total | B110: 3426 | C110: 3463 | D110: 3698 | E110: 2971 | F110: 2925 | G110: 2252 | H110: 1537 | I110: 1298 | J110: 1289 | K110: 1279 | L110: 1388 | M110: 1299 | N110: 1143 | O110: 27968

Sheet ELL Long-Term
A1: English Language Learners (Ages 3-21 Years; Grades KG-12) | J1: November 2020
C2: Time in ESOL Program | L2: Home
A4: School Number | B4: School | C4: First Year | D4: Up to 2 Years | E4: Up to 3 Years | F4: Up to 4 Years | G4: Up to 5 Years | H4: Up to 6 Years | I4: 6 Years or More | J4: Total Number ELL Enrolled
A5: 0011 | B5: DEERFIELD BEACH ELEMENTARY | C5: 40 | D5: 55 | E5: 39 | F5: 25 | G5: 23 | H5: 13 | I5: 6 | J5: 201
A6: 0021 | B6: POMPANO BEACH MIDDLE | C6: 11 | D6: 23 | E6: 17 | F6: 5 | G6: 10 | H6: 3 | I6: 23 | J6: 92
A7: 0031 | B7: OAKLAND PARK ELEMENTARY | C7: 32 | D7: 59 | E7: 41 | F7: 29 | G7: 33 | H7: 22 | I7: 0 | J7: 216
A8: 0041 | B8: NORTH SIDE ELEMENTARY | C8: 20 | D8: 14 | E8: 24 | F8: 22 | G8: 14 | H8: 8 | I8: 1 | J8: 103
A9: 0101 | B9: DANIA ELEMENTARY | C9: 11 | D9: 10 | E9: 5 | F9: 6 | G9: 2 | H9: 2 | I9: 0 | J9: 36
A10: 0111 | B10: HOLLYWOOD HILLS ELEMENTARY | C10: 16 | D10: 23 | E10: 11 | F10: 13 | G10: 9 | H10: 6 | I10: 0 | J10: 78
A11: 0121 | B11: HOLLYWOOD CENTRAL ELEMENTARY | C11: 13 | D11: 22 | E11: 16 | F11: 7 | G11: 4 | H11: 7 | I11: 2 | J11: 71
A12: 0131 | B12: GULFSTREAM ACAD OF HALL BEACH | C12: 54 | D12: 59 | E12: 41 | F12: 37 | G12: 37 | H12: 32 | I12: 17 | J12: 277
A13: 0151 | B13: RIVERLAND ELEMENTARY | C13: 29 | D13: 40 | E13: 26 | F13: 28 | G13: 14 | H13: 6 | I13: 0 | J13: 143
A14: 0161 | B14: WEST HOLLYWOOD ELEMENTARY | C14: 37 | D14: 49 | E14: 28 | F14: 13 | G14: 16 | H14: 7 | I14: 0 | J14: 150
A15: 0171 | B15: SOUTH BROWARD HIGH | C15: 10 | D15: 39 | E15: 30 | F15: 27 | G15: 19 | H15: 13 | I15: 30 | J15: 168
A16: 0191 | B16: WILTON MANORS ELEMENTARY | C16: 31 | D16: 27 | E16: 17 | F16: 18 | G16: 11 | H16: 5 | I16: 0 | J16: 109
... A316: 6501 | B316: HENRY D PERRY EDUCATION CENTER | C316: 4 | D316: 13 | E316: 19 | F316: 12 | G316: 21 | H316: 16 | I316: 20 | J316: 105
A318: Total | C318: 5073 | D318: 6736 | E318: 5602 | F318: 3844 | G318: 3214 | H318: 1797 | I318: 1702 | J318: 27968
C319: =C318/$J$318 -> 0.18138587 | D319: =D318/$J$318 -> 0.24084668 | E319: =E318/$J$318 -> 0.20030034 | F319: =F318/$J$318 -> 0.13744279 | G319: =G318/$J$318 -> 0.11491705 | H319: =H318/$J$318 -> 0.064252002 | I319: =I318/$J$318 -> 0.060855263 | J319: =J318/$J$318 -> 1

Sheet ELL Social Distance
A1: English Language Learners (Ages 3-21 Years; Grades KG-12) | F1: November 2020
C2: Learning Location | H2: Home
A4: School Number | B4: School | C4: eLearning Home | D4: eLearning School | E4: Total Number ELL Enrolled | F4: Percent of ELLs Attending School In Classroom
A5: 0011 | B5: DEERFIELD BEACH ELEMENTARY | C5: 97 | D5: 104 | E5: 201 | F5: =D5/E5 -> 0.51741294
A6: 0021 | B6: POMPANO BEACH MIDDLE | C6: 64 | D6: 28 | E6: 92 | F6: =D6/E6 -> 0.30434783
A7: 0031 | B7: OAKLAND PARK ELEMENTARY | C7: 150 | D7: 66 | E7: 216 | F7: =D7/E7 -> 0.30555556
A8: 0041 | B8: NORTH SIDE ELEMENTARY | C8: 52 | D8: 51 | E8: 103 | F8: =D8/E8 -> 0.49514563
A9: 0101 | B9: DANIA ELEMENTARY | C9: 29 | D9: 7 | E9: 36 | F9: =D9/E9 -> 0.19444444
A10: 0111 | B10: HOLLYWOOD HILLS ELEMENTARY | C10: 45 | D10: 33 | E10: 78 | F10: =D10/E10 -> 0.42307692
A11: 0121 | B11: HOLLYWOOD CENTRAL ELEMENTARY | C11: 49 | D11: 22 | E11: 71 | F11: =D11/E11 -> 0.30985915
A12: 0131 | B12: GULFSTREAM ACAD OF HALL BEACH | C12: 154 | D12: 123 | E12: 277 | F12: =D12/E12 -> 0.44404332
A13: 0151 | B13: RIVERLAND ELEMENTARY | C13: 85 | D13: 58 | E13: 143 | F13: =D13/E13 -> 0.40559441
A14: 0161 | B14: WEST HOLLYWOOD ELEMENTARY | C14: 74 | D14: 76 | E14: 150 | F14: =D14/E14 -> 0.50666667
A15: 0171 | B15: SOUTH BROWARD HIGH | C15: 119 | D15: 49 | E15: 168 | F15: =D15/E15 -> 0.29166667
A16: 0191 | B16: WILTON MANORS ELEMENTARY | C16: 54 | D16: 55 | E16: 109 | F16: =D16/E16 -> 0.50458716
... A316: 6501 | B316: HENRY D PERRY EDUCATION CENTER | C316: 100 | D316: 5 | E316: 105 | F316: =D316/E316 -> 0.047619048
A318: Total | C318: 17878 | D318: 10090 | E318: 27968 | F318: =D318/E318 -> 0.36076945

Sheet ELL by ESE Status
A1: English Language Learners (Ages 3-21 Years; Grades KG-12) | V1: November 2020
Y2: Home
C3: Students with Disabilities | R3: Students without Disabilites
A4: School Number | B4: School | C4: Autism Spectrum Disorder | D4: Deaf/Hard of Hearing | E4: Developmentally Delayed | F4: Emotional/Behavioral Disability | G4: Hospital/ Homebound | H4: Intellectual Disability | I4: Language Impaired | J4: Orthopedically Impaired | K4: Other Health Impaired | L4: Specific Learning Disability | M4: Speech Impaired | N4: Traumatic Brain Injured | O4: Visually Impaired | P4: Total Students with Disabilities | Q4: Percent of Students with Disabilities | R4: Gifted | S4: Non-Gifted | T4: Total Students without Disabilities | U4: Percent of Students without Disabilities | V4: Total Number ELL Enrolled | W4: School Level
A5: 0011 | B5: DEERFIELD BEACH ELEMENTARY | C5: 16 | D5: 0 | E5: 0 | F5: 0 | G5: 0 | H5: 1 | I5: 3 | J5: 0 | K5: 3 | L5: 15 | M5: 7 | N5: 0 | O5: 0 | P5: =SUM(C5:O5) -> 45 | Q5: =P5/V5 -> 0.2238806 | R5: 0 | S5: 156 | T5: =SUM(R5:S5) -> 156 | U5: =T5/V5 -> 0.7761194 | V5: =P5+T5 -> 201 | W5: ELEMENTARY
A6: 0021 | B6: POMPANO BEACH MIDDLE | C6: 0 | D6: 0 | E6: 0 | F6: 0 | G6: 0 | H6: 1 | I6: 0 | J6: 0 | K6: 2 | L6: 2 | M6: 0 | N6: 0 | O6: 0 | P6: =SUM(C6:O6) -> 5 | Q6: =P6/V6 -> 0.054347826 | R6: 0 | S6: 87 | T6: =SUM(R6:S6) -> 87 | U6: =T6/V6 -> 0.94565217 | V6: =P6+T6 -> 92 | W6: MIDDLE
A7: 0031 | B7: OAKLAND PARK ELEMENTARY | C7: 1 | D7: 0 | E7: 2 | F7: 0 | G7: 0 | H7: 0 | I7: 4 | J7: 0 | K7: 0 | L7: 6 | M7: 10 | N7: 0 | O7: 0 | P7: =SUM(C7:O7) -> 23 | Q7: =P7/V7 -> 0.10648148 | R7: 0 | S7: 193 | T7: =SUM(R7:S7) -> 193 | U7: =T7/V7 -> 0.89351852 | V7: =P7+T7 -> 216 | W7: ELEMENTARY
A8: 0041 | B8: NORTH SIDE ELEMENTARY | C8: 1 | D8: 0 | E8: 0 | F8: 0 | G8: 0 | H8: 0 | I8: 8 | J8: 1 | K8: 1 | L8: 5 | M8: 3 | N8: 0 | O8: 0 | P8: =SUM(C8:O8) -> 19 | Q8: =P8/V8 -> 0.18446602 | R8: 0 | S8: 84 | T8: =SUM(R8:S8) -> 84 | U8: =T8/V8 -> 0.81553398 | V8: =P8+T8 -> 103 | W8: ELEMENTARY
A9: 0101 | B9: DANIA ELEMENTARY | C9: 0 | D9: 0 | E9: 0 | F9: 0 | G9: 0 | H9: 0 | I9: 0 | J9: 1 | K9: 0 | L9: 1 | M9: 0 | N9: 0 | O9: 0 | P9: =SUM(C9:O9) -> 2 | Q9: =P9/V9 -> 0.055555556 | R9: 0 | S9: 34 | T9: =SUM(R9:S9) -> 34 | U9: =T9/V9 -> 0.94444444 | V9: =P9+T9 -> 36 | W9: ELEMENTARY
A10: 0111 | B10: HOLLYWOOD HILLS ELEMENTARY | C10: 1 | D10: 0 | E10: 0 | F10: 1 | G10: 0 | H10: 0 | I10: 1 | J10: 0 | K10: 2 | L10: 6 | M10: 3 | N10: 0 | O10: 0 | P10: =SUM(C10:O10) -> 14 | Q10: =P10/V10 -> 0.17948718 | R10: 0 | S10: 64 | T10: =SUM(R10:S10) -> 64 | U10: =T10/V10 -> 0.82051282 | V10: =P10+T10 -> 78 | W10: ELEMENTARY
A11: 0121 | B11: HOLLYWOOD CENTRAL ELEMENTARY | C11: 0 | D11: 0 | E11: 1 | F11: 0 | G11: 0 | H11: 0 | I11: 2 | J11: 0 | K11: 1 | L11: 0 | M11: 3 | N11: 0 | O11: 0 | P11: =SUM(C11:O11) -> 7 | Q11: =P11/V11 -> 0.098591549 | R11: 0 | S11: 64 | T11: =SUM(R11:S11) -> 64 | U11: =T11/V11 -> 0.90140845 | V11: =P11+T11 -> 71 | W11: ELEMENTARY
A12: 0131 | B12: GULFSTREAM ACAD OF HALL BEACH | C12: 2 | D12: 1 | E12: 2 | F12: 1 | G12: 0 | H12: 0 | I12: 2 | J12: 0 | K12: 3 | L12: 10 | M12: 1 | N12: 0 | O12: 0 | P12: =SUM(C12:O12) -> 22 | Q12: =P12/V12 -> 0.079422383 | R12: 1 | S12: 254 | T12: =SUM(R12:S12) -> 255 | U12: =T12/V12 -> 0.92057762 | V12: =P12+T12 -> 277 | W12: COMBINATION
A13: 0151 | B13: RIVERLAND ELEMENTARY | C13: 2 | D13: 1 | E13: 1 | F13: 0 | G13: 0 | H13: 0 | I13: 6 | J13: 0 | K13: 2 | L13: 4 | M13: 6 | N13: 0 | O13: 0 | P13: =SUM(C13:O13) -> 22 | Q13: =P13/V13 -> 0.15384615 | R13: 0 | S13: 121 | T13: =SUM(R13:S13) -> 121 | U13: =T13/V13 -> 0.84615385 | V13: =P13+T13 -> 143 | W13: ELEMENTARY
A14: 0161 | B14: WEST HOLLYWOOD ELEMENTARY | C14: 1 | D14: 1 | E14: 2 | F14: 0 | G14: 0 | H14: 0 | I14: 4 | J14: 1 | K14: 1 | L14: 0 | M14: 5 | N14: 0 | O14: 0 | P14: =SUM(C14:O14) -> 15 | Q14: =P14/V14 -> 0.1 | R14: 0 | S14: 135 | T14: =SUM(R14:S14) -> 135 | U14: =T14/V14 -> 0.9 | V14: =P14+T14 -> 150 | W14: ELEMENTARY
A15: 0171 | B15: SOUTH BROWARD HIGH | C15: 1 | D15: 0 | E15: 0 | F15: 0 | G15: 0 | H15: 0 | I15: 0 | J15: 0 | K15: 2 | L15: 5 | M15: 1 | N15: 0 | O15: 0 | P15: =SUM(C15:O15) -> 9 | Q15: =P15/V15 -> 0.053571429 | R15: 0 | S15: 159 | T15: =SUM(R15:S15) -> 159 | U15: =T15/V15 -> 0.94642857 | V15: =P15+T15 -> 168 | W15: HIGH
A16: 0191 | B16: WILTON MANORS ELEMENTARY | C16: 3 | D16: 0 | E16: 0 | F16: 0 | G16: 0 | H16: 0 | I16: 3 | J16: 0 | K16: 1 | L16: 0 | M16: 4 | N16: 0 | O16: 0 | P16: =SUM(C16:O16) -> 11 | Q16: =P16/V16 -> 0.10091743 | R16: 0 | S16: 98 | T16: =SUM(R16:S16) -> 98 | U16: =T16/V16 -> 0.89908257 | V16: =P16+T16 -> 109 | W16: ELEMENTARY
... A316: 6501 | B316: HENRY D PERRY EDUCATION CENTER | C316: 0 | D316: 0 | E316: 0 | F316: 0 | G316: 0 | H316: 0 | I316: 0 | J316: 0 | K316: 0 | L316: 1 | M316: 0 | N316: 0 | O316: 0 | P316: =SUM(C316:O316) -> 1 | Q316: =P316/V316 -> 0.0095238095 | R316: 0 | S316: 104 | T316: =SUM(R316:S316) -> 104 | U316: =T316/V316 -> 0.99047619 | V316: =P316+T316 -> 105 | W316: CENTER
A318: Total | C318: 404 | D318: 19 | E318: 218 | F318: 20 | G318: 5 | H318: 96 | I318: 452 | J318: 19 | K318: 251 | L318: 1034 | M318: 526 | N318: 3 | O318: 6 | P318: =SUM(C318:O318) -> 3053 | Q318: =P318/V318 -> 0.10916047 | R318: 35 | S318: 24880 | T318: =S318+R318 -> 24915 | U318: =T318/V318 -> 0.89083953 | V318: =SUM(V5:V316) -> 27968
C319: =C318/$V$318 -> 0.01444508 | D319: =D318/$V$318 -> 0.00067934783 | E319: =E318/$V$318 -> 0.0077946224 | F319: =F318/$V$318 -> 0.00071510297 | G319: =G318/$V$318 -> 0.00017877574 | H319: =H318/$V$318 -> 0.0034324943 | I319: =I318/$V$318 -> 0.016161327 | J319: =J318/$V$318 -> 0.00067934783 | ... P319: =P318/$V$318 -> 0.10916047 | R319: =R318/$V$318 -> 0.0012514302 | S319: =S318/$V$318 -> 0.8895881 | T319: =T318/$V$318 -> 0.89083953 | V319: =V318/$V$318 -> 1

Sheet Foreign Born Enrollment
A1: Foreign-Born (Ages 3-21 Years; Grades PK-12) | E1: November 2020
G2: Home
C3: Enrollment
A4: School Number | B4: School | C4: Number of Foreign Born Enrolled | D4: Number of Students Enrolled | E4: Percent of Foreign Born Enrollment
A5: 0011 | B5: DEERFIELD BEACH ELEMENTARY | C5: 83 | D5: 547 | E5: =C5/D5 -> 0.15173675
A6: 0021 | B6: POMPANO BEACH MIDDLE | C6: 137 | D6: 1041 | E6: =C6/D6 -> 0.13160423
A7: 0031 | B7: OAKLAND PARK ELEMENTARY | C7: 95 | D7: 554 | E7: =C7/D7 -> 0.17148014
A8: 0041 | B8: NORTH SIDE ELEMENTARY | C8: 57 | D8: 335 | E8: =C8/D8 -> 0.17014925
A9: 0101 | B9: DANIA ELEMENTARY | C9: 57 | D9: 404 | E9: =C9/D9 -> 0.14108911
A10: 0111 | B10: HOLLYWOOD HILLS ELEMENTARY | C10: 45 | D10: 745 | E10: =C10/D10 -> 0.060402685
A11: 0121 | B11: HOLLYWOOD CENTRAL ELEMENTARY | C11: 62 | D11: 363 | E11: =C11/D11 -> 0.1707989
A12: 0131 | B12: GULFSTREAM ACAD OF HALL BEACH | C12: 255 | D12: 1384 | E12: =C12/D12 -> 0.18424855
A13: 0151 | B13: RIVERLAND ELEMENTARY | C13: 51 | D13: 530 | E13: =C13/D13 -> 0.096226415
A14: 0161 | B14: WEST HOLLYWOOD ELEMENTARY | C14: 75 | D14: 486 | E14: =C14/D14 -> 0.15432099
A15: 0171 | B15: SOUTH BROWARD HIGH | C15: 447 | D15: 2262 | E15: =C15/D15 -> 0.19761273
A16: 0185 | B16: POMPANO BEACH INSTIT OF INTERN | C16: 115 | D16: 1211 | E16: =C16/D16 -> 0.094962841
... A334: 6501 | B334: HENRY D PERRY EDUCATION CENTER | C334: 279 | D334: 1318 | E334: =C334/D334 -> 0.21168437
A336: Total | C336: 37656 | D336: 259450 | E336: =C336/D336 -> 0.14513779

Sheet Foreign Born School Grade Level
A1: Foreign-Born (Ages 3-21 Years) | Q1: November 2020
T2: Home
C3: Grade Level
A4: School Number | B4: School | C4: PK | D4: KG | E4: 01 | F4: 02 | G4: 03 | H4: 04 | I4: 05 | J4: 06 | K4: 07 | L4: 08 | M4: 09 | N4: 10 | O4: 11 | P4: 12 | Q4: Number of Foreign Born Enrolled | R4: School Level
A5: 0011 | B5: DEERFIELD BEACH ELEMENTARY | C5: 1 | D5: 7 | E5: 14 | F5: 11 | G5: 13 | H5: 17 | I5: 20 | J5: 0 | K5: 0 | L5: 0 | M5: 0 | N5: 0 | O5: 0 | P5: 0 | Q5: 83 | R5: ELEMENTARY
A6: 0021 | B6: POMPANO BEACH MIDDLE | C6: 0 | D6: 0 | E6: 0 | F6: 0 | G6: 0 | H6: 0 | I6: 0 | J6: 46 | K6: 39 | L6: 52 | M6: 0 | N6: 0 | O6: 0 | P6: 0 | Q6: 137 | R6: MIDDLE
A7: 0031 | B7: OAKLAND PARK ELEMENTARY | C7: 2 | D7: 9 | E7: 13 | F7: 19 | G7: 16 | H7: 15 | I7: 21 | J7: 0 | K7: 0 | L7: 0 | M7: 0 | N7: 0 | O7: 0 | P7: 0 | Q7: 95 | R7: ELEMENTARY
A8: 0041 | B8: NORTH SIDE ELEMENTARY | C8: 4 | D8: 5 | E8: 4 | F8: 8 | G8: 15 | H8: 8 | I8: 13 | J8: 0 | K8: 0 | L8: 0 | M8: 0 | N8: 0 | O8: 0 | P8: 0 | Q8: 57 | R8: ELEMENTARY
A9: 0101 | B9: DANIA ELEMENTARY | C9: 1 | D9: 3 | E9: 8 | F9: 8 | G9: 12 | H9: 17 | I9: 8 | J9: 0 | K9: 0 | L9: 0 | M9: 0 | N9: 0 | O9: 0 | P9: 0 | Q9: 57 | R9: ELEMENTARY
A10: 0111 | B10: HOLLYWOOD HILLS ELEMENTARY | C10: 0 | D10: 2 | E10: 5 | F10: 5 | G10: 10 | H10: 13 | I10: 10 | J10: 0 | K10: 0 | L10: 0 | M10: 0 | N10: 0 | O10: 0 | P10: 0 | Q10: 45 | R10: ELEMENTARY
A11: 0121 | B11: HOLLYWOOD CENTRAL ELEMENTARY | C11: 0 | D11: 6 | E11: 7 | F11: 16 | G11: 7 | H11: 14 | I11: 12 | J11: 0 | K11: 0 | L11: 0 | M11: 0 | N11: 0 | O11: 0 | P11: 0 | Q11: 62 | R11: ELEMENTARY
A12: 0131 | B12: GULFSTREAM ACAD OF HALL BEACH | C12: 2 | D12: 8 | E12: 17 | F12: 31 | G12: 27 | H12: 31 | I12: 29 | J12: 40 | K12: 37 | L12: 33 | M12: 0 | N12: 0 | O12: 0 | P12: 0 | Q12: 255 | R12: COMBINATION
A13: 0151 | B13: RIVERLAND ELEMENTARY | C13: 0 | D13: 4 | E13: 5 | F13: 10 | G13: 11 | H13: 10 | I13: 11 | J13: 0 | K13: 0 | L13: 0 | M13: 0 | N13: 0 | O13: 0 | P13: 0 | Q13: 51 | R13: ELEMENTARY
A14: 0161 | B14: WEST HOLLYWOOD ELEMENTARY | C14: 1 | D14: 8 | E14: 12 | F14: 9 | G14: 12 | H14: 18 | I14: 15 | J14: 0 | K14: 0 | L14: 0 | M14: 0 | N14: 0 | O14: 0 | P14: 0 | Q14: 75 | R14: ELEMENTARY
A15: 0171 | B15: SOUTH BROWARD HIGH | C15: 0 | D15: 0 | E15: 0 | F15: 0 | G15: 0 | H15: 0 | I15: 0 | J15: 0 | K15: 0 | L15: 0 | M15: 108 | N15: 114 | O15: 116 | P15: 109 | Q15: 447 | R15: HIGH
A16: 0185 | B16: POMPANO BEACH INSTIT OF INTERN | C16: 0 | D16: 0 | E16: 0 | F16: 0 | G16: 0 | H16: 0 | I16: 0 | J16: 0 | K16: 0 | L16: 0 | M16: 28 | N16: 29 | O16: 30 | P16: 28 | Q16: 115 | R16: HIGH
... A329: 6501 | B329: HENRY D PERRY EDUCATION CENTER | C329: 1 | D329: 0 | E329: 0 | F329: 0 | G329: 0 | H329: 0 | I329: 0 | J329: 0 | K329: 1 | L329: 5 | M329: 9 | N329: 14 | O329: 32 | P329: 217 | Q329: 279 | R329: CENTER
A331: Total | C331: 148 | D331: 1124 | E331: 1850 | F331: 2207 | G331: 2469 | H331: 2648 | I331: 2797 | J331: 2884 | K331: 3019 | L331: 3185 | M331: 3382 | N331: 3768 | O331: 3877 | P331: 4298 | Q331: 37656
C332: =C331/$Q$331 -> 0.0039303165 | D332: =D331/$Q$331 -> 0.029849161 | E332: =E331/$Q$331 -> 0.049128957 | F332: =F331/$Q$331 -> 0.058609518 | G332: =G331/$Q$331 -> 0.06556724 | H332: =H331/$Q$331 -> 0.070320799 | I332: =I331/$Q$331 -> 0.074277672 | J332: =J331/$Q$331 -> 0.07658806 | ... Q332: =Q331/$Q$331 -> 1

Sheet Foreign Born Most Freq Langs
A1: Foreign-Born (Ages 3-21 Years) | L1: November 2020
O2: Home
C3: Most Frequently Spoken Languages
A4: School Number | B4: School | C4: Arabic | D4: Chinese | E4: English | F4: Haitian-Creole | G4: Portuguese | H4: Russian | I4: Spanish | J4: Vietnamese | K4: Other | L4: Number of Foreign Born Enrolled | M4: School Level
A5: 0011 | B5: DEERFIELD BEACH ELEMENTARY | C5: 0 | D5: 1 | E5: 7 | F5: 3 | G5: 36 | H5: 0 | I5: 33 | J5: 0 | K5: 3 | L5: 83 | M5: ELEMENTARY
A6: 0021 | B6: POMPANO BEACH MIDDLE | C6: 2 | D6: 0 | E6: 21 | F6: 38 | G6: 8 | H6: 0 | I6: 63 | J6: 0 | K6: 5 | L6: 137 | M6: MIDDLE
A7: 0031 | B7: OAKLAND PARK ELEMENTARY | C7: 0 | D7: 0 | E7: 12 | F7: 10 | G7: 0 | H7: 0 | I7: 72 | J7: 0 | K7: 1 | L7: 95 | M7: ELEMENTARY
A8: 0041 | B8: NORTH SIDE ELEMENTARY | C8: 0 | D8: 0 | E8: 1 | F8: 46 | G8: 0 | H8: 0 | I8: 10 | J8: 0 | K8: 0 | L8: 57 | M8: ELEMENTARY
A9: 0101 | B9: DANIA ELEMENTARY | C9: 1 | D9: 0 | E9: 17 | F9: 6 | G9: 3 | H9: 2 | I9: 26 | J9: 1 | K9: 1 | L9: 57 | M9: ELEMENTARY
A10: 0111 | B10: HOLLYWOOD HILLS ELEMENTARY | C10: 0 | D10: 0 | E10: 9 | F10: 1 | G10: 1 | H10: 1 | I10: 32 | J10: 0 | K10: 1 | L10: 45 | M10: ELEMENTARY
A11: 0121 | B11: HOLLYWOOD CENTRAL ELEMENTARY | C11: 3 | D11: 0 | E11: 7 | F11: 1 | G11: 2 | H11: 10 | I11: 32 | J11: 1 | K11: 6 | L11: 62 | M11: ELEMENTARY
A12: 0131 | B12: GULFSTREAM ACAD OF HALL BEACH | C12: 1 | D12: 1 | E12: 33 | F12: 17 | G12: 3 | H12: 16 | I12: 174 | J12: 1 | K12: 9 | L12: 255 | M12: COMBINATION
A13: 0151 | B13: RIVERLAND ELEMENTARY | C13: 0 | D13: 0 | E13: 4 | F13: 4 | G13: 0 | H13: 0 | I13: 42 | J13: 1 | K13: 0 | L13: 51 | M13: ELEMENTARY
A14: 0161 | B14: WEST HOLLYWOOD ELEMENTARY | C14: 0 | D14: 1 | E14: 5 | F14: 5 | G14: 0 | H14: 0 | I14: 57 | J14: 0 | K14: 7 | L14: 75 | M14: ELEMENTARY
A15: 0171 | B15: SOUTH BROWARD HIGH | C15: 2 | D15: 0 | E15: 124 | F15: 36 | G15: 8 | H15: 17 | I15: 229 | J15: 3 | K15: 28 | L15: 447 | M15: HIGH
A16: 0185 | B16: POMPANO BEACH INSTIT OF INTERN | C16: 0 | D16: 1 | E16: 52 | F16: 4 | G16: 9 | H16: 1 | I16: 31 | J16: 0 | K16: 17 | L16: 115 | M16: HIGH
... A329: 6501 | B329: HENRY D PERRY EDUCATION CENTER | C329: 2 | D329: 1 | E329: 74 | F329: 39 | G329: 6 | H329: 3 | I329: 142 | J329: 2 | K329: 10 | L329: 279 | M329: CENTER
A331: Total | C331: 203 | D331: 228 | E331: 9267 | F331: 4754 | G331: 2049 | H331: 495 | I331: 18221 | J331: 346 | K331: 2093 | L331: 37656

Sheet Foreign Born Country
A1: Foreign-Born (Ages 3-21 Years) | P1: November 2020
R2: Home
A3: =COUNTA(A5:A174) -> 170 | B3: Grade Level
A4: =CONCATENATE("Country (N=",A3,")") -> Country (N=170) | B4: PK | C4: KG | D4: 01 | E4: 02 | F4: 03 | G4: 04 | H4: 05 | I4: 06 | J4: 07 | K4: 08 | L4: 09 | M4: 10 | N4: 11 | O4: 12 | P4: Number of Foreign Born Enrolled
A5: AFGHANISTAN | B5: 0 | C5: 0 | D5: 0 | E5: 1 | F5: 1 | G5: 1 | H5: 0 | I5: 1 | J5: 0 | K5: 0 | L5: 0 | M5: 0 | N5: 0 | O5: 0 | P5: 4
A6: ALBANIA | B6: 0 | C6: 1 | D6: 1 | E6: 1 | F6: 0 | G6: 3 | H6: 2 | I6: 2 | J6: 3 | K6: 1 | L6: 1 | M6: 0 | N6: 1 | O6: 4 | P6: 20
A7: ALGERIA | B7: 0 | C7: 0 | D7: 0 | E7: 0 | F7: 2 | G7: 0 | H7: 0 | I7: 1 | J7: 0 | K7: 0 | L7: 0 | M7: 0 | N7: 0 | O7: 1 | P7: 4
A8: ANGOLA | B8: 0 | C8: 0 | D8: 0 | E8: 0 | F8: 0 | G8: 1 | H8: 2 | I8: 0 | J8: 0 | K8: 1 | L8: 1 | M8: 0 | N8: 0 | O8: 1 | P8: 6
A9: ANGUILLA | B9: 0 | C9: 0 | D9: 0 | E9: 0 | F9: 0 | G9: 1 | H9: 0 | I9: 1 | J9: 0 | K9: 1 | L9: 0 | M9: 0 | N9: 0 | O9: 0 | P9: 3
A10: ANTIGUA & BARBUDA | B10: 0 | C10: 0 | D10: 1 | E10: 1 | F10: 3 | G10: 2 | H10: 0 | I10: 2 | J10: 2 | K10: 3 | L10: 0 | M10: 1 | N10: 3 | O10: 6 | P10: 24
A11: ARGENTINA | B11: 1 | C11: 17 | D11: 28 | E11: 33 | F11: 35 | G11: 38 | H11: 43 | I11: 47 | J11: 48 | K11: 48 | L11: 63 | M11: 48 | N11: 53 | O11: 57 | P11: 559
A12: ARMENIA | B12: 0 | C12: 1 | D12: 0 | E12: 1 | F12: 0 | G12: 0 | H12: 0 | I12: 0 | J12: 0 | K12: 0 | L12: 0 | M12: 0 | N12: 0 | O12: 0 | P12: 2
A13: ARUBA | B13: 0 | C13: 0 | D13: 0 | E13: 0 | F13: 0 | G13: 1 | H13: 1 | I13: 1 | J13: 2 | K13: 0 | L13: 1 | M13: 1 | N13: 0 | O13: 0 | P13: 7
A14: AUSTRALIA | B14: 0 | C14: 3 | D14: 1 | E14: 2 | F14: 2 | G14: 0 | H14: 3 | I14: 5 | J14: 3 | K14: 1 | L14: 2 | M14: 1 | N14: 2 | O14: 1 | P14: 26
A15: AUSTRIA | B15: 0 | C15: 0 | D15: 0 | E15: 0 | F15: 0 | G15: 3 | H15: 0 | I15: 2 | J15: 0 | K15: 1 | L15: 0 | M15: 1 | N15: 0 | O15: 0 | P15: 7
A16: AZERBAIJAN | B16: 0 | C16: 0 | D16: 2 | E16: 0 | F16: 1 | G16: 2 | H16: 0 | I16: 0 | J16: 4 | K16: 1 | L16: 1 | M16: 0 | N16: 0 | O16: 1 | P16: 12
... A176: Total | B176: 148 | C176: 1124 | D176: 1850 | E176: 2207 | F176: 2469 | G176: 2648 | H176: 2797 | I176: 2884 | J176: 3019 | K176: 3185 | L176: 3382 | M176: 3768 | N176: 3877 | O176: 4298 | P176: 37656

Sheet Foreign Born Language
A1: Foreign-Born (Ages 3-21 Years) | P1: November 2020
R2: Home
A3: =COUNTA(A5:A115) -> 111 | B3: Grade Level
A4: =CONCATENATE("Language (N=",A3,")") -> Language (N=111) | B4: PK | C4: KG | D4: 01 | E4: 02 | F4: 03 | G4: 04 | H4: 05 | I4: 06 | J4: 07 | K4: 08 | L4: 09 | M4: 10 | N4: 11 | O4: 12 | P4: Number of Foreign Born Enrolled
A5: (AFAN) OROMO | B5: 0 | C5: 0 | D5: 1 | E5: 0 | F5: 0 | G5: 0 | H5: 1 | I5: 0 | J5: 0 | K5: 0 | L5: 0 | M5: 0 | N5: 0 | O5: 0 | P5: 2
A6: ABKHAZIAN | B6: 0 | C6: 0 | D6: 1 | E6: 0 | F6: 0 | G6: 1 | H6: 0 | I6: 0 | J6: 0 | K6: 0 | L6: 0 | M6: 0 | N6: 0 | O6: 0 | P6: 2
A7: AFRIKAANS | B7: 0 | C7: 0 | D7: 1 | E7: 2 | F7: 1 | G7: 0 | H7: 0 | I7: 1 | J7: 0 | K7: 1 | L7: 2 | M7: 1 | N7: 0 | O7: 2 | P7: 11
A8: AKATEKO | B8: 0 | C8: 0 | D8: 1 | E8: 0 | F8: 0 | G8: 0 | H8: 0 | I8: 0 | J8: 0 | K8: 0 | L8: 0 | M8: 0 | N8: 0 | O8: 0 | P8: 1
A9: ALBANIAN | B9: 0 | C9: 1 | D9: 1 | E9: 1 | F9: 0 | G9: 1 | H9: 2 | I9: 1 | J9: 2 | K9: 0 | L9: 1 | M9: 0 | N9: 1 | O9: 3 | P9: 14
A10: AMHARIC | B10: 0 | C10: 0 | D10: 0 | E10: 1 | F10: 0 | G10: 0 | H10: 0 | I10: 0 | J10: 2 | K10: 0 | L10: 0 | M10: 0 | N10: 0 | O10: 1 | P10: 4
A11: ARABIC | B11: 2 | C11: 9 | D11: 10 | E11: 13 | F11: 12 | G11: 17 | H11: 19 | I11: 17 | J11: 13 | K11: 13 | L11: 13 | M11: 18 | N11: 26 | O11: 21 | P11: 203
A12: ARIKARA | B12: 0 | C12: 0 | D12: 0 | E12: 0 | F12: 0 | G12: 0 | H12: 0 | I12: 0 | J12: 0 | K12: 0 | L12: 0 | M12: 0 | N12: 0 | O12: 2 | P12: 2
A13: ARMENIAN | B13: 0 | C13: 1 | D13: 0 | E13: 1 | F13: 0 | G13: 0 | H13: 0 | I13: 0 | J13: 0 | K13: 0 | L13: 0 | M13: 0 | N13: 0 | O13: 0 | P13: 2
A14: AZERBAIJANI | B14: 0 | C14: 0 | D14: 0 | E14: 0 | F14: 0 | G14: 0 | H14: 0 | I14: 0 | J14: 2 | K14: 0 | L14: 1 | M14: 0 | N14: 0 | O14: 0 | P14: 3
A15: BANTU | B15: 0 | C15: 0 | D15: 0 | E15: 0 | F15: 0 | G15: 0 | H15: 1 | I15: 0 | J15: 0 | K15: 1 | L15: 0 | M15: 2 | N15: 1 | O15: 0 | P15: 5
A16: BASQUE,EUSKER | B16: 0 | C16: 0 | D16: 0 | E16: 0 | F16: 0 | G16: 0 | H16: 0 | I16: 0 | J16: 0 | K16: 0 | L16: 1 | M16: 1 | N16: 0 | O16: 0 | P16: 2
... A117: Total | B117: 148 | C117: 1124 | D117: 1850 | E117: 2207 | F117: 2469 | G117: 2648 | H117: 2797 | I117: 2884 | J117: 3019 | K117: 3185 | L117: 3382 | M117: 3768 | N117: 3877 | O117: 4298 | P117: 37656

Sheet RI Current Year Enrollment
A1: Number of Active Recent Immigrants (2020-21 School Year) | E1: November 2020
A2: Ages 3-21 Years; Grades KG-12 | G2: Home
C3: Enrollment
A5: School Number | B5: School | C5: Number of Recent Immigrants Enrolled | D5: Number of Students Enrolled | E5: Percent of Recent Immigrant Enrollment
A6: 0011 | B6: DEERFIELD BEACH ELEMENTARY | C6: 8 | D6: 547 | E6: =C6/D6 -> 0.014625229
A7: 0021 | B7: POMPANO BEACH MIDDLE | C7: 11 | D7: 1041 | E7: =C7/D7 -> 0.010566763
A8: 0031 | B8: OAKLAND PARK ELEMENTARY | C8: 9 | D8: 554 | E8: =C8/D8 -> 0.016245487
A9: 0041 | B9: NORTH SIDE ELEMENTARY | C9: 7 | D9: 335 | E9: =C9/D9 -> 0.020895522
A10: 0101 | B10: DANIA ELEMENTARY | C10: 9 | D10: 404 | E10: =C10/D10 -> 0.022277228
A11: 0111 | B11: HOLLYWOOD HILLS ELEMENTARY | C11: 3 | D11: 745 | E11: =C11/D11 -> 0.0040268456
A12: 0121 | B12: HOLLYWOOD CENTRAL ELEMENTARY | C12: 8 | D12: 363 | E12: =C12/D12 -> 0.022038567
A13: 0131 | B13: GULFSTREAM ACAD OF HALL BEACH | C13: 15 | D13: 1384 | E13: =C13/D13 -> 0.01083815
A14: 0151 | B14: RIVERLAND ELEMENTARY | C14: 6 | D14: 530 | E14: =C14/D14 -> 0.011320755
A15: 0161 | B15: WEST HOLLYWOOD ELEMENTARY | C15: 8 | D15: 486 | E15: =C15/D15 -> 0.016460905
A16: 0171 | B16: SOUTH BROWARD HIGH | C16: 5 | D16: 2262 | E16: =C16/D16 -> 0.0022104332
A17: 0185 | B17: POMPANO BEACH HIGH SCHOOL | C17: 0 | D17: 1211 | E17: =C17/D17 -> 0
... A335: 6501 | B335: HENRY D PERRY EDUCATION CENTER | C335: 5 | D335: 1318 | E335: =C335/D335 -> 0.0037936267
A337: Total | C337: 2046 | D337: 259450 | E337: =C337/D337 -> 0.0078859125

Sheet RI Current Year Grade Level
A1: Number of Active Recent Immigrants (2020-21 School Year) | P1: November 2020
A2: Ages 3-21 Years | S2: Home
C4: Grade Level
A5: School Number | B5: School | C5: KG | D5: 01 | E5: 02 | F5: 03 | G5: 04 | H5: 05 | I5: 06 | J5: 07 | K5: 08 | L5: 09 | M5: 10 | N5: 11 | O5: 12 | P5: Number of Recent Immigrants Enrolled | Q5: School Level
A6: 0011 | B6: DEERFIELD BEACH ELEMENTARY | C6: 7 | D6: 1 | E6: 0 | F6: 0 | G6: 0 | H6: 0 | I6: 0 | J6: 0 | K6: 0 | L6: 0 | M6: 0 | N6: 0 | O6: 0 | P6: 8 | Q6: ELEMENTARY
A7: 0021 | B7: POMPANO BEACH MIDDLE | C7: 0 | D7: 0 | E7: 0 | F7: 0 | G7: 0 | H7: 0 | I7: 7 | J7: 1 | K7: 3 | L7: 0 | M7: 0 | N7: 0 | O7: 0 | P7: 11 | Q7: MIDDLE
A8: 0031 | B8: OAKLAND PARK ELEMENTARY | C8: 9 | D8: 0 | E8: 0 | F8: 0 | G8: 0 | H8: 0 | I8: 0 | J8: 0 | K8: 0 | L8: 0 | M8: 0 | N8: 0 | O8: 0 | P8: 9 | Q8: ELEMENTARY
A9: 0041 | B9: NORTH SIDE ELEMENTARY | C9: 5 | D9: 1 | E9: 1 | F9: 0 | G9: 0 | H9: 0 | I9: 0 | J9: 0 | K9: 0 | L9: 0 | M9: 0 | N9: 0 | O9: 0 | P9: 7 | Q9: ELEMENTARY
A10: 0101 | B10: DANIA ELEMENTARY | C10: 3 | D10: 1 | E10: 2 | F10: 2 | G10: 0 | H10: 1 | I10: 0 | J10: 0 | K10: 0 | L10: 0 | M10: 0 | N10: 0 | O10: 0 | P10: 9 | Q10: ELEMENTARY
A11: 0111 | B11: HOLLYWOOD HILLS ELEMENTARY | C11: 2 | D11: 0 | E11: 0 | F11: 1 | G11: 0 | H11: 0 | I11: 0 | J11: 0 | K11: 0 | L11: 0 | M11: 0 | N11: 0 | O11: 0 | P11: 3 | Q11: ELEMENTARY
A12: 0121 | B12: HOLLYWOOD CENTRAL ELEMENTARY | C12: 6 | D12: 1 | E12: 0 | F12: 0 | G12: 0 | H12: 1 | I12: 0 | J12: 0 | K12: 0 | L12: 0 | M12: 0 | N12: 0 | O12: 0 | P12: 8 | Q12: ELEMENTARY
A13: 0131 | B13: GULFSTREAM ACAD OF HALL BEACH | C13: 8 | D13: 0 | E13: 0 | F13: 0 | G13: 2 | H13: 2 | I13: 1 | J13: 0 | K13: 2 | L13: 0 | M13: 0 | N13: 0 | O13: 0 | P13: 15 | Q13: COMBINATION
A14: 0151 | B14: RIVERLAND ELEMENTARY | C14: 4 | D14: 0 | E14: 1 | F14: 0 | G14: 0 | H14: 1 | I14: 0 | J14: 0 | K14: 0 | L14: 0 | M14: 0 | N14: 0 | O14: 0 | P14: 6 | Q14: ELEMENTARY
A15: 0161 | B15: WEST HOLLYWOOD ELEMENTARY | C15: 8 | D15: 0 | E15: 0 | F15: 0 | G15: 0 | H15: 0 | I15: 0 | J15: 0 | K15: 0 | L15: 0 | M15: 0 | N15: 0 | O15: 0 | P15: 8 | Q15: ELEMENTARY
A16: 0171 | B16: SOUTH BROWARD HIGH | C16: 0 | D16: 0 | E16: 0 | F16: 0 | G16: 0 | H16: 0 | I16: 0 | J16: 0 | K16: 0 | L16: 1 | M16: 1 | N16: 2 | O16: 1 | P16: 5 | Q16: HIGH
A17: 0191 | B17: WILTON MANORS ELEMENTARY | C17: 6 | D17: 0 | E17: 0 | F17: 0 | G17: 0 | H17: 0 | I17: 0 | J17: 0 | K17: 0 | L17: 0 | M17: 0 | N17: 0 | O17: 0 | P17: 6 | Q17: ELEMENTARY
... A284: 6501 | B284: HENRY D PERRY EDUCATION CENTER | C284: 0 | D284: 0 | E284: 0 | F284: 0 | G284: 0 | H284: 0 | I284: 0 | J284: 0 | K284: 0 | L284: 1 | M284: 0 | N284: 1 | O284: 3 | P284: 5 | Q284: CENTER
A286: Total | C286: 1062 | D286: 98 | E286: 96 | F286: 72 | G286: 72 | H286: 83 | I286: 81 | J286: 77 | K286: 90 | L286: 107 | M286: 88 | N286: 65 | O286: 55 | P286: 2046
C287: =C286/$P$286 -> 0.51906158 | D287: =D286/$P$286 -> 0.047898338 | E287: =E286/$P$286 -> 0.046920821 | F287: =F286/$P$286 -> 0.035190616 | G287: =G286/$P$286 -> 0.035190616 | H287: =H286/$P$286 -> 0.04056696 | I287: =I286/$P$286 -> 0.039589443 | J287: =J286/$P$286 -> 0.037634409 | ... P287: =P286/$P$286 -> 1

Sheet RI Current Year Most Freq Lang
A1: Number of Active Recent Immigrants (2020-21 School Year) | L1: November 2020
A2: Ages 3-21 Years; Grades KG-12 | O2: Home
C3: Most Frequently Spoken Languages
A4: School Number | B4: School | C4: Arabic | D4: Chinese | E4: English | F4: Haitian-Creole | G4: Portuguese | H4: Russian | I4: Spanish | J4: Vietnamese | K4: Other | L4: Number of Recent Immigrants Enrolled | M4: School Level
A5: 0011 | B5: DEERFIELD BEACH ELEMENTARY | C5: 0 | D5: 0 | E5: 1 | F5: 1 | G5: 2 | H5: 0 | I5: 3 | J5: 0 | K5: 1 | L5: 8 | M5: ELEMENTARY
A6: 0021 | B6: POMPANO BEACH MIDDLE | C6: 0 | D6: 0 | E6: 3 | F6: 1 | G6: 2 | H6: 0 | I6: 4 | J6: 0 | K6: 1 | L6: 11 | M6: MIDDLE
A7: 0031 | B7: OAKLAND PARK ELEMENTARY | C7: 0 | D7: 0 | E7: 0 | F7: 2 | G7: 0 | H7: 0 | I7: 7 | J7: 0 | K7: 0 | L7: 9 | M7: ELEMENTARY
A8: 0041 | B8: NORTH SIDE ELEMENTARY | C8: 0 | D8: 0 | E8: 0 | F8: 5 | G8: 0 | H8: 0 | I8: 2 | J8: 0 | K8: 0 | L8: 7 | M8: ELEMENTARY
A9: 0101 | B9: DANIA ELEMENTARY | C9: 1 | D9: 0 | E9: 3 | F9: 0 | G9: 1 | H9: 0 | I9: 3 | J9: 1 | K9: 0 | L9: 9 | M9: ELEMENTARY
A10: 0111 | B10: HOLLYWOOD HILLS ELEMENTARY | C10: 0 | D10: 0 | E10: 0 | F10: 0 | G10: 0 | H10: 0 | I10: 3 | J10: 0 | K10: 0 | L10: 3 | M10: ELEMENTARY
A11: 0121 | B11: HOLLYWOOD CENTRAL ELEMENTARY | C11: 0 | D11: 0 | E11: 1 | F11: 0 | G11: 0 | H11: 3 | I11: 3 | J11: 0 | K11: 1 | L11: 8 | M11: ELEMENTARY
A12: 0131 | B12: GULFSTREAM ACAD OF HALL BEACH | C12: 0 | D12: 0 | E12: 0 | F12: 1 | G12: 0 | H12: 5 | I12: 9 | J12: 0 | K12: 0 | L12: 15 | M12: COMBINATION
A13: 0151 | B13: RIVERLAND ELEMENTARY | C13: 0 | D13: 0 | E13: 2 | F13: 0 | G13: 0 | H13: 0 | I13: 4 | J13: 0 | K13: 0 | L13: 6 | M13: ELEMENTARY
A14: 0161 | B14: WEST HOLLYWOOD ELEMENTARY | C14: 0 | D14: 1 | E14: 1 | F14: 1 | G14: 0 | H14: 0 | I14: 5 | J14: 0 | K14: 0 | L14: 8 | M14: ELEMENTARY
A15: 0171 | B15: SOUTH BROWARD HIGH | C15: 0 | D15: 0 | E15: 3 | F15: 0 | G15: 0 | H15: 1 | I15: 1 | J15: 0 | K15: 0 | L15: 5 | M15: HIGH
A16: 0191 | B16: WILTON MANORS ELEMENTARY | C16: 0 | D16: 0 | E16: 0 | F16: 1 | G16: 0 | H16: 0 | I16: 4 | J16: 0 | K16: 1 | L16: 6 | M16: ELEMENTARY
... A283: 6501 | B283: HENRY D PERRY EDUCATION CENTER | C283: 0 | D283: 0 | E283: 3 | F283: 0 | G283: 1 | H283: 0 | I283: 1 | J283: 0 | K283: 0 | L283: 5 | M283: CENTER
A285: Total | C285: 16 | D285: 13 | E285: 532 | F285: 215 | G285: 130 | H285: 51 | I285: 955 | J285: 20 | K285: 114 | L285: 2046
C286: =C285/$L$285 -> 0.0078201369 | D286: =D285/$L$285 -> 0.0063538612 | E286: =E285/$L$285 -> 0.26001955 | F286: =F285/$L$285 -> 0.10508309 | G286: =G285/$L$285 -> 0.063538612 | H286: =H285/$L$285 -> 0.024926686 | I286: =I285/$L$285 -> 0.46676442 | J286: =J285/$L$285 -> 0.0097751711 | ... L286: =L285/$L$285 -> 1

Sheet RI Current Year Country
A1: Number of Active Recent Immigrants (20220-21 School Year) | O1: November 2020
A2: Ages 3-21 Years | Q2: Home
A3: =COUNTA(A5:A101) -> 97 | B3: Grade Level
A4: =CONCATENATE("Country (N=",A3,")") -> Country (N=97) | B4: KG | C4: 01 | D4: 02 | E4: 03 | F4: 04 | G4: 05 | H4: 06 | I4: 07 | J4: 08 | K4: 09 | L4: 10 | M4: 11 | N4: 12 | O4: Number of Recent Immigrants Enrolled
A5: ALBANIA | B5: 1 | C5: 0 | D5: 0 | E5: 0 | F5: 0 | G5: 0 | H5: 0 | I5: 0 | J5: 0 | K5: 0 | L5: 0 | M5: 0 | N5: 0 | O5: 1
A6: ANTIGUA & BARBUDA | B6: 0 | C6: 0 | D6: 0 | E6: 1 | F6: 0 | G6: 0 | H6: 0 | I6: 0 | J6: 0 | K6: 0 | L6: 0 | M6: 0 | N6: 1 | O6: 2
A7: ARGENTINA | B7: 13 | C7: 0 | D7: 5 | E7: 1 | F7: 1 | G7: 5 | H7: 0 | I7: 2 | J7: 4 | K7: 1 | L7: 3 | M7: 3 | N7: 2 | O7: 40
A8: ARMENIA | B8: 1 | C8: 0 | D8: 0 | E8: 0 | F8: 0 | G8: 0 | H8: 0 | I8: 0 | J8: 0 | K8: 0 | L8: 0 | M8: 0 | N8: 0 | O8: 1
A9: AUSTRALIA | B9: 3 | C9: 0 | D9: 0 | E9: 0 | F9: 0 | G9: 0 | H9: 0 | I9: 0 | J9: 0 | K9: 0 | L9: 0 | M9: 0 | N9: 0 | O9: 3
A10: BAHAMAS | B10: 10 | C10: 2 | D10: 2 | E10: 1 | F10: 2 | G10: 0 | H10: 3 | I10: 2 | J10: 5 | K10: 4 | L10: 4 | M10: 1 | N10: 2 | O10: 38
A11: BAHRAIN | B11: 1 | C11: 0 | D11: 0 | E11: 0 | F11: 0 | G11: 0 | H11: 0 | I11: 1 | J11: 0 | K11: 0 | L11: 0 | M11: 0 | N11: 0 | O11: 2
A12: BANGLADESH | B12: 2 | C12: 0 | D12: 0 | E12: 0 | F12: 1 | G12: 2 | H12: 0 | I12: 1 | J12: 1 | K12: 1 | L12: 1 | M12: 0 | N12: 0 | O12: 9
A13: BARBADOS | B13: 1 | C13: 0 | D13: 1 | E13: 0 | F13: 0 | G13: 0 | H13: 0 | I13: 0 | J13: 0 | K13: 0 | L13: 0 | M13: 0 | N13: 0 | O13: 2
A14: BELARUS | B14: 3 | C14: 0 | D14: 0 | E14: 0 | F14: 0 | G14: 0 | H14: 1 | I14: 0 | J14: 0 | K14: 0 | L14: 0 | M14: 0 | N14: 0 | O14: 4
A15: BOLIVIA | B15: 5 | C15: 0 | D15: 0 | E15: 0 | F15: 0 | G15: 0 | H15: 0 | I15: 0 | J15: 0 | K15: 0 | L15: 0 | M15: 0 | N15: 0 | O15: 5
A16: BOSNIA & HERZEGOVI | B16: 1 | C16: 0 | D16: 0 | E16: 0 | F16: 0 | G16: 0 | H16: 0 | I16: 0 | J16: 0 | K16: 0 | L16: 0 | M16: 0 | N16: 0 | O16: 1
... A103: Total | B103: 1062 | C103: 98 | D103: 96 | E103: 72 | F103: 72 | G103: 83 | H103: 81 | I103: 77 | J103: 90 | K103: 107 | L103: 88 | M103: 65 | N103: 55 | O103: 2046

Sheet RI Current Year Language
A1: Number of Active Recent Immigrants (2020-21 School Year) | O1: November 2020
A2: Ages 3-21 Years; Grades KG-12 | Q2: Home
A3: =COUNTA(A5:A44) -> 40 | B3: Grade Level
A4: =CONCATENATE("Language (N=",A3,")") -> Language (N=40) | B4: KG | C4: 01 | D4: 02 | E4: 03 | F4: 04 | G4: 05 | H4: 06 | I4: 07 | J4: 08 | K4: 09 | L4: 10 | M4: 11 | N4: 12 | O4: Number of Recent Immigrants Enrolled
A5: ALBANIAN | B5: 1 | C5: 0 | D5: 0 | E5: 0 | F5: 0 | G5: 0 | H5: 0 | I5: 0 | J5: 0 | K5: 0 | L5: 0 | M5: 0 | N5: 0 | O5: 1
A6: ARABIC | B6: 9 | C6: 1 | D6: 2 | E6: 0 | F6: 0 | G6: 2 | H6: 0 | I6: 0 | J6: 0 | K6: 0 | L6: 1 | M6: 1 | N6: 0 | O6: 16
A7: ARMENIAN | B7: 1 | C7: 0 | D7: 0 | E7: 0 | F7: 0 | G7: 0 | H7: 0 | I7: 0 | J7: 0 | K7: 0 | L7: 0 | M7: 0 | N7: 0 | O7: 1
A8: BENGALI | B8: 1 | C8: 0 | D8: 0 | E8: 0 | F8: 1 | G8: 2 | H8: 0 | I8: 0 | J8: 0 | K8: 0 | L8: 0 | M8: 0 | N8: 0 | O8: 4
A9: BLACKFOOT | B9: 0 | C9: 0 | D9: 0 | E9: 0 | F9: 0 | G9: 0 | H9: 0 | I9: 1 | J9: 1 | K9: 1 | L9: 0 | M9: 0 | N9: 0 | O9: 3
A10: CATLAN | B10: 1 | C10: 0 | D10: 0 | E10: 0 | F10: 0 | G10: 0 | H10: 0 | I10: 0 | J10: 0 | K10: 0 | L10: 0 | M10: 0 | N10: 0 | O10: 1
A11: CHINESE | B11: 8 | C11: 0 | D11: 1 | E11: 0 | F11: 0 | G11: 0 | H11: 0 | I11: 0 | J11: 1 | K11: 2 | L11: 1 | M11: 0 | N11: 0 | O11: 13
A12: CREOLE | B12: 2 | C12: 0 | D12: 1 | E12: 0 | F12: 0 | G12: 0 | H12: 0 | I12: 0 | J12: 0 | K12: 0 | L12: 1 | M12: 0 | N12: 0 | O12: 4
A13: CZECH | B13: 0 | C13: 0 | D13: 0 | E13: 0 | F13: 0 | G13: 0 | H13: 0 | I13: 0 | J13: 0 | K13: 0 | L13: 1 | M13: 0 | N13: 0 | O13: 1
A14: DUTCH,NEDERLANDS | B14: 0 | C14: 0 | D14: 1 | E14: 0 | F14: 0 | G14: 0 | H14: 0 | I14: 0 | J14: 0 | K14: 0 | L14: 0 | M14: 0 | N14: 0 | O14: 1
A15: ENGLISH | B15: 211 | C15: 24 | D15: 23 | E15: 18 | F15: 22 | G15: 21 | H15: 39 | I15: 25 | J15: 32 | K15: 36 | L15: 37 | M15: 22 | N15: 22 | O15: 532
A16: FILIPINO | B16: 3 | C16: 0 | D16: 0 | E16: 0 | F16: 0 | G16: 0 | H16: 0 | I16: 0 | J16: 0 | K16: 0 | L16: 0 | M16: 0 | N16: 0 | O16: 3
... A46: Total | B46: 1062 | C46: 98 | D46: 96 | E46: 72 | F46: 72 | G46: 83 | H46: 81 | I46: 77 | J46: 90 | K46: 107 | L46: 88 | M46: 65 | N46: 55 | O46: 2046

Sheet RI Current Year Month
A1: Number of Active Recent Immigrants (20120-21 School Year) | O1: November 2020
A2: Ages 3-21 Years | Q2: Home
B3: Grade Level
A4: Month Entered US School | B4: KG | C4: 01 | D4: 02 | E4: 03 | F4: 04 | G4: 05 | H4: 06 | I4: 07 | J4: 08 | K4: 09 | L4: 10 | M4: 11 | N4: 12 | O4: Number of Recent Immigrants Enrolled
A5: 44044 | B5: 975 | C5: 65 | D5: 59 | E5: 45 | F5: 44 | G5: 58 | H5: 50 | I5: 46 | J5: 61 | K5: 67 | L5: 57 | M5: 40 | N5: 30 | O5: 1597
A6: 44075 | B6: 44 | C6: 12 | D6: 16 | E6: 13 | F6: 8 | G6: 10 | H6: 13 | I6: 12 | J6: 13 | K6: 15 | L6: 18 | M6: 12 | N6: 13 | O6: 199
A7: 44105 | B7: 30 | C7: 12 | D7: 12 | E7: 10 | F7: 14 | G7: 9 | H7: 12 | I7: 13 | J7: 13 | K7: 15 | L7: 9 | M7: 10 | N7: 8 | O7: 167
A8: 44136 | B8: 13 | C8: 9 | D8: 9 | E8: 4 | F8: 6 | G8: 6 | H8: 6 | I8: 6 | J8: 3 | K8: 10 | L8: 3 | M8: 3 | N8: 4 | O8: 82
A9: 44166 | B9: 0 | C9: 0 | D9: 0 | E9: 0 | F9: 0 | G9: 0 | H9: 0 | I9: 0 | J9: 0 | K9: 0 | L9: 1 | M9: 0 | N9: 0 | O9: 1
A10: 44197
A11: 44228
A12: 44256
A13: 44287
A14: 44317
A16: Total | B16: 1062 | C16: 98 | D16: 96 | E16: 72 | F16: 72 | G16: 83 | H16: 81 | I16: 77 | J16: 90 | K16: 107 | L16: 88 | M16: 65 | N16: 55 | O16: 2046

Sheet RI 3 academ Enrollment
A1: Active Recent Immigrants (Students Enrolled for Less Than Three Academic Years) | E1: November 2020
A2: Ages 3-21 Years; Grades KG-12 | G2: Home
C3: Enrollment
A5: School Number | B5: School | C5: Number of Recent Immigrants Enrolled | D5: Number of Students Enrolled | E5: Percent of Recent Immigrant Enrollement
A6: 0011 | B6: DEERFIELD BEACH ELEMENTARY | C6: 49 | D6: 547 | E6: =C6/D6 -> 0.089579525
A7: 0021 | B7: POMPANO BEACH MIDDLE | C7: 58 | D7: 1041 | E7: =C7/D7 -> 0.055715658
A8: 0031 | B8: OAKLAND PARK ELEMENTARY | C8: 69 | D8: 554 | E8: =C8/D8 -> 0.12454874
A9: 0041 | B9: NORTH SIDE ELEMENTARY | C9: 32 | D9: 335 | E9: =C9/D9 -> 0.095522388
A10: 0101 | B10: DANIA ELEMENTARY | C10: 38 | D10: 404 | E10: =C10/D10 -> 0.094059406
A11: 0111 | B11: HOLLYWOOD HILLS ELEMENTARY | C11: 22 | D11: 745 | E11: =C11/D11 -> 0.029530201
A12: 0121 | B12: HOLLYWOOD CENTRAL ELEMENTARY | C12: 42 | D12: 363 | E12: =C12/D12 -> 0.11570248
A13: 0131 | B13: GULFSTREAM ACAD OF HALL BEACH | C13: 125 | D13: 1384 | E13: =C13/D13 -> 0.090317919
A14: 0151 | B14: RIVERLAND ELEMENTARY | C14: 32 | D14: 530 | E14: =C14/D14 -> 0.060377358
A15: 0161 | B15: WEST HOLLYWOOD ELEMENTARY | C15: 49 | D15: 486 | E15: =C15/D15 -> 0.10082305
A16: 0171 | B16: SOUTH BROWARD HIGH | C16: 118 | D16: 2262 | E16: =C16/D16 -> 0.052166225
A17: 0185 | B17: POMPANO BEACH INSTIT OF INTERN | C17: 2 | D17: 1211 | E17: =C17/D17 -> 0.0016515277
... A335: 6501 | B335: HENRY D PERRY EDUCATION CENTER | C335: 62 | D335: 1318 | E335: =C335/D335 -> 0.047040971
A337: Total | C337: 14712 | D337: 259450 | E337: =C337/D337 -> 0.056704567

Sheet RI 3 academ School Grade Level
A1: Active Recent Immigrants (Students Enrolled for Less Than Three Academic Years) | P1: November 2020
A2: Ages 3-21 Years | S2: Home
C3: Grade Level
A5: School Number | B5: School | C5: KG | D5: 01 | E5: 02 | F5: 03 | G5: 04 | H5: 05 | I5: 06 | J5: 07 | K5: 08 | L5: 09 | M5: 10 | N5: 11 | O5: 12 | P5: Number of Recent Immigrants Enrolled | Q5: School Level
A6: 0011 | B6: DEERFIELD BEACH ELEMENTARY | C6: 7 | D6: 12 | E6: 10 | F6: 5 | G6: 7 | H6: 8 | I6: 0 | J6: 0 | K6: 0 | L6: 0 | M6: 0 | N6: 0 | O6: 0 | P6: 49 | Q6: ELEMENTARY
A7: 0021 | B7: POMPANO BEACH MIDDLE | C7: 0 | D7: 0 | E7: 0 | F7: 0 | G7: 0 | H7: 0 | I7: 21 | J7: 15 | K7: 22 | L7: 0 | M7: 0 | N7: 0 | O7: 0 | P7: 58 | Q7: MIDDLE
A8: 0031 | B8: OAKLAND PARK ELEMENTARY | C8: 9 | D8: 13 | E8: 19 | F8: 11 | G8: 6 | H8: 11 | I8: 0 | J8: 0 | K8: 0 | L8: 0 | M8: 0 | N8: 0 | O8: 0 | P8: 69 | Q8: ELEMENTARY
A9: 0041 | B9: NORTH SIDE ELEMENTARY | C9: 5 | D9: 4 | E9: 8 | F9: 5 | G9: 6 | H9: 4 | I9: 0 | J9: 0 | K9: 0 | L9: 0 | M9: 0 | N9: 0 | O9: 0 | P9: 32 | Q9: ELEMENTARY
A10: 0101 | B10: DANIA ELEMENTARY | C10: 3 | D10: 8 | E10: 8 | F10: 8 | G10: 6 | H10: 5 | I10: 0 | J10: 0 | K10: 0 | L10: 0 | M10: 0 | N10: 0 | O10: 0 | P10: 38 | Q10: ELEMENTARY
A11: 0111 | B11: HOLLYWOOD HILLS ELEMENTARY | C11: 2 | D11: 5 | E11: 5 | F11: 3 | G11: 2 | H11: 5 | I11: 0 | J11: 0 | K11: 0 | L11: 0 | M11: 0 | N11: 0 | O11: 0 | P11: 22 | Q11: ELEMENTARY
A12: 0121 | B12: HOLLYWOOD CENTRAL ELEMENTARY | C12: 6 | D12: 7 | E12: 14 | F12: 3 | G12: 6 | H12: 6 | I12: 0 | J12: 0 | K12: 0 | L12: 0 | M12: 0 | N12: 0 | O12: 0 | P12: 42 | Q12: ELEMENTARY
A13: 0131 | B13: GULFSTREAM ACAD OF HALL BEACH | C13: 8 | D13: 17 | E13: 27 | F13: 10 | G13: 12 | H13: 12 | I13: 16 | J13: 11 | K13: 12 | L13: 0 | M13: 0 | N13: 0 | O13: 0 | P13: 125 | Q13: COMBINATION
A14: 0151 | B14: RIVERLAND ELEMENTARY | C14: 4 | D14: 5 | E14: 9 | F14: 5 | G14: 4 | H14: 5 | I14: 0 | J14: 0 | K14: 0 | L14: 0 | M14: 0 | N14: 0 | O14: 0 | P14: 32 | Q14: ELEMENTARY
A15: 0161 | B15: WEST HOLLYWOOD ELEMENTARY | C15: 8 | D15: 12 | E15: 8 | F15: 5 | G15: 11 | H15: 5 | I15: 0 | J15: 0 | K15: 0 | L15: 0 | M15: 0 | N15: 0 | O15: 0 | P15: 49 | Q15: ELEMENTARY
A16: 0171 | B16: SOUTH BROWARD HIGH | C16: 0 | D16: 0 | E16: 0 | F16: 0 | G16: 0 | H16: 0 | I16: 0 | J16: 0 | K16: 0 | L16: 34 | M16: 27 | N16: 27 | O16: 30 | P16: 118 | Q16: HIGH
A17: 0185 | B17: POMPANO BEACH HIGH SCHOOL | C17: 0 | D17: 0 | E17: 0 | F17: 0 | G17: 0 | H17: 0 | I17: 0 | J17: 0 | K17: 0 | L17: 0 | M17: 2 | N17: 0 | O17: 0 | P17: 2 | Q17: HIGH
... A319: 6501 | B319: HENRY D PERRY EDUCATION CENTER | C319: 0 | D319: 0 | E319: 0 | F319: 0 | G319: 0 | H319: 0 | I319: 0 | J319: 0 | K319: 2 | L319: 4 | M319: 5 | N319: 8 | O319: 43 | P319: 62 | Q319: CENTER
A321: Total | C321: 1091 | D321: 1770 | E321: 2006 | F321: 1031 | G321: 960 | H321: 999 | I321: 920 | J321: 978 | K321: 976 | L321: 981 | M321: 1052 | N321: 999 | O321: 949 | P321: 14712
C322: =C321/$P$321 -> 0.074157151 | D322: =D321/$P$321 -> 0.12030995 | E322: =E321/$P$321 -> 0.13635128 | F322: =F321/$P$321 -> 0.070078847 | G322: =G321/$P$321 -> 0.065252855 | H322: =H321/$P$321 -> 0.067903752 | I322: =I321/$P$321 -> 0.062533986 | J322: =J321/$P$321 -> 0.066476346 | ... P322: =P321/$P$321 -> 1

Sheet RI 3 academ Most Freq Lang
A1: Active Recent Immigrants (Students Enrolled for Less Than Three Academic Years) | L1: November 2020
A2: Ages 3-21 Years; Grades KG-12 | O2: Home
C3: Most Frequently Spoken Languages
A5: School Number | B5: School | C5: Arabic | D5: Chinese | E5: English | F5: Haitian-Creole | G5: Portuguese | H5: Russian | I5: Spanish | J5: Vietnamese | K5: Other | L5: Number of Recent Immigrants Enrolled | M5: School Level
A6: 0011 | B6: DEERFIELD BEACH ELEMENTARY | C6: 0 | D6: 0 | E6: 2 | F6: 3 | G6: 25 | H6: 0 | I6: 17 | J6: 0 | K6: 2 | L6: 49 | M6: ELEMENTARY
A7: 0021 | B7: POMPANO BEACH MIDDLE | C7: 0 | D7: 0 | E7: 8 | F7: 9 | G7: 6 | H7: 0 | I7: 33 | J7: 0 | K7: 2 | L7: 58 | M7: MIDDLE
A8: 0031 | B8: OAKLAND PARK ELEMENTARY | C8: 0 | D8: 0 | E8: 7 | F8: 7 | G8: 0 | H8: 0 | I8: 54 | J8: 0 | K8: 1 | L8: 69 | M8: ELEMENTARY
A9: 0041 | B9: NORTH SIDE ELEMENTARY | C9: 0 | D9: 0 | E9: 1 | F9: 23 | G9: 0 | H9: 0 | I9: 8 | J9: 0 | K9: 0 | L9: 32 | M9: ELEMENTARY
A10: 0101 | B10: DANIA ELEMENTARY | C10: 1 | D10: 0 | E10: 13 | F10: 2 | G10: 2 | H10: 2 | I10: 16 | J10: 1 | K10: 1 | L10: 38 | M10: ELEMENTARY
A11: 0111 | B11: HOLLYWOOD HILLS ELEMENTARY | C11: 0 | D11: 0 | E11: 4 | F11: 0 | G11: 0 | H11: 0 | I11: 17 | J11: 0 | K11: 1 | L11: 22 | M11: ELEMENTARY
A12: 0121 | B12: HOLLYWOOD CENTRAL ELEMENTARY | C12: 2 | D12: 0 | E12: 3 | F12: 1 | G12: 2 | H12: 6 | I12: 23 | J12: 0 | K12: 5 | L12: 42 | M12: ELEMENTARY
A13: 0131 | B13: GULFSTREAM ACAD OF HALL BEACH | C13: 1 | D13: 0 | E13: 13 | F13: 4 | G13: 3 | H13: 7 | I13: 92 | J13: 1 | K13: 4 | L13: 125 | M13: COMBINATION
A14: 0151 | B14: RIVERLAND ELEMENTARY | C14: 0 | D14: 0 | E14: 3 | F14: 2 | G14: 0 | H14: 0 | I14: 27 | J14: 0 | K14: 0 | L14: 32 | M14: ELEMENTARY
A15: 0161 | B15: WEST HOLLYWOOD ELEMENTARY | C15: 0 | D15: 1 | E15: 2 | F15: 3 | G15: 0 | H15: 0 | I15: 36 | J15: 0 | K15: 7 | L15: 49 | M15: ELEMENTARY
A16: 0171 | B16: SOUTH BROWARD HIGH | C16: 1 | D16: 0 | E16: 23 | F16: 9 | G16: 2 | H16: 6 | I16: 72 | J16: 1 | K16: 4 | L16: 118 | M16: HIGH
A17: 0185 | B17: POMPANO BEACH HIGH SCHOOL | C17: 0 | D17: 0 | E17: 2 | F17: 0 | G17: 0 | H17: 0 | I17: 0 | J17: 0 | K17: 0 | L17: 2 | M17: HIGH
... A319: 6501 | B319: HENRY D PERRY EDUCATION CENTER | C319: 0 | D319: 0 | E319: 21 | F319: 10 | G319: 2 | H319: 0 | I319: 27 | J319: 0 | K319: 2 | L319: 62 | M319: CENTER
A321: Total | C321: 80 | D321: 81 | E321: 3002 | F321: 1612 | G321: 1122 | H321: 252 | I321: 7607 | J321: 165 | K321: 791 | L321: 14712
C322: =C321/$L$321 -> 0.0054377379 | D322: =D321/$L$321 -> 0.0055057096 | E322: =E321/$L$321 -> 0.20405111 | F322: =F321/$L$321 -> 0.10957042 | G322: =G321/$L$321 -> 0.076264274 | H322: =H321/$L$321 -> 0.017128874 | I322: =I321/$L$321 -> 0.5170609 | J322: =J321/$L$321 -> 0.011215334 | ... L322: =L321/$L$321 -> 1

Sheet RI 3 academ years country
A1: Active Recent Immigrants (Students Enrolled for Less Than Three Academic Years) | O1: November 2020
A2: Ages 3-21 Years | Q2: Home
A3: =COUNTA(A5:A152) -> 148 | B3: Grade Level
A4: =CONCATENATE("Country (N=",A3,")") -> Country (N=148) | B4: KG | C4: 01 | D4: 02 | E4: 03 | F4: 04 | G4: 05 | H4: 06 | I4: 07 | J4: 08 | K4: 09 | L4: 10 | M4: 11 | N4: 12 | O4: Number of Recent Immigrants Enrolled
A5: AFGHANISTAN | B5: 0 | C5: 0 | D5: 1 | E5: 1 | F5: 0 | G5: 0 | H5: 0 | I5: 0 | J5: 0 | K5: 0 | L5: 0 | M5: 0 | N5: 0 | O5: 2
A6: ALBANIA | B6: 1 | C6: 1 | D6: 1 | E6: 0 | F6: 0 | G6: 1 | H6: 1 | I6: 1 | J6: 0 | K6: 0 | L6: 0 | M6: 0 | N6: 1 | O6: 7
A7: ALGERIA | B7: 0 | C7: 0 | D7: 0 | E7: 1 | F7: 0 | G7: 0 | H7: 1 | I7: 0 | J7: 0 | K7: 0 | L7: 0 | M7: 0 | N7: 0 | O7: 2
A8: ANGOLA | B8: 0 | C8: 0 | D8: 0 | E8: 0 | F8: 1 | G8: 1 | H8: 0 | I8: 0 | J8: 1 | K8: 0 | L8: 0 | M8: 0 | N8: 0 | O8: 3
A9: ANGUILLA | B9: 0 | C9: 0 | D9: 0 | E9: 0 | F9: 0 | G9: 0 | H9: 1 | I9: 0 | J9: 1 | K9: 0 | L9: 0 | M9: 0 | N9: 0 | O9: 2
A10: ANTIGUA & BARBUDA | B10: 0 | C10: 1 | D10: 1 | E10: 3 | F10: 1 | G10: 0 | H10: 1 | I10: 0 | J10: 1 | K10: 0 | L10: 0 | M10: 0 | N10: 2 | O10: 10
A11: ARGENTINA | B11: 17 | C11: 28 | D11: 31 | E11: 16 | F11: 10 | G11: 14 | H11: 20 | I11: 15 | J11: 15 | K11: 22 | L11: 17 | M11: 13 | N11: 14 | O11: 232
A12: ARMENIA | B12: 1 | C12: 0 | D12: 1 | E12: 0 | F12: 0 | G12: 0 | H12: 0 | I12: 0 | J12: 0 | K12: 0 | L12: 0 | M12: 0 | N12: 0 | O12: 2
A13: ARUBA | B13: 0 | C13: 0 | D13: 0 | E13: 0 | F13: 0 | G13: 1 | H13: 0 | I13: 0 | J13: 0 | K13: 0 | L13: 0 | M13: 0 | N13: 0 | O13: 1
A14: AUSTRALIA | B14: 3 | C14: 1 | D14: 2 | E14: 1 | F14: 0 | G14: 1 | H14: 2 | I14: 1 | J14: 0 | K14: 1 | L14: 1 | M14: 1 | N14: 0 | O14: 14
A15: AZERBAIJAN | B15: 0 | C15: 2 | D15: 0 | E15: 0 | F15: 0 | G15: 0 | H15: 0 | I15: 3 | J15: 0 | K15: 1 | L15: 0 | M15: 0 | N15: 0 | O15: 6
A16: BAHAMAS | B16: 11 | C16: 23 | D16: 34 | E16: 16 | F16: 17 | G16: 10 | H16: 15 | I16: 24 | J16: 27 | K16: 22 | L16: 36 | M16: 24 | N16: 45 | O16: 304
... A154: Total | B154: 1091 | C154: 1770 | D154: 2006 | E154: 1031 | F154: 960 | G154: 999 | H154: 920 | I154: 978 | J154: 976 | K154: 981 | L154: 1052 | M154: 999 | N154: 949 | O154: 14712

Sheet RI 3 academ years language
A1: Active Recent Immigrants (Students Enrolled for Less Than Three Academic Years) | O1: November 2020
A2: Ages 3-21 Years | Q2: Home
A3: =COUNTA(A5:A92) -> 88 | B3: Grade Level
A4: =CONCATENATE("Language (N=",A3,")") -> Language (N=88) | B4: KG | C4: 01 | D4: 02 | E4: 03 | F4: 04 | G4: 05 | H4: 06 | I4: 07 | J4: 08 | K4: 09 | L4: 10 | M4: 11 | N4: 12 | O4: Number of Recent Immigrants Enrolled
A5: (AFAN) OROMO | B5: 0 | C5: 1 | D5: 0 | E5: 0 | F5: 0 | G5: 0 | H5: 0 | I5: 0 | J5: 0 | K5: 0 | L5: 0 | M5: 0 | N5: 0 | O5: 1
A6: ABKHAZIAN | B6: 0 | C6: 1 | D6: 0 | E6: 0 | F6: 0 | G6: 0 | H6: 0 | I6: 0 | J6: 0 | K6: 0 | L6: 0 | M6: 0 | N6: 0 | O6: 1
A7: AFRIKAANS | B7: 0 | C7: 1 | D7: 2 | E7: 1 | F7: 0 | G7: 0 | H7: 1 | I7: 0 | J7: 0 | K7: 0 | L7: 1 | M7: 0 | N7: 0 | O7: 6
A8: AKATEKO | B8: 0 | C8: 1 | D8: 0 | E8: 0 | F8: 0 | G8: 0 | H8: 0 | I8: 0 | J8: 0 | K8: 0 | L8: 0 | M8: 0 | N8: 0 | O8: 1
A9: ALBANIAN | B9: 1 | C9: 1 | D9: 1 | E9: 0 | F9: 0 | G9: 1 | H9: 1 | I9: 1 | J9: 0 | K9: 0 | L9: 0 | M9: 0 | N9: 1 | O9: 7
A10: AMHARIC | B10: 0 | C10: 0 | D10: 1 | E10: 0 | F10: 0 | G10: 0 | H10: 0 | I10: 0 | J10: 0 | K10: 0 | L10: 0 | M10: 0 | N10: 0 | O10: 1
A11: ARABIC | B11: 9 | C11: 10 | D11: 12 | E11: 3 | F11: 2 | G11: 10 | H11: 7 | I11: 7 | J11: 4 | K11: 3 | L11: 4 | M11: 5 | N11: 4 | O11: 80
A12: ARIKARA | B12: 0 | C12: 0 | D12: 0 | E12: 0 | F12: 0 | G12: 0 | H12: 0 | I12: 0 | J12: 0 | K12: 0 | L12: 0 | M12: 0 | N12: 2 | O12: 2
A13: ARMENIAN | B13: 1 | C13: 0 | D13: 1 | E13: 0 | F13: 0 | G13: 0 | H13: 0 | I13: 0 | J13: 0 | K13: 0 | L13: 0 | M13: 0 | N13: 0 | O13: 2
A14: AZERBAIJANI | B14: 0 | C14: 0 | D14: 0 | E14: 0 | F14: 0 | G14: 0 | H14: 0 | I14: 2 | J14: 0 | K14: 1 | L14: 0 | M14: 0 | N14: 0 | O14: 3
A15: BENGALI | B15: 1 | C15: 8 | D15: 11 | E15: 2 | F15: 2 | G15: 3 | H15: 3 | I15: 4 | J15: 0 | K15: 3 | L15: 4 | M15: 4 | N15: 5 | O15: 50
A16: BERBER | B16: 0 | C16: 0 | D16: 1 | E16: 0 | F16: 0 | G16: 0 | H16: 0 | I16: 0 | J16: 0 | K16: 0 | L16: 0 | M16: 0 | N16: 0 | O16: 1
... A94: Total | B94: 1091 | C94: 1770 | D94: 2006 | E94: 1031 | F94: 960 | G94: 999 | H94: 920 | I94: 978 | J94: 976 | K94: 981 | L94: 1052 | M94: 999 | N94: 949 | O94: 14712

Sheet RI 3 academ years by year
A1: Active Recent Immigrants (Students Enrolled for Less Than Three Academic Years) | O1: November 2020
A2: Ages 3-21 Years | Q2: Home
B3: Grade Level
A4: School Year (based on DEUSS) | B4: KG | C4: 01 | D4: 02 | E4: 03 | F4: 04 | G4: 05 | H4: 06 | I4: 07 | J4: 08 | K4: 09 | L4: 10 | M4: 11 | N4: 12 | O4: Number of Recent Immigrants Enrolled
A5: 2017-18 SY | B5: 0 | C5: 2 | D5: 30 | E5: 234 | F5: 176 | G5: 207 | H5: 188 | I5: 210 | J5: 186 | K5: 192 | L5: 201 | M5: 182 | N5: 238 | O5: 2046
A6: 2018-19 SY | B6: 2 | C6: 83 | D6: 1556 | E6: 373 | F6: 362 | G6: 394 | H6: 341 | I6: 332 | J6: 358 | K6: 377 | L6: 337 | M6: 404 | N6: 381 | O6: 5300
A7: 2019-20 SY | B7: 27 | C7: 1587 | D7: 324 | E7: 352 | F7: 350 | G7: 315 | H7: 310 | I7: 359 | J7: 342 | K7: 305 | L7: 426 | M7: 348 | N7: 275 | O7: 5320
A8: 2020-21 SY | B8: 1062 | C8: 98 | D8: 96 | E8: 72 | F8: 72 | G8: 83 | H8: 81 | I8: 77 | J8: 90 | K8: 107 | L8: 88 | M8: 65 | N8: 55 | O8: 2046
A10: Total | B10: 1091 | C10: 1770 | D10: 2006 | E10: 1031 | F10: 960 | G10: 999 | H10: 920 | I10: 978 | J10: 976 | K10: 981 | L10: 1052 | M10: 999 | N10: 949 | O10: 14712
