Workbook
Name dva: 'Daily Expenses'!$B$51:$C$62
Name dvu: 'Daily Expenses'!$B$37:$C$48
Name mileage: 'Daily Expenses'!$B$38:$D$48

Sheet Daily Expenses
F3: Travel Reimbursement Form
B6: Employee: | I6: Conference Name & Location:
C7: Budget Code: | G7: District Vehicle Available? | J7: Attach Conference Agenda/Schedule
G8: (Contact Nate Marshall @ Ext 4503 or 541-404-1044 | K8: Departure Date: | N8: Return Date:
G9: to schedule a district vehicle for your trip)
E10: Mileage Expenses | K10: Mileage reimbursement is $0.655 per mile if a district vehicle was not available. There will be NO Reimbursment if a district vehicle was available and you choose not to use it.
A11: Mileage-Select from Dropdown | E11: DVU | H11: DVU | I11: =VLOOKUP(E11,dvu,2,FALSE) -> 0 | K11: Use only one line DVU if district vehicle was unavailable or
A12: DVU = District Vehicle Unavailable | E12: DVA | H12: DVA | I12: =VLOOKUP(E12,dva,2,FALSE) -> 0 | K12: DVA is district vehicle was available and you did not use it.
A13: DVA = District Vehicle Available | E13: If using Other enter Mileage here | K13: If using "Other" attached Google Map showing mileage
E14: TOTAL | I14: =SUM(I11:I12) -> 0 | K14: and enter round trip total miles here.
E15: Other | K15: The following documents must be included to receive reimbursement.
E16: Shuttle | H16: No | I16: 0 | K16: Receipt showing amount paid for shuttle
E17: Taxi/Uber/Lyft | H17: No | I17: 0 | K17: Receipt showing amount paid for services
E18: Parking | H18: No | I18: 0 | K18: Hotel or Parking Garage receipt
E19: TOTAL | I19: =SUM(I16:I18) -> 0
E20: Per Diem
B21: =L8 -> 0 | D21: =IF(O8<I41," ",I41) | F21: =IF(O8<I42," ",I42) | H21: =IF(O8<I43," ",I43) | J21: =IF(O8<I44," ",I44) | L21: =IF(O8<I45," ",I45) | N21: =IF(O8<I46," ",I46)
A22: Breakfast | B22: No | C22: =IF(B22="Yes",13, IF(B22="No",0)) -> 0 | D22: No | E22: =IF(D22="Yes",13, IF(D22="No",0)) -> 0 | F22: No | G22: =IF(F22="Yes",13, IF(F22="No",0)) -> 0 | H22: No | I22: =IF(H22="Yes",13, IF(H22="No",0)) -> 0 | J22: No | K22: =IF(J22="Yes",13, IF(J22="No",0)) -> 0 | L22: No | M22: =IF(L22="Yes",13, IF(L22="No",0)) -> 0 | N22: No | O22: =IF(N22="Yes",13, IF(N22="No",0)) -> 0
A23: Lunch | B23: No | C23: =IF(B23="Yes",14, IF(B23="No",0)) -> 0 | D23: No | E23: =IF(D23="Yes",14, IF(D23="No",0)) -> 0 | F23: No | G23: =IF(F23="Yes",14, IF(F23="No",0)) -> 0 | H23: No | I23: =IF(H23="Yes",14, IF(H23="No",0)) -> 0 | J23: No | K23: =IF(J23="Yes",14, IF(J23="No",0)) -> 0 | L23: No | M23: =IF(L23="Yes",14, IF(L23="No",0)) -> 0 | N23: No | O23: =IF(N23="Yes",14, IF(N23="No",0)) -> 0
A24: Dinner | B24: No | C24: =IF(B24="Yes",23, IF(B24="No",0)) -> 0 | D24: No | E24: =IF(D24="Yes",23, IF(D24="No",0)) -> 0 | F24: No | G24: =IF(F24="Yes",23, IF(F24="No",0)) -> 0 | H24: No | I24: =IF(H24="Yes",23, IF(H24="No",0)) -> 0 | J24: No | K24: =IF(J24="Yes",23, IF(J24="No",0)) -> 0 | L24: No | M24: =IF(L24="Yes",23, IF(L24="No",0)) -> 0 | N24: No | O24: =IF(N24="Yes",23, IF(N24="No",0)) -> 0
A26: Total Per Diem | C26: =SUM(C22:C24) -> 0 | E26: =SUM(E22:E24) -> 0 | G26: =SUM(G22:G24) -> 0 | I26: =SUM(I22:I24) -> 0 | K26: =SUM(K22:K24) -> 0 | M26: =SUM(M22:M24) -> 0 | O26: =SUM(O22:O24) -> 0
E27: Total
F29: Total Reimbursed | I29: =I14+I19+C26+E26+G26+I26+K26+M26+O26 -> 0
A31: Signature of Employee: | F31: Date: | H31: Signature of Authorizing Admin: | N31: Date:
A32: Please print, sign, and give to administrator for approval. By signing I certify that the above information is accurate and true. | J32: By signing I certify that the above information is accurate and true.
A33: After this form is signed by the Authorizing Admin, turn it into your building secretary so a purchase requisition can be created.
A34: If you have questions: Please contact Denese Hale or Nicole Leighton in the Business Office.
C37: DVU | E37: Start | F37: =L8 -> 0 | G37: None | I37: Yes | J37: No
A38: 0.655 | B38: DVU | C38: 0 | E38: 2 | F38: =F37+1 -> 1
B39: Bend | C39: =ROUND((D39*2)*$A$38,2) -> 317.94 | D39: =242.7 -> 242.7 | E39: 3 | F39: =F38+1 -> 2
B40: Corvallis | C40: =ROUND((D40*2)*$A$38,2) -> 193.75 | D40: 147.9 | E40: 4 | F40: =F39+1 -> 3 | I40: =L8 -> 0 | J40: =DATEDIF(I40,$O$8,"d") -> 0
B41: Eugene | C41: =ROUND((D41*2)*$A$38,2) -> 179.21 | D41: 136.8 | E41: 5 | F41: =F40+1 -> 4 | I41: =I40+1 -> 1 | J41: =DATEDIF(I41,$O$8,"d") -> #NUM!
B42: Grants Pass | C42: =ROUND((D42*2)*$A$38,2) -> 157.2 | D42: 120 | E42: 6 | F42: =F41+1 -> 5 | I42: =I41+1 -> 2 | J42: =DATEDIF(I42,$O$8,"d") -> #NUM!
B43: Lincoln City | C43: =ROUND((D43*2)*$A$38,2) -> 183.66 | D43: 140.2 | E43: End | F43: =O8 -> 0 | I43: =I42+1 -> 3 | J43: =DATEDIF(I43,$O$8,"d") -> #NUM!
B44: Medford | C44: =ROUND((D44*2)*$A$38,2) -> 193.75 | D44: 147.9 | I44: =I43+1 -> 4 | J44: =DATEDIF(I44,$O$8,"d") -> #NUM!
B45: Portland-Downtown | C45: =ROUND((D45*2)*$A$38,2) -> 319.12 | D45: 243.6 | I45: =I44+1 -> 5 | J45: =DATEDIF(I45,$O$8,"d") -> #NUM!
B46: Salem | C46: =ROUND((D46*2)*$A$38,2) -> 261.61 | D46: 199.7 | I46: =I45+1 -> 6 | J46: =DATEDIF(I46,$O$8,"d") -> #NUM!
B47: Seaside | C47: =ROUND((D47*2)*$A$38,2) -> 303.53 | D47: 231.7
B48: Other | C48: =I13*A38 -> 0
C51: DVA
A52: =A38/2 -> 0.3275 | B52: DVA | C52: 0
B53: Bend | C53: 0 | D53: =242.7 -> 242.7
B54: Corvallis | C54: 0 | D54: 147.9
B55: Eugene | C55: 0 | D55: 136.8
B56: Grants Pass | C56: 0 | D56: 120
B57: Lincoln City | C57: 0 | D57: 140.2
B58: Medford | C58: 0 | D58: 147.9
B59: Portland-Downtown | C59: 0 | D59: 243.6
B60: Salem | C60: 0 | D60: 199.7
B61: Seaside | C61: 0 | D61: 231.7
B62: Other | C62: 0

Sheet Sheet3
D3: =IF('Daily Expenses'!#REF!="yes",'Daily Expenses'!#REF!) -> #REF!
D4: =IF('Daily Expenses'!#REF!="yes",'Daily Expenses'!#REF!) -> #REF!
D5: =IF('Daily Expenses'!#REF!="yes",'Daily Expenses'!#REF!) -> #REF!
D6: =IF('Daily Expenses'!#REF!="yes",'Daily Expenses'!#REF!) -> #REF!
D7: =IF('Daily Expenses'!I11="yes",'Daily Expenses'!J11) -> FALSE
D8: =IF('Daily Expenses'!I15="yes",'Daily Expenses'!J15) -> FALSE
D9: =IF('Daily Expenses'!H16="yes",'Daily Expenses'!I16) -> FALSE
D10: =IF('Daily Expenses'!H17="yes",'Daily Expenses'!I17) -> FALSE
D11: =IF('Daily Expenses'!H18="yes",'Daily Expenses'!I18) -> FALSE
D12: =IF(#REF!="yes",#REF!) -> #REF!
D17: Monday | F17: Tuesday | H17: Wednesday | J17: Thursday | L17: Friday | N17: Saturday | P17: Sunday
D19: =IF('Daily Expenses'!#REF!="yes",'Daily Expenses'!C26) -> #REF! | F19: =IF('Daily Expenses'!#REF!="yes",'Daily Expenses'!E26) -> #REF! | H19: =IF('Daily Expenses'!#REF!="yes",'Daily Expenses'!G26) -> #REF! | J19: =IF('Daily Expenses'!#REF!="yes",'Daily Expenses'!I26) -> #REF! | L19: =IF('Daily Expenses'!#REF!="yes",'Daily Expenses'!K26) -> #REF! | N19: =IF('Daily Expenses'!#REF!="yes",'Daily Expenses'!M26) -> #REF! | P19: =IF('Daily Expenses'!#REF!="yes",'Daily Expenses'!O26) -> #REF!
D22: =SUM(D19,F19,H19,J19,L19,N19,P19) -> #REF!
A33: Other | I33: =IF(E15="Portland-Downtown","$79.35") -> FALSE
A34: Portland-Downtown | C34: 79.35
A35: Lincoln City | C35: 74.64
A36: Salem | C36: 27.6
A37: Eugene | C37: 50.6
A38: Medford | C38: 238.05
A39: Grants Pass | C39: 112.52
A40: Coos Bay | C40: 162.15
A41: Corvallis | C41: 12.65
A42: Bend | C42: 141.45
