Workbook

Sheet Cover Page
A4: CARROLL INDEPENDENT SCHOOL DISTICT
A28: Total Debt Service Schedule
A37: 45473
A38: (After 2024 Defeasance)
G55: Lewis A. Wilks
G56: US Capital Advisors LLC
G57: 4444 Westheimer, Suite G500
G58: Houston, Texas 77027
G59: 888-601-8722; 713-366-0592 Telephone

Sheet Series1997-1
B1: Carroll ISD
B3: Series 1997 - 1
B4: Fixed Rate Conversion New Money Debt Service
E7: Total
A8: Date | B8: Principal | C8: Interest | D8: Total | E8: Annual D/S
A9: 40954 | B9: 0 | C9: 0 | D9: =B9+C9 -> 0 | E9: 0
A10: 41136 | B10: 0 | C10: 0 | D10: =B10+C10 -> 0 | E10: =+D9+D10 -> 0
A11: 41320 | B11: 0 | C11: 0 | D11: =B11+C11 -> 0 | E11: 0
A12: 41501 | B12: 0 | C12: 0 | D12: =B12+C12 -> 0 | E12: =+D11+D12 -> 0
A13: 41685 | B13: 0 | C13: 0 | D13: =B13+C13 -> 0 | E13: 0
A14: 41866 | B14: 0 | C14: 0 | D14: =B14+C14 -> 0 | E14: =+D13+D14 -> 0
A15: 42050 | B15: 0 | C15: 69187.5 | D15: =B15+C15 -> 69187.5 | E15: 0
A16: 42231 | B16: 0 | C16: 69187.5 | D16: =B16+C16 -> 69187.5 | E16: =+D15+D16 -> 138375
A18: 42415 | B18: 0 | C18: 107387.5 | D18: =B18+C18 -> 107387.5 | E18: 0
A19: 42597 | B19: 0 | C19: 107387.5 | D19: =B19+C19 -> 107387.5 | E19: =+D18+D19 -> 214775
A20: 42781 | B20: 0 | C20: 107387.5 | D20: =B20+C20 -> 107387.5 | E20: 0
A21: 42962 | B21: 0 | C21: 107387.5 | D21: =B21+C21 -> 107387.5 | E21: =+D20+D21 -> 214775
A22: 43146 | B22: 0 | C22: 107387.5 | D22: =B22+C22 -> 107387.5 | E22: 0
A23: 43327 | B23: 0 | C23: 107387.5 | D23: =B23+C23 -> 107387.5 | E23: =+D22+D23 -> 214775
A24: 43511 | B24: 0 | C24: 107387.5 | D24: =B24+C24 -> 107387.5
A25: 43692 | B25: 0 | C25: 107387.5 | D25: =B25+C25 -> 107387.5 | E25: =+D24+D25 -> 214775
A26: 43876 | B26: 400000 | C26: 107387.5 | D26: =B26+C26 -> 507387.5 | E26: 0
A27: 44058 | B27: 450000 | C27: 94687.5 | D27: =B27+C27 -> 544687.5 | E27: =+D26+D27 -> 1052075
A28: 44242 | B28: 0 | C28: 0 | D28: =B28+C28 -> 0 | E28: 0
A29: 44423 | B29: 0 | C29: 0 | D29: =B29+C29 -> 0 | E29: =+D28+D29 -> 0
A30: 44607 | B30: 0 | C30: 28687.5 | D30: =B30+C30 -> 28687.5 | E30: 0
A31: 44788 | B31: 850000 | C31: 28687.5 | D31: =B31+C31 -> 878687.5 | E31: =+D30+D31 -> 907375
A32: 44972 | B32: 0 | C32: 0 | D32: =B32+C32 -> 0 | E32: 0
A33: 45153 | B33: 0 | C33: 0 | D33: =B33+C33 -> 0 | E33: =+D32+D33 -> 0
A34: 45337 | B34: 0 | C34: 0 | D34: =B34+C34 -> 0 | E34: 0
A35: 45519 | B35: 0 | C35: 0 | D35: =B35+C35 -> 0 | E35: =+D34+D35 -> 0
A36: 45703 | B36: 0 | C36: 0 | D36: =B36+C36 -> 0 | E36: 0
A37: 45884 | B37: 0 | C37: 0 | D37: =B37+C37 -> 0 | E37: =+D36+D37 -> 0
A38: 46068 | B38: 0 | C38: 0 | D38: =B38+C38 -> 0 | E38: 0
A39: 46249 | B39: 0 | C39: 0 | D39: =B39+C39 -> 0 | E39: =+D38+D39 -> 0
A40: 46433 | B40: 0 | C40: 0 | D40: =B40+C40 -> 0 | E40: 0
A41: 46614 | B41: 0 | C41: 0 | D41: =B41+C41 -> 0 | E41: =+D40+D41 -> 0
A42: 46798 | B42: 0 | C42: 0 | D42: =B42+C42 -> 0 | E42: 0
A43: 46980 | B43: 0 | C43: 0 | D43: =B43+C43 -> 0 | E43: =+D42+D43 -> 0
A44: 47164 | B44: 0 | C44: 0 | D44: =B44+C44 -> 0 | E44: 0
...

Sheet Series 2006B
B1: Carroll ISD
B3: Series 2006B
B4: Refunding Debt Service
G7: Compound | J7: Combined | K7: Total
A8: Date | B8: Principal | C8: Interest | D8: Total | F8: Principal | G8: Interest | H8: Total D/S | J8: Total D/S | K8: Annual D/S
A10: 40954 | B10: 0 | C10: 0 | D10: =+B10+C10 -> 0 | F10: 0 | G10: 0 | H10: =+F10+G10 -> 0 | J10: =+D10+H10 -> 0 | K10: 0
A11: 41136 | B11: 0 | C11: 0 | D11: =+B11+C11 -> 0 | F11: 0 | G11: 0 | H11: =+F11+G11 -> 0 | J11: =+D11+H11 -> 0 | K11: =+J10+J11 -> 0
A12: 41320 | B12: 0 | C12: 0 | D12: =+B12+C12 -> 0 | F12: 0 | G12: 0 | H12: =+F12+G12 -> 0 | J12: =+D12+H12 -> 0 | K12: 0
A13: 41501 | B13: 0 | C13: 0 | D13: =+B13+C13 -> 0 | F13: 0 | G13: 0 | H13: =+F13+G13 -> 0 | J13: =+D13+H13 -> 0 | K13: =+J12+J13 -> 0
A14: 41685 | B14: 0 | C14: 0 | D14: =+B14+C14 -> 0 | F14: 0 | G14: 0 | H14: =+F14+G14 -> 0 | J14: =+D14+H14 -> 0 | K14: 0
A15: 41866 | B15: 0 | C15: 0 | D15: =+B15+C15 -> 0 | F15: 0 | G15: 0 | H15: =+F15+G15 -> 0 | J15: =+D15+H15 -> 0 | K15: =+J14+J15 -> 0
A16: 42050 | B16: 735000 | C16: 328637.5 | D16: =+B16+C16 -> 1063637.5 | F16: 276.9 | G16: 129723.1 | H16: =+F16+G16 -> 130000 | J16: =+D16+H16 -> 1193637.5 | K16: 0
A17: 42231 | B17: 0 | C17: 153278.13 | D17: =+B17+C17 -> 153278.13 | F17: 0 | G17: 0 | H17: =+F17+G17 -> 0 | J17: =+D17+H17 -> 153278.13 | K17: =+J16+J17 -> 1346915.6
A18: 42415 | B18: 0 | C18: 0 | D18: =+B18+C18 -> 0 | F18: 929.25 | G18: 884070.75 | H18: =+F18+G18 -> 885000 | J18: =+D18+H18 -> 885000 | K18: 0
A19: 42597 | B19: 0 | C19: 0 | D19: =+B19+C19 -> 0 | F19: 0 | G19: 0 | H19: =+F19+G19 -> 0 | J19: =+D19+H19 -> 0 | K19: =+J18+J19 -> 885000
A20: 42781 | B20: 0 | C20: 0 | D20: =+B20+C20 -> 0 | F20: 462.8 | G20: 889537.2 | H20: =+F20+G20 -> 890000 | J20: =+D20+H20 -> 890000 | K20: 0
A21: 42962 | B21: 0 | C21: 0 | D21: =+B21+C21 -> 0 | F21: 0 | G21: 0 | H21: =+F21+G21 -> 0 | J21: =+D21+H21 -> 0 | K21: =+J20+J21 -> 890000
A22: 43146 | B22: 0 | C22: 0 | D22: =+B22+C22 -> 0 | F22: 250 | G22: 999750 | H22: =+F22+G22 -> 1000000 | J22: =+D22+H22 -> 1000000 | K22: 0
A23: 43327 | B23: 0 | C23: 0 | D23: =+B23+C23 -> 0 | F23: 0 | G23: 0 | H23: =+F23+G23 -> 0 | J23: =+D23+H23 -> 0 | K23: =+J22+J23 -> 1000000
A24: 43511 | B24: 0 | C24: 0 | D24: =+B24+C24 -> 0 | F24: 0 | G24: 0 | H24: =+F24+G24 -> 0 | J24: =+D24+H24 -> 0 | K24: 0
A25: 43692 | B25: 0 | C25: 0 | D25: =+B25+C25 -> 0 | F25: 0 | G25: 0 | H25: =+F25+G25 -> 0 | J25: =+D25+H25 -> 0 | K25: =+J24+J25 -> 0
A26: 43876 | B26: 0 | C26: 0 | D26: =+B26+C26 -> 0 | F26: 0 | G26: 0 | H26: =+F26+G26 -> 0 | J26: =+D26+H26 -> 0 | K26: 0
A27: 44058 | B27: 0 | C27: 0 | D27: =+B27+C27 -> 0 | F27: 0 | G27: 0 | H27: =+F27+G27 -> 0 | J27: =+D27+H27 -> 0 | K27: =+J26+J27 -> 0
A28: 44242 | B28: 0 | C28: 0 | D28: =+B28+C28 -> 0 | F28: 0 | G28: 0 | H28: =+F28+G28 -> 0 | J28: =+D28+H28 -> 0 | K28: 0
A29: 44423 | B29: 0 | C29: 0 | D29: =+B29+C29 -> 0 | F29: 0 | G29: 0 | H29: =+F29+G29 -> 0 | J29: =+D29+H29 -> 0 | K29: =+J28+J29 -> 0
A30: 44607 | B30: 0 | C30: 0 | D30: =+B30+C30 -> 0 | F30: 0 | G30: 0 | H30: =+F30+G30 -> 0 | J30: =+D30+H30 -> 0 | K30: 0
A31: 44788 | B31: 0 | C31: 0 | D31: =+B31+C31 -> 0 | F31: 0 | G31: 0 | H31: =+F31+G31 -> 0 | J31: =+D31+H31 -> 0 | K31: =+J30+J31 -> 0
A32: 44972 | B32: 0 | C32: 0 | D32: =+B32+C32 -> 0 | F32: 0 | G32: 0 | H32: =+F32+G32 -> 0 | J32: =+D32+H32 -> 0 | K32: 0
A33: 45153 | B33: 0 | C33: 0 | D33: =+B33+C33 -> 0 | F33: 0 | G33: 0 | H33: =+F33+G33 -> 0 | J33: =+D33+H33 -> 0 | K33: =+J32+J33 -> 0
A34: 45337 | B34: 0 | C34: 0 | D34: =+B34+C34 -> 0 | F34: 0 | G34: 0 | H34: =+F34+G34 -> 0 | J34: =+D34+H34 -> 0 | K34: 0
A35: 45519 | B35: 0 | C35: 0 | D35: =+B35+C35 -> 0 | F35: 0 | G35: 0 | H35: =+F35+G35 -> 0 | J35: =+D35+H35 -> 0 | K35: =+J34+J35 -> 0
A36: 45703 | B36: 0 | C36: 0 | D36: =+B36+C36 -> 0 | F36: 0 | G36: 0 | H36: =+F36+G36 -> 0 | J36: =+D36+H36 -> 0 | K36: 0
A37: 45884 | B37: 0 | C37: 0 | D37: =+B37+C37 -> 0 | F37: 0 | G37: 0 | H37: =+F37+G37 -> 0 | J37: =+D37+H37 -> 0 | K37: =+J36+J37 -> 0
A38: 46068 | B38: 0 | C38: 0 | D38: =+B38+C38 -> 0 | F38: 0 | G38: 0 | H38: =+F38+G38 -> 0 | J38: =+D38+H38 -> 0 | K38: 0
A39: 46249 | B39: 0 | C39: 0 | D39: =+B39+C39 -> 0 | F39: 0 | G39: 0 | H39: =+F39+G39 -> 0 | J39: =+D39+H39 -> 0 | K39: =+J38+J39 -> 0
A40: 46433 | B40: 0 | C40: 0 | D40: =+B40+C40 -> 0 | F40: 0 | G40: 0 | H40: =+F40+G40 -> 0 | J40: =+D40+H40 -> 0 | K40: 0
A41: 46614 | B41: 0 | C41: 0 | D41: =+B41+C41 -> 0 | F41: 0 | G41: 0 | H41: =+F41+G41 -> 0 | J41: =+D41+H41 -> 0 | K41: =+J40+J41 -> 0
A42: 46798 | B42: 0 | C42: 0 | D42: =+B42+C42 -> 0 | F42: 0 | G42: 0 | H42: =+F42+G42 -> 0 | J42: =+D42+H42 -> 0 | K42: 0
A43: 46980 | B43: 0 | C43: 0 | D43: =+B43+C43 -> 0 | F43: 0 | G43: 0 | H43: =+F43+G43 -> 0 | J43: =+D43+H43 -> 0 | K43: =+J42+J43 -> 0
A44: 47164 | B44: 0 | C44: 0 | D44: =+B44+C44 -> 0 | F44: 0 | G44: 0 | H44: =+F44+G44 -> 0 | J44: =+D44+H44 -> 0 | K44: 0
...

Sheet Series 2009A(BABs)
B1: Carroll ISD
B3: Series 2009A
B4: New Money Debt Service (Build America Bonds)
H6: Build America Bond's
E7: Total | H7: Estimated Federal
A8: Date | B8: Principal | C8: Interest | D8: Total | E8: Annual D/S | H8: Funding on Interest @ 35%
A10: 40954 | B10: 0 | C10: 0 | D10: =B10+C10 -> 0 | E10: 0 | H10: =C10*0.35 -> 0
A11: 41136 | B11: 0 | C11: 0 | D11: =B11+C11 -> 0 | E11: =+D10+D11 -> 0 | H11: =C11*0.35 -> 0
A12: 41320 | B12: 0 | C12: 0 | D12: =B12+C12 -> 0 | E12: 0 | H12: =C12*0.35 -> 0
A13: 41501 | B13: 0 | C13: 0 | D13: =B13+C13 -> 0 | E13: =+D12+D13 -> 0 | H13: =C13*0.35 -> 0
A14: 41685 | B14: 0 | C14: 0 | D14: =B14+C14 -> 0 | E14: 0 | H14: =C14*0.35 -> 0
A15: 41866 | B15: 0 | C15: 0 | D15: =B15+C15 -> 0 | E15: =+D14+D15 -> 0 | H15: =C15*0.35 -> 0
A16: 42050 | B16: 1560000 | C16: 1776332.4 | D16: =B16+C16 -> 3336332.4 | E16: 0 | H16: =C16*0.35 -> 621716.33
A17: 42231 | B17: 0 | C17: 1745132.4 | D17: =B17+C17 -> 1745132.4 | E17: =+D16+D17 -> 5081464.8 | H17: =C17*0.35 -> 610796.33
A18: 42415 | B18: 1625000 | C18: 1745132.4 | D18: =B18+C18 -> 3370132.4 | E18: 0 | H18: =C18*0.35 -> 610796.33
A19: 42597 | B19: 0 | C19: 1708569.9 | D19: =B19+C19 -> 1708569.9 | E19: =+D18+D19 -> 5078702.3 | H19: =C19*0.35 -> 597999.46
A20: 42781 | B20: 1705000 | C20: 1708569.9 | D20: =B20+C20 -> 3413569.9 | E20: 0 | H20: =C20*0.35 -> 597999.46
A21: 42962 | B21: 0 | C21: 1668076.1 | D21: =B21+C21 -> 1668076.1 | E21: =+D20+D21 -> 5081646 | H21: =C21*0.35 -> 583826.65
A22: 43146 | B22: 1790000 | C22: 1668076.1 | D22: =B22+C22 -> 3458076.1 | E22: 0 | H22: =C22*0.35 -> 583826.65
A23: 43327 | B23: 0 | C23: 1623326.1 | D23: =B23+C23 -> 1623326.1 | E23: =+D22+D23 -> 5081402.3 | H23: =C23*0.35 -> 568164.15
A24: 43511 | B24: 1880000 | C24: 1623326.1 | D24: =B24+C24 -> 3503326.1 | H24: =C24*0.35 -> 568164.15
A25: 43692 | B25: 0 | C25: 1575151.1 | D25: =B25+C25 -> 1575151.1 | E25: =+D24+D25 -> 5078477.3 | H25: =C25*0.35 -> 551302.9
A26: 43876 | B26: 1980000 | C26: 1575151.1 | D26: =B26+C26 -> 3555151.1 | E26: 0 | H26: =C26*0.35 -> 551302.9
A27: 44058 | B27: 0 | C27: 1523087 | D27: =B27+C27 -> 1523087 | E27: =+D26+D27 -> 5078238.2 | H27: =C27*0.35 -> 533080.46
A28: 44242 | B28: 0 | C28: 0 | D28: =B28+C28 -> 0 | E28: 0 | H28: =C28*0.35 -> 0
A29: 44423 | B29: 0 | C29: 0 | D29: =B29+C29 -> 0 | E29: =+D28+D29 -> 0 | H29: =C29*0.35 -> 0
A30: 44607 | B30: 2215000 | C30: 1466563 | D30: =B30+C30 -> 3681563 | E30: 0 | H30: =C30*0.35 -> 513297.04
A31: 44788 | B31: 0 | C31: 1398728.6 | D31: =B31+C31 -> 1398728.6 | E31: =+D30+D31 -> 5080291.6 | H31: =C31*0.35 -> 489555.01
A32: 44972 | B32: 0 | C32: 0 | D32: =B32+C32 -> 0 | E32: 0 | H32: =C32*0.35 -> 0
A33: 45153 | B33: 0 | C33: 0 | D33: =B33+C33 -> 0 | E33: =+D32+D33 -> 0 | H33: =C33*0.35 -> 0
A34: 45337 | B34: 0 | C34: 0 | D34: =B34+C34 -> 0 | E34: 0 | H34: =C34*0.35 -> 0
A35: 45519 | B35: 0 | C35: 1250044.2 | D35: =B35+C35 -> 1250044.2 | E35: 0 | H35: =C35*0.35 -> 437515.48
A36: 45703 | B36: 2670000 | C36: 1250044.2 | D36: =B36+C36 -> 3920044.2 | E36: =+D35+D36 -> 5170088.5 | H36: =C36*0.35 -> 437515.48
A37: 45884 | B37: 0 | C37: 1158263 | D37: =B37+C37 -> 1158263 | E37: 0 | H37: =C37*0.35 -> 405392.04
A38: 46068 | B38: 2860000 | C38: 1158263 | D38: =B38+C38 -> 4018263 | E38: =+D37+D38 -> 5176526 | H38: =C38*0.35 -> 405392.04
A39: 46249 | B39: 0 | C39: 1059950.5 | D39: =B39+C39 -> 1059950.5 | E39: 0 | H39: =C39*0.35 -> 370982.67
A40: 46433 | B40: 3065000 | C40: 1059950.5 | D40: =B40+C40 -> 4124950.5 | E40: =+D39+D40 -> 5184901 | H40: =C40*0.35 -> 370982.67
A41: 46614 | B41: 0 | C41: 954591.1 | D41: =B41+C41 -> 954591.1 | E41: 0 | H41: =C41*0.35 -> 334106.88
A42: 46798 | B42: 3285000 | C42: 954591.1 | D42: =B42+C42 -> 4239591.1 | E42: =+D41+D42 -> 5194182.2 | H42: =C42*0.35 -> 334106.88
A43: 46980 | B43: 0 | C43: 841669.23 | D43: =B43+C43 -> 841669.23 | E43: 0 | H43: =C43*0.35 -> 294584.23
...

Sheet Series 2009C
B1: Carroll ISD
B3: Series 2009C
B4: Refunding Debt Service
G7: Compound | J7: Combined | K7: Total
A8: Date | B8: Principal | C8: Interest | D8: Total | F8: Principal | G8: Interest | H8: Total D/S | J8: Total D/S | K8: Annual D/S
A10: 40954 | B10: 0 | C10: 0 | D10: =+B10+C10 -> 0 | F10: 0 | G10: 0 | H10: =+F10+G10 -> 0 | J10: =+D10+H10 -> 0 | K10: 0
A11: 41136 | B11: 0 | C11: 0 | D11: =+B11+C11 -> 0 | F11: 0 | G11: 0 | H11: =+F11+G11 -> 0 | J11: =+D11+H11 -> 0 | K11: =+J10+J11 -> 0
A12: 41320 | B12: 0 | C12: 0 | D12: =+B12+C12 -> 0 | F12: 0 | G12: 0 | H12: =+F12+G12 -> 0 | J12: =+D12+H12 -> 0 | K12: 0
A13: 41501 | B13: 0 | C13: 0 | D13: =+B13+C13 -> 0 | F13: 0 | G13: 0 | H13: =+F13+G13 -> 0 | J13: =+D13+H13 -> 0 | K13: =+J12+J13 -> 0
A14: 41685 | B14: 0 | C14: 0 | D14: =+B14+C14 -> 0 | F14: 0 | G14: 0 | H14: =+F14+G14 -> 0 | J14: =+D14+H14 -> 0 | K14: 0
A15: 41866 | B15: 0 | C15: 0 | D15: =+B15+C15 -> 0 | F15: 0 | G15: 0 | H15: =+F15+G15 -> 0 | J15: =+D15+H15 -> 0 | K15: =+J14+J15 -> 0
A16: 42050 | B16: 1920000 | C16: 430195 | D16: =+B16+C16 -> 2350195 | F16: 0 | G16: 0 | H16: =+F16+G16 -> 0 | J16: =+D16+H16 -> 2350195 | K16: 0
A17: 42231 | B17: 0 | C17: 401395 | D17: =+B17+C17 -> 401395 | F17: 0 | G17: 0 | H17: =+F17+G17 -> 0 | J17: =+D17+H17 -> 401395 | K17: =+J16+J17 -> 2751590
A18: 42415 | B18: 195000 | C18: 401395 | D18: =+B18+C18 -> 596395 | H18: =+F18+G18 -> 0 | J18: =+D18+H18 -> 596395 | K18: 0
A19: 42597 | B19: 0 | C19: 398226.25 | D19: =+B19+C19 -> 398226.25 | F19: 0 | G19: 0 | H19: =+F19+G19 -> 0 | J19: =+D19+H19 -> 398226.25 | K19: =+J18+J19 -> 994621.25
A20: 42781 | B20: 205000 | C20: 398226.25 | D20: =+B20+C20 -> 603226.25 | F20: 0 | G20: 0 | H20: =+F20+G20 -> 0 | J20: =+D20+H20 -> 603226.25 | K20: 0
A21: 42962 | B21: 0 | C21: 394638.75 | D21: =+B21+C21 -> 394638.75 | F21: 0 | G21: 0 | H21: =+F21+G21 -> 0 | J21: =+D21+H21 -> 394638.75 | K21: =+J20+J21 -> 997865
A22: 43146 | B22: 210000 | C22: 394638.75 | D22: =+B22+C22 -> 604638.75 | F22: 0 | G22: 0 | H22: =+F22+G22 -> 0 | J22: =+D22+H22 -> 604638.75 | K22: 0
A23: 43327 | B23: 0 | C23: 390963.75 | D23: =+B23+C23 -> 390963.75 | F23: 0 | G23: 0 | H23: =+F23+G23 -> 0 | J23: =+D23+H23 -> 390963.75 | K23: =+J22+J23 -> 995602.5
A24: 43511 | B24: 2445000 | C24: 390963.75 | D24: =+B24+C24 -> 2835963.8 | F24: 0 | G24: 0 | H24: =+F24+G24 -> 0 | J24: =+D24+H24 -> 2835963.8
A25: 43692 | B25: 0 | C25: 0 | D25: =+B25+C25 -> 0 | F25: 0 | G25: 0 | H25: =+F25+G25 -> 0 | J25: =+D25+H25 -> 0 | K25: =+J24+J25 -> 2835963.8
A26: 43876 | D26: =+B26+C26 -> 0 | F26: 0 | G26: 0 | H26: =+F26+G26 -> 0 | J26: =+D26+H26 -> 0 | K26: 0
A27: 44058 | D27: =+B27+C27 -> 0 | F27: 0 | G27: 0 | H27: =+F27+G27 -> 0 | J27: =+D27+H27 -> 0 | K27: =+J26+J27 -> 0
A28: 44242 | D28: =+B28+C28 -> 0 | F28: 0 | G28: 0 | H28: =+F28+G28 -> 0 | J28: =+D28+H28 -> 0 | K28: 0
A29: 44423 | D29: =+B29+C29 -> 0 | F29: 0 | G29: 0 | H29: =+F29+G29 -> 0 | J29: =+D29+H29 -> 0 | K29: =+J28+J29 -> 0
A30: 44607 | D30: =+B30+C30 -> 0 | F30: 0 | G30: 0 | H30: =+F30+G30 -> 0 | J30: =+D30+H30 -> 0 | K30: 0
A31: 44788 | D31: =+B31+C31 -> 0 | F31: 0 | G31: 0 | H31: =+F31+G31 -> 0 | J31: =+D31+H31 -> 0 | K31: =+J30+J31 -> 0
A32: 44972 | D32: =+B32+C32 -> 0 | F32: 0 | G32: 0 | H32: =+F32+G32 -> 0 | J32: =+D32+H32 -> 0 | K32: 0
A33: 45153 | D33: =+B33+C33 -> 0 | F33: 0 | G33: 0 | H33: =+F33+G33 -> 0 | J33: =+D33+H33 -> 0 | K33: =+J32+J33 -> 0
A34: 45337 | D34: =+B34+C34 -> 0 | F34: 0 | G34: 0 | H34: =+F34+G34 -> 0 | J34: =+D34+H34 -> 0 | K34: 0
A35: 45519 | D35: =+B35+C35 -> 0 | F35: 0 | G35: 0 | H35: =+F35+G35 -> 0 | J35: =+D35+H35 -> 0 | K35: =+J34+J35 -> 0
A36: 45703 | D36: =+B36+C36 -> 0 | F36: 0 | G36: 0 | H36: =+F36+G36 -> 0 | J36: =+D36+H36 -> 0 | K36: 0
A37: 45884 | D37: =+B37+C37 -> 0 | F37: 0 | G37: 0 | H37: =+F37+G37 -> 0 | J37: =+D37+H37 -> 0 | K37: =+J36+J37 -> 0
A38: 46068 | D38: =+B38+C38 -> 0 | F38: 0 | G38: 0 | H38: =+F38+G38 -> 0 | J38: =+D38+H38 -> 0 | K38: 0
A39: 46249 | D39: =+B39+C39 -> 0 | F39: 0 | G39: 0 | H39: =+F39+G39 -> 0 | J39: =+D39+H39 -> 0 | K39: =+J38+J39 -> 0
A40: 46433 | D40: =+B40+C40 -> 0 | F40: 0 | G40: 0 | H40: =+F40+G40 -> 0 | J40: =+D40+H40 -> 0 | K40: 0
A41: 46614 | D41: =+B41+C41 -> 0 | F41: 0 | G41: 0 | H41: =+F41+G41 -> 0 | J41: =+D41+H41 -> 0 | K41: =+J40+J41 -> 0
A42: 46798 | D42: =+B42+C42 -> 0 | F42: 0 | G42: 0 | H42: =+F42+G42 -> 0 | J42: =+D42+H42 -> 0 | K42: 0
A43: 46980 | D43: =+B43+C43 -> 0 | F43: 0 | G43: 0 | H43: =+F43+G43 -> 0 | J43: =+D43+H43 -> 0 | K43: =+J42+J43 -> 0
A44: 47164 | D44: =+B44+C44 -> 0 | F44: 0 | G44: 0 | H44: =+F44+G44 -> 0 | J44: =+D44+H44 -> 0 | K44: 0
...

Sheet Series 2009D QSCB
B1: Carroll ISD
B3: Series 2009D QSCB
B4: New Money Debt Service
F7: Total
A8: Date | B8: Principal | C8: Interest | E8: Total | F8: Annual D/S
A10: 40954 | B10: 0 | C10: 0 | E10: =C10+B10 -> 0 | F10: 0
A11: 41136 | B11: 0 | C11: 0 | E11: =C11+B11 -> 0 | F11: =+E10+E11 -> 0
A12: 41320 | B12: 0 | C12: 0 | E12: =C12+B12 -> 0 | F12: 0
A13: 41501 | B13: 0 | C13: 0 | E13: =C13+B13 -> 0 | F13: =+E12+E13 -> 0
A14: 41685 | B14: 0 | C14: 0 | E14: =C14+B14 -> 0 | F14: 0
A15: 41866 | B15: 0 | C15: 0 | E15: =C15+B15 -> 0 | F15: =+E14+E15 -> 0
A16: 42050 | B16: 0 | C16: 9757.5 | E16: =C16+B16 -> 9757.5 | F16: 0
A17: 42231 | B17: 538529 | C17: 9757.5 | E17: =C17+B17 -> 548286.5 | F17: =+E16+E17 -> 558044
A18: 42415 | B18: 0 | C18: 8955 | E18: =C18+B18 -> 8955 | F18: 0
A19: 42597 | B19: 538529 | C19: 8955 | E19: =C19+B19 -> 547484 | F19: =+E18+E19 -> 556439
A20: 42781 | B20: 0 | C20: 8152.5 | E20: =C20+B20 -> 8152.5 | F20: 0
A21: 42962 | B21: 535000 | C21: 8152.5 | E21: =C21+B21 -> 543152.5 | F21: =+E20+E21 -> 551305
A22: 43146 | B22: 0 | C22: 7350 | E22: =C22+B22 -> 7350 | F22: 0
A23: 43327 | B23: 540000 | C23: 7350 | E23: =C23+B23 -> 547350 | F23: =+E22+E23 -> 554700
A24: 43511 | B24: 0 | C24: 6540 | E24: =C24+B24 -> 6540
A25: 43692 | B25: 540000 | C25: 6540 | E25: =C25+B25 -> 546540 | F25: =+E24+E25 -> 553080
A26: 43876 | B26: 0 | C26: 5730 | E26: =C26+B26 -> 5730 | F26: 0
A27: 44058 | B27: 540000 | C27: 5730 | E27: =C27+B27 -> 545730 | F27: =+E26+E27 -> 551460
A28: 44242 | B28: 0 | C28: 0 | E28: =C28+B28 -> 0 | F28: 0
A29: 44423 | B29: 0 | C29: 0 | E29: =C29+B29 -> 0 | F29: =+E28+E29 -> 0 | M29: =+F29 -> 0
A30: 44607 | B30: 0 | C30: 13732.5 | E30: =C30+B30 -> 13732.5 | F30: 0 | J30: =+C30+C31 -> 27465 | K30: =+I30-J30 -> -27465
A31: 44788 | B31: 545000 | C31: 13732.5 | E31: =C31+B31 -> 558732.5 | F31: =+E30+E31 -> 572465
A32: 44972 | B32: 0 | C32: 0 | E32: =C32+B32 -> 0 | F32: 0 | H32: =+C32+C33 -> 0
A33: 45153 | B33: 0 | C33: 0 | E33: =C33+B33 -> 0 | F33: =+E32+E33 -> 0
A34: 45337 | B34: 0 | C34: 0 | E34: =C34+B34 -> 0 | F34: 0
A35: 45519 | B35: 545000 | C35: 2467.5 | E35: =C35+B35 -> 547467.5 | F35: 0
A36: 45703 | B36: 0 | C36: 1650 | E36: =C36+B36 -> 1650 | F36: =+E35+E36 -> 549117.5
A37: 45884 | B37: 550000 | C37: 1650 | E37: =C37+B37 -> 551650 | F37: 0
A38: 46068 | B38: 0 | C38: 825 | E38: =C38+B38 -> 825 | F38: =+E37+E38 -> 552475
A39: 46249 | B39: 550000 | C39: 825 | E39: =C39+B39 -> 550825 | F39: 0
A40: 46433 | B40: 0 | C40: 0 | E40: 0 | F40: =+E39+E40 -> 550825
A41: 46614 | B41: 0 | C41: 0 | E41: =#REF!+C41 -> #REF! | F41: =+E40+E41 -> #REF!
A42: 46798 | B42: 0 | C42: 0 | E42: =#REF!+C42 -> #REF! | F42: 0
A43: 46980 | B43: 0 | C43: 0 | E43: =#REF!+C43 -> #REF! | F43: =+E42+E43 -> #REF!
A44: 47164 | B44: 0 | C44: 0 | E44: =#REF!+C44 -> #REF! | F44: 0
...

Sheet Series 2010A(BABs)
B1: Carroll ISD
B3: Series 2010A
B4: New Money Debt Service (Build America Bonds)
G6: Build America Bond's
E7: Total | G7: Estimated Federal
A8: Date | B8: Principal | C8: Interest | D8: Total | E8: Annual D/S | G8: Funding on Interest @ 35%
A10: 40954 | B10: 0 | C10: 0 | D10: =B10+C10 -> 0 | E10: 0 | G10: 363339.67
A11: 41136 | B11: 0 | C11: 0 | D11: =B11+C11 -> 0 | E11: =+D10+D11 -> 0 | G11: 0
A12: 41320 | B12: 0 | C12: 0 | D12: =B12+C12 -> 0 | E12: 0 | G12: 0
A13: 41501 | B13: 0 | C13: 0 | D13: =B13+C13 -> 0 | E13: =+D12+D13 -> 0 | G13: 0
A14: 41685 | B14: 0 | C14: 0 | D14: =B14+C14 -> 0 | E14: 0 | G14: 0
A15: 41866 | B15: 0 | C15: 0 | D15: =B15+C15 -> 0 | E15: =+D14+D15 -> 0 | G15: 0
A16: 42050 | B16: 0 | C16: 1038113.3 | D16: =B16+C16 -> 1038113.3 | E16: 0 | G16: 363339.67
A17: 42231 | B17: 0 | C17: 1038113.3 | D17: =B17+C17 -> 1038113.3 | E17: =+D16+D17 -> 2076226.7 | G17: 363339.67
A18: 42415 | B18: 0 | C18: 1038113.3 | D18: =B18+C18 -> 1038113.3 | E18: 0 | G18: 363339.67
A19: 42597 | B19: 0 | C19: 1038113.3 | D19: =B19+C19 -> 1038113.3 | E19: =+D18+D19 -> 2076226.7 | G19: 363339.67
A20: 42781 | B20: 0 | C20: 1038113.3 | D20: =B20+C20 -> 1038113.3 | E20: 0 | G20: 363339.67
A21: 42962 | B21: 0 | C21: 1038113.3 | D21: =B21+C21 -> 1038113.3 | E21: =+D20+D21 -> 2076226.7 | G21: 363339.67
A22: 43146 | B22: 0 | C22: 1038113.3 | D22: =B22+C22 -> 1038113.3 | E22: 0 | G22: 363339.67
A23: 43327 | B23: 0 | C23: 1038113.3 | D23: =B23+C23 -> 1038113.3 | E23: =+D22+D23 -> 2076226.7 | G23: 363339.67
A24: 43511 | B24: 0 | C24: 1038113.3 | D24: =B24+C24 -> 1038113.3 | G24: 363339.67
A25: 43692 | B25: 0 | C25: 1038113.3 | D25: =B25+C25 -> 1038113.3 | E25: =+D24+D25 -> 2076226.7 | G25: 363339.67
A26: 43876 | B26: 1615000 | C26: 1038113.3 | D26: =B26+C26 -> 2653113.3 | E26: 0 | G26: 363339.67
A27: 44058 | B27: 0 | C27: 1008163.2 | D27: =B27+C27 -> 1008163.2 | E27: =+D26+D27 -> 3661276.5 | G27: 352857.1
A28: 44242 | B28: 0 | C28: 0 | D28: =B28+C28 -> 0 | E28: 0 | G28: 0
A29: 44423 | B29: 0 | C29: 0 | D29: =B29+C29 -> 0 | E29: =+D28+D29 -> 0 | G29: 0
A30: 44607 | B30: 2290000 | C30: 965135.3 | D30: =B30+C30 -> 3255135.3 | E30: 0 | G30: 337797.36
A31: 44788 | B31: 0 | C31: 919232.25 | D31: =B31+C31 -> 919232.25 | E31: =+D30+D31 -> 4174367.5 | G31: 321731.29
A32: 44972 | B32: 0 | C32: 0 | D32: =B32+C32 -> 0 | E32: 0 | G32: 321731.29
A33: 45153 | B33: 0 | C33: 0 | D33: =B33+C33 -> 0 | E33: =+D32+D33 -> 0 | G33: 304627.4
A34: 45337 | B34: 0 | C34: 0 | D34: =B34+C34 -> 0 | E34: 0 | G34: 0
A35: 45519 | B35: 0 | C35: 818332.83 | D35: =B35+C35 -> 818332.83 | E35: 0 | G35: 286416.49
A36: 45703 | B36: 2485000 | C36: 818332.83 | D36: =B36+C36 -> 3303332.8 | E36: =+D35+D36 -> 4121665.7 | G36: 286416.49
A37: 45884 | B37: 0 | C37: 762929.75 | D37: =B37+C37 -> 762929.75 | E37: 0 | G37: 267025.41
A38: 46068 | B38: 2560000 | C38: 762929.75 | D38: =B38+C38 -> 3322929.8 | E38: =+D37+D38 -> 4085859.5 | G38: 267025.41
A39: 46249 | B39: 0 | C39: 700952.15 | D39: =B39+C39 -> 700952.15 | E39: 0 | G39: 245333.25
A40: 46433 | B40: 2645000 | C40: 700952.15 | D40: =B40+C40 -> 3345952.1 | E40: =+D39+D40 -> 4046904.3 | G40: 245333.25
A41: 46614 | B41: 0 | C41: 635594.2 | D41: =B41+C41 -> 635594.2 | E41: 0 | G41: 222457.97
A42: 46798 | B42: 2730000 | C42: 635594.2 | D42: =B42+C42 -> 3365594.2 | E42: =+D41+D42 -> 4001188.4 | G42: 222457.97
A43: 46980 | B43: 0 | C43: 566770.9 | D43: =B43+C43 -> 566770.9 | E43: 0 | G43: 198369.82
...

Sheet Series 2010B
B1: Carroll ISD
B3: Series 2010B
B4: New Money Debt Service
E7: Total
A8: Date | B8: Principal | C8: Interest | D8: Total | E8: Annual D/S
A10: 40954 | B10: 0 | C10: 0 | D10: =B10+C10 -> 0 | E10: 0
A11: 41136 | B11: 0 | C11: 0 | D11: =B11+C11 -> 0 | E11: =+D10+D11 -> 0
A12: 41320 | B12: 0 | C12: 0 | D12: =B12+C12 -> 0 | E12: 0
A13: 41501 | B13: 0 | C13: 0 | D13: =B13+C13 -> 0 | E13: =+D12+D13 -> 0
A14: 41685 | B14: 0 | C14: 0 | D14: =B14+C14 -> 0 | E14: 0
A15: 41866 | B15: 0 | C15: 0 | D15: =B15+C15 -> 0 | E15: =+D14+D15 -> 0
A16: 42050 | B16: 1000000 | C16: 122500 | D16: =B16+C16 -> 1122500 | E16: 0
A17: 42231 | B17: 0 | C17: 107500 | D17: =B17+C17 -> 107500 | E17: =+D16+D17 -> 1230000
A18: 42415 | B18: 1000000 | C18: 107500 | D18: =B18+C18 -> 1107500 | E18: 0
A19: 42597 | B19: 0 | C19: 87500 | D19: =B19+C19 -> 87500 | E19: =+D18+D19 -> 1195000
A20: 42781 | B20: 1000000 | C20: 87500 | D20: =B20+C20 -> 1087500 | E20: 0
A21: 42962 | B21: 0 | C21: 67500 | D21: =B21+C21 -> 67500 | E21: =+D20+D21 -> 1155000
A22: 43146 | B22: 1500000 | C22: 67500 | D22: =B22+C22 -> 1567500 | E22: 0
A23: 43327 | B23: 0 | C23: 33750 | D23: =B23+C23 -> 33750 | E23: =+D22+D23 -> 1601250
A24: 43511 | B24: 1500000 | C24: 33750 | D24: =B24+C24 -> 1533750
A25: 43692 | B25: 0 | C25: 0 | D25: =B25+C25 -> 0 | E25: =+D24+D25 -> 1533750
A26: 43876 | B26: 0 | C26: 0 | D26: =B26+C26 -> 0 | E26: 0
A27: 44058 | B27: 0 | C27: 0 | D27: =B27+C27 -> 0 | E27: =+D26+D27 -> 0
A28: 44242 | B28: 0 | C28: 0 | D28: =B28+C28 -> 0 | E28: 0
A29: 44423 | B29: 0 | C29: 0 | D29: =B29+C29 -> 0 | E29: =+D28+D29 -> 0
A30: 44607 | B30: 0 | C30: 0 | D30: =B30+C30 -> 0 | E30: 0
A31: 44788 | B31: 0 | C31: 0 | D31: =B31+C31 -> 0 | E31: =+D30+D31 -> 0
A32: 44972 | B32: 0 | C32: 0 | D32: =B32+C32 -> 0 | E32: 0
A33: 45153 | B33: 0 | C33: 0 | D33: =B33+C33 -> 0 | E33: =+D32+D33 -> 0
A34: 45337 | B34: 0 | C34: 0 | D34: =B34+C34 -> 0 | E34: 0
A35: 45519 | B35: 0 | C35: 0 | D35: =B35+C35 -> 0 | E35: =+D34+D35 -> 0
A36: 45703 | B36: 0 | C36: 0 | D36: =B36+C36 -> 0 | E36: 0
A37: 45884 | B37: 0 | C37: 0 | D37: =B37+C37 -> 0 | E37: =+D36+D37 -> 0
A38: 46068 | B38: 0 | C38: 0 | D38: =B38+C38 -> 0 | E38: 0
A39: 46249 | B39: 0 | C39: 0 | D39: =B39+C39 -> 0 | E39: =+D38+D39 -> 0
A40: 46433 | B40: 0 | C40: 0 | D40: =B40+C40 -> 0 | E40: 0
A41: 46614 | B41: 0 | C41: 0 | D41: =B41+C41 -> 0 | E41: =+D40+D41 -> 0
A42: 46798 | B42: 0 | C42: 0 | D42: =B42+C42 -> 0 | E42: 0
A43: 46980 | B43: 0 | C43: 0 | D43: =B43+C43 -> 0 | E43: =+D42+D43 -> 0
A44: 47164 | B44: 0 | C44: 0 | D44: =B44+C44 -> 0 | E44: 0
...

Sheet Series 2010C(BABs)
B1: Carroll ISD
B3: Series 2010C
B4: New Money Debt Service (Build America Bonds)
G6: Build America Bond's
E7: Total | G7: Estimated Federal
A8: Date | B8: Principal | C8: Interest | D8: Total | E8: Annual D/S | G8: Funding on Interest @ 35%
A10: 40954 | B10: 0 | C10: 0 | D10: =B10+C10 -> 0 | E10: 0 | G10: =C10*0.35 -> 0
A11: 41136 | B11: 0 | C11: 0 | D11: =B11+C11 -> 0 | E11: =+D10+D11 -> 0 | G11: =C11*0.35 -> 0
A12: 41320 | B12: 0 | C12: 0 | D12: =B12+C12 -> 0 | E12: 0 | G12: =C12*0.35 -> 0
A13: 41501 | B13: 0 | C13: 0 | D13: =B13+C13 -> 0 | E13: =+D12+D13 -> 0 | G13: =C13*0.35 -> 0
A14: 41685 | B14: 0 | C14: 0 | D14: =B14+C14 -> 0 | E14: 0 | G14: =C14*0.35 -> 0
A15: 41866 | B15: 0 | C15: 0 | D15: =B15+C15 -> 0 | E15: =+D14+D15 -> 0 | G15: =C15*0.35 -> 0
A16: 42050 | B16: 0 | C16: 476478.75 | D16: =B16+C16 -> 476478.75 | E16: 0 | G16: =C16*0.35 -> 166767.56
A17: 42231 | B17: 0 | C17: 476478.75 | D17: =B17+C17 -> 476478.75 | E17: =+D16+D17 -> 952957.5 | G17: =C17*0.35 -> 166767.56
A18: 42415 | B18: 0 | C18: 476478.75 | D18: =B18+C18 -> 476478.75 | E18: 0 | G18: =C18*0.35 -> 166767.56
A19: 42597 | B19: 0 | C19: 476478.75 | D19: =B19+C19 -> 476478.75 | E19: =+D18+D19 -> 952957.5 | G19: =C19*0.35 -> 166767.56
A20: 42781 | B20: 0 | C20: 476478.75 | D20: =B20+C20 -> 476478.75 | E20: 0 | G20: =C20*0.35 -> 166767.56
A21: 42962 | B21: 0 | C21: 476478.75 | D21: =B21+C21 -> 476478.75 | E21: =+D20+D21 -> 952957.5 | G21: =C21*0.35 -> 166767.56
A22: 43146 | B22: 0 | C22: 476478.75 | D22: =B22+C22 -> 476478.75 | E22: 0 | G22: =C22*0.35 -> 166767.56
A23: 43327 | B23: 0 | C23: 476478.75 | D23: =B23+C23 -> 476478.75 | E23: =+D22+D23 -> 952957.5 | G23: =C23*0.35 -> 166767.56
A24: 43511 | B24: 0 | C24: 476478.75 | D24: =B24+C24 -> 476478.75 | G24: =C24*0.35 -> 166767.56
A25: 43692 | B25: 0 | C25: 476478.75 | D25: =B25+C25 -> 476478.75 | E25: =+D24+D25 -> 952957.5 | G25: =C25*0.35 -> 166767.56
A26: 43876 | B26: 0 | C26: 476478.75 | D26: =B26+C26 -> 476478.75 | E26: 0 | G26: =C26*0.35 -> 166767.56
A27: 44058 | B27: 0 | C27: 476478.75 | D27: =B27+C27 -> 476478.75 | E27: =+D26+D27 -> 952957.5 | G27: =C27*0.35 -> 166767.56
A28: 44242 | B28: 0 | C28: 0 | D28: =B28+C28 -> 0 | E28: 0 | G28: =C28*0.35 -> 0
A29: 44423 | B29: 0 | C29: 0 | D29: =B29+C29 -> 0 | E29: =+D28+D29 -> 0 | G29: =C29*0.35 -> 0
A30: 44607 | B30: 0 | C30: 476478.75 | D30: =B30+C30 -> 476478.75 | E30: 0 | G30: =C30*0.35 -> 166767.56
A31: 44788 | B31: 0 | C31: 476478.75 | D31: =B31+C31 -> 476478.75 | E31: =+D30+D31 -> 952957.5 | G31: =C31*0.35 -> 166767.56
A32: 44972 | B32: 0 | C32: 0 | D32: =B32+C32 -> 0 | E32: 0 | G32: =C32*0.35 -> 0
A33: 45153 | B33: 0 | C33: 0 | D33: =B33+C33 -> 0 | E33: =+D32+D33 -> 0 | G33: =C33*0.35 -> 0
A34: 45337 | B34: 0 | C34: 0 | D34: =B34+C34 -> 0 | E34: 0 | G34: =C34*0.35 -> 0
A35: 45519 | B35: 0 | C35: 476478.75 | D35: =B35+C35 -> 476478.75 | E35: 0 | G35: =C35*0.35 -> 166767.56
A36: 45703 | B36: 0 | C36: 476478.75 | D36: =B36+C36 -> 476478.75 | E36: =+D35+D36 -> 952957.5 | G36: =C36*0.35 -> 166767.56
A37: 45884 | B37: 0 | C37: 476478.75 | D37: =B37+C37 -> 476478.75 | E37: 0 | G37: =C37*0.35 -> 166767.56
A38: 46068 | B38: 600000 | C38: 476478.75 | D38: =B38+C38 -> 1076478.8 | E38: =+D37+D38 -> 1552957.5 | G38: =C38*0.35 -> 166767.56
A39: 46249 | B39: 0 | C39: 456078.75 | D39: =B39+C39 -> 456078.75 | E39: 0 | G39: =C39*0.35 -> 159627.56
A40: 46433 | B40: 1100000 | C40: 456078.75 | D40: =B40+C40 -> 1556078.8 | E40: =+D39+D40 -> 2012157.5 | G40: =C40*0.35 -> 159627.56
A41: 46614 | B41: 0 | C41: 418678.75 | D41: =B41+C41 -> 418678.75 | E41: 0 | G41: =C41*0.35 -> 146537.56
A42: 46798 | B42: 1175000 | C42: 418678.75 | D42: =B42+C42 -> 1593678.8 | E42: =+D41+D42 -> 2012357.5 | G42: =C42*0.35 -> 146537.56
A43: 46980 | B43: 0 | C43: 378728.75 | D43: =B43+C43 -> 378728.75 | E43: 0 | G43: =C43*0.35 -> 132555.06
...

Sheet Series 2011
B1: Carroll ISD
B3: Series 2011
B4: Refunding Debt Service
G7: Compound | J7: Combined | K7: Total
A8: Date | B8: Principal | C8: Interest | D8: Total D/S | F8: Principal | G8: Interest | H8: Total D/S | J8: Total D/S | K8: Annual D/S
A10: 40954 | B10: 0 | C10: 0 | D10: =+B10+C10 -> 0 | F10: 0 | G10: 0 | H10: =+F10+G10 -> 0 | J10: =+D10+H10 -> 0 | K10: 0
A11: 41136 | B11: 0 | C11: 0 | D11: =+B11+C11 -> 0 | F11: 0 | G11: 0 | H11: =+F11+G11 -> 0 | J11: =+D11+H11 -> 0 | K11: =+J10+J11 -> 0
A12: 41320 | B12: 0 | C12: 0 | D12: =+B12+C12 -> 0 | F12: 0 | G12: 0 | H12: =+F12+G12 -> 0 | J12: =+D12+H12 -> 0 | K12: 0
A13: 41501 | B13: 0 | C13: 0 | D13: =+B13+C13 -> 0 | F13: 0 | G13: 0 | H13: =+F13+G13 -> 0 | J13: =+D13+H13 -> 0 | K13: =+J12+J13 -> 0
A14: 41685 | B14: 0 | C14: 0 | D14: =+B14+C14 -> 0 | F14: 0 | G14: 0 | H14: =+F14+G14 -> 0 | J14: =+D14+H14 -> 0 | K14: 0
A15: 41866 | B15: 0 | C15: 0 | D15: =+B15+C15 -> 0 | F15: 0 | G15: 0 | H15: =+F15+G15 -> 0 | J15: =+D15+H15 -> 0 | K15: =+J14+J15 -> 0
A16: 42050 | B16: 80000 | C16: 47681.25 | D16: =+B16+C16 -> 127681.25 | F16: 0 | G16: 0 | H16: =+F16+G16 -> 0 | J16: =+D16+H16 -> 127681.25 | K16: 0
A17: 42231 | B17: 0 | C17: 46881.25 | D17: =+B17+C17 -> 46881.25 | F17: 0 | G17: 0 | H17: =+F17+G17 -> 0 | J17: =+D17+H17 -> 46881.25 | K17: =+J16+J17 -> 174562.5
A18: 42415 | B18: 70000 | C18: 46881.25 | D18: =+B18+C18 -> 116881.25 | F18: 0 | G18: 0 | H18: =+F18+G18 -> 0 | J18: =+D18+H18 -> 116881.25 | K18: 0
A19: 42597 | B19: 0 | C19: 46181.25 | D19: =+B19+C19 -> 46181.25 | F19: 0 | G19: 0 | H19: =+F19+G19 -> 0 | J19: =+D19+H19 -> 46181.25 | K19: =+J18+J19 -> 163062.5
A20: 42781 | B20: 65000 | C20: 46181.25 | D20: =+B20+C20 -> 111181.25 | F20: 0 | G20: 0 | H20: =+F20+G20 -> 0 | J20: =+D20+H20 -> 111181.25 | K20: 0
A21: 42962 | B21: 0 | C21: 45368.75 | D21: =+B21+C21 -> 45368.75 | F21: 0 | G21: 0 | H21: =+F21+G21 -> 0 | J21: =+D21+H21 -> 45368.75 | K21: =+J20+J21 -> 156550
A22: 43146 | B22: 70000 | C22: 45368.75 | D22: =+B22+C22 -> 115368.75 | F22: 0 | G22: 0 | H22: =+F22+G22 -> 0 | J22: =+D22+H22 -> 115368.75 | K22: 0
A23: 43327 | B23: 0 | C23: 44493.75 | D23: =+B23+C23 -> 44493.75 | F23: 0 | G23: 0 | H23: =+F23+G23 -> 0 | J23: =+D23+H23 -> 44493.75 | K23: =+J22+J23 -> 159862.5
A24: 43511 | B24: 62835.5 | C24: 111658.25 | D24: =+B24+C24 -> 174493.75 | J24: =+D24+H24 -> 174493.75
A25: 43692 | B25: 0 | C25: 44493.75 | D25: =+B25+C25 -> 44493.75 | J25: =+D25+H25 -> 44493.75 | K25: =+J24+J25 -> 218987.5
A26: 43876 | B26: 57163.6 | C26: 72836.4 | D26: =+B26+C26 -> 130000 | J26: =+D26+H26 -> 130000 | K26: 0
A27: 44058 | B27: 0 | C27: 0 | D27: =+B27+C27 -> 0 | F27: 0 | G27: 0 | H27: =+F27+G27 -> 0 | J27: =+D27+H27 -> 0 | K27: 0
A28: 44242 | B28: 0 | C28: 0 | D28: =+B28+C28 -> 0 | F28: 0 | G28: 0 | H28: =+F28+G28 -> 0 | J28: =+D28+H28 -> 0 | K28: 0
A29: 44423 | B29: 0 | C29: 0 | D29: =+B29+C29 -> 0 | F29: 0 | G29: 0 | H29: =+F29+G29 -> 0 | J29: =+D29+H29 -> 0 | K29: =+J28+J29 -> 0
A30: 44607 | B30: 0 | C30: 0 | D30: =+B30+C30 -> 0 | F30: 0 | G30: 0 | H30: =+F30+G30 -> 0 | J30: =+D30+H30 -> 0 | K30: 0
A31: 44788 | B31: 0 | C31: 0 | D31: =+B31+C31 -> 0 | F31: 0 | G31: 0 | H31: =+F31+G31 -> 0 | J31: =+D31+H31 -> 0 | K31: =+J30+J31 -> 0
A32: 44972 | B32: 0 | C32: 0 | D32: =+B32+C32 -> 0 | F32: 0 | G32: 0 | H32: =+F32+G32 -> 0 | J32: =+D32+H32 -> 0 | K32: 0
A33: 45153 | B33: 0 | C33: 0 | D33: =+B33+C33 -> 0 | F33: 0 | G33: 0 | H33: =+F33+G33 -> 0 | J33: =+D33+H33 -> 0 | K33: =+J32+J33 -> 0
A34: 45337 | B34: 0 | C34: 0 | D34: =+B34+C34 -> 0 | F34: 0 | G34: 0 | H34: =+F34+G34 -> 0 | J34: =+D34+H34 -> 0 | K34: 0
A35: 45519 | B35: 0 | C35: 0 | D35: =+B35+C35 -> 0 | F35: 0 | G35: 0 | H35: =+F35+G35 -> 0 | J35: =+D35+H35 -> 0 | K35: =+J34+J35 -> 0
A36: 45703 | B36: 0 | C36: 0 | D36: =+B36+C36 -> 0 | F36: 0 | G36: 0 | H36: =+F36+G36 -> 0 | J36: =+D36+H36 -> 0 | K36: 0
A37: 45884 | B37: 0 | C37: 0 | D37: =+B37+C37 -> 0 | F37: 0 | G37: 0 | H37: =+F37+G37 -> 0 | J37: =+D37+H37 -> 0 | K37: =+J36+J37 -> 0
A38: 46068 | B38: 0 | C38: 0 | D38: =+B38+C38 -> 0 | F38: 0 | G38: 0 | H38: =+F38+G38 -> 0 | J38: =+D38+H38 -> 0 | K38: 0
A39: 46249 | B39: 0 | C39: 0 | D39: =+B39+C39 -> 0 | F39: 0 | G39: 0 | H39: =+F39+G39 -> 0 | J39: =+D39+H39 -> 0 | K39: =+J38+J39 -> 0
A40: 46433 | B40: 0 | C40: 0 | D40: =+B40+C40 -> 0 | F40: 0 | G40: 0 | H40: =+F40+G40 -> 0 | J40: =+D40+H40 -> 0 | K40: 0
A41: 46614 | B41: 0 | C41: 0 | D41: =+B41+C41 -> 0 | F41: 0 | G41: 0 | H41: =+F41+G41 -> 0 | J41: =+D41+H41 -> 0 | K41: =+J40+J41 -> 0
A42: 46798 | B42: 0 | C42: 0 | D42: =+B42+C42 -> 0 | F42: 0 | G42: 0 | H42: =+F42+G42 -> 0 | J42: =+D42+H42 -> 0 | K42: 0
A43: 46980 | B43: 0 | C43: 0 | D43: =+B43+C43 -> 0 | F43: 0 | G43: 0 | H43: =+F43+G43 -> 0 | J43: =+D43+H43 -> 0 | K43: =+J42+J43 -> 0
A44: 47164 | B44: 0 | C44: 0 | D44: =+B44+C44 -> 0 | F44: 0 | G44: 0 | H44: =+F44+G44 -> 0 | J44: =+D44+H44 -> 0 | K44: 0
...

Sheet Series 2014
B1: Carroll ISD
B3: Series 2014
B4: U/L Tax Refunding Bonds
E7: Total
A8: Date | B8: Principal | C8: Interest | D8: Total | E8: Annual D/S
A10: 40954 | B10: 0 | C10: 0 | D10: =B10+C10 -> 0 | E10: 0
A11: 41136 | B11: 0 | C11: 0 | D11: =B11+C11 -> 0 | E11: =+D10+D11 -> 0
A12: 41320 | B12: 0 | C12: 0 | D12: =B12+C12 -> 0 | E12: 0
A13: 41501 | B13: 0 | C13: 0 | D13: =B13+C13 -> 0 | E13: =+D12+D13 -> 0
A14: 41685 | B14: 0 | C14: 0 | D14: =B14+C14 -> 0 | E14: 0
A15: 41866 | B15: 0 | C15: 0 | D15: =B15+C15 -> 0 | E15: =+D14+D15 -> 0
A16: 42050 | B16: 320000 | C16: 157142.34 | D16: =B16+C16 -> 477142.34 | E16: 0
A17: 42231 | B17: 0 | C17: 374238.13 | D17: =B17+C17 -> 374238.13 | E17: =+D16+D17 -> 851380.47
A18: 42415 | B18: 190000 | C18: 374238.13 | D18: =B18+C18 -> 564238.13 | E18: 0
A19: 42597 | B19: 0 | C19: 369488.13 | D19: =B19+C19 -> 369488.13 | E19: =+D18+D19 -> 933726.26
A20: 42781 | B20: 205000 | C20: 369488.13 | D20: =B20+C20 -> 574488.13 | E20: 0
A21: 42962 | B21: 0 | C21: 364363.13 | D21: =B21+C21 -> 364363.13 | E21: =+D20+D21 -> 938851.26
A22: 43146 | B22: 215000 | C22: 364363.13 | D22: =B22+C22 -> 579363.13 | E22: 0
A23: 43327 | B23: 0 | C23: 358988.13 | D23: =B23+C23 -> 358988.13 | E23: =+D22+D23 -> 938351.26
A24: 43511 | B24: 230000 | C24: 358988.13 | D24: =B24+C24 -> 588988.13
A25: 43692 | B25: 0 | C25: 353238.13 | D25: =B25+C25 -> 353238.13 | E25: =+D24+D25 -> 942226.26
A26: 43876 | B26: 240000 | C26: 353238.13 | D26: =B26+C26 -> 593238.13 | E26: 0
A27: 44058 | B27: 0 | C27: 347238.13 | D27: =B27+C27 -> 347238.13 | E27: =+D26+D27 -> 940476.26
A28: 44242 | B28: 0 | C28: 0 | D28: =B28+C28 -> 0 | E28: 0
A29: 44423 | B29: 0 | C29: 0 | D29: =B29+C29 -> 0 | E29: =+D28+D29 -> 0
A30: 44607 | B30: 1385000 | C30: 336863.13 | D30: =B30+C30 -> 1721863.1 | E30: 0
A31: 44788 | B31: 0 | C31: 302238.13 | D31: =B31+C31 -> 302238.13 | E31: =+D30+D31 -> 2024101.3
A32: 44972 | B32: 0 | C32: 0 | D32: =B32+C32 -> 0 | E32: 0
A33: 45153 | B33: 0 | C33: 0 | D33: =B33+C33 -> 0 | E33: =+D32+D33 -> 0
A34: 45337 | B34: 0 | C34: 0 | D34: =B34+C34 -> 0 | E34: 0
A35: 45519 | B35: 0 | C35: 0 | D35: =B35+C35 -> 0 | E35: 0
A36: 45703 | B36: 0 | C36: 0 | D36: =B36+C36 -> 0 | E36: =+D35+D36 -> 0
A37: 45884 | B37: 0 | C37: 0 | D37: =B37+C37 -> 0 | E37: 0
A38: 46068 | B38: 0 | C38: 0 | D38: =B38+C38 -> 0 | E38: =+D37+D38 -> 0
A39: 46249 | B39: 0 | C39: 0 | D39: =B39+C39 -> 0 | E39: 0
A40: 46433 | B40: 0 | C40: 0 | D40: =B40+C40 -> 0 | E40: =+D39+D40 -> 0
A41: 46614 | B41: 0 | C41: 0 | D41: =B41+C41 -> 0 | E41: 0
A42: 46798 | B42: 0 | C42: 0 | D42: =B42+C42 -> 0 | E42: =+D41+D42 -> 0
A43: 46980 | B43: 0 | C43: 0 | D43: =B43+C43 -> 0 | E43: 0
A44: 47164 | B44: 0 | C44: 0 | D44: =B44+C44 -> 0 | E44: 0
...

Sheet Series 2015A
B1: Carroll ISD
B3: Series 2015A
B4: U/L Tax Refunding Bonds
G7: Compound | J7: Combined | K7: Total
A8: Date | B8: Principal | C8: Interest | D8: Total D/S | F8: Principal | G8: Interest | H8: Total D/S | J8: Total D/S | K8: Annual D/S
A10: 40954 | B10: 0 | C10: 0 | D10: =B10+C10 -> 0 | K10: 0
A11: 41136 | B11: 0 | C11: 0 | D11: =B11+C11 -> 0 | K11: =+D10+D11 -> 0
A12: 41320 | B12: 0 | C12: 0 | D12: =B12+C12 -> 0 | K12: 0
A13: 41501 | B13: 0 | C13: 0 | D13: =B13+C13 -> 0 | K13: =+D12+D13 -> 0
A14: 41685 | B14: 0 | C14: 0 | D14: =B14+C14 -> 0 | K14: 0
A15: 41866 | B15: 0 | C15: 0 | D15: =B15+C15 -> 0 | K15: =+D14+D15 -> 0
A16: 42050 | B16: 0 | C16: 0 | D16: =B16+C16 -> 0 | K16: 0
A17: 42231 | B17: 45000 | C17: 13594.93 | D17: =B17+C17 -> 58594.93 | K17: =+D16+D17 -> 58594.93
A18: 42415 | B18: 35000 | C18: 32618.75 | D18: =B18+C18 -> 67618.75 | K18: 0
A19: 42597 | B19: 0 | C19: 32268.75 | D19: =B19+C19 -> 32268.75 | K19: =+D18+D19 -> 99887.5
A20: 42781 | B20: 440000 | C20: 32268.75 | D20: =B20+C20 -> 472268.75 | F20: 0 | G20: 0 | H20: =F20+G20 -> 0 | J20: =D20+H20 -> 472268.75 | K20: 0
A21: 42962 | B21: 0 | C21: 26768.75 | D21: =B21+C21 -> 26768.75 | F21: 0 | G21: 0 | H21: =F21+G21 -> 0 | J21: =D21+H21 -> 26768.75 | K21: =+J20+J21 -> 499037.5
A22: 43146 | B22: 0 | C22: 26768.75 | D22: =B22+C22 -> 26768.75 | F22: 414997.2 | G22: 95002.8 | H22: =F22+G22 -> 510000 | J22: =D22+H22 -> 536768.75 | K22: 0
A23: 43327 | B23: 0 | C23: 26768.75 | D23: =B23+C23 -> 26768.75 | F23: 0 | G23: 0 | H23: =F23+G23 -> 0 | J23: =D23+H23 -> 26768.75 | K23: =+J22+J23 -> 563537.5
A24: 43511 | B24: 225000 | C24: 26768.75 | D24: =B24+C24 -> 251768.75 | F24: 0 | G24: 0 | H24: =F24+G24 -> 0 | J24: =D24+H24 -> 251768.75
A25: 43692 | B25: 0 | C25: 23675 | D25: =B25+C25 -> 23675 | F25: 0 | G25: 0 | H25: =F25+G25 -> 0 | J25: =D25+H25 -> 23675 | K25: =+J24+J25 -> 275443.75
A26: 43876 | B26: 0 | C26: 23675 | D26: =B26+C26 -> 23675 | F26: 0 | G26: 0 | H26: =F26+G26 -> 0 | J26: =D26+H26 -> 23675 | K26: 0
A27: 44058 | B27: 0 | C27: 23675 | D27: =B27+C27 -> 23675 | F27: 0 | G27: 0 | H27: =F27+G27 -> 0 | J27: =D27+H27 -> 23675 | K27: =+J26+J27 -> 47350
A28: 44242 | B28: 0 | C28: 0 | D28: =B28+C28 -> 0 | F28: 0 | G28: 0 | H28: =F28+G28 -> 0 | J28: =D28+H28 -> 0 | K28: 0
A29: 44423 | B29: 0 | C29: 0 | D29: =B29+C29 -> 0 | F29: 0 | G29: 0 | H29: =F29+G29 -> 0 | J29: =D29+H29 -> 0 | K29: =+J28+J29 -> 0
A30: 44607 | B30: 185000 | C30: 21050 | D30: =B30+C30 -> 206050 | F30: 0 | G30: 0 | H30: =F30+G30 -> 0 | J30: =D30+H30 -> 206050 | K30: 0
A31: 44788 | B31: 0 | C31: 18275 | D31: =B31+C31 -> 18275 | F31: 0 | G31: 0 | H31: =F31+G31 -> 0 | J31: =D31+H31 -> 18275 | K31: =+J30+J31 -> 224325
A32: 44972 | B32: 0 | C32: 0 | D32: =B32+C32 -> 0 | F32: 0 | G32: 0 | H32: =F32+G32 -> 0 | J32: =D32+H32 -> 0 | K32: 0
A33: 45153 | B33: 0 | C33: 0 | D33: =B33+C33 -> 0 | F33: 0 | G33: 0 | H33: =F33+G33 -> 0 | J33: =D33+H33 -> 0 | K33: =+J32+J33 -> 0
A34: 45337 | B34: 0 | C34: 0 | D34: =B34+C34 -> 0 | F34: 0 | G34: 0 | H34: =F34+G34 -> 0 | J34: =D34+H34 -> 0 | K34: 0
A35: 45519 | B35: 0 | C35: 12350 | D35: =B35+C35 -> 12350 | F35: 0 | G35: 0 | H35: =F35+G35 -> 0 | J35: =D35+H35 -> 12350 | K35: 0
A36: 45703 | B36: 210000 | C36: 12350 | D36: =B36+C36 -> 222350 | F36: 0 | G36: 0 | H36: =F36+G36 -> 0 | J36: =D36+H36 -> 222350 | K36: =+D35+D36 -> 234700
A37: 45884 | B37: 0 | C37: 9200 | D37: =B37+C37 -> 9200 | F37: 0 | G37: 0 | H37: =F37+G37 -> 0 | J37: =D37+H37 -> 9200 | K37: 0
A38: 46068 | B38: 215000 | C38: 9200 | D38: =B38+C38 -> 224200 | F38: 0 | G38: 0 | H38: =F38+G38 -> 0 | J38: =D38+H38 -> 224200 | K38: =+D37+D38 -> 233400
A39: 46249 | B39: 0 | C39: 5975 | D39: =B39+C39 -> 5975 | F39: 0 | G39: 0 | H39: =F39+G39 -> 0 | J39: =D39+H39 -> 5975 | K39: 0
A40: 46433 | B40: 225000 | C40: 5975 | D40: =B40+C40 -> 230975 | F40: 0 | G40: 0 | H40: =F40+G40 -> 0 | J40: =D40+H40 -> 230975 | K40: =+D39+D40 -> 236950
A41: 46614 | B41: 0 | C41: 3162.5 | D41: =B41+C41 -> 3162.5 | F41: 0 | G41: 0 | H41: =F41+G41 -> 0 | J41: =D41+H41 -> 3162.5 | K41: 0
A42: 46798 | B42: 230000 | C42: 3162.5 | D42: =B42+C42 -> 233162.5 | F42: 0 | G42: 0 | H42: =F42+G42 -> 0 | J42: =D42+H42 -> 233162.5 | K42: =+D41+D42 -> 236325
A43: 46980 | B43: 0 | C43: 0 | D43: =B43+C43 -> 0 | F43: 0 | G43: 0 | H43: =F43+G43 -> 0 | J43: =D43+H43 -> 0 | K43: 0
A44: 47164 | B44: 0 | C44: 0 | D44: =B44+C44 -> 0 | F44: 0 | G44: 0 | H44: =F44+G44 -> 0 | J44: =D44+H44 -> 0 | K44: 0
...

Sheet Series 2015B
B1: Carroll ISD
B3: Series 2015B
B4: U/L Tax Refunding Bonds
E7: Total
A8: Date | B8: Principal | C8: Interest | D8: Total | E8: Annual D/S
A10: 40954 | B10: 0 | C10: 0 | D10: =B10+C10 -> 0 | E10: 0
A11: 41136 | B11: 0 | C11: 0 | D11: =B11+C11 -> 0 | E11: =+D10+D11 -> 0
A12: 41320 | B12: 0 | C12: 0 | D12: =B12+C12 -> 0 | E12: 0
A13: 41501 | B13: 0 | C13: 0 | D13: =B13+C13 -> 0 | E13: =+D12+D13 -> 0
A14: 41685 | B14: 0 | C14: 0 | D14: =B14+C14 -> 0 | E14: 0
A15: 41866 | B15: 0 | C15: 0 | D15: =B15+C15 -> 0 | E15: =+D14+D15 -> 0
A16: 42050 | B16: 0 | C16: 0 | D16: =B16+C16 -> 0 | E16: 0
A17: 42231 | B17: 110000 | C17: 40175.83 | D17: =B17+C17 -> 150175.83 | E17: =+D16+D17 -> 150175.83
A18: 42415 | B18: 50000 | C18: 96075 | D18: =B18+C18 -> 146075 | E18: 0
A19: 42597 | B19: 0 | C19: 95325 | D19: =B19+C19 -> 95325 | E19: =+D18+D19 -> 241400
A20: 42781 | B20: 50000 | C20: 95325 | D20: =B20+C20 -> 145325 | E20: 0
A21: 42962 | B21: 0 | C21: 94575 | D21: =B21+C21 -> 94575 | E21: =+D20+D21 -> 239900
A22: 43146 | B22: 55000 | C22: 94575 | D22: =B22+C22 -> 149575 | E22: 0
A23: 43327 | B23: 0 | C23: 93750 | D23: =B23+C23 -> 93750 | E23: =+D22+D23 -> 243325
A24: 43511 | B24: 780000 | C24: 93750 | D24: =B24+C24 -> 873750
A25: 43692 | B25: 0 | C25: 82050 | D25: =B25+C25 -> 82050 | E25: =+D24+D25 -> 955800
A26: 43876 | B26: 980000 | C26: 82050 | D26: =B26+C26 -> 1062050 | E26: 0
A27: 44058 | B27: 0 | C27: 67350 | D27: =B27+C27 -> 67350 | E27: =+D26+D27 -> 1129400
A28: 44242 | B28: 0 | C28: 0 | D28: =B28+C28 -> 0 | E28: 0
A29: 44423 | B29: 0 | C29: 0 | D29: =B29+C29 -> 0 | E29: =+D28+D29 -> 0
A30: 44607 | B30: 180000 | C30: 56400 | D30: =B30+C30 -> 236400 | E30: 0
A31: 44788 | B31: 0 | C31: 53700 | D31: =B31+C31 -> 53700 | E31: =+D30+D31 -> 290100
A32: 44972 | B32: 0 | C32: 0 | D32: =B32+C32 -> 0 | E32: 0
A33: 45153 | B33: 0 | C33: 0 | D33: =B33+C33 -> 0 | E33: =+D32+D33 -> 0
A34: 45337 | B34: 0 | C34: 0 | D34: =B34+C34 -> 0 | E34: 0
A35: 45519 | B35: 0 | C35: 48000 | D35: =B35+C35 -> 48000 | E35: 0
A36: 45703 | B36: 205000 | C36: 48000 | D36: =B36+C36 -> 253000 | E36: =+D35+D36 -> 301000
A37: 45884 | B37: 0 | C37: 44925 | D37: =B37+C37 -> 44925 | E37: 0
A38: 46068 | B38: 970000 | C38: 44925 | D38: =B38+C38 -> 1014925 | E38: =+D37+D38 -> 1059850
A39: 46249 | B39: 0 | C39: 30375 | D39: =B39+C39 -> 30375 | E39: 0
A40: 46433 | B40: 970000 | C40: 30375 | D40: =B40+C40 -> 1000375 | E40: =+D39+D40 -> 1030750
A41: 46614 | B41: 0 | C41: 15825 | D41: =B41+C41 -> 15825 | E41: 0
A42: 46798 | B42: 230000 | C42: 15825 | D42: =B42+C42 -> 245825 | E42: =+D41+D42 -> 261650
A43: 46980 | B43: 0 | C43: 12375 | D43: =B43+C43 -> 12375 | E43: 0
A44: 47164 | B44: 225000 | C44: 12375 | D44: =B44+C44 -> 237375 | E44: =+D43+D44 -> 249750
...

Sheet Series 2016A
B1: Carroll ISD
B3: Series 2016A
B4: U/L Tax Refunding Bonds
E7: Total
A8: Date | B8: Principal | C8: Interest | D8: Total | E8: Annual D/S
A10: 40954 | B10: 0 | C10: 0 | D10: =B10+C10 -> 0 | E10: 0
A11: 41136 | B11: 0 | C11: 0 | D11: =B11+C11 -> 0 | E11: =+D10+D11 -> 0
A12: 41320 | B12: 0 | C12: 0 | D12: =B12+C12 -> 0 | E12: 0
A13: 41501 | B13: 0 | C13: 0 | D13: =B13+C13 -> 0 | E13: =+D12+D13 -> 0
A14: 41685 | B14: 0 | C14: 0 | D14: =B14+C14 -> 0 | E14: 0
A15: 41866 | B15: 0 | C15: 0 | D15: =B15+C15 -> 0 | E15: =+D14+D15 -> 0
A16: 42050 | B16: 0 | C16: 0 | D16: =B16+C16 -> 0 | E16: 0
A17: 42231 | B17: 110000 | C17: 40175.83 | D17: =B17+C17 -> 150175.83 | E17: =+D16+D17 -> 150175.83
A18: 42415 | B18: 425000 | C18: 82455.69 | D18: =B18+C18 -> 507455.69 | E18: 0
A19: 42597 | B19: 0 | C19: 330943.75 | D19: =B19+C19 -> 330943.75 | E19: =+D18+D19 -> 838399.44
A20: 42781 | B20: 505000 | C20: 330943.75 | D20: =B20+C20 -> 835943.75 | E20: 0
A21: 42962 | B21: 0 | C21: 323368.75 | D21: =B21+C21 -> 323368.75 | E21: =+D20+D21 -> 1159312.5
A22: 43146 | B22: 1550000 | C22: 323368.75 | D22: =B22+C22 -> 1873368.8 | E22: 0
A23: 43327 | B23: 0 | C23: 292368.75 | D23: =B23+C23 -> 292368.75 | E23: =+D22+D23 -> 2165737.5
A24: 43511 | B24: 1400000 | C24: 292368.75 | D24: =B24+C24 -> 1692368.8
A25: 43692 | B25: 0 | C25: 264368.75 | D25: =B25+C25 -> 264368.75 | E25: =+D24+D25 -> 1956737.5
A26: 43876 | B26: 1050000 | C26: 264368.75 | D26: =B26+C26 -> 1314368.8 | E26: 0
A27: 44058 | B27: 0 | C27: 243368.75 | D27: =B27+C27 -> 243368.75 | E27: =+D26+D27 -> 1557737.5
A28: 44242 | B28: 0 | C28: 0 | D28: =B28+C28 -> 0 | E28: 0
A29: 44423 | B29: 0 | C29: 0 | D29: =B29+C29 -> 0 | E29: =+D28+D29 -> 0
A30: 44607 | B30: 745000 | C30: 240418.75 | D30: =B30+C30 -> 985418.75 | E30: 0
A31: 44788 | B31: 0 | C31: 225518.75 | D31: =B31+C31 -> 225518.75 | E31: =+D30+D31 -> 1210937.5
A32: 44972 | B32: 0 | C32: 0 | D32: =B32+C32 -> 0 | E32: 0
A33: 45153 | B33: 0 | C33: 0 | D33: =B33+C33 -> 0 | E33: =+D32+D33 -> 0
A34: 45337 | B34: 0 | C34: 0 | D34: =B34+C34 -> 0 | E34: 0
A35: 45519 | B35: 0 | C35: 74000 | D35: =B35+C35 -> 74000 | E35: 0
A36: 45703 | B36: 2330000 | C36: 74000 | D36: =B36+C36 -> 2404000 | E36: =+D35+D36 -> 2478000
A37: 45884 | B37: 0 | C37: 27400 | D37: =B37+C37 -> 27400 | E37: 0
A38: 46068 | B38: 1370000 | C38: 27400 | D38: =B38+C38 -> 1397400 | E38: =+D37+D38 -> 1424800
A39: 46249 | B39: 0 | C39: 0 | D39: =B39+C39 -> 0 | E39: 0
A40: 46433 | B40: 0 | C40: 0 | D40: =B40+C40 -> 0 | E40: =+D39+D40 -> 0
A41: 46614 | B41: 0 | C41: 0 | D41: =B41+C41 -> 0 | E41: 0
A42: 46798 | B42: 0 | C42: 0 | D42: =B42+C42 -> 0 | E42: =+D41+D42 -> 0
A43: 46980 | B43: 0 | C43: 0 | D43: =B43+C43 -> 0 | E43: 0
A44: 47164 | B44: 0 | C44: 0 | D44: =B44+C44 -> 0 | E44: =+D43+D44 -> 0
...

Sheet Series 2016C
B1: Carroll ISD
B3: Series 2016C
B4: U/L Tax Refunding Bonds
E7: Total
A8: Date | B8: Principal | C8: Interest | D8: Total | E8: Annual D/S
A10: 40954 | B10: 0 | C10: 0 | D10: =B10+C10 -> 0 | E10: 0
A11: 41136 | B11: 0 | C11: 0 | D11: =B11+C11 -> 0 | E11: =+D10+D11 -> 0
A12: 41320 | B12: 0 | C12: 0 | D12: =B12+C12 -> 0 | E12: 0
A13: 41501 | B13: 0 | C13: 0 | D13: =B13+C13 -> 0 | E13: =+D12+D13 -> 0
A14: 41685 | B14: 0 | C14: 0 | D14: =B14+C14 -> 0 | E14: 0
A15: 41866 | B15: 0 | C15: 0 | D15: =B15+C15 -> 0 | E15: =+D14+D15 -> 0
A16: 42050 | B16: 0 | C16: 0 | D16: =B16+C16 -> 0 | E16: 0
A17: 42231 | B17: 110000 | C17: 40175.83 | D17: =B17+C17 -> 150175.83 | E17: =+D16+D17 -> 150175.83
A18: 42415 | B18: 425000 | C18: 82455.69 | D18: =B18+C18 -> 507455.69 | E18: 0
A19: 42597 | B19: 0 | C19: 330943.75 | D19: =B19+C19 -> 330943.75 | E19: =+D18+D19 -> 838399.44
A20: 42781 | B20: 55000 | C20: 58315.83 | D20: =B20+C20 -> 113315.83 | E20: 0
A21: 42962 | B21: 0 | C21: 99556.25 | D21: =B21+C21 -> 99556.25 | E21: =+D20+D21 -> 212872.08
A22: 43146 | B22: 2205000 | C22: 99556.25 | D22: =B22+C22 -> 2304556.2 | E22: 0
A23: 43327 | B23: 0 | C23: 55456.25 | D23: =B23+C23 -> 55456.25 | E23: =+D22+D23 -> 2360012.5
A24: 43511 | B24: 100000 | C24: 55456.25 | D24: =B24+C24 -> 155456.25
A25: 43692 | B25: 0 | C25: 52956.25 | D25: =B25+C25 -> 52956.25 | E25: =+D24+D25 -> 208412.5
A26: 43876 | B26: 100000 | C26: 52956.25 | D26: =B26+C26 -> 152956.25 | E26: 0
A27: 44058 | B27: 0 | C27: 50456.25 | D27: =B27+C27 -> 50456.25 | E27: =+D26+D27 -> 203412.5
A28: 44242 | B28: 0 | C28: 0 | D28: =B28+C28 -> 0 | E28: 0
A29: 44423 | B29: 0 | C29: 0 | D29: =B29+C29 -> 0 | E29: =+D28+D29 -> 0
A30: 44607 | B30: 170000 | C30: 46331.25 | D30: =B30+C30 -> 216331.25 | E30: 0
A31: 44788 | B31: 0 | C31: 42081.25 | D31: =B31+C31 -> 42081.25 | E31: =+D30+D31 -> 258412.5
A32: 44972 | B32: 0 | C32: 0 | D32: =B32+C32 -> 0 | E32: 0
A33: 45153 | B33: 0 | C33: 0 | D33: =B33+C33 -> 0 | E33: =+D32+D33 -> 0
A34: 45337 | B34: 0 | C34: 0 | D34: =B34+C34 -> 0 | E34: 0
A35: 45519 | B35: 0 | C35: 33081.25 | D35: =B35+C35 -> 33081.25 | E35: 0
A36: 45703 | B36: 130000 | C36: 33081.25 | D36: =B36+C36 -> 163081.25 | E36: =+D35+D36 -> 196162.5
A37: 45884 | B37: 0 | C37: 29831.25 | D37: =B37+C37 -> 29831.25 | E37: 0
A38: 46068 | B38: 0 | C38: 29831.25 | D38: =B38+C38 -> 29831.25 | E38: =+D37+D38 -> 59662.5
A39: 46249 | B39: 0 | C39: 29831.25 | D39: =B39+C39 -> 29831.25 | E39: 0
A40: 46433 | B40: 0 | C40: 29831.25 | D40: =B40+C40 -> 29831.25 | E40: =+D39+D40 -> 59662.5
A41: 46614 | B41: 0 | C41: 29831.25 | D41: =B41+C41 -> 29831.25 | E41: 0
A42: 46798 | B42: 205000 | C42: 29831.25 | D42: =B42+C42 -> 234831.25 | E42: =+D41+D42 -> 264662.5
A43: 46980 | B43: 0 | C43: 25731.25 | D43: =B43+C43 -> 25731.25 | E43: 0
A44: 47164 | B44: 210000 | C44: 25731.25 | D44: =B44+C44 -> 235731.25 | E44: =+D43+D44 -> 261462.5
...

Sheet Series 2017
B1: Carroll ISD
B3: Series 2017
B4: U/L Tax School Building Bonds
E7: Total
A8: Date | B8: Principal | C8: Interest | D8: Total | E8: Annual D/S
A10: 40954 | B10: 0 | C10: 0 | D10: =B10+C10 -> 0 | E10: 0
A11: 41136 | B11: 0 | C11: 0 | D11: =B11+C11 -> 0 | E11: =+D10+D11 -> 0
A12: 41320 | B12: 0 | C12: 0 | D12: =B12+C12 -> 0 | E12: 0
A13: 41501 | B13: 0 | C13: 0 | D13: =B13+C13 -> 0 | E13: =+D12+D13 -> 0
A14: 41685 | B14: 0 | C14: 0 | D14: =B14+C14 -> 0 | E14: 0
A15: 41866 | B15: 0 | C15: 0 | D15: =B15+C15 -> 0 | E15: =+D14+D15 -> 0
A16: 42050 | B16: 0 | C16: 0 | D16: =B16+C16 -> 0 | E16: 0
A17: 42231 | B17: 110000 | C17: 40175.83 | D17: =B17+C17 -> 150175.83 | E17: =+D16+D17 -> 150175.83
A18: 42415 | B18: 425000 | C18: 82455.69 | D18: =B18+C18 -> 507455.69 | E18: 0
A19: 42597 | B19: 0 | C19: 330943.75 | D19: =B19+C19 -> 330943.75 | E19: =+D18+D19 -> 838399.44
A20: 42781 | B20: 0 | C20: 0 | D20: =B20+C20 -> 0 | E20: 0
A21: 42962 | B21: 0 | C21: 0 | D21: =B21+C21 -> 0 | E21: =+D20+D21 -> 0
A22: 43146 | B22: 6640000 | C22: 1278313.1 | D22: =B22+C22 -> 7918313.1 | E22: 0
A23: 43327 | B23: 0 | C23: 1281146.9 | D23: =B23+C23 -> 1281146.9 | E23: =+D22+D23 -> 9199459.9
A24: 43511 | B24: 515000 | C24: 1281146.9 | D24: =B24+C24 -> 1796146.9
A25: 43692 | B25: 0 | C25: 1268271.9 | D25: =B25+C25 -> 1268271.9 | E25: =+D24+D25 -> 3064418.8
A26: 43876 | B26: 525000 | C26: 1268271.9 | D26: =B26+C26 -> 1793271.9 | E26: 0
A27: 44058 | B27: 0 | C27: 1255146.9 | D27: =B27+C27 -> 1255146.9 | E27: =+D26+D27 -> 3048418.8
A28: 44242 | B28: 0 | C28: 0 | D28: =B28+C28 -> 0 | E28: 0
A29: 44423 | B29: 0 | C29: 0 | D29: =B29+C29 -> 0 | E29: =+D28+D29 -> 0
A30: 44607 | B30: 1475000 | C30: 1213146.9 | D30: =B30+C30 -> 2688146.9 | E30: 0
A31: 44788 | B31: 0 | C31: 1176271.9 | D31: =B31+C31 -> 1176271.9 | E31: =+D30+D31 -> 3864418.8
A32: 44972 | B32: 0 | C32: 0 | D32: =B32+C32 -> 0 | E32: 0
A33: 45153 | B33: 0 | C33: 0 | D33: =B33+C33 -> 0 | E33: =+D32+D33 -> 0
A34: 45337 | B34: 0 | C34: 0 | D34: =B34+C34 -> 0 | E34: 0
A35: 45519 | B35: 0 | C35: 1121271.9 | D35: =B35+C35 -> 1121271.9 | E35: 0
A36: 45703 | B36: 1320000 | C36: 1121271.9 | D36: =B36+C36 -> 2441271.9 | E36: =+D35+D36 -> 3562543.8
A37: 45884 | B37: 0 | C37: 1088271.9 | D37: =B37+C37 -> 1088271.9 | E37: 0
A38: 46068 | B38: 1260000 | C38: 1088271.9 | D38: =B38+C38 -> 2348271.9 | E38: =+D37+D38 -> 3436543.8
A39: 46249 | B39: 0 | C39: 1056771.9 | D39: =B39+C39 -> 1056771.9 | E39: 0
A40: 46433 | B40: 1500000 | C40: 1056771.9 | D40: =B40+C40 -> 2556771.9 | E40: =+D39+D40 -> 3613543.8
A41: 46614 | B41: 0 | C41: 1019271.9 | D41: =B41+C41 -> 1019271.9 | E41: 0
A42: 46798 | B42: 3095000 | C42: 1019271.9 | D42: =B42+C42 -> 4114271.9 | E42: =+D41+D42 -> 5133543.8
A43: 46980 | B43: 0 | C43: 941896.88 | D43: =B43+C43 -> 941896.88 | E43: 0
A44: 47164 | B44: 3255000 | C44: 941896.88 | D44: =B44+C44 -> 4196896.9 | E44: =+D43+D44 -> 5138793.8
...

Sheet Series 2018
B1: Carroll ISD
B3: Series 2018
B4: U/L Tax School Building Bonds
E7: Total
A8: Date | B8: Principal | C8: Interest | D8: Total | E8: Annual D/S
A10: 40954 | B10: 0 | C10: 0 | D10: =B10+C10 -> 0 | E10: 0
A11: 41136 | B11: 0 | C11: 0 | D11: =B11+C11 -> 0 | E11: =+D10+D11 -> 0
A12: 41320 | B12: 0 | C12: 0 | D12: =B12+C12 -> 0 | E12: 0
A13: 41501 | B13: 0 | C13: 0 | D13: =B13+C13 -> 0 | E13: =+D12+D13 -> 0
A14: 41685 | B14: 0 | C14: 0 | D14: =B14+C14 -> 0 | E14: 0
A15: 41866 | B15: 0 | C15: 0 | D15: =B15+C15 -> 0 | E15: =+D14+D15 -> 0
A16: 42050 | B16: 0 | C16: 0 | D16: =B16+C16 -> 0 | E16: 0
A17: 42231 | B17: 110000 | C17: 40175.83 | D17: =B17+C17 -> 150175.83 | E17: =+D16+D17 -> 150175.83
A18: 42415 | B18: 425000 | C18: 82455.69 | D18: =B18+C18 -> 507455.69 | E18: 0
A19: 42597 | B19: 0 | C19: 330943.75 | D19: =B19+C19 -> 330943.75 | E19: =+D18+D19 -> 838399.44
A20: 42781 | B20: 0 | C20: 0 | D20: =B20+C20 -> 0 | E20: 0
A21: 42962 | B21: 0 | C21: 0 | D21: =B21+C21 -> 0 | E21: =+D20+D21 -> 0
A22: 43146 | D22: =B22+C22 -> 0 | E22: 0
A23: 43327 | B23: 0 | D23: =B23+C23 -> 0 | E23: =+D22+D23 -> 0
A24: 43511 | B24: 6430000 | C24: 989686.81 | D24: =B24+C24 -> 7419686.8
A25: 43692 | B25: 0 | C25: 1199125 | D25: =B25+C25 -> 1199125 | E25: =+D24+D25 -> 8618811.8
A26: 43876 | B26: 4505000 | C26: 1199125 | D26: =B26+C26 -> 5704125 | E26: 0
A27: 44058 | B27: 0 | C27: 1086500 | D27: =B27+C27 -> 1086500 | E27: =+D26+D27 -> 6790625
A28: 44242 | B28: 0 | C28: 0 | D28: =B28+C28 -> 0 | E28: 0
A29: 44423 | B29: 0 | C29: 0 | D29: =B29+C29 -> 0 | E29: =+D28+D29 -> 0
A30: 44607 | B30: 1450000 | C30: 959875 | D30: =B30+C30 -> 2409875 | E30: 0
A31: 44788 | B31: 0 | C31: 923625 | D31: =B31+C31 -> 923625 | E31: =+D30+D31 -> 3333500
A32: 44972 | B32: 0 | C32: 0 | D32: =B32+C32 -> 0 | E32: 0
A33: 45153 | B33: 0 | C33: 0 | D33: =B33+C33 -> 0 | E33: =+D32+D33 -> 0
A34: 45337 | B34: 0 | C34: 0 | D34: =B34+C34 -> 0 | E34: 0
A35: 45519 | B35: 0 | C35: 685275 | D35: =B35+C35 -> 685275 | E35: 0
A36: 45703 | B36: 775000 | C36: 685275 | D36: =B36+C36 -> 1460275 | E36: =+D35+D36 -> 2145550
A37: 45884 | B37: 0 | C37: 665900 | D37: =B37+C37 -> 665900 | E37: 0
A38: 46068 | B38: 710000 | C38: 665900 | D38: =B38+C38 -> 1375900 | E38: =+D37+D38 -> 2041800
A39: 46249 | B39: 0 | C39: 648150 | D39: =B39+C39 -> 648150 | E39: 0
A40: 46433 | B40: 835000 | C40: 648150 | D40: =B40+C40 -> 1483150 | E40: =+D39+D40 -> 2131300
A41: 46614 | B41: 0 | C41: 627275 | D41: =B41+C41 -> 627275 | E41: 0
A42: 46798 | B42: 2190000 | C42: 627275 | D42: =B42+C42 -> 2817275 | E42: =+D41+D42 -> 3444550
A43: 46980 | B43: 0 | C43: 572525 | D43: =B43+C43 -> 572525 | E43: 0
A44: 47164 | B44: 2465000 | C44: 572525 | D44: =B44+C44 -> 3037525 | E44: =+D43+D44 -> 3610050
...

Sheet Series 2019
B1: Carroll ISD
B3: Series 2019
B4: U/L Tax Refunding Bonds
E7: Total
A8: Date | B8: Principal | C8: Interest | D8: Total | E8: Annual D/S
A10: 40954 | E10: 0
A11: 41136 | E11: =+D10+D11 -> 0
A12: 41320 | E12: 0
A13: 41501 | E13: =+D12+D13 -> 0
A14: 41685 | E14: 0
A15: 41866 | E15: =+D14+D15 -> 0
A16: 42050 | E16: 0
A17: 42231 | E17: =+D16+D17 -> 0
A18: 42415 | E18: 0
A19: 42597 | E19: =+D18+D19 -> 0
A20: 42781 | E20: 0
A21: 42962 | E21: =+D20+D21 -> 0
A22: 43146 | E22: 0
A23: 43327 | E23: =+D22+D23 -> 0
A24: 43511
A25: 43692 | B25: 60000 | C25: 246533.75 | D25: =B25+C25 -> 306533.75 | E25: =+D24+D25 -> 306533.75
A26: 43876 | B26: 1890000 | C26: 264225 | D26: =B26+C26 -> 2154225 | E26: 0
A27: 44058 | B27: 0 | C27: 216975 | D27: =B27+C27 -> 216975 | E27: =+D26+D27 -> 2371200
A28: 44242 | B28: 0 | C28: 0 | D28: =B28+C28 -> 0 | E28: 0
A29: 44423 | B29: 0 | C29: 0 | D29: =B29+C29 -> 0 | E29: =+D28+D29 -> 0
A30: 44607 | B30: 1380000 | C30: 184850 | D30: =B30+C30 -> 1564850 | E30: 0
A31: 44788 | B31: 0 | C31: 150350 | D31: =B31+C31 -> 150350 | E31: =+D30+D31 -> 1715200
A32: 44972 | B32: 0 | C32: 0 | D32: =B32+C32 -> 0 | E32: 0
A33: 45153 | B33: 0 | C33: 0 | D33: =B33+C33 -> 0 | E33: =+D32+D33 -> 0
A34: 45337 | B34: 0 | C34: 0 | D34: =B34+C34 -> 0 | E34: 0
A35: 45519 | B35: 0 | C35: 86375 | D35: =B35+C35 -> 86375 | E35: 0
A36: 45703 | B36: 1885000 | C36: 86375 | D36: =B36+C36 -> 1971375 | E36: =+D35+D36 -> 2057750
A37: 45884 | B37: 0 | C37: 58100 | D37: =B37+C37 -> 58100 | E37: 0
A38: 46068 | B38: 1970000 | C38: 58100 | D38: =B38+C38 -> 2028100 | E38: =+D37+D38 -> 2086200
A39: 46249 | B39: 0 | C39: 8850 | D39: =B39+C39 -> 8850 | E39: 0
A40: 46433 | B40: 75000 | C40: 8850 | D40: =B40+C40 -> 83850 | E40: =+D39+D40 -> 92700
A41: 46614 | B41: 0 | C41: 6975 | D41: =B41+C41 -> 6975 | E41: 0
A42: 46798 | B42: 90000 | C42: 6975 | D42: =B42+C42 -> 96975 | E42: =+D41+D42 -> 103950
A43: 46980 | B43: 0 | C43: 4725 | D43: =B43+C43 -> 4725 | E43: 0
A44: 47164 | B44: 130000 | C44: 4725 | D44: =B44+C44 -> 134725 | E44: =+D43+D44 -> 139450
...

Sheet Series 2019A
B1: Carroll ISD
B3: Series 2019A
B4: U/L Tax School Building and Refunding Bonds
E7: Total
A8: Date | B8: Principal | C8: Interest | D8: Total | E8: Annual D/S
A10: 40954 | B10: 0 | C10: 0 | D10: =B10+C10 -> 0 | E10: 0
A11: 41136 | B11: 0 | C11: 0 | D11: =B11+C11 -> 0 | E11: =+D10+D11 -> 0
A12: 41320 | B12: 0 | C12: 0 | D12: =B12+C12 -> 0 | E12: 0
A13: 41501 | B13: 0 | C13: 0 | D13: =B13+C13 -> 0 | E13: =+D12+D13 -> 0
A14: 41685 | B14: 0 | C14: 0 | D14: =B14+C14 -> 0 | E14: 0
A15: 41866 | B15: 0 | C15: 0 | D15: =B15+C15 -> 0 | E15: =+D14+D15 -> 0
A16: 42050 | B16: 0 | C16: 0 | D16: =B16+C16 -> 0 | E16: 0
A17: 42231 | B17: 110000 | C17: 40175.83 | D17: =B17+C17 -> 150175.83 | E17: =+D16+D17 -> 150175.83
A18: 42415 | B18: 425000 | C18: 82455.69 | D18: =B18+C18 -> 507455.69 | E18: 0
A19: 42597 | B19: 0 | C19: 330943.75 | D19: =B19+C19 -> 330943.75 | E19: =+D18+D19 -> 838399.44
A20: 42781 | B20: 55000 | C20: 58315.83 | D20: =B20+C20 -> 113315.83 | E20: 0
A21: 42962 | B21: 0 | C21: 99556.25 | D21: =B21+C21 -> 99556.25 | E21: =+D20+D21 -> 212872.08
A22: 43146 | B22: 2205000 | C22: 99556.25 | D22: =B22+C22 -> 2304556.2 | E22: 0
A23: 43327 | B23: 0 | C23: 55456.25 | D23: =B23+C23 -> 55456.25 | E23: =+D22+D23 -> 2360012.5
A24: 43511 | B24: 0 | C24: 0 | D24: =B24+C24 -> 0
A25: 43692 | D25: =B25+C25 -> 0 | E25: =+D24+D25 -> 0
A26: 43876 | B26: 2100000 | C26: 380237.78 | D26: =B26+C26 -> 2480237.8 | E26: 0
A27: 44058 | B27: 0 | C27: 1016918.8 | D27: =B27+C27 -> 1016918.8 | E27: =+D26+D27 -> 3497156.5
A28: 44242 | B28: 0 | C28: 0 | D28: =B28+C28 -> 0 | E28: 0
A29: 44423 | B29: 0 | C29: 0 | D29: =B29+C29 -> 0 | E29: =+D28+D29 -> 0
A30: 44607 | B30: 6160000 | C30: 988293.75 | D30: =B30+C30 -> 7148293.8 | E30: 0
A31: 44788 | B31: 0 | C31: 834293.75 | D31: =B31+C31 -> 834293.75 | E31: =+D30+D31 -> 7982587.5
A32: 44972 | B32: 0 | C32: 0 | D32: =B32+C32 -> 0 | E32: 0
A33: 45153 | B33: 0 | C33: 0 | D33: =B33+C33 -> 0 | E33: =+D32+D33 -> 0
A34: 45337 | B34: 0 | C34: 0 | D34: =B34+C34 -> 0 | E34: 0
A35: 45519 | B35: 0 | C35: 753418.75 | D35: =B35+C35 -> 753418.75 | E35: 0
A36: 45703 | B36: 1695000 | C36: 753418.75 | D36: =B36+C36 -> 2448418.8 | E36: =+D35+D36 -> 3201837.5
A37: 45884 | B37: 0 | C37: 711043.75 | D37: =B37+C37 -> 711043.75 | E37: 0
A38: 46068 | B38: 1760000 | C38: 711043.75 | D38: =B38+C38 -> 2471043.8 | E38: =+D37+D38 -> 3182087.5
