Workbook
Name NvsASD: "V2018-03-31"
Name NvsAutoDrillOk: "VN"
Name NvsDateToNumber: "Y"
Name NvsDrillHyperLink: "https://jcspa.jeffco.k12.co.us/psp/PA92PRD_newwin/EMPLOYEE/PSFT_EP/c/REPORT_BOOKS.IC_RUN_DRILLDOWN.GBL?Action=A&NVS_INSTANCE=5118522_7639454"
Name NvsElapsedTime: 0.0000462962925666943
Name NvsEndTime: 43179.2764236111
Name NvsInstanceHook: CollapseNplosionMacro
Name NvsInstLang: "VENG"
Name NvsInstSpec: "%,FDEPTID,V55800"
Name NvsInstSpec1: ","
Name NvsInstSpec2: ","
Name NvsInstSpec3: ","
Name NvsInstSpec4: ","
Name NvsInstSpec5: ","
Name NvsInstSpec6: ","
Name NvsInstSpec7: ","
Name NvsInstSpec8: ","
Name NvsInstSpec9: ","
Name NvsLayoutType: "M3"
Name NvsNplSpec: "%,X,RPT.ACCOUNT.,CZF.."
Name NvsPanelEffdt: "V1900-01-01"
Name NvsPanelSetid: "VGF020"
Name NvsReqBU: "VGF020"
Name NvsReqBUOnly: "VY"
Name NvsSheetType: "M"
Name NvsTransLed: "VN"
Name NvsTreeASD: "V2018-03-31"
Name NvsValTbl.ACCOUNT: "GL_ACCOUNT_TBL"
Name NvsValTbl.BUDGET_YEAR: "BUDGET_YEAR"
Name NvsValTbl.BUSINESS_UNIT: "BUS_UNIT_TBL_GL"
Name NvsValTbl.FUND_CODE: "FUND_TBL"
Name NvsValTbl.PROGRAM_CODE: "PROGRAM_TBL"
Name PED: Sheet1!$DA$4

Sheet Sheet1
B1: %,AFF,FACCOUNT | C1: %,AFT,FDESCR | D1: %,VCA020 | E1: %,VCC020 | F1: %,VFS020 | G1: %,VGF020 | H1: %,VGS020 | I1: %,LACTUALS,SALLYEAR-1,FFUND_CODE,X,VCA020,VFS020,VGF020,VGS020,VIR020,VCC020 | K1: %,VCR020 | L1: %,VDS020 | M1: %,LACTUALS,SALLYEAR-1,FFUND_CODE,X,VCR020,VDS020 | O1: %,LACTUALS,SALLYEAR-1 | Q1: %,LREVEST_BD,UPOSTED_TOTAL_AMT,SADJBAL,FACCOUNT,TACCOUNT_ROLLUP,NREVENUE | R1: %,LORG_BD,UPOSTED_TOTAL_AMT,SADJBAL,R,FACCOUNT,TACCOUNT_ROLLUP,XDYYNYN00,NTRANSFERS | S1: %,C | U1: %,V512100 | V1: %,V513100 | W1: %,V521100 | X1: %,V521900 | Y1: %,V522200 | Z1: %,V524200 | AA1: %,V526200 | AB1: %,V529200 | AC1: %,V529400 | AD1: %,V529500 | AE1: %,V529600 | AF1: %,V529800 | AG1: %,V552100 | AH1: %,V557100 | AI1: %,V557600 | AJ1: %,V591100 | AK1: %,V599400 | AL1: %,V599810 | AM1: %,V599820 | AN1: %,V599830 | AO1: %,V699000 | AP1: %,V701000 | AQ1: %,V702000 | AR1: %,V708000 | AS1: %,V710000 | AT1: %,V713000 | AU1: %,V715000 | AV1: %,V721000 | AW1: %,V723000 | AX1: %,V731000 | AY1: %,V743000 | AZ1: %,V745000 | BA1: %,V745500 | BB1: %,V746000 | BC1: %,V752000 | BD1: %,V761000 | BE1: %,V764000 | BF1: %,V765000 | BG1: %,V766000 | BH1: %,V768000 | BI1: %,V769000 | BJ1: %,V770000 | BK1: %,V770800 | BL1: %,V775000 | BM1: %,V781000 | BN1: %,V781500 | BO1: %,V804000 | BP1: %,V805000 | BQ1: %,V806000 | BR1: %,V810000 | BS1: %,V810001 | BT1: %,V812000 | BU1: %,V814000 | BV1: %,V820000 | BW1: %,V820001 | BX1: %,V822000 | BY1: %,V823000 | BZ1: %,V824000 | CA1: %,V826000 | CB1: %,V840000 | CC1: %,V870000 | CD1: %,V885000 | CE1: %,V889000 | CF1: %,V914000 | CG1: %,V930000 | CH1: %,V950000 | CI1: %,LORG_BD,UPOSTED_TOTAL_AMT,SADJBAL,R,FACCOUNT,TACCOUNT_ROLLUP,XDYYNYN00,NEXPENDITURE | CK1: %,VCA020 | CL1: %,VCC020 | CM1: %,VGF020 | CN1: %,VGS020 | CO1: %,LACTUALS,SYTD,FFUND_CODE,X,VCA020,VFS020,VGF020,VGS020,VIR020,VCC020 | CQ1: %,VCR020 | CR1: %,VDS020 | CS1: %,LACTUALS,SYTD,FFUND_CODE,X,VCR020,VDS020 | CU1: %,LACTUALS,SYTD | CV1: %,C | CW1: %,C
B2: Jefferson County Public Schools | CO2: Lincoln Academy Charter School | DA2: 558OPC
B3: Charter Schools
B4: Lincoln Academy Charter School | CO4: Financials 07/01/17 - 03/20/18 | DA4: 43190
B5: ="Report ID: "&DA2 -> Report ID: 558OPC | CZ5: 55800
B6: For Accounting Period: | CO6: Board February 12, 2018 | CZ6: Lincoln Academy Charter School
B7: 43190
A8: %,ATF,FFUND_CODE | B8: Account | D8: CA020 | E8: CC020 | F8: FS020 | G8: GF020 | H8: GS020 | I8: Prior Year | K8: CR020 | L8: DS020 | M8: Prior Year | O8: Prior Year | CK8: CA020 | CL8: CC020 | CM8: GF020 | CN8: GS020 | CO8: Current Year | CQ8: CR020 | CR8: DS020 | CS8: Current Year | CU8: Current Year
A9: %,ATF,FDESCR | B9: Number | C9: Description | D9: Charter School Campus Activity | E9: Charter School Child Care Fund | F9: Charter School Food Service | G9: Charter School General Fund | H9: Charter School Grant Fund | I9: Operational Funds | K9: Charter School Capital Reserve | L9: Charter School Debt Service | M9: Capital Funds | O9: Total | S9: Estimated Revenue | U9: Principal | V9: Assistant Principal | W9: Teacher | X9: Substitute Teacher | Y9: Teacher Librarian | Z9: Coordinator - Classified | AA9: Instructional Coach | AB9: Occupational Therapist | AC9: Nurse | AD9: Psychologist | AE9: Social Worker | AF9: Speech Therapist | AG9: School Secretary | AH9: Paraprofessional | AI9: Clinic Aides | AJ9: Custodian | AK9: Unused Sick Leave | AL9: Additional Pay - Certificated | AM9: Additional Pay-Classified | AN9: Additional Pay-Administrative | AO9: Employee Benefits | AP9: Mileage And Travel | AQ9: Employee Training & Conf | AR9: Employee Background Verificatn | AS9: Meals/Refreshments | AT9: Student Transportation | AU9: Student Admission/Entry Fees | AV9: Legal Fees | AW9: Printing | AX9: Contracted Services | AY9: Equipment Rental | AZ9: Contract Maint/Eq Repair | BA9: Technology Services | BB9: Const Maint/Repair-Bldg | BC9: Marketing - Advertising | BD9: Natural Gas | BE9: Electricity | BF9: Voice Communication Line | BG9: Water & Sanitation | BH9: Postage | BI9: Permits/Licenses/Fees | BJ9: Risk Management Charges | BK9: Unemployment Comp Insur | BL9: Community Relations | BM9: Lease Purch-Other-Principal | BN9: Lease Purch-Other-Interest | BO9: Fund Raising | BP9: Materials/Supplies-Other | BQ9: Materials/Supplies Resale | BR9: Office Material/Supplies | BS9: Office Equipment - Under $5K | BT9: Clinic Supplies/Materials | BU9: Custodial Supplies | BV9: Instructional Material/Supply | BW9: Instructional Equip-Under $5K | BX9: Textbooks | BY9: Copier Usage | BZ9: Testing Materials | CA9: Graduation Materials | CB9: Maint Materials/Supplies | CC9: Library Materials | CD9: Miscellaneous Expense | CE9: Consumable Supplies | CF9: Vehicles - Utility Fleet | CG9: Building Improvements | CH9: Transfers | CI9: Budget | CK9: Charter School Campus Activity | CL9: Charter School Child Care Fund | CM9: Charter School General Fund | CN9: Charter School Grant Fund | CO9: Operational Funds | CQ9: Charter School Capital Reserve | CR9: Charter School Debt Service | CS9: Capital Funds | CU9: Total | CV9: Variance | CW9: Percent Spent
C11: Prior Year Carryforward | I11: 2574893.6 | O11: 2574893.6 | CK11: 66708.76 | CL11: 83539.84 | CM11: 1713338 | CN11: 0 | CO11: 1863586.6 | CQ11: 0 | CR11: 781817.1 | CS11: 781817.1 | CU11: 2645403.7
A13: %,V401000 | B13: 401000 | C13: Commissions/Profits | D13: 207.2 | E13: 0 | F13: 0 | G13: 0 | H13: 0 | I13: 207.2 | K13: 0 | L13: 0 | M13: 0 | O13: 207.2 | Q13: -18000 | R13: 0 | S13: =-1*(Q13+R13) -> 18000 | U13: 0 | V13: 0 | W13: 0 | X13: 0 | Y13: 0 | Z13: 0 | AA13: 0 | AB13: 0 | AC13: 0 | AD13: 0 | AE13: 0 | AF13: 0 | AG13: 0 | AH13: 0 | AI13: 0 | AJ13: 0 | AK13: 0 | AL13: 0 | AM13: 0 | AN13: 0 | AO13: 0 | AP13: 0 | AQ13: 0 | AR13: 0 | AS13: 0 | AT13: 0 | AU13: 0 | AV13: 0 | AW13: 0 | AX13: 0 | AY13: 0 | AZ13: 0 | BA13: 0 | BB13: 0 | BC13: 0 | BD13: 0 | BE13: 0 | BF13: 0 | BG13: 0 | BH13: 0 | BI13: 0 | BJ13: 0 | BK13: 0 | BL13: 0 | BM13: 0 | BN13: 0 | BO13: 0 | BP13: 0 | BQ13: 0 | BR13: 0 | BS13: 0 | BT13: 0 | BU13: 0 | BV13: 0 | BW13: 0 | BX13: 0 | BY13: 0 | BZ13: 0 | CA13: 0 | CB13: 0 | CC13: 0 | CD13: 0 | CE13: 0 | CF13: 0 | CG13: 0 | CH13: 0 | CI13: 0 | CK13: 2446.62 | CL13: 0 | CM13: 9421.27 | CN13: 0 | CO13: 11867.89 | CQ13: 0 | CR13: 0 | CS13: 0 | CU13: 11867.89 | CV13: =S13-CU13 -> 6132.11 | CW13: =IF(S13=0,"n/a",CU13/(S13)) -> 0.65932722
A14: %,V401400 | B14: 401400 | C14: Ticket Sales | D14: 862 | E14: 0 | F14: 0 | G14: 0 | H14: 0 | I14: 862 | K14: 0 | L14: 0 | M14: 0 | O14: 862 | Q14: -1044 | R14: 0 | S14: =-1*(Q14+R14) -> 1044 | U14: 0 | V14: 0 | W14: 0 | X14: 0 | Y14: 0 | Z14: 0 | AA14: 0 | AB14: 0 | AC14: 0 | AD14: 0 | AE14: 0 | AF14: 0 | AG14: 0 | AH14: 0 | AI14: 0 | AJ14: 0 | AK14: 0 | AL14: 0 | AM14: 0 | AN14: 0 | AO14: 0 | AP14: 0 | AQ14: 0 | AR14: 0 | AS14: 0 | AT14: 0 | AU14: 0 | AV14: 0 | AW14: 0 | AX14: 0 | AY14: 0 | AZ14: 0 | BA14: 0 | BB14: 0 | BC14: 0 | BD14: 0 | BE14: 0 | BF14: 0 | BG14: 0 | BH14: 0 | BI14: 0 | BJ14: 0 | BK14: 0 | BL14: 0 | BM14: 0 | BN14: 0 | BO14: 0 | BP14: 0 | BQ14: 0 | BR14: 0 | BS14: 0 | BT14: 0 | BU14: 0 | BV14: 0 | BW14: 0 | BX14: 0 | BY14: 0 | BZ14: 0 | CA14: 0 | CB14: 0 | CC14: 0 | CD14: 0 | CE14: 0 | CF14: 0 | CG14: 0 | CH14: 0 | CI14: 0 | CK14: 1372 | CL14: 0 | CM14: 0 | CN14: 0 | CO14: 1372 | CQ14: 0 | CR14: 0 | CS14: 0 | CU14: 1372 | CV14: =S14-CU14 -> -328 | CW14: =IF(S14=0,"n/a",CU14/(S14)) -> 1.3141762
A15: %,V408000 | B15: 408000 | C15: Resale | D15: 11918.47 | E15: 0 | F15: 0 | G15: 60 | H15: 0 | I15: 11978.47 | K15: 0 | L15: 0 | M15: 0 | O15: 11978.47 | Q15: -18797 | R15: 0 | S15: =-1*(Q15+R15) -> 18797 | U15: 0 | V15: 0 | W15: 0 | X15: 0 | Y15: 0 | Z15: 0 | AA15: 0 | AB15: 0 | AC15: 0 | AD15: 0 | AE15: 0 | AF15: 0 | AG15: 0 | AH15: 0 | AI15: 0 | AJ15: 0 | AK15: 0 | AL15: 0 | AM15: 0 | AN15: 0 | AO15: 0 | AP15: 0 | AQ15: 0 | AR15: 0 | AS15: 0 | AT15: 0 | AU15: 0 | AV15: 0 | AW15: 0 | AX15: 0 | AY15: 0 | AZ15: 0 | BA15: 0 | BB15: 0 | BC15: 0 | BD15: 0 | BE15: 0 | BF15: 0 | BG15: 0 | BH15: 0 | BI15: 0 | BJ15: 0 | BK15: 0 | BL15: 0 | BM15: 0 | BN15: 0 | BO15: 0 | BP15: 0 | BQ15: 0 | BR15: 0 | BS15: 0 | BT15: 0 | BU15: 0 | BV15: 0 | BW15: 0 | BX15: 0 | BY15: 0 | BZ15: 0 | CA15: 0 | CB15: 0 | CC15: 0 | CD15: 0 | CE15: 0 | CF15: 0 | CG15: 0 | CH15: 0 | CI15: 0 | CK15: 6302.71 | CL15: 0 | CM15: 0 | CN15: 0 | CO15: 6302.71 | CQ15: 0 | CR15: 0 | CS15: 0 | CU15: 6302.71 | CV15: =S15-CU15 -> 12494.29 | CW15: =IF(S15=0,"n/a",CU15/(S15)) -> 0.33530404
A16: %,V409000 | B16: 409000 | C16: Sales-Fund Raising | D16: 5787.56 | E16: 0 | F16: 0 | G16: 1844.4 | H16: 0 | I16: 7631.96 | K16: 0 | L16: 0 | M16: 0 | O16: 7631.96 | Q16: -8680 | R16: 0 | S16: =-1*(Q16+R16) -> 8680 | U16: 0 | V16: 0 | W16: 0 | X16: 0 | Y16: 0 | Z16: 0 | AA16: 0 | AB16: 0 | AC16: 0 | AD16: 0 | AE16: 0 | AF16: 0 | AG16: 0 | AH16: 0 | AI16: 0 | AJ16: 0 | AK16: 0 | AL16: 0 | AM16: 0 | AN16: 0 | AO16: 0 | AP16: 0 | AQ16: 0 | AR16: 0 | AS16: 0 | AT16: 0 | AU16: 0 | AV16: 0 | AW16: 0 | AX16: 0 | AY16: 0 | AZ16: 0 | BA16: 0 | BB16: 0 | BC16: 0 | BD16: 0 | BE16: 0 | BF16: 0 | BG16: 0 | BH16: 0 | BI16: 0 | BJ16: 0 | BK16: 0 | BL16: 0 | BM16: 0 | BN16: 0 | BO16: 0 | BP16: 0 | BQ16: 0 | BR16: 0 | BS16: 0 | BT16: 0 | BU16: 0 | BV16: 0 | BW16: 0 | BX16: 0 | BY16: 0 | BZ16: 0 | CA16: 0 | CB16: 0 | CC16: 0 | CD16: 0 | CE16: 0 | CF16: 0 | CG16: 0 | CH16: 0 | CI16: 0 | CK16: 7642.27 | CL16: 200 | CM16: 2096.02 | CN16: 0 | CO16: 9938.29 | CQ16: 0 | CR16: 0 | CS16: 0 | CU16: 9938.29 | CV16: =S16-CU16 -> -1258.29 | CW16: =IF(S16=0,"n/a",CU16/(S16)) -> 1.1449643
A17: %,V411000 | B17: 411000 | C17: Prop Tax-Mill Levy Override | D17: 0 | E17: 0 | F17: 0 | G17: 911243.48 | H17: 0 | I17: 911243.48 | K17: 0 | L17: 0 | M17: 0 | O17: 911243.48 | Q17: -959696 | R17: 0 | S17: =-1*(Q17+R17) -> 959696 | U17: 0 | V17: 0 | W17: 0 | X17: 0 | Y17: 0 | Z17: 0 | AA17: 0 | AB17: 0 | AC17: 0 | AD17: 0 | AE17: 0 | AF17: 0 | AG17: 0 | AH17: 0 | AI17: 0 | AJ17: 0 | AK17: 0 | AL17: 0 | AM17: 0 | AN17: 0 | AO17: 0 | AP17: 0 | AQ17: 0 | AR17: 0 | AS17: 0 | AT17: 0 | AU17: 0 | AV17: 0 | AW17: 0 | AX17: 0 | AY17: 0 | AZ17: 0 | BA17: 0 | BB17: 0 | BC17: 0 | BD17: 0 | BE17: 0 | BF17: 0 | BG17: 0 | BH17: 0 | BI17: 0 | BJ17: 0 | BK17: 0 | BL17: 0 | BM17: 0 | BN17: 0 | BO17: 0 | BP17: 0 | BQ17: 0 | BR17: 0 | BS17: 0 | BT17: 0 | BU17: 0 | BV17: 0 | BW17: 0 | BX17: 0 | BY17: 0 | BZ17: 0 | CA17: 0 | CB17: 0 | CC17: 0 | CD17: 0 | CE17: 0 | CF17: 0 | CG17: 0 | CH17: 0 | CI17: 0 | CK17: 0 | CL17: 0 | CM17: 721370.37 | CN17: 0 | CO17: 721370.37 | CQ17: 0 | CR17: 0 | CS17: 0 | CU17: 721370.37 | CV17: =S17-CU17 -> 238325.63 | CW17: =IF(S17=0,"n/a",CU17/(S17)) -> 0.7516655
A18: %,V415000 | B18: 415000 | C18: Earnings On Investments | D18: 0 | E18: 0 | F18: 0 | G18: 0.06 | H18: 0 | I18: 0.06 | K18: 0 | L18: 686.83 | M18: 686.83 | O18: 686.89 | Q18: -3800 | R18: 0 | S18: =-1*(Q18+R18) -> 3800 | U18: 0 | V18: 0 | W18: 0 | X18: 0 | Y18: 0 | Z18: 0 | AA18: 0 | AB18: 0 | AC18: 0 | AD18: 0 | AE18: 0 | AF18: 0 | AG18: 0 | AH18: 0 | AI18: 0 | AJ18: 0 | AK18: 0 | AL18: 0 | AM18: 0 | AN18: 0 | AO18: 0 | AP18: 0 | AQ18: 0 | AR18: 0 | AS18: 0 | AT18: 0 | AU18: 0 | AV18: 0 | AW18: 0 | AX18: 0 | AY18: 0 | AZ18: 0 | BA18: 0 | BB18: 0 | BC18: 0 | BD18: 0 | BE18: 0 | BF18: 0 | BG18: 0 | BH18: 0 | BI18: 0 | BJ18: 0 | BK18: 0 | BL18: 0 | BM18: 0 | BN18: 0 | BO18: 0 | BP18: 0 | BQ18: 0 | BR18: 0 | BS18: 0 | BT18: 0 | BU18: 0 | BV18: 0 | BW18: 0 | BX18: 0 | BY18: 0 | BZ18: 0 | CA18: 0 | CB18: 0 | CC18: 0 | CD18: 0 | CE18: 0 | CF18: 0 | CG18: 0 | CH18: 0 | CI18: 0 | CK18: 0 | CL18: 0 | CM18: 0 | CN18: 0 | CO18: 0 | CQ18: 0 | CR18: 3268.92 | CS18: 3268.92 | CU18: 3268.92 | CV18: =S18-CU18 -> 531.08 | CW18: =IF(S18=0,"n/a",CU18/(S18)) -> 0.86024211
A19: %,V416000 | B19: 416000 | C19: Proceeds Lease/Purchase | D19: 0 | E19: 0 | F19: 0 | G19: 0 | H19: 0 | I19: 0 | K19: 0 | L19: 0 | M19: 0 | O19: 0 | Q19: 0 | R19: 0 | S19: =-1*(Q19+R19) -> 0 | U19: 0 | V19: 0 | W19: 0 | X19: 0 | Y19: 0 | Z19: 0 | AA19: 0 | AB19: 0 | AC19: 0 | AD19: 0 | AE19: 0 | AF19: 0 | AG19: 0 | AH19: 0 | AI19: 0 | AJ19: 0 | AK19: 0 | AL19: 0 | AM19: 0 | AN19: 0 | AO19: 0 | AP19: 0 | AQ19: 0 | AR19: 0 | AS19: 0 | AT19: 0 | AU19: 0 | AV19: 0 | AW19: 0 | AX19: 0 | AY19: 0 | AZ19: 0 | BA19: 0 | BB19: 0 | BC19: 0 | BD19: 0 | BE19: 0 | BF19: 0 | BG19: 0 | BH19: 0 | BI19: 0 | BJ19: 0 | BK19: 0 | BL19: 0 | BM19: 0 | BN19: 0 | BO19: 0 | BP19: 0 | BQ19: 0 | BR19: 0 | BS19: 0 | BT19: 0 | BU19: 0 | BV19: 0 | BW19: 0 | BX19: 0 | BY19: 0 | BZ19: 0 | CA19: 0 | CB19: 0 | CC19: 0 | CD19: 0 | CE19: 0 | CF19: 0 | CG19: 0 | CH19: 0 | CI19: 0 | CK19: 0 | CL19: 0 | CM19: 0 | CN19: 0 | CO19: 0 | CQ19: 0 | CR19: 0 | CS19: 0 | CU19: 0 | CV19: =S19-CU19 -> 0 | CW19: =IF(S19=0,"n/a",CU19/(S19)) -> n/a
A20: %,V419000 | B20: 419000 | C20: Other Revenue | D20: 6755.7 | E20: 400 | F20: 0 | G20: 277224.79 | H20: 500 | I20: 284880.49 | K20: 0 | L20: 0 | M20: 0 | O20: 284880.49 | Q20: -31815 | R20: 0 | S20: =-1*(Q20+R20) -> 31815 | U20: 0 | V20: 0 | W20: 0 | X20: 0 | Y20: 0 | Z20: 0 | AA20: 0 | AB20: 0 | AC20: 0 | AD20: 0 | AE20: 0 | AF20: 0 | AG20: 0 | AH20: 0 | AI20: 0 | AJ20: 0 | AK20: 0 | AL20: 0 | AM20: 0 | AN20: 0 | AO20: 0 | AP20: 0 | AQ20: 0 | AR20: 0 | AS20: 0 | AT20: 0 | AU20: 0 | AV20: 0 | AW20: 0 | AX20: 0 | AY20: 0 | AZ20: 0 | BA20: 0 | BB20: 0 | BC20: 0 | BD20: 0 | BE20: 0 | BF20: 0 | BG20: 0 | BH20: 0 | BI20: 0 | BJ20: 0 | BK20: 0 | BL20: 0 | BM20: 0 | BN20: 0 | BO20: 0 | BP20: 0 | BQ20: 0 | BR20: 0 | BS20: 0 | BT20: 0 | BU20: 0 | BV20: 0 | BW20: 0 | BX20: 0 | BY20: 0 | BZ20: 0 | CA20: 0 | CB20: 0 | CC20: 0 | CD20: 0 | CE20: 0 | CF20: 0 | CG20: 0 | CH20: 0 | CI20: 0 | CK20: 150 | CL20: 0 | CM20: 30261.11 | CN20: 300 | CO20: 30711.11 | CQ20: 0 | CR20: 0 | CS20: 0 | CU20: 30711.11 | CV20: =S20-CU20 -> 1103.89 | CW20: =IF(S20=0,"n/a",CU20/(S20)) -> 0.96530284
A21: %,V431100 | B21: 431100 | C21: Capital Lease Proceeds | D21: 0 | E21: 0 | F21: 0 | G21: 16439 | H21: 0 | I21: 16439 | K21: 1333561 | L21: 0 | M21: 1333561 | O21: 1350000 | Q21: 0 | R21: 0 | S21: =-1*(Q21+R21) -> 0 | U21: 0 | V21: 0 | W21: 0 | X21: 0 | Y21: 0 | Z21: 0 | AA21: 0 | AB21: 0 | AC21: 0 | AD21: 0 | AE21: 0 | AF21: 0 | AG21: 0 | AH21: 0 | AI21: 0 | AJ21: 0 | AK21: 0 | AL21: 0 | AM21: 0 | AN21: 0 | AO21: 0 | AP21: 0 | AQ21: 0 | AR21: 0 | AS21: 0 | AT21: 0 | AU21: 0 | AV21: 0 | AW21: 0 | AX21: 0 | AY21: 0 | AZ21: 0 | BA21: 0 | BB21: 0 | BC21: 0 | BD21: 0 | BE21: 0 | BF21: 0 | BG21: 0 | BH21: 0 | BI21: 0 | BJ21: 0 | BK21: 0 | BL21: 0 | BM21: 0 | BN21: 0 | BO21: 0 | BP21: 0 | BQ21: 0 | BR21: 0 | BS21: 0 | BT21: 0 | BU21: 0 | BV21: 0 | BW21: 0 | BX21: 0 | BY21: 0 | BZ21: 0 | CA21: 0 | CB21: 0 | CC21: 0 | CD21: 0 | CE21: 0 | CF21: 0 | CG21: 0 | CH21: 0 | CI21: 0 | CK21: 0 | CL21: 0 | CM21: 0 | CN21: 0 | CO21: 0 | CQ21: 0 | CR21: 0 | CS21: 0 | CU21: 0 | CV21: =S21-CU21 -> 0 | CW21: =IF(S21=0,"n/a",CU21/(S21)) -> n/a
A22: %,V433000 | B22: 433000 | C22: State Revenue - Other | D22: 0 | E22: 0 | F22: 0 | G22: 1317.87 | H22: 0 | I22: 1317.87 | K22: 181948.64 | L22: 0 | M22: 181948.64 | O22: 183266.51 | Q22: -175378 | R22: 0 | S22: =-1*(Q22+R22) -> 175378 | U22: 0 | V22: 0 | W22: 0 | X22: 0 | Y22: 0 | Z22: 0 | AA22: 0 | AB22: 0 | AC22: 0 | AD22: 0 | AE22: 0 | AF22: 0 | AG22: 0 | AH22: 0 | AI22: 0 | AJ22: 0 | AK22: 0 | AL22: 0 | AM22: 0 | AN22: 0 | AO22: 0 | AP22: 0 | AQ22: 0 | AR22: 0 | AS22: 0 | AT22: 0 | AU22: 0 | AV22: 0 | AW22: 0 | AX22: 0 | AY22: 0 | AZ22: 0 | BA22: 0 | BB22: 0 | BC22: 0 | BD22: 0 | BE22: 0 | BF22: 0 | BG22: 0 | BH22: 0 | BI22: 0 | BJ22: 0 | BK22: 0 | BL22: 0 | BM22: 0 | BN22: 0 | BO22: 0 | BP22: 0 | BQ22: 0 | BR22: 0 | BS22: 0 | BT22: 0 | BU22: 0 | BV22: 0 | BW22: 0 | BX22: 0 | BY22: 0 | BZ22: 0 | CA22: 0 | CB22: 0 | CC22: 0 | CD22: 0 | CE22: 0 | CF22: 0 | CG22: 0 | CH22: 0 | CI22: 0 | CK22: 0 | CL22: 0 | CM22: 1657.17 | CN22: 0 | CO22: 1657.17 | CQ22: 100061.43 | CR22: 0 | CS22: 100061.43 | CU22: 101718.6 | CV22: =S22-CU22 -> 73659.4 | CW22: =IF(S22=0,"n/a",CU22/(S22)) -> 0.57999635
A23: %,V434000 | B23: 434000 | C23: Exceptional Children Revenue | D23: 0 | E23: 0 | F23: 0 | G23: 79798 | H23: 0 | I23: 79798 | K23: 0 | L23: 0 | M23: 0 | O23: 79798 | Q23: -80991 | R23: 0 | S23: =-1*(Q23+R23) -> 80991 | U23: 0 | V23: 0 | W23: 0 | X23: 0 | Y23: 0 | Z23: 0 | AA23: 0 | AB23: 0 | AC23: 0 | AD23: 0 | AE23: 0 | AF23: 0 | AG23: 0 | AH23: 0 | AI23: 0 | AJ23: 0 | AK23: 0 | AL23: 0 | AM23: 0 | AN23: 0 | AO23: 0 | AP23: 0 | AQ23: 0 | AR23: 0 | AS23: 0 | AT23: 0 | AU23: 0 | AV23: 0 | AW23: 0 | AX23: 0 | AY23: 0 | AZ23: 0 | BA23: 0 | BB23: 0 | BC23: 0 | BD23: 0 | BE23: 0 | BF23: 0 | BG23: 0 | BH23: 0 | BI23: 0 | BJ23: 0 | BK23: 0 | BL23: 0 | BM23: 0 | BN23: 0 | BO23: 0 | BP23: 0 | BQ23: 0 | BR23: 0 | BS23: 0 | BT23: 0 | BU23: 0 | BV23: 0 | BW23: 0 | BX23: 0 | BY23: 0 | BZ23: 0 | CA23: 0 | CB23: 0 | CC23: 0 | CD23: 0 | CE23: 0 | CF23: 0 | CG23: 0 | CH23: 0 | CI23: 0 | CK23: 0 | CL23: 0 | CM23: 80991 | CN23: 0 | CO23: 80991 | CQ23: 0 | CR23: 0 | CS23: 0 | CU23: 80991 | CV23: =S23-CU23 -> 0 | CW23: =IF(S23=0,"n/a",CU23/(S23)) -> 1
A24: %,V438000 | B24: 438000 | C24: State ELPA Revenue | D24: 0 | E24: 0 | F24: 0 | G24: 9943.89 | H24: 0 | I24: 9943.89 | K24: 0 | L24: 0 | M24: 0 | O24: 9943.89 | Q24: -11827 | R24: 0 | S24: =-1*(Q24+R24) -> 11827 | U24: 0 | V24: 0 | W24: 0 | X24: 0 | Y24: 0 | Z24: 0 | AA24: 0 | AB24: 0 | AC24: 0 | AD24: 0 | AE24: 0 | AF24: 0 | AG24: 0 | AH24: 0 | AI24: 0 | AJ24: 0 | AK24: 0 | AL24: 0 | AM24: 0 | AN24: 0 | AO24: 0 | AP24: 0 | AQ24: 0 | AR24: 0 | AS24: 0 | AT24: 0 | AU24: 0 | AV24: 0 | AW24: 0 | AX24: 0 | AY24: 0 | AZ24: 0 | BA24: 0 | BB24: 0 | BC24: 0 | BD24: 0 | BE24: 0 | BF24: 0 | BG24: 0 | BH24: 0 | BI24: 0 | BJ24: 0 | BK24: 0 | BL24: 0 | BM24: 0 | BN24: 0 | BO24: 0 | BP24: 0 | BQ24: 0 | BR24: 0 | BS24: 0 | BT24: 0 | BU24: 0 | BV24: 0 | BW24: 0 | BX24: 0 | BY24: 0 | BZ24: 0 | CA24: 0 | CB24: 0 | CC24: 0 | CD24: 0 | CE24: 0 | CF24: 0 | CG24: 0 | CH24: 0 | CI24: 0 | CK24: 0 | CL24: 0 | CM24: 11826.86 | CN24: 0 | CO24: 11826.86 | CQ24: 0 | CR24: 0 | CS24: 0 | CU24: 11826.86 | CV24: =S24-CU24 -> 0.14 | CW24: =IF(S24=0,"n/a",CU24/(S24)) -> 0.99998816
A25: %,V450000 | B25: 450000 | C25: Funding PPR | D25: 0 | E25: 0 | F25: 0 | G25: 4746830.1 | H25: 0 | I25: 4746830.1 | K25: 0 | L25: 460601.39 | M25: 460601.39 | O25: 4746830.1 | Q25: -5167113 | R25: 0 | S25: =-1*(Q25+R25) -> 5167113 | U25: 0 | V25: 0 | W25: 0 | X25: 0 | Y25: 0 | Z25: 0 | AA25: 0 | AB25: 0 | AC25: 0 | AD25: 0 | AE25: 0 | AF25: 0 | AG25: 0 | AH25: 0 | AI25: 0 | AJ25: 0 | AK25: 0 | AL25: 0 | AM25: 0 | AN25: 0 | AO25: 0 | AP25: 0 | AQ25: 0 | AR25: 0 | AS25: 0 | AT25: 0 | AU25: 0 | AV25: 0 | AW25: 0 | AX25: 0 | AY25: 0 | AZ25: 0 | BA25: 0 | BB25: 0 | BC25: 0 | BD25: 0 | BE25: 0 | BF25: 0 | BG25: 0 | BH25: 0 | BI25: 0 | BJ25: 0 | BK25: 0 | BL25: 0 | BM25: 0 | BN25: 0 | BO25: 0 | BP25: 0 | BQ25: 0 | BR25: 0 | BS25: 0 | BT25: 0 | BU25: 0 | BV25: 0 | BW25: 0 | BX25: 0 | BY25: 0 | BZ25: 0 | CA25: 0 | CB25: 0 | CC25: 0 | CD25: 0 | CE25: 0 | CF25: 0 | CG25: 0 | CH25: 0 | CI25: 0 | CK25: 0 | CL25: 0 | CM25: 3867691.4 | CN25: 0 | CO25: 3867691.4 | CQ25: 0 | CR25: 0 | CS25: 0 | CU25: 3867691.4 | CV25: =S25-CU25 -> 1299421.6 | CW25: =IF(S25=0,"n/a",CU25/(S25)) -> 0.74852077
B26: 450000 | C26: Transfers-Bond | O26: 460601.39 | S26: 465798.32 | CI26: 0 | CK26: 0 | CL26: 0 | CM26: 0 | CN26: 0 | CO26: 0 | CQ26: 0 | CR26: 348591.2 | CS26: 348591.2 | CU26: 348591.2 | CV26: =S26-CU26 -> 117207.12 | CW26: =IF(S26=0,"n/a",CU26/(S26)) -> 0.74837367
A27: %,V451000 | B27: 451000 | C27: Fees/Dues | D27: 0 | E27: 0 | F27: 0 | G27: 59578.73 | H27: 0 | I27: 59578.73 | K27: 0 | L27: 0 | M27: 0 | O27: 59578.73 | Q27: -65000 | R27: 0 | S27: =-1*(Q27+R27) -> 65000 | U27: 0 | V27: 0 | W27: 0 | X27: 0 | Y27: 0 | Z27: 0 | AA27: 0 | AB27: 0 | AC27: 0 | AD27: 0 | AE27: 0 | AF27: 0 | AG27: 0 | AH27: 0 | AI27: 0 | AJ27: 0 | AK27: 0 | AL27: 0 | AM27: 0 | AN27: 0 | AO27: 0 | AP27: 0 | AQ27: 0 | AR27: 0 | AS27: 0 | AT27: 0 | AU27: 0 | AV27: 0 | AW27: 0 | AX27: 0 | AY27: 0 | AZ27: 0 | BA27: 0 | BB27: 0 | BC27: 0 | BD27: 0 | BE27: 0 | BF27: 0 | BG27: 0 | BH27: 0 | BI27: 0 | BJ27: 0 | BK27: 0 | BL27: 0 | BM27: 0 | BN27: 0 | BO27: 0 | BP27: 0 | BQ27: 0 | BR27: 0 | BS27: 0 | BT27: 0 | BU27: 0 | BV27: 0 | BW27: 0 | BX27: 0 | BY27: 0 | BZ27: 0 | CA27: 0 | CB27: 0 | CC27: 0 | CD27: 0 | CE27: 0 | CF27: 0 | CG27: 0 | CH27: 0 | CI27: 0 | CK27: 0 | CL27: 0 | CM27: 64349.29 | CN27: 0 | CO27: 64349.29 | CQ27: 0 | CR27: 0 | CS27: 0 | CU27: 64349.29 | CV27: =S27-CU27 -> 650.71 | CW27: =IF(S27=0,"n/a",CU27/(S27)) -> 0.98998908
A28: %,V455000 | B28: 455000 | C28: Tuition from Individuals | D28: 0 | E28: 109564.1 | F28: 0 | G28: 0 | H28: 0 | I28: 109564.1 | K28: 0 | L28: 0 | M28: 0 | O28: 109564.1 | Q28: -125000 | R28: 0 | S28: =-1*(Q28+R28) -> 125000 | U28: 0 | V28: 0 | W28: 0 | X28: 0 | Y28: 0 | Z28: 0 | AA28: 0 | AB28: 0 | AC28: 0 | AD28: 0 | AE28: 0 | AF28: 0 | AG28: 0 | AH28: 0 | AI28: 0 | AJ28: 0 | AK28: 0 | AL28: 0 | AM28: 0 | AN28: 0 | AO28: 0 | AP28: 0 | AQ28: 0 | AR28: 0 | AS28: 0 | AT28: 0 | AU28: 0 | AV28: 0 | AW28: 0 | AX28: 0 | AY28: 0 | AZ28: 0 | BA28: 0 | BB28: 0 | BC28: 0 | BD28: 0 | BE28: 0 | BF28: 0 | BG28: 0 | BH28: 0 | BI28: 0 | BJ28: 0 | BK28: 0 | BL28: 0 | BM28: 0 | BN28: 0 | BO28: 0 | BP28: 0 | BQ28: 0 | BR28: 0 | BS28: 0 | BT28: 0 | BU28: 0 | BV28: 0 | BW28: 0 | BX28: 0 | BY28: 0 | BZ28: 0 | CA28: 0 | CB28: 0 | CC28: 0 | CD28: 0 | CE28: 0 | CF28: 0 | CG28: 0 | CH28: 0 | CI28: 0 | CK28: 0 | CL28: =129974.8-17049.9 -> 112924.9 | CM28: 0 | CN28: 0 | CO28: 112924.9 | CQ28: 0 | CR28: 0 | CS28: 0 | CU28: 112924.9 | CV28: =S28-CU28 -> 12075.1 | CW28: =IF(S28=0,"n/a",CU28/(S28)) -> 0.9033992
B29: 455000 | C29: Tuition from Individuals for 18-19 | O29: 0 | S29: 0 | CI29: 0 | CK29: 0 | CL29: 17049.9 | CM29: 0 | CN29: 0 | CO29: 17049.9 | CS29: 0 | CU29: 17049.9 | CV29: =S29-CU29 -> -17049.9 | CW29: =IF(S29=0,"n/a",CU29/(S29)) -> n/a
A30: %,V456000 | B30: 456000 | C30: Tuition-Extended Day Kdgn | D30: 0 | E30: 0 | F30: 0 | G30: 122533 | H30: 0 | I30: 122533 | K30: 0 | L30: 0 | M30: 0 | O30: 122533 | Q30: -124000 | R30: 0 | S30: =-1*(Q30+R30) -> 124000 | U30: 0 | V30: 0 | W30: 0 | X30: 0 | Y30: 0 | Z30: 0 | AA30: 0 | AB30: 0 | AC30: 0 | AD30: 0 | AE30: 0 | AF30: 0 | AG30: 0 | AH30: 0 | AI30: 0 | AJ30: 0 | AK30: 0 | AL30: 0 | AM30: 0 | AN30: 0 | AO30: 0 | AP30: 0 | AQ30: 0 | AR30: 0 | AS30: 0 | AT30: 0 | AU30: 0 | AV30: 0 | AW30: 0 | AX30: 0 | AY30: 0 | AZ30: 0 | BA30: 0 | BB30: 0 | BC30: 0 | BD30: 0 | BE30: 0 | BF30: 0 | BG30: 0 | BH30: 0 | BI30: 0 | BJ30: 0 | BK30: 0 | BL30: 0 | BM30: 0 | BN30: 0 | BO30: 0 | BP30: 0 | BQ30: 0 | BR30: 0 | BS30: 0 | BT30: 0 | BU30: 0 | BV30: 0 | BW30: 0 | BX30: 0 | BY30: 0 | BZ30: 0 | CA30: 0 | CB30: 0 | CC30: 0 | CD30: 0 | CE30: 0 | CF30: 0 | CG30: 0 | CH30: 0 | CI30: 0 | CK30: 0 | CL30: 0 | CM30: =133966-19800 -> 114166 | CN30: 0 | CO30: 114166 | CQ30: 0 | CR30: 0 | CS30: 0 | CU30: 114166 | CV30: =S30-CU30 -> 9834 | CW30: =IF(S30=0,"n/a",CU30/(S30)) -> 0.92069355
B31: 456000 | C31: Tuition-Extended Day Kdgn for 18-19 | O31: 0 | S31: 0 | CI31: 0 | CK31: 0 | CL31: 0 | CM31: 19800 | CN31: 0 | CO31: 19800 | CS31: 0 | CU31: 19800 | CV31: =S31-CU31 -> -19800 | CW31: =IF(S31=0,"n/a",CU31/(S31)) -> n/a
A32: %,V461000 | B32: 461000 | C32: Building Rental | D32: 75 | E32: 0 | F32: 0 | G32: 25057.1 | H32: 0 | I32: 25132.1 | K32: 0 | L32: 0 | M32: 0 | O32: 25132.1 | Q32: -18000 | R32: 0 | S32: =-1*(Q32+R32) -> 18000 | U32: 0 | V32: 0 | W32: 0 | X32: 0 | Y32: 0 | Z32: 0 | AA32: 0 | AB32: 0 | AC32: 0 | AD32: 0 | AE32: 0 | AF32: 0 | AG32: 0 | AH32: 0 | AI32: 0 | AJ32: 0 | AK32: 0 | AL32: 0 | AM32: 0 | AN32: 0 | AO32: 0 | AP32: 0 | AQ32: 0 | AR32: 0 | AS32: 0 | AT32: 0 | AU32: 0 | AV32: 0 | AW32: 0 | AX32: 0 | AY32: 0 | AZ32: 0 | BA32: 0 | BB32: 0 | BC32: 0 | BD32: 0 | BE32: 0 | BF32: 0 | BG32: 0 | BH32: 0 | BI32: 0 | BJ32: 0 | BK32: 0 | BL32: 0 | BM32: 0 | BN32: 0 | BO32: 0 | BP32: 0 | BQ32: 0 | BR32: 0 | BS32: 0 | BT32: 0 | BU32: 0 | BV32: 0 | BW32: 0 | BX32: 0 | BY32: 0 | BZ32: 0 | CA32: 0 | CB32: 0 | CC32: 0 | CD32: 0 | CE32: 0 | CF32: 0 | CG32: 0 | CH32: 0 | CI32: 0 | CK32: 0 | CL32: 0 | CM32: 10618.43 | CN32: 0 | CO32: 10618.43 | CQ32: 0 | CR32: 0 | CS32: 0 | CU32: 10618.43 | CV32: =S32-CU32 -> 7381.57 | CW32: =IF(S32=0,"n/a",CU32/(S32)) -> 0.58991278
A33: %,V474000 | B33: 474000 | C33: Transportation - Field Trips | D33: 36007.94 | E33: 366.75 | F33: 0 | G33: 0 | H33: 0 | I33: 36374.69 | K33: 0 | L33: 0 | M33: 0 | O33: 36374.69 | Q33: -43550 | R33: 0 | S33: =-1*(Q33+R33) -> 43550 | U33: 0 | V33: 0 | W33: 0 | X33: 0 | Y33: 0 | Z33: 0 | AA33: 0 | AB33: 0 | AC33: 0 | AD33: 0 | AE33: 0 | AF33: 0 | AG33: 0 | AH33: 0 | AI33: 0 | AJ33: 0 | AK33: 0 | AL33: 0 | AM33: 0 | AN33: 0 | AO33: 0 | AP33: 0 | AQ33: 0 | AR33: 0 | AS33: 0 | AT33: 0 | AU33: 0 | AV33: 0 | AW33: 0 | AX33: 0 | AY33: 0 | AZ33: 0 | BA33: 0 | BB33: 0 | BC33: 0 | BD33: 0 | BE33: 0 | BF33: 0 | BG33: 0 | BH33: 0 | BI33: 0 | BJ33: 0 | BK33: 0 | BL33: 0 | BM33: 0 | BN33: 0 | BO33: 0 | BP33: 0 | BQ33: 0 | BR33: 0 | BS33: 0 | BT33: 0 | BU33: 0 | BV33: 0 | BW33: 0 | BX33: 0 | BY33: 0 | BZ33: 0 | CA33: 0 | CB33: 0 | CC33: 0 | CD33: 0 | CE33: 0 | CF33: 0 | CG33: 0 | CH33: 0 | CI33: 0 | CK33: 42197.64 | CL33: 167.85 | CM33: 0 | CN33: 0 | CO33: 42365.49 | CQ33: 0 | CR33: 0 | CS33: 0 | CU33: 42365.49 | CV33: =S33-CU33 -> 1184.51 | CW33: =IF(S33=0,"n/a",CU33/(S33)) -> 0.97280115
A34: %,V482000 | B34: 482000 | C34: Activity Revenue | D34: 21385.5 | E34: 0 | F34: 0 | G34: 0 | H34: 0 | I34: 21385.5 | K34: 0 | L34: 0 | M34: 0 | O34: 21385.5 | Q34: -23000 | R34: 0 | S34: =-1*(Q34+R34) -> 23000 | U34: 0 | V34: 0 | W34: 0 | X34: 0 | Y34: 0 | Z34: 0 | AA34: 0 | AB34: 0 | AC34: 0 | AD34: 0 | AE34: 0 | AF34: 0 | AG34: 0 | AH34: 0 | AI34: 0 | AJ34: 0 | AK34: 0 | AL34: 0 | AM34: 0 | AN34: 0 | AO34: 0 | AP34: 0 | AQ34: 0 | AR34: 0 | AS34: 0 | AT34: 0 | AU34: 0 | AV34: 0 | AW34: 0 | AX34: 0 | AY34: 0 | AZ34: 0 | BA34: 0 | BB34: 0 | BC34: 0 | BD34: 0 | BE34: 0 | BF34: 0 | BG34: 0 | BH34: 0 | BI34: 0 | BJ34: 0 | BK34: 0 | BL34: 0 | BM34: 0 | BN34: 0 | BO34: 0 | BP34: 0 | BQ34: 0 | BR34: 0 | BS34: 0 | BT34: 0 | BU34: 0 | BV34: 0 | BW34: 0 | BX34: 0 | BY34: 0 | BZ34: 0 | CA34: 0 | CB34: 0 | CC34: 0 | CD34: 0 | CE34: 0 | CF34: 0 | CG34: 0 | CH34: 0 | CI34: 0 | CK34: 12326 | CL34: 0 | CM34: 0 | CN34: 0 | CO34: 12326 | CQ34: 0 | CR34: 0 | CS34: 0 | CU34: 12326 | CV34: =S34-CU34 -> 10674 | CW34: =IF(S34=0,"n/a",CU34/(S34)) -> 0.53591304
A35: %,V498000 | B35: 498000 | C35: Donations | D35: 414.97 | E35: 0 | F35: 0 | G35: 26105.04 | H35: 0 | I35: 26520.01 | K35: 0 | L35: 0 | M35: 0 | O35: 26520.01 | Q35: -5000 | R35: 0 | S35: =-1*(Q35+R35) -> 5000 | U35: 0 | V35: 0 | W35: 0 | X35: 0 | Y35: 0 | Z35: 0 | AA35: 0 | AB35: 0 | AC35: 0 | AD35: 0 | AE35: 0 | AF35: 0 | AG35: 0 | AH35: 0 | AI35: 0 | AJ35: 0 | AK35: 0 | AL35: 0 | AM35: 0 | AN35: 0 | AO35: 0 | AP35: 0 | AQ35: 0 | AR35: 0 | AS35: 0 | AT35: 0 | AU35: 0 | AV35: 0 | AW35: 0 | AX35: 0 | AY35: 0 | AZ35: 0 | BA35: 0 | BB35: 0 | BC35: 0 | BD35: 0 | BE35: 0 | BF35: 0 | BG35: 0 | BH35: 0 | BI35: 0 | BJ35: 0 | BK35: 0 | BL35: 0 | BM35: 0 | BN35: 0 | BO35: 0 | BP35: 0 | BQ35: 0 | BR35: 0 | BS35: 0 | BT35: 0 | BU35: 0 | BV35: 0 | BW35: 0 | BX35: 0 | BY35: 0 | BZ35: 0 | CA35: 0 | CB35: 0 | CC35: 0 | CD35: 0 | CE35: 0 | CF35: 0 | CG35: 0 | CH35: 0 | CI35: 0 | CK35: 0 | CL35: 0 | CM35: 1610.22 | CN35: 0 | CO35: 1610.22 | CQ35: 0 | CR35: 0 | CS35: 0 | CU35: 1610.22 | CV35: =S35-CU35 -> 3389.78 | CW35: =IF(S35=0,"n/a",CU35/(S35)) -> 0.322044
A36: %,V499000 | B36: 499000 | C36: Miscellaneous Revenue | D36: 0 | E36: 0 | F36: 0 | G36: 26.5 | H36: 0 | I36: 26.5 | K36: 0 | L36: 0 | M36: 0 | O36: 26.5 | Q36: -600 | R36: 0 | S36: =-1*(Q36+R36) -> 600 | U36: 0 | V36: 0 | W36: 0 | X36: 0 | Y36: 0 | Z36: 0 | AA36: 0 | AB36: 0 | AC36: 0 | AD36: 0 | AE36: 0 | AF36: 0 | AG36: 0 | AH36: 0 | AI36: 0 | AJ36: 0 | AK36: 0 | AL36: 0 | AM36: 0 | AN36: 0 | AO36: 0 | AP36: 0 | AQ36: 0 | AR36: 0 | AS36: 0 | AT36: 0 | AU36: 0 | AV36: 0 | AW36: 0 | AX36: 0 | AY36: 0 | AZ36: 0 | BA36: 0 | BB36: 0 | BC36: 0 | BD36: 0 | BE36: 0 | BF36: 0 | BG36: 0 | BH36: 0 | BI36: 0 | BJ36: 0 | BK36: 0 | BL36: 0 | BM36: 0 | BN36: 0 | BO36: 0 | BP36: 0 | BQ36: 0 | BR36: 0 | BS36: 0 | BT36: 0 | BU36: 0 | BV36: 0 | BW36: 0 | BX36: 0 | BY36: 0 | BZ36: 0 | CA36: 0 | CB36: 0 | CC36: 0 | CD36: 0 | CE36: 0 | CF36: 0 | CG36: 0 | CH36: 0 | CI36: 0 | CK36: 0 | CL36: 0 | CM36: 0 | CN36: 0 | CO36: 0 | CQ36: 0 | CR36: 0 | CS36: 0 | CU36: 0 | CV36: =S36-CU36 -> 600 | CW36: =IF(S36=0,"n/a",CU36/(S36)) -> 0
A37: %,V950500 | B37: 950500 | C37: State Intercept Bond Transfer | D37: 0 | E37: 0 | F37: 0 | G37: -278652.75 | H37: 0 | I37: -278652.75 | K37: -181948.64 | L37: 0 | M37: -181948.64 | O37: -446928.85 | Q37: 0 | R37: 0 | S37: -465798.32 | U37: 0 | V37: 0 | W37: 0 | X37: 0 | Y37: 0 | Z37: 0 | AA37: 0 | AB37: 0 | AC37: 0 | AD37: 0 | AE37: 0 | AF37: 0 | AG37: 0 | AH37: 0 | AI37: 0 | AJ37: 0 | AK37: 0 | AL37: 0 | AM37: 0 | AN37: 0 | AO37: 0 | AP37: 0 | AQ37: 0 | AR37: 0 | AS37: 0 | AT37: 0 | AU37: 0 | AV37: 0 | AW37: 0 | AX37: 0 | AY37: 0 | AZ37: 0 | BA37: 0 | BB37: 0 | BC37: 0 | BD37: 0 | BE37: 0 | BF37: 0 | BG37: 0 | BH37: 0 | BI37: 0 | BJ37: 0 | BK37: 0 | BL37: 0 | BM37: 0 | BN37: 0 | BO37: 0 | BP37: 0 | BQ37: 0 | BR37: 0 | BS37: 0 | BT37: 0 | BU37: 0 | BV37: 0 | BW37: 0 | BX37: 0 | BY37: 0 | BZ37: 0 | CA37: 0 | CB37: 0 | CC37: 0 | CD37: 0 | CE37: 0 | CF37: 0 | CG37: 0 | CH37: 0 | CI37: 0 | CK37: 0 | CL37: 0 | CM37: -219940.79 | CN37: 0 | CO37: -219940.79 | CQ37: -128650.41 | CR37: 0 | CS37: -128650.41 | CU37: -348591.2 | CV37: =S37-CU37 -> -117207.12 | CW37: =IF(S37=0,"n/a",CU37/(S37)) -> 0.74837367
B38: 950500 | C38: Bond R & R Payments | O38: -13672.54 | S38: 0 | CI38: 0 | CK38: 0 | CL38: 0 | CM38: 0 | CN38: 0 | CO38: 0 | CP38: 0 | CQ38: 0 | CR38: 0 | CS38: 0 | CU38: 0 | CV38: =S38-CU38 -> 0 | CW38: =IF(S38=0,"n/a",CU38/(S38)) -> n/a
A39: %,R,FACCOUNT,TACCOUNT_ROLLUP,X,NREVENUE | C39: Revenues | D39: 83414.34 | E39: 110330.85 | F39: 0 | G39: 5999349.2 | H39: 500 | I39: 6193594.4 | K39: 1333561 | L39: 461288.22 | M39: 1794849.2 | O39: 7988443.6 | Q39: -6881291 | R39: 0 | S39: =-1*(Q39+R39) -> 6881291 | U39: 0 | V39: 0 | W39: 0 | X39: 0 | Y39: 0 | Z39: 0 | AA39: 0 | AB39: 0 | AC39: 0 | AD39: 0 | AE39: 0 | AF39: 0 | AG39: 0 | AH39: 0 | AI39: 0 | AJ39: 0 | AK39: 0 | AL39: 0 | AM39: 0 | AN39: 0 | AO39: 0 | AP39: 0 | AQ39: 0 | AR39: 0 | AS39: 0 | AT39: 0 | AU39: 0 | AV39: 0 | AW39: 0 | AX39: 0 | AY39: 0 | AZ39: 0 | BA39: 0 | BB39: 0 | BC39: 0 | BD39: 0 | BE39: 0 | BF39: 0 | BG39: 0 | BH39: 0 | BI39: 0 | BJ39: 0 | BK39: 0 | BL39: 0 | BM39: 0 | BN39: 0 | BO39: 0 | BP39: 0 | BQ39: 0 | BR39: 0 | BS39: 0 | BT39: 0 | BU39: 0 | BV39: 0 | BW39: 0 | BX39: 0 | BY39: 0 | BZ39: 0 | CA39: 0 | CB39: 0 | CC39: 0 | CD39: 0 | CE39: 0 | CF39: 0 | CG39: 0 | CH39: 0 | CI39: 0 | CK39: 72437.24 | CL39: 130342.65 | CM39: 4715918.4 | CN39: 300 | CO39: 4918998.2 | CQ39: -28588.98 | CR39: 351860.12 | CS39: 323271.14 | CU39: 5242269.4 | CV39: =S39-CU39 -> 1639021.6 | CW39: =IF(S39=0,"n/a",CU39/(S39)) -> 0.76181481
A41: %,C | C41: Available | D41: =D11+D39 -> 83414.34 | E41: =E11+E39 -> 110330.85 | F41: =F11+F39 -> 0 | G41: =G11+G39 -> 5999349.2 | H41: =H11+H39 -> 500 | I41: =I11+I39 -> 8768488 | K41: =K11+K39 -> 1333561 | L41: =L11+L39 -> 461288.22 | M41: =M11+M39 -> 1794849.2 | O41: =O11+O39 -> 10563337 | S41: =S11+S39 -> 6881291 | CK41: =CK11+CK39 -> 139146 | CL41: =CL11+CL39 -> 213882.49 | CM41: =CM11+CM39 -> 6429256.3 | CN41: =CN11+CN39 -> 300 | CO41: =CO11+CO39 -> 6782584.8 | CQ41: =CQ11+CQ39 -> -28588.98 | CR41: =CR11+CR39 -> 1133677.2 | CS41: =CS11+CS39 -> 1105088.2 | CU41: =CU11+CU39 -> 7887673 | CV41: =CV11+CV39 -> 1639021.6 | CW41: =IF(S41=0,"n/a",CU41/(S41)) -> 1.146249
A43: %,V512100 | B43: 512100 | C43: Principal | D43: 0 | E43: 0 | F43: 0 | G43: 88666.32 | H43: 0 | I43: 88666.32 | K43: 0 | L43: 0 | M43: 0 | O43: 0 | Q43: 0 | R43: 0 | U43: 111677 | V43: 0 | W43: 0 | X43: 0 | Y43: 0 | Z43: 0 | AA43: 0 | AB43: 0 | AC43: 0 | AD43: 0 | AE43: 0 | AF43: 0 | AG43: 0 | AH43: 0 | AI43: 0 | AJ43: 0 | AK43: 0 | AL43: 0 | AM43: 0 | AN43: 0 | AO43: 0 | AP43: 0 | AQ43: 0 | AR43: 0 | AS43: 0 | AT43: 0 | AU43: 0 | AV43: 0 | AW43: 0 | AX43: 0 | AY43: 0 | AZ43: 0 | BA43: 0 | BB43: 0 | BC43: 0 | BD43: 0 | BE43: 0 | BF43: 0 | BG43: 0 | BH43: 0 | BI43: 0 | BJ43: 0 | BK43: 0 | BL43: 0 | BM43: 0 | BN43: 0 | BO43: 0 | BP43: 0 | BQ43: 0 | BR43: 0 | BS43: 0 | BT43: 0 | BU43: 0 | BV43: 0 | BW43: 0 | BX43: 0 | BY43: 0 | BZ43: 0 | CA43: 0 | CB43: 0 | CC43: 0 | CD43: 0 | CE43: 0 | CF43: 0 | CG43: 0 | CH43: 0 | CI43: 0 | CK43: 0 | CL43: 0 | CM43: 72464.73 | CN43: 0 | CO43: 0 | CQ43: 0 | CR43: 0 | CS43: 0 | CU43: 0 | CV43: =CI43-CU43 -> 0 | CW43: =IF(CI43=0,"n/a",CU43/(CI43)) -> n/a
A44: %,V513100 | B44: 513100 | C44: Assistant Principal | D44: 0 | E44: 0 | F44: 0 | G44: 148310.32 | H44: 0 | I44: 148310.32 | K44: 0 | L44: 0 | M44: 0 | O44: 0 | Q44: 0 | R44: 0 | U44: 0 | V44: 157323 | W44: 0 | X44: 0 | Y44: 0 | Z44: 0 | AA44: 0 | AB44: 0 | AC44: 0 | AD44: 0 | AE44: 0 | AF44: 0 | AG44: 0 | AH44: 0 | AI44: 0 | AJ44: 0 | AK44: 0 | AL44: 0 | AM44: 0 | AN44: 0 | AO44: 0 | AP44: 0 | AQ44: 0 | AR44: 0 | AS44: 0 | AT44: 0 | AU44: 0 | AV44: 0 | AW44: 0 | AX44: 0 | AY44: 0 | AZ44: 0 | BA44: 0 | BB44: 0 | BC44: 0 | BD44: 0 | BE44: 0 | BF44: 0 | BG44: 0 | BH44: 0 | BI44: 0 | BJ44: 0 | BK44: 0 | BL44: 0 | BM44: 0 | BN44: 0 | BO44: 0 | BP44: 0 | BQ44: 0 | BR44: 0 | BS44: 0 | BT44: 0 | BU44: 0 | BV44: 0 | BW44: 0 | BX44: 0 | BY44: 0 | BZ44: 0 | CA44: 0 | CB44: 0 | CC44: 0 | CD44: 0 | CE44: 0 | CF44: 0 | CG44: 0 | CH44: 0 | CI44: 0 | CK44: 0 | CL44: 0 | CM44: 104992.32 | CN44: 0 | CO44: 0 | CQ44: 0 | CR44: 0 | CS44: 0 | CU44: 0 | CV44: =CI44-CU44 -> 0 | CW44: =IF(CI44=0,"n/a",CU44/(CI44)) -> n/a
...

Sheet Sheet2
B1: %,AFF,FACCOUNT | C1: %,AFT,FDESCR | D1: %,VCA020 | E1: %,VCC020 | F1: %,VFS020 | G1: %,VGF020 | H1: %,VGS020 | I1: %,LACTUALS,SALLYEAR-1,FFUND_CODE,X,VCA020,VFS020,VGF020,VGS020,VIR020,VCC020 | K1: %,VCR020 | L1: %,VDS020 | M1: %,LACTUALS,SALLYEAR-1,FFUND_CODE,X,VCR020,VDS020 | O1: %,LACTUALS,SALLYEAR-1 | Q1: %,LREVEST_BD,UPOSTED_TOTAL_AMT,SADJBAL,FACCOUNT,TACCOUNT_ROLLUP,NREVENUE | R1: %,LORG_BD,UPOSTED_TOTAL_AMT,SADJBAL,R,FACCOUNT,TACCOUNT_ROLLUP,XDYYNYN00,NTRANSFERS | S1: %,C | U1: %,V512100 | V1: %,V513100 | W1: %,V521100 | X1: %,V521900 | Y1: %,V522200 | Z1: %,V524200 | AA1: %,V526200 | AB1: %,V529200 | AC1: %,V529400 | AD1: %,V529500 | AE1: %,V529600 | AF1: %,V529800 | AG1: %,V552100 | AH1: %,V557100 | AI1: %,V557600 | AJ1: %,V591100 | AK1: %,V599400 | AL1: %,V599810 | AM1: %,V599820 | AN1: %,V599830 | AO1: %,V699000 | AP1: %,V701000 | AQ1: %,V702000 | AR1: %,V708000 | AS1: %,V710000 | AT1: %,V713000 | AU1: %,V715000 | AV1: %,V721000 | AW1: %,V723000 | AX1: %,V731000 | AY1: %,V743000 | AZ1: %,V745000 | BA1: %,V745500 | BB1: %,V746000 | BC1: %,V752000 | BD1: %,V761000 | BE1: %,V764000 | BF1: %,V765000 | BG1: %,V766000 | BH1: %,V768000 | BI1: %,V769000 | BJ1: %,V770000 | BK1: %,V770800 | BL1: %,V775000 | BM1: %,V781000 | BN1: %,V781500 | BO1: %,V804000 | BP1: %,V805000 | BQ1: %,V806000 | BR1: %,V810000 | BS1: %,V810001 | BT1: %,V812000 | BU1: %,V814000 | BV1: %,V820000 | BW1: %,V820001 | BX1: %,V822000 | BY1: %,V823000 | BZ1: %,V824000 | CA1: %,V826000 | CB1: %,V840000 | CC1: %,V870000 | CD1: %,V885000 | CE1: %,V889000 | CF1: %,V914000 | CG1: %,V930000 | CH1: %,V950000 | CI1: %,LORG_BD,UPOSTED_TOTAL_AMT,SADJBAL,R,FACCOUNT,TACCOUNT_ROLLUP,XDYYNYN00,NEXPENDITURE | CK1: %,VCA020 | CL1: %,VCC020 | CM1: %,VGF020 | CN1: %,VGS020 | CO1: %,LACTUALS,SYTD,FFUND_CODE,X,VCA020,VFS020,VGF020,VGS020,VIR020,VCC020 | CQ1: %,VCR020 | CR1: %,VDS020 | CS1: %,LACTUALS,SYTD,FFUND_CODE,X,VCR020,VDS020 | CU1: %,LACTUALS,SYTD | CV1: %,C | CW1: %,C
B2: Jefferson County Public Schools | DA2: 558OPC
B3: Charter Schools
B4: Lincoln Academy Charter School | DA4: 43190
B5: ="Report ID: "&DA2 -> Report ID: 558OPC | CZ5: 55800
B6: For Accounting Period: | CZ6: Lincoln Academy Charter School
B7: 43190
A8: %,ATF,FFUND_CODE | B8: Account | D8: CA020 | E8: CC020 | F8: FS020 | G8: GF020 | H8: GS020 | I8: Prior Year | K8: CR020 | L8: DS020 | M8: Prior Year | O8: Prior Year | CK8: CA020 | CL8: CC020 | CM8: GF020 | CN8: GS020 | CO8: Current Year | CQ8: CR020 | CR8: DS020 | CS8: Current Year | CU8: Current Year
A9: %,ATF,FDESCR | B9: Number | C9: Description | D9: Charter School Campus Activity | E9: Charter School Child Care Fund | F9: Charter School Food Service | G9: Charter School General Fund | H9: Charter School Grant Fund | I9: Operational Funds | K9: Charter School Capital Reserve | L9: Charter School Debt Service | M9: Capital Funds | O9: Total | S9: Estimated Revenue | U9: Principal | V9: Assistant Principal | W9: Teacher | X9: Substitute Teacher | Y9: Teacher Librarian | Z9: Coordinator - Classified | AA9: Instructional Coach | AB9: Occupational Therapist | AC9: Nurse | AD9: Psychologist | AE9: Social Worker | AF9: Speech Therapist | AG9: School Secretary | AH9: Paraprofessional | AI9: Clinic Aides | AJ9: Custodian | AK9: Unused Sick Leave | AL9: Additional Pay - Certificated | AM9: Additional Pay-Classified | AN9: Additional Pay-Administrative | AO9: Employee Benefits | AP9: Mileage And Travel | AQ9: Employee Training & Conf | AR9: Employee Background Verificatn | AS9: Meals/Refreshments | AT9: Student Transportation | AU9: Student Admission/Entry Fees | AV9: Legal Fees | AW9: Printing | AX9: Contracted Services | AY9: Equipment Rental | AZ9: Contract Maint/Eq Repair | BA9: Technology Services | BB9: Const Maint/Repair-Bldg | BC9: Marketing - Advertising | BD9: Natural Gas | BE9: Electricity | BF9: Voice Communication Line | BG9: Water & Sanitation | BH9: Postage | BI9: Permits/Licenses/Fees | BJ9: Risk Management Charges | BK9: Unemployment Comp Insur | BL9: Community Relations | BM9: Lease Purch-Other-Principal | BN9: Lease Purch-Other-Interest | BO9: Fund Raising | BP9: Materials/Supplies-Other | BQ9: Materials/Supplies Resale | BR9: Office Material/Supplies | BS9: Office Equipment - Under $5K | BT9: Clinic Supplies/Materials | BU9: Custodial Supplies | BV9: Instructional Material/Supply | BW9: Instructional Equip-Under $5K | BX9: Textbooks | BY9: Copier Usage | BZ9: Testing Materials | CA9: Graduation Materials | CB9: Maint Materials/Supplies | CC9: Library Materials | CD9: Miscellaneous Expense | CE9: Consumable Supplies | CF9: Vehicles - Utility Fleet | CG9: Building Improvements | CH9: Transfers | CI9: Budget | CK9: Charter School Campus Activity | CL9: Charter School Child Care Fund | CM9: Charter School General Fund | CN9: Charter School Grant Fund | CO9: Operational Funds | CQ9: Charter School Capital Reserve | CR9: Charter School Debt Service | CS9: Capital Funds | CU9: Total | CV9: Variance | CW9: Percent Spent | DD9: PROJECTIONS
C11: Prior Year Carryforward | I11: 2574893.6 | O11: 2574893.6 | CK11: 66708.76 | CL11: 83539.84 | CM11: 1713338 | CN11: 0 | CO11: 1863586.6 | CQ11: 0 | CR11: 781817.1 | CS11: 781817.1 | CU11: 2645403.7
A13: %,V401000 | B13: 401000 | C13: Commissions/Profits | D13: 207.2 | E13: 0 | F13: 0 | G13: 0 | H13: 0 | I13: 207.2 | K13: 0 | L13: 0 | M13: 0 | O13: 207.2 | Q13: -18000 | R13: 0 | S13: =-1*(Q13+R13) -> 18000 | U13: 0 | V13: 0 | W13: 0 | X13: 0 | Y13: 0 | Z13: 0 | AA13: 0 | AB13: 0 | AC13: 0 | AD13: 0 | AE13: 0 | AF13: 0 | AG13: 0 | AH13: 0 | AI13: 0 | AJ13: 0 | AK13: 0 | AL13: 0 | AM13: 0 | AN13: 0 | AO13: 0 | AP13: 0 | AQ13: 0 | AR13: 0 | AS13: 0 | AT13: 0 | AU13: 0 | AV13: 0 | AW13: 0 | AX13: 0 | AY13: 0 | AZ13: 0 | BA13: 0 | BB13: 0 | BC13: 0 | BD13: 0 | BE13: 0 | BF13: 0 | BG13: 0 | BH13: 0 | BI13: 0 | BJ13: 0 | BK13: 0 | BL13: 0 | BM13: 0 | BN13: 0 | BO13: 0 | BP13: 0 | BQ13: 0 | BR13: 0 | BS13: 0 | BT13: 0 | BU13: 0 | BV13: 0 | BW13: 0 | BX13: 0 | BY13: 0 | BZ13: 0 | CA13: 0 | CB13: 0 | CC13: 0 | CD13: 0 | CE13: 0 | CF13: 0 | CG13: 0 | CH13: 0 | CI13: 0 | CK13: 2446.62 | CL13: 0 | CM13: 9421.27 | CN13: 0 | CO13: 11867.89 | CQ13: 0 | CR13: 0 | CS13: 0 | CU13: 11867.89 | CV13: =S13-CU13 -> 6132.11 | CW13: =IF(S13=0,"n/a",CU13/(S13)) -> 0.65932722 | DD13: =CV13 -> 6132.11 | DF13: ON TARGET
A14: %,V401400 | B14: 401400 | C14: Ticket Sales | D14: 862 | E14: 0 | F14: 0 | G14: 0 | H14: 0 | I14: 862 | K14: 0 | L14: 0 | M14: 0 | O14: 862 | Q14: -1044 | R14: 0 | S14: =-1*(Q14+R14) -> 1044 | U14: 0 | V14: 0 | W14: 0 | X14: 0 | Y14: 0 | Z14: 0 | AA14: 0 | AB14: 0 | AC14: 0 | AD14: 0 | AE14: 0 | AF14: 0 | AG14: 0 | AH14: 0 | AI14: 0 | AJ14: 0 | AK14: 0 | AL14: 0 | AM14: 0 | AN14: 0 | AO14: 0 | AP14: 0 | AQ14: 0 | AR14: 0 | AS14: 0 | AT14: 0 | AU14: 0 | AV14: 0 | AW14: 0 | AX14: 0 | AY14: 0 | AZ14: 0 | BA14: 0 | BB14: 0 | BC14: 0 | BD14: 0 | BE14: 0 | BF14: 0 | BG14: 0 | BH14: 0 | BI14: 0 | BJ14: 0 | BK14: 0 | BL14: 0 | BM14: 0 | BN14: 0 | BO14: 0 | BP14: 0 | BQ14: 0 | BR14: 0 | BS14: 0 | BT14: 0 | BU14: 0 | BV14: 0 | BW14: 0 | BX14: 0 | BY14: 0 | BZ14: 0 | CA14: 0 | CB14: 0 | CC14: 0 | CD14: 0 | CE14: 0 | CF14: 0 | CG14: 0 | CH14: 0 | CI14: 0 | CK14: 1372 | CL14: 0 | CM14: 0 | CN14: 0 | CO14: 1372 | CQ14: 0 | CR14: 0 | CS14: 0 | CU14: 1372 | CV14: =S14-CU14 -> -328 | CW14: =IF(S14=0,"n/a",CU14/(S14)) -> 1.3141762 | DD14: 0 | DF14: DONE
A15: %,V408000 | B15: 408000 | C15: Resale | D15: 11918.47 | E15: 0 | F15: 0 | G15: 60 | H15: 0 | I15: 11978.47 | K15: 0 | L15: 0 | M15: 0 | O15: 11978.47 | Q15: -18797 | R15: 0 | S15: =-1*(Q15+R15) -> 18797 | U15: 0 | V15: 0 | W15: 0 | X15: 0 | Y15: 0 | Z15: 0 | AA15: 0 | AB15: 0 | AC15: 0 | AD15: 0 | AE15: 0 | AF15: 0 | AG15: 0 | AH15: 0 | AI15: 0 | AJ15: 0 | AK15: 0 | AL15: 0 | AM15: 0 | AN15: 0 | AO15: 0 | AP15: 0 | AQ15: 0 | AR15: 0 | AS15: 0 | AT15: 0 | AU15: 0 | AV15: 0 | AW15: 0 | AX15: 0 | AY15: 0 | AZ15: 0 | BA15: 0 | BB15: 0 | BC15: 0 | BD15: 0 | BE15: 0 | BF15: 0 | BG15: 0 | BH15: 0 | BI15: 0 | BJ15: 0 | BK15: 0 | BL15: 0 | BM15: 0 | BN15: 0 | BO15: 0 | BP15: 0 | BQ15: 0 | BR15: 0 | BS15: 0 | BT15: 0 | BU15: 0 | BV15: 0 | BW15: 0 | BX15: 0 | BY15: 0 | BZ15: 0 | CA15: 0 | CB15: 0 | CC15: 0 | CD15: 0 | CE15: 0 | CF15: 0 | CG15: 0 | CH15: 0 | CI15: 0 | CK15: 6302.71 | CL15: 0 | CM15: 0 | CN15: 0 | CO15: 6302.71 | CQ15: 0 | CR15: 0 | CS15: 0 | CU15: 6302.71 | CV15: =S15-CU15 -> 12494.29 | CW15: =IF(S15=0,"n/a",CU15/(S15)) -> 0.33530404 | DD15: =CV15 -> 12494.29 | DF15: TOO SOON TO TELL
A16: %,V409000 | B16: 409000 | C16: Sales-Fund Raising | D16: 5787.56 | E16: 0 | F16: 0 | G16: 1844.4 | H16: 0 | I16: 7631.96 | K16: 0 | L16: 0 | M16: 0 | O16: 7631.96 | Q16: -8680 | R16: 0 | S16: =-1*(Q16+R16) -> 8680 | U16: 0 | V16: 0 | W16: 0 | X16: 0 | Y16: 0 | Z16: 0 | AA16: 0 | AB16: 0 | AC16: 0 | AD16: 0 | AE16: 0 | AF16: 0 | AG16: 0 | AH16: 0 | AI16: 0 | AJ16: 0 | AK16: 0 | AL16: 0 | AM16: 0 | AN16: 0 | AO16: 0 | AP16: 0 | AQ16: 0 | AR16: 0 | AS16: 0 | AT16: 0 | AU16: 0 | AV16: 0 | AW16: 0 | AX16: 0 | AY16: 0 | AZ16: 0 | BA16: 0 | BB16: 0 | BC16: 0 | BD16: 0 | BE16: 0 | BF16: 0 | BG16: 0 | BH16: 0 | BI16: 0 | BJ16: 0 | BK16: 0 | BL16: 0 | BM16: 0 | BN16: 0 | BO16: 0 | BP16: 0 | BQ16: 0 | BR16: 0 | BS16: 0 | BT16: 0 | BU16: 0 | BV16: 0 | BW16: 0 | BX16: 0 | BY16: 0 | BZ16: 0 | CA16: 0 | CB16: 0 | CC16: 0 | CD16: 0 | CE16: 0 | CF16: 0 | CG16: 0 | CH16: 0 | CI16: 0 | CK16: 7642.27 | CL16: 200 | CM16: 2096.02 | CN16: 0 | CO16: 9938.29 | CQ16: 0 | CR16: 0 | CS16: 0 | CU16: 9938.29 | CV16: =S16-CU16 -> -1258.29 | CW16: =IF(S16=0,"n/a",CU16/(S16)) -> 1.1449643 | DD16: 0 | DF16: NEED TO WORK ON THIS
A17: %,V411000 | B17: 411000 | C17: Prop Tax-Mill Levy Override | D17: 0 | E17: 0 | F17: 0 | G17: 911243.48 | H17: 0 | I17: 911243.48 | K17: 0 | L17: 0 | M17: 0 | O17: 911243.48 | Q17: -959696 | R17: 0 | S17: 961827.14 | U17: 0 | V17: 0 | W17: 0 | X17: 0 | Y17: 0 | Z17: 0 | AA17: 0 | AB17: 0 | AC17: 0 | AD17: 0 | AE17: 0 | AF17: 0 | AG17: 0 | AH17: 0 | AI17: 0 | AJ17: 0 | AK17: 0 | AL17: 0 | AM17: 0 | AN17: 0 | AO17: 0 | AP17: 0 | AQ17: 0 | AR17: 0 | AS17: 0 | AT17: 0 | AU17: 0 | AV17: 0 | AW17: 0 | AX17: 0 | AY17: 0 | AZ17: 0 | BA17: 0 | BB17: 0 | BC17: 0 | BD17: 0 | BE17: 0 | BF17: 0 | BG17: 0 | BH17: 0 | BI17: 0 | BJ17: 0 | BK17: 0 | BL17: 0 | BM17: 0 | BN17: 0 | BO17: 0 | BP17: 0 | BQ17: 0 | BR17: 0 | BS17: 0 | BT17: 0 | BU17: 0 | BV17: 0 | BW17: 0 | BX17: 0 | BY17: 0 | BZ17: 0 | CA17: 0 | CB17: 0 | CC17: 0 | CD17: 0 | CE17: 0 | CF17: 0 | CG17: 0 | CH17: 0 | CI17: 0 | CK17: 0 | CL17: 0 | CM17: 721370.37 | CN17: 0 | CO17: 721370.37 | CQ17: 0 | CR17: 0 | CS17: 0 | CU17: 721370.37 | CV17: =S17-CU17 -> 240456.77 | CW17: =IF(S17=0,"n/a",CU17/(S17)) -> 0.75000002 | DD17: =CV17 -> 240456.77
A18: %,V415000 | B18: 415000 | C18: Earnings On Investments | D18: 0 | E18: 0 | F18: 0 | G18: 0.06 | H18: 0 | I18: 0.06 | K18: 0 | L18: 686.83 | M18: 686.83 | O18: 686.89 | Q18: -3800 | R18: 0 | S18: =-1*(Q18+R18) -> 3800 | U18: 0 | V18: 0 | W18: 0 | X18: 0 | Y18: 0 | Z18: 0 | AA18: 0 | AB18: 0 | AC18: 0 | AD18: 0 | AE18: 0 | AF18: 0 | AG18: 0 | AH18: 0 | AI18: 0 | AJ18: 0 | AK18: 0 | AL18: 0 | AM18: 0 | AN18: 0 | AO18: 0 | AP18: 0 | AQ18: 0 | AR18: 0 | AS18: 0 | AT18: 0 | AU18: 0 | AV18: 0 | AW18: 0 | AX18: 0 | AY18: 0 | AZ18: 0 | BA18: 0 | BB18: 0 | BC18: 0 | BD18: 0 | BE18: 0 | BF18: 0 | BG18: 0 | BH18: 0 | BI18: 0 | BJ18: 0 | BK18: 0 | BL18: 0 | BM18: 0 | BN18: 0 | BO18: 0 | BP18: 0 | BQ18: 0 | BR18: 0 | BS18: 0 | BT18: 0 | BU18: 0 | BV18: 0 | BW18: 0 | BX18: 0 | BY18: 0 | BZ18: 0 | CA18: 0 | CB18: 0 | CC18: 0 | CD18: 0 | CE18: 0 | CF18: 0 | CG18: 0 | CH18: 0 | CI18: 0 | CK18: 0 | CL18: 0 | CM18: 0 | CN18: 0 | CO18: 0 | CQ18: 0 | CR18: 3268.92 | CS18: 3268.92 | CU18: 3268.92 | CV18: =S18-CU18 -> 531.08 | CW18: =IF(S18=0,"n/a",CU18/(S18)) -> 0.86024211 | DD18: =CV18 -> 531.08
A19: %,V416000 | B19: 416000 | C19: Proceeds Lease/Purchase | D19: 0 | E19: 0 | F19: 0 | G19: 0 | H19: 0 | I19: 0 | K19: 0 | L19: 0 | M19: 0 | O19: 0 | Q19: 0 | R19: 0 | S19: =-1*(Q19+R19) -> 0 | U19: 0 | V19: 0 | W19: 0 | X19: 0 | Y19: 0 | Z19: 0 | AA19: 0 | AB19: 0 | AC19: 0 | AD19: 0 | AE19: 0 | AF19: 0 | AG19: 0 | AH19: 0 | AI19: 0 | AJ19: 0 | AK19: 0 | AL19: 0 | AM19: 0 | AN19: 0 | AO19: 0 | AP19: 0 | AQ19: 0 | AR19: 0 | AS19: 0 | AT19: 0 | AU19: 0 | AV19: 0 | AW19: 0 | AX19: 0 | AY19: 0 | AZ19: 0 | BA19: 0 | BB19: 0 | BC19: 0 | BD19: 0 | BE19: 0 | BF19: 0 | BG19: 0 | BH19: 0 | BI19: 0 | BJ19: 0 | BK19: 0 | BL19: 0 | BM19: 0 | BN19: 0 | BO19: 0 | BP19: 0 | BQ19: 0 | BR19: 0 | BS19: 0 | BT19: 0 | BU19: 0 | BV19: 0 | BW19: 0 | BX19: 0 | BY19: 0 | BZ19: 0 | CA19: 0 | CB19: 0 | CC19: 0 | CD19: 0 | CE19: 0 | CF19: 0 | CG19: 0 | CH19: 0 | CI19: 0 | CK19: 0 | CL19: 0 | CM19: 0 | CN19: 0 | CO19: 0 | CQ19: 0 | CR19: 0 | CS19: 0 | CU19: 0 | CV19: =S19-CU19 -> 0 | CW19: =IF(S19=0,"n/a",CU19/(S19)) -> n/a | DD19: 0
A20: %,V419000 | B20: 419000 | C20: Other Revenue | D20: 6755.7 | E20: 400 | F20: 0 | G20: 277224.79 | H20: 500 | I20: 284880.49 | K20: 0 | L20: 0 | M20: 0 | O20: 284880.49 | Q20: -31815 | R20: 0 | S20: =-1*(Q20+R20) -> 31815 | U20: 0 | V20: 0 | W20: 0 | X20: 0 | Y20: 0 | Z20: 0 | AA20: 0 | AB20: 0 | AC20: 0 | AD20: 0 | AE20: 0 | AF20: 0 | AG20: 0 | AH20: 0 | AI20: 0 | AJ20: 0 | AK20: 0 | AL20: 0 | AM20: 0 | AN20: 0 | AO20: 0 | AP20: 0 | AQ20: 0 | AR20: 0 | AS20: 0 | AT20: 0 | AU20: 0 | AV20: 0 | AW20: 0 | AX20: 0 | AY20: 0 | AZ20: 0 | BA20: 0 | BB20: 0 | BC20: 0 | BD20: 0 | BE20: 0 | BF20: 0 | BG20: 0 | BH20: 0 | BI20: 0 | BJ20: 0 | BK20: 0 | BL20: 0 | BM20: 0 | BN20: 0 | BO20: 0 | BP20: 0 | BQ20: 0 | BR20: 0 | BS20: 0 | BT20: 0 | BU20: 0 | BV20: 0 | BW20: 0 | BX20: 0 | BY20: 0 | BZ20: 0 | CA20: 0 | CB20: 0 | CC20: 0 | CD20: 0 | CE20: 0 | CF20: 0 | CG20: 0 | CH20: 0 | CI20: 0 | CK20: 150 | CL20: 0 | CM20: 30261.11 | CN20: 300 | CO20: 30711.11 | CQ20: 0 | CR20: 0 | CS20: 0 | CU20: 30711.11 | CV20: =S20-CU20 -> 1103.89 | CW20: =IF(S20=0,"n/a",CU20/(S20)) -> 0.96530284 | DD20: =CV20 -> 1103.89 | DF20: TOO SOON TO TELL
A21: %,V431100 | B21: 431100 | C21: Capital Lease Proceeds | D21: 0 | E21: 0 | F21: 0 | G21: 16439 | H21: 0 | I21: 16439 | K21: 1333561 | L21: 0 | M21: 1333561 | O21: 1350000 | Q21: 0 | R21: 0 | S21: =-1*(Q21+R21) -> 0 | U21: 0 | V21: 0 | W21: 0 | X21: 0 | Y21: 0 | Z21: 0 | AA21: 0 | AB21: 0 | AC21: 0 | AD21: 0 | AE21: 0 | AF21: 0 | AG21: 0 | AH21: 0 | AI21: 0 | AJ21: 0 | AK21: 0 | AL21: 0 | AM21: 0 | AN21: 0 | AO21: 0 | AP21: 0 | AQ21: 0 | AR21: 0 | AS21: 0 | AT21: 0 | AU21: 0 | AV21: 0 | AW21: 0 | AX21: 0 | AY21: 0 | AZ21: 0 | BA21: 0 | BB21: 0 | BC21: 0 | BD21: 0 | BE21: 0 | BF21: 0 | BG21: 0 | BH21: 0 | BI21: 0 | BJ21: 0 | BK21: 0 | BL21: 0 | BM21: 0 | BN21: 0 | BO21: 0 | BP21: 0 | BQ21: 0 | BR21: 0 | BS21: 0 | BT21: 0 | BU21: 0 | BV21: 0 | BW21: 0 | BX21: 0 | BY21: 0 | BZ21: 0 | CA21: 0 | CB21: 0 | CC21: 0 | CD21: 0 | CE21: 0 | CF21: 0 | CG21: 0 | CH21: 0 | CI21: 0 | CK21: 0 | CL21: 0 | CM21: 0 | CN21: 0 | CO21: 0 | CQ21: 0 | CR21: 0 | CS21: 0 | CU21: 0 | CV21: =S21-CU21 -> 0 | CW21: =IF(S21=0,"n/a",CU21/(S21)) -> n/a | DD21: 0
A22: %,V433000 | B22: 433000 | C22: State Revenue - Other | D22: 0 | E22: 0 | F22: 0 | G22: 1317.87 | H22: 0 | I22: 1317.87 | K22: 181948.64 | L22: 0 | M22: 181948.64 | O22: 183266.51 | Q22: -175378 | R22: 0 | S22: 183695.25 | U22: 0 | V22: 0 | W22: 0 | X22: 0 | Y22: 0 | Z22: 0 | AA22: 0 | AB22: 0 | AC22: 0 | AD22: 0 | AE22: 0 | AF22: 0 | AG22: 0 | AH22: 0 | AI22: 0 | AJ22: 0 | AK22: 0 | AL22: 0 | AM22: 0 | AN22: 0 | AO22: 0 | AP22: 0 | AQ22: 0 | AR22: 0 | AS22: 0 | AT22: 0 | AU22: 0 | AV22: 0 | AW22: 0 | AX22: 0 | AY22: 0 | AZ22: 0 | BA22: 0 | BB22: 0 | BC22: 0 | BD22: 0 | BE22: 0 | BF22: 0 | BG22: 0 | BH22: 0 | BI22: 0 | BJ22: 0 | BK22: 0 | BL22: 0 | BM22: 0 | BN22: 0 | BO22: 0 | BP22: 0 | BQ22: 0 | BR22: 0 | BS22: 0 | BT22: 0 | BU22: 0 | BV22: 0 | BW22: 0 | BX22: 0 | BY22: 0 | BZ22: 0 | CA22: 0 | CB22: 0 | CC22: 0 | CD22: 0 | CE22: 0 | CF22: 0 | CG22: 0 | CH22: 0 | CI22: 0 | CK22: 0 | CL22: 0 | CM22: 1657.17 | CN22: 0 | CO22: 1657.17 | CQ22: 100061.43 | CR22: 0 | CS22: 100061.43 | CU22: 101718.6 | CV22: =S22-CU22 -> 81976.65 | CW22: =IF(S22=0,"n/a",CU22/(S22)) -> 0.5537356 | DD22: 81976.65 | DF22: CAP CONST UP FROM BUDGET PLUS ADDL AT RISK FUNDING
A23: %,V434000 | B23: 434000 | C23: Exceptional Children Revenue | D23: 0 | E23: 0 | F23: 0 | G23: 79798 | H23: 0 | I23: 79798 | K23: 0 | L23: 0 | M23: 0 | O23: 79798 | Q23: -80991 | R23: 0 | S23: =-1*(Q23+R23) -> 80991 | U23: 0 | V23: 0 | W23: 0 | X23: 0 | Y23: 0 | Z23: 0 | AA23: 0 | AB23: 0 | AC23: 0 | AD23: 0 | AE23: 0 | AF23: 0 | AG23: 0 | AH23: 0 | AI23: 0 | AJ23: 0 | AK23: 0 | AL23: 0 | AM23: 0 | AN23: 0 | AO23: 0 | AP23: 0 | AQ23: 0 | AR23: 0 | AS23: 0 | AT23: 0 | AU23: 0 | AV23: 0 | AW23: 0 | AX23: 0 | AY23: 0 | AZ23: 0 | BA23: 0 | BB23: 0 | BC23: 0 | BD23: 0 | BE23: 0 | BF23: 0 | BG23: 0 | BH23: 0 | BI23: 0 | BJ23: 0 | BK23: 0 | BL23: 0 | BM23: 0 | BN23: 0 | BO23: 0 | BP23: 0 | BQ23: 0 | BR23: 0 | BS23: 0 | BT23: 0 | BU23: 0 | BV23: 0 | BW23: 0 | BX23: 0 | BY23: 0 | BZ23: 0 | CA23: 0 | CB23: 0 | CC23: 0 | CD23: 0 | CE23: 0 | CF23: 0 | CG23: 0 | CH23: 0 | CI23: 0 | CK23: 0 | CL23: 0 | CM23: 80991 | CN23: 0 | CO23: 80991 | CQ23: 0 | CR23: 0 | CS23: 0 | CU23: 80991 | CV23: =S23-CU23 -> 0 | CW23: =IF(S23=0,"n/a",CU23/(S23)) -> 1 | DD23: 0
A24: %,V438000 | B24: 438000 | C24: State ELPA Revenue | D24: 0 | E24: 0 | F24: 0 | G24: 9943.89 | H24: 0 | I24: 9943.89 | K24: 0 | L24: 0 | M24: 0 | O24: 9943.89 | Q24: -11827 | R24: 0 | S24: =-1*(Q24+R24) -> 11827 | U24: 0 | V24: 0 | W24: 0 | X24: 0 | Y24: 0 | Z24: 0 | AA24: 0 | AB24: 0 | AC24: 0 | AD24: 0 | AE24: 0 | AF24: 0 | AG24: 0 | AH24: 0 | AI24: 0 | AJ24: 0 | AK24: 0 | AL24: 0 | AM24: 0 | AN24: 0 | AO24: 0 | AP24: 0 | AQ24: 0 | AR24: 0 | AS24: 0 | AT24: 0 | AU24: 0 | AV24: 0 | AW24: 0 | AX24: 0 | AY24: 0 | AZ24: 0 | BA24: 0 | BB24: 0 | BC24: 0 | BD24: 0 | BE24: 0 | BF24: 0 | BG24: 0 | BH24: 0 | BI24: 0 | BJ24: 0 | BK24: 0 | BL24: 0 | BM24: 0 | BN24: 0 | BO24: 0 | BP24: 0 | BQ24: 0 | BR24: 0 | BS24: 0 | BT24: 0 | BU24: 0 | BV24: 0 | BW24: 0 | BX24: 0 | BY24: 0 | BZ24: 0 | CA24: 0 | CB24: 0 | CC24: 0 | CD24: 0 | CE24: 0 | CF24: 0 | CG24: 0 | CH24: 0 | CI24: 0 | CK24: 0 | CL24: 0 | CM24: 11826.86 | CN24: 0 | CO24: 11826.86 | CQ24: 0 | CR24: 0 | CS24: 0 | CU24: 11826.86 | CV24: =S24-CU24 -> 0.14 | CW24: =IF(S24=0,"n/a",CU24/(S24)) -> 0.99998816 | DD24: 0
A25: %,V450000 | B25: 450000 | C25: Funding PPR | D25: 0 | E25: 0 | F25: 0 | G25: 4746830.1 | H25: 0 | I25: 4746830.1 | K25: 0 | L25: 460601.39 | M25: 460601.39 | O25: 4746830.1 | Q25: -5167113 | R25: 0 | S25: 5156921.9 | U25: 0 | V25: 0 | W25: 0 | X25: 0 | Y25: 0 | Z25: 0 | AA25: 0 | AB25: 0 | AC25: 0 | AD25: 0 | AE25: 0 | AF25: 0 | AG25: 0 | AH25: 0 | AI25: 0 | AJ25: 0 | AK25: 0 | AL25: 0 | AM25: 0 | AN25: 0 | AO25: 0 | AP25: 0 | AQ25: 0 | AR25: 0 | AS25: 0 | AT25: 0 | AU25: 0 | AV25: 0 | AW25: 0 | AX25: 0 | AY25: 0 | AZ25: 0 | BA25: 0 | BB25: 0 | BC25: 0 | BD25: 0 | BE25: 0 | BF25: 0 | BG25: 0 | BH25: 0 | BI25: 0 | BJ25: 0 | BK25: 0 | BL25: 0 | BM25: 0 | BN25: 0 | BO25: 0 | BP25: 0 | BQ25: 0 | BR25: 0 | BS25: 0 | BT25: 0 | BU25: 0 | BV25: 0 | BW25: 0 | BX25: 0 | BY25: 0 | BZ25: 0 | CA25: 0 | CB25: 0 | CC25: 0 | CD25: 0 | CE25: 0 | CF25: 0 | CG25: 0 | CH25: 0 | CI25: 0 | CK25: 0 | CL25: 0 | CM25: 3867691.4 | CN25: 0 | CO25: 3867691.4 | CQ25: 0 | CR25: 0 | CS25: 0 | CU25: 3867691.4 | CV25: =S25-CU25 -> 1289230.5 | CW25: =IF(S25=0,"n/a",CU25/(S25)) -> 0.75 | DD25: 1289230.5 | DF25: ADJUSTMENT TO PPR
B26: 450000 | C26: Transfers-Bond | O26: 460601.39 | S26: 465798.32 | CI26: 0 | CK26: 0 | CL26: 0 | CM26: 0 | CN26: 0 | CO26: 0 | CQ26: 0 | CR26: 348591.2 | CS26: 348591.2 | CU26: 348591.2 | CV26: =S26-CU26 -> 117207.12 | CW26: =IF(S26=0,"n/a",CU26/(S26)) -> 0.74837367 | DD26: 117207.12
A27: %,V451000 | B27: 451000 | C27: Fees/Dues | D27: 0 | E27: 0 | F27: 0 | G27: 59578.73 | H27: 0 | I27: 59578.73 | K27: 0 | L27: 0 | M27: 0 | O27: 59578.73 | Q27: -65000 | R27: 0 | S27: =-1*(Q27+R27) -> 65000 | U27: 0 | V27: 0 | W27: 0 | X27: 0 | Y27: 0 | Z27: 0 | AA27: 0 | AB27: 0 | AC27: 0 | AD27: 0 | AE27: 0 | AF27: 0 | AG27: 0 | AH27: 0 | AI27: 0 | AJ27: 0 | AK27: 0 | AL27: 0 | AM27: 0 | AN27: 0 | AO27: 0 | AP27: 0 | AQ27: 0 | AR27: 0 | AS27: 0 | AT27: 0 | AU27: 0 | AV27: 0 | AW27: 0 | AX27: 0 | AY27: 0 | AZ27: 0 | BA27: 0 | BB27: 0 | BC27: 0 | BD27: 0 | BE27: 0 | BF27: 0 | BG27: 0 | BH27: 0 | BI27: 0 | BJ27: 0 | BK27: 0 | BL27: 0 | BM27: 0 | BN27: 0 | BO27: 0 | BP27: 0 | BQ27: 0 | BR27: 0 | BS27: 0 | BT27: 0 | BU27: 0 | BV27: 0 | BW27: 0 | BX27: 0 | BY27: 0 | BZ27: 0 | CA27: 0 | CB27: 0 | CC27: 0 | CD27: 0 | CE27: 0 | CF27: 0 | CG27: 0 | CH27: 0 | CI27: 0 | CK27: 0 | CL27: 0 | CM27: 64349.29 | CN27: 0 | CO27: 64349.29 | CQ27: 0 | CR27: 0 | CS27: 0 | CU27: 64349.29 | CV27: =S27-CU27 -> 650.71 | CW27: =IF(S27=0,"n/a",CU27/(S27)) -> 0.98998908 | DD27: 650.71 | DF27: AT LEAST THIS MUCH AND MAYBE MORE
A28: %,V455000 | B28: 455000 | C28: Tuition from Individuals | D28: 0 | E28: 109564.1 | F28: 0 | G28: 0 | H28: 0 | I28: 109564.1 | K28: 0 | L28: 0 | M28: 0 | O28: 109564.1 | Q28: -125000 | R28: 0 | S28: =-1*(Q28+R28) -> 125000 | U28: 0 | V28: 0 | W28: 0 | X28: 0 | Y28: 0 | Z28: 0 | AA28: 0 | AB28: 0 | AC28: 0 | AD28: 0 | AE28: 0 | AF28: 0 | AG28: 0 | AH28: 0 | AI28: 0 | AJ28: 0 | AK28: 0 | AL28: 0 | AM28: 0 | AN28: 0 | AO28: 0 | AP28: 0 | AQ28: 0 | AR28: 0 | AS28: 0 | AT28: 0 | AU28: 0 | AV28: 0 | AW28: 0 | AX28: 0 | AY28: 0 | AZ28: 0 | BA28: 0 | BB28: 0 | BC28: 0 | BD28: 0 | BE28: 0 | BF28: 0 | BG28: 0 | BH28: 0 | BI28: 0 | BJ28: 0 | BK28: 0 | BL28: 0 | BM28: 0 | BN28: 0 | BO28: 0 | BP28: 0 | BQ28: 0 | BR28: 0 | BS28: 0 | BT28: 0 | BU28: 0 | BV28: 0 | BW28: 0 | BX28: 0 | BY28: 0 | BZ28: 0 | CA28: 0 | CB28: 0 | CC28: 0 | CD28: 0 | CE28: 0 | CF28: 0 | CG28: 0 | CH28: 0 | CI28: 0 | CK28: 0 | CL28: =129974.8-17049.9 -> 112924.9 | CM28: 0 | CN28: 0 | CO28: 112924.9 | CQ28: 0 | CR28: 0 | CS28: 0 | CU28: 112924.9 | CV28: =S28-CU28 -> 12075.1 | CW28: =IF(S28=0,"n/a",CU28/(S28)) -> 0.9033992 | DD28: 9887
B29: 455000 | C29: Tuition from Individuals for 18-19 | O29: 0 | S29: 0 | CI29: 0 | CK29: 0 | CL29: 17049.9 | CM29: 0 | CN29: 0 | CO29: 17049.9 | CS29: 0 | CU29: 17049.9 | CV29: =S29-CU29 -> -17049.9 | CW29: =IF(S29=0,"n/a",CU29/(S29)) -> n/a | DD29: 0
A30: %,V456000 | B30: 456000 | C30: Tuition-Extended Day Kdgn | D30: 0 | E30: 0 | F30: 0 | G30: 122533 | H30: 0 | I30: 122533 | K30: 0 | L30: 0 | M30: 0 | O30: 122533 | Q30: -124000 | R30: 0 | S30: =-1*(Q30+R30) -> 124000 | U30: 0 | V30: 0 | W30: 0 | X30: 0 | Y30: 0 | Z30: 0 | AA30: 0 | AB30: 0 | AC30: 0 | AD30: 0 | AE30: 0 | AF30: 0 | AG30: 0 | AH30: 0 | AI30: 0 | AJ30: 0 | AK30: 0 | AL30: 0 | AM30: 0 | AN30: 0 | AO30: 0 | AP30: 0 | AQ30: 0 | AR30: 0 | AS30: 0 | AT30: 0 | AU30: 0 | AV30: 0 | AW30: 0 | AX30: 0 | AY30: 0 | AZ30: 0 | BA30: 0 | BB30: 0 | BC30: 0 | BD30: 0 | BE30: 0 | BF30: 0 | BG30: 0 | BH30: 0 | BI30: 0 | BJ30: 0 | BK30: 0 | BL30: 0 | BM30: 0 | BN30: 0 | BO30: 0 | BP30: 0 | BQ30: 0 | BR30: 0 | BS30: 0 | BT30: 0 | BU30: 0 | BV30: 0 | BW30: 0 | BX30: 0 | BY30: 0 | BZ30: 0 | CA30: 0 | CB30: 0 | CC30: 0 | CD30: 0 | CE30: 0 | CF30: 0 | CG30: 0 | CH30: 0 | CI30: 0 | CK30: 0 | CL30: 0 | CM30: =133966-19800 -> 114166 | CN30: 0 | CO30: 114166 | CQ30: 0 | CR30: 0 | CS30: 0 | CU30: 114166 | CV30: =S30-CU30 -> 9834 | CW30: =IF(S30=0,"n/a",CU30/(S30)) -> 0.92069355 | DD30: 11915
B31: 456000 | C31: Tuition-Extended Day Kdgn for 18-19 | O31: 0 | S31: 0 | CI31: 0 | CK31: 0 | CL31: 0 | CM31: 19800 | CN31: 0 | CO31: 19800 | CS31: 0 | CU31: 19800 | CV31: =S31-CU31 -> -19800 | CW31: =IF(S31=0,"n/a",CU31/(S31)) -> n/a | DD31: 0
A32: %,V461000 | B32: 461000 | C32: Building Rental | D32: 75 | E32: 0 | F32: 0 | G32: 25057.1 | H32: 0 | I32: 25132.1 | K32: 0 | L32: 0 | M32: 0 | O32: 25132.1 | Q32: -18000 | R32: 0 | S32: =-1*(Q32+R32) -> 18000 | U32: 0 | V32: 0 | W32: 0 | X32: 0 | Y32: 0 | Z32: 0 | AA32: 0 | AB32: 0 | AC32: 0 | AD32: 0 | AE32: 0 | AF32: 0 | AG32: 0 | AH32: 0 | AI32: 0 | AJ32: 0 | AK32: 0 | AL32: 0 | AM32: 0 | AN32: 0 | AO32: 0 | AP32: 0 | AQ32: 0 | AR32: 0 | AS32: 0 | AT32: 0 | AU32: 0 | AV32: 0 | AW32: 0 | AX32: 0 | AY32: 0 | AZ32: 0 | BA32: 0 | BB32: 0 | BC32: 0 | BD32: 0 | BE32: 0 | BF32: 0 | BG32: 0 | BH32: 0 | BI32: 0 | BJ32: 0 | BK32: 0 | BL32: 0 | BM32: 0 | BN32: 0 | BO32: 0 | BP32: 0 | BQ32: 0 | BR32: 0 | BS32: 0 | BT32: 0 | BU32: 0 | BV32: 0 | BW32: 0 | BX32: 0 | BY32: 0 | BZ32: 0 | CA32: 0 | CB32: 0 | CC32: 0 | CD32: 0 | CE32: 0 | CF32: 0 | CG32: 0 | CH32: 0 | CI32: 0 | CK32: 0 | CL32: 0 | CM32: 10618.43 | CN32: 0 | CO32: 10618.43 | CQ32: 0 | CR32: 0 | CS32: 0 | CU32: 10618.43 | CV32: =S32-CU32 -> 7381.57 | CW32: =IF(S32=0,"n/a",CU32/(S32)) -> 0.58991278 | DD32: 1500 | DF32: NOT AS MANY RENTALS THIS YEAR
