Workbook
Name NvsASD: "V2018-10-31"
Name NvsAutoDrillOk: "VN"
Name NvsDateToNumber: "Y"
Name NvsDrillHyperLink: "https://jcspa.jeffco.k12.co.us/psp/PA92PRD_newwin/EMPLOYEE/PSFT_EP/c/REPORT_BOOKS.IC_RUN_DRILLDOWN.GBL?Action=A&NVS_INSTANCE=5381481_8084529"
Name NvsElapsedTime: 0.0000462962925666943
Name NvsEndTime: 43404.5081481481
Name NvsInstanceHook: CollapseNplosionMacro
Name NvsInstLang: "VENG"
Name NvsInstSpec: "%,FDEPTID,V55800"
Name NvsInstSpec1: ","
Name NvsInstSpec2: ","
Name NvsInstSpec3: ","
Name NvsInstSpec4: ","
Name NvsInstSpec5: ","
Name NvsInstSpec6: ","
Name NvsInstSpec7: ","
Name NvsInstSpec8: ","
Name NvsInstSpec9: ","
Name NvsLayoutType: "M3"
Name NvsNplSpec: "%,X,RPT.ACCOUNT.,CZF.."
Name NvsPanelEffdt: "V1900-01-01"
Name NvsPanelSetid: "VGF020"
Name NvsReqBU: "VGF020"
Name NvsReqBUOnly: "VY"
Name NvsSheetType: "M"
Name NvsTransLed: "VN"
Name NvsTreeASD: "V2018-10-31"
Name NvsValTbl.ACCOUNT: "GL_ACCOUNT_TBL"
Name NvsValTbl.BUDGET_YEAR: "BUDGET_YEAR"
Name NvsValTbl.BUSINESS_UNIT: "BUS_UNIT_TBL_GL"
Name NvsValTbl.FUND_CODE: "FUND_TBL"
Name NvsValTbl.PROGRAM_CODE: "PROGRAM_TBL"
Name PED: Sheet1!$CX$4

Sheet Sheet1
B1: %,AFF,FACCOUNT | C1: %,AFT,FDESCR | D1: %,VCA020 | E1: %,VCC020 | F1: %,VGF020 | G1: %,VGS020 | H1: %,LACTUALS,SALLYEAR-1,FFUND_CODE,X,VCA020,VFS020,VGF020,VGS020,VIR020,VCC020 | J1: %,VCR020 | K1: %,VDS020 | L1: %,LACTUALS,SALLYEAR-1,FFUND_CODE,X,VCR020,VDS020 | N1: %,LACTUALS,SALLYEAR-1 | P1: %,LREVEST_BD,UPOSTED_TOTAL_AMT,SADJBAL,FACCOUNT,TACCOUNT_ROLLUP,NREVENUE | Q1: %,LORG_BD,UPOSTED_TOTAL_AMT,SADJBAL,R,FACCOUNT,TACCOUNT_ROLLUP,XDYYNYN00,NTRANSFERS | R1: %,C | T1: %,V512100 | U1: %,V513100 | V1: %,V521100 | W1: %,V521900 | X1: %,V522100 | Y1: %,V522200 | Z1: %,V524200 | AA1: %,V526200 | AB1: %,V529200 | AC1: %,V529400 | AD1: %,V529500 | AE1: %,V529600 | AF1: %,V529800 | AG1: %,V552100 | AH1: %,V557100 | AI1: %,V557600 | AJ1: %,V591100 | AK1: %,V599400 | AL1: %,V599810 | AM1: %,V599820 | AN1: %,V599830 | AO1: %,V699000 | AP1: %,V701000 | AQ1: %,V702000 | AR1: %,V708000 | AS1: %,V710000 | AT1: %,V713000 | AU1: %,V715000 | AV1: %,V721000 | AW1: %,V723000 | AX1: %,V731000 | AY1: %,V743000 | AZ1: %,V745000 | BA1: %,V745500 | BB1: %,V746000 | BC1: %,V752000 | BD1: %,V761000 | BE1: %,V764000 | BF1: %,V765000 | BG1: %,V766000 | BH1: %,V768000 | BI1: %,V769000 | BJ1: %,V770000 | BK1: %,V770800 | BL1: %,V781000 | BM1: %,V781500 | BN1: %,V804000 | BO1: %,V805000 | BP1: %,V806000 | BQ1: %,V810000 | BR1: %,V810001 | BS1: %,V812000 | BT1: %,V814000 | BU1: %,V820000 | BV1: %,V820001 | BW1: %,V822000 | BX1: %,V823000 | BY1: %,V824000 | BZ1: %,V826000 | CA1: %,V840000 | CB1: %,V870000 | CC1: %,V885000 | CD1: %,V889000 | CE1: %,V930000 | CF1: %,V950000 | CG1: %,LORG_BD,UPOSTED_TOTAL_AMT,SADJBAL,R,FACCOUNT,TACCOUNT_ROLLUP,XDYYNYN00,NEXPENDITURE | CI1: %,VCA020 | CJ1: %,VCC020 | CK1: %,VGF020 | CL1: %,LACTUALS,SYTD,FFUND_CODE,X,VCA020,VFS020,VGF020,VGS020,VIR020,VCC020 | CN1: %,VCR020 | CO1: %,VDS020 | CP1: %,LACTUALS,SYTD,FFUND_CODE,X,VCR020,VDS020 | CR1: %,LACTUALS,SYTD | CS1: %,C | CT1: %,C
B2: Jefferson County Public Schools | CR2: Lincoln Academy Charter School | CX2: 558OPC
B3: Charter Schools | CR3: Unaudited Financials
B4: Lincoln Academy Charter School | CR4: 07/01/18 - 10/31/18 | CX4: 43404
B5: ="Report ID: "&CX2 -> Report ID: 558OPC | CW5: 55800
B6: For Accounting Period: | CR6: Board November 12, 2018 | CW6: Lincoln Academy Charter School
B7: 43404
A8: %,ATF,FFUND_CODE | B8: Account | D8: CA020 | E8: CC020 | F8: GF020 | G8: GS020 | H8: Prior Year | J8: CR020 | K8: DS020 | L8: Prior Year | N8: Prior Year | CI8: CA020 | CJ8: CC020 | CK8: GF020 | CL8: Current Year | CN8: CR020 | CO8: DS020 | CP8: Current Year | CR8: Current Year
A9: %,ATF,FDESCR | B9: Number | C9: Description | D9: Charter School Campus Activity | E9: Charter School Child Care Fund | F9: Charter School General Fund | G9: Charter School Grant Fund | H9: Operational Funds | J9: Charter School Capital Reserve | K9: Charter School Debt Service | L9: Capital Funds | N9: Total | R9: Estimated Revenue | T9: Principal | U9: Assistant Principal | V9: Teacher | W9: Substitute Teacher | X9: Counselor | Y9: Teacher Librarian | Z9: Coordinator - Classified | AA9: Instructional Coach | AB9: Occupational Therapist | AC9: Nurse | AD9: Psychologist | AE9: Social Worker | AF9: Speech Therapist | AG9: School Secretary | AH9: Paraprofessional | AI9: Clinic Aides | AJ9: Custodian | AK9: Unused Sick Leave | AL9: Additional Pay - Certificated | AM9: Additional Pay-Classified | AN9: Additional Pay-Administrative | AO9: Employee Benefits | AP9: Mileage And Travel | AQ9: Employee Training & Conf | AR9: Employee Background Verificatn | AS9: Meals/Refreshments | AT9: Student Transportation | AU9: Student Admission/Entry Fees | AV9: Legal Fees | AW9: Printing | AX9: Contracted Services | AY9: Equipment Rental | AZ9: Contract Maint/Eq Repair | BA9: Technology Services | BB9: Const Maint/Repair-Bldg | BC9: Marketing - Advertising | BD9: Natural Gas | BE9: Electricity | BF9: Voice Communication Line | BG9: Water & Sanitation | BH9: Postage | BI9: Permits/Licenses/Fees | BJ9: Risk Management Charges | BK9: Unemployment Comp Insur | BL9: Lease Purch-Other-Principal | BM9: Lease Purch-Other-Interest | BN9: Fund Raising | BO9: Materials/Supplies-Other | BP9: Materials/Supplies Resale | BQ9: Office Material/Supplies | BR9: Office Equipment - Under $5K | BS9: Clinic Supplies/Materials | BT9: Custodial Supplies | BU9: Instructional Material/Supply | BV9: Instructional Equip-Under $5K | BW9: Textbooks | BX9: Copier Usage | BY9: Testing Materials | BZ9: Graduation Materials | CA9: Maint Materials/Supplies | CB9: Library Materials | CC9: Miscellaneous Expense | CD9: Consumable Supplies | CE9: Building Improvements | CF9: Transfers | CG9: Budget | CI9: Charter School Campus Activity | CJ9: Charter School Child Care Fund | CK9: Charter School General Fund | CL9: Operational Funds | CN9: Charter School Capital Reserve | CO9: Charter School Debt Service | CP9: Capital Funds | CR9: Total | CS9: Variance | CT9: Percent Spent
C11: Prior Year Carryforward | H11: 2645403.7 | N11: 2645403.7 | CI11: 62657.49 | CJ11: 105530.51 | CK11: 1930278.2 | CL11: 2098466.2 | CO11: 788564.45 | CP11: 788564.45 | CR11: 2887030.6
A13: %,V401000 | B13: 401000 | C13: Commissions/Profits | D13: 2523.56 | E13: 0 | F13: 13189.65 | G13: 0 | H13: 15713.21 | J13: 0 | K13: 0 | L13: 0 | N13: 15713.21 | P13: -18000 | Q13: 0 | R13: =-1*(P13+Q13) -> 18000 | T13: 0 | U13: 0 | V13: 0 | W13: 0 | X13: 0 | Y13: 0 | Z13: 0 | AA13: 0 | AB13: 0 | AC13: 0 | AD13: 0 | AE13: 0 | AF13: 0 | AG13: 0 | AH13: 0 | AI13: 0 | AJ13: 0 | AK13: 0 | AL13: 0 | AM13: 0 | AN13: 0 | AO13: 0 | AP13: 0 | AQ13: 0 | AR13: 0 | AS13: 0 | AT13: 0 | AU13: 0 | AV13: 0 | AW13: 0 | AX13: 0 | AY13: 0 | AZ13: 0 | BA13: 0 | BB13: 0 | BC13: 0 | BD13: 0 | BE13: 0 | BF13: 0 | BG13: 0 | BH13: 0 | BI13: 0 | BJ13: 0 | BK13: 0 | BL13: 0 | BM13: 0 | BN13: 0 | BO13: 0 | BP13: 0 | BQ13: 0 | BR13: 0 | BS13: 0 | BT13: 0 | BU13: 0 | BV13: 0 | BW13: 0 | BX13: 0 | BY13: 0 | BZ13: 0 | CA13: 0 | CB13: 0 | CC13: 0 | CD13: 0 | CE13: 0 | CF13: 0 | CG13: 0 | CI13: 576.19 | CJ13: 0 | CK13: 1799.62 | CL13: 2375.81 | CN13: 0 | CO13: 0 | CP13: 0 | CR13: 2375.81 | CS13: =R13-CR13 -> 15624.19 | CT13: =IF(R13=0,"n/a",CR13/(R13)) -> 0.13198944
A14: %,V401400 | B14: 401400 | C14: Ticket Sales | D14: 1372 | E14: 0 | F14: 0 | G14: 0 | H14: 1372 | J14: 0 | K14: 0 | L14: 0 | N14: 1372 | P14: -1250 | Q14: 0 | R14: =-1*(P14+Q14) -> 1250 | T14: 0 | U14: 0 | V14: 0 | W14: 0 | X14: 0 | Y14: 0 | Z14: 0 | AA14: 0 | AB14: 0 | AC14: 0 | AD14: 0 | AE14: 0 | AF14: 0 | AG14: 0 | AH14: 0 | AI14: 0 | AJ14: 0 | AK14: 0 | AL14: 0 | AM14: 0 | AN14: 0 | AO14: 0 | AP14: 0 | AQ14: 0 | AR14: 0 | AS14: 0 | AT14: 0 | AU14: 0 | AV14: 0 | AW14: 0 | AX14: 0 | AY14: 0 | AZ14: 0 | BA14: 0 | BB14: 0 | BC14: 0 | BD14: 0 | BE14: 0 | BF14: 0 | BG14: 0 | BH14: 0 | BI14: 0 | BJ14: 0 | BK14: 0 | BL14: 0 | BM14: 0 | BN14: 0 | BO14: 0 | BP14: 0 | BQ14: 0 | BR14: 0 | BS14: 0 | BT14: 0 | BU14: 0 | BV14: 0 | BW14: 0 | BX14: 0 | BY14: 0 | BZ14: 0 | CA14: 0 | CB14: 0 | CC14: 0 | CD14: 0 | CE14: 0 | CF14: 0 | CG14: 0 | CI14: 0 | CJ14: 0 | CK14: 0 | CL14: 0 | CN14: 0 | CO14: 0 | CP14: 0 | CR14: 0 | CS14: =R14-CR14 -> 1250 | CT14: =IF(R14=0,"n/a",CR14/(R14)) -> 0
A15: %,V408000 | B15: 408000 | C15: Resale | D15: 17863.84 | E15: 0 | F15: 0 | G15: 0 | H15: 17863.84 | J15: 0 | K15: 0 | L15: 0 | N15: 17863.84 | P15: -18797 | Q15: 0 | R15: =-1*(P15+Q15) -> 18797 | T15: 0 | U15: 0 | V15: 0 | W15: 0 | X15: 0 | Y15: 0 | Z15: 0 | AA15: 0 | AB15: 0 | AC15: 0 | AD15: 0 | AE15: 0 | AF15: 0 | AG15: 0 | AH15: 0 | AI15: 0 | AJ15: 0 | AK15: 0 | AL15: 0 | AM15: 0 | AN15: 0 | AO15: 0 | AP15: 0 | AQ15: 0 | AR15: 0 | AS15: 0 | AT15: 0 | AU15: 0 | AV15: 0 | AW15: 0 | AX15: 0 | AY15: 0 | AZ15: 0 | BA15: 0 | BB15: 0 | BC15: 0 | BD15: 0 | BE15: 0 | BF15: 0 | BG15: 0 | BH15: 0 | BI15: 0 | BJ15: 0 | BK15: 0 | BL15: 0 | BM15: 0 | BN15: 0 | BO15: 0 | BP15: 0 | BQ15: 0 | BR15: 0 | BS15: 0 | BT15: 0 | BU15: 0 | BV15: 0 | BW15: 0 | BX15: 0 | BY15: 0 | BZ15: 0 | CA15: 0 | CB15: 0 | CC15: 0 | CD15: 0 | CE15: 0 | CF15: 0 | CG15: 0 | CI15: 5933.44 | CJ15: 0 | CK15: 5 | CL15: 5938.44 | CN15: 0 | CO15: 0 | CP15: 0 | CR15: 5938.44 | CS15: =R15-CR15 -> 12858.56 | CT15: =IF(R15=0,"n/a",CR15/(R15)) -> 0.31592488
A16: %,V409000 | B16: 409000 | C16: Sales-Fund Raising | D16: 8892.85 | E16: 200 | F16: 2096.02 | G16: 0 | H16: 11188.87 | J16: 0 | K16: 0 | L16: 0 | N16: 11188.87 | P16: -8680 | Q16: 0 | R16: =-1*(P16+Q16) -> 8680 | T16: 0 | U16: 0 | V16: 0 | W16: 0 | X16: 0 | Y16: 0 | Z16: 0 | AA16: 0 | AB16: 0 | AC16: 0 | AD16: 0 | AE16: 0 | AF16: 0 | AG16: 0 | AH16: 0 | AI16: 0 | AJ16: 0 | AK16: 0 | AL16: 0 | AM16: 0 | AN16: 0 | AO16: 0 | AP16: 0 | AQ16: 0 | AR16: 0 | AS16: 0 | AT16: 0 | AU16: 0 | AV16: 0 | AW16: 0 | AX16: 0 | AY16: 0 | AZ16: 0 | BA16: 0 | BB16: 0 | BC16: 0 | BD16: 0 | BE16: 0 | BF16: 0 | BG16: 0 | BH16: 0 | BI16: 0 | BJ16: 0 | BK16: 0 | BL16: 0 | BM16: 0 | BN16: 0 | BO16: 0 | BP16: 0 | BQ16: 0 | BR16: 0 | BS16: 0 | BT16: 0 | BU16: 0 | BV16: 0 | BW16: 0 | BX16: 0 | BY16: 0 | BZ16: 0 | CA16: 0 | CB16: 0 | CC16: 0 | CD16: 0 | CE16: 0 | CF16: 0 | CG16: 0 | CI16: 3555.81 | CJ16: 0 | CK16: 0 | CL16: 3555.81 | CN16: 0 | CO16: 0 | CP16: 0 | CR16: 3555.81 | CS16: =R16-CR16 -> 5124.19 | CT16: =IF(R16=0,"n/a",CR16/(R16)) -> 0.40965553
A17: %,V411000 | B17: 411000 | C17: Prop Tax-Mill Levy Override | D17: 0 | E17: 0 | F17: 961827.16 | G17: 0 | H17: 961827.16 | J17: 0 | K17: 0 | L17: 0 | N17: 961827.16 | P17: -973789 | Q17: 0 | R17: =-1*(P17+Q17) -> 973789 | T17: 0 | U17: 0 | V17: 0 | W17: 0 | X17: 0 | Y17: 0 | Z17: 0 | AA17: 0 | AB17: 0 | AC17: 0 | AD17: 0 | AE17: 0 | AF17: 0 | AG17: 0 | AH17: 0 | AI17: 0 | AJ17: 0 | AK17: 0 | AL17: 0 | AM17: 0 | AN17: 0 | AO17: 0 | AP17: 0 | AQ17: 0 | AR17: 0 | AS17: 0 | AT17: 0 | AU17: 0 | AV17: 0 | AW17: 0 | AX17: 0 | AY17: 0 | AZ17: 0 | BA17: 0 | BB17: 0 | BC17: 0 | BD17: 0 | BE17: 0 | BF17: 0 | BG17: 0 | BH17: 0 | BI17: 0 | BJ17: 0 | BK17: 0 | BL17: 0 | BM17: 0 | BN17: 0 | BO17: 0 | BP17: 0 | BQ17: 0 | BR17: 0 | BS17: 0 | BT17: 0 | BU17: 0 | BV17: 0 | BW17: 0 | BX17: 0 | BY17: 0 | BZ17: 0 | CA17: 0 | CB17: 0 | CC17: 0 | CD17: 0 | CE17: 0 | CF17: 0 | CG17: 0 | CI17: 0 | CJ17: 0 | CK17: 491847.59 | CL17: 491847.59 | CN17: 0 | CO17: 0 | CP17: 0 | CR17: 491847.59 | CS17: =R17-CR17 -> 481941.41 | CT17: =IF(R17=0,"n/a",CR17/(R17)) -> 0.50508641
A18: %,V415000 | B18: 415000 | C18: Earnings On Investments | D18: 0 | E18: 0 | F18: 0 | G18: 0 | H18: 0 | J18: 0 | K18: 5917.4 | L18: 5917.4 | N18: 5917.4 | P18: -3800 | Q18: 0 | R18: =-1*(P18+Q18) -> 3800 | T18: 0 | U18: 0 | V18: 0 | W18: 0 | X18: 0 | Y18: 0 | Z18: 0 | AA18: 0 | AB18: 0 | AC18: 0 | AD18: 0 | AE18: 0 | AF18: 0 | AG18: 0 | AH18: 0 | AI18: 0 | AJ18: 0 | AK18: 0 | AL18: 0 | AM18: 0 | AN18: 0 | AO18: 0 | AP18: 0 | AQ18: 0 | AR18: 0 | AS18: 0 | AT18: 0 | AU18: 0 | AV18: 0 | AW18: 0 | AX18: 0 | AY18: 0 | AZ18: 0 | BA18: 0 | BB18: 0 | BC18: 0 | BD18: 0 | BE18: 0 | BF18: 0 | BG18: 0 | BH18: 0 | BI18: 0 | BJ18: 0 | BK18: 0 | BL18: 0 | BM18: 0 | BN18: 0 | BO18: 0 | BP18: 0 | BQ18: 0 | BR18: 0 | BS18: 0 | BT18: 0 | BU18: 0 | BV18: 0 | BW18: 0 | BX18: 0 | BY18: 0 | BZ18: 0 | CA18: 0 | CB18: 0 | CC18: 0 | CD18: 0 | CE18: 0 | CF18: 0 | CG18: 0 | CI18: 0 | CJ18: 0 | CK18: 0 | CL18: 0 | CN18: 0 | CO18: 2922.19 | CP18: 2922.19 | CR18: 2922.19 | CS18: =R18-CR18 -> 877.81 | CT18: =IF(R18=0,"n/a",CR18/(R18)) -> 0.76899737
A19: %,V419000 | B19: 419000 | C19: Other Revenue | D19: 160 | E19: 0 | F19: 29992.21 | G19: 300 | H19: 30452.21 | J19: 0 | K19: 0 | L19: 0 | N19: 30452.21 | P19: -31815 | Q19: 0 | R19: =-1*(P19+Q19) -> 31815 | T19: 0 | U19: 0 | V19: 0 | W19: 0 | X19: 0 | Y19: 0 | Z19: 0 | AA19: 0 | AB19: 0 | AC19: 0 | AD19: 0 | AE19: 0 | AF19: 0 | AG19: 0 | AH19: 0 | AI19: 0 | AJ19: 0 | AK19: 0 | AL19: 0 | AM19: 0 | AN19: 0 | AO19: 0 | AP19: 0 | AQ19: 0 | AR19: 0 | AS19: 0 | AT19: 0 | AU19: 0 | AV19: 0 | AW19: 0 | AX19: 0 | AY19: 0 | AZ19: 0 | BA19: 0 | BB19: 0 | BC19: 0 | BD19: 0 | BE19: 0 | BF19: 0 | BG19: 0 | BH19: 0 | BI19: 0 | BJ19: 0 | BK19: 0 | BL19: 0 | BM19: 0 | BN19: 0 | BO19: 0 | BP19: 0 | BQ19: 0 | BR19: 0 | BS19: 0 | BT19: 0 | BU19: 0 | BV19: 0 | BW19: 0 | BX19: 0 | BY19: 0 | BZ19: 0 | CA19: 0 | CB19: 0 | CC19: 0 | CD19: 0 | CE19: 0 | CF19: 0 | CG19: 0 | CI19: 0 | CJ19: 0 | CK19: 4.5 | CL19: 4.5 | CN19: 0 | CO19: 0 | CP19: 0 | CR19: 4.5 | CS19: =R19-CR19 -> 31810.5 | CT19: =IF(R19=0,"n/a",CR19/(R19)) -> 0.00014144272
A20: %,V433000 | B20: 433000 | C20: State Revenue - Other | D20: 0 | E20: 0 | F20: 1657.17 | G20: 0 | H20: 1657.17 | J20: 182038.08 | K20: 0 | L20: 182038.08 | N20: 183695.25 | P20: -209712 | Q20: 0 | R20: =-1*(P20+Q20) -> 209712 | T20: 0 | U20: 0 | V20: 0 | W20: 0 | X20: 0 | Y20: 0 | Z20: 0 | AA20: 0 | AB20: 0 | AC20: 0 | AD20: 0 | AE20: 0 | AF20: 0 | AG20: 0 | AH20: 0 | AI20: 0 | AJ20: 0 | AK20: 0 | AL20: 0 | AM20: 0 | AN20: 0 | AO20: 0 | AP20: 0 | AQ20: 0 | AR20: 0 | AS20: 0 | AT20: 0 | AU20: 0 | AV20: 0 | AW20: 0 | AX20: 0 | AY20: 0 | AZ20: 0 | BA20: 0 | BB20: 0 | BC20: 0 | BD20: 0 | BE20: 0 | BF20: 0 | BG20: 0 | BH20: 0 | BI20: 0 | BJ20: 0 | BK20: 0 | BL20: 0 | BM20: 0 | BN20: 0 | BO20: 0 | BP20: 0 | BQ20: 0 | BR20: 0 | BS20: 0 | BT20: 0 | BU20: 0 | BV20: 0 | BW20: 0 | BX20: 0 | BY20: 0 | BZ20: 0 | CA20: 0 | CB20: 0 | CC20: 0 | CD20: 0 | CE20: 0 | CF20: 0 | CG20: 0 | CI20: 0 | CJ20: 0 | CK20: 0 | CL20: 0 | CN20: 67404.52 | CO20: 0 | CP20: 67404.52 | CR20: 67404.52 | CS20: =R20-CR20 -> 142307.48 | CT20: =IF(R20=0,"n/a",CR20/(R20)) -> 0.3214147
A21: %,V434000 | B21: 434000 | C21: Exceptional Children Revenue | D21: 0 | E21: 0 | F21: 80991 | G21: 0 | H21: 80991 | J21: 0 | K21: 0 | L21: 0 | N21: 80991 | P21: -76250 | Q21: 0 | R21: =-1*(P21+Q21) -> 76250 | T21: 0 | U21: 0 | V21: 0 | W21: 0 | X21: 0 | Y21: 0 | Z21: 0 | AA21: 0 | AB21: 0 | AC21: 0 | AD21: 0 | AE21: 0 | AF21: 0 | AG21: 0 | AH21: 0 | AI21: 0 | AJ21: 0 | AK21: 0 | AL21: 0 | AM21: 0 | AN21: 0 | AO21: 0 | AP21: 0 | AQ21: 0 | AR21: 0 | AS21: 0 | AT21: 0 | AU21: 0 | AV21: 0 | AW21: 0 | AX21: 0 | AY21: 0 | AZ21: 0 | BA21: 0 | BB21: 0 | BC21: 0 | BD21: 0 | BE21: 0 | BF21: 0 | BG21: 0 | BH21: 0 | BI21: 0 | BJ21: 0 | BK21: 0 | BL21: 0 | BM21: 0 | BN21: 0 | BO21: 0 | BP21: 0 | BQ21: 0 | BR21: 0 | BS21: 0 | BT21: 0 | BU21: 0 | BV21: 0 | BW21: 0 | BX21: 0 | BY21: 0 | BZ21: 0 | CA21: 0 | CB21: 0 | CC21: 0 | CD21: 0 | CE21: 0 | CF21: 0 | CG21: 0 | CI21: 0 | CJ21: 0 | CK21: 81270 | CL21: 81270 | CN21: 0 | CO21: 0 | CP21: 0 | CR21: 81270 | CS21: =R21-CR21 -> -5020 | CT21: =IF(R21=0,"n/a",CR21/(R21)) -> 1.0658361
A22: %,V438000 | B22: 438000 | C22: State ELPA Revenue | D22: 0 | E22: 0 | F22: 11826.86 | G22: 0 | H22: 11826.86 | J22: 0 | K22: 0 | L22: 0 | N22: 11826.86 | P22: 0 | Q22: 0 | R22: =-1*(P22+Q22) -> 0 | T22: 0 | U22: 0 | V22: 0 | W22: 0 | X22: 0 | Y22: 0 | Z22: 0 | AA22: 0 | AB22: 0 | AC22: 0 | AD22: 0 | AE22: 0 | AF22: 0 | AG22: 0 | AH22: 0 | AI22: 0 | AJ22: 0 | AK22: 0 | AL22: 0 | AM22: 0 | AN22: 0 | AO22: 0 | AP22: 0 | AQ22: 0 | AR22: 0 | AS22: 0 | AT22: 0 | AU22: 0 | AV22: 0 | AW22: 0 | AX22: 0 | AY22: 0 | AZ22: 0 | BA22: 0 | BB22: 0 | BC22: 0 | BD22: 0 | BE22: 0 | BF22: 0 | BG22: 0 | BH22: 0 | BI22: 0 | BJ22: 0 | BK22: 0 | BL22: 0 | BM22: 0 | BN22: 0 | BO22: 0 | BP22: 0 | BQ22: 0 | BR22: 0 | BS22: 0 | BT22: 0 | BU22: 0 | BV22: 0 | BW22: 0 | BX22: 0 | BY22: 0 | BZ22: 0 | CA22: 0 | CB22: 0 | CC22: 0 | CD22: 0 | CE22: 0 | CF22: 0 | CG22: 0 | CI22: 0 | CJ22: 0 | CK22: 0 | CL22: 0 | CN22: 0 | CO22: 0 | CP22: 0 | CR22: 0 | CS22: =R22-CR22 -> 0 | CT22: =IF(R22=0,"n/a",CR22/(R22)) -> n/a
A23: %,V450000 | B23: 450000 | C23: Funding PPR | D23: 0 | E23: 0 | F23: 5159406.1 | G23: 0 | H23: 5159406.1 | J23: 0 | K23: 465569.95 | L23: 465569.95 | N23: 5159406.1 | P23: -5553551 | Q23: 0 | R23: =-1*(P23+Q23) -> 5553551 | T23: 0 | U23: 0 | V23: 0 | W23: 0 | X23: 0 | Y23: 0 | Z23: 0 | AA23: 0 | AB23: 0 | AC23: 0 | AD23: 0 | AE23: 0 | AF23: 0 | AG23: 0 | AH23: 0 | AI23: 0 | AJ23: 0 | AK23: 0 | AL23: 0 | AM23: 0 | AN23: 0 | AO23: 0 | AP23: 0 | AQ23: 0 | AR23: 0 | AS23: 0 | AT23: 0 | AU23: 0 | AV23: 0 | AW23: 0 | AX23: 0 | AY23: 0 | AZ23: 0 | BA23: 0 | BB23: 0 | BC23: 0 | BD23: 0 | BE23: 0 | BF23: 0 | BG23: 0 | BH23: 0 | BI23: 0 | BJ23: 0 | BK23: 0 | BL23: 0 | BM23: 0 | BN23: 0 | BO23: 0 | BP23: 0 | BQ23: 0 | BR23: 0 | BS23: 0 | BT23: 0 | BU23: 0 | BV23: 0 | BW23: 0 | BX23: 0 | BY23: 0 | BZ23: 0 | CA23: 0 | CB23: 0 | CC23: 0 | CD23: 0 | CE23: 0 | CF23: 0 | CG23: 0 | CI23: 0 | CJ23: 0 | CK23: 2777334.8 | CL23: 2777334.8 | CN23: 0 | CO23: 230294.59 | CP23: 0 | CR23: 2777334.8 | CS23: =R23-CR23 -> 2776216.2 | CT23: =IF(R23=0,"n/a",CR23/(R23)) -> 0.50010072
B24: 450000 | C24: Transfers Bond | N24: 465569.95 | R24: 467155.04 | CG24: 0 | CL24: 0 | CP24: 230294.59 | CR24: 230294.59 | CS24: =R24-CR24 -> 236860.45 | CT24: =IF(R24=0,"n/a",CR24/(R24)) -> 0.4929725
A25: %,V451000 | B25: 451000 | C25: Fees/Dues | D25: 0 | E25: 0 | F25: 70746.78 | G25: 0 | H25: 70746.78 | J25: 0 | K25: 0 | L25: 0 | N25: 70746.78 | P25: -65000 | Q25: 0 | R25: =-1*(P25+Q25) -> 65000 | T25: 0 | U25: 0 | V25: 0 | W25: 0 | X25: 0 | Y25: 0 | Z25: 0 | AA25: 0 | AB25: 0 | AC25: 0 | AD25: 0 | AE25: 0 | AF25: 0 | AG25: 0 | AH25: 0 | AI25: 0 | AJ25: 0 | AK25: 0 | AL25: 0 | AM25: 0 | AN25: 0 | AO25: 0 | AP25: 0 | AQ25: 0 | AR25: 0 | AS25: 0 | AT25: 0 | AU25: 0 | AV25: 0 | AW25: 0 | AX25: 0 | AY25: 0 | AZ25: 0 | BA25: 0 | BB25: 0 | BC25: 0 | BD25: 0 | BE25: 0 | BF25: 0 | BG25: 0 | BH25: 0 | BI25: 0 | BJ25: 0 | BK25: 0 | BL25: 0 | BM25: 0 | BN25: 0 | BO25: 0 | BP25: 0 | BQ25: 0 | BR25: 0 | BS25: 0 | BT25: 0 | BU25: 0 | BV25: 0 | BW25: 0 | BX25: 0 | BY25: 0 | BZ25: 0 | CA25: 0 | CB25: 0 | CC25: 0 | CD25: 0 | CE25: 0 | CF25: 0 | CG25: 0 | CI25: 0 | CJ25: 0 | CK25: 48549.37 | CL25: 48549.37 | CN25: 0 | CO25: 0 | CP25: 0 | CR25: 48549.37 | CS25: =R25-CR25 -> 16450.63 | CT25: =IF(R25=0,"n/a",CR25/(R25)) -> 0.74691338
A26: %,V455000 | B26: 455000 | C26: Tuition from Individuals | D26: 0 | E26: 120941.9 | F26: 0 | G26: 0 | H26: 120941.9 | J26: 0 | K26: 0 | L26: 0 | N26: 120941.9 | P26: -155000 | Q26: 0 | R26: =-1*(P26+Q26) -> 155000 | T26: 0 | U26: 0 | V26: 0 | W26: 0 | X26: 0 | Y26: 0 | Z26: 0 | AA26: 0 | AB26: 0 | AC26: 0 | AD26: 0 | AE26: 0 | AF26: 0 | AG26: 0 | AH26: 0 | AI26: 0 | AJ26: 0 | AK26: 0 | AL26: 0 | AM26: 0 | AN26: 0 | AO26: 0 | AP26: 0 | AQ26: 0 | AR26: 0 | AS26: 0 | AT26: 0 | AU26: 0 | AV26: 0 | AW26: 0 | AX26: 0 | AY26: 0 | AZ26: 0 | BA26: 0 | BB26: 0 | BC26: 0 | BD26: 0 | BE26: 0 | BF26: 0 | BG26: 0 | BH26: 0 | BI26: 0 | BJ26: 0 | BK26: 0 | BL26: 0 | BM26: 0 | BN26: 0 | BO26: 0 | BP26: 0 | BQ26: 0 | BR26: 0 | BS26: 0 | BT26: 0 | BU26: 0 | BV26: 0 | BW26: 0 | BX26: 0 | BY26: 0 | BZ26: 0 | CA26: 0 | CB26: 0 | CC26: 0 | CD26: 0 | CE26: 0 | CF26: 0 | CG26: 0 | CI26: 0 | CJ26: 69133.8 | CK26: 0 | CL26: 69133.8 | CN26: 0 | CO26: 0 | CP26: 0 | CR26: 69133.8 | CS26: =R26-CR26 -> 85866.2 | CT26: =IF(R26=0,"n/a",CR26/(R26)) -> 0.44602452
A27: %,V456000 | B27: 456000 | C27: Tuition-Extended Day Kdgn | D27: 0 | E27: 0 | F27: 123461 | G27: 0 | H27: 123461 | J27: 0 | K27: 0 | L27: 0 | N27: 123461 | P27: -124000 | Q27: 0 | R27: =-1*(P27+Q27) -> 124000 | T27: 0 | U27: 0 | V27: 0 | W27: 0 | X27: 0 | Y27: 0 | Z27: 0 | AA27: 0 | AB27: 0 | AC27: 0 | AD27: 0 | AE27: 0 | AF27: 0 | AG27: 0 | AH27: 0 | AI27: 0 | AJ27: 0 | AK27: 0 | AL27: 0 | AM27: 0 | AN27: 0 | AO27: 0 | AP27: 0 | AQ27: 0 | AR27: 0 | AS27: 0 | AT27: 0 | AU27: 0 | AV27: 0 | AW27: 0 | AX27: 0 | AY27: 0 | AZ27: 0 | BA27: 0 | BB27: 0 | BC27: 0 | BD27: 0 | BE27: 0 | BF27: 0 | BG27: 0 | BH27: 0 | BI27: 0 | BJ27: 0 | BK27: 0 | BL27: 0 | BM27: 0 | BN27: 0 | BO27: 0 | BP27: 0 | BQ27: 0 | BR27: 0 | BS27: 0 | BT27: 0 | BU27: 0 | BV27: 0 | BW27: 0 | BX27: 0 | BY27: 0 | BZ27: 0 | CA27: 0 | CB27: 0 | CC27: 0 | CD27: 0 | CE27: 0 | CF27: 0 | CG27: 0 | CI27: 0 | CJ27: 0 | CK27: 73610 | CL27: 73610 | CN27: 0 | CO27: 0 | CP27: 0 | CR27: 73610 | CS27: =R27-CR27 -> 50390 | CT27: =IF(R27=0,"n/a",CR27/(R27)) -> 0.59362903
A28: %,V461000 | B28: 461000 | C28: Building Rental | D28: 0 | E28: 0 | F28: 13583.43 | G28: 0 | H28: 13583.43 | J28: 0 | K28: 0 | L28: 0 | N28: 13583.43 | P28: -18000 | Q28: 0 | R28: =-1*(P28+Q28) -> 18000 | T28: 0 | U28: 0 | V28: 0 | W28: 0 | X28: 0 | Y28: 0 | Z28: 0 | AA28: 0 | AB28: 0 | AC28: 0 | AD28: 0 | AE28: 0 | AF28: 0 | AG28: 0 | AH28: 0 | AI28: 0 | AJ28: 0 | AK28: 0 | AL28: 0 | AM28: 0 | AN28: 0 | AO28: 0 | AP28: 0 | AQ28: 0 | AR28: 0 | AS28: 0 | AT28: 0 | AU28: 0 | AV28: 0 | AW28: 0 | AX28: 0 | AY28: 0 | AZ28: 0 | BA28: 0 | BB28: 0 | BC28: 0 | BD28: 0 | BE28: 0 | BF28: 0 | BG28: 0 | BH28: 0 | BI28: 0 | BJ28: 0 | BK28: 0 | BL28: 0 | BM28: 0 | BN28: 0 | BO28: 0 | BP28: 0 | BQ28: 0 | BR28: 0 | BS28: 0 | BT28: 0 | BU28: 0 | BV28: 0 | BW28: 0 | BX28: 0 | BY28: 0 | BZ28: 0 | CA28: 0 | CB28: 0 | CC28: 0 | CD28: 0 | CE28: 0 | CF28: 0 | CG28: 0 | CI28: 0 | CJ28: 0 | CK28: 4830 | CL28: 4830 | CN28: 0 | CO28: 0 | CP28: 0 | CR28: 4830 | CS28: =R28-CR28 -> 13170 | CT28: =IF(R28=0,"n/a",CR28/(R28)) -> 0.26833333
A29: %,V474000 | B29: 474000 | C29: Transportation - Field Trips | D29: 47714.15 | E29: 407.85 | F29: 0 | G29: 0 | H29: 48122 | J29: 0 | K29: 0 | L29: 0 | N29: 48122 | P29: -43550 | Q29: 0 | R29: =-1*(P29+Q29) -> 43550 | T29: 0 | U29: 0 | V29: 0 | W29: 0 | X29: 0 | Y29: 0 | Z29: 0 | AA29: 0 | AB29: 0 | AC29: 0 | AD29: 0 | AE29: 0 | AF29: 0 | AG29: 0 | AH29: 0 | AI29: 0 | AJ29: 0 | AK29: 0 | AL29: 0 | AM29: 0 | AN29: 0 | AO29: 0 | AP29: 0 | AQ29: 0 | AR29: 0 | AS29: 0 | AT29: 0 | AU29: 0 | AV29: 0 | AW29: 0 | AX29: 0 | AY29: 0 | AZ29: 0 | BA29: 0 | BB29: 0 | BC29: 0 | BD29: 0 | BE29: 0 | BF29: 0 | BG29: 0 | BH29: 0 | BI29: 0 | BJ29: 0 | BK29: 0 | BL29: 0 | BM29: 0 | BN29: 0 | BO29: 0 | BP29: 0 | BQ29: 0 | BR29: 0 | BS29: 0 | BT29: 0 | BU29: 0 | BV29: 0 | BW29: 0 | BX29: 0 | BY29: 0 | BZ29: 0 | CA29: 0 | CB29: 0 | CC29: 0 | CD29: 0 | CE29: 0 | CF29: 0 | CG29: 0 | CI29: 30353 | CJ29: 0 | CK29: 0 | CL29: 30353 | CN29: 0 | CO29: 0 | CP29: 0 | CR29: 30353 | CS29: =R29-CR29 -> 13197 | CT29: =IF(R29=0,"n/a",CR29/(R29)) -> 0.696969
A30: %,V482000 | B30: 482000 | C30: Activity Revenue | D30: 25411 | E30: 0 | F30: 0 | G30: 0 | H30: 25411 | J30: 0 | K30: 0 | L30: 0 | N30: 25411 | P30: -23000 | Q30: 0 | R30: =-1*(P30+Q30) -> 23000 | T30: 0 | U30: 0 | V30: 0 | W30: 0 | X30: 0 | Y30: 0 | Z30: 0 | AA30: 0 | AB30: 0 | AC30: 0 | AD30: 0 | AE30: 0 | AF30: 0 | AG30: 0 | AH30: 0 | AI30: 0 | AJ30: 0 | AK30: 0 | AL30: 0 | AM30: 0 | AN30: 0 | AO30: 0 | AP30: 0 | AQ30: 0 | AR30: 0 | AS30: 0 | AT30: 0 | AU30: 0 | AV30: 0 | AW30: 0 | AX30: 0 | AY30: 0 | AZ30: 0 | BA30: 0 | BB30: 0 | BC30: 0 | BD30: 0 | BE30: 0 | BF30: 0 | BG30: 0 | BH30: 0 | BI30: 0 | BJ30: 0 | BK30: 0 | BL30: 0 | BM30: 0 | BN30: 0 | BO30: 0 | BP30: 0 | BQ30: 0 | BR30: 0 | BS30: 0 | BT30: 0 | BU30: 0 | BV30: 0 | BW30: 0 | BX30: 0 | BY30: 0 | BZ30: 0 | CA30: 0 | CB30: 0 | CC30: 0 | CD30: 0 | CE30: 0 | CF30: 0 | CG30: 0 | CI30: 5253.25 | CJ30: 0 | CK30: 0 | CL30: 5253.25 | CN30: 0 | CO30: 0 | CP30: 0 | CR30: 5253.25 | CS30: =R30-CR30 -> 17746.75 | CT30: =IF(R30=0,"n/a",CR30/(R30)) -> 0.22840217
A31: %,V498000 | B31: 498000 | C31: Donations | D31: 0 | E31: 0 | F31: 1988.19 | G31: 0 | H31: 1988.19 | J31: 0 | K31: 0 | L31: 0 | N31: 1988.19 | P31: -5000 | Q31: 0 | R31: =-1*(P31+Q31) -> 5000 | T31: 0 | U31: 0 | V31: 0 | W31: 0 | X31: 0 | Y31: 0 | Z31: 0 | AA31: 0 | AB31: 0 | AC31: 0 | AD31: 0 | AE31: 0 | AF31: 0 | AG31: 0 | AH31: 0 | AI31: 0 | AJ31: 0 | AK31: 0 | AL31: 0 | AM31: 0 | AN31: 0 | AO31: 0 | AP31: 0 | AQ31: 0 | AR31: 0 | AS31: 0 | AT31: 0 | AU31: 0 | AV31: 0 | AW31: 0 | AX31: 0 | AY31: 0 | AZ31: 0 | BA31: 0 | BB31: 0 | BC31: 0 | BD31: 0 | BE31: 0 | BF31: 0 | BG31: 0 | BH31: 0 | BI31: 0 | BJ31: 0 | BK31: 0 | BL31: 0 | BM31: 0 | BN31: 0 | BO31: 0 | BP31: 0 | BQ31: 0 | BR31: 0 | BS31: 0 | BT31: 0 | BU31: 0 | BV31: 0 | BW31: 0 | BX31: 0 | BY31: 0 | BZ31: 0 | CA31: 0 | CB31: 0 | CC31: 0 | CD31: 0 | CE31: 0 | CF31: 0 | CG31: 0 | CI31: 0 | CJ31: 0 | CK31: 1199 | CL31: 1199 | CN31: 0 | CO31: 0 | CP31: 0 | CR31: 1199 | CS31: =R31-CR31 -> 3801 | CT31: =IF(R31=0,"n/a",CR31/(R31)) -> 0.2398
A32: %,V499000 | B32: 499000 | C32: Miscellaneous Revenue | D32: 0 | E32: 0 | F32: 0 | G32: 0 | H32: 0 | J32: 0 | K32: 0 | L32: 0 | N32: 0 | P32: -600 | Q32: 0 | R32: =-1*(P32+Q32) -> 600 | T32: 0 | U32: 0 | V32: 0 | W32: 0 | X32: 0 | Y32: 0 | Z32: 0 | AA32: 0 | AB32: 0 | AC32: 0 | AD32: 0 | AE32: 0 | AF32: 0 | AG32: 0 | AH32: 0 | AI32: 0 | AJ32: 0 | AK32: 0 | AL32: 0 | AM32: 0 | AN32: 0 | AO32: 0 | AP32: 0 | AQ32: 0 | AR32: 0 | AS32: 0 | AT32: 0 | AU32: 0 | AV32: 0 | AW32: 0 | AX32: 0 | AY32: 0 | AZ32: 0 | BA32: 0 | BB32: 0 | BC32: 0 | BD32: 0 | BE32: 0 | BF32: 0 | BG32: 0 | BH32: 0 | BI32: 0 | BJ32: 0 | BK32: 0 | BL32: 0 | BM32: 0 | BN32: 0 | BO32: 0 | BP32: 0 | BQ32: 0 | BR32: 0 | BS32: 0 | BT32: 0 | BU32: 0 | BV32: 0 | BW32: 0 | BX32: 0 | BY32: 0 | BZ32: 0 | CA32: 0 | CB32: 0 | CC32: 0 | CD32: 0 | CE32: 0 | CF32: 0 | CG32: 0 | CI32: 0 | CJ32: 0 | CK32: 4 | CL32: 4 | CN32: 0 | CO32: 0 | CP32: 0 | CR32: 4 | CS32: =R32-CR32 -> 596 | CT32: =IF(R32=0,"n/a",CR32/(R32)) -> 0.0066666667
A33: %,V950500 | B33: 950500 | C33: State Intercept Bond Transfer | D33: 0 | E33: 0 | F33: -283531.87 | G33: 0 | H33: -283531.87 | J33: -182038.08 | K33: 0 | L33: -182038.08 | N33: -465569.95 | P33: 0 | Q33: 0 | R33: -467155.04 | T33: 0 | U33: 0 | V33: 0 | W33: 0 | X33: 0 | Y33: 0 | Z33: 0 | AA33: 0 | AB33: 0 | AC33: 0 | AD33: 0 | AE33: 0 | AF33: 0 | AG33: 0 | AH33: 0 | AI33: 0 | AJ33: 0 | AK33: 0 | AL33: 0 | AM33: 0 | AN33: 0 | AO33: 0 | AP33: 0 | AQ33: 0 | AR33: 0 | AS33: 0 | AT33: 0 | AU33: 0 | AV33: 0 | AW33: 0 | AX33: 0 | AY33: 0 | AZ33: 0 | BA33: 0 | BB33: 0 | BC33: 0 | BD33: 0 | BE33: 0 | BF33: 0 | BG33: 0 | BH33: 0 | BI33: 0 | BJ33: 0 | BK33: 0 | BL33: 0 | BM33: 0 | BN33: 0 | BO33: 0 | BP33: 0 | BQ33: 0 | BR33: 0 | BS33: 0 | BT33: 0 | BU33: 0 | BV33: 0 | BW33: 0 | BX33: 0 | BY33: 0 | BZ33: 0 | CA33: 0 | CB33: 0 | CC33: 0 | CD33: 0 | CE33: 0 | CF33: 0 | CG33: 0 | CI33: 0 | CJ33: 0 | CK33: -129187.81 | CL33: -129187.81 | CN33: -101106.78 | CO33: 0 | CP33: -101106.78 | CR33: -230294.59 | CS33: =R33-CR33 -> -236860.45 | CT33: =IF(R33=0,"n/a",CR33/(R33)) -> 0.4929725
A34: %,R,FACCOUNT,TACCOUNT_ROLLUP,X,NREVENUE | C34: Revenues | D34: 103937.4 | E34: 121549.75 | F34: 6187233.7 | G34: 300 | H34: 6413020.8 | J34: 0 | K34: 471487.35 | L34: 471487.35 | N34: 6884508.2 | P34: -7329794 | Q34: 0 | R34: =-1*(P34+Q34) -> 7329794 | T34: 0 | U34: 0 | V34: 0 | W34: 0 | X34: 0 | Y34: 0 | Z34: 0 | AA34: 0 | AB34: 0 | AC34: 0 | AD34: 0 | AE34: 0 | AF34: 0 | AG34: 0 | AH34: 0 | AI34: 0 | AJ34: 0 | AK34: 0 | AL34: 0 | AM34: 0 | AN34: 0 | AO34: 0 | AP34: 0 | AQ34: 0 | AR34: 0 | AS34: 0 | AT34: 0 | AU34: 0 | AV34: 0 | AW34: 0 | AX34: 0 | AY34: 0 | AZ34: 0 | BA34: 0 | BB34: 0 | BC34: 0 | BD34: 0 | BE34: 0 | BF34: 0 | BG34: 0 | BH34: 0 | BI34: 0 | BJ34: 0 | BK34: 0 | BL34: 0 | BM34: 0 | BN34: 0 | BO34: 0 | BP34: 0 | BQ34: 0 | BR34: 0 | BS34: 0 | BT34: 0 | BU34: 0 | BV34: 0 | BW34: 0 | BX34: 0 | BY34: 0 | BZ34: 0 | CA34: 0 | CB34: 0 | CC34: 0 | CD34: 0 | CE34: 0 | CF34: 0 | CG34: 0 | CI34: 45671.69 | CJ34: 69133.8 | CK34: 3351266.1 | CL34: 3466071.6 | CN34: -33702.26 | CO34: 233216.78 | CP34: 199514.52 | CR34: 3665586.1 | CS34: =R34-CR34 -> 3664207.9 | CT34: =IF(R34=0,"n/a",CR34/(R34)) -> 0.50009402
A36: %,C | C36: Available | D36: =D11+D34 -> 103937.4 | E36: =E11+E34 -> 121549.75 | F36: =F11+F34 -> 6187233.7 | G36: =G11+G34 -> 300 | H36: =H11+H34 -> 9058424.5 | J36: =J11+J34 -> 0 | K36: =K11+K34 -> 471487.35 | L36: =L11+L34 -> 471487.35 | N36: =N11+N34 -> 9529911.9 | R36: =R11+R34 -> 7329794 | CI36: =CI11+CI34 -> 108329.18 | CJ36: =CJ11+CJ34 -> 174664.31 | CK36: =CK11+CK34 -> 5281544.3 | CL36: =CL11+CL34 -> 5564537.8 | CN36: =CN11+CN34 -> -33702.26 | CO36: =CO11+CO34 -> 1021781.2 | CP36: =CP11+CP34 -> 988078.97 | CR36: =CR11+CR34 -> 6552616.8 | CS36: =CS11+CS34 -> 3664207.9 | CT36: =IF(R36=0,"n/a",CR36/(R36)) -> 0.89397011
A38: %,V512100 | B38: 512100 | C38: Principal | D38: 0 | E38: 0 | F38: 113537.25 | G38: 0 | H38: 113537.25 | J38: 0 | K38: 0 | L38: 0 | N38: 0 | P38: 0 | Q38: 0 | T38: 112200 | U38: 0 | V38: 0 | W38: 0 | X38: 0 | Y38: 0 | Z38: 0 | AA38: 0 | AB38: 0 | AC38: 0 | AD38: 0 | AE38: 0 | AF38: 0 | AG38: 0 | AH38: 0 | AI38: 0 | AJ38: 0 | AK38: 0 | AL38: 0 | AM38: 0 | AN38: 0 | AO38: 0 | AP38: 0 | AQ38: 0 | AR38: 0 | AS38: 0 | AT38: 0 | AU38: 0 | AV38: 0 | AW38: 0 | AX38: 0 | AY38: 0 | AZ38: 0 | BA38: 0 | BB38: 0 | BC38: 0 | BD38: 0 | BE38: 0 | BF38: 0 | BG38: 0 | BH38: 0 | BI38: 0 | BJ38: 0 | BK38: 0 | BL38: 0 | BM38: 0 | BN38: 0 | BO38: 0 | BP38: 0 | BQ38: 0 | BR38: 0 | BS38: 0 | BT38: 0 | BU38: 0 | BV38: 0 | BW38: 0 | BX38: 0 | BY38: 0 | BZ38: 0 | CA38: 0 | CB38: 0 | CC38: 0 | CD38: 0 | CE38: 0 | CF38: 0 | CG38: 0 | CI38: 0 | CJ38: 0 | CK38: 37216.67 | CL38: 0 | CN38: 0 | CO38: 0 | CP38: 0 | CR38: 0 | CS38: =CG38-CR38 -> 0 | CT38: =IF(CG38=0,"n/a",CR38/(CG38)) -> n/a
A39: %,V513100 | B39: 513100 | C39: Assistant Principal | D39: 0 | E39: 0 | F39: 163422.01 | G39: 0 | H39: 163422.01 | J39: 0 | K39: 0 | L39: 0 | N39: 0 | P39: 0 | Q39: 0 | T39: 0 | U39: 159000 | V39: 0 | W39: 0 | X39: 0 | Y39: 0 | Z39: 0 | AA39: 0 | AB39: 0 | AC39: 0 | AD39: 0 | AE39: 0 | AF39: 0 | AG39: 0 | AH39: 0 | AI39: 0 | AJ39: 0 | AK39: 0 | AL39: 0 | AM39: 0 | AN39: 0 | AO39: 0 | AP39: 0 | AQ39: 0 | AR39: 0 | AS39: 0 | AT39: 0 | AU39: 0 | AV39: 0 | AW39: 0 | AX39: 0 | AY39: 0 | AZ39: 0 | BA39: 0 | BB39: 0 | BC39: 0 | BD39: 0 | BE39: 0 | BF39: 0 | BG39: 0 | BH39: 0 | BI39: 0 | BJ39: 0 | BK39: 0 | BL39: 0 | BM39: 0 | BN39: 0 | BO39: 0 | BP39: 0 | BQ39: 0 | BR39: 0 | BS39: 0 | BT39: 0 | BU39: 0 | BV39: 0 | BW39: 0 | BX39: 0 | BY39: 0 | BZ39: 0 | CA39: 0 | CB39: 0 | CC39: 0 | CD39: 0 | CE39: 0 | CF39: 0 | CG39: 0 | CI39: 0 | CJ39: 0 | CK39: 52569.67 | CL39: 0 | CN39: 0 | CO39: 0 | CP39: 0 | CR39: 0 | CS39: =CG39-CR39 -> 0 | CT39: =IF(CG39=0,"n/a",CR39/(CG39)) -> n/a
B40: 512100-513400 | C40: Admistration | N40: 276959.26 | CG40: 271200 | CL40: 89786.34 | CP40: 0 | CR40: 89786.34 | CS40: =CG40-CR40 -> 181413.66 | CT40: =IF(CG40=0,"n/a",CR40/(CG40)) -> 0.33107058
A41: %,V521100 | B41: 521100 | C41: Teacher | D41: 6666.64 | E41: 42956.25 | F41: 1985260.7 | G41: 0 | H41: 2034883.6 | J41: 0 | K41: 0 | L41: 0 | N41: 2034883.6 | P41: 0 | Q41: 0 | T41: 0 | U41: 0 | V41: 2070346 | W41: 0 | X41: 0 | Y41: 0 | Z41: 0 | AA41: 0 | AB41: 0 | AC41: 0 | AD41: 0 | AE41: 0 | AF41: 0 | AG41: 0 | AH41: 0 | AI41: 0 | AJ41: 0 | AK41: 0 | AL41: 0 | AM41: 0 | AN41: 0 | AO41: 0 | AP41: 0 | AQ41: 0 | AR41: 0 | AS41: 0 | AT41: 0 | AU41: 0 | AV41: 0 | AW41: 0 | AX41: 0 | AY41: 0 | AZ41: 0 | BA41: 0 | BB41: 0 | BC41: 0 | BD41: 0 | BE41: 0 | BF41: 0 | BG41: 0 | BH41: 0 | BI41: 0 | BJ41: 0 | BK41: 0 | BL41: 0 | BM41: 0 | BN41: 0 | BO41: 0 | BP41: 0 | BQ41: 0 | BR41: 0 | BS41: 0 | BT41: 0 | BU41: 0 | BV41: 0 | BW41: 0 | BX41: 0 | BY41: 0 | BZ41: 0 | CA41: 0 | CB41: 0 | CC41: 0 | CD41: 0 | CE41: 0 | CF41: 0 | CG41: 2070346 | CI41: 2499.99 | CJ41: 16391.58 | CK41: 653768.9 | CL41: 672660.47 | CN41: 0 | CO41: 0 | CP41: 0 | CR41: 672660.47 | CS41: =CG41-CR41 -> 1397685.5 | CT41: =IF(CG41=0,"n/a",CR41/(CG41)) -> 0.32490244
A42: %,V521900 | B42: 521900 | C42: Substitute Teacher | D42: 1850 | E42: 3765.61 | F42: 44292.5 | G42: 0 | H42: 49908.11 | J42: 0 | K42: 0 | L42: 0 | N42: 49908.11 | P42: 0 | Q42: 0 | T42: 0 | U42: 0 | V42: 0 | W42: 35000 | X42: 0 | Y42: 0 | Z42: 0 | AA42: 0 | AB42: 0 | AC42: 0 | AD42: 0 | AE42: 0 | AF42: 0 | AG42: 0 | AH42: 0 | AI42: 0 | AJ42: 0 | AK42: 0 | AL42: 0 | AM42: 0 | AN42: 0 | AO42: 0 | AP42: 0 | AQ42: 0 | AR42: 0 | AS42: 0 | AT42: 0 | AU42: 0 | AV42: 0 | AW42: 0 | AX42: 0 | AY42: 0 | AZ42: 0 | BA42: 0 | BB42: 0 | BC42: 0 | BD42: 0 | BE42: 0 | BF42: 0 | BG42: 0 | BH42: 0 | BI42: 0 | BJ42: 0 | BK42: 0 | BL42: 0 | BM42: 0 | BN42: 0 | BO42: 0 | BP42: 0 | BQ42: 0 | BR42: 0 | BS42: 0 | BT42: 0 | BU42: 0 | BV42: 0 | BW42: 0 | BX42: 0 | BY42: 0 | BZ42: 0 | CA42: 0 | CB42: 0 | CC42: 0 | CD42: 0 | CE42: 0 | CF42: 0 | CG42: 35000 | CI42: 1800 | CJ42: 0 | CK42: 5000 | CL42: 6800 | CN42: 0 | CO42: 0 | CP42: 0 | CR42: 6800 | CS42: =CG42-CR42 -> 28200 | CT42: =IF(CG42=0,"n/a",CR42/(CG42)) -> 0.19428571
A43: %,V522100 | B43: 522100 | C43: Counselor | D43: 0 | E43: 0 | F43: 0 | G43: 0 | H43: 0 | J43: 0 | K43: 0 | L43: 0 | N43: 0 | P43: 0 | Q43: 0 | T43: 0 | U43: 0 | V43: 0 | W43: 0 | X43: 24000 | Y43: 0 | Z43: 0 | AA43: 0 | AB43: 0 | AC43: 0 | AD43: 0 | AE43: 0 | AF43: 0 | AG43: 0 | AH43: 0 | AI43: 0 | AJ43: 0 | AK43: 0 | AL43: 0 | AM43: 0 | AN43: 0 | AO43: 0 | AP43: 0 | AQ43: 0 | AR43: 0 | AS43: 0 | AT43: 0 | AU43: 0 | AV43: 0 | AW43: 0 | AX43: 0 | AY43: 0 | AZ43: 0 | BA43: 0 | BB43: 0 | BC43: 0 | BD43: 0 | BE43: 0 | BF43: 0 | BG43: 0 | BH43: 0 | BI43: 0 | BJ43: 0 | BK43: 0 | BL43: 0 | BM43: 0 | BN43: 0 | BO43: 0 | BP43: 0 | BQ43: 0 | BR43: 0 | BS43: 0 | BT43: 0 | BU43: 0 | BV43: 0 | BW43: 0 | BX43: 0 | BY43: 0 | BZ43: 0 | CA43: 0 | CB43: 0 | CC43: 0 | CD43: 0 | CE43: 0 | CF43: 0 | CG43: 24000 | CI43: 0 | CJ43: 0 | CK43: 5849.34 | CL43: 5849.34 | CN43: 0 | CO43: 0 | CP43: 0 | CR43: 5849.34 | CS43: =CG43-CR43 -> 18150.66 | CT43: =IF(CG43=0,"n/a",CR43/(CG43)) -> 0.2437225
A44: %,V522200 | B44: 522200 | C44: Teacher Librarian | D44: 0 | E44: 0 | F44: 48372 | G44: 0 | H44: 48372 | J44: 0 | K44: 0 | L44: 0 | N44: 48372 | P44: 0 | Q44: 0 | T44: 0 | U44: 0 | V44: 0 | W44: 0 | X44: 0 | Y44: 50000 | Z44: 0 | AA44: 0 | AB44: 0 | AC44: 0 | AD44: 0 | AE44: 0 | AF44: 0 | AG44: 0 | AH44: 0 | AI44: 0 | AJ44: 0 | AK44: 0 | AL44: 0 | AM44: 0 | AN44: 0 | AO44: 0 | AP44: 0 | AQ44: 0 | AR44: 0 | AS44: 0 | AT44: 0 | AU44: 0 | AV44: 0 | AW44: 0 | AX44: 0 | AY44: 0 | AZ44: 0 | BA44: 0 | BB44: 0 | BC44: 0 | BD44: 0 | BE44: 0 | BF44: 0 | BG44: 0 | BH44: 0 | BI44: 0 | BJ44: 0 | BK44: 0 | BL44: 0 | BM44: 0 | BN44: 0 | BO44: 0 | BP44: 0 | BQ44: 0 | BR44: 0 | BS44: 0 | BT44: 0 | BU44: 0 | BV44: 0 | BW44: 0 | BX44: 0 | BY44: 0 | BZ44: 0 | CA44: 0 | CB44: 0 | CC44: 0 | CD44: 0 | CE44: 0 | CF44: 0 | CG44: 50000 | CI44: 0 | CJ44: 0 | CK44: 15905.97 | CL44: 15905.97 | CN44: 0 | CO44: 0 | CP44: 0 | CR44: 15905.97 | CS44: =CG44-CR44 -> 34094.03 | CT44: =IF(CG44=0,"n/a",CR44/(CG44)) -> 0.3181194
...

Sheet Projections
B1: %,AFF,FACCOUNT | C1: %,AFT,FDESCR | D1: %,VCA020 | E1: %,VCC020 | F1: %,VGF020 | G1: %,VGS020 | H1: %,LACTUALS,SALLYEAR-1,FFUND_CODE,X,VCA020,VFS020,VGF020,VGS020,VIR020,VCC020 | J1: %,VCR020 | K1: %,VDS020 | L1: %,LACTUALS,SALLYEAR-1,FFUND_CODE,X,VCR020,VDS020 | N1: %,LACTUALS,SALLYEAR-1 | P1: %,LREVEST_BD,UPOSTED_TOTAL_AMT,SADJBAL,FACCOUNT,TACCOUNT_ROLLUP,NREVENUE | Q1: %,LORG_BD,UPOSTED_TOTAL_AMT,SADJBAL,R,FACCOUNT,TACCOUNT_ROLLUP,XDYYNYN00,NTRANSFERS | R1: %,C | T1: %,V512100 | U1: %,V513100 | V1: %,V521100 | W1: %,V521900 | X1: %,V522100 | Y1: %,V522200 | Z1: %,V524200 | AA1: %,V526200 | AB1: %,V529200 | AC1: %,V529400 | AD1: %,V529500 | AE1: %,V529600 | AF1: %,V529800 | AG1: %,V552100 | AH1: %,V557100 | AI1: %,V557600 | AJ1: %,V591100 | AK1: %,V599400 | AL1: %,V599810 | AM1: %,V599820 | AN1: %,V599830 | AO1: %,V699000 | AP1: %,V701000 | AQ1: %,V702000 | AR1: %,V708000 | AS1: %,V710000 | AT1: %,V713000 | AU1: %,V715000 | AV1: %,V721000 | AW1: %,V723000 | AX1: %,V731000 | AY1: %,V743000 | AZ1: %,V745000 | BA1: %,V745500 | BB1: %,V746000 | BC1: %,V752000 | BD1: %,V761000 | BE1: %,V764000 | BF1: %,V765000 | BG1: %,V766000 | BH1: %,V768000 | BI1: %,V769000 | BJ1: %,V770000 | BK1: %,V770800 | BL1: %,V781000 | BM1: %,V781500 | BN1: %,V804000 | BO1: %,V805000 | BP1: %,V806000 | BQ1: %,V810000 | BR1: %,V810001 | BS1: %,V812000 | BT1: %,V814000 | BU1: %,V820000 | BV1: %,V820001 | BW1: %,V822000 | BX1: %,V823000 | BY1: %,V824000 | BZ1: %,V826000 | CA1: %,V840000 | CB1: %,V870000 | CC1: %,V885000 | CD1: %,V889000 | CE1: %,V930000 | CF1: %,V950000 | CG1: %,LORG_BD,UPOSTED_TOTAL_AMT,SADJBAL,R,FACCOUNT,TACCOUNT_ROLLUP,XDYYNYN00,NEXPENDITURE | CI1: %,VCA020 | CJ1: %,VCC020 | CK1: %,VGF020 | CL1: %,LACTUALS,SYTD,FFUND_CODE,X,VCA020,VFS020,VGF020,VGS020,VIR020,VCC020 | CN1: %,VCR020 | CO1: %,VDS020 | CP1: %,LACTUALS,SYTD,FFUND_CODE,X,VCR020,VDS020 | CR1: %,LACTUALS,SYTD | CS1: %,C | CT1: %,C
B2: Jefferson County Public Schools | CX2: 558OPC
B3: Charter Schools
B4: Lincoln Academy Charter School | CX4: 43404
B5: ="Report ID: "&CX2 -> Report ID: 558OPC | CW5: 55800
B6: For Accounting Period: | CW6: Lincoln Academy Charter School
B7: 43404
A8: %,ATF,FFUND_CODE | B8: Account | D8: CA020 | E8: CC020 | F8: GF020 | G8: GS020 | H8: Prior Year | J8: CR020 | K8: DS020 | L8: Prior Year | N8: Prior Year | CI8: CA020 | CJ8: CC020 | CK8: GF020 | CL8: Current Year | CN8: CR020 | CO8: DS020 | CP8: Current Year | CR8: Current Year
A9: %,ATF,FDESCR | B9: Number | C9: Description | D9: Charter School Campus Activity | E9: Charter School Child Care Fund | F9: Charter School General Fund | G9: Charter School Grant Fund | H9: Operational Funds | J9: Charter School Capital Reserve | K9: Charter School Debt Service | L9: Capital Funds | N9: Total | R9: Estimated Revenue | T9: Principal | U9: Assistant Principal | V9: Teacher | W9: Substitute Teacher | X9: Counselor | Y9: Teacher Librarian | Z9: Coordinator - Classified | AA9: Instructional Coach | AB9: Occupational Therapist | AC9: Nurse | AD9: Psychologist | AE9: Social Worker | AF9: Speech Therapist | AG9: School Secretary | AH9: Paraprofessional | AI9: Clinic Aides | AJ9: Custodian | AK9: Unused Sick Leave | AL9: Additional Pay - Certificated | AM9: Additional Pay-Classified | AN9: Additional Pay-Administrative | AO9: Employee Benefits | AP9: Mileage And Travel | AQ9: Employee Training & Conf | AR9: Employee Background Verificatn | AS9: Meals/Refreshments | AT9: Student Transportation | AU9: Student Admission/Entry Fees | AV9: Legal Fees | AW9: Printing | AX9: Contracted Services | AY9: Equipment Rental | AZ9: Contract Maint/Eq Repair | BA9: Technology Services | BB9: Const Maint/Repair-Bldg | BC9: Marketing - Advertising | BD9: Natural Gas | BE9: Electricity | BF9: Voice Communication Line | BG9: Water & Sanitation | BH9: Postage | BI9: Permits/Licenses/Fees | BJ9: Risk Management Charges | BK9: Unemployment Comp Insur | BL9: Lease Purch-Other-Principal | BM9: Lease Purch-Other-Interest | BN9: Fund Raising | BO9: Materials/Supplies-Other | BP9: Materials/Supplies Resale | BQ9: Office Material/Supplies | BR9: Office Equipment - Under $5K | BS9: Clinic Supplies/Materials | BT9: Custodial Supplies | BU9: Instructional Material/Supply | BV9: Instructional Equip-Under $5K | BW9: Textbooks | BX9: Copier Usage | BY9: Testing Materials | BZ9: Graduation Materials | CA9: Maint Materials/Supplies | CB9: Library Materials | CC9: Miscellaneous Expense | CD9: Consumable Supplies | CE9: Building Improvements | CF9: Transfers | CG9: Budget | CI9: Charter School Campus Activity | CJ9: Charter School Child Care Fund | CK9: Charter School General Fund | CL9: Operational Funds | CN9: Charter School Capital Reserve | CO9: Charter School Debt Service | CP9: Capital Funds | CR9: Total | CS9: Variance | CT9: Percent Spent
C11: Prior Year Carryforward | H11: 2645403.7 | N11: 2645403.7 | CL11: 2098466.2 | CP11: 788564.45 | CR11: 2887030.6
A13: %,V401000 | B13: 401000 | C13: Commissions/Profits | D13: 2523.56 | E13: 0 | F13: 13189.65 | G13: 0 | H13: 15713.21 | J13: 0 | K13: 0 | L13: 0 | N13: 15713.21 | P13: -18000 | Q13: 0 | R13: =-1*(P13+Q13) -> 18000 | T13: 0 | U13: 0 | V13: 0 | W13: 0 | X13: 0 | Y13: 0 | Z13: 0 | AA13: 0 | AB13: 0 | AC13: 0 | AD13: 0 | AE13: 0 | AF13: 0 | AG13: 0 | AH13: 0 | AI13: 0 | AJ13: 0 | AK13: 0 | AL13: 0 | AM13: 0 | AN13: 0 | AO13: 0 | AP13: 0 | AQ13: 0 | AR13: 0 | AS13: 0 | AT13: 0 | AU13: 0 | AV13: 0 | AW13: 0 | AX13: 0 | AY13: 0 | AZ13: 0 | BA13: 0 | BB13: 0 | BC13: 0 | BD13: 0 | BE13: 0 | BF13: 0 | BG13: 0 | BH13: 0 | BI13: 0 | BJ13: 0 | BK13: 0 | BL13: 0 | BM13: 0 | BN13: 0 | BO13: 0 | BP13: 0 | BQ13: 0 | BR13: 0 | BS13: 0 | BT13: 0 | BU13: 0 | BV13: 0 | BW13: 0 | BX13: 0 | BY13: 0 | BZ13: 0 | CA13: 0 | CB13: 0 | CC13: 0 | CD13: 0 | CE13: 0 | CF13: 0 | CG13: 0 | CI13: 576.19 | CJ13: 0 | CK13: 1799.62 | CL13: 2375.81 | CN13: 0 | CO13: 0 | CP13: 0 | CR13: 2375.81 | CS13: =R13-CR13 -> 15624.19 | CT13: =IF(R13=0,"n/a",CR13/(R13)) -> 0.13198944
A14: %,V401400 | B14: 401400 | C14: Ticket Sales | D14: 1372 | E14: 0 | F14: 0 | G14: 0 | H14: 1372 | J14: 0 | K14: 0 | L14: 0 | N14: 1372 | P14: -1250 | Q14: 0 | R14: =-1*(P14+Q14) -> 1250 | T14: 0 | U14: 0 | V14: 0 | W14: 0 | X14: 0 | Y14: 0 | Z14: 0 | AA14: 0 | AB14: 0 | AC14: 0 | AD14: 0 | AE14: 0 | AF14: 0 | AG14: 0 | AH14: 0 | AI14: 0 | AJ14: 0 | AK14: 0 | AL14: 0 | AM14: 0 | AN14: 0 | AO14: 0 | AP14: 0 | AQ14: 0 | AR14: 0 | AS14: 0 | AT14: 0 | AU14: 0 | AV14: 0 | AW14: 0 | AX14: 0 | AY14: 0 | AZ14: 0 | BA14: 0 | BB14: 0 | BC14: 0 | BD14: 0 | BE14: 0 | BF14: 0 | BG14: 0 | BH14: 0 | BI14: 0 | BJ14: 0 | BK14: 0 | BL14: 0 | BM14: 0 | BN14: 0 | BO14: 0 | BP14: 0 | BQ14: 0 | BR14: 0 | BS14: 0 | BT14: 0 | BU14: 0 | BV14: 0 | BW14: 0 | BX14: 0 | BY14: 0 | BZ14: 0 | CA14: 0 | CB14: 0 | CC14: 0 | CD14: 0 | CE14: 0 | CF14: 0 | CG14: 0 | CI14: 0 | CJ14: 0 | CK14: 0 | CL14: 0 | CN14: 0 | CO14: 0 | CP14: 0 | CR14: 0 | CS14: =R14-CR14 -> 1250 | CT14: =IF(R14=0,"n/a",CR14/(R14)) -> 0
A15: %,V408000 | B15: 408000 | C15: Resale | D15: 17863.84 | E15: 0 | F15: 0 | G15: 0 | H15: 17863.84 | J15: 0 | K15: 0 | L15: 0 | N15: 17863.84 | P15: -18797 | Q15: 0 | R15: =-1*(P15+Q15) -> 18797 | T15: 0 | U15: 0 | V15: 0 | W15: 0 | X15: 0 | Y15: 0 | Z15: 0 | AA15: 0 | AB15: 0 | AC15: 0 | AD15: 0 | AE15: 0 | AF15: 0 | AG15: 0 | AH15: 0 | AI15: 0 | AJ15: 0 | AK15: 0 | AL15: 0 | AM15: 0 | AN15: 0 | AO15: 0 | AP15: 0 | AQ15: 0 | AR15: 0 | AS15: 0 | AT15: 0 | AU15: 0 | AV15: 0 | AW15: 0 | AX15: 0 | AY15: 0 | AZ15: 0 | BA15: 0 | BB15: 0 | BC15: 0 | BD15: 0 | BE15: 0 | BF15: 0 | BG15: 0 | BH15: 0 | BI15: 0 | BJ15: 0 | BK15: 0 | BL15: 0 | BM15: 0 | BN15: 0 | BO15: 0 | BP15: 0 | BQ15: 0 | BR15: 0 | BS15: 0 | BT15: 0 | BU15: 0 | BV15: 0 | BW15: 0 | BX15: 0 | BY15: 0 | BZ15: 0 | CA15: 0 | CB15: 0 | CC15: 0 | CD15: 0 | CE15: 0 | CF15: 0 | CG15: 0 | CI15: 5933.44 | CJ15: 0 | CK15: 5 | CL15: 5938.44 | CN15: 0 | CO15: 0 | CP15: 0 | CR15: 5938.44 | CS15: =R15-CR15 -> 12858.56 | CT15: =IF(R15=0,"n/a",CR15/(R15)) -> 0.31592488
A16: %,V409000 | B16: 409000 | C16: Sales-Fund Raising | D16: 8892.85 | E16: 200 | F16: 2096.02 | G16: 0 | H16: 11188.87 | J16: 0 | K16: 0 | L16: 0 | N16: 11188.87 | P16: -8680 | Q16: 0 | R16: =-1*(P16+Q16) -> 8680 | T16: 0 | U16: 0 | V16: 0 | W16: 0 | X16: 0 | Y16: 0 | Z16: 0 | AA16: 0 | AB16: 0 | AC16: 0 | AD16: 0 | AE16: 0 | AF16: 0 | AG16: 0 | AH16: 0 | AI16: 0 | AJ16: 0 | AK16: 0 | AL16: 0 | AM16: 0 | AN16: 0 | AO16: 0 | AP16: 0 | AQ16: 0 | AR16: 0 | AS16: 0 | AT16: 0 | AU16: 0 | AV16: 0 | AW16: 0 | AX16: 0 | AY16: 0 | AZ16: 0 | BA16: 0 | BB16: 0 | BC16: 0 | BD16: 0 | BE16: 0 | BF16: 0 | BG16: 0 | BH16: 0 | BI16: 0 | BJ16: 0 | BK16: 0 | BL16: 0 | BM16: 0 | BN16: 0 | BO16: 0 | BP16: 0 | BQ16: 0 | BR16: 0 | BS16: 0 | BT16: 0 | BU16: 0 | BV16: 0 | BW16: 0 | BX16: 0 | BY16: 0 | BZ16: 0 | CA16: 0 | CB16: 0 | CC16: 0 | CD16: 0 | CE16: 0 | CF16: 0 | CG16: 0 | CI16: 3555.81 | CJ16: 0 | CK16: 0 | CL16: 3555.81 | CN16: 0 | CO16: 0 | CP16: 0 | CR16: 3555.81 | CS16: =R16-CR16 -> 5124.19 | CT16: =IF(R16=0,"n/a",CR16/(R16)) -> 0.40965553
A17: %,V411000 | B17: 411000 | C17: Prop Tax-Mill Levy Override | D17: 0 | E17: 0 | F17: 961827.16 | G17: 0 | H17: 961827.16 | J17: 0 | K17: 0 | L17: 0 | N17: 961827.16 | P17: -973789 | Q17: 0 | R17: 979418.16 | T17: 0 | U17: 0 | V17: 0 | W17: 0 | X17: 0 | Y17: 0 | Z17: 0 | AA17: 0 | AB17: 0 | AC17: 0 | AD17: 0 | AE17: 0 | AF17: 0 | AG17: 0 | AH17: 0 | AI17: 0 | AJ17: 0 | AK17: 0 | AL17: 0 | AM17: 0 | AN17: 0 | AO17: 0 | AP17: 0 | AQ17: 0 | AR17: 0 | AS17: 0 | AT17: 0 | AU17: 0 | AV17: 0 | AW17: 0 | AX17: 0 | AY17: 0 | AZ17: 0 | BA17: 0 | BB17: 0 | BC17: 0 | BD17: 0 | BE17: 0 | BF17: 0 | BG17: 0 | BH17: 0 | BI17: 0 | BJ17: 0 | BK17: 0 | BL17: 0 | BM17: 0 | BN17: 0 | BO17: 0 | BP17: 0 | BQ17: 0 | BR17: 0 | BS17: 0 | BT17: 0 | BU17: 0 | BV17: 0 | BW17: 0 | BX17: 0 | BY17: 0 | BZ17: 0 | CA17: 0 | CB17: 0 | CC17: 0 | CD17: 0 | CE17: 0 | CF17: 0 | CG17: 0 | CI17: 0 | CJ17: 0 | CK17: 491847.59 | CL17: 491847.59 | CN17: 0 | CO17: 0 | CP17: 0 | CR17: 491847.59 | CS17: =R17-CR17 -> 487570.57 | CT17: =IF(R17=0,"n/a",CR17/(R17)) -> 0.50218345
A18: %,V415000 | B18: 415000 | C18: Earnings On Investments | D18: 0 | E18: 0 | F18: 0 | G18: 0 | H18: 0 | J18: 0 | K18: 5917.4 | L18: 5917.4 | N18: 5917.4 | P18: -3800 | Q18: 0 | R18: =-1*(P18+Q18) -> 3800 | T18: 0 | U18: 0 | V18: 0 | W18: 0 | X18: 0 | Y18: 0 | Z18: 0 | AA18: 0 | AB18: 0 | AC18: 0 | AD18: 0 | AE18: 0 | AF18: 0 | AG18: 0 | AH18: 0 | AI18: 0 | AJ18: 0 | AK18: 0 | AL18: 0 | AM18: 0 | AN18: 0 | AO18: 0 | AP18: 0 | AQ18: 0 | AR18: 0 | AS18: 0 | AT18: 0 | AU18: 0 | AV18: 0 | AW18: 0 | AX18: 0 | AY18: 0 | AZ18: 0 | BA18: 0 | BB18: 0 | BC18: 0 | BD18: 0 | BE18: 0 | BF18: 0 | BG18: 0 | BH18: 0 | BI18: 0 | BJ18: 0 | BK18: 0 | BL18: 0 | BM18: 0 | BN18: 0 | BO18: 0 | BP18: 0 | BQ18: 0 | BR18: 0 | BS18: 0 | BT18: 0 | BU18: 0 | BV18: 0 | BW18: 0 | BX18: 0 | BY18: 0 | BZ18: 0 | CA18: 0 | CB18: 0 | CC18: 0 | CD18: 0 | CE18: 0 | CF18: 0 | CG18: 0 | CI18: 0 | CJ18: 0 | CK18: 0 | CL18: 0 | CN18: 0 | CO18: 2922.19 | CP18: 2922.19 | CR18: 2922.19 | CS18: =R18-CR18 -> 877.81 | CT18: =IF(R18=0,"n/a",CR18/(R18)) -> 0.76899737
A19: %,V419000 | B19: 419000 | C19: Other Revenue | D19: 160 | E19: 0 | F19: 29992.21 | G19: 300 | H19: 30452.21 | J19: 0 | K19: 0 | L19: 0 | N19: 30452.21 | P19: -31815 | Q19: 0 | R19: =-1*(P19+Q19) -> 31815 | T19: 0 | U19: 0 | V19: 0 | W19: 0 | X19: 0 | Y19: 0 | Z19: 0 | AA19: 0 | AB19: 0 | AC19: 0 | AD19: 0 | AE19: 0 | AF19: 0 | AG19: 0 | AH19: 0 | AI19: 0 | AJ19: 0 | AK19: 0 | AL19: 0 | AM19: 0 | AN19: 0 | AO19: 0 | AP19: 0 | AQ19: 0 | AR19: 0 | AS19: 0 | AT19: 0 | AU19: 0 | AV19: 0 | AW19: 0 | AX19: 0 | AY19: 0 | AZ19: 0 | BA19: 0 | BB19: 0 | BC19: 0 | BD19: 0 | BE19: 0 | BF19: 0 | BG19: 0 | BH19: 0 | BI19: 0 | BJ19: 0 | BK19: 0 | BL19: 0 | BM19: 0 | BN19: 0 | BO19: 0 | BP19: 0 | BQ19: 0 | BR19: 0 | BS19: 0 | BT19: 0 | BU19: 0 | BV19: 0 | BW19: 0 | BX19: 0 | BY19: 0 | BZ19: 0 | CA19: 0 | CB19: 0 | CC19: 0 | CD19: 0 | CE19: 0 | CF19: 0 | CG19: 0 | CI19: 0 | CJ19: 0 | CK19: 4.5 | CL19: 4.5 | CN19: 0 | CO19: 0 | CP19: 0 | CR19: 4.5 | CS19: =R19-CR19 -> 31810.5 | CT19: =IF(R19=0,"n/a",CR19/(R19)) -> 0.00014144272
A20: %,V433000 | B20: 433000 | C20: State Revenue - Other | D20: 0 | E20: 0 | F20: 1657.17 | G20: 0 | H20: 1657.17 | J20: 182038.08 | K20: 0 | L20: 182038.08 | N20: 183695.25 | P20: -209712 | Q20: 0 | R20: 205193.76 | T20: 0 | U20: 0 | V20: 0 | W20: 0 | X20: 0 | Y20: 0 | Z20: 0 | AA20: 0 | AB20: 0 | AC20: 0 | AD20: 0 | AE20: 0 | AF20: 0 | AG20: 0 | AH20: 0 | AI20: 0 | AJ20: 0 | AK20: 0 | AL20: 0 | AM20: 0 | AN20: 0 | AO20: 0 | AP20: 0 | AQ20: 0 | AR20: 0 | AS20: 0 | AT20: 0 | AU20: 0 | AV20: 0 | AW20: 0 | AX20: 0 | AY20: 0 | AZ20: 0 | BA20: 0 | BB20: 0 | BC20: 0 | BD20: 0 | BE20: 0 | BF20: 0 | BG20: 0 | BH20: 0 | BI20: 0 | BJ20: 0 | BK20: 0 | BL20: 0 | BM20: 0 | BN20: 0 | BO20: 0 | BP20: 0 | BQ20: 0 | BR20: 0 | BS20: 0 | BT20: 0 | BU20: 0 | BV20: 0 | BW20: 0 | BX20: 0 | BY20: 0 | BZ20: 0 | CA20: 0 | CB20: 0 | CC20: 0 | CD20: 0 | CE20: 0 | CF20: 0 | CG20: 0 | CI20: 0 | CJ20: 0 | CK20: 0 | CL20: 0 | CN20: 67404.52 | CO20: 0 | CP20: 67404.52 | CR20: 67404.52 | CS20: =R20-CR20 -> 137789.24 | CT20: =IF(R20=0,"n/a",CR20/(R20)) -> 0.32849206
A21: %,V434000 | B21: 434000 | C21: Exceptional Children Revenue | D21: 0 | E21: 0 | F21: 80991 | G21: 0 | H21: 80991 | J21: 0 | K21: 0 | L21: 0 | N21: 80991 | P21: -76250 | Q21: 0 | R21: 81270 | T21: 0 | U21: 0 | V21: 0 | W21: 0 | X21: 0 | Y21: 0 | Z21: 0 | AA21: 0 | AB21: 0 | AC21: 0 | AD21: 0 | AE21: 0 | AF21: 0 | AG21: 0 | AH21: 0 | AI21: 0 | AJ21: 0 | AK21: 0 | AL21: 0 | AM21: 0 | AN21: 0 | AO21: 0 | AP21: 0 | AQ21: 0 | AR21: 0 | AS21: 0 | AT21: 0 | AU21: 0 | AV21: 0 | AW21: 0 | AX21: 0 | AY21: 0 | AZ21: 0 | BA21: 0 | BB21: 0 | BC21: 0 | BD21: 0 | BE21: 0 | BF21: 0 | BG21: 0 | BH21: 0 | BI21: 0 | BJ21: 0 | BK21: 0 | BL21: 0 | BM21: 0 | BN21: 0 | BO21: 0 | BP21: 0 | BQ21: 0 | BR21: 0 | BS21: 0 | BT21: 0 | BU21: 0 | BV21: 0 | BW21: 0 | BX21: 0 | BY21: 0 | BZ21: 0 | CA21: 0 | CB21: 0 | CC21: 0 | CD21: 0 | CE21: 0 | CF21: 0 | CG21: 0 | CI21: 0 | CJ21: 0 | CK21: 81270 | CL21: 81270 | CN21: 0 | CO21: 0 | CP21: 0 | CR21: 81270 | CS21: =R21-CR21 -> 0 | CT21: =IF(R21=0,"n/a",CR21/(R21)) -> 1
A22: %,V438000 | B22: 438000 | C22: State ELPA Revenue | D22: 0 | E22: 0 | F22: 11826.86 | G22: 0 | H22: 11826.86 | J22: 0 | K22: 0 | L22: 0 | N22: 11826.86 | P22: 0 | Q22: 0 | R22: =-1*(P22+Q22) -> 0 | T22: 0 | U22: 0 | V22: 0 | W22: 0 | X22: 0 | Y22: 0 | Z22: 0 | AA22: 0 | AB22: 0 | AC22: 0 | AD22: 0 | AE22: 0 | AF22: 0 | AG22: 0 | AH22: 0 | AI22: 0 | AJ22: 0 | AK22: 0 | AL22: 0 | AM22: 0 | AN22: 0 | AO22: 0 | AP22: 0 | AQ22: 0 | AR22: 0 | AS22: 0 | AT22: 0 | AU22: 0 | AV22: 0 | AW22: 0 | AX22: 0 | AY22: 0 | AZ22: 0 | BA22: 0 | BB22: 0 | BC22: 0 | BD22: 0 | BE22: 0 | BF22: 0 | BG22: 0 | BH22: 0 | BI22: 0 | BJ22: 0 | BK22: 0 | BL22: 0 | BM22: 0 | BN22: 0 | BO22: 0 | BP22: 0 | BQ22: 0 | BR22: 0 | BS22: 0 | BT22: 0 | BU22: 0 | BV22: 0 | BW22: 0 | BX22: 0 | BY22: 0 | BZ22: 0 | CA22: 0 | CB22: 0 | CC22: 0 | CD22: 0 | CE22: 0 | CF22: 0 | CG22: 0 | CI22: 0 | CJ22: 0 | CK22: 0 | CL22: 0 | CN22: 0 | CO22: 0 | CP22: 0 | CR22: 0 | CS22: =R22-CR22 -> 0 | CT22: =IF(R22=0,"n/a",CR22/(R22)) -> n/a
A23: %,V450000 | B23: 450000 | C23: Funding PPR | D23: 0 | E23: 0 | F23: 5159406.1 | G23: 0 | H23: 5159406.1 | J23: 0 | K23: 465569.95 | L23: 465569.95 | N23: 5159406.1 | P23: -5553551 | Q23: 0 | R23: 5586600.5 | T23: 0 | U23: 0 | V23: 0 | W23: 0 | X23: 0 | Y23: 0 | Z23: 0 | AA23: 0 | AB23: 0 | AC23: 0 | AD23: 0 | AE23: 0 | AF23: 0 | AG23: 0 | AH23: 0 | AI23: 0 | AJ23: 0 | AK23: 0 | AL23: 0 | AM23: 0 | AN23: 0 | AO23: 0 | AP23: 0 | AQ23: 0 | AR23: 0 | AS23: 0 | AT23: 0 | AU23: 0 | AV23: 0 | AW23: 0 | AX23: 0 | AY23: 0 | AZ23: 0 | BA23: 0 | BB23: 0 | BC23: 0 | BD23: 0 | BE23: 0 | BF23: 0 | BG23: 0 | BH23: 0 | BI23: 0 | BJ23: 0 | BK23: 0 | BL23: 0 | BM23: 0 | BN23: 0 | BO23: 0 | BP23: 0 | BQ23: 0 | BR23: 0 | BS23: 0 | BT23: 0 | BU23: 0 | BV23: 0 | BW23: 0 | BX23: 0 | BY23: 0 | BZ23: 0 | CA23: 0 | CB23: 0 | CC23: 0 | CD23: 0 | CE23: 0 | CF23: 0 | CG23: 0 | CI23: 0 | CJ23: 0 | CK23: 2777334.8 | CL23: 2777334.8 | CN23: 0 | CO23: 230294.59 | CP23: 0 | CR23: 2777334.8 | CS23: =R23-CR23 -> 2809265.7 | CT23: =IF(R23=0,"n/a",CR23/(R23)) -> 0.49714219
B24: 450000 | C24: Transfers Bond | N24: 465569.95 | R24: 467155.04 | CG24: 0 | CL24: 0 | CP24: 230294.59 | CR24: 230294.59 | CS24: =R24-CR24 -> 236860.45 | CT24: =IF(R24=0,"n/a",CR24/(R24)) -> 0.4929725
A25: %,V451000 | B25: 451000 | C25: Fees/Dues | D25: 0 | E25: 0 | F25: 70746.78 | G25: 0 | H25: 70746.78 | J25: 0 | K25: 0 | L25: 0 | N25: 70746.78 | P25: -65000 | Q25: 0 | R25: 54800 | T25: 0 | U25: 0 | V25: 0 | W25: 0 | X25: 0 | Y25: 0 | Z25: 0 | AA25: 0 | AB25: 0 | AC25: 0 | AD25: 0 | AE25: 0 | AF25: 0 | AG25: 0 | AH25: 0 | AI25: 0 | AJ25: 0 | AK25: 0 | AL25: 0 | AM25: 0 | AN25: 0 | AO25: 0 | AP25: 0 | AQ25: 0 | AR25: 0 | AS25: 0 | AT25: 0 | AU25: 0 | AV25: 0 | AW25: 0 | AX25: 0 | AY25: 0 | AZ25: 0 | BA25: 0 | BB25: 0 | BC25: 0 | BD25: 0 | BE25: 0 | BF25: 0 | BG25: 0 | BH25: 0 | BI25: 0 | BJ25: 0 | BK25: 0 | BL25: 0 | BM25: 0 | BN25: 0 | BO25: 0 | BP25: 0 | BQ25: 0 | BR25: 0 | BS25: 0 | BT25: 0 | BU25: 0 | BV25: 0 | BW25: 0 | BX25: 0 | BY25: 0 | BZ25: 0 | CA25: 0 | CB25: 0 | CC25: 0 | CD25: 0 | CE25: 0 | CF25: 0 | CG25: 0 | CI25: 0 | CJ25: 0 | CK25: 48549.37 | CL25: 48549.37 | CN25: 0 | CO25: 0 | CP25: 0 | CR25: 48549.37 | CS25: =R25-CR25 -> 6250.63 | CT25: =IF(R25=0,"n/a",CR25/(R25)) -> 0.88593741
A26: %,V455000 | B26: 455000 | C26: Tuition from Individuals | D26: 0 | E26: 120941.9 | F26: 0 | G26: 0 | H26: 120941.9 | J26: 0 | K26: 0 | L26: 0 | N26: 120941.9 | P26: -155000 | Q26: 0 | R26: 145000 | T26: 0 | U26: 0 | V26: 0 | W26: 0 | X26: 0 | Y26: 0 | Z26: 0 | AA26: 0 | AB26: 0 | AC26: 0 | AD26: 0 | AE26: 0 | AF26: 0 | AG26: 0 | AH26: 0 | AI26: 0 | AJ26: 0 | AK26: 0 | AL26: 0 | AM26: 0 | AN26: 0 | AO26: 0 | AP26: 0 | AQ26: 0 | AR26: 0 | AS26: 0 | AT26: 0 | AU26: 0 | AV26: 0 | AW26: 0 | AX26: 0 | AY26: 0 | AZ26: 0 | BA26: 0 | BB26: 0 | BC26: 0 | BD26: 0 | BE26: 0 | BF26: 0 | BG26: 0 | BH26: 0 | BI26: 0 | BJ26: 0 | BK26: 0 | BL26: 0 | BM26: 0 | BN26: 0 | BO26: 0 | BP26: 0 | BQ26: 0 | BR26: 0 | BS26: 0 | BT26: 0 | BU26: 0 | BV26: 0 | BW26: 0 | BX26: 0 | BY26: 0 | BZ26: 0 | CA26: 0 | CB26: 0 | CC26: 0 | CD26: 0 | CE26: 0 | CF26: 0 | CG26: 0 | CI26: 0 | CJ26: 69133.8 | CK26: 0 | CL26: 69133.8 | CN26: 0 | CO26: 0 | CP26: 0 | CR26: 69133.8 | CS26: =R26-CR26 -> 75866.2 | CT26: =IF(R26=0,"n/a",CR26/(R26)) -> 0.47678483
A27: %,V456000 | B27: 456000 | C27: Tuition-Extended Day Kdgn | D27: 0 | E27: 0 | F27: 123461 | G27: 0 | H27: 123461 | J27: 0 | K27: 0 | L27: 0 | N27: 123461 | P27: -124000 | Q27: 0 | R27: 125000 | T27: 0 | U27: 0 | V27: 0 | W27: 0 | X27: 0 | Y27: 0 | Z27: 0 | AA27: 0 | AB27: 0 | AC27: 0 | AD27: 0 | AE27: 0 | AF27: 0 | AG27: 0 | AH27: 0 | AI27: 0 | AJ27: 0 | AK27: 0 | AL27: 0 | AM27: 0 | AN27: 0 | AO27: 0 | AP27: 0 | AQ27: 0 | AR27: 0 | AS27: 0 | AT27: 0 | AU27: 0 | AV27: 0 | AW27: 0 | AX27: 0 | AY27: 0 | AZ27: 0 | BA27: 0 | BB27: 0 | BC27: 0 | BD27: 0 | BE27: 0 | BF27: 0 | BG27: 0 | BH27: 0 | BI27: 0 | BJ27: 0 | BK27: 0 | BL27: 0 | BM27: 0 | BN27: 0 | BO27: 0 | BP27: 0 | BQ27: 0 | BR27: 0 | BS27: 0 | BT27: 0 | BU27: 0 | BV27: 0 | BW27: 0 | BX27: 0 | BY27: 0 | BZ27: 0 | CA27: 0 | CB27: 0 | CC27: 0 | CD27: 0 | CE27: 0 | CF27: 0 | CG27: 0 | CI27: 0 | CJ27: 0 | CK27: 73610 | CL27: 73610 | CN27: 0 | CO27: 0 | CP27: 0 | CR27: 73610 | CS27: =R27-CR27 -> 51390 | CT27: =IF(R27=0,"n/a",CR27/(R27)) -> 0.58888
A28: %,V461000 | B28: 461000 | C28: Building Rental | D28: 0 | E28: 0 | F28: 13583.43 | G28: 0 | H28: 13583.43 | J28: 0 | K28: 0 | L28: 0 | N28: 13583.43 | P28: -18000 | Q28: 0 | R28: 18000 | T28: 0 | U28: 0 | V28: 0 | W28: 0 | X28: 0 | Y28: 0 | Z28: 0 | AA28: 0 | AB28: 0 | AC28: 0 | AD28: 0 | AE28: 0 | AF28: 0 | AG28: 0 | AH28: 0 | AI28: 0 | AJ28: 0 | AK28: 0 | AL28: 0 | AM28: 0 | AN28: 0 | AO28: 0 | AP28: 0 | AQ28: 0 | AR28: 0 | AS28: 0 | AT28: 0 | AU28: 0 | AV28: 0 | AW28: 0 | AX28: 0 | AY28: 0 | AZ28: 0 | BA28: 0 | BB28: 0 | BC28: 0 | BD28: 0 | BE28: 0 | BF28: 0 | BG28: 0 | BH28: 0 | BI28: 0 | BJ28: 0 | BK28: 0 | BL28: 0 | BM28: 0 | BN28: 0 | BO28: 0 | BP28: 0 | BQ28: 0 | BR28: 0 | BS28: 0 | BT28: 0 | BU28: 0 | BV28: 0 | BW28: 0 | BX28: 0 | BY28: 0 | BZ28: 0 | CA28: 0 | CB28: 0 | CC28: 0 | CD28: 0 | CE28: 0 | CF28: 0 | CG28: 0 | CI28: 0 | CJ28: 0 | CK28: 4830 | CL28: 4830 | CN28: 0 | CO28: 0 | CP28: 0 | CR28: 4830 | CS28: =R28-CR28 -> 13170 | CT28: =IF(R28=0,"n/a",CR28/(R28)) -> 0.26833333
A29: %,V474000 | B29: 474000 | C29: Transportation - Field Trips | D29: 47714.15 | E29: 407.85 | F29: 0 | G29: 0 | H29: 48122 | J29: 0 | K29: 0 | L29: 0 | N29: 48122 | P29: -43550 | Q29: 0 | R29: 48810 | T29: 0 | U29: 0 | V29: 0 | W29: 0 | X29: 0 | Y29: 0 | Z29: 0 | AA29: 0 | AB29: 0 | AC29: 0 | AD29: 0 | AE29: 0 | AF29: 0 | AG29: 0 | AH29: 0 | AI29: 0 | AJ29: 0 | AK29: 0 | AL29: 0 | AM29: 0 | AN29: 0 | AO29: 0 | AP29: 0 | AQ29: 0 | AR29: 0 | AS29: 0 | AT29: 0 | AU29: 0 | AV29: 0 | AW29: 0 | AX29: 0 | AY29: 0 | AZ29: 0 | BA29: 0 | BB29: 0 | BC29: 0 | BD29: 0 | BE29: 0 | BF29: 0 | BG29: 0 | BH29: 0 | BI29: 0 | BJ29: 0 | BK29: 0 | BL29: 0 | BM29: 0 | BN29: 0 | BO29: 0 | BP29: 0 | BQ29: 0 | BR29: 0 | BS29: 0 | BT29: 0 | BU29: 0 | BV29: 0 | BW29: 0 | BX29: 0 | BY29: 0 | BZ29: 0 | CA29: 0 | CB29: 0 | CC29: 0 | CD29: 0 | CE29: 0 | CF29: 0 | CG29: 0 | CI29: 30353 | CJ29: 0 | CK29: 0 | CL29: 30353 | CN29: 0 | CO29: 0 | CP29: 0 | CR29: 30353 | CS29: =R29-CR29 -> 18457 | CT29: =IF(R29=0,"n/a",CR29/(R29)) -> 0.62186027
A30: %,V482000 | B30: 482000 | C30: Activity Revenue | D30: 25411 | E30: 0 | F30: 0 | G30: 0 | H30: 25411 | J30: 0 | K30: 0 | L30: 0 | N30: 25411 | P30: -23000 | Q30: 0 | R30: 11500 | T30: 0 | U30: 0 | V30: 0 | W30: 0 | X30: 0 | Y30: 0 | Z30: 0 | AA30: 0 | AB30: 0 | AC30: 0 | AD30: 0 | AE30: 0 | AF30: 0 | AG30: 0 | AH30: 0 | AI30: 0 | AJ30: 0 | AK30: 0 | AL30: 0 | AM30: 0 | AN30: 0 | AO30: 0 | AP30: 0 | AQ30: 0 | AR30: 0 | AS30: 0 | AT30: 0 | AU30: 0 | AV30: 0 | AW30: 0 | AX30: 0 | AY30: 0 | AZ30: 0 | BA30: 0 | BB30: 0 | BC30: 0 | BD30: 0 | BE30: 0 | BF30: 0 | BG30: 0 | BH30: 0 | BI30: 0 | BJ30: 0 | BK30: 0 | BL30: 0 | BM30: 0 | BN30: 0 | BO30: 0 | BP30: 0 | BQ30: 0 | BR30: 0 | BS30: 0 | BT30: 0 | BU30: 0 | BV30: 0 | BW30: 0 | BX30: 0 | BY30: 0 | BZ30: 0 | CA30: 0 | CB30: 0 | CC30: 0 | CD30: 0 | CE30: 0 | CF30: 0 | CG30: 0 | CI30: 5253.25 | CJ30: 0 | CK30: 0 | CL30: 5253.25 | CN30: 0 | CO30: 0 | CP30: 0 | CR30: 5253.25 | CS30: =R30-CR30 -> 6246.75 | CT30: =IF(R30=0,"n/a",CR30/(R30)) -> 0.45680435
A31: %,V498000 | B31: 498000 | C31: Donations | D31: 0 | E31: 0 | F31: 1988.19 | G31: 0 | H31: 1988.19 | J31: 0 | K31: 0 | L31: 0 | N31: 1988.19 | P31: -5000 | Q31: 0 | R31: =-1*(P31+Q31) -> 5000 | T31: 0 | U31: 0 | V31: 0 | W31: 0 | X31: 0 | Y31: 0 | Z31: 0 | AA31: 0 | AB31: 0 | AC31: 0 | AD31: 0 | AE31: 0 | AF31: 0 | AG31: 0 | AH31: 0 | AI31: 0 | AJ31: 0 | AK31: 0 | AL31: 0 | AM31: 0 | AN31: 0 | AO31: 0 | AP31: 0 | AQ31: 0 | AR31: 0 | AS31: 0 | AT31: 0 | AU31: 0 | AV31: 0 | AW31: 0 | AX31: 0 | AY31: 0 | AZ31: 0 | BA31: 0 | BB31: 0 | BC31: 0 | BD31: 0 | BE31: 0 | BF31: 0 | BG31: 0 | BH31: 0 | BI31: 0 | BJ31: 0 | BK31: 0 | BL31: 0 | BM31: 0 | BN31: 0 | BO31: 0 | BP31: 0 | BQ31: 0 | BR31: 0 | BS31: 0 | BT31: 0 | BU31: 0 | BV31: 0 | BW31: 0 | BX31: 0 | BY31: 0 | BZ31: 0 | CA31: 0 | CB31: 0 | CC31: 0 | CD31: 0 | CE31: 0 | CF31: 0 | CG31: 0 | CI31: 0 | CJ31: 0 | CK31: 1199 | CL31: 1199 | CN31: 0 | CO31: 0 | CP31: 0 | CR31: 1199 | CS31: =R31-CR31 -> 3801 | CT31: =IF(R31=0,"n/a",CR31/(R31)) -> 0.2398
A32: %,V499000 | B32: 499000 | C32: Miscellaneous Revenue | D32: 0 | E32: 0 | F32: 0 | G32: 0 | H32: 0 | J32: 0 | K32: 0 | L32: 0 | N32: 0 | P32: -600 | Q32: 0 | R32: =-1*(P32+Q32) -> 600 | T32: 0 | U32: 0 | V32: 0 | W32: 0 | X32: 0 | Y32: 0 | Z32: 0 | AA32: 0 | AB32: 0 | AC32: 0 | AD32: 0 | AE32: 0 | AF32: 0 | AG32: 0 | AH32: 0 | AI32: 0 | AJ32: 0 | AK32: 0 | AL32: 0 | AM32: 0 | AN32: 0 | AO32: 0 | AP32: 0 | AQ32: 0 | AR32: 0 | AS32: 0 | AT32: 0 | AU32: 0 | AV32: 0 | AW32: 0 | AX32: 0 | AY32: 0 | AZ32: 0 | BA32: 0 | BB32: 0 | BC32: 0 | BD32: 0 | BE32: 0 | BF32: 0 | BG32: 0 | BH32: 0 | BI32: 0 | BJ32: 0 | BK32: 0 | BL32: 0 | BM32: 0 | BN32: 0 | BO32: 0 | BP32: 0 | BQ32: 0 | BR32: 0 | BS32: 0 | BT32: 0 | BU32: 0 | BV32: 0 | BW32: 0 | BX32: 0 | BY32: 0 | BZ32: 0 | CA32: 0 | CB32: 0 | CC32: 0 | CD32: 0 | CE32: 0 | CF32: 0 | CG32: 0 | CI32: 0 | CJ32: 0 | CK32: 4 | CL32: 4 | CN32: 0 | CO32: 0 | CP32: 0 | CR32: 4 | CS32: =R32-CR32 -> 596 | CT32: =IF(R32=0,"n/a",CR32/(R32)) -> 0.0066666667
