Workbook
Name NvsASD: "V2019-06-30"
Name NvsAutoDrillOk: "VN"
Name NvsDateToNumber: "Y"
Name NvsDrillHyperLink: "https://jcspa.jeffco.k12.co.us/psp/PA92PRD_newwin/EMPLOYEE/PSFT_EP/c/REPORT_BOOKS.IC_RUN_DRILLDOWN.GBL?Action=A&NVS_INSTANCE=5636228_8523937"
Name NvsElapsedTime: 0.0000231481535593048
Name NvsEndTime: 43622.2690625
Name NvsInstanceHook: CollapseNplosionMacro
Name NvsInstLang: "VENG"
Name NvsInstSpec: "%,FDEPTID,V55800"
Name NvsInstSpec1: ","
Name NvsInstSpec2: ","
Name NvsInstSpec3: ","
Name NvsInstSpec4: ","
Name NvsInstSpec5: ","
Name NvsInstSpec6: ","
Name NvsInstSpec7: ","
Name NvsInstSpec8: ","
Name NvsInstSpec9: ","
Name NvsLayoutType: "M3"
Name NvsNplSpec: "%,X,RPT.ACCOUNT.,CZF.."
Name NvsPanelEffdt: "V1900-01-01"
Name NvsPanelSetid: "VGF020"
Name NvsReqBU: "VGF020"
Name NvsReqBUOnly: "VY"
Name NvsSheetType: "M"
Name NvsTransLed: "VN"
Name NvsTreeASD: "V2019-06-30"
Name NvsValTbl.ACCOUNT: "GL_ACCOUNT_TBL"
Name NvsValTbl.BUDGET_YEAR: "BUDGET_YEAR"
Name NvsValTbl.BUSINESS_UNIT: "BUS_UNIT_TBL_GL"
Name NvsValTbl.FUND_CODE: "FUND_TBL"
Name NvsValTbl.PROGRAM_CODE: "PROGRAM_TBL"
Name PED: PROJECTIONS!$CY$4

Sheet FINANCIALS
B1: %,AFF,FACCOUNT | C1: %,AFT,FDESCR | D1: %,VCA020 | E1: %,VCC020 | F1: %,VGF020 | G1: %,VGS020 | H1: %,LACTUALS,SALLYEAR-1,FFUND_CODE,X,VCA020,VFS020,VGF020,VGS020,VIR020,VCC020 | J1: %,VCR020 | K1: %,VDS020 | L1: %,LACTUALS,SALLYEAR-1,FFUND_CODE,X,VCR020,VDS020 | N1: %,LACTUALS,SALLYEAR-1 | P1: %,LREVEST_BD,UPOSTED_TOTAL_AMT,SADJBAL,FACCOUNT,TACCOUNT_ROLLUP,NREVENUE | Q1: %,LORG_BD,UPOSTED_TOTAL_AMT,SADJBAL,R,FACCOUNT,TACCOUNT_ROLLUP,XDYYNYN00,NTRANSFERS | R1: %,C | T1: %,V512100 | U1: %,V513100 | V1: %,V521100 | W1: %,V521900 | X1: %,V522100 | Y1: %,V522200 | Z1: %,V524200 | AA1: %,V526200 | AB1: %,V529200 | AC1: %,V529400 | AD1: %,V529500 | AE1: %,V529600 | AF1: %,V529800 | AG1: %,V552100 | AH1: %,V557100 | AI1: %,V557600 | AJ1: %,V591100 | AK1: %,V599400 | AL1: %,V599810 | AM1: %,V599820 | AN1: %,V599830 | AO1: %,V699000 | AP1: %,V701000 | AQ1: %,V702000 | AR1: %,V708000 | AS1: %,V710000 | AT1: %,V713000 | AU1: %,V715000 | AV1: %,V721000 | AW1: %,V723000 | AX1: %,V731000 | AY1: %,V743000 | AZ1: %,V745000 | BA1: %,V745500 | BB1: %,V746000 | BC1: %,V752000 | BD1: %,V761000 | BE1: %,V764000 | BF1: %,V765000 | BG1: %,V766000 | BH1: %,V768000 | BI1: %,V769000 | BJ1: %,V770000 | BK1: %,V770800 | BL1: %,V781000 | BM1: %,V781500 | BN1: %,V804000 | BO1: %,V805000 | BP1: %,V806000 | BQ1: %,V810000 | BR1: %,V810001 | BS1: %,V812000 | BT1: %,V814000 | BU1: %,V820000 | BV1: %,V820001 | BW1: %,V822000 | BX1: %,V823000 | BY1: %,V824000 | BZ1: %,V826000 | CA1: %,V840000 | CB1: %,V870000 | CC1: %,V885000 | CD1: %,V889000 | CE1: %,V930000 | CF1: %,V950000 | CG1: %,LORG_BD,UPOSTED_TOTAL_AMT,SADJBAL,R,FACCOUNT,TACCOUNT_ROLLUP,XDYYNYN00,NEXPENDITURE | CI1: %,VCA020 | CJ1: %,VCC020 | CK1: %,VGF020 | CL1: %,VGS020 | CM1: %,LACTUALS,SYTD,FFUND_CODE,X,VCA020,VFS020,VGF020,VGS020,VIR020,VCC020 | CO1: %,VCR020 | CP1: %,VDS020 | CQ1: %,LACTUALS,SYTD,FFUND_CODE,X,VCR020,VDS020 | CS1: %,LACTUALS,SYTD | CT1: %,C | CU1: %,C
B2: Jefferson County Public Schools | CQ2: Lincoln Academy Charter School | CY2: 558OPC
B3: Charter Schools | CS3: Unaudited Financials
B4: Lincoln Academy Charter School | CQ4: 07/01/18 - 6/6/19 | CY4: 43646
B5: ="Report ID: "&CY2 -> Report ID: 558OPC | CX5: 55800
B6: For Accounting Period: | CQ6: Board JUNE 10, 2019 | CX6: Lincoln Academy Charter School
B7: 43646
A8: %,ATF,FFUND_CODE | B8: Account | D8: CA020 | E8: CC020 | F8: GF020 | G8: GS020 | H8: Prior Year | J8: CR020 | K8: DS020 | L8: Prior Year | N8: Prior Year | CI8: CA020 | CJ8: CC020 | CK8: GF020 | CL8: GS020 | CM8: Current Year | CO8: CR020 | CP8: DS020 | CQ8: Current Year | CS8: Current Year
A9: %,ATF,FDESCR | B9: Number | C9: Description | D9: Charter School Campus Activity | E9: Charter School Child Care Fund | F9: Charter School General Fund | G9: Charter School Grant Fund | H9: Operational Funds | J9: Charter School Capital Reserve | K9: Charter School Debt Service | L9: Capital Funds | N9: Total | R9: Estimated Revenue | T9: Principal | U9: Assistant Principal | V9: Teacher | W9: Substitute Teacher | X9: Counselor | Y9: Teacher Librarian | Z9: Coordinator - Classified | AA9: Instructional Coach | AB9: Occupational Therapist | AC9: Nurse | AD9: Psychologist | AE9: Social Worker | AF9: Speech Therapist | AG9: School Secretary | AH9: Paraprofessional | AI9: Clinic Aides | AJ9: Custodian | AK9: Unused Sick Leave | AL9: Additional Pay - Certificated | AM9: Additional Pay-Classified | AN9: Additional Pay-Administrative | AO9: Employee Benefits | AP9: Mileage And Travel | AQ9: Employee Training & Conf | AR9: Employee Background Verificatn | AS9: Meals/Refreshments | AT9: Student Transportation | AU9: Student Admission/Entry Fees | AV9: Legal Fees | AW9: Printing | AX9: Contracted Services | AY9: Equipment Rental | AZ9: Contract Maint/Eq Repair | BA9: Technology Services | BB9: Const Maint/Repair-Bldg | BC9: Marketing - Advertising | BD9: Natural Gas | BE9: Electricity | BF9: Voice Communication Line | BG9: Water & Sanitation | BH9: Postage | BI9: Permits/Licenses/Fees | BJ9: Risk Management Charges | BK9: Unemployment Comp Insur | BL9: Lease Purch-Other-Principal | BM9: Lease Purch-Other-Interest | BN9: Fund Raising | BO9: Materials/Supplies-Other | BP9: Materials/Supplies Resale | BQ9: Office Material/Supplies | BR9: Office Equipment - Under $5K | BS9: Clinic Supplies/Materials | BT9: Custodial Supplies | BU9: Instructional Material/Supply | BV9: Instructional Equip-Under $5K | BW9: Textbooks | BX9: Copier Usage | BY9: Testing Materials | BZ9: Graduation Materials | CA9: Maint Materials/Supplies | CB9: Library Materials | CC9: Miscellaneous Expense | CD9: Consumable Supplies | CE9: Building Improvements | CF9: Transfers | CG9: Budget | CI9: Charter School Campus Activity | CJ9: Charter School Child Care Fund | CK9: Charter School General Fund | CL9: Charter School Grant Fund | CM9: Operational Funds | CO9: Charter School Capital Reserve | CP9: Charter School Debt Service | CQ9: Capital Funds | CS9: Total | CT9: Variance | CU9: Percent Spent
C11: Prior Year Carryforward | H11: 2645403.7 | N11: 2645403.7 | CI11: 62657.49 | CJ11: 105530.51 | CK11: 1930278.2 | CL11: 0 | CM11: 2098466.2 | CO11: 0 | CP11: 788564.45 | CQ11: 788564.45 | CS11: 2887030.6
A13: %,V401000 | B13: 401000 | C13: Commissions/Profits | D13: 2523.56 | E13: 0 | F13: 13189.65 | G13: 0 | H13: 15713.21 | J13: 0 | K13: 0 | L13: 0 | N13: 15713.21 | P13: -18000 | Q13: 0 | R13: =-1*(P13+Q13) -> 18000 | T13: 0 | U13: 0 | V13: 0 | W13: 0 | X13: 0 | Y13: 0 | Z13: 0 | AA13: 0 | AB13: 0 | AC13: 0 | AD13: 0 | AE13: 0 | AF13: 0 | AG13: 0 | AH13: 0 | AI13: 0 | AJ13: 0 | AK13: 0 | AL13: 0 | AM13: 0 | AN13: 0 | AO13: 0 | AP13: 0 | AQ13: 0 | AR13: 0 | AS13: 0 | AT13: 0 | AU13: 0 | AV13: 0 | AW13: 0 | AX13: 0 | AY13: 0 | AZ13: 0 | BA13: 0 | BB13: 0 | BC13: 0 | BD13: 0 | BE13: 0 | BF13: 0 | BG13: 0 | BH13: 0 | BI13: 0 | BJ13: 0 | BK13: 0 | BL13: 0 | BM13: 0 | BN13: 0 | BO13: 0 | BP13: 0 | BQ13: 0 | BR13: 0 | BS13: 0 | BT13: 0 | BU13: 0 | BV13: 0 | BW13: 0 | BX13: 0 | BY13: 0 | BZ13: 0 | CA13: 0 | CB13: 0 | CC13: 0 | CD13: 0 | CE13: 0 | CF13: 0 | CG13: 0 | CI13: 576.19 | CJ13: 0 | CK13: 7834.03 | CL13: 0 | CM13: 8410.22 | CO13: 0 | CP13: 0 | CQ13: 0 | CS13: 8410.22 | CT13: =R13-CS13 -> 9589.78 | CU13: =IF(R13=0,"n/a",CS13/(R13)) -> 0.46723444
A14: %,V401400 | B14: 401400 | C14: Ticket Sales | D14: 1372 | E14: 0 | F14: 0 | G14: 0 | H14: 1372 | J14: 0 | K14: 0 | L14: 0 | N14: 1372 | P14: -1250 | Q14: 0 | R14: =-1*(P14+Q14) -> 1250 | T14: 0 | U14: 0 | V14: 0 | W14: 0 | X14: 0 | Y14: 0 | Z14: 0 | AA14: 0 | AB14: 0 | AC14: 0 | AD14: 0 | AE14: 0 | AF14: 0 | AG14: 0 | AH14: 0 | AI14: 0 | AJ14: 0 | AK14: 0 | AL14: 0 | AM14: 0 | AN14: 0 | AO14: 0 | AP14: 0 | AQ14: 0 | AR14: 0 | AS14: 0 | AT14: 0 | AU14: 0 | AV14: 0 | AW14: 0 | AX14: 0 | AY14: 0 | AZ14: 0 | BA14: 0 | BB14: 0 | BC14: 0 | BD14: 0 | BE14: 0 | BF14: 0 | BG14: 0 | BH14: 0 | BI14: 0 | BJ14: 0 | BK14: 0 | BL14: 0 | BM14: 0 | BN14: 0 | BO14: 0 | BP14: 0 | BQ14: 0 | BR14: 0 | BS14: 0 | BT14: 0 | BU14: 0 | BV14: 0 | BW14: 0 | BX14: 0 | BY14: 0 | BZ14: 0 | CA14: 0 | CB14: 0 | CC14: 0 | CD14: 0 | CE14: 0 | CF14: 0 | CG14: 0 | CI14: 1415 | CJ14: 0 | CK14: 0 | CL14: 0 | CM14: 1415 | CO14: 0 | CP14: 0 | CQ14: 0 | CS14: 1415 | CT14: =R14-CS14 -> -165 | CU14: =IF(R14=0,"n/a",CS14/(R14)) -> 1.132
A15: %,V408000 | B15: 408000 | C15: Resale | D15: 17863.84 | E15: 0 | F15: 0 | G15: 0 | H15: 17863.84 | J15: 0 | K15: 0 | L15: 0 | N15: 17863.84 | P15: -18797 | Q15: 0 | R15: =-1*(P15+Q15) -> 18797 | T15: 0 | U15: 0 | V15: 0 | W15: 0 | X15: 0 | Y15: 0 | Z15: 0 | AA15: 0 | AB15: 0 | AC15: 0 | AD15: 0 | AE15: 0 | AF15: 0 | AG15: 0 | AH15: 0 | AI15: 0 | AJ15: 0 | AK15: 0 | AL15: 0 | AM15: 0 | AN15: 0 | AO15: 0 | AP15: 0 | AQ15: 0 | AR15: 0 | AS15: 0 | AT15: 0 | AU15: 0 | AV15: 0 | AW15: 0 | AX15: 0 | AY15: 0 | AZ15: 0 | BA15: 0 | BB15: 0 | BC15: 0 | BD15: 0 | BE15: 0 | BF15: 0 | BG15: 0 | BH15: 0 | BI15: 0 | BJ15: 0 | BK15: 0 | BL15: 0 | BM15: 0 | BN15: 0 | BO15: 0 | BP15: 0 | BQ15: 0 | BR15: 0 | BS15: 0 | BT15: 0 | BU15: 0 | BV15: 0 | BW15: 0 | BX15: 0 | BY15: 0 | BZ15: 0 | CA15: 0 | CB15: 0 | CC15: 0 | CD15: 0 | CE15: 0 | CF15: 0 | CG15: 0 | CI15: 12002.43 | CJ15: 0 | CK15: 2575 | CL15: 0 | CM15: 14577.43 | CO15: 0 | CP15: 0 | CQ15: 0 | CS15: 14577.43 | CT15: =R15-CS15 -> 4219.57 | CU15: =IF(R15=0,"n/a",CS15/(R15)) -> 0.77551897
A16: %,V409000 | B16: 409000 | C16: Sales-Fund Raising | D16: 8892.85 | E16: 200 | F16: 2096.02 | G16: 0 | H16: 11188.87 | J16: 0 | K16: 0 | L16: 0 | N16: 11188.87 | P16: -8680 | Q16: 0 | R16: =-1*(P16+Q16) -> 8680 | T16: 0 | U16: 0 | V16: 0 | W16: 0 | X16: 0 | Y16: 0 | Z16: 0 | AA16: 0 | AB16: 0 | AC16: 0 | AD16: 0 | AE16: 0 | AF16: 0 | AG16: 0 | AH16: 0 | AI16: 0 | AJ16: 0 | AK16: 0 | AL16: 0 | AM16: 0 | AN16: 0 | AO16: 0 | AP16: 0 | AQ16: 0 | AR16: 0 | AS16: 0 | AT16: 0 | AU16: 0 | AV16: 0 | AW16: 0 | AX16: 0 | AY16: 0 | AZ16: 0 | BA16: 0 | BB16: 0 | BC16: 0 | BD16: 0 | BE16: 0 | BF16: 0 | BG16: 0 | BH16: 0 | BI16: 0 | BJ16: 0 | BK16: 0 | BL16: 0 | BM16: 0 | BN16: 0 | BO16: 0 | BP16: 0 | BQ16: 0 | BR16: 0 | BS16: 0 | BT16: 0 | BU16: 0 | BV16: 0 | BW16: 0 | BX16: 0 | BY16: 0 | BZ16: 0 | CA16: 0 | CB16: 0 | CC16: 0 | CD16: 0 | CE16: 0 | CF16: 0 | CG16: 0 | CI16: 9974.85 | CJ16: 300 | CK16: 2197.32 | CL16: 0 | CM16: 12472.17 | CO16: 0 | CP16: 0 | CQ16: 0 | CS16: 12472.17 | CT16: =R16-CS16 -> -3792.17 | CU16: =IF(R16=0,"n/a",CS16/(R16)) -> 1.4368859
A17: %,V411000 | B17: 411000 | C17: Prop Tax-Mill Levy Override | D17: 0 | E17: 0 | F17: 961827.16 | G17: 0 | H17: 961827.16 | J17: 0 | K17: 0 | L17: 0 | N17: 961827.16 | P17: -1260252 | Q17: 0 | R17: =-1*(P17+Q17) -> 1260252 | T17: 0 | U17: 0 | V17: 0 | W17: 0 | X17: 0 | Y17: 0 | Z17: 0 | AA17: 0 | AB17: 0 | AC17: 0 | AD17: 0 | AE17: 0 | AF17: 0 | AG17: 0 | AH17: 0 | AI17: 0 | AJ17: 0 | AK17: 0 | AL17: 0 | AM17: 0 | AN17: 0 | AO17: 0 | AP17: 0 | AQ17: 0 | AR17: 0 | AS17: 0 | AT17: 0 | AU17: 0 | AV17: 0 | AW17: 0 | AX17: 0 | AY17: 0 | AZ17: 0 | BA17: 0 | BB17: 0 | BC17: 0 | BD17: 0 | BE17: 0 | BF17: 0 | BG17: 0 | BH17: 0 | BI17: 0 | BJ17: 0 | BK17: 0 | BL17: 0 | BM17: 0 | BN17: 0 | BO17: 0 | BP17: 0 | BQ17: 0 | BR17: 0 | BS17: 0 | BT17: 0 | BU17: 0 | BV17: 0 | BW17: 0 | BX17: 0 | BY17: 0 | BZ17: 0 | CA17: 0 | CB17: 0 | CC17: 0 | CD17: 0 | CE17: 0 | CF17: 0 | CG17: 0 | CI17: 0 | CJ17: 0 | CK17: 1260251.5 | CL17: 0 | CM17: 1260251.5 | CO17: 0 | CP17: 0 | CQ17: 0 | CS17: 1260251.5 | CT17: =R17-CS17 -> 0.5 | CU17: =IF(R17=0,"n/a",CS17/(R17)) -> 0.9999996
A18: %,V415000 | B18: 415000 | C18: Earnings On Investments | D18: 0 | E18: 0 | F18: 0 | G18: 0 | H18: 0 | J18: 0 | K18: 5917.4 | L18: 5917.4 | N18: 5917.4 | P18: -3800 | Q18: 0 | R18: =-1*(P18+Q18) -> 3800 | T18: 0 | U18: 0 | V18: 0 | W18: 0 | X18: 0 | Y18: 0 | Z18: 0 | AA18: 0 | AB18: 0 | AC18: 0 | AD18: 0 | AE18: 0 | AF18: 0 | AG18: 0 | AH18: 0 | AI18: 0 | AJ18: 0 | AK18: 0 | AL18: 0 | AM18: 0 | AN18: 0 | AO18: 0 | AP18: 0 | AQ18: 0 | AR18: 0 | AS18: 0 | AT18: 0 | AU18: 0 | AV18: 0 | AW18: 0 | AX18: 0 | AY18: 0 | AZ18: 0 | BA18: 0 | BB18: 0 | BC18: 0 | BD18: 0 | BE18: 0 | BF18: 0 | BG18: 0 | BH18: 0 | BI18: 0 | BJ18: 0 | BK18: 0 | BL18: 0 | BM18: 0 | BN18: 0 | BO18: 0 | BP18: 0 | BQ18: 0 | BR18: 0 | BS18: 0 | BT18: 0 | BU18: 0 | BV18: 0 | BW18: 0 | BX18: 0 | BY18: 0 | BZ18: 0 | CA18: 0 | CB18: 0 | CC18: 0 | CD18: 0 | CE18: 0 | CF18: 0 | CG18: 0 | CI18: 0 | CJ18: 0 | CK18: 0 | CL18: 0 | CM18: 0 | CO18: 0 | CP18: 12516.24 | CQ18: 12516.24 | CS18: 12516.24 | CT18: =R18-CS18 -> -8716.24 | CU18: =IF(R18=0,"n/a",CS18/(R18)) -> 3.2937474
A19: %,V419000 | B19: 419000 | C19: Other Revenue | D19: 160 | E19: 0 | F19: 29992.21 | G19: 300 | H19: 30452.21 | J19: 0 | K19: 0 | L19: 0 | N19: 30452.21 | P19: -31815 | Q19: 0 | R19: =-1*(P19+Q19) -> 31815 | T19: 0 | U19: 0 | V19: 0 | W19: 0 | X19: 0 | Y19: 0 | Z19: 0 | AA19: 0 | AB19: 0 | AC19: 0 | AD19: 0 | AE19: 0 | AF19: 0 | AG19: 0 | AH19: 0 | AI19: 0 | AJ19: 0 | AK19: 0 | AL19: 0 | AM19: 0 | AN19: 0 | AO19: 0 | AP19: 0 | AQ19: 0 | AR19: 0 | AS19: 0 | AT19: 0 | AU19: 0 | AV19: 0 | AW19: 0 | AX19: 0 | AY19: 0 | AZ19: 0 | BA19: 0 | BB19: 0 | BC19: 0 | BD19: 0 | BE19: 0 | BF19: 0 | BG19: 0 | BH19: 0 | BI19: 0 | BJ19: 0 | BK19: 0 | BL19: 0 | BM19: 0 | BN19: 0 | BO19: 0 | BP19: 0 | BQ19: 0 | BR19: 0 | BS19: 0 | BT19: 0 | BU19: 0 | BV19: 0 | BW19: 0 | BX19: 0 | BY19: 0 | BZ19: 0 | CA19: 0 | CB19: 0 | CC19: 0 | CD19: 0 | CE19: 0 | CF19: 0 | CG19: 0 | CI19: 0 | CJ19: 0 | CK19: 1409.36 | CL19: 0 | CM19: 1409.36 | CO19: 0 | CP19: 0 | CQ19: 0 | CS19: 1409.36 | CT19: =R19-CS19 -> 30405.64 | CU19: =IF(R19=0,"n/a",CS19/(R19)) -> 0.044298601
A20: %,V433000 | B20: 433000 | C20: State Revenue - Other | D20: 0 | E20: 0 | F20: 1657.17 | G20: 0 | H20: 1657.17 | J20: 182038.08 | K20: 0 | L20: 182038.08 | N20: 183695.25 | P20: -204978 | Q20: 0 | R20: =-1*(P20+Q20) -> 204978 | T20: 0 | U20: 0 | V20: 0 | W20: 0 | X20: 0 | Y20: 0 | Z20: 0 | AA20: 0 | AB20: 0 | AC20: 0 | AD20: 0 | AE20: 0 | AF20: 0 | AG20: 0 | AH20: 0 | AI20: 0 | AJ20: 0 | AK20: 0 | AL20: 0 | AM20: 0 | AN20: 0 | AO20: 0 | AP20: 0 | AQ20: 0 | AR20: 0 | AS20: 0 | AT20: 0 | AU20: 0 | AV20: 0 | AW20: 0 | AX20: 0 | AY20: 0 | AZ20: 0 | BA20: 0 | BB20: 0 | BC20: 0 | BD20: 0 | BE20: 0 | BF20: 0 | BG20: 0 | BH20: 0 | BI20: 0 | BJ20: 0 | BK20: 0 | BL20: 0 | BM20: 0 | BN20: 0 | BO20: 0 | BP20: 0 | BQ20: 0 | BR20: 0 | BS20: 0 | BT20: 0 | BU20: 0 | BV20: 0 | BW20: 0 | BX20: 0 | BY20: 0 | BZ20: 0 | CA20: 0 | CB20: 0 | CC20: 0 | CD20: 0 | CE20: 0 | CF20: 0 | CG20: 0 | CI20: 0 | CJ20: 0 | CK20: 1622.77 | CL20: 0 | CM20: 1622.77 | CO20: 158266.17 | CP20: 0 | CQ20: 158266.17 | CS20: 159888.94 | CT20: =R20-CS20 -> 45089.06 | CU20: =IF(R20=0,"n/a",CS20/(R20)) -> 0.78002976
A21: %,V434000 | B21: 434000 | C21: Exceptional Children Revenue | D21: 0 | E21: 0 | F21: 80991 | G21: 0 | H21: 80991 | J21: 0 | K21: 0 | L21: 0 | N21: 80991 | P21: -81270 | Q21: 0 | R21: =-1*(P21+Q21) -> 81270 | T21: 0 | U21: 0 | V21: 0 | W21: 0 | X21: 0 | Y21: 0 | Z21: 0 | AA21: 0 | AB21: 0 | AC21: 0 | AD21: 0 | AE21: 0 | AF21: 0 | AG21: 0 | AH21: 0 | AI21: 0 | AJ21: 0 | AK21: 0 | AL21: 0 | AM21: 0 | AN21: 0 | AO21: 0 | AP21: 0 | AQ21: 0 | AR21: 0 | AS21: 0 | AT21: 0 | AU21: 0 | AV21: 0 | AW21: 0 | AX21: 0 | AY21: 0 | AZ21: 0 | BA21: 0 | BB21: 0 | BC21: 0 | BD21: 0 | BE21: 0 | BF21: 0 | BG21: 0 | BH21: 0 | BI21: 0 | BJ21: 0 | BK21: 0 | BL21: 0 | BM21: 0 | BN21: 0 | BO21: 0 | BP21: 0 | BQ21: 0 | BR21: 0 | BS21: 0 | BT21: 0 | BU21: 0 | BV21: 0 | BW21: 0 | BX21: 0 | BY21: 0 | BZ21: 0 | CA21: 0 | CB21: 0 | CC21: 0 | CD21: 0 | CE21: 0 | CF21: 0 | CG21: 0 | CI21: 0 | CJ21: 0 | CK21: 81270 | CL21: 0 | CM21: 81270 | CO21: 0 | CP21: 0 | CQ21: 0 | CS21: 81270 | CT21: =R21-CS21 -> 0 | CU21: =IF(R21=0,"n/a",CS21/(R21)) -> 1
A22: %,V438000 | B22: 438000 | C22: State ELPA Revenue | D22: 0 | E22: 0 | F22: 11826.86 | G22: 0 | H22: 11826.86 | J22: 0 | K22: 0 | L22: 0 | N22: 11826.86 | P22: -12203 | Q22: 0 | R22: =-1*(P22+Q22) -> 12203 | T22: 0 | U22: 0 | V22: 0 | W22: 0 | X22: 0 | Y22: 0 | Z22: 0 | AA22: 0 | AB22: 0 | AC22: 0 | AD22: 0 | AE22: 0 | AF22: 0 | AG22: 0 | AH22: 0 | AI22: 0 | AJ22: 0 | AK22: 0 | AL22: 0 | AM22: 0 | AN22: 0 | AO22: 0 | AP22: 0 | AQ22: 0 | AR22: 0 | AS22: 0 | AT22: 0 | AU22: 0 | AV22: 0 | AW22: 0 | AX22: 0 | AY22: 0 | AZ22: 0 | BA22: 0 | BB22: 0 | BC22: 0 | BD22: 0 | BE22: 0 | BF22: 0 | BG22: 0 | BH22: 0 | BI22: 0 | BJ22: 0 | BK22: 0 | BL22: 0 | BM22: 0 | BN22: 0 | BO22: 0 | BP22: 0 | BQ22: 0 | BR22: 0 | BS22: 0 | BT22: 0 | BU22: 0 | BV22: 0 | BW22: 0 | BX22: 0 | BY22: 0 | BZ22: 0 | CA22: 0 | CB22: 0 | CC22: 0 | CD22: 0 | CE22: 0 | CF22: 0 | CG22: 0 | CI22: 0 | CJ22: 0 | CK22: 12203.35 | CL22: 0 | CM22: 12203.35 | CO22: 0 | CP22: 0 | CQ22: 0 | CS22: 12203.35 | CT22: =R22-CS22 -> -0.35 | CU22: =IF(R22=0,"n/a",CS22/(R22)) -> 1.0000287
A23: %,V450000 | B23: 450000 | C23: Funding PPR | D23: 0 | E23: 0 | F23: 5159406.1 | G23: 0 | H23: 5159406.1 | J23: 0 | K23: 465569.95 | L23: 465569.95 | N23: 5159406.1 | P23: -5580722 | Q23: 0 | R23: =-1*(P23+Q23) -> 5580722 | T23: 0 | U23: 0 | V23: 0 | W23: 0 | X23: 0 | Y23: 0 | Z23: 0 | AA23: 0 | AB23: 0 | AC23: 0 | AD23: 0 | AE23: 0 | AF23: 0 | AG23: 0 | AH23: 0 | AI23: 0 | AJ23: 0 | AK23: 0 | AL23: 0 | AM23: 0 | AN23: 0 | AO23: 0 | AP23: 0 | AQ23: 0 | AR23: 0 | AS23: 0 | AT23: 0 | AU23: 0 | AV23: 0 | AW23: 0 | AX23: 0 | AY23: 0 | AZ23: 0 | BA23: 0 | BB23: 0 | BC23: 0 | BD23: 0 | BE23: 0 | BF23: 0 | BG23: 0 | BH23: 0 | BI23: 0 | BJ23: 0 | BK23: 0 | BL23: 0 | BM23: 0 | BN23: 0 | BO23: 0 | BP23: 0 | BQ23: 0 | BR23: 0 | BS23: 0 | BT23: 0 | BU23: 0 | BV23: 0 | BW23: 0 | BX23: 0 | BY23: 0 | BZ23: 0 | CA23: 0 | CB23: 0 | CC23: 0 | CD23: 0 | CE23: 0 | CF23: 0 | CG23: 0 | CI23: 0 | CJ23: 0 | CK23: 5573893.7 | CL23: 0 | CM23: 5573893.7 | CO23: 0 | CP23: 0 | CQ23: 0 | CS23: 5573893.7 | CT23: =R23-CS23 -> 6828.32 | CU23: =IF(R23=0,"n/a",CS23/(R23)) -> 0.99877645
B24: 450000 | C24: Transfers Bond | N24: 465569.95 | R24: 467155.04 | CG24: 0 | CI24: 0 | CJ24: 0 | CK24: 0 | CL24: 0 | CM24: 0 | CO24: 0 | CP24: 463492.11 | CQ24: 463492.11 | CS24: 463492.11 | CT24: =R24-CS24 -> 3662.93 | CU24: =IF(R24=0,"n/a",CS24/(R24)) -> 0.99215907
A25: %,V451000 | B25: 451000 | C25: Fees/Dues | D25: 0 | E25: 0 | F25: 70746.78 | G25: 0 | H25: 70746.78 | J25: 0 | K25: 0 | L25: 0 | N25: 70746.78 | P25: -54800 | Q25: 0 | R25: =-1*(P25+Q25) -> 54800 | T25: 0 | U25: 0 | V25: 0 | W25: 0 | X25: 0 | Y25: 0 | Z25: 0 | AA25: 0 | AB25: 0 | AC25: 0 | AD25: 0 | AE25: 0 | AF25: 0 | AG25: 0 | AH25: 0 | AI25: 0 | AJ25: 0 | AK25: 0 | AL25: 0 | AM25: 0 | AN25: 0 | AO25: 0 | AP25: 0 | AQ25: 0 | AR25: 0 | AS25: 0 | AT25: 0 | AU25: 0 | AV25: 0 | AW25: 0 | AX25: 0 | AY25: 0 | AZ25: 0 | BA25: 0 | BB25: 0 | BC25: 0 | BD25: 0 | BE25: 0 | BF25: 0 | BG25: 0 | BH25: 0 | BI25: 0 | BJ25: 0 | BK25: 0 | BL25: 0 | BM25: 0 | BN25: 0 | BO25: 0 | BP25: 0 | BQ25: 0 | BR25: 0 | BS25: 0 | BT25: 0 | BU25: 0 | BV25: 0 | BW25: 0 | BX25: 0 | BY25: 0 | BZ25: 0 | CA25: 0 | CB25: 0 | CC25: 0 | CD25: 0 | CE25: 0 | CF25: 0 | CG25: 0 | CI25: 0 | CJ25: 0 | CK25: 61007.95 | CL25: 0 | CM25: 61007.95 | CO25: 0 | CP25: 0 | CQ25: 0 | CS25: 61007.95 | CT25: =R25-CS25 -> -6207.95 | CU25: =IF(R25=0,"n/a",CS25/(R25)) -> 1.1132838
A26: %,V455000 | B26: 455000 | C26: Tuition from Individuals | D26: 0 | E26: 120941.9 | F26: 0 | G26: 0 | H26: 120941.9 | J26: 0 | K26: 0 | L26: 0 | N26: 120941.9 | P26: -145000 | Q26: 0 | R26: =-1*(P26+Q26) -> 145000 | T26: 0 | U26: 0 | V26: 0 | W26: 0 | X26: 0 | Y26: 0 | Z26: 0 | AA26: 0 | AB26: 0 | AC26: 0 | AD26: 0 | AE26: 0 | AF26: 0 | AG26: 0 | AH26: 0 | AI26: 0 | AJ26: 0 | AK26: 0 | AL26: 0 | AM26: 0 | AN26: 0 | AO26: 0 | AP26: 0 | AQ26: 0 | AR26: 0 | AS26: 0 | AT26: 0 | AU26: 0 | AV26: 0 | AW26: 0 | AX26: 0 | AY26: 0 | AZ26: 0 | BA26: 0 | BB26: 0 | BC26: 0 | BD26: 0 | BE26: 0 | BF26: 0 | BG26: 0 | BH26: 0 | BI26: 0 | BJ26: 0 | BK26: 0 | BL26: 0 | BM26: 0 | BN26: 0 | BO26: 0 | BP26: 0 | BQ26: 0 | BR26: 0 | BS26: 0 | BT26: 0 | BU26: 0 | BV26: 0 | BW26: 0 | BX26: 0 | BY26: 0 | BZ26: 0 | CA26: 0 | CB26: 0 | CC26: 0 | CD26: 0 | CE26: 0 | CF26: 0 | CG26: 0 | CI26: 0 | CJ26: 143609.8 | CK26: 0 | CL26: 0 | CM26: 143609.8 | CO26: 0 | CP26: 0 | CQ26: 0 | CS26: 143609.8 | CT26: =R26-CS26 -> 1390.2 | CU26: =IF(R26=0,"n/a",CS26/(R26)) -> 0.99041241
B27: 455000 | C27: Tuition from Individuals Deposit for 19-20 | N27: 0 | R27: 0 | CG27: 0 | CI27: -350 | CJ27: 18755 | CK27: 0 | CL27: 0 | CM27: 18405 | CO27: 0 | CP27: 0 | CQ27: 0 | CS27: 18405 | CT27: =R27-CS27 -> -18405 | CU27: =IF(R27=0,"n/a",CS27/(R27)) -> n/a
A28: %,V456000 | B28: 456000 | C28: Tuition-Extended Day Kdgn | D28: 0 | E28: 0 | F28: 123461 | G28: 0 | H28: 123461 | J28: 0 | K28: 0 | L28: 0 | N28: 123461 | P28: -125000 | Q28: 0 | R28: =-1*(P28+Q28) -> 125000 | T28: 0 | U28: 0 | V28: 0 | W28: 0 | X28: 0 | Y28: 0 | Z28: 0 | AA28: 0 | AB28: 0 | AC28: 0 | AD28: 0 | AE28: 0 | AF28: 0 | AG28: 0 | AH28: 0 | AI28: 0 | AJ28: 0 | AK28: 0 | AL28: 0 | AM28: 0 | AN28: 0 | AO28: 0 | AP28: 0 | AQ28: 0 | AR28: 0 | AS28: 0 | AT28: 0 | AU28: 0 | AV28: 0 | AW28: 0 | AX28: 0 | AY28: 0 | AZ28: 0 | BA28: 0 | BB28: 0 | BC28: 0 | BD28: 0 | BE28: 0 | BF28: 0 | BG28: 0 | BH28: 0 | BI28: 0 | BJ28: 0 | BK28: 0 | BL28: 0 | BM28: 0 | BN28: 0 | BO28: 0 | BP28: 0 | BQ28: 0 | BR28: 0 | BS28: 0 | BT28: 0 | BU28: 0 | BV28: 0 | BW28: 0 | BX28: 0 | BY28: 0 | BZ28: 0 | CA28: 0 | CB28: 0 | CC28: 0 | CD28: 0 | CE28: 0 | CF28: 0 | CG28: 0 | CI28: 0 | CJ28: 0 | CK28: 127275 | CL28: 0 | CM28: 127275 | CO28: 0 | CP28: 0 | CQ28: 0 | CS28: 127275 | CT28: =R28-CS28 -> -2275 | CU28: =IF(R28=0,"n/a",CS28/(R28)) -> 1.0182
A29: %,V461000 | B29: 461000 | C29: Building Rental | D29: 0 | E29: 0 | F29: 13583.43 | G29: 0 | H29: 13583.43 | J29: 0 | K29: 0 | L29: 0 | N29: 13583.43 | P29: -18000 | Q29: 0 | R29: =-1*(P29+Q29) -> 18000 | T29: 0 | U29: 0 | V29: 0 | W29: 0 | X29: 0 | Y29: 0 | Z29: 0 | AA29: 0 | AB29: 0 | AC29: 0 | AD29: 0 | AE29: 0 | AF29: 0 | AG29: 0 | AH29: 0 | AI29: 0 | AJ29: 0 | AK29: 0 | AL29: 0 | AM29: 0 | AN29: 0 | AO29: 0 | AP29: 0 | AQ29: 0 | AR29: 0 | AS29: 0 | AT29: 0 | AU29: 0 | AV29: 0 | AW29: 0 | AX29: 0 | AY29: 0 | AZ29: 0 | BA29: 0 | BB29: 0 | BC29: 0 | BD29: 0 | BE29: 0 | BF29: 0 | BG29: 0 | BH29: 0 | BI29: 0 | BJ29: 0 | BK29: 0 | BL29: 0 | BM29: 0 | BN29: 0 | BO29: 0 | BP29: 0 | BQ29: 0 | BR29: 0 | BS29: 0 | BT29: 0 | BU29: 0 | BV29: 0 | BW29: 0 | BX29: 0 | BY29: 0 | BZ29: 0 | CA29: 0 | CB29: 0 | CC29: 0 | CD29: 0 | CE29: 0 | CF29: 0 | CG29: 0 | CI29: 50 | CJ29: 0 | CK29: 14586 | CL29: 0 | CM29: 14636 | CO29: 0 | CP29: 0 | CQ29: 0 | CS29: 14636 | CT29: =R29-CS29 -> 3364 | CU29: =IF(R29=0,"n/a",CS29/(R29)) -> 0.81311111
A30: %,V474000 | B30: 474000 | C30: Transportation - Field Trips | D30: 47714.15 | E30: 407.85 | F30: 0 | G30: 0 | H30: 48122 | J30: 0 | K30: 0 | L30: 0 | N30: 48122 | P30: -48810 | Q30: 0 | R30: =-1*(P30+Q30) -> 48810 | T30: 0 | U30: 0 | V30: 0 | W30: 0 | X30: 0 | Y30: 0 | Z30: 0 | AA30: 0 | AB30: 0 | AC30: 0 | AD30: 0 | AE30: 0 | AF30: 0 | AG30: 0 | AH30: 0 | AI30: 0 | AJ30: 0 | AK30: 0 | AL30: 0 | AM30: 0 | AN30: 0 | AO30: 0 | AP30: 0 | AQ30: 0 | AR30: 0 | AS30: 0 | AT30: 0 | AU30: 0 | AV30: 0 | AW30: 0 | AX30: 0 | AY30: 0 | AZ30: 0 | BA30: 0 | BB30: 0 | BC30: 0 | BD30: 0 | BE30: 0 | BF30: 0 | BG30: 0 | BH30: 0 | BI30: 0 | BJ30: 0 | BK30: 0 | BL30: 0 | BM30: 0 | BN30: 0 | BO30: 0 | BP30: 0 | BQ30: 0 | BR30: 0 | BS30: 0 | BT30: 0 | BU30: 0 | BV30: 0 | BW30: 0 | BX30: 0 | BY30: 0 | BZ30: 0 | CA30: 0 | CB30: 0 | CC30: 0 | CD30: 0 | CE30: 0 | CF30: 0 | CG30: 0 | CI30: 49215 | CJ30: 0 | CK30: 0 | CL30: 0 | CM30: 49215 | CO30: 0 | CP30: 0 | CQ30: 0 | CS30: 49215 | CT30: =R30-CS30 -> -405 | CU30: =IF(R30=0,"n/a",CS30/(R30)) -> 1.0082975
A31: %,V482000 | B31: 482000 | C31: Activity Revenue | D31: 25411 | E31: 0 | F31: 0 | G31: 0 | H31: 25411 | J31: 0 | K31: 0 | L31: 0 | N31: 25411 | P31: -11500 | Q31: 0 | R31: =-1*(P31+Q31) -> 11500 | T31: 0 | U31: 0 | V31: 0 | W31: 0 | X31: 0 | Y31: 0 | Z31: 0 | AA31: 0 | AB31: 0 | AC31: 0 | AD31: 0 | AE31: 0 | AF31: 0 | AG31: 0 | AH31: 0 | AI31: 0 | AJ31: 0 | AK31: 0 | AL31: 0 | AM31: 0 | AN31: 0 | AO31: 0 | AP31: 0 | AQ31: 0 | AR31: 0 | AS31: 0 | AT31: 0 | AU31: 0 | AV31: 0 | AW31: 0 | AX31: 0 | AY31: 0 | AZ31: 0 | BA31: 0 | BB31: 0 | BC31: 0 | BD31: 0 | BE31: 0 | BF31: 0 | BG31: 0 | BH31: 0 | BI31: 0 | BJ31: 0 | BK31: 0 | BL31: 0 | BM31: 0 | BN31: 0 | BO31: 0 | BP31: 0 | BQ31: 0 | BR31: 0 | BS31: 0 | BT31: 0 | BU31: 0 | BV31: 0 | BW31: 0 | BX31: 0 | BY31: 0 | BZ31: 0 | CA31: 0 | CB31: 0 | CC31: 0 | CD31: 0 | CE31: 0 | CF31: 0 | CG31: 0 | CI31: 20953.25 | CJ31: 0 | CK31: 0 | CL31: 0 | CM31: 20953.25 | CO31: 0 | CP31: 0 | CQ31: 0 | CS31: 20953.25 | CT31: =R31-CS31 -> -9453.25 | CU31: =IF(R31=0,"n/a",CS31/(R31)) -> 1.8220217
A32: %,V498000 | B32: 498000 | C32: Donations | D32: 0 | E32: 0 | F32: 1988.19 | G32: 0 | H32: 1988.19 | J32: 0 | K32: 0 | L32: 0 | N32: 1988.19 | P32: -6500 | Q32: 0 | R32: =-1*(P32+Q32) -> 6500 | T32: 0 | U32: 0 | V32: 0 | W32: 0 | X32: 0 | Y32: 0 | Z32: 0 | AA32: 0 | AB32: 0 | AC32: 0 | AD32: 0 | AE32: 0 | AF32: 0 | AG32: 0 | AH32: 0 | AI32: 0 | AJ32: 0 | AK32: 0 | AL32: 0 | AM32: 0 | AN32: 0 | AO32: 0 | AP32: 0 | AQ32: 0 | AR32: 0 | AS32: 0 | AT32: 0 | AU32: 0 | AV32: 0 | AW32: 0 | AX32: 0 | AY32: 0 | AZ32: 0 | BA32: 0 | BB32: 0 | BC32: 0 | BD32: 0 | BE32: 0 | BF32: 0 | BG32: 0 | BH32: 0 | BI32: 0 | BJ32: 0 | BK32: 0 | BL32: 0 | BM32: 0 | BN32: 0 | BO32: 0 | BP32: 0 | BQ32: 0 | BR32: 0 | BS32: 0 | BT32: 0 | BU32: 0 | BV32: 0 | BW32: 0 | BX32: 0 | BY32: 0 | BZ32: 0 | CA32: 0 | CB32: 0 | CC32: 0 | CD32: 0 | CE32: 0 | CF32: 0 | CG32: 0 | CI32: 0 | CJ32: 0 | CK32: 7355.69 | CL32: 1199 | CM32: 8554.69 | CO32: 0 | CP32: 0 | CQ32: 0 | CS32: 8554.69 | CT32: =R32-CS32 -> -2054.69 | CU32: =IF(R32=0,"n/a",CS32/(R32)) -> 1.3161062
A33: %,V499000 | B33: 499000 | C33: Miscellaneous Revenue | D33: 0 | E33: 0 | F33: 0 | G33: 0 | H33: 0 | J33: 0 | K33: 0 | L33: 0 | N33: 0 | P33: -600 | Q33: 0 | R33: =-1*(P33+Q33) -> 600 | T33: 0 | U33: 0 | V33: 0 | W33: 0 | X33: 0 | Y33: 0 | Z33: 0 | AA33: 0 | AB33: 0 | AC33: 0 | AD33: 0 | AE33: 0 | AF33: 0 | AG33: 0 | AH33: 0 | AI33: 0 | AJ33: 0 | AK33: 0 | AL33: 0 | AM33: 0 | AN33: 0 | AO33: 0 | AP33: 0 | AQ33: 0 | AR33: 0 | AS33: 0 | AT33: 0 | AU33: 0 | AV33: 0 | AW33: 0 | AX33: 0 | AY33: 0 | AZ33: 0 | BA33: 0 | BB33: 0 | BC33: 0 | BD33: 0 | BE33: 0 | BF33: 0 | BG33: 0 | BH33: 0 | BI33: 0 | BJ33: 0 | BK33: 0 | BL33: 0 | BM33: 0 | BN33: 0 | BO33: 0 | BP33: 0 | BQ33: 0 | BR33: 0 | BS33: 0 | BT33: 0 | BU33: 0 | BV33: 0 | BW33: 0 | BX33: 0 | BY33: 0 | BZ33: 0 | CA33: 0 | CB33: 0 | CC33: 0 | CD33: 0 | CE33: 0 | CF33: 0 | CG33: 0 | CI33: 0 | CJ33: 0 | CK33: 0 | CL33: 0 | CM33: 0 | CO33: 0 | CP33: 0 | CQ33: 0 | CS33: 0 | CT33: =R33-CS33 -> 600 | CU33: =IF(R33=0,"n/a",CS33/(R33)) -> 0
A34: %,V950500 | B34: 950500 | C34: Mandatory Transfers Bond | D34: 0 | E34: 0 | F34: -283531.87 | G34: 0 | H34: -283531.87 | J34: -182038.08 | K34: 0 | L34: -182038.08 | N34: -465569.95 | P34: 0 | Q34: 0 | R34: -467155.04 | T34: 0 | U34: 0 | V34: 0 | W34: 0 | X34: 0 | Y34: 0 | Z34: 0 | AA34: 0 | AB34: 0 | AC34: 0 | AD34: 0 | AE34: 0 | AF34: 0 | AG34: 0 | AH34: 0 | AI34: 0 | AJ34: 0 | AK34: 0 | AL34: 0 | AM34: 0 | AN34: 0 | AO34: 0 | AP34: 0 | AQ34: 0 | AR34: 0 | AS34: 0 | AT34: 0 | AU34: 0 | AV34: 0 | AW34: 0 | AX34: 0 | AY34: 0 | AZ34: 0 | BA34: 0 | BB34: 0 | BC34: 0 | BD34: 0 | BE34: 0 | BF34: 0 | BG34: 0 | BH34: 0 | BI34: 0 | BJ34: 0 | BK34: 0 | BL34: 0 | BM34: 0 | BN34: 0 | BO34: 0 | BP34: 0 | BQ34: 0 | BR34: 0 | BS34: 0 | BT34: 0 | BU34: 0 | BV34: 0 | BW34: 0 | BX34: 0 | BY34: 0 | BZ34: 0 | CA34: 0 | CB34: 0 | CC34: 0 | CD34: 0 | CE34: 0 | CF34: 0 | CG34: 0 | CI34: 0 | CJ34: 0 | CK34: -256220.52 | CL34: 0 | CM34: -256220.52 | CO34: -207271.59 | CP34: 0 | CQ34: -207271.59 | CS34: -463492.11 | CT34: =R34-CS34 -> -3662.93 | CU34: =IF(R34=0,"n/a",CS34/(R34)) -> 0.99215907
A35: %,R,FACCOUNT,TACCOUNT_ROLLUP,X,NREVENUE | C35: Revenues | D35: 103937.4 | E35: 121549.75 | F35: 6187233.7 | G35: 300 | H35: 6413020.8 | J35: 0 | K35: 471487.35 | L35: 471487.35 | N35: 6884508.2 | P35: -7631977 | Q35: 0 | R35: =-1*(P35+Q35) -> 7631977 | T35: 0 | U35: 0 | V35: 0 | W35: 0 | X35: 0 | Y35: 0 | Z35: 0 | AA35: 0 | AB35: 0 | AC35: 0 | AD35: 0 | AE35: 0 | AF35: 0 | AG35: 0 | AH35: 0 | AI35: 0 | AJ35: 0 | AK35: 0 | AL35: 0 | AM35: 0 | AN35: 0 | AO35: 0 | AP35: 0 | AQ35: 0 | AR35: 0 | AS35: 0 | AT35: 0 | AU35: 0 | AV35: 0 | AW35: 0 | AX35: 0 | AY35: 0 | AZ35: 0 | BA35: 0 | BB35: 0 | BC35: 0 | BD35: 0 | BE35: 0 | BF35: 0 | BG35: 0 | BH35: 0 | BI35: 0 | BJ35: 0 | BK35: 0 | BL35: 0 | BM35: 0 | BN35: 0 | BO35: 0 | BP35: 0 | BQ35: 0 | BR35: 0 | BS35: 0 | BT35: 0 | BU35: 0 | BV35: 0 | BW35: 0 | BX35: 0 | BY35: 0 | BZ35: 0 | CA35: 0 | CB35: 0 | CC35: 0 | CD35: 0 | CE35: 0 | CF35: 0 | CG35: 0 | CI35: 93836.72 | CJ35: 162664.8 | CK35: 6897261.1 | CL35: 1199 | CM35: 7154961.7 | CO35: -49005.42 | CP35: 476008.35 | CQ35: 427002.93 | CS35: 7581964.6 | CT35: =R35-CS35 -> 50012.42 | CU35: =IF(R35=0,"n/a",CS35/(R35)) -> 0.99344699
A37: %,C | C37: Available | D37: =D11+D35 -> 103937.4 | E37: =E11+E35 -> 121549.75 | F37: =F11+F35 -> 6187233.7 | G37: =G11+G35 -> 300 | H37: =H11+H35 -> 9058424.5 | J37: =J11+J35 -> 0 | K37: =K11+K35 -> 471487.35 | L37: =L11+L35 -> 471487.35 | N37: =N11+N35 -> 9529911.9 | R37: =R11+R35 -> 7631977 | CI37: =CI11+CI35 -> 156494.21 | CJ37: =CJ11+CJ35 -> 268195.31 | CK37: =CK11+CK35 -> 8827539.3 | CL37: =CL11+CL35 -> 1199 | CM37: =CM11+CM35 -> 9253427.8 | CO37: =CO11+CO35 -> -49005.42 | CP37: =CP11+CP35 -> 1264572.8 | CQ37: =CQ11+CQ35 -> 1215567.4 | CS37: =CS11+CS35 -> 10468995 | CT37: =CT11+CT35 -> 50012.42 | CU37: =IF(R37=0,"n/a",CS37/(R37)) -> 1.3717278
A39: %,V512100 | B39: 512100 | C39: Principal | D39: 0 | E39: 0 | F39: 113537.25 | G39: 0 | H39: 113537.25 | J39: 0 | K39: 0 | L39: 0 | N39: 0 | P39: 0 | Q39: 0 | T39: 112200 | U39: 0 | V39: 0 | W39: 0 | X39: 0 | Y39: 0 | Z39: 0 | AA39: 0 | AB39: 0 | AC39: 0 | AD39: 0 | AE39: 0 | AF39: 0 | AG39: 0 | AH39: 0 | AI39: 0 | AJ39: 0 | AK39: 0 | AL39: 0 | AM39: 0 | AN39: 0 | AO39: 0 | AP39: 0 | AQ39: 0 | AR39: 0 | AS39: 0 | AT39: 0 | AU39: 0 | AV39: 0 | AW39: 0 | AX39: 0 | AY39: 0 | AZ39: 0 | BA39: 0 | BB39: 0 | BC39: 0 | BD39: 0 | BE39: 0 | BF39: 0 | BG39: 0 | BH39: 0 | BI39: 0 | BJ39: 0 | BK39: 0 | BL39: 0 | BM39: 0 | BN39: 0 | BO39: 0 | BP39: 0 | BQ39: 0 | BR39: 0 | BS39: 0 | BT39: 0 | BU39: 0 | BV39: 0 | BW39: 0 | BX39: 0 | BY39: 0 | BZ39: 0 | CA39: 0 | CB39: 0 | CC39: 0 | CD39: 0 | CE39: 0 | CF39: 0 | CG39: 0 | CI39: 0 | CJ39: 0 | CK39: 0 | CL39: 0 | CM39: 0 | CO39: 0 | CP39: 0 | CQ39: 0 | CS39: 0 | CT39: =CG39-CS39 -> 0 | CU39: =IF(CG39=0,"n/a",CS39/(CG39)) -> n/a
A40: %,V513100 | B40: 513100 | C40: Assistant Principal | D40: 0 | E40: 0 | F40: 163422.01 | G40: 0 | H40: 163422.01 | J40: 0 | K40: 0 | L40: 0 | N40: 0 | P40: 0 | Q40: 0 | T40: 0 | U40: 159000 | V40: 0 | W40: 0 | X40: 0 | Y40: 0 | Z40: 0 | AA40: 0 | AB40: 0 | AC40: 0 | AD40: 0 | AE40: 0 | AF40: 0 | AG40: 0 | AH40: 0 | AI40: 0 | AJ40: 0 | AK40: 0 | AL40: 0 | AM40: 0 | AN40: 0 | AO40: 0 | AP40: 0 | AQ40: 0 | AR40: 0 | AS40: 0 | AT40: 0 | AU40: 0 | AV40: 0 | AW40: 0 | AX40: 0 | AY40: 0 | AZ40: 0 | BA40: 0 | BB40: 0 | BC40: 0 | BD40: 0 | BE40: 0 | BF40: 0 | BG40: 0 | BH40: 0 | BI40: 0 | BJ40: 0 | BK40: 0 | BL40: 0 | BM40: 0 | BN40: 0 | BO40: 0 | BP40: 0 | BQ40: 0 | BR40: 0 | BS40: 0 | BT40: 0 | BU40: 0 | BV40: 0 | BW40: 0 | BX40: 0 | BY40: 0 | BZ40: 0 | CA40: 0 | CB40: 0 | CC40: 0 | CD40: 0 | CE40: 0 | CF40: 0 | CG40: 0 | CI40: 0 | CJ40: 0 | CK40: 0 | CL40: 0 | CM40: 0 | CO40: 0 | CP40: 0 | CQ40: 0 | CS40: 0 | CT40: =CG40-CS40 -> 0 | CU40: =IF(CG40=0,"n/a",CS40/(CG40)) -> n/a
B41: 512100-513100 | C41: Adminstration | N41: 276959.26 | CG41: 271200 | CI41: 0 | CJ41: 0 | CK41: 249986.34 | CM41: 249986.34 | CO41: 0 | CP41: 0 | CQ41: 0 | CS41: 249986.34 | CT41: =CG41-CS41 -> 21213.66 | CU41: =IF(CG41=0,"n/a",CS41/(CG41)) -> 0.92177854
A42: %,V521100 | B42: 521100 | C42: Teacher | D42: 6666.64 | E42: 42956.25 | F42: 1985260.7 | G42: 0 | H42: 2034883.6 | J42: 0 | K42: 0 | L42: 0 | N42: 2034883.6 | P42: 0 | Q42: 0 | T42: 0 | U42: 0 | V42: 2058201 | W42: 0 | X42: 0 | Y42: 0 | Z42: 0 | AA42: 0 | AB42: 0 | AC42: 0 | AD42: 0 | AE42: 0 | AF42: 0 | AG42: 0 | AH42: 0 | AI42: 0 | AJ42: 0 | AK42: 0 | AL42: 0 | AM42: 0 | AN42: 0 | AO42: 0 | AP42: 0 | AQ42: 0 | AR42: 0 | AS42: 0 | AT42: 0 | AU42: 0 | AV42: 0 | AW42: 0 | AX42: 0 | AY42: 0 | AZ42: 0 | BA42: 0 | BB42: 0 | BC42: 0 | BD42: 0 | BE42: 0 | BF42: 0 | BG42: 0 | BH42: 0 | BI42: 0 | BJ42: 0 | BK42: 0 | BL42: 0 | BM42: 0 | BN42: 0 | BO42: 0 | BP42: 0 | BQ42: 0 | BR42: 0 | BS42: 0 | BT42: 0 | BU42: 0 | BV42: 0 | BW42: 0 | BX42: 0 | BY42: 0 | BZ42: 0 | CA42: 0 | CB42: 0 | CC42: 0 | CD42: 0 | CE42: 0 | CF42: 0 | CG42: 2058201 | CI42: 6666.64 | CJ42: 46501.58 | CK42: 1838550.5 | CL42: 0 | CM42: 1891718.7 | CO42: 0 | CP42: 0 | CQ42: 0 | CS42: 1891718.7 | CT42: =CG42-CS42 -> 166482.26 | CU42: =IF(CG42=0,"n/a",CS42/(CG42)) -> 0.91911273
A43: %,V521900 | B43: 521900 | C43: Substitute Teacher | D43: 1850 | E43: 3765.61 | F43: 44292.5 | G43: 0 | H43: 49908.11 | J43: 0 | K43: 0 | L43: 0 | N43: 49908.11 | P43: 0 | Q43: 0 | T43: 0 | U43: 0 | V43: 0 | W43: 35000 | X43: 0 | Y43: 0 | Z43: 0 | AA43: 0 | AB43: 0 | AC43: 0 | AD43: 0 | AE43: 0 | AF43: 0 | AG43: 0 | AH43: 0 | AI43: 0 | AJ43: 0 | AK43: 0 | AL43: 0 | AM43: 0 | AN43: 0 | AO43: 0 | AP43: 0 | AQ43: 0 | AR43: 0 | AS43: 0 | AT43: 0 | AU43: 0 | AV43: 0 | AW43: 0 | AX43: 0 | AY43: 0 | AZ43: 0 | BA43: 0 | BB43: 0 | BC43: 0 | BD43: 0 | BE43: 0 | BF43: 0 | BG43: 0 | BH43: 0 | BI43: 0 | BJ43: 0 | BK43: 0 | BL43: 0 | BM43: 0 | BN43: 0 | BO43: 0 | BP43: 0 | BQ43: 0 | BR43: 0 | BS43: 0 | BT43: 0 | BU43: 0 | BV43: 0 | BW43: 0 | BX43: 0 | BY43: 0 | BZ43: 0 | CA43: 0 | CB43: 0 | CC43: 0 | CD43: 0 | CE43: 0 | CF43: 0 | CG43: 35000 | CI43: 1800 | CJ43: 0 | CK43: 29390 | CL43: 0 | CM43: 31190 | CO43: 0 | CP43: 0 | CQ43: 0 | CS43: 31190 | CT43: =CG43-CS43 -> 3810 | CU43: =IF(CG43=0,"n/a",CS43/(CG43)) -> 0.89114286
A44: %,V522100 | B44: 522100 | C44: Counselor | D44: 0 | E44: 0 | F44: 0 | G44: 0 | H44: 0 | J44: 0 | K44: 0 | L44: 0 | N44: 0 | P44: 0 | Q44: 0 | T44: 0 | U44: 0 | V44: 0 | W44: 0 | X44: 24000 | Y44: 0 | Z44: 0 | AA44: 0 | AB44: 0 | AC44: 0 | AD44: 0 | AE44: 0 | AF44: 0 | AG44: 0 | AH44: 0 | AI44: 0 | AJ44: 0 | AK44: 0 | AL44: 0 | AM44: 0 | AN44: 0 | AO44: 0 | AP44: 0 | AQ44: 0 | AR44: 0 | AS44: 0 | AT44: 0 | AU44: 0 | AV44: 0 | AW44: 0 | AX44: 0 | AY44: 0 | AZ44: 0 | BA44: 0 | BB44: 0 | BC44: 0 | BD44: 0 | BE44: 0 | BF44: 0 | BG44: 0 | BH44: 0 | BI44: 0 | BJ44: 0 | BK44: 0 | BL44: 0 | BM44: 0 | BN44: 0 | BO44: 0 | BP44: 0 | BQ44: 0 | BR44: 0 | BS44: 0 | BT44: 0 | BU44: 0 | BV44: 0 | BW44: 0 | BX44: 0 | BY44: 0 | BZ44: 0 | CA44: 0 | CB44: 0 | CC44: 0 | CD44: 0 | CE44: 0 | CF44: 0 | CG44: 24000 | CI44: 0 | CJ44: 0 | CK44: 20862.98 | CL44: 0 | CM44: 20862.98 | CO44: 0 | CP44: 0 | CQ44: 0 | CS44: 20862.98 | CT44: =CG44-CS44 -> 3137.02 | CU44: =IF(CG44=0,"n/a",CS44/(CG44)) -> 0.86929083
...

Sheet PROJECTIONS
B1: %,AFF,FACCOUNT | C1: %,AFT,FDESCR | D1: %,VCA020 | E1: %,VCC020 | F1: %,VGF020 | G1: %,VGS020 | H1: %,LACTUALS,SALLYEAR-1,FFUND_CODE,X,VCA020,VFS020,VGF020,VGS020,VIR020,VCC020 | J1: %,VCR020 | K1: %,VDS020 | L1: %,LACTUALS,SALLYEAR-1,FFUND_CODE,X,VCR020,VDS020 | N1: %,LACTUALS,SALLYEAR-1 | P1: %,LREVEST_BD,UPOSTED_TOTAL_AMT,SADJBAL,FACCOUNT,TACCOUNT_ROLLUP,NREVENUE | Q1: %,LORG_BD,UPOSTED_TOTAL_AMT,SADJBAL,R,FACCOUNT,TACCOUNT_ROLLUP,XDYYNYN00,NTRANSFERS | R1: %,C | T1: %,V512100 | U1: %,V513100 | V1: %,V521100 | W1: %,V521900 | X1: %,V522100 | Y1: %,V522200 | Z1: %,V524200 | AA1: %,V526200 | AB1: %,V529200 | AC1: %,V529400 | AD1: %,V529500 | AE1: %,V529600 | AF1: %,V529800 | AG1: %,V552100 | AH1: %,V557100 | AI1: %,V557600 | AJ1: %,V591100 | AK1: %,V599400 | AL1: %,V599810 | AM1: %,V599820 | AN1: %,V599830 | AO1: %,V699000 | AP1: %,V701000 | AQ1: %,V702000 | AR1: %,V708000 | AS1: %,V710000 | AT1: %,V713000 | AU1: %,V715000 | AV1: %,V721000 | AW1: %,V723000 | AX1: %,V731000 | AY1: %,V743000 | AZ1: %,V745000 | BA1: %,V745500 | BB1: %,V746000 | BC1: %,V752000 | BD1: %,V761000 | BE1: %,V764000 | BF1: %,V765000 | BG1: %,V766000 | BH1: %,V768000 | BI1: %,V769000 | BJ1: %,V770000 | BK1: %,V770800 | BL1: %,V781000 | BM1: %,V781500 | BN1: %,V804000 | BO1: %,V805000 | BP1: %,V806000 | BQ1: %,V810000 | BR1: %,V810001 | BS1: %,V812000 | BT1: %,V814000 | BU1: %,V820000 | BV1: %,V820001 | BW1: %,V822000 | BX1: %,V823000 | BY1: %,V824000 | BZ1: %,V826000 | CA1: %,V840000 | CB1: %,V870000 | CC1: %,V885000 | CD1: %,V889000 | CE1: %,V930000 | CF1: %,V950000 | CG1: %,LORG_BD,UPOSTED_TOTAL_AMT,SADJBAL,R,FACCOUNT,TACCOUNT_ROLLUP,XDYYNYN00,NEXPENDITURE | CI1: %,VCA020 | CJ1: %,VCC020 | CK1: %,VGF020 | CL1: %,VGS020 | CM1: %,LACTUALS,SYTD,FFUND_CODE,X,VCA020,VFS020,VGF020,VGS020,VIR020,VCC020 | CO1: %,VCR020 | CP1: %,VDS020 | CQ1: %,LACTUALS,SYTD,FFUND_CODE,X,VCR020,VDS020 | CS1: %,LACTUALS,SYTD | CT1: %,C | CU1: %,C
B2: Jefferson County Public Schools | CY2: 558OPC
B3: Charter Schools
B4: Lincoln Academy Charter School | CY4: 43646
B5: ="Report ID: "&CY2 -> Report ID: 558OPC | CX5: 55800
B6: For Accounting Period: | CX6: Lincoln Academy Charter School
B7: 43646
A8: %,ATF,FFUND_CODE | B8: Account | D8: CA020 | E8: CC020 | F8: GF020 | G8: GS020 | H8: Prior Year | J8: CR020 | K8: DS020 | L8: Prior Year | N8: Prior Year | CI8: CA020 | CJ8: CC020 | CK8: GF020 | CL8: GS020 | CM8: Current Year | CO8: CR020 | CP8: DS020 | CQ8: Current Year | CS8: Current Year
A9: %,ATF,FDESCR | B9: Number | C9: Description | D9: Charter School Campus Activity | E9: Charter School Child Care Fund | F9: Charter School General Fund | G9: Charter School Grant Fund | H9: Operational Funds | J9: Charter School Capital Reserve | K9: Charter School Debt Service | L9: Capital Funds | N9: Total | R9: Estimated Revenue | T9: Principal | U9: Assistant Principal | V9: Teacher | W9: Substitute Teacher | X9: Counselor | Y9: Teacher Librarian | Z9: Coordinator - Classified | AA9: Instructional Coach | AB9: Occupational Therapist | AC9: Nurse | AD9: Psychologist | AE9: Social Worker | AF9: Speech Therapist | AG9: School Secretary | AH9: Paraprofessional | AI9: Clinic Aides | AJ9: Custodian | AK9: Unused Sick Leave | AL9: Additional Pay - Certificated | AM9: Additional Pay-Classified | AN9: Additional Pay-Administrative | AO9: Employee Benefits | AP9: Mileage And Travel | AQ9: Employee Training & Conf | AR9: Employee Background Verificatn | AS9: Meals/Refreshments | AT9: Student Transportation | AU9: Student Admission/Entry Fees | AV9: Legal Fees | AW9: Printing | AX9: Contracted Services | AY9: Equipment Rental | AZ9: Contract Maint/Eq Repair | BA9: Technology Services | BB9: Const Maint/Repair-Bldg | BC9: Marketing - Advertising | BD9: Natural Gas | BE9: Electricity | BF9: Voice Communication Line | BG9: Water & Sanitation | BH9: Postage | BI9: Permits/Licenses/Fees | BJ9: Risk Management Charges | BK9: Unemployment Comp Insur | BL9: Lease Purch-Other-Principal | BM9: Lease Purch-Other-Interest | BN9: Fund Raising | BO9: Materials/Supplies-Other | BP9: Materials/Supplies Resale | BQ9: Office Material/Supplies | BR9: Office Equipment - Under $5K | BS9: Clinic Supplies/Materials | BT9: Custodial Supplies | BU9: Instructional Material/Supply | BV9: Instructional Equip-Under $5K | BW9: Textbooks | BX9: Copier Usage | BY9: Testing Materials | BZ9: Graduation Materials | CA9: Maint Materials/Supplies | CB9: Library Materials | CC9: Miscellaneous Expense | CD9: Consumable Supplies | CE9: Building Improvements | CF9: Transfers | CG9: Budget | CI9: Charter School Campus Activity | CJ9: Charter School Child Care Fund | CK9: Charter School General Fund | CL9: Charter School Grant Fund | CM9: Operational Funds | CO9: Charter School Capital Reserve | CP9: Charter School Debt Service | CQ9: Capital Funds | CS9: Total | CT9: Variance | CU9: Percent Spent
C11: Prior Year Carryforward | H11: 2645403.7 | N11: 2645403.7 | CI11: 62657.49 | CJ11: 105530.51 | CK11: 1930278.2 | CL11: 0 | CM11: 2098466.2 | CO11: 0 | CP11: 788564.45 | CQ11: 788564.45 | CS11: 2887030.6
A13: %,V401000 | B13: 401000 | C13: Commissions/Profits | D13: 2523.56 | E13: 0 | F13: 13189.65 | G13: 0 | H13: 15713.21 | J13: 0 | K13: 0 | L13: 0 | N13: 15713.21 | P13: -18000 | Q13: 0 | R13: =-1*(P13+Q13) -> 18000 | T13: 0 | U13: 0 | V13: 0 | W13: 0 | X13: 0 | Y13: 0 | Z13: 0 | AA13: 0 | AB13: 0 | AC13: 0 | AD13: 0 | AE13: 0 | AF13: 0 | AG13: 0 | AH13: 0 | AI13: 0 | AJ13: 0 | AK13: 0 | AL13: 0 | AM13: 0 | AN13: 0 | AO13: 0 | AP13: 0 | AQ13: 0 | AR13: 0 | AS13: 0 | AT13: 0 | AU13: 0 | AV13: 0 | AW13: 0 | AX13: 0 | AY13: 0 | AZ13: 0 | BA13: 0 | BB13: 0 | BC13: 0 | BD13: 0 | BE13: 0 | BF13: 0 | BG13: 0 | BH13: 0 | BI13: 0 | BJ13: 0 | BK13: 0 | BL13: 0 | BM13: 0 | BN13: 0 | BO13: 0 | BP13: 0 | BQ13: 0 | BR13: 0 | BS13: 0 | BT13: 0 | BU13: 0 | BV13: 0 | BW13: 0 | BX13: 0 | BY13: 0 | BZ13: 0 | CA13: 0 | CB13: 0 | CC13: 0 | CD13: 0 | CE13: 0 | CF13: 0 | CG13: 0 | CI13: 576.19 | CJ13: 0 | CK13: 7834.03 | CL13: 0 | CM13: 8410.22 | CO13: 0 | CP13: 0 | CQ13: 0 | CS13: 8410.22 | CT13: 0 | CU13: =IF(R13=0,"n/a",CS13/(R13)) -> 0.46723444 | DA13: DOWN 44% RED ROCKS COMMISSION LESS THAN CHAMPIONS
A14: %,V401400 | B14: 401400 | C14: Ticket Sales | D14: 1372 | E14: 0 | F14: 0 | G14: 0 | H14: 1372 | J14: 0 | K14: 0 | L14: 0 | N14: 1372 | P14: -1250 | Q14: 0 | R14: =-1*(P14+Q14) -> 1250 | T14: 0 | U14: 0 | V14: 0 | W14: 0 | X14: 0 | Y14: 0 | Z14: 0 | AA14: 0 | AB14: 0 | AC14: 0 | AD14: 0 | AE14: 0 | AF14: 0 | AG14: 0 | AH14: 0 | AI14: 0 | AJ14: 0 | AK14: 0 | AL14: 0 | AM14: 0 | AN14: 0 | AO14: 0 | AP14: 0 | AQ14: 0 | AR14: 0 | AS14: 0 | AT14: 0 | AU14: 0 | AV14: 0 | AW14: 0 | AX14: 0 | AY14: 0 | AZ14: 0 | BA14: 0 | BB14: 0 | BC14: 0 | BD14: 0 | BE14: 0 | BF14: 0 | BG14: 0 | BH14: 0 | BI14: 0 | BJ14: 0 | BK14: 0 | BL14: 0 | BM14: 0 | BN14: 0 | BO14: 0 | BP14: 0 | BQ14: 0 | BR14: 0 | BS14: 0 | BT14: 0 | BU14: 0 | BV14: 0 | BW14: 0 | BX14: 0 | BY14: 0 | BZ14: 0 | CA14: 0 | CB14: 0 | CC14: 0 | CD14: 0 | CE14: 0 | CF14: 0 | CG14: 0 | CI14: 1415 | CJ14: 0 | CK14: 0 | CL14: 0 | CM14: 1415 | CO14: 0 | CP14: 0 | CQ14: 0 | CS14: 1415 | CT14: 0 | CU14: =IF(R14=0,"n/a",CS14/(R14)) -> 1.132
A15: %,V408000 | B15: 408000 | C15: Resale | D15: 17863.84 | E15: 0 | F15: 0 | G15: 0 | H15: 17863.84 | J15: 0 | K15: 0 | L15: 0 | N15: 17863.84 | P15: -18797 | Q15: 0 | R15: =-1*(P15+Q15) -> 18797 | T15: 0 | U15: 0 | V15: 0 | W15: 0 | X15: 0 | Y15: 0 | Z15: 0 | AA15: 0 | AB15: 0 | AC15: 0 | AD15: 0 | AE15: 0 | AF15: 0 | AG15: 0 | AH15: 0 | AI15: 0 | AJ15: 0 | AK15: 0 | AL15: 0 | AM15: 0 | AN15: 0 | AO15: 0 | AP15: 0 | AQ15: 0 | AR15: 0 | AS15: 0 | AT15: 0 | AU15: 0 | AV15: 0 | AW15: 0 | AX15: 0 | AY15: 0 | AZ15: 0 | BA15: 0 | BB15: 0 | BC15: 0 | BD15: 0 | BE15: 0 | BF15: 0 | BG15: 0 | BH15: 0 | BI15: 0 | BJ15: 0 | BK15: 0 | BL15: 0 | BM15: 0 | BN15: 0 | BO15: 0 | BP15: 0 | BQ15: 0 | BR15: 0 | BS15: 0 | BT15: 0 | BU15: 0 | BV15: 0 | BW15: 0 | BX15: 0 | BY15: 0 | BZ15: 0 | CA15: 0 | CB15: 0 | CC15: 0 | CD15: 0 | CE15: 0 | CF15: 0 | CG15: 0 | CI15: 12002.43 | CJ15: 0 | CK15: 2575 | CL15: 0 | CM15: 14577.43 | CO15: 0 | CP15: 0 | CQ15: 0 | CS15: 14577.43 | CT15: 0 | CU15: =IF(R15=0,"n/a",CS15/(R15)) -> 0.77551897
A16: %,V409000 | B16: 409000 | C16: Sales-Fund Raising | D16: 8892.85 | E16: 200 | F16: 2096.02 | G16: 0 | H16: 11188.87 | J16: 0 | K16: 0 | L16: 0 | N16: 11188.87 | P16: -8680 | Q16: 0 | R16: =-1*(P16+Q16) -> 8680 | T16: 0 | U16: 0 | V16: 0 | W16: 0 | X16: 0 | Y16: 0 | Z16: 0 | AA16: 0 | AB16: 0 | AC16: 0 | AD16: 0 | AE16: 0 | AF16: 0 | AG16: 0 | AH16: 0 | AI16: 0 | AJ16: 0 | AK16: 0 | AL16: 0 | AM16: 0 | AN16: 0 | AO16: 0 | AP16: 0 | AQ16: 0 | AR16: 0 | AS16: 0 | AT16: 0 | AU16: 0 | AV16: 0 | AW16: 0 | AX16: 0 | AY16: 0 | AZ16: 0 | BA16: 0 | BB16: 0 | BC16: 0 | BD16: 0 | BE16: 0 | BF16: 0 | BG16: 0 | BH16: 0 | BI16: 0 | BJ16: 0 | BK16: 0 | BL16: 0 | BM16: 0 | BN16: 0 | BO16: 0 | BP16: 0 | BQ16: 0 | BR16: 0 | BS16: 0 | BT16: 0 | BU16: 0 | BV16: 0 | BW16: 0 | BX16: 0 | BY16: 0 | BZ16: 0 | CA16: 0 | CB16: 0 | CC16: 0 | CD16: 0 | CE16: 0 | CF16: 0 | CG16: 0 | CI16: 9974.85 | CJ16: 300 | CK16: 2197.32 | CL16: 0 | CM16: 12472.17 | CO16: 0 | CP16: 0 | CQ16: 0 | CS16: 12472.17 | CT16: 0 | CU16: =IF(R16=0,"n/a",CS16/(R16)) -> 1.4368859
A17: %,V411000 | B17: 411000 | C17: Prop Tax-Mill Levy Override | D17: 0 | E17: 0 | F17: 961827.16 | G17: 0 | H17: 961827.16 | J17: 0 | K17: 0 | L17: 0 | N17: 961827.16 | P17: -1260252 | Q17: 0 | R17: =-1*(P17+Q17) -> 1260252 | T17: 0 | U17: 0 | V17: 0 | W17: 0 | X17: 0 | Y17: 0 | Z17: 0 | AA17: 0 | AB17: 0 | AC17: 0 | AD17: 0 | AE17: 0 | AF17: 0 | AG17: 0 | AH17: 0 | AI17: 0 | AJ17: 0 | AK17: 0 | AL17: 0 | AM17: 0 | AN17: 0 | AO17: 0 | AP17: 0 | AQ17: 0 | AR17: 0 | AS17: 0 | AT17: 0 | AU17: 0 | AV17: 0 | AW17: 0 | AX17: 0 | AY17: 0 | AZ17: 0 | BA17: 0 | BB17: 0 | BC17: 0 | BD17: 0 | BE17: 0 | BF17: 0 | BG17: 0 | BH17: 0 | BI17: 0 | BJ17: 0 | BK17: 0 | BL17: 0 | BM17: 0 | BN17: 0 | BO17: 0 | BP17: 0 | BQ17: 0 | BR17: 0 | BS17: 0 | BT17: 0 | BU17: 0 | BV17: 0 | BW17: 0 | BX17: 0 | BY17: 0 | BZ17: 0 | CA17: 0 | CB17: 0 | CC17: 0 | CD17: 0 | CE17: 0 | CF17: 0 | CG17: 0 | CI17: 0 | CJ17: 0 | CK17: 1260251.5 | CL17: 0 | CM17: 1260251.5 | CO17: 0 | CP17: 0 | CQ17: 0 | CS17: 1260251.5 | CT17: 0 | CU17: =IF(R17=0,"n/a",CS17/(R17)) -> 0.9999996
A18: %,V415000 | B18: 415000 | C18: Earnings On Investments | D18: 0 | E18: 0 | F18: 0 | G18: 0 | H18: 0 | J18: 0 | K18: 5917.4 | L18: 5917.4 | N18: 5917.4 | P18: -3800 | Q18: 0 | R18: =-1*(P18+Q18) -> 3800 | T18: 0 | U18: 0 | V18: 0 | W18: 0 | X18: 0 | Y18: 0 | Z18: 0 | AA18: 0 | AB18: 0 | AC18: 0 | AD18: 0 | AE18: 0 | AF18: 0 | AG18: 0 | AH18: 0 | AI18: 0 | AJ18: 0 | AK18: 0 | AL18: 0 | AM18: 0 | AN18: 0 | AO18: 0 | AP18: 0 | AQ18: 0 | AR18: 0 | AS18: 0 | AT18: 0 | AU18: 0 | AV18: 0 | AW18: 0 | AX18: 0 | AY18: 0 | AZ18: 0 | BA18: 0 | BB18: 0 | BC18: 0 | BD18: 0 | BE18: 0 | BF18: 0 | BG18: 0 | BH18: 0 | BI18: 0 | BJ18: 0 | BK18: 0 | BL18: 0 | BM18: 0 | BN18: 0 | BO18: 0 | BP18: 0 | BQ18: 0 | BR18: 0 | BS18: 0 | BT18: 0 | BU18: 0 | BV18: 0 | BW18: 0 | BX18: 0 | BY18: 0 | BZ18: 0 | CA18: 0 | CB18: 0 | CC18: 0 | CD18: 0 | CE18: 0 | CF18: 0 | CG18: 0 | CI18: 0 | CJ18: 0 | CK18: 0 | CL18: 0 | CM18: 0 | CO18: 0 | CP18: 12516.24 | CQ18: 12516.24 | CS18: 12516.24 | CT18: 1050 | CU18: =IF(R18=0,"n/a",CS18/(R18)) -> 3.2937474
A19: %,V419000 | B19: 419000 | C19: Other Revenue | D19: 160 | E19: 0 | F19: 29992.21 | G19: 300 | H19: 30452.21 | J19: 0 | K19: 0 | L19: 0 | N19: 30452.21 | P19: -31815 | Q19: 0 | R19: =-1*(P19+Q19) -> 31815 | T19: 0 | U19: 0 | V19: 0 | W19: 0 | X19: 0 | Y19: 0 | Z19: 0 | AA19: 0 | AB19: 0 | AC19: 0 | AD19: 0 | AE19: 0 | AF19: 0 | AG19: 0 | AH19: 0 | AI19: 0 | AJ19: 0 | AK19: 0 | AL19: 0 | AM19: 0 | AN19: 0 | AO19: 0 | AP19: 0 | AQ19: 0 | AR19: 0 | AS19: 0 | AT19: 0 | AU19: 0 | AV19: 0 | AW19: 0 | AX19: 0 | AY19: 0 | AZ19: 0 | BA19: 0 | BB19: 0 | BC19: 0 | BD19: 0 | BE19: 0 | BF19: 0 | BG19: 0 | BH19: 0 | BI19: 0 | BJ19: 0 | BK19: 0 | BL19: 0 | BM19: 0 | BN19: 0 | BO19: 0 | BP19: 0 | BQ19: 0 | BR19: 0 | BS19: 0 | BT19: 0 | BU19: 0 | BV19: 0 | BW19: 0 | BX19: 0 | BY19: 0 | BZ19: 0 | CA19: 0 | CB19: 0 | CC19: 0 | CD19: 0 | CE19: 0 | CF19: 0 | CG19: 0 | CI19: 0 | CJ19: 0 | CK19: 1409.36 | CL19: 0 | CM19: 1409.36 | CO19: 0 | CP19: 0 | CQ19: 0 | CS19: 1409.36 | CT19: 0 | CU19: =IF(R19=0,"n/a",CS19/(R19)) -> 0.044298601 | DA19: 17-18 INSURANCE PAYMENT OF $29,000 WAS CARRIED INTO 18-19 IN ERROR
A20: %,V433000 | B20: 433000 | C20: State Revenue - Other | D20: 0 | E20: 0 | F20: 1657.17 | G20: 0 | H20: 1657.17 | J20: 182038.08 | K20: 0 | L20: 182038.08 | N20: 183695.25 | P20: -204978 | Q20: 0 | R20: 212266.4 | T20: 0 | U20: 0 | V20: 0 | W20: 0 | X20: 0 | Y20: 0 | Z20: 0 | AA20: 0 | AB20: 0 | AC20: 0 | AD20: 0 | AE20: 0 | AF20: 0 | AG20: 0 | AH20: 0 | AI20: 0 | AJ20: 0 | AK20: 0 | AL20: 0 | AM20: 0 | AN20: 0 | AO20: 0 | AP20: 0 | AQ20: 0 | AR20: 0 | AS20: 0 | AT20: 0 | AU20: 0 | AV20: 0 | AW20: 0 | AX20: 0 | AY20: 0 | AZ20: 0 | BA20: 0 | BB20: 0 | BC20: 0 | BD20: 0 | BE20: 0 | BF20: 0 | BG20: 0 | BH20: 0 | BI20: 0 | BJ20: 0 | BK20: 0 | BL20: 0 | BM20: 0 | BN20: 0 | BO20: 0 | BP20: 0 | BQ20: 0 | BR20: 0 | BS20: 0 | BT20: 0 | BU20: 0 | BV20: 0 | BW20: 0 | BX20: 0 | BY20: 0 | BZ20: 0 | CA20: 0 | CB20: 0 | CC20: 0 | CD20: 0 | CE20: 0 | CF20: 0 | CG20: 0 | CI20: 0 | CJ20: 0 | CK20: 1622.77 | CL20: 0 | CM20: 1622.77 | CO20: 158266.17 | CP20: 0 | CQ20: 158266.17 | CS20: 159888.94 | CT20: =R20-CS20 -> 52377.46 | CU20: =IF(R20=0,"n/a",CS20/(R20)) -> 0.75324658 | DA20: CAP CONSTRUCTION RESTORED BACK TO $299.87 PER FTE
A21: %,V434000 | B21: 434000 | C21: Exceptional Children Revenue | D21: 0 | E21: 0 | F21: 80991 | G21: 0 | H21: 80991 | J21: 0 | K21: 0 | L21: 0 | N21: 80991 | P21: -81270 | Q21: 0 | R21: =-1*(P21+Q21) -> 81270 | T21: 0 | U21: 0 | V21: 0 | W21: 0 | X21: 0 | Y21: 0 | Z21: 0 | AA21: 0 | AB21: 0 | AC21: 0 | AD21: 0 | AE21: 0 | AF21: 0 | AG21: 0 | AH21: 0 | AI21: 0 | AJ21: 0 | AK21: 0 | AL21: 0 | AM21: 0 | AN21: 0 | AO21: 0 | AP21: 0 | AQ21: 0 | AR21: 0 | AS21: 0 | AT21: 0 | AU21: 0 | AV21: 0 | AW21: 0 | AX21: 0 | AY21: 0 | AZ21: 0 | BA21: 0 | BB21: 0 | BC21: 0 | BD21: 0 | BE21: 0 | BF21: 0 | BG21: 0 | BH21: 0 | BI21: 0 | BJ21: 0 | BK21: 0 | BL21: 0 | BM21: 0 | BN21: 0 | BO21: 0 | BP21: 0 | BQ21: 0 | BR21: 0 | BS21: 0 | BT21: 0 | BU21: 0 | BV21: 0 | BW21: 0 | BX21: 0 | BY21: 0 | BZ21: 0 | CA21: 0 | CB21: 0 | CC21: 0 | CD21: 0 | CE21: 0 | CF21: 0 | CG21: 0 | CI21: 0 | CJ21: 0 | CK21: 81270 | CL21: 0 | CM21: 81270 | CO21: 0 | CP21: 0 | CQ21: 0 | CS21: 81270 | CT21: =R21-CS21 -> 0 | CU21: =IF(R21=0,"n/a",CS21/(R21)) -> 1
A22: %,V438000 | B22: 438000 | C22: State ELPA Revenue | D22: 0 | E22: 0 | F22: 11826.86 | G22: 0 | H22: 11826.86 | J22: 0 | K22: 0 | L22: 0 | N22: 11826.86 | P22: -12203 | Q22: 0 | R22: =-1*(P22+Q22) -> 12203 | T22: 0 | U22: 0 | V22: 0 | W22: 0 | X22: 0 | Y22: 0 | Z22: 0 | AA22: 0 | AB22: 0 | AC22: 0 | AD22: 0 | AE22: 0 | AF22: 0 | AG22: 0 | AH22: 0 | AI22: 0 | AJ22: 0 | AK22: 0 | AL22: 0 | AM22: 0 | AN22: 0 | AO22: 0 | AP22: 0 | AQ22: 0 | AR22: 0 | AS22: 0 | AT22: 0 | AU22: 0 | AV22: 0 | AW22: 0 | AX22: 0 | AY22: 0 | AZ22: 0 | BA22: 0 | BB22: 0 | BC22: 0 | BD22: 0 | BE22: 0 | BF22: 0 | BG22: 0 | BH22: 0 | BI22: 0 | BJ22: 0 | BK22: 0 | BL22: 0 | BM22: 0 | BN22: 0 | BO22: 0 | BP22: 0 | BQ22: 0 | BR22: 0 | BS22: 0 | BT22: 0 | BU22: 0 | BV22: 0 | BW22: 0 | BX22: 0 | BY22: 0 | BZ22: 0 | CA22: 0 | CB22: 0 | CC22: 0 | CD22: 0 | CE22: 0 | CF22: 0 | CG22: 0 | CI22: 0 | CJ22: 0 | CK22: 12203.35 | CL22: 0 | CM22: 12203.35 | CO22: 0 | CP22: 0 | CQ22: 0 | CS22: 12203.35 | CT22: 0 | CU22: =IF(R22=0,"n/a",CS22/(R22)) -> 1.0000287
A23: %,V450000 | B23: 450000 | C23: Funding PPR | D23: 0 | E23: 0 | F23: 5159406.1 | G23: 0 | H23: 5159406.1 | J23: 0 | K23: 465569.95 | L23: 465569.95 | N23: 5159406.1 | P23: -5580722 | Q23: 0 | R23: 5573893.7 | T23: 0 | U23: 0 | V23: 0 | W23: 0 | X23: 0 | Y23: 0 | Z23: 0 | AA23: 0 | AB23: 0 | AC23: 0 | AD23: 0 | AE23: 0 | AF23: 0 | AG23: 0 | AH23: 0 | AI23: 0 | AJ23: 0 | AK23: 0 | AL23: 0 | AM23: 0 | AN23: 0 | AO23: 0 | AP23: 0 | AQ23: 0 | AR23: 0 | AS23: 0 | AT23: 0 | AU23: 0 | AV23: 0 | AW23: 0 | AX23: 0 | AY23: 0 | AZ23: 0 | BA23: 0 | BB23: 0 | BC23: 0 | BD23: 0 | BE23: 0 | BF23: 0 | BG23: 0 | BH23: 0 | BI23: 0 | BJ23: 0 | BK23: 0 | BL23: 0 | BM23: 0 | BN23: 0 | BO23: 0 | BP23: 0 | BQ23: 0 | BR23: 0 | BS23: 0 | BT23: 0 | BU23: 0 | BV23: 0 | BW23: 0 | BX23: 0 | BY23: 0 | BZ23: 0 | CA23: 0 | CB23: 0 | CC23: 0 | CD23: 0 | CE23: 0 | CF23: 0 | CG23: 0 | CI23: 0 | CJ23: 0 | CK23: 5573893.7 | CL23: 0 | CM23: 5573893.7 | CO23: 0 | CP23: 0 | CQ23: 0 | CS23: 5573893.7 | CT23: =R23-CS23 -> 0 | CU23: =IF(R23=0,"n/a",CS23/(R23)) -> 1 | DA23: DROP IN PPR OF $9.72 PER FTE
B24: 450000 | C24: Transfers Bond | N24: 465569.95 | R24: 467155.04 | CG24: 0 | CI24: 0 | CJ24: 0 | CK24: 0 | CL24: 0 | CM24: 0 | CO24: 0 | CP24: 463492.11 | CQ24: 463492.11 | CS24: 463492.11 | CT24: =R24-CS24 -> 3662.93 | CU24: =IF(R24=0,"n/a",CS24/(R24)) -> 0.99215907
A25: %,V451000 | B25: 451000 | C25: Fees/Dues | D25: 0 | E25: 0 | F25: 70746.78 | G25: 0 | H25: 70746.78 | J25: 0 | K25: 0 | L25: 0 | N25: 70746.78 | P25: -54800 | Q25: 0 | R25: =-1*(P25+Q25) -> 54800 | T25: 0 | U25: 0 | V25: 0 | W25: 0 | X25: 0 | Y25: 0 | Z25: 0 | AA25: 0 | AB25: 0 | AC25: 0 | AD25: 0 | AE25: 0 | AF25: 0 | AG25: 0 | AH25: 0 | AI25: 0 | AJ25: 0 | AK25: 0 | AL25: 0 | AM25: 0 | AN25: 0 | AO25: 0 | AP25: 0 | AQ25: 0 | AR25: 0 | AS25: 0 | AT25: 0 | AU25: 0 | AV25: 0 | AW25: 0 | AX25: 0 | AY25: 0 | AZ25: 0 | BA25: 0 | BB25: 0 | BC25: 0 | BD25: 0 | BE25: 0 | BF25: 0 | BG25: 0 | BH25: 0 | BI25: 0 | BJ25: 0 | BK25: 0 | BL25: 0 | BM25: 0 | BN25: 0 | BO25: 0 | BP25: 0 | BQ25: 0 | BR25: 0 | BS25: 0 | BT25: 0 | BU25: 0 | BV25: 0 | BW25: 0 | BX25: 0 | BY25: 0 | BZ25: 0 | CA25: 0 | CB25: 0 | CC25: 0 | CD25: 0 | CE25: 0 | CF25: 0 | CG25: 0 | CI25: 0 | CJ25: 0 | CK25: 61007.95 | CL25: 0 | CM25: 61007.95 | CO25: 0 | CP25: 0 | CQ25: 0 | CS25: 61007.95 | CT25: 0 | CU25: =IF(R25=0,"n/a",CS25/(R25)) -> 1.1132838
A26: %,V455000 | B26: 455000 | C26: Tuition from Individuals | D26: 0 | E26: 120941.9 | F26: 0 | G26: 0 | H26: 120941.9 | J26: 0 | K26: 0 | L26: 0 | N26: 120941.9 | P26: -145000 | Q26: 0 | R26: =-1*(P26+Q26) -> 145000 | T26: 0 | U26: 0 | V26: 0 | W26: 0 | X26: 0 | Y26: 0 | Z26: 0 | AA26: 0 | AB26: 0 | AC26: 0 | AD26: 0 | AE26: 0 | AF26: 0 | AG26: 0 | AH26: 0 | AI26: 0 | AJ26: 0 | AK26: 0 | AL26: 0 | AM26: 0 | AN26: 0 | AO26: 0 | AP26: 0 | AQ26: 0 | AR26: 0 | AS26: 0 | AT26: 0 | AU26: 0 | AV26: 0 | AW26: 0 | AX26: 0 | AY26: 0 | AZ26: 0 | BA26: 0 | BB26: 0 | BC26: 0 | BD26: 0 | BE26: 0 | BF26: 0 | BG26: 0 | BH26: 0 | BI26: 0 | BJ26: 0 | BK26: 0 | BL26: 0 | BM26: 0 | BN26: 0 | BO26: 0 | BP26: 0 | BQ26: 0 | BR26: 0 | BS26: 0 | BT26: 0 | BU26: 0 | BV26: 0 | BW26: 0 | BX26: 0 | BY26: 0 | BZ26: 0 | CA26: 0 | CB26: 0 | CC26: 0 | CD26: 0 | CE26: 0 | CF26: 0 | CG26: 0 | CI26: 0 | CJ26: 143609.8 | CK26: 0 | CL26: 0 | CM26: 143609.8 | CO26: 0 | CP26: 0 | CQ26: 0 | CS26: 143609.8 | CT26: 0 | CU26: =IF(R26=0,"n/a",CS26/(R26)) -> 0.99041241
B27: 455000 | C27: Tuition from Individuals Deposit for 19-20 | N27: 0 | R27: 0 | CG27: 0 | CI27: -350 | CJ27: 18755 | CK27: 0 | CL27: 0 | CM27: 18405 | CO27: 0 | CP27: 0 | CQ27: 0 | CS27: 18405 | CT27: 0 | CU27: =IF(R27=0,"n/a",CS27/(R27)) -> n/a
A28: %,V456000 | B28: 456000 | C28: Tuition-Extended Day Kdgn | D28: 0 | E28: 0 | F28: 123461 | G28: 0 | H28: 123461 | J28: 0 | K28: 0 | L28: 0 | N28: 123461 | P28: -125000 | Q28: 0 | R28: =-1*(P28+Q28) -> 125000 | T28: 0 | U28: 0 | V28: 0 | W28: 0 | X28: 0 | Y28: 0 | Z28: 0 | AA28: 0 | AB28: 0 | AC28: 0 | AD28: 0 | AE28: 0 | AF28: 0 | AG28: 0 | AH28: 0 | AI28: 0 | AJ28: 0 | AK28: 0 | AL28: 0 | AM28: 0 | AN28: 0 | AO28: 0 | AP28: 0 | AQ28: 0 | AR28: 0 | AS28: 0 | AT28: 0 | AU28: 0 | AV28: 0 | AW28: 0 | AX28: 0 | AY28: 0 | AZ28: 0 | BA28: 0 | BB28: 0 | BC28: 0 | BD28: 0 | BE28: 0 | BF28: 0 | BG28: 0 | BH28: 0 | BI28: 0 | BJ28: 0 | BK28: 0 | BL28: 0 | BM28: 0 | BN28: 0 | BO28: 0 | BP28: 0 | BQ28: 0 | BR28: 0 | BS28: 0 | BT28: 0 | BU28: 0 | BV28: 0 | BW28: 0 | BX28: 0 | BY28: 0 | BZ28: 0 | CA28: 0 | CB28: 0 | CC28: 0 | CD28: 0 | CE28: 0 | CF28: 0 | CG28: 0 | CI28: 0 | CJ28: 0 | CK28: 127275 | CL28: 0 | CM28: 127275 | CO28: 0 | CP28: 0 | CQ28: 0 | CS28: 127275 | CT28: 0 | CU28: =IF(R28=0,"n/a",CS28/(R28)) -> 1.0182
A29: %,V461000 | B29: 461000 | C29: Building Rental | D29: 0 | E29: 0 | F29: 13583.43 | G29: 0 | H29: 13583.43 | J29: 0 | K29: 0 | L29: 0 | N29: 13583.43 | P29: -18000 | Q29: 0 | R29: =-1*(P29+Q29) -> 18000 | T29: 0 | U29: 0 | V29: 0 | W29: 0 | X29: 0 | Y29: 0 | Z29: 0 | AA29: 0 | AB29: 0 | AC29: 0 | AD29: 0 | AE29: 0 | AF29: 0 | AG29: 0 | AH29: 0 | AI29: 0 | AJ29: 0 | AK29: 0 | AL29: 0 | AM29: 0 | AN29: 0 | AO29: 0 | AP29: 0 | AQ29: 0 | AR29: 0 | AS29: 0 | AT29: 0 | AU29: 0 | AV29: 0 | AW29: 0 | AX29: 0 | AY29: 0 | AZ29: 0 | BA29: 0 | BB29: 0 | BC29: 0 | BD29: 0 | BE29: 0 | BF29: 0 | BG29: 0 | BH29: 0 | BI29: 0 | BJ29: 0 | BK29: 0 | BL29: 0 | BM29: 0 | BN29: 0 | BO29: 0 | BP29: 0 | BQ29: 0 | BR29: 0 | BS29: 0 | BT29: 0 | BU29: 0 | BV29: 0 | BW29: 0 | BX29: 0 | BY29: 0 | BZ29: 0 | CA29: 0 | CB29: 0 | CC29: 0 | CD29: 0 | CE29: 0 | CF29: 0 | CG29: 0 | CI29: 50 | CJ29: 0 | CK29: 14586 | CL29: 0 | CM29: 14636 | CO29: 0 | CP29: 0 | CQ29: 0 | CS29: 14636 | CT29: 0 | CU29: =IF(R29=0,"n/a",CS29/(R29)) -> 0.81311111
A30: %,V474000 | B30: 474000 | C30: Transportation - Field Trips | D30: 47714.15 | E30: 407.85 | F30: 0 | G30: 0 | H30: 48122 | J30: 0 | K30: 0 | L30: 0 | N30: 48122 | P30: -48810 | Q30: 0 | R30: =-1*(P30+Q30) -> 48810 | T30: 0 | U30: 0 | V30: 0 | W30: 0 | X30: 0 | Y30: 0 | Z30: 0 | AA30: 0 | AB30: 0 | AC30: 0 | AD30: 0 | AE30: 0 | AF30: 0 | AG30: 0 | AH30: 0 | AI30: 0 | AJ30: 0 | AK30: 0 | AL30: 0 | AM30: 0 | AN30: 0 | AO30: 0 | AP30: 0 | AQ30: 0 | AR30: 0 | AS30: 0 | AT30: 0 | AU30: 0 | AV30: 0 | AW30: 0 | AX30: 0 | AY30: 0 | AZ30: 0 | BA30: 0 | BB30: 0 | BC30: 0 | BD30: 0 | BE30: 0 | BF30: 0 | BG30: 0 | BH30: 0 | BI30: 0 | BJ30: 0 | BK30: 0 | BL30: 0 | BM30: 0 | BN30: 0 | BO30: 0 | BP30: 0 | BQ30: 0 | BR30: 0 | BS30: 0 | BT30: 0 | BU30: 0 | BV30: 0 | BW30: 0 | BX30: 0 | BY30: 0 | BZ30: 0 | CA30: 0 | CB30: 0 | CC30: 0 | CD30: 0 | CE30: 0 | CF30: 0 | CG30: 0 | CI30: 49215 | CJ30: 0 | CK30: 0 | CL30: 0 | CM30: 49215 | CO30: 0 | CP30: 0 | CQ30: 0 | CS30: 49215 | CT30: 0 | CU30: =IF(R30=0,"n/a",CS30/(R30)) -> 1.0082975
A31: %,V482000 | B31: 482000 | C31: Activity Revenue | D31: 25411 | E31: 0 | F31: 0 | G31: 0 | H31: 25411 | J31: 0 | K31: 0 | L31: 0 | N31: 25411 | P31: -11500 | Q31: 0 | R31: =-1*(P31+Q31) -> 11500 | T31: 0 | U31: 0 | V31: 0 | W31: 0 | X31: 0 | Y31: 0 | Z31: 0 | AA31: 0 | AB31: 0 | AC31: 0 | AD31: 0 | AE31: 0 | AF31: 0 | AG31: 0 | AH31: 0 | AI31: 0 | AJ31: 0 | AK31: 0 | AL31: 0 | AM31: 0 | AN31: 0 | AO31: 0 | AP31: 0 | AQ31: 0 | AR31: 0 | AS31: 0 | AT31: 0 | AU31: 0 | AV31: 0 | AW31: 0 | AX31: 0 | AY31: 0 | AZ31: 0 | BA31: 0 | BB31: 0 | BC31: 0 | BD31: 0 | BE31: 0 | BF31: 0 | BG31: 0 | BH31: 0 | BI31: 0 | BJ31: 0 | BK31: 0 | BL31: 0 | BM31: 0 | BN31: 0 | BO31: 0 | BP31: 0 | BQ31: 0 | BR31: 0 | BS31: 0 | BT31: 0 | BU31: 0 | BV31: 0 | BW31: 0 | BX31: 0 | BY31: 0 | BZ31: 0 | CA31: 0 | CB31: 0 | CC31: 0 | CD31: 0 | CE31: 0 | CF31: 0 | CG31: 0 | CI31: 20953.25 | CJ31: 0 | CK31: 0 | CL31: 0 | CM31: 20953.25 | CO31: 0 | CP31: 0 | CQ31: 0 | CS31: 20953.25 | CT31: 0 | CU31: =IF(R31=0,"n/a",CS31/(R31)) -> 1.8220217
A32: %,V498000 | B32: 498000 | C32: Donations | D32: 0 | E32: 0 | F32: 1988.19 | G32: 0 | H32: 1988.19 | J32: 0 | K32: 0 | L32: 0 | N32: 1988.19 | P32: -6500 | Q32: 0 | R32: =-1*(P32+Q32) -> 6500 | T32: 0 | U32: 0 | V32: 0 | W32: 0 | X32: 0 | Y32: 0 | Z32: 0 | AA32: 0 | AB32: 0 | AC32: 0 | AD32: 0 | AE32: 0 | AF32: 0 | AG32: 0 | AH32: 0 | AI32: 0 | AJ32: 0 | AK32: 0 | AL32: 0 | AM32: 0 | AN32: 0 | AO32: 0 | AP32: 0 | AQ32: 0 | AR32: 0 | AS32: 0 | AT32: 0 | AU32: 0 | AV32: 0 | AW32: 0 | AX32: 0 | AY32: 0 | AZ32: 0 | BA32: 0 | BB32: 0 | BC32: 0 | BD32: 0 | BE32: 0 | BF32: 0 | BG32: 0 | BH32: 0 | BI32: 0 | BJ32: 0 | BK32: 0 | BL32: 0 | BM32: 0 | BN32: 0 | BO32: 0 | BP32: 0 | BQ32: 0 | BR32: 0 | BS32: 0 | BT32: 0 | BU32: 0 | BV32: 0 | BW32: 0 | BX32: 0 | BY32: 0 | BZ32: 0 | CA32: 0 | CB32: 0 | CC32: 0 | CD32: 0 | CE32: 0 | CF32: 0 | CG32: 0 | CI32: 0 | CJ32: 0 | CK32: 7355.69 | CL32: 1199 | CM32: 8554.69 | CO32: 0 | CP32: 0 | CQ32: 0 | CS32: 8554.69 | CT32: 0 | CU32: =IF(R32=0,"n/a",CS32/(R32)) -> 1.3161062
