Workbook
Name _1___Please_change_the_View_on_Alpine_s_CSAP_page_to_the_most_recent_data_year__Archive__view.: instructions!$A$3
Name QL_10M: #REF!
Name QL_10R: #REF!
Name QL_10S: #REF!
Name QL_10W: #REF!
Name QL_7M: #REF!
Name QL_7R: #REF!
Name QL_7W: #REF!
Name QL_8M: #REF!
Name QL_8R: #REF!
Name QL_8S: #REF!
Name QL_8W: #REF!
Name QL_9M: #REF!
Name QL_9R: #REF!
Name QL_9W: #REF!
Name School_Table: #REF!
Name SchoolTable: 'input data'!$3:$79
Name Table_10M: #REF!
Name Table_10R: #REF!
Name Table_10S: #REF!
Name Table_10W: #REF!
Name Table_3M: #REF!
Name Table_3R: #REF!
Name Table_3W: #REF!
Name Table_4M: #REF!
Name Table_4R: #REF!
Name Table_4W: #REF!
Name Table_5M: #REF!
Name Table_5R: #REF!
Name Table_5S: #REF!
Name Table_5W: #REF!
Name Table_6M: #REF!
Name Table_6R: #REF!
Name Table_6W: #REF!
Name Table_7M: #REF!
Name Table_7R: #REF!
Name Table_7W: #REF!
Name Table_8M: #REF!
Name Table_8R: #REF!
Name Table_8S: #REF!
Name Table_8W: #REF!
Name Table_9M: #REF!
Name Table_9R: #REF!
Name Table_9W: #REF!
Name Validation_List: #REF!

Sheet instructions
A1: Instructions: Note: This template will work for archive years 2011 and later.
A3: 1) Please change the View on Alpine's TSAP/CSAP page to the most recent data year "Archive" view. Check that the archive year (yyyy) also shows below in cell A6 of this page.
A6: 2012
A7: 2) In the Summary Reports section, click on the "Historic Achievement at a Glance (Spreadsheet)" link.
A10: 3) Choose "All Students", and open the spreadsheet.
A12: 4) Copy rows containing school, district and state data. Highlight all of the schools from the first school mentioned through the row that says Colorado.
A16: 5) Switch back to this excel sheet and click on the "input data" tab. (Tabs are at the bottom of each workbook.) Click in the blue cell A3 of the "input data" tab and Paste.
A20: 6) Click on the "growth charts" tab at the bottom of this worksheet to see the charts.
A23: 7) At the top of the "growth charts" tab, click on the blue dropdown box. From here, you will need to select a school, district, or state, before any data is shown in the charts below. (Note: You will probably need to scroll up on the dropdown box to see the school/district/state list.)

Sheet input data
A1: School Name | B1: Rdg 3 | H1: Rdg 4 | N1: Rdg 5 | T1: Rdg 6 | Z1: Rdg 7 | AF1: Rdg 8 | AL1: Rdg 9 | AR1: Rdg 10 | AX1: Wr 3 | BD1: Wr 4 | BJ1: Wr 5 | BP1: Wr 6 | BV1: Wr 7 | CB1: Wr 8 | CH1: Wr 9 | CN1: Wr 10 | CT1: Math 3 | CZ1: Math 4 | DF1: Math 5 | DL1: Math 6 | DR1: Math 7 | DX1: Math 8 | ED1: Math 9 | EJ1: Math 10 | EP1: Sci 5 | EV1: Sci 8 | FB1: Sci 10
B2: =C2-1 -> 2007 | C2: =D2-1 -> 2008 | D2: =E2-1 -> 2009 | E2: =F2-1 -> 2010 | F2: =G2-1 -> 2011 | G2: =instructions!$A$6 -> 2012 | H2: =I2-1 -> 2007 | I2: =J2-1 -> 2008 | J2: =K2-1 -> 2009 | K2: =L2-1 -> 2010 | L2: =M2-1 -> 2011 | M2: =instructions!$A$6 -> 2012 | N2: =O2-1 -> 2007 | O2: =P2-1 -> 2008 | P2: =Q2-1 -> 2009 | Q2: =R2-1 -> 2010 | R2: =S2-1 -> 2011 | S2: =instructions!$A$6 -> 2012 | T2: =U2-1 -> 2007 | U2: =V2-1 -> 2008 | V2: =W2-1 -> 2009 | W2: =X2-1 -> 2010 | X2: =Y2-1 -> 2011 | Y2: =instructions!$A$6 -> 2012 | Z2: =AA2-1 -> 2007 | AA2: =AB2-1 -> 2008 | AB2: =AC2-1 -> 2009 | AC2: =AD2-1 -> 2010 | AD2: =AE2-1 -> 2011 | AE2: =instructions!$A$6 -> 2012 | AF2: =AG2-1 -> 2007 | AG2: =AH2-1 -> 2008 | AH2: =AI2-1 -> 2009 | AI2: =AJ2-1 -> 2010 | AJ2: =AK2-1 -> 2011 | AK2: =instructions!$A$6 -> 2012 | AL2: =AM2-1 -> 2007 | AM2: =AN2-1 -> 2008 | AN2: =AO2-1 -> 2009 | AO2: =AP2-1 -> 2010 | AP2: =AQ2-1 -> 2011 | AQ2: =instructions!$A$6 -> 2012 | AR2: =AS2-1 -> 2007 | AS2: =AT2-1 -> 2008 | AT2: =AU2-1 -> 2009 | AU2: =AV2-1 -> 2010 | AV2: =AW2-1 -> 2011 | AW2: =instructions!$A$6 -> 2012 | AX2: =AY2-1 -> 2007 | AY2: =AZ2-1 -> 2008 | AZ2: =BA2-1 -> 2009 | BA2: =BB2-1 -> 2010 | BB2: =BC2-1 -> 2011 | BC2: =instructions!$A$6 -> 2012 | BD2: =BE2-1 -> 2007 | BE2: =BF2-1 -> 2008 | BF2: =BG2-1 -> 2009 | BG2: =BH2-1 -> 2010 | BH2: =BI2-1 -> 2011 | BI2: =instructions!$A$6 -> 2012 | BJ2: =BK2-1 -> 2007 | BK2: =BL2-1 -> 2008 | BL2: =BM2-1 -> 2009 | BM2: =BN2-1 -> 2010 | BN2: =BO2-1 -> 2011 | BO2: =instructions!$A$6 -> 2012 | BP2: =BQ2-1 -> 2007 | BQ2: =BR2-1 -> 2008 | BR2: =BS2-1 -> 2009 | BS2: =BT2-1 -> 2010 | BT2: =BU2-1 -> 2011 | BU2: =instructions!$A$6 -> 2012 | BV2: =BW2-1 -> 2007 | BW2: =BX2-1 -> 2008 | BX2: =BY2-1 -> 2009 | BY2: =BZ2-1 -> 2010 | BZ2: =CA2-1 -> 2011 | CA2: =instructions!$A$6 -> 2012 | CB2: =CC2-1 -> 2007 | CC2: =CD2-1 -> 2008 | CD2: =CE2-1 -> 2009 | CE2: =CF2-1 -> 2010 | CF2: =CG2-1 -> 2011 | CG2: =instructions!$A$6 -> 2012 | CH2: =CI2-1 -> 2007 | CI2: =CJ2-1 -> 2008 | CJ2: =CK2-1 -> 2009 | CK2: =CL2-1 -> 2010 | CL2: =CM2-1 -> 2011 | CM2: =instructions!$A$6 -> 2012 | CN2: =CO2-1 -> 2007 | CO2: =CP2-1 -> 2008 | CP2: =CQ2-1 -> 2009 | CQ2: =CR2-1 -> 2010 | CR2: =CS2-1 -> 2011 | CS2: =instructions!$A$6 -> 2012 | CT2: =CU2-1 -> 2007 | CU2: =CV2-1 -> 2008 | CV2: =CW2-1 -> 2009 | CW2: =CX2-1 -> 2010 | CX2: =CY2-1 -> 2011 | CY2: =instructions!$A$6 -> 2012 | CZ2: =DA2-1 -> 2007 | DA2: =DB2-1 -> 2008 | DB2: =DC2-1 -> 2009 | DC2: =DD2-1 -> 2010 | DD2: =DE2-1 -> 2011 | DE2: =instructions!$A$6 -> 2012 | DF2: =DG2-1 -> 2007 | DG2: =DH2-1 -> 2008 | DH2: =DI2-1 -> 2009 | DI2: =DJ2-1 -> 2010 | DJ2: =DK2-1 -> 2011 | DK2: =instructions!$A$6 -> 2012 | DL2: =DM2-1 -> 2007 | DM2: =DN2-1 -> 2008 | DN2: =DO2-1 -> 2009 | DO2: =DP2-1 -> 2010 | DP2: =DQ2-1 -> 2011 | DQ2: =instructions!$A$6 -> 2012 | DR2: =DS2-1 -> 2007 | DS2: =DT2-1 -> 2008 | DT2: =DU2-1 -> 2009 | DU2: =DV2-1 -> 2010 | DV2: =DW2-1 -> 2011 | DW2: =instructions!$A$6 -> 2012 | DX2: =DY2-1 -> 2007 | DY2: =DZ2-1 -> 2008 | DZ2: =EA2-1 -> 2009 | EA2: =EB2-1 -> 2010 | EB2: =EC2-1 -> 2011 | EC2: =instructions!$A$6 -> 2012 | ED2: =EE2-1 -> 2007 | EE2: =EF2-1 -> 2008 | EF2: =EG2-1 -> 2009 | EG2: =EH2-1 -> 2010 | EH2: =EI2-1 -> 2011 | EI2: =instructions!$A$6 -> 2012 | EJ2: =EK2-1 -> 2007 | EK2: =EL2-1 -> 2008 | EL2: =EM2-1 -> 2009 | EM2: =EN2-1 -> 2010 | EN2: =EO2-1 -> 2011 | EO2: =instructions!$A$6 -> 2012 | EP2: =EQ2-1 -> 2007 | EQ2: =ER2-1 -> 2008 | ER2: =ES2-1 -> 2009 | ES2: =ET2-1 -> 2010 | ET2: =EU2-1 -> 2011 | EU2: =instructions!$A$6 -> 2012 | EV2: =EW2-1 -> 2007 | EW2: =EX2-1 -> 2008 | EX2: =EY2-1 -> 2009 | EY2: =EZ2-1 -> 2010 | EZ2: =FA2-1 -> 2011 | FA2: =instructions!$A$6 -> 2012 | FB2: =FC2-1 -> 2008 | FC2: =FD2-1 -> 2009 | FD2: =FE2-1 -> 2010 | FE2: =FF2-1 -> 2011 | FF2: =instructions!$A$6 -> 2012
A3: ELLICOTT MIDD | N3: 47 | O3: 54 | T3: 65 | U3: 52 | V3: 61 | W3: 53 | X3: 58 | Y3: 66 | Z3: 48 | AA3: 51 | AB3: 52 | AC3: 61 | AD3: 47 | AE3: 54 | AF3: 51 | AG3: 56 | AH3: 62 | AI3: 60 | AJ3: 54 | AK3: 51 | BJ3: 20 | BK3: 38 | BP3: 53 | BQ3: 41 | BR3: 42 | BS3: 45 | BT3: 51 | BU3: 36 | BV3: 44 | BW3: 43 | BX3: 39 | BY3: 45 | BZ3: 34 | CA3: 46 | CB3: 36 | CC3: 35 | CD3: 42 | CE3: 39 | CF3: 41 | CG3: 31 | DF3: 54 | DG3: 45 | DL3: 49 | DM3: 44 | DN3: 43 | DO3: 63 | DP3: 57 | DQ3: 41 | DR3: 36 | DS3: 33 | DT3: 41 | DU3: 32 | DV3: 32 | DW3: 38 | DX3: 25 | DY3: 27 | DZ3: 42 | EA3: 34 | EB3: 41 | EC3: 33 | EP3: 22 | EQ3: 29 | EV3: 35 | EW3: 31 | EX3: 47 | EY3: 45 | EZ3: 42 | FA3: 29
A4: Ellicott Elem | B4: 55 | C4: 63 | D4: 73 | E4: 47 | F4: 65 | G4: 62 | H4: 53 | I4: 59 | J4: 65 | K4: 65 | L4: 44 | M4: 62 | P4: 47 | Q4: 68 | R4: 57 | S4: 48 | AX4: 43 | AY4: 41 | AZ4: 44 | BA4: 31 | BB4: 38 | BC4: 43 | BD4: 38 | BE4: 38 | BF4: 52 | BG4: 34 | BH4: 44 | BI4: 46 | BL4: 27 | BM4: 58 | BN4: 43 | BO4: 36 | CT4: 51 | CU4: 64 | CV4: 58 | CW4: 50 | CX4: 67 | CY4: 67 | CZ4: 59 | DA4: 59 | DB4: 76 | DC4: 70 | DD4: 68 | DE4: 79 | DH4: 31 | DI4: 68 | DJ4: 56 | DK4: 50 | ER4: 27 | ES4: 47 | ET4: 33 | EU4: 38
A5: Ellicott Sr High | AL5: 61 | AM5: 59 | AN5: 66 | AO5: 68 | AP5: 66 | AQ5: 58 | AR5: 49 | AS5: 61 | AT5: 67 | AU5: 75 | AV5: 71 | AW5: 59 | CH5: 41 | CI5: 39 | CJ5: 42 | CK5: 38 | CL5: 49 | CM5: 43 | CN5: 27 | CO5: 32 | CP5: 38 | CQ5: 39 | CR5: 46 | CS5: 38 | ED5: 18 | EE5: 23 | EF5: 22 | EG5: 26 | EH5: 27 | EI5: 23 | EJ5: 14 | EK5: 16 | EL5: 20 | EM5: 21 | EN5: 24 | EO5: 8 | FB5: 26 | FC5: 39 | FD5: 51 | FE5: 34 | FF5: 44 | FG5: 34
A6: Ellicott 22 | B6: 55 | C6: 63 | D6: 73 | E6: 47 | F6: 65 | G6: 62 | H6: 53 | I6: 59 | J6: 65 | K6: 65 | L6: 44 | M6: 62 | N6: 47 | O6: 54 | P6: 47 | Q6: 68 | R6: 57 | S6: 48 | T6: 65 | U6: 52 | V6: 61 | W6: 53 | X6: 58 | Y6: 66 | Z6: 47 | AA6: 51 | AB6: 52 | AC6: 61 | AD6: 47 | AE6: 54 | AF6: 51 | AG6: 56 | AH6: 62 | AI6: 60 | AJ6: 54 | AK6: 51 | AL6: 61 | AM6: 59 | AN6: 66 | AO6: 68 | AP6: 66 | AQ6: 58 | AR6: 48 | AS6: 59 | AT6: 67 | AU6: 75 | AV6: 71 | AW6: 59 | AX6: 43 | AY6: 41 | AZ6: 44 | BA6: 31 | BB6: 38 | BC6: 43 | BD6: 38 | BE6: 38 | BF6: 52 | BG6: 34 | BH6: 44 | BI6: 46 | BJ6: 20 | BK6: 38 | BL6: 27 | BM6: 58 | BN6: 43 | BO6: 36 | BP6: 53 | BQ6: 41 | BR6: 42 | BS6: 45 | BT6: 51 | BU6: 36 | BV6: 43 | BW6: 43 | BX6: 39 | BY6: 45 | BZ6: 34 | CA6: 46 | CB6: 36 | CC6: 34 | CD6: 42 | CE6: 39 | CF6: 41 | CG6: 31 | CH6: 41 | CI6: 39 | CJ6: 42 | CK6: 38 | CL6: 49 | CM6: 43 | CN6: 27 | CO6: 31 | CP6: 38 | CQ6: 38 | CR6: 46 | CS6: 38 | CT6: 51 | CU6: 64 | CV6: 58 | CW6: 50 | CX6: 67 | CY6: 67 | CZ6: 59 | DA6: 59 | DB6: 76 | DC6: 70 | DD6: 68 | DE6: 79 | DF6: 54 | DG6: 45 | DH6: 31 | DI6: 68 | DJ6: 56 | DK6: 50 | DL6: 49 | DM6: 44 | DN6: 43 | DO6: 63 | DP6: 57 | DQ6: 41 | DR6: 36 | DS6: 33 | DT6: 41 | DU6: 32 | DV6: 32 | DW6: 38 | DX6: 25 | DY6: 27 | DZ6: 42 | EA6: 34 | EB6: 41 | EC6: 33 | ED6: 18 | EE6: 23 | EF6: 22 | EG6: 26 | EH6: 27 | EI6: 23 | EJ6: 14 | EK6: 15 | EL6: 20 | EM6: 21 | EN6: 24 | EO6: 8 | EP6: 22 | EQ6: 29 | ER6: 27 | ES6: 47 | ET6: 33 | EU6: 38 | EV6: 35 | EW6: 30 | EX6: 47 | EY6: 45 | EZ6: 42 | FA6: 29 | FB6: 25 | FC6: 37 | FD6: 51 | FE6: 34 | FF6: 44 | FG6: 34
A7: Colorado | B7: 71 | C7: 70 | D7: 73 | E7: 70 | F7: 73 | G7: 74 | H7: 64 | I7: 66 | J7: 65 | K7: 66 | L7: 65 | M7: 67 | N7: 69 | O7: 70 | P7: 69 | Q7: 70 | R7: 69 | S7: 69 | T7: 70 | U7: 71 | V7: 72 | W7: 72 | X7: 71 | Y7: 73 | Z7: 65 | AA7: 65 | AB7: 67 | AC7: 68 | AD7: 67 | AE7: 68 | AF7: 63 | AG7: 67 | AH7: 64 | AI7: 68 | AJ7: 67 | AK7: 67 | AL7: 66 | AM7: 66 | AN7: 67 | AO7: 68 | AP7: 66 | AQ7: 67 | AR7: 69 | AS7: 66 | AT7: 69 | AU7: 66 | AV7: 65 | AW7: 68 | AX7: 54 | AY7: 50 | AZ7: 54 | BA7: 50 | BB7: 51 | BC7: 52 | BD7: 49 | BE7: 52 | BF7: 51 | BG7: 50 | BH7: 56 | BI7: 49 | BJ7: 57 | BK7: 59 | BL7: 58 | BM7: 57 | BN7: 60 | BO7: 58 | BP7: 60 | BQ7: 60 | BR7: 61 | BS7: 57 | BT7: 62 | BU7: 56 | BV7: 60 | BW7: 58 | BX7: 62 | BY7: 58 | BZ7: 59 | CA7: 62 | CB7: 51 | CC7: 53 | CD7: 53 | CE7: 55 | CF7: 54 | CG7: 55 | CH7: 49 | CI7: 49 | CJ7: 51 | CK7: 49 | CL7: 53 | CM7: 51 | CN7: 51 | CO7: 47 | CP7: 49 | CQ7: 47 | CR7: 47 | CS7: 48 | CT7: 68 | CU7: 70 | CV7: 69 | CW7: 71 | CX7: 70 | CY7: 71 | CZ7: 71 | DA7: 68 | DB7: 70 | DC7: 70 | DD7: 71 | DE7: 71 | DF7: 65 | DG7: 65 | DH7: 63 | DI7: 66 | DJ7: 66 | DK7: 64 | DL7: 60 | DM7: 61 | DN7: 63 | DO7: 61 | DP7: 63 | DQ7: 61 | DR7: 50 | DS7: 46 | DT7: 54 | DU7: 49 | DV7: 53 | DW7: 53 | DX7: 46 | DY7: 47 | DZ7: 50 | EA7: 51 | EB7: 51 | EC7: 52 | ED7: 35 | EE7: 38 | EF7: 35 | EG7: 39 | EH7: 38 | EI7: 37 | EJ7: 30 | EK7: 30 | EL7: 30 | EM7: 30 | EN7: 32 | EO7: 33 | EP7: 42 | EQ7: 44 | ER7: 45 | ES7: 47 | ET7: 47 | EU7: 49 | EV7: 52 | EW7: 46 | EX7: 49 | EY7: 48 | EZ7: 49 | FA7: 49 | FB7: 48 | FC7: 47 | FD7: 50 | FE7: 47 | FF7: 47 | FG7: 49

Sheet growth charts
A1: ELLICOTT MIDD | G1: <== Please click the dropdown in blue cell A1 to choose the school, district, or state. (Hint: You will probably need to scroll up.)
A3: ='growth charts'!A1 -> ELLICOTT MIDD
A5: Cross-Sectional Growth | I5: Quasi-Longitudinal Growth
A7: Reading | I7: Reading | P7: Graduating Class
A8: Year | B8: =C8-1 -> 2007 | C8: =D8-1 -> 2008 | D8: =E8-1 -> 2009 | E8: =F8-1 -> 2010 | F8: =G8-1 -> 2011 | G8: =instructions!$A$6 -> 2012 | I8: Year | J8: =K8-1 -> 2007 | K8: =L8-1 -> 2008 | L8: =M8-1 -> 2009 | M8: =N8-1 -> 2010 | N8: =O8-1 -> 2011 | O8: =instructions!$A$6 -> 2012
A9: Grade 3 | B9: =IF(J9<>"",J9,"") | C9: =IF(K9<>"",K9,"") | D9: =IF(L9<>"",L9,"") | E9: =IF(M9<>"",M9,"") | F9: =IF(N9<>"",N9,"") | G9: =IF(O9<>"",O9,"") | I9: Grade 3 | J9: =IF(VLOOKUP($A$3,SchoolTable,position!C6,0)<>"",VLOOKUP($A$3,SchoolTable,position!C6,0),"") | K9: =IF(VLOOKUP($A$3,SchoolTable,position!D6,0)<>"",VLOOKUP($A$3,SchoolTable,position!D6,0),"") | L9: =IF(VLOOKUP($A$3,SchoolTable,position!E6,0)<>"",VLOOKUP($A$3,SchoolTable,position!E6,0),"") | M9: =IF(VLOOKUP($A$3,SchoolTable,position!F6,0)<>"",VLOOKUP($A$3,SchoolTable,position!F6,0),"") | N9: =IF(VLOOKUP($A$3,SchoolTable,position!G6,0)<>"",VLOOKUP($A$3,SchoolTable,position!G6,0),"") | O9: =IF(VLOOKUP($A$3,SchoolTable,position!H6,0)<>"",VLOOKUP($A$3,SchoolTable,position!H6,0),"") | P9: =P10+1 -> 2021
A10: Grade 4 | B10: =IF(J10<>"",J10,"") | C10: =IF(K10<>"",K10,"") | D10: =IF(L10<>"",L10,"") | E10: =IF(M10<>"",M10,"") | F10: =IF(N10<>"",N10,"") | G10: =IF(O10<>"",O10,"") | I10: Grade 4 | J10: =IF(VLOOKUP($A$3,SchoolTable,position!C7,0)<>"",VLOOKUP($A$3,SchoolTable,position!C7,0),"") | K10: =IF(VLOOKUP($A$3,SchoolTable,position!D7,0)<>"",VLOOKUP($A$3,SchoolTable,position!D7,0),"") | L10: =IF(VLOOKUP($A$3,SchoolTable,position!E7,0)<>"",VLOOKUP($A$3,SchoolTable,position!E7,0),"") | M10: =IF(VLOOKUP($A$3,SchoolTable,position!F7,0)<>"",VLOOKUP($A$3,SchoolTable,position!F7,0),"") | N10: =IF(VLOOKUP($A$3,SchoolTable,position!G7,0)<>"",VLOOKUP($A$3,SchoolTable,position!G7,0),"") | O10: =IF(VLOOKUP($A$3,SchoolTable,position!H7,0)<>"",VLOOKUP($A$3,SchoolTable,position!H7,0),"") | P10: =P11+1 -> 2020
A11: Grade 5 | B11: =IF(J11<>"",J11,"") -> 47 | C11: =IF(K11<>"",K11,"") -> 54 | D11: =IF(L11<>"",L11,"") | E11: =IF(M11<>"",M11,"") | F11: =IF(N11<>"",N11,"") | G11: =IF(O11<>"",O11,"") | I11: Grade 5 | J11: =IF(VLOOKUP($A$3,SchoolTable,position!C8,0)<>"",VLOOKUP($A$3,SchoolTable,position!C8,0),"") -> 47 | K11: =IF(VLOOKUP($A$3,SchoolTable,position!D8,0)<>"",VLOOKUP($A$3,SchoolTable,position!D8,0),"") -> 54 | L11: =IF(VLOOKUP($A$3,SchoolTable,position!E8,0)<>"",VLOOKUP($A$3,SchoolTable,position!E8,0),"") | M11: =IF(VLOOKUP($A$3,SchoolTable,position!F8,0)<>"",VLOOKUP($A$3,SchoolTable,position!F8,0),"") | N11: =IF(VLOOKUP($A$3,SchoolTable,position!G8,0)<>"",VLOOKUP($A$3,SchoolTable,position!G8,0),"") | O11: =IF(VLOOKUP($A$3,SchoolTable,position!H8,0)<>"",VLOOKUP($A$3,SchoolTable,position!H8,0),"") | P11: =P12+1 -> 2019
A12: Grade 6 | B12: =IF(J12<>"",J12,"") -> 65 | C12: =IF(K12<>"",K12,"") -> 52 | D12: =IF(L12<>"",L12,"") -> 61 | E12: =IF(M12<>"",M12,"") -> 53 | F12: =IF(N12<>"",N12,"") -> 58 | G12: =IF(O12<>"",O12,"") -> 66 | I12: Grade 6 | J12: =IF(VLOOKUP($A$3,SchoolTable,position!C9,0)<>"",VLOOKUP($A$3,SchoolTable,position!C9,0),"") -> 65 | K12: =IF(VLOOKUP($A$3,SchoolTable,position!D9,0)<>"",VLOOKUP($A$3,SchoolTable,position!D9,0),"") -> 52 | L12: =IF(VLOOKUP($A$3,SchoolTable,position!E9,0)<>"",VLOOKUP($A$3,SchoolTable,position!E9,0),"") -> 61 | M12: =IF(VLOOKUP($A$3,SchoolTable,position!F9,0)<>"",VLOOKUP($A$3,SchoolTable,position!F9,0),"") -> 53 | N12: =IF(VLOOKUP($A$3,SchoolTable,position!G9,0)<>"",VLOOKUP($A$3,SchoolTable,position!G9,0),"") -> 58 | O12: =IF(VLOOKUP($A$3,SchoolTable,position!H9,0)<>"",VLOOKUP($A$3,SchoolTable,position!H9,0),"") -> 66 | P12: =P13+1 -> 2018
A13: Grade 7 | B13: =IF(J13<>"",J13,"") -> 48 | C13: =IF(K13<>"",K13,"") -> 51 | D13: =IF(L13<>"",L13,"") -> 52 | E13: =IF(M13<>"",M13,"") -> 61 | F13: =IF(N13<>"",N13,"") -> 47 | G13: =IF(O13<>"",O13,"") -> 54 | I13: Grade 7 | J13: =IF(VLOOKUP($A$3,SchoolTable,position!C10,0)<>"",VLOOKUP($A$3,SchoolTable,position!C10,0),"") -> 48 | K13: =IF(VLOOKUP($A$3,SchoolTable,position!D10,0)<>"",VLOOKUP($A$3,SchoolTable,position!D10,0),"") -> 51 | L13: =IF(VLOOKUP($A$3,SchoolTable,position!E10,0)<>"",VLOOKUP($A$3,SchoolTable,position!E10,0),"") -> 52 | M13: =IF(VLOOKUP($A$3,SchoolTable,position!F10,0)<>"",VLOOKUP($A$3,SchoolTable,position!F10,0),"") -> 61 | N13: =IF(VLOOKUP($A$3,SchoolTable,position!G10,0)<>"",VLOOKUP($A$3,SchoolTable,position!G10,0),"") -> 47 | O13: =IF(VLOOKUP($A$3,SchoolTable,position!H10,0)<>"",VLOOKUP($A$3,SchoolTable,position!H10,0),"") -> 54 | P13: =P14+1 -> 2017
A14: Grade 8 | B14: =IF(J14<>"",J14,"") -> 51 | C14: =IF(K14<>"",K14,"") -> 56 | D14: =IF(L14<>"",L14,"") -> 62 | E14: =IF(M14<>"",M14,"") -> 60 | F14: =IF(N14<>"",N14,"") -> 54 | G14: =IF(O14<>"",O14,"") -> 51 | I14: Grade 8 | J14: =IF(VLOOKUP($A$3,SchoolTable,position!C11,0)<>"",VLOOKUP($A$3,SchoolTable,position!C11,0),"") -> 51 | K14: =IF(VLOOKUP($A$3,SchoolTable,position!D11,0)<>"",VLOOKUP($A$3,SchoolTable,position!D11,0),"") -> 56 | L14: =IF(VLOOKUP($A$3,SchoolTable,position!E11,0)<>"",VLOOKUP($A$3,SchoolTable,position!E11,0),"") -> 62 | M14: =IF(VLOOKUP($A$3,SchoolTable,position!F11,0)<>"",VLOOKUP($A$3,SchoolTable,position!F11,0),"") -> 60 | N14: =IF(VLOOKUP($A$3,SchoolTable,position!G11,0)<>"",VLOOKUP($A$3,SchoolTable,position!G11,0),"") -> 54 | O14: =IF(VLOOKUP($A$3,SchoolTable,position!H11,0)<>"",VLOOKUP($A$3,SchoolTable,position!H11,0),"") -> 51 | P14: =P15+1 -> 2016
A15: Grade 9 | B15: =IF(J15<>"",J15,"") | C15: =IF(K15<>"",K15,"") | D15: =IF(L15<>"",L15,"") | E15: =IF(M15<>"",M15,"") | F15: =IF(N15<>"",N15,"") | G15: =IF(O15<>"",O15,"") | I15: Grade 9 | J15: =IF(VLOOKUP($A$3,SchoolTable,position!C12,0)<>"",VLOOKUP($A$3,SchoolTable,position!C12,0),"") | K15: =IF(VLOOKUP($A$3,SchoolTable,position!D12,0)<>"",VLOOKUP($A$3,SchoolTable,position!D12,0),"") | L15: =IF(VLOOKUP($A$3,SchoolTable,position!E12,0)<>"",VLOOKUP($A$3,SchoolTable,position!E12,0),"") | M15: =IF(VLOOKUP($A$3,SchoolTable,position!F12,0)<>"",VLOOKUP($A$3,SchoolTable,position!F12,0),"") | N15: =IF(VLOOKUP($A$3,SchoolTable,position!G12,0)<>"",VLOOKUP($A$3,SchoolTable,position!G12,0),"") | O15: =IF(VLOOKUP($A$3,SchoolTable,position!H12,0)<>"",VLOOKUP($A$3,SchoolTable,position!H12,0),"") | P15: =P16+1 -> 2015
A16: Grade 10 | B16: =IF(J16<>"",J16,"") | C16: =IF(K16<>"",K16,"") | D16: =IF(L16<>"",L16,"") | E16: =IF(M16<>"",M16,"") | F16: =IF(N16<>"",N16,"") | G16: =IF(O16<>"",O16,"") | I16: Grade 10 | J16: =IF(VLOOKUP($A$3,SchoolTable,position!C13,0)<>"",VLOOKUP($A$3,SchoolTable,position!C13,0),"") | K16: =IF(VLOOKUP($A$3,SchoolTable,position!D13,0)<>"",VLOOKUP($A$3,SchoolTable,position!D13,0),"") | L16: =IF(VLOOKUP($A$3,SchoolTable,position!E13,0)<>"",VLOOKUP($A$3,SchoolTable,position!E13,0),"") | M16: =IF(VLOOKUP($A$3,SchoolTable,position!F13,0)<>"",VLOOKUP($A$3,SchoolTable,position!F13,0),"") | N16: =IF(VLOOKUP($A$3,SchoolTable,position!G13,0)<>"",VLOOKUP($A$3,SchoolTable,position!G13,0),"") | O16: =IF(VLOOKUP($A$3,SchoolTable,position!H13,0)<>"",VLOOKUP($A$3,SchoolTable,position!H13,0),"") | P16: =instructions!A6+2 -> 2014
A18: Writing | I18: Writing | P18: Graduating Class
A19: Year | B19: =C19-1 -> 2007 | C19: =D19-1 -> 2008 | D19: =E19-1 -> 2009 | E19: =F19-1 -> 2010 | F19: =G19-1 -> 2011 | G19: =instructions!$A$6 -> 2012 | I19: Year | J19: =K19-1 -> 2007 | K19: =L19-1 -> 2008 | L19: =M19-1 -> 2009 | M19: =N19-1 -> 2010 | N19: =O19-1 -> 2011 | O19: =instructions!$A$6 -> 2012
A20: Grade 3 | B20: =IF(J20<>"",J20,"") | C20: =IF(K20<>"",K20,"") | D20: =IF(L20<>"",L20,"") | E20: =IF(M20<>"",M20,"") | F20: =IF(N20<>"",N20,"") | G20: =IF(O20<>"",O20,"") | I20: Grade 3 | J20: =IF(VLOOKUP($A$3,SchoolTable,position!C17,0)<>"",VLOOKUP($A$3,SchoolTable,position!C17,0),"") | K20: =IF(VLOOKUP($A$3,SchoolTable,position!D17,0)<>"",VLOOKUP($A$3,SchoolTable,position!D17,0),"") | L20: =IF(VLOOKUP($A$3,SchoolTable,position!E17,0)<>"",VLOOKUP($A$3,SchoolTable,position!E17,0),"") | M20: =IF(VLOOKUP($A$3,SchoolTable,position!F17,0)<>"",VLOOKUP($A$3,SchoolTable,position!F17,0),"") | N20: =IF(VLOOKUP($A$3,SchoolTable,position!G17,0)<>"",VLOOKUP($A$3,SchoolTable,position!G17,0),"") | O20: =IF(VLOOKUP($A$3,SchoolTable,position!H17,0)<>"",VLOOKUP($A$3,SchoolTable,position!H17,0),"") | P20: =P21+1 -> 2021
A21: Grade 4 | B21: =IF(J21<>"",J21,"") | C21: =IF(K21<>"",K21,"") | D21: =IF(L21<>"",L21,"") | E21: =IF(M21<>"",M21,"") | F21: =IF(N21<>"",N21,"") | G21: =IF(O21<>"",O21,"") | I21: Grade 4 | J21: =IF(VLOOKUP($A$3,SchoolTable,position!C18,0)<>"",VLOOKUP($A$3,SchoolTable,position!C18,0),"") | K21: =IF(VLOOKUP($A$3,SchoolTable,position!D18,0)<>"",VLOOKUP($A$3,SchoolTable,position!D18,0),"") | L21: =IF(VLOOKUP($A$3,SchoolTable,position!E18,0)<>"",VLOOKUP($A$3,SchoolTable,position!E18,0),"") | M21: =IF(VLOOKUP($A$3,SchoolTable,position!F18,0)<>"",VLOOKUP($A$3,SchoolTable,position!F18,0),"") | N21: =IF(VLOOKUP($A$3,SchoolTable,position!G18,0)<>"",VLOOKUP($A$3,SchoolTable,position!G18,0),"") | O21: =IF(VLOOKUP($A$3,SchoolTable,position!H18,0)<>"",VLOOKUP($A$3,SchoolTable,position!H18,0),"") | P21: =P22+1 -> 2020
A22: Grade 5 | B22: =IF(J22<>"",J22,"") -> 20 | C22: =IF(K22<>"",K22,"") -> 38 | D22: =IF(L22<>"",L22,"") | E22: =IF(M22<>"",M22,"") | F22: =IF(N22<>"",N22,"") | G22: =IF(O22<>"",O22,"") | I22: Grade 5 | J22: =IF(VLOOKUP($A$3,SchoolTable,position!C19,0)<>"",VLOOKUP($A$3,SchoolTable,position!C19,0),"") -> 20 | K22: =IF(VLOOKUP($A$3,SchoolTable,position!D19,0)<>"",VLOOKUP($A$3,SchoolTable,position!D19,0),"") -> 38 | L22: =IF(VLOOKUP($A$3,SchoolTable,position!E19,0)<>"",VLOOKUP($A$3,SchoolTable,position!E19,0),"") | M22: =IF(VLOOKUP($A$3,SchoolTable,position!F19,0)<>"",VLOOKUP($A$3,SchoolTable,position!F19,0),"") | N22: =IF(VLOOKUP($A$3,SchoolTable,position!G19,0)<>"",VLOOKUP($A$3,SchoolTable,position!G19,0),"") | O22: =IF(VLOOKUP($A$3,SchoolTable,position!H19,0)<>"",VLOOKUP($A$3,SchoolTable,position!H19,0),"") | P22: =P23+1 -> 2019
A23: Grade 6 | B23: =IF(J23<>"",J23,"") -> 53 | C23: =IF(K23<>"",K23,"") -> 41 | D23: =IF(L23<>"",L23,"") -> 42 | E23: =IF(M23<>"",M23,"") -> 45 | F23: =IF(N23<>"",N23,"") -> 51 | G23: =IF(O23<>"",O23,"") -> 36 | I23: Grade 6 | J23: =IF(VLOOKUP($A$3,SchoolTable,position!C20,0)<>"",VLOOKUP($A$3,SchoolTable,position!C20,0),"") -> 53 | K23: =IF(VLOOKUP($A$3,SchoolTable,position!D20,0)<>"",VLOOKUP($A$3,SchoolTable,position!D20,0),"") -> 41 | L23: =IF(VLOOKUP($A$3,SchoolTable,position!E20,0)<>"",VLOOKUP($A$3,SchoolTable,position!E20,0),"") -> 42 | M23: =IF(VLOOKUP($A$3,SchoolTable,position!F20,0)<>"",VLOOKUP($A$3,SchoolTable,position!F20,0),"") -> 45 | N23: =IF(VLOOKUP($A$3,SchoolTable,position!G20,0)<>"",VLOOKUP($A$3,SchoolTable,position!G20,0),"") -> 51 | O23: =IF(VLOOKUP($A$3,SchoolTable,position!H20,0)<>"",VLOOKUP($A$3,SchoolTable,position!H20,0),"") -> 36 | P23: =P24+1 -> 2018
A24: Grade 7 | B24: =IF(J24<>"",J24,"") -> 44 | C24: =IF(K24<>"",K24,"") -> 43 | D24: =IF(L24<>"",L24,"") -> 39 | E24: =IF(M24<>"",M24,"") -> 45 | F24: =IF(N24<>"",N24,"") -> 34 | G24: =IF(O24<>"",O24,"") -> 46 | I24: Grade 7 | J24: =IF(VLOOKUP($A$3,SchoolTable,position!C21,0)<>"",VLOOKUP($A$3,SchoolTable,position!C21,0),"") -> 44 | K24: =IF(VLOOKUP($A$3,SchoolTable,position!D21,0)<>"",VLOOKUP($A$3,SchoolTable,position!D21,0),"") -> 43 | L24: =IF(VLOOKUP($A$3,SchoolTable,position!E21,0)<>"",VLOOKUP($A$3,SchoolTable,position!E21,0),"") -> 39 | M24: =IF(VLOOKUP($A$3,SchoolTable,position!F21,0)<>"",VLOOKUP($A$3,SchoolTable,position!F21,0),"") -> 45 | N24: =IF(VLOOKUP($A$3,SchoolTable,position!G21,0)<>"",VLOOKUP($A$3,SchoolTable,position!G21,0),"") -> 34 | O24: =IF(VLOOKUP($A$3,SchoolTable,position!H21,0)<>"",VLOOKUP($A$3,SchoolTable,position!H21,0),"") -> 46 | P24: =P25+1 -> 2017
A25: Grade 8 | B25: =IF(J25<>"",J25,"") -> 36 | C25: =IF(K25<>"",K25,"") -> 35 | D25: =IF(L25<>"",L25,"") -> 42 | E25: =IF(M25<>"",M25,"") -> 39 | F25: =IF(N25<>"",N25,"") -> 41 | G25: =IF(O25<>"",O25,"") -> 31 | I25: Grade 8 | J25: =IF(VLOOKUP($A$3,SchoolTable,position!C22,0)<>"",VLOOKUP($A$3,SchoolTable,position!C22,0),"") -> 36 | K25: =IF(VLOOKUP($A$3,SchoolTable,position!D22,0)<>"",VLOOKUP($A$3,SchoolTable,position!D22,0),"") -> 35 | L25: =IF(VLOOKUP($A$3,SchoolTable,position!E22,0)<>"",VLOOKUP($A$3,SchoolTable,position!E22,0),"") -> 42 | M25: =IF(VLOOKUP($A$3,SchoolTable,position!F22,0)<>"",VLOOKUP($A$3,SchoolTable,position!F22,0),"") -> 39 | N25: =IF(VLOOKUP($A$3,SchoolTable,position!G22,0)<>"",VLOOKUP($A$3,SchoolTable,position!G22,0),"") -> 41 | O25: =IF(VLOOKUP($A$3,SchoolTable,position!H22,0)<>"",VLOOKUP($A$3,SchoolTable,position!H22,0),"") -> 31 | P25: =P26+1 -> 2016
A26: Grade 9 | B26: =IF(J26<>"",J26,"") | C26: =IF(K26<>"",K26,"") | D26: =IF(L26<>"",L26,"") | E26: =IF(M26<>"",M26,"") | F26: =IF(N26<>"",N26,"") | G26: =IF(O26<>"",O26,"") | I26: Grade 9 | J26: =IF(VLOOKUP($A$3,SchoolTable,position!C23,0)<>"",VLOOKUP($A$3,SchoolTable,position!C23,0),"") | K26: =IF(VLOOKUP($A$3,SchoolTable,position!D23,0)<>"",VLOOKUP($A$3,SchoolTable,position!D23,0),"") | L26: =IF(VLOOKUP($A$3,SchoolTable,position!E23,0)<>"",VLOOKUP($A$3,SchoolTable,position!E23,0),"") | M26: =IF(VLOOKUP($A$3,SchoolTable,position!F23,0)<>"",VLOOKUP($A$3,SchoolTable,position!F23,0),"") | N26: =IF(VLOOKUP($A$3,SchoolTable,position!G23,0)<>"",VLOOKUP($A$3,SchoolTable,position!G23,0),"") | O26: =IF(VLOOKUP($A$3,SchoolTable,position!H23,0)<>"",VLOOKUP($A$3,SchoolTable,position!H23,0),"") | P26: =P27+1 -> 2015
A27: Grade 10 | B27: =IF(J27<>"",J27,"") | C27: =IF(K27<>"",K27,"") | D27: =IF(L27<>"",L27,"") | E27: =IF(M27<>"",M27,"") | F27: =IF(N27<>"",N27,"") | G27: =IF(O27<>"",O27,"") | I27: Grade 10 | J27: =IF(VLOOKUP($A$3,SchoolTable,position!C24,0)<>"",VLOOKUP($A$3,SchoolTable,position!C24,0),"") | K27: =IF(VLOOKUP($A$3,SchoolTable,position!D24,0)<>"",VLOOKUP($A$3,SchoolTable,position!D24,0),"") | L27: =IF(VLOOKUP($A$3,SchoolTable,position!E24,0)<>"",VLOOKUP($A$3,SchoolTable,position!E24,0),"") | M27: =IF(VLOOKUP($A$3,SchoolTable,position!F24,0)<>"",VLOOKUP($A$3,SchoolTable,position!F24,0),"") | N27: =IF(VLOOKUP($A$3,SchoolTable,position!G24,0)<>"",VLOOKUP($A$3,SchoolTable,position!G24,0),"") | O27: =IF(VLOOKUP($A$3,SchoolTable,position!H24,0)<>"",VLOOKUP($A$3,SchoolTable,position!H24,0),"") | P27: =P16 -> 2014
A29: Math | I29: Math | P29: Graduating Class
A30: Year | B30: =C30-1 -> 2007 | C30: =D30-1 -> 2008 | D30: =E30-1 -> 2009 | E30: =F30-1 -> 2010 | F30: =G30-1 -> 2011 | G30: =instructions!$A$6 -> 2012 | I30: Year | J30: =K30-1 -> 2007 | K30: =L30-1 -> 2008 | L30: =M30-1 -> 2009 | M30: =N30-1 -> 2010 | N30: =O30-1 -> 2011 | O30: =instructions!$A$6 -> 2012
A31: Grade 3 | B31: =IF(J31<>"",J31,"") | C31: =IF(K31<>"",K31,"") | D31: =IF(L31<>"",L31,"") | E31: =IF(M31<>"",M31,"") | F31: =IF(N31<>"",N31,"") | G31: =IF(O31<>"",O31,"") | I31: Grade 3 | J31: =IF(VLOOKUP($A$3,SchoolTable,position!C28,0)<>"",VLOOKUP($A$3,SchoolTable,position!C28,0),"") | K31: =IF(VLOOKUP($A$3,SchoolTable,position!D28,0)<>"",VLOOKUP($A$3,SchoolTable,position!D28,0),"") | L31: =IF(VLOOKUP($A$3,SchoolTable,position!E28,0)<>"",VLOOKUP($A$3,SchoolTable,position!E28,0),"") | M31: =IF(VLOOKUP($A$3,SchoolTable,position!F28,0)<>"",VLOOKUP($A$3,SchoolTable,position!F28,0),"") | N31: =IF(VLOOKUP($A$3,SchoolTable,position!G28,0)<>"",VLOOKUP($A$3,SchoolTable,position!G28,0),"") | O31: =IF(VLOOKUP($A$3,SchoolTable,position!H28,0)<>"",VLOOKUP($A$3,SchoolTable,position!H28,0),"") | P31: =P32+1 -> 2021
A32: Grade 4 | B32: =IF(J32<>"",J32,"") | C32: =IF(K32<>"",K32,"") | D32: =IF(L32<>"",L32,"") | E32: =IF(M32<>"",M32,"") | F32: =IF(N32<>"",N32,"") | G32: =IF(O32<>"",O32,"") | I32: Grade 4 | J32: =IF(VLOOKUP($A$3,SchoolTable,position!C29,0)<>"",VLOOKUP($A$3,SchoolTable,position!C29,0),"") | K32: =IF(VLOOKUP($A$3,SchoolTable,position!D29,0)<>"",VLOOKUP($A$3,SchoolTable,position!D29,0),"") | L32: =IF(VLOOKUP($A$3,SchoolTable,position!E29,0)<>"",VLOOKUP($A$3,SchoolTable,position!E29,0),"") | M32: =IF(VLOOKUP($A$3,SchoolTable,position!F29,0)<>"",VLOOKUP($A$3,SchoolTable,position!F29,0),"") | N32: =IF(VLOOKUP($A$3,SchoolTable,position!G29,0)<>"",VLOOKUP($A$3,SchoolTable,position!G29,0),"") | O32: =IF(VLOOKUP($A$3,SchoolTable,position!H29,0)<>"",VLOOKUP($A$3,SchoolTable,position!H29,0),"") | P32: =P33+1 -> 2020
A33: Grade 5 | B33: =IF(J33<>"",J33,"") -> 54 | C33: =IF(K33<>"",K33,"") -> 45 | D33: =IF(L33<>"",L33,"") | E33: =IF(M33<>"",M33,"") | F33: =IF(N33<>"",N33,"") | G33: =IF(O33<>"",O33,"") | I33: Grade 5 | J33: =IF(VLOOKUP($A$3,SchoolTable,position!C30,0)<>"",VLOOKUP($A$3,SchoolTable,position!C30,0),"") -> 54 | K33: =IF(VLOOKUP($A$3,SchoolTable,position!D30,0)<>"",VLOOKUP($A$3,SchoolTable,position!D30,0),"") -> 45 | L33: =IF(VLOOKUP($A$3,SchoolTable,position!E30,0)<>"",VLOOKUP($A$3,SchoolTable,position!E30,0),"") | M33: =IF(VLOOKUP($A$3,SchoolTable,position!F30,0)<>"",VLOOKUP($A$3,SchoolTable,position!F30,0),"") | N33: =IF(VLOOKUP($A$3,SchoolTable,position!G30,0)<>"",VLOOKUP($A$3,SchoolTable,position!G30,0),"") | O33: =IF(VLOOKUP($A$3,SchoolTable,position!H30,0)<>"",VLOOKUP($A$3,SchoolTable,position!H30,0),"") | P33: =P34+1 -> 2019
A34: Grade 6 | B34: =IF(J34<>"",J34,"") -> 49 | C34: =IF(K34<>"",K34,"") -> 44 | D34: =IF(L34<>"",L34,"") -> 43 | E34: =IF(M34<>"",M34,"") -> 63 | F34: =IF(N34<>"",N34,"") -> 57 | G34: =IF(O34<>"",O34,"") -> 41 | I34: Grade 6 | J34: =IF(VLOOKUP($A$3,SchoolTable,position!C31,0)<>"",VLOOKUP($A$3,SchoolTable,position!C31,0),"") -> 49 | K34: =IF(VLOOKUP($A$3,SchoolTable,position!D31,0)<>"",VLOOKUP($A$3,SchoolTable,position!D31,0),"") -> 44 | L34: =IF(VLOOKUP($A$3,SchoolTable,position!E31,0)<>"",VLOOKUP($A$3,SchoolTable,position!E31,0),"") -> 43 | M34: =IF(VLOOKUP($A$3,SchoolTable,position!F31,0)<>"",VLOOKUP($A$3,SchoolTable,position!F31,0),"") -> 63 | N34: =IF(VLOOKUP($A$3,SchoolTable,position!G31,0)<>"",VLOOKUP($A$3,SchoolTable,position!G31,0),"") -> 57 | O34: =IF(VLOOKUP($A$3,SchoolTable,position!H31,0)<>"",VLOOKUP($A$3,SchoolTable,position!H31,0),"") -> 41 | P34: =P35+1 -> 2018
A35: Grade 7 | B35: =IF(J35<>"",J35,"") -> 36 | C35: =IF(K35<>"",K35,"") -> 33 | D35: =IF(L35<>"",L35,"") -> 41 | E35: =IF(M35<>"",M35,"") -> 32 | F35: =IF(N35<>"",N35,"") -> 32 | G35: =IF(O35<>"",O35,"") -> 38 | I35: Grade 7 | J35: =IF(VLOOKUP($A$3,SchoolTable,position!C32,0)<>"",VLOOKUP($A$3,SchoolTable,position!C32,0),"") -> 36 | K35: =IF(VLOOKUP($A$3,SchoolTable,position!D32,0)<>"",VLOOKUP($A$3,SchoolTable,position!D32,0),"") -> 33 | L35: =IF(VLOOKUP($A$3,SchoolTable,position!E32,0)<>"",VLOOKUP($A$3,SchoolTable,position!E32,0),"") -> 41 | M35: =IF(VLOOKUP($A$3,SchoolTable,position!F32,0)<>"",VLOOKUP($A$3,SchoolTable,position!F32,0),"") -> 32 | N35: =IF(VLOOKUP($A$3,SchoolTable,position!G32,0)<>"",VLOOKUP($A$3,SchoolTable,position!G32,0),"") -> 32 | O35: =IF(VLOOKUP($A$3,SchoolTable,position!H32,0)<>"",VLOOKUP($A$3,SchoolTable,position!H32,0),"") -> 38 | P35: =P36+1 -> 2017
A36: Grade 8 | B36: =IF(J36<>"",J36,"") -> 25 | C36: =IF(K36<>"",K36,"") -> 27 | D36: =IF(L36<>"",L36,"") -> 42 | E36: =IF(M36<>"",M36,"") -> 34 | F36: =IF(N36<>"",N36,"") -> 41 | G36: =IF(O36<>"",O36,"") -> 33 | I36: Grade 8 | J36: =IF(VLOOKUP($A$3,SchoolTable,position!C33,0)<>"",VLOOKUP($A$3,SchoolTable,position!C33,0),"") -> 25 | K36: =IF(VLOOKUP($A$3,SchoolTable,position!D33,0)<>"",VLOOKUP($A$3,SchoolTable,position!D33,0),"") -> 27 | L36: =IF(VLOOKUP($A$3,SchoolTable,position!E33,0)<>"",VLOOKUP($A$3,SchoolTable,position!E33,0),"") -> 42 | M36: =IF(VLOOKUP($A$3,SchoolTable,position!F33,0)<>"",VLOOKUP($A$3,SchoolTable,position!F33,0),"") -> 34 | N36: =IF(VLOOKUP($A$3,SchoolTable,position!G33,0)<>"",VLOOKUP($A$3,SchoolTable,position!G33,0),"") -> 41 | O36: =IF(VLOOKUP($A$3,SchoolTable,position!H33,0)<>"",VLOOKUP($A$3,SchoolTable,position!H33,0),"") -> 33 | P36: =P37+1 -> 2016
A37: Grade 9 | B37: =IF(J37<>"",J37,"") | C37: =IF(K37<>"",K37,"") | D37: =IF(L37<>"",L37,"") | E37: =IF(M37<>"",M37,"") | F37: =IF(N37<>"",N37,"") | G37: =IF(O37<>"",O37,"") | I37: Grade 9 | J37: =IF(VLOOKUP($A$3,SchoolTable,position!C34,0)<>"",VLOOKUP($A$3,SchoolTable,position!C34,0),"") | K37: =IF(VLOOKUP($A$3,SchoolTable,position!D34,0)<>"",VLOOKUP($A$3,SchoolTable,position!D34,0),"") | L37: =IF(VLOOKUP($A$3,SchoolTable,position!E34,0)<>"",VLOOKUP($A$3,SchoolTable,position!E34,0),"") | M37: =IF(VLOOKUP($A$3,SchoolTable,position!F34,0)<>"",VLOOKUP($A$3,SchoolTable,position!F34,0),"") | N37: =IF(VLOOKUP($A$3,SchoolTable,position!G34,0)<>"",VLOOKUP($A$3,SchoolTable,position!G34,0),"") | O37: =IF(VLOOKUP($A$3,SchoolTable,position!H34,0)<>"",VLOOKUP($A$3,SchoolTable,position!H34,0),"") | P37: =P38+1 -> 2015
A38: Grade 10 | B38: =IF(J38<>"",J38,"") | C38: =IF(K38<>"",K38,"") | D38: =IF(L38<>"",L38,"") | E38: =IF(M38<>"",M38,"") | F38: =IF(N38<>"",N38,"") | G38: =IF(O38<>"",O38,"") | I38: Grade 10 | J38: =IF(VLOOKUP($A$3,SchoolTable,position!C35,0)<>"",VLOOKUP($A$3,SchoolTable,position!C35,0),"") | K38: =IF(VLOOKUP($A$3,SchoolTable,position!D35,0)<>"",VLOOKUP($A$3,SchoolTable,position!D35,0),"") | L38: =IF(VLOOKUP($A$3,SchoolTable,position!E35,0)<>"",VLOOKUP($A$3,SchoolTable,position!E35,0),"") | M38: =IF(VLOOKUP($A$3,SchoolTable,position!F35,0)<>"",VLOOKUP($A$3,SchoolTable,position!F35,0),"") | N38: =IF(VLOOKUP($A$3,SchoolTable,position!G35,0)<>"",VLOOKUP($A$3,SchoolTable,position!G35,0),"") | O38: =IF(VLOOKUP($A$3,SchoolTable,position!H35,0)<>"",VLOOKUP($A$3,SchoolTable,position!H35,0),"") | P38: =P27 -> 2014
A40: Science | I40: Science | P40: Graduating Class
A41: Year | B41: =C41-1 -> 2007 | C41: =D41-1 -> 2008 | D41: =E41-1 -> 2009 | E41: =F41-1 -> 2010 | F41: =G41-1 -> 2011 | G41: =instructions!$A$6 -> 2012 | I41: Year | J41: =K41-1 -> 2007 | K41: =L41-1 -> 2008 | L41: =M41-1 -> 2009 | M41: =N41-1 -> 2010 | N41: =O41-1 -> 2011 | O41: =instructions!$A$6 -> 2012
A42: Grade 5 | B42: =IF(J42<>"",J42,"") -> 22 | C42: =IF(K42<>"",K42,"") -> 29 | D42: =IF(L42<>"",L42,"") | E42: =IF(M42<>"",M42,"") | F42: =IF(N42<>"",N42,"") | G42: =IF(O42<>"",O42,"") | I42: Grade 5 | J42: =IF(VLOOKUP($A$3,SchoolTable,position!C39,0)<>"",VLOOKUP($A$3,SchoolTable,position!C39,0),"") -> 22 | K42: =IF(VLOOKUP($A$3,SchoolTable,position!D39,0)<>"",VLOOKUP($A$3,SchoolTable,position!D39,0),"") -> 29 | L42: =IF(VLOOKUP($A$3,SchoolTable,position!E39,0)<>"",VLOOKUP($A$3,SchoolTable,position!E39,0),"") | M42: =IF(VLOOKUP($A$3,SchoolTable,position!F39,0)<>"",VLOOKUP($A$3,SchoolTable,position!F39,0),"") | N42: =IF(VLOOKUP($A$3,SchoolTable,position!G39,0)<>"",VLOOKUP($A$3,SchoolTable,position!G39,0),"") | O42: =IF(VLOOKUP($A$3,SchoolTable,position!H39,0)<>"",VLOOKUP($A$3,SchoolTable,position!H39,0),"") | P42: =P33 -> 2019
B43: MMMMMMM | C43: MMMMMMM | D43: MMMMMMM | E43: MMMMMMM | F43: MMMMMMM | G43: MMMMMMM | J43: MMMMMMM | K43: MMMMMMM | L43: MMMMMMM | M43: MMMMMMM | N43: MMMMMMM | O43: MMMMMMM
A44: Grade 8 | B44: =IF(J44<>"",J44,"") -> 35 | C44: =IF(K44<>"",K44,"") -> 31 | D44: =IF(L44<>"",L44,"") -> 47 | E44: =IF(M44<>"",M44,"") -> 45 | F44: =IF(N44<>"",N44,"") -> 42 | G44: =IF(O44<>"",O44,"") -> 29 | I44: Grade 8 | J44: =IF(VLOOKUP($A$3,SchoolTable,position!C40,0)<>"",VLOOKUP($A$3,SchoolTable,position!C40,0),"") -> 35 | K44: =IF(VLOOKUP($A$3,SchoolTable,position!D40,0)<>"",VLOOKUP($A$3,SchoolTable,position!D40,0),"") -> 31 | L44: =IF(VLOOKUP($A$3,SchoolTable,position!E40,0)<>"",VLOOKUP($A$3,SchoolTable,position!E40,0),"") -> 47 | M44: =IF(VLOOKUP($A$3,SchoolTable,position!F40,0)<>"",VLOOKUP($A$3,SchoolTable,position!F40,0),"") -> 45 | N44: =IF(VLOOKUP($A$3,SchoolTable,position!G40,0)<>"",VLOOKUP($A$3,SchoolTable,position!G40,0),"") -> 42 | O44: =IF(VLOOKUP($A$3,SchoolTable,position!H40,0)<>"",VLOOKUP($A$3,SchoolTable,position!H40,0),"") -> 29 | P44: =P36 -> 2016
B45: MMMMMMM | C45: MMMMMMM | D45: MMMMMMM | E45: MMMMMMM | F45: MMMMMMM | G45: MMMMMMM | J45: MMMMMMM | K45: MMMMMMM | L45: MMMMMMM | M45: MMMMMMM | N45: MMMMMMM | O45: MMMMMMM
A46: Grade 10 | B46: =IF(J46<>"",J46,"") | C46: =IF(K46<>"",K46,"") | D46: =IF(L46<>"",L46,"") | E46: =IF(M46<>"",M46,"") | F46: =IF(N46<>"",N46,"") | G46: =IF(O46<>"",O46,"") | I46: Grade 10 | J46: =IF(VLOOKUP($A$3,SchoolTable,position!C41,0)<>"",VLOOKUP($A$3,SchoolTable,position!C41,0),"") | K46: =IF(VLOOKUP($A$3,SchoolTable,position!D41,0)<>"",VLOOKUP($A$3,SchoolTable,position!D41,0),"") | L46: =IF(VLOOKUP($A$3,SchoolTable,position!E41,0)<>"",VLOOKUP($A$3,SchoolTable,position!E41,0),"") | M46: =IF(VLOOKUP($A$3,SchoolTable,position!F41,0)<>"",VLOOKUP($A$3,SchoolTable,position!F41,0),"") | N46: =IF(VLOOKUP($A$3,SchoolTable,position!G41,0)<>"",VLOOKUP($A$3,SchoolTable,position!G41,0),"") | O46: =IF(VLOOKUP($A$3,SchoolTable,position!H41,0)<>"",VLOOKUP($A$3,SchoolTable,position!H41,0),"") | P46: =P38 -> 2014
...

Sheet position
B2: 2002-2009
B4: Reading
B5: Year | C5: =D5-1 -> 2007 | D5: =E5-1 -> 2008 | E5: =F5-1 -> 2009 | F5: =G5-1 -> 2010 | G5: =H5-1 -> 2011 | H5: =instructions!$A$6 -> 2012
B6: Grade 3 | C6: 2 | D6: =C6+1 -> 3 | E6: =D6+1 -> 4 | F6: =E6+1 -> 5 | G6: =F6+1 -> 6 | H6: =G6+1 -> 7
B7: Grade 4 | C7: =H6+1 -> 8 | D7: =C7+1 -> 9 | E7: =D7+1 -> 10 | F7: =E7+1 -> 11 | G7: =F7+1 -> 12 | H7: =G7+1 -> 13
B8: Grade 5 | C8: =H7+1 -> 14 | D8: =C8+1 -> 15 | E8: =D8+1 -> 16 | F8: =E8+1 -> 17 | G8: =F8+1 -> 18 | H8: =G8+1 -> 19
B9: Grade 6 | C9: =H8+1 -> 20 | D9: =C9+1 -> 21 | E9: =D9+1 -> 22 | F9: =E9+1 -> 23 | G9: =F9+1 -> 24 | H9: =G9+1 -> 25
B10: Grade 7 | C10: =H9+1 -> 26 | D10: =C10+1 -> 27 | E10: =D10+1 -> 28 | F10: =E10+1 -> 29 | G10: =F10+1 -> 30 | H10: =G10+1 -> 31
B11: Grade 8 | C11: =H10+1 -> 32 | D11: =C11+1 -> 33 | E11: =D11+1 -> 34 | F11: =E11+1 -> 35 | G11: =F11+1 -> 36 | H11: =G11+1 -> 37
B12: Grade 9 | C12: =H11+1 -> 38 | D12: =C12+1 -> 39 | E12: =D12+1 -> 40 | F12: =E12+1 -> 41 | G12: =F12+1 -> 42 | H12: =G12+1 -> 43
B13: Grade 10 | C13: =H12+1 -> 44 | D13: =C13+1 -> 45 | E13: =D13+1 -> 46 | F13: =E13+1 -> 47 | G13: =F13+1 -> 48 | H13: =G13+1 -> 49
B15: Writing
B16: Year | C16: =D16-1 -> 2007 | D16: =E16-1 -> 2008 | E16: =F16-1 -> 2009 | F16: =G16-1 -> 2010 | G16: =H16-1 -> 2011 | H16: =instructions!$A$6 -> 2012
B17: Grade 3 | C17: =H13+1 -> 50 | D17: =C17+1 -> 51 | E17: =D17+1 -> 52 | F17: =E17+1 -> 53 | G17: =F17+1 -> 54 | H17: =G17+1 -> 55
B18: Grade 4 | C18: =H17+1 -> 56 | D18: =C18+1 -> 57 | E18: =D18+1 -> 58 | F18: =E18+1 -> 59 | G18: =F18+1 -> 60 | H18: =G18+1 -> 61
B19: Grade 5 | C19: =H18+1 -> 62 | D19: =C19+1 -> 63 | E19: =D19+1 -> 64 | F19: =E19+1 -> 65 | G19: =F19+1 -> 66 | H19: =G19+1 -> 67
B20: Grade 6 | C20: =H19+1 -> 68 | D20: =C20+1 -> 69 | E20: =D20+1 -> 70 | F20: =E20+1 -> 71 | G20: =F20+1 -> 72 | H20: =G20+1 -> 73
B21: Grade 7 | C21: =H20+1 -> 74 | D21: =C21+1 -> 75 | E21: =D21+1 -> 76 | F21: =E21+1 -> 77 | G21: =F21+1 -> 78 | H21: =G21+1 -> 79
B22: Grade 8 | C22: =H21+1 -> 80 | D22: =C22+1 -> 81 | E22: =D22+1 -> 82 | F22: =E22+1 -> 83 | G22: =F22+1 -> 84 | H22: =G22+1 -> 85
B23: Grade 9 | C23: =H22+1 -> 86 | D23: =C23+1 -> 87 | E23: =D23+1 -> 88 | F23: =E23+1 -> 89 | G23: =F23+1 -> 90 | H23: =G23+1 -> 91
B24: Grade 10 | C24: =H23+1 -> 92 | D24: =C24+1 -> 93 | E24: =D24+1 -> 94 | F24: =E24+1 -> 95 | G24: =F24+1 -> 96 | H24: =G24+1 -> 97
B26: Math
B27: Year | C27: =D27-1 -> 2007 | D27: =E27-1 -> 2008 | E27: =F27-1 -> 2009 | F27: =G27-1 -> 2010 | G27: =H27-1 -> 2011 | H27: =instructions!$A$6 -> 2012
B28: Grade 3 | C28: =H24+1 -> 98 | D28: =C28+1 -> 99 | E28: =D28+1 -> 100 | F28: =E28+1 -> 101 | G28: =F28+1 -> 102 | H28: =G28+1 -> 103
B29: Grade 4 | C29: =H28+1 -> 104 | D29: =C29+1 -> 105 | E29: =D29+1 -> 106 | F29: =E29+1 -> 107 | G29: =F29+1 -> 108 | H29: =G29+1 -> 109
B30: Grade 5 | C30: =H29+1 -> 110 | D30: =C30+1 -> 111 | E30: =D30+1 -> 112 | F30: =E30+1 -> 113 | G30: =F30+1 -> 114 | H30: =G30+1 -> 115
B31: Grade 6 | C31: =H30+1 -> 116 | D31: =C31+1 -> 117 | E31: =D31+1 -> 118 | F31: =E31+1 -> 119 | G31: =F31+1 -> 120 | H31: =G31+1 -> 121
B32: Grade 7 | C32: =H31+1 -> 122 | D32: =C32+1 -> 123 | E32: =D32+1 -> 124 | F32: =E32+1 -> 125 | G32: =F32+1 -> 126 | H32: =G32+1 -> 127
B33: Grade 8 | C33: =H32+1 -> 128 | D33: =C33+1 -> 129 | E33: =D33+1 -> 130 | F33: =E33+1 -> 131 | G33: =F33+1 -> 132 | H33: =G33+1 -> 133
B34: Grade 9 | C34: =H33+1 -> 134 | D34: =C34+1 -> 135 | E34: =D34+1 -> 136 | F34: =E34+1 -> 137 | G34: =F34+1 -> 138 | H34: =G34+1 -> 139
B35: Grade 10 | C35: =H34+1 -> 140 | D35: =C35+1 -> 141 | E35: =D35+1 -> 142 | F35: =E35+1 -> 143 | G35: =F35+1 -> 144 | H35: =G35+1 -> 145
B37: Science
B38: Year | C38: =D38-1 -> 2007 | D38: =E38-1 -> 2008 | E38: =F38-1 -> 2009 | F38: =G38-1 -> 2010 | G38: =H38-1 -> 2011 | H38: =instructions!$A$6 -> 2012
B39: Grade 5 | C39: =H35+1 -> 146 | D39: =C39+1 -> 147 | E39: =D39+1 -> 148 | F39: =E39+1 -> 149 | G39: =F39+1 -> 150 | H39: =G39+1 -> 151
B40: Grade 8 | C40: =H39+1 -> 152 | D40: =C40+1 -> 153 | E40: =D40+1 -> 154 | F40: =E40+1 -> 155 | G40: =F40+1 -> 156 | H40: =G40+1 -> 157
B41: Grade 10 | C41: =H40+1 -> 158 | D41: =C41+1 -> 159 | E41: =D41+1 -> 160 | F41: =E41+1 -> 161 | G41: =F41+1 -> 162 | H41: =G41+1 -> 163
