Workbook

Sheet Sheet1
B7: Division 1 NCAA Eligibility Worksheet
A8: Name:
A10: Need 4 | B10: ENGLISH | C10: Sem | D10: Credit | E10: MHS Grade | F10: NCAA Grade | G10: Quality Points | H10: TOTAL ENGLISH | I10: =SUM(G11:G16) -> 0 | J10: Quality Points
D11: =IFERROR(VLOOKUP(B11,Sheet3!$A$2:$B$19,2),0) -> 0 | F11: =VLOOKUP(E11,Sheet2!$A$2:$B$6,2) -> 0 | G11: =PRODUCT(D11,F11) -> 0
D12: =IFERROR(VLOOKUP(B12,Sheet3!$A$2:$B$19,2),0) -> 0 | F12: =VLOOKUP(E12,Sheet2!$A$2:$B$6,2) -> 0 | G12: =PRODUCT(D12,F12) -> 0
D13: =IFERROR(VLOOKUP(B13,Sheet3!$A$2:$B$19,2),0) -> 0 | F13: =VLOOKUP(E13,Sheet2!$A$2:$B$6,2) -> 0 | G13: =PRODUCT(D13,F13) -> 0
D14: =IFERROR(VLOOKUP(B14,Sheet3!$A$2:$B$19,2),0) -> 0 | F14: =VLOOKUP(E14,Sheet2!$A$2:$B$6,2) -> 0 | G14: =PRODUCT(D14,F14) -> 0
D15: =IFERROR(VLOOKUP(B15,Sheet3!$A$2:$B$19,2),0) -> 0 | F15: =VLOOKUP(E15,Sheet2!$A$2:$B$6,2) -> 0 | G15: =PRODUCT(D15,F15) -> 0 | O15: Click Here to See All NCAA Approved
D16: =IFERROR(VLOOKUP(B16,Sheet3!$A$2:$B$19,2),0) -> 0 | F16: =VLOOKUP(E16,Sheet2!$A$2:$B$6,2) -> 0 | G16: =PRODUCT(D16,F16) -> 0 | O16: Courses for your High School
A17: Need 3 | B17: MATH | C17: Sem | D17: Credit | E17: Grade | G17: Quality Points | H17: TOTAL MATH | I17: =SUM(G18:G23) -> 0 | J17: Quality Points
D18: =IFERROR(VLOOKUP(B18,Sheet3!$A$43:$B$60,2),0) -> 0 | F18: =VLOOKUP(E18,Sheet2!$A$2:$B$6,2) -> 0 | G18: =PRODUCT(D18,F18) -> 0
D19: =IFERROR(VLOOKUP(B19,Sheet3!$A$43:$B$60,2),0) -> 0 | F19: =VLOOKUP(E19,Sheet2!$A$2:$B$6,2) -> 0 | G19: =PRODUCT(D19,F19) -> 0
D20: =IFERROR(VLOOKUP(B20,Sheet3!$A$43:$B$60,2),0) -> 0 | F20: =VLOOKUP(E20,Sheet2!$A$2:$B$6,2) -> 0 | G20: =PRODUCT(D20,F20) -> 0
D21: =IFERROR(VLOOKUP(B21,Sheet3!$A$43:$B$60,2),0) -> 0 | F21: =VLOOKUP(E21,Sheet2!$A$2:$B$6,2) -> 0 | G21: =PRODUCT(D21,F21) -> 0
D22: =IFERROR(VLOOKUP(B22,Sheet3!$A$43:$B$60,2),0) -> 0 | F22: =VLOOKUP(E22,Sheet2!$A$2:$B$6,2) -> 0 | G22: =PRODUCT(D22,F22) -> 0
D23: =IFERROR(VLOOKUP(B23,Sheet3!$A$43:$B$60,2),0) -> 0 | F23: =VLOOKUP(E23,Sheet2!$A$2:$B$6,2) -> 0 | G23: =PRODUCT(D23,F23) -> 0
A24: Need 2 | B24: SCIENCE | C24: Sem | D24: Credit | E24: Grade | G24: Quality Points | H24: TOTAL SCIENCE | I24: =SUM(G25:G30) -> 0 | J24: Quality Points
D25: =IFERROR(VLOOKUP(B25,Sheet3!$A$61:$B$83,2),0) -> 0 | F25: =VLOOKUP(E25,Sheet2!$A$2:$B$6,2) -> 0 | G25: =PRODUCT(D25,F25) -> 0
D26: =IFERROR(VLOOKUP(B26,Sheet3!$A$61:$B$83,2),0) -> 0 | F26: =VLOOKUP(E26,Sheet2!$A$2:$B$6,2) -> 0 | G26: =PRODUCT(D26,F26) -> 0
D27: =IFERROR(VLOOKUP(B27,Sheet3!$A$61:$B$83,2),0) -> 0 | F27: =VLOOKUP(E27,Sheet2!$A$2:$B$6,2) -> 0 | G27: =PRODUCT(D27,F27) -> 0
D28: =IFERROR(VLOOKUP(B28,Sheet3!$A$61:$B$83,2),0) -> 0 | F28: =VLOOKUP(E28,Sheet2!$A$2:$B$6,2) -> 0 | G28: =PRODUCT(D28,F28) -> 0
D29: =IFERROR(VLOOKUP(B29,Sheet3!$A$61:$B$83,2),0) -> 0 | F29: =VLOOKUP(E29,Sheet2!$A$2:$B$6,2) -> 0 | G29: =PRODUCT(D29,F29) -> 0
D30: =IFERROR(VLOOKUP(B30,Sheet3!$A$61:$B$83,2),0) -> 0 | F30: =VLOOKUP(E30,Sheet2!$A$2:$B$6,2) -> 0 | G30: =PRODUCT(D30,F30) -> 0 | L30: Division I NCAA Sliding Scale | P30: Division II NCAA Sliding Scale
A31: Need 1 | B31: Add. E/M/S | C31: Sem | D31: Credit | E31: Grade | G31: Quality Points | H31: TOTAL E/M/S | I31: =SUM(G32:G35) -> 0 | J31: Quality Points | L31: Core GPA | M31: SAT | N31: ACT-Sum | P31: Core GPA | Q31: SAT | R31: ACT-Sum
D32: =IFERROR(VLOOKUP(B32,Sheet2!$D$2:$E$60,2),0) -> 0 | F32: =VLOOKUP(E32,Sheet2!$A$2:$B$6,2) -> 0 | G32: =PRODUCT(D32,F32) -> 0 | L32: 3.55 | M32: 400 | N32: 37 | P32: 3.300 & above | Q32: 400 | R32: 37
D33: =IFERROR(VLOOKUP(B33,Sheet2!$D$2:$E$60,2),0) -> 0 | F33: =VLOOKUP(E33,Sheet2!$A$2:$B$6,2) -> 0 | G33: =PRODUCT(D33,F33) -> 0 | L33: 3.525 | M33: 410 | N33: 38 | P33: 3.275 | Q33: 410 | R33: 38
D34: =IFERROR(VLOOKUP(B34,Sheet2!$D$2:$E$60,2),0) -> 0 | F34: =VLOOKUP(E34,Sheet2!$A$2:$B$6,2) -> 0 | G34: =PRODUCT(D34,F34) -> 0 | L34: 3.5 | M34: 420 | N34: 39 | P34: 3.25 | Q34: 430 | R34: 39
D35: =IFERROR(VLOOKUP(B35,Sheet2!$D$2:$E$60,2),0) -> 0 | F35: =VLOOKUP(E35,Sheet2!$A$2:$B$6,2) -> 0 | G35: =PRODUCT(D35,F35) -> 0 | L35: 3.475 | M35: 430 | N35: 40 | P35: 3.225 | Q35: 440 | R35: 40
A36: Need 2 | B36: SOCIAL SCI | C36: Sem | D36: Credit | E36: Grade | G36: Quality Points | H36: TOTAL SOC. SCI. | I36: =SUM(G37:G40) -> 0 | J36: Quality Points | L36: 3.45 | M36: 440 | N36: 41 | P36: 3.2 | Q36: 460 | R36: 41
D37: =IFERROR(VLOOKUP(B37,Sheet3!$A$20:$B$42,2),0) -> 0 | F37: =VLOOKUP(E37,Sheet2!$A$2:$B$6,2) -> 0 | G37: =PRODUCT(D37,F37) -> 0 | L37: 3.425 | M37: 450 | N37: 41 | P37: 3.175 | Q37: 470 | R37: 41
D38: =IFERROR(VLOOKUP(B38,Sheet3!$A$20:$B$42,2),0) -> 0 | F38: =VLOOKUP(E38,Sheet2!$A$2:$B$6,2) -> 0 | G38: =PRODUCT(D38,F38) -> 0 | L38: 3.4 | M38: 460 | N38: 42 | P38: 3.15 | Q38: 490 | R38: 42
D39: =IFERROR(VLOOKUP(B39,Sheet3!$A$20:$B$42,2),0) -> 0 | F39: =VLOOKUP(E39,Sheet2!$A$2:$B$6,2) -> 0 | G39: =PRODUCT(D39,F39) -> 0 | L39: 3.375 | M39: 470 | N39: 42 | P39: 3.125 | Q39: 500 | R39: 42
D40: =IFERROR(VLOOKUP(B40,Sheet3!$A$20:$B$42,2),0) -> 0 | F40: =VLOOKUP(E40,Sheet2!$A$2:$B$6,2) -> 0 | G40: =PRODUCT(D40,F40) -> 0 | L40: 3.35 | M40: 480 | N40: 43 | P40: 3.1 | Q40: 520 | R40: 43
A41: Need 4 | B41: ACADEMIC | C41: Sem | D41: Credit | E41: Grade | G41: Quality Points | H41: TOTAL ACADEMIC | I41: =SUM(G42:G54) -> 0 | J41: Quality Points | L41: 3.325 | M41: 490 | N41: 44 | P41: 3.075 | Q41: 530 | R41: 44
D42: =IFERROR(VLOOKUP(B42,Sheet3!$A$2:$B$200,2),0) -> 0 | F42: =VLOOKUP(E42,Sheet2!$A$2:$B$6,2) -> 0 | G42: =PRODUCT(D42,F42) -> 0 | L42: 3.3 | M42: 500 | N42: 44 | P42: 3.05 | Q42: 550 | R42: 44
D43: =IFERROR(VLOOKUP(B43,Sheet3!$A$2:$B$200,2),0) -> 0 | F43: =VLOOKUP(E43,Sheet2!$A$2:$B$6,2) -> 0 | G43: =PRODUCT(D43,F43) -> 0 | L43: 3.275 | M43: 510 | N43: 45 | P43: 3.025 | Q43: 560 | R43: 45
D44: =IFERROR(VLOOKUP(B44,Sheet3!$A$2:$B$200,2),0) -> 0 | F44: =VLOOKUP(E44,Sheet2!$A$2:$B$6,2) -> 0 | G44: =PRODUCT(D44,F44) -> 0 | L44: 3.25 | M44: 520 | N44: 46 | P44: 3 | Q44: 580 | R44: 46
D45: =IFERROR(VLOOKUP(B45,Sheet3!$A$2:$B$200,2),0) -> 0 | F45: =VLOOKUP(E45,Sheet2!$A$2:$B$6,2) -> 0 | G45: =PRODUCT(D45,F45) -> 0 | L45: 3.225 | M45: 530 | N45: 46 | P45: 2.975 | Q45: 590 | R45: 46
D46: =IFERROR(VLOOKUP(B46,Sheet3!$A$2:$B$200,2),0) -> 0 | F46: =VLOOKUP(E46,Sheet2!$A$2:$B$6,2) -> 0 | G46: =PRODUCT(D46,F46) -> 0 | L46: 3.2 | M46: 540 | N46: 47 | P46: 2.95 | Q46: 600 | R46: 47
D47: =IFERROR(VLOOKUP(B47,Sheet3!$A$2:$B$200,2),0) -> 0 | F47: =VLOOKUP(E47,Sheet2!$A$2:$B$6,2) -> 0 | G47: =PRODUCT(D47,F47) -> 0 | L47: 3.175 | M47: 550 | N47: 47 | P47: 2.925 | Q47: 620 | R47: 47
...

Sheet Sheet2
A1: Grade Table | D1: Course Name and Number | E1: Class Assign
A2: 0 | B2: 0 | D2: 0011 English 9 H | E2: 1
A3: 65 | B3: 1 | D3: 0012 English 9R | E3: 1
A4: 70 | B4: 2 | D4: 0021 English 10 H | E4: 1
A5: 80 | B5: 3 | D5: 0022 English 10 R | E5: 1
A6: 90 | B6: 4 | D6: 0031 English 11 H | E6: 1
D7: 0032 English 11 R | E7: 1
D8: 0035 Humanities | E8: 0.5
D9: 0036 Mass Media & Society- Not NCAA Eligible | E9: 0
D10: 0041 English 12 H Brit Literature | E10: 1
D11: 0042 Film as Literature-(Not NCAA Eligible) | E11: 0
D12: 0043 Public Speaking | E12: 0.5
D13: 0044 Creative Writing | E13: 0.5
D14: 9000 English 12 | E14: 1
D15: 0047 Contemporary English | E15: 0.5
D16: 0049 Studies of Modern Lit | E16: 0.5
D17: 0051 AP English Literature & Comp | E17: 1
D18: 0052 AP Language & Comp | E18: 1
... D60: 0355 AP Physics C | E60: 1

Sheet Sheet3
A1: Course Name and Number | B1: Class Assign
A2: 0011 English 9 H | B2: 1
A3: 0012 English 9R | B3: 1
A4: 0021 English 10 H | B4: 1
A5: 0022 English 10 R | B5: 1
A6: 0031 English 11 H | B6: 1
A7: 0032 English 11 R | B7: 1
A8: 0035 Humanities | B8: 0.5
A9: 0036 Mass Media & Society- Not NCAA Eligible | B9: 0
A10: 0041 English 12 H Brit Literature | B10: 1
A11: 0042 Film as Literature-(Not NCAA Eligible) | B11: 0
A12: 0043 Public Speaking | B12: 0.5
A13: 0044 Creative Writing | B13: 0.5
... A105: 0454 Latin Literature H | B105: 1
