Workbook

Sheet Instructions
A1: Instructions: The purpose of this tracker is to allow you to easily keep track of your school's progress toward its goals using Diagnostic and Benchmark assessments administered in JPS. When completed, it provides data that is disaggregated by teacher, grade level, content area and subgroup, and it also provides reporting in terms of LEAP-aligned measures (e.g., Assessment Index).
A2: Important: This Tracker is set up so that you only need to enter data at the individual teacher level. School and subject area totals are automatically calculated from the teacher-level data that you enter. The table below shows what data to enter into what tab.
A4: Data Entry Tab | B4: What Data is Entered:
A5: 1a. Teacher Data (LEAP Courses) | B5: The total number of students at each achievement level for each teacher in a LEAP grade or course.
A6: 2a. Teacher Data (ELL) | B6: The number of ELL students only at each achievement level for each teacher in a LEAP grade or course.
A7: 3a. Teacher Data (SPED) | B7: The number of SPED students only at each achievement level for each teacher in a LEAP grade or course.
A8: 4a. Teacher Data (Acadience) | B8: The overall number of students at each Acadience Benchmark Level for each literacy/ ELA teacher in grades K-3.

Sheet 1a. Teacher Data (LEAP Courses)
A1: Teacher Name | B1: Grade Level | C1: Content/ Course | D1: Cluster (optional) | E1: # Students Enrolled | F1: Optional class description & notes (e.g.,"1st Semester") | G1: Data type | H1: Baseline (Prior Year LEAP and/or Diagnostic) | Q1: Benchmark 1 | Z1: Benchmark 2 | AI1: Benchmark 3 | AR1: YTD AI AVE | AS1: YTD AI GROWTH | AT1: EOY Goals | BB1: Grade | BC1: Content | BD1: Grade.Content | BE1: Cluster | BF1: Baseline (2019 LEAP and/or Diagnostic) | BN1: Benchmark 1 | BV1: Benchmark 2 | CD1: Benchmark 3 | CL1: 2019-20 EOY Goals
H2: U | I2: AB | J2: B | K2: M | L2: A | M2: Basic & above | N2: Mast. & above | O2: % of enrolled students tested | P2: AI | Q2: U | R2: AB | S2: B | T2: M | U2: A | V2: Basic & above | W2: Mast. & above | X2: % of enrolled students tested | Y2: AI | Z2: U | AA2: AB | AB2: B | AC2: M | AD2: A | AE2: Basic & above | AF2: Mast. & above | AG2: % of enrolled students tested | AH2: AI | AI2: U | AJ2: AB | AK2: B | AL2: M | AM2: A | AN2: Basic & above | AO2: Mast. & above | AP2: % of enrolled students tested | AQ2: AI | AT2: U | AU2: AB | AV2: B | AW2: M | AX2: A | AY2: Basic & above | AZ2: Mast. & above | BA2: AI | BF2: U | BG2: AB | BH2: B | BI2: M | BJ2: A | BK2: Basic & above | BL2: Mast. & above | BM2: AI | BN2: U | BO2: AB | BP2: B | BQ2: M | BR2: A | BS2: Basic & above | BT2: Mast. & above | BU2: AI | BV2: U | BW2: AB | BX2: B | BY2: M | BZ2: A | CA2: Basic & above | CB2: Mast. & above | CC2: AI | CD2: U | CE2: AB | CF2: B | CG2: M | CH2: A | CI2: Basic & above | CJ2: Mast. & above | CK2: AI | CL2: U | CM2: AB | CN2: B | CO2: M | CP2: A | CQ2: Basic & above | CR2: Mast. & above | CS2: AI
G3: # | M3: =IF(AND(ISBLANK(H3),ISBLANK(I3),ISBLANK(J3),ISBLANK(K3),ISBLANK(L3)),"",SUM(J3:L3)) | N3: =IF(AND(ISBLANK(H3),ISBLANK(I3),ISBLANK(J3),ISBLANK(K3),ISBLANK(L3)),"",SUM(K3:L3)) | O3: =IFERROR(SUM(H3:L3)/E3,"") | P3: =IFERROR(((80*J3)+(100*K3)+(150*L3))/SUM(H3:L3),"") | V3: =IF(AND(ISBLANK(Q3),ISBLANK(R3),ISBLANK(S3),ISBLANK(T3),ISBLANK(U3)),"",SUM(S3:U3)) | W3: =IF(AND(ISBLANK(Q3),ISBLANK(R3),ISBLANK(S3),ISBLANK(T3),ISBLANK(U3)),"",SUM(T3:U3)) | X3: =IFERROR(SUM(Q3:U3)/$E3,"") | Y3: =IFERROR(((80*S3)+(100*T3)+(150*U3))/SUM(Q3:U3),"") | AE3: =IF(AND(ISBLANK(Z3),ISBLANK(AA3),ISBLANK(AB3),ISBLANK(AC3),ISBLANK(AD3)),"",SUM(AB3:AD3)) | AF3: =IF(AND(ISBLANK(Z3),ISBLANK(AA3),ISBLANK(AB3),ISBLANK(AC3),ISBLANK(AD3)),"",SUM(AC3:AD3)) | AG3: =IFERROR(SUM(Z3:AD3)/$E3,"") | AH3: =IFERROR(((80*AB3)+(100*AC3)+(150*AD3))/SUM(Z3:AD3),"") | AN3: =IF(AND(ISBLANK(AI3),ISBLANK(AJ3),ISBLANK(AK3),ISBLANK(AL3),ISBLANK(AM3)),"",SUM(AK3:AM3)) | AO3: =IF(AND(ISBLANK(AI3),ISBLANK(AJ3),ISBLANK(AK3),ISBLANK(AL3),ISBLANK(AM3)),"",SUM(AL3:AM3)) | AP3: =IFERROR(SUM(AI3:AM3)/$E3,"") | AQ3: =IFERROR(((80*AK3)+(100*AL3)+(150*AM3))/SUM(AI3:AM3),"") | AR3: =IFERROR(AVERAGE(Y3,AH3,AQ3),"") | AS3: =IF(OR(P3="",AR3=""),"",AR3-P3) | AY3: =IF(AND(ISBLANK(AT3),ISBLANK(AU3),ISBLANK(AV3),ISBLANK(AW3),ISBLANK(AX3)),"",SUM(AV3:AX3)) | AZ3: =IF(AND(ISBLANK(AT3),ISBLANK(AU3),ISBLANK(AV3),ISBLANK(AW3),ISBLANK(AX3)),"",SUM(AW3:AX3)) | BA3: =IFERROR(((80*AV3)+(100*AW3)+(150*AX3))/SUM(AT3:AX3),"") | BB3: =B3 -> 0 | BC3: =C3 -> 0 | BD3: =BB3&"."&BC3 -> 0.0 | BE3: =D3 -> 0 | BF3: =H3 -> 0 | BG3: =I3 -> 0 | BH3: =J3 -> 0 | BI3: =K3 -> 0 | BJ3: =L3 -> 0 | BK3: =M3 | BL3: =N3 | BM3: =P3 | BN3: =Q3 -> 0 | BO3: =R3 -> 0 | BP3: =S3 -> 0 | BQ3: =T3 -> 0 | BR3: =U3 -> 0 | BS3: =V3 | BT3: =W3 | BU3: =Y3 | BV3: =Z3 -> 0 | BW3: =AA3 -> 0 | BX3: =AB3 -> 0 | BY3: =AC3 -> 0 | BZ3: =AD3 -> 0 | CA3: =AE3 | CB3: =AF3 | CC3: =AH3 | CD3: =AI3 -> 0 | CE3: =AJ3 -> 0 | CF3: =AK3 -> 0 | CG3: =AL3 -> 0 | CH3: =AM3 -> 0 | CI3: =AN3 | CJ3: =AO3 | CK3: =AQ3 | CL3: =AT3 -> 0 | CM3: =AU3 -> 0 | CN3: =AV3 -> 0 | CO3: =AW3 -> 0 | CP3: =AX3 -> 0 | CQ3: =AY3 | CR3: =AZ3 | CS3: =BA3
G4: % | H4: =IFERROR(H3/SUM(H3:L3),"") | I4: =IFERROR(I3/SUM(H3:L3),"") | J4: =IFERROR(J3/SUM(H3:L3),"") | K4: =IFERROR(K3/SUM(H3:L3),"") | L4: =IFERROR(L3/SUM(H3:L3),"") | M4: =IFERROR(M3/SUM(H3:L3),"") | N4: =IFERROR(N3/SUM(H3:L3),"") | Q4: =IFERROR(Q3/SUM(Q3:U3),"") | R4: =IFERROR(R3/SUM(Q3:U3),"") | S4: =IFERROR(S3/SUM(Q3:U3),"") | T4: =IFERROR(T3/SUM(Q3:U3),"") | U4: =IFERROR(U3/SUM(Q3:U3),"") | V4: =IFERROR(V3/SUM(Q3:U3),"") | W4: =IFERROR(W3/SUM(Q3:U3),"") | Z4: =IFERROR(Z3/SUM(Z3:AD3),"") | AA4: =IFERROR(AA3/SUM(Z3:AD3),"") | AB4: =IFERROR(AB3/SUM(Z3:AD3),"") | AC4: =IFERROR(AC3/SUM(Z3:AD3),"") | AD4: =IFERROR(AD3/SUM(Z3:AD3),"") | AE4: =IFERROR(AE3/SUM(Z3:AD3),"") | AF4: =IFERROR(AF3/SUM(Z3:AD3),"") | AI4: =IFERROR(AI3/SUM(AI3:AM3),"") | AJ4: =IFERROR(AJ3/SUM(AI3:AM3),"") | AK4: =IFERROR(AK3/SUM(AI3:AM3),"") | AL4: =IFERROR(AL3/SUM(AI3:AM3),"") | AM4: =IFERROR(AM3/SUM(AI3:AM3),"") | AN4: =IFERROR(AN3/SUM(AI3:AM3),"") | AO4: =IFERROR(AO3/SUM(AI3:AM3),"") | AT4: =IFERROR(AT3/SUM(AT3:AX3),"") | AU4: =IFERROR(AU3/SUM(AT3:AX3),"") | AV4: =IFERROR(AV3/SUM(AT3:AX3),"") | AW4: =IFERROR(AW3/SUM(AT3:AX3),"") | AX4: =IFERROR(AX3/SUM(AT3:AX3),"") | AY4: =IFERROR(AY3/SUM(AT3:AX3),"") | AZ4: =IFERROR(AZ3/SUM(AT3:AX3),"") | BD4: =BB4&"."&BC4 -> .
G5: # | M5: =IF(AND(ISBLANK(H5),ISBLANK(I5),ISBLANK(J5),ISBLANK(K5),ISBLANK(L5)),"",SUM(J5:L5)) | N5: =IF(AND(ISBLANK(H5),ISBLANK(I5),ISBLANK(J5),ISBLANK(K5),ISBLANK(L5)),"",SUM(K5:L5)) | O5: =IFERROR(SUM(H5:L5)/E5,"") | P5: =IFERROR(((80*J5)+(100*K5)+(150*L5))/SUM(H5:L5),"") | V5: =IF(AND(ISBLANK(Q5),ISBLANK(R5),ISBLANK(S5),ISBLANK(T5),ISBLANK(U5)),"",SUM(S5:U5)) | W5: =IF(AND(ISBLANK(Q5),ISBLANK(R5),ISBLANK(S5),ISBLANK(T5),ISBLANK(U5)),"",SUM(T5:U5)) | X5: =IFERROR(SUM(Q5:U5)/$E5,"") | Y5: =IFERROR(((80*S5)+(100*T5)+(150*U5))/SUM(Q5:U5),"") | AE5: =IF(AND(ISBLANK(Z5),ISBLANK(AA5),ISBLANK(AB5),ISBLANK(AC5),ISBLANK(AD5)),"",SUM(AB5:AD5)) | AF5: =IF(AND(ISBLANK(Z5),ISBLANK(AA5),ISBLANK(AB5),ISBLANK(AC5),ISBLANK(AD5)),"",SUM(AC5:AD5)) | AG5: =IFERROR(SUM(Z5:AD5)/$E5,"") | AH5: =IFERROR(((80*AB5)+(100*AC5)+(150*AD5))/SUM(Z5:AD5),"") | AN5: =IF(AND(ISBLANK(AI5),ISBLANK(AJ5),ISBLANK(AK5),ISBLANK(AL5),ISBLANK(AM5)),"",SUM(AK5:AM5)) | AO5: =IF(AND(ISBLANK(AI5),ISBLANK(AJ5),ISBLANK(AK5),ISBLANK(AL5),ISBLANK(AM5)),"",SUM(AL5:AM5)) | AP5: =IFERROR(SUM(AI5:AM5)/$E5,"") | AQ5: =IFERROR(((80*AK5)+(100*AL5)+(150*AM5))/SUM(AI5:AM5),"") | AR5: =IFERROR(AVERAGE(Y5,AH5,AQ5),"") | AS5: =IF(OR(P5="",AR5=""),"",AR5-P5) | AY5: =IF(AND(ISBLANK(AT5),ISBLANK(AU5),ISBLANK(AV5),ISBLANK(AW5),ISBLANK(AX5)),"",SUM(AV5:AX5)) | AZ5: =IF(AND(ISBLANK(AT5),ISBLANK(AU5),ISBLANK(AV5),ISBLANK(AW5),ISBLANK(AX5)),"",SUM(AW5:AX5)) | BA5: =IFERROR(((80*AV5)+(100*AW5)+(150*AX5))/SUM(AT5:AX5),"") | BB5: =B5 -> 0 | BC5: =C5 -> 0 | BD5: =BB5&"."&BC5 -> 0.0 | BE5: =D5 -> 0 | BF5: =H5 -> 0 | BG5: =I5 -> 0 | BH5: =J5 -> 0 | BI5: =K5 -> 0 | BJ5: =L5 -> 0 | BK5: =M5 | BL5: =N5 | BM5: =P5 | BN5: =Q5 -> 0 | BO5: =R5 -> 0 | BP5: =S5 -> 0 | BQ5: =T5 -> 0 | BR5: =U5 -> 0 | BS5: =V5 | BT5: =W5 | BU5: =Y5 | BV5: =Z5 -> 0 | BW5: =AA5 -> 0 | BX5: =AB5 -> 0 | BY5: =AC5 -> 0 | BZ5: =AD5 -> 0 | CA5: =AE5 | CB5: =AF5 | CC5: =AH5 | CD5: =AI5 -> 0 | CE5: =AJ5 -> 0 | CF5: =AK5 -> 0 | CG5: =AL5 -> 0 | CH5: =AM5 -> 0 | CI5: =AN5 | CJ5: =AO5 | CK5: =AQ5 | CL5: =AT5 -> 0 | CM5: =AU5 -> 0 | CN5: =AV5 -> 0 | CO5: =AW5 -> 0 | CP5: =AX5 -> 0 | CQ5: =AY5 | CR5: =AZ5 | CS5: =BA5
G6: % | H6: =IFERROR(H5/SUM(H5:L5),"") | I6: =IFERROR(I5/SUM(H5:L5),"") | J6: =IFERROR(J5/SUM(H5:L5),"") | K6: =IFERROR(K5/SUM(H5:L5),"") | L6: =IFERROR(L5/SUM(H5:L5),"") | M6: =IFERROR(M5/SUM(H5:L5),"") | N6: =IFERROR(N5/SUM(H5:L5),"") | Q6: =IFERROR(Q5/SUM(Q5:U5),"") | R6: =IFERROR(R5/SUM(Q5:U5),"") | S6: =IFERROR(S5/SUM(Q5:U5),"") | T6: =IFERROR(T5/SUM(Q5:U5),"") | U6: =IFERROR(U5/SUM(Q5:U5),"") | V6: =IFERROR(V5/SUM(Q5:U5),"") | W6: =IFERROR(W5/SUM(Q5:U5),"") | Z6: =IFERROR(Z5/SUM(Z5:AD5),"") | AA6: =IFERROR(AA5/SUM(Z5:AD5),"") | AB6: =IFERROR(AB5/SUM(Z5:AD5),"") | AC6: =IFERROR(AC5/SUM(Z5:AD5),"") | AD6: =IFERROR(AD5/SUM(Z5:AD5),"") | AE6: =IFERROR(AE5/SUM(Z5:AD5),"") | AF6: =IFERROR(AF5/SUM(Z5:AD5),"") | AI6: =IFERROR(AI5/SUM(AI5:AM5),"") | AJ6: =IFERROR(AJ5/SUM(AI5:AM5),"") | AK6: =IFERROR(AK5/SUM(AI5:AM5),"") | AL6: =IFERROR(AL5/SUM(AI5:AM5),"") | AM6: =IFERROR(AM5/SUM(AI5:AM5),"") | AN6: =IFERROR(AN5/SUM(AI5:AM5),"") | AO6: =IFERROR(AO5/SUM(AI5:AM5),"") | AT6: =IFERROR(AT5/SUM(AT5:AX5),"") | AU6: =IFERROR(AU5/SUM(AT5:AX5),"") | AV6: =IFERROR(AV5/SUM(AT5:AX5),"") | AW6: =IFERROR(AW5/SUM(AT5:AX5),"") | AX6: =IFERROR(AX5/SUM(AT5:AX5),"") | AY6: =IFERROR(AY5/SUM(AT5:AX5),"") | AZ6: =IFERROR(AZ5/SUM(AT5:AX5),"") | BD6: =BB6&"."&BC6 -> .
G7: # | M7: =IF(AND(ISBLANK(H7),ISBLANK(I7),ISBLANK(J7),ISBLANK(K7),ISBLANK(L7)),"",SUM(J7:L7)) | N7: =IF(AND(ISBLANK(H7),ISBLANK(I7),ISBLANK(J7),ISBLANK(K7),ISBLANK(L7)),"",SUM(K7:L7)) | O7: =IFERROR(SUM(H7:L7)/E7,"") | P7: =IFERROR(((80*J7)+(100*K7)+(150*L7))/SUM(H7:L7),"") | V7: =IF(AND(ISBLANK(Q7),ISBLANK(R7),ISBLANK(S7),ISBLANK(T7),ISBLANK(U7)),"",SUM(S7:U7)) | W7: =IF(AND(ISBLANK(Q7),ISBLANK(R7),ISBLANK(S7),ISBLANK(T7),ISBLANK(U7)),"",SUM(T7:U7)) | X7: =IFERROR(SUM(Q7:U7)/$E7,"") | Y7: =IFERROR(((80*S7)+(100*T7)+(150*U7))/SUM(Q7:U7),"") | AE7: =IF(AND(ISBLANK(Z7),ISBLANK(AA7),ISBLANK(AB7),ISBLANK(AC7),ISBLANK(AD7)),"",SUM(AB7:AD7)) | AF7: =IF(AND(ISBLANK(Z7),ISBLANK(AA7),ISBLANK(AB7),ISBLANK(AC7),ISBLANK(AD7)),"",SUM(AC7:AD7)) | AG7: =IFERROR(SUM(Z7:AD7)/$E7,"") | AH7: =IFERROR(((80*AB7)+(100*AC7)+(150*AD7))/SUM(Z7:AD7),"") | AN7: =IF(AND(ISBLANK(AI7),ISBLANK(AJ7),ISBLANK(AK7),ISBLANK(AL7),ISBLANK(AM7)),"",SUM(AK7:AM7)) | AO7: =IF(AND(ISBLANK(AI7),ISBLANK(AJ7),ISBLANK(AK7),ISBLANK(AL7),ISBLANK(AM7)),"",SUM(AL7:AM7)) | AP7: =IFERROR(SUM(AI7:AM7)/$E7,"") | AQ7: =IFERROR(((80*AK7)+(100*AL7)+(150*AM7))/SUM(AI7:AM7),"") | AR7: =IFERROR(AVERAGE(Y7,AH7,AQ7),"") | AS7: =IF(OR(P7="",AR7=""),"",AR7-P7) | AY7: =IF(AND(ISBLANK(AT7),ISBLANK(AU7),ISBLANK(AV7),ISBLANK(AW7),ISBLANK(AX7)),"",SUM(AV7:AX7)) | AZ7: =IF(AND(ISBLANK(AT7),ISBLANK(AU7),ISBLANK(AV7),ISBLANK(AW7),ISBLANK(AX7)),"",SUM(AW7:AX7)) | BA7: =IFERROR(((80*AV7)+(100*AW7)+(150*AX7))/SUM(AT7:AX7),"") | BB7: =B7 -> 0 | BC7: =C7 -> 0 | BD7: =BB7&"."&BC7 -> 0.0 | BE7: =D7 -> 0 | BF7: =H7 -> 0 | BG7: =I7 -> 0 | BH7: =J7 -> 0 | BI7: =K7 -> 0 | BJ7: =L7 -> 0 | BK7: =M7 | BL7: =N7 | BM7: =P7 | BN7: =Q7 -> 0 | BO7: =R7 -> 0 | BP7: =S7 -> 0 | BQ7: =T7 -> 0 | BR7: =U7 -> 0 | BS7: =V7 | BT7: =W7 | BU7: =Y7 | BV7: =Z7 -> 0 | BW7: =AA7 -> 0 | BX7: =AB7 -> 0 | BY7: =AC7 -> 0 | BZ7: =AD7 -> 0 | CA7: =AE7 | CB7: =AF7 | CC7: =AH7 | CD7: =AI7 -> 0 | CE7: =AJ7 -> 0 | CF7: =AK7 -> 0 | CG7: =AL7 -> 0 | CH7: =AM7 -> 0 | CI7: =AN7 | CJ7: =AO7 | CK7: =AQ7 | CL7: =AT7 -> 0 | CM7: =AU7 -> 0 | CN7: =AV7 -> 0 | CO7: =AW7 -> 0 | CP7: =AX7 -> 0 | CQ7: =AY7 | CR7: =AZ7 | CS7: =BA7
G8: % | H8: =IFERROR(H7/SUM(H7:L7),"") | I8: =IFERROR(I7/SUM(H7:L7),"") | J8: =IFERROR(J7/SUM(H7:L7),"") | K8: =IFERROR(K7/SUM(H7:L7),"") | L8: =IFERROR(L7/SUM(H7:L7),"") | M8: =IFERROR(M7/SUM(H7:L7),"") | N8: =IFERROR(N7/SUM(H7:L7),"") | Q8: =IFERROR(Q7/SUM(Q7:U7),"") | R8: =IFERROR(R7/SUM(Q7:U7),"") | S8: =IFERROR(S7/SUM(Q7:U7),"") | T8: =IFERROR(T7/SUM(Q7:U7),"") | U8: =IFERROR(U7/SUM(Q7:U7),"") | V8: =IFERROR(V7/SUM(Q7:U7),"") | W8: =IFERROR(W7/SUM(Q7:U7),"") | Z8: =IFERROR(Z7/SUM(Z7:AD7),"") | AA8: =IFERROR(AA7/SUM(Z7:AD7),"") | AB8: =IFERROR(AB7/SUM(Z7:AD7),"") | AC8: =IFERROR(AC7/SUM(Z7:AD7),"") | AD8: =IFERROR(AD7/SUM(Z7:AD7),"") | AE8: =IFERROR(AE7/SUM(Z7:AD7),"") | AF8: =IFERROR(AF7/SUM(Z7:AD7),"") | AI8: =IFERROR(AI7/SUM(AI7:AM7),"") | AJ8: =IFERROR(AJ7/SUM(AI7:AM7),"") | AK8: =IFERROR(AK7/SUM(AI7:AM7),"") | AL8: =IFERROR(AL7/SUM(AI7:AM7),"") | AM8: =IFERROR(AM7/SUM(AI7:AM7),"") | AN8: =IFERROR(AN7/SUM(AI7:AM7),"") | AO8: =IFERROR(AO7/SUM(AI7:AM7),"") | AT8: =IFERROR(AT7/SUM(AT7:AX7),"") | AU8: =IFERROR(AU7/SUM(AT7:AX7),"") | AV8: =IFERROR(AV7/SUM(AT7:AX7),"") | AW8: =IFERROR(AW7/SUM(AT7:AX7),"") | AX8: =IFERROR(AX7/SUM(AT7:AX7),"") | AY8: =IFERROR(AY7/SUM(AT7:AX7),"") | AZ8: =IFERROR(AZ7/SUM(AT7:AX7),"") | BD8: =BB8&"."&BC8 -> .
G9: # | M9: =IF(AND(ISBLANK(H9),ISBLANK(I9),ISBLANK(J9),ISBLANK(K9),ISBLANK(L9)),"",SUM(J9:L9)) | N9: =IF(AND(ISBLANK(H9),ISBLANK(I9),ISBLANK(J9),ISBLANK(K9),ISBLANK(L9)),"",SUM(K9:L9)) | O9: =IFERROR(SUM(H9:L9)/E9,"") | P9: =IFERROR(((80*J9)+(100*K9)+(150*L9))/SUM(H9:L9),"") | V9: =IF(AND(ISBLANK(Q9),ISBLANK(R9),ISBLANK(S9),ISBLANK(T9),ISBLANK(U9)),"",SUM(S9:U9)) | W9: =IF(AND(ISBLANK(Q9),ISBLANK(R9),ISBLANK(S9),ISBLANK(T9),ISBLANK(U9)),"",SUM(T9:U9)) | X9: =IFERROR(SUM(Q9:U9)/$E9,"") | Y9: =IFERROR(((80*S9)+(100*T9)+(150*U9))/SUM(Q9:U9),"") | AE9: =IF(AND(ISBLANK(Z9),ISBLANK(AA9),ISBLANK(AB9),ISBLANK(AC9),ISBLANK(AD9)),"",SUM(AB9:AD9)) | AF9: =IF(AND(ISBLANK(Z9),ISBLANK(AA9),ISBLANK(AB9),ISBLANK(AC9),ISBLANK(AD9)),"",SUM(AC9:AD9)) | AG9: =IFERROR(SUM(Z9:AD9)/$E9,"") | AH9: =IFERROR(((80*AB9)+(100*AC9)+(150*AD9))/SUM(Z9:AD9),"") | AN9: =IF(AND(ISBLANK(AI9),ISBLANK(AJ9),ISBLANK(AK9),ISBLANK(AL9),ISBLANK(AM9)),"",SUM(AK9:AM9)) | AO9: =IF(AND(ISBLANK(AI9),ISBLANK(AJ9),ISBLANK(AK9),ISBLANK(AL9),ISBLANK(AM9)),"",SUM(AL9:AM9)) | AP9: =IFERROR(SUM(AI9:AM9)/$E9,"") | AQ9: =IFERROR(((80*AK9)+(100*AL9)+(150*AM9))/SUM(AI9:AM9),"") | AR9: =IFERROR(AVERAGE(Y9,AH9,AQ9),"") | AS9: =IF(OR(P9="",AR9=""),"",AR9-P9) | AY9: =IF(AND(ISBLANK(AT9),ISBLANK(AU9),ISBLANK(AV9),ISBLANK(AW9),ISBLANK(AX9)),"",SUM(AV9:AX9)) | AZ9: =IF(AND(ISBLANK(AT9),ISBLANK(AU9),ISBLANK(AV9),ISBLANK(AW9),ISBLANK(AX9)),"",SUM(AW9:AX9)) | BA9: =IFERROR(((80*AV9)+(100*AW9)+(150*AX9))/SUM(AT9:AX9),"") | BB9: =B9 -> 0 | BC9: =C9 -> 0 | BD9: =BB9&"."&BC9 -> 0.0 | BE9: =D9 -> 0 | BF9: =H9 -> 0 | BG9: =I9 -> 0 | BH9: =J9 -> 0 | BI9: =K9 -> 0 | BJ9: =L9 -> 0 | BK9: =M9 | BL9: =N9 | BM9: =P9 | BN9: =Q9 -> 0 | BO9: =R9 -> 0 | BP9: =S9 -> 0 | BQ9: =T9 -> 0 | BR9: =U9 -> 0 | BS9: =V9 | BT9: =W9 | BU9: =Y9 | BV9: =Z9 -> 0 | BW9: =AA9 -> 0 | BX9: =AB9 -> 0 | BY9: =AC9 -> 0 | BZ9: =AD9 -> 0 | CA9: =AE9 | CB9: =AF9 | CC9: =AH9 | CD9: =AI9 -> 0 | CE9: =AJ9 -> 0 | CF9: =AK9 -> 0 | CG9: =AL9 -> 0 | CH9: =AM9 -> 0 | CI9: =AN9 | CJ9: =AO9 | CK9: =AQ9 | CL9: =AT9 -> 0 | CM9: =AU9 -> 0 | CN9: =AV9 -> 0 | CO9: =AW9 -> 0 | CP9: =AX9 -> 0 | CQ9: =AY9 | CR9: =AZ9 | CS9: =BA9
G10: % | H10: =IFERROR(H9/SUM(H9:L9),"") | I10: =IFERROR(I9/SUM(H9:L9),"") | J10: =IFERROR(J9/SUM(H9:L9),"") | K10: =IFERROR(K9/SUM(H9:L9),"") | L10: =IFERROR(L9/SUM(H9:L9),"") | M10: =IFERROR(M9/SUM(H9:L9),"") | N10: =IFERROR(N9/SUM(H9:L9),"") | Q10: =IFERROR(Q9/SUM(Q9:U9),"") | R10: =IFERROR(R9/SUM(Q9:U9),"") | S10: =IFERROR(S9/SUM(Q9:U9),"") | T10: =IFERROR(T9/SUM(Q9:U9),"") | U10: =IFERROR(U9/SUM(Q9:U9),"") | V10: =IFERROR(V9/SUM(Q9:U9),"") | W10: =IFERROR(W9/SUM(Q9:U9),"") | Z10: =IFERROR(Z9/SUM(Z9:AD9),"") | AA10: =IFERROR(AA9/SUM(Z9:AD9),"") | AB10: =IFERROR(AB9/SUM(Z9:AD9),"") | AC10: =IFERROR(AC9/SUM(Z9:AD9),"") | AD10: =IFERROR(AD9/SUM(Z9:AD9),"") | AE10: =IFERROR(AE9/SUM(Z9:AD9),"") | AF10: =IFERROR(AF9/SUM(Z9:AD9),"") | AI10: =IFERROR(AI9/SUM(AI9:AM9),"") | AJ10: =IFERROR(AJ9/SUM(AI9:AM9),"") | AK10: =IFERROR(AK9/SUM(AI9:AM9),"") | AL10: =IFERROR(AL9/SUM(AI9:AM9),"") | AM10: =IFERROR(AM9/SUM(AI9:AM9),"") | AN10: =IFERROR(AN9/SUM(AI9:AM9),"") | AO10: =IFERROR(AO9/SUM(AI9:AM9),"") | AT10: =IFERROR(AT9/SUM(AT9:AX9),"") | AU10: =IFERROR(AU9/SUM(AT9:AX9),"") | AV10: =IFERROR(AV9/SUM(AT9:AX9),"") | AW10: =IFERROR(AW9/SUM(AT9:AX9),"") | AX10: =IFERROR(AX9/SUM(AT9:AX9),"") | AY10: =IFERROR(AY9/SUM(AT9:AX9),"") | AZ10: =IFERROR(AZ9/SUM(AT9:AX9),"") | BD10: =BB10&"."&BC10 -> .
G11: # | M11: =IF(AND(ISBLANK(H11),ISBLANK(I11),ISBLANK(J11),ISBLANK(K11),ISBLANK(L11)),"",SUM(J11:L11)) | N11: =IF(AND(ISBLANK(H11),ISBLANK(I11),ISBLANK(J11),ISBLANK(K11),ISBLANK(L11)),"",SUM(K11:L11)) | O11: =IFERROR(SUM(H11:L11)/E11,"") | P11: =IFERROR(((80*J11)+(100*K11)+(150*L11))/SUM(H11:L11),"") | V11: =IF(AND(ISBLANK(Q11),ISBLANK(R11),ISBLANK(S11),ISBLANK(T11),ISBLANK(U11)),"",SUM(S11:U11)) | W11: =IF(AND(ISBLANK(Q11),ISBLANK(R11),ISBLANK(S11),ISBLANK(T11),ISBLANK(U11)),"",SUM(T11:U11)) | X11: =IFERROR(SUM(Q11:U11)/$E11,"") | Y11: =IFERROR(((80*S11)+(100*T11)+(150*U11))/SUM(Q11:U11),"") | AE11: =IF(AND(ISBLANK(Z11),ISBLANK(AA11),ISBLANK(AB11),ISBLANK(AC11),ISBLANK(AD11)),"",SUM(AB11:AD11)) | AF11: =IF(AND(ISBLANK(Z11),ISBLANK(AA11),ISBLANK(AB11),ISBLANK(AC11),ISBLANK(AD11)),"",SUM(AC11:AD11)) | AG11: =IFERROR(SUM(Z11:AD11)/$E11,"") | AH11: =IFERROR(((80*AB11)+(100*AC11)+(150*AD11))/SUM(Z11:AD11),"") | AN11: =IF(AND(ISBLANK(AI11),ISBLANK(AJ11),ISBLANK(AK11),ISBLANK(AL11),ISBLANK(AM11)),"",SUM(AK11:AM11)) | AO11: =IF(AND(ISBLANK(AI11),ISBLANK(AJ11),ISBLANK(AK11),ISBLANK(AL11),ISBLANK(AM11)),"",SUM(AL11:AM11)) | AP11: =IFERROR(SUM(AI11:AM11)/$E11,"") | AQ11: =IFERROR(((80*AK11)+(100*AL11)+(150*AM11))/SUM(AI11:AM11),"") | AR11: =IFERROR(AVERAGE(Y11,AH11,AQ11),"") | AS11: =IF(OR(P11="",AR11=""),"",AR11-P11) | AY11: =IF(AND(ISBLANK(AT11),ISBLANK(AU11),ISBLANK(AV11),ISBLANK(AW11),ISBLANK(AX11)),"",SUM(AV11:AX11)) | AZ11: =IF(AND(ISBLANK(AT11),ISBLANK(AU11),ISBLANK(AV11),ISBLANK(AW11),ISBLANK(AX11)),"",SUM(AW11:AX11)) | BA11: =IFERROR(((80*AV11)+(100*AW11)+(150*AX11))/SUM(AT11:AX11),"") | BB11: =B11 -> 0 | BC11: =C11 -> 0 | BD11: =BB11&"."&BC11 -> 0.0 | BE11: =D11 -> 0 | BF11: =H11 -> 0 | BG11: =I11 -> 0 | BH11: =J11 -> 0 | BI11: =K11 -> 0 | BJ11: =L11 -> 0 | BK11: =M11 | BL11: =N11 | BM11: =P11 | BN11: =Q11 -> 0 | BO11: =R11 -> 0 | BP11: =S11 -> 0 | BQ11: =T11 -> 0 | BR11: =U11 -> 0 | BS11: =V11 | BT11: =W11 | BU11: =Y11 | BV11: =Z11 -> 0 | BW11: =AA11 -> 0 | BX11: =AB11 -> 0 | BY11: =AC11 -> 0 | BZ11: =AD11 -> 0 | CA11: =AE11 | CB11: =AF11 | CC11: =AH11 | CD11: =AI11 -> 0 | CE11: =AJ11 -> 0 | CF11: =AK11 -> 0 | CG11: =AL11 -> 0 | CH11: =AM11 -> 0 | CI11: =AN11 | CJ11: =AO11 | CK11: =AQ11 | CL11: =AT11 -> 0 | CM11: =AU11 -> 0 | CN11: =AV11 -> 0 | CO11: =AW11 -> 0 | CP11: =AX11 -> 0 | CQ11: =AY11 | CR11: =AZ11 | CS11: =BA11
G12: % | H12: =IFERROR(H11/SUM(H11:L11),"") | I12: =IFERROR(I11/SUM(H11:L11),"") | J12: =IFERROR(J11/SUM(H11:L11),"") | K12: =IFERROR(K11/SUM(H11:L11),"") | L12: =IFERROR(L11/SUM(H11:L11),"") | M12: =IFERROR(M11/SUM(H11:L11),"") | N12: =IFERROR(N11/SUM(H11:L11),"") | Q12: =IFERROR(Q11/SUM(Q11:U11),"") | R12: =IFERROR(R11/SUM(Q11:U11),"") | S12: =IFERROR(S11/SUM(Q11:U11),"") | T12: =IFERROR(T11/SUM(Q11:U11),"") | U12: =IFERROR(U11/SUM(Q11:U11),"") | V12: =IFERROR(V11/SUM(Q11:U11),"") | W12: =IFERROR(W11/SUM(Q11:U11),"") | Z12: =IFERROR(Z11/SUM(Z11:AD11),"") | AA12: =IFERROR(AA11/SUM(Z11:AD11),"") | AB12: =IFERROR(AB11/SUM(Z11:AD11),"") | AC12: =IFERROR(AC11/SUM(Z11:AD11),"") | AD12: =IFERROR(AD11/SUM(Z11:AD11),"") | AE12: =IFERROR(AE11/SUM(Z11:AD11),"") | AF12: =IFERROR(AF11/SUM(Z11:AD11),"") | AI12: =IFERROR(AI11/SUM(AI11:AM11),"") | AJ12: =IFERROR(AJ11/SUM(AI11:AM11),"") | AK12: =IFERROR(AK11/SUM(AI11:AM11),"") | AL12: =IFERROR(AL11/SUM(AI11:AM11),"") | AM12: =IFERROR(AM11/SUM(AI11:AM11),"") | AN12: =IFERROR(AN11/SUM(AI11:AM11),"") | AO12: =IFERROR(AO11/SUM(AI11:AM11),"") | AT12: =IFERROR(AT11/SUM(AT11:AX11),"") | AU12: =IFERROR(AU11/SUM(AT11:AX11),"") | AV12: =IFERROR(AV11/SUM(AT11:AX11),"") | AW12: =IFERROR(AW11/SUM(AT11:AX11),"") | AX12: =IFERROR(AX11/SUM(AT11:AX11),"") | AY12: =IFERROR(AY11/SUM(AT11:AX11),"") | AZ12: =IFERROR(AZ11/SUM(AT11:AX11),"") | BD12: =BB12&"."&BC12 -> .
G13: # | M13: =IF(AND(ISBLANK(H13),ISBLANK(I13),ISBLANK(J13),ISBLANK(K13),ISBLANK(L13)),"",SUM(J13:L13)) | N13: =IF(AND(ISBLANK(H13),ISBLANK(I13),ISBLANK(J13),ISBLANK(K13),ISBLANK(L13)),"",SUM(K13:L13)) | O13: =IFERROR(SUM(H13:L13)/E13,"") | P13: =IFERROR(((80*J13)+(100*K13)+(150*L13))/SUM(H13:L13),"") | V13: =IF(AND(ISBLANK(Q13),ISBLANK(R13),ISBLANK(S13),ISBLANK(T13),ISBLANK(U13)),"",SUM(S13:U13)) | W13: =IF(AND(ISBLANK(Q13),ISBLANK(R13),ISBLANK(S13),ISBLANK(T13),ISBLANK(U13)),"",SUM(T13:U13)) | X13: =IFERROR(SUM(Q13:U13)/$E13,"") | Y13: =IFERROR(((80*S13)+(100*T13)+(150*U13))/SUM(Q13:U13),"") | AE13: =IF(AND(ISBLANK(Z13),ISBLANK(AA13),ISBLANK(AB13),ISBLANK(AC13),ISBLANK(AD13)),"",SUM(AB13:AD13)) | AF13: =IF(AND(ISBLANK(Z13),ISBLANK(AA13),ISBLANK(AB13),ISBLANK(AC13),ISBLANK(AD13)),"",SUM(AC13:AD13)) | AG13: =IFERROR(SUM(Z13:AD13)/$E13,"") | AH13: =IFERROR(((80*AB13)+(100*AC13)+(150*AD13))/SUM(Z13:AD13),"") | AN13: =IF(AND(ISBLANK(AI13),ISBLANK(AJ13),ISBLANK(AK13),ISBLANK(AL13),ISBLANK(AM13)),"",SUM(AK13:AM13)) | AO13: =IF(AND(ISBLANK(AI13),ISBLANK(AJ13),ISBLANK(AK13),ISBLANK(AL13),ISBLANK(AM13)),"",SUM(AL13:AM13)) | AP13: =IFERROR(SUM(AI13:AM13)/$E13,"") | AQ13: =IFERROR(((80*AK13)+(100*AL13)+(150*AM13))/SUM(AI13:AM13),"") | AR13: =IFERROR(AVERAGE(Y13,AH13,AQ13),"") | AS13: =IF(OR(P13="",AR13=""),"",AR13-P13) | AY13: =IF(AND(ISBLANK(AT13),ISBLANK(AU13),ISBLANK(AV13),ISBLANK(AW13),ISBLANK(AX13)),"",SUM(AV13:AX13)) | AZ13: =IF(AND(ISBLANK(AT13),ISBLANK(AU13),ISBLANK(AV13),ISBLANK(AW13),ISBLANK(AX13)),"",SUM(AW13:AX13)) | BA13: =IFERROR(((80*AV13)+(100*AW13)+(150*AX13))/SUM(AT13:AX13),"") | BB13: =B13 -> 0 | BC13: =C13 -> 0 | BD13: =BB13&"."&BC13 -> 0.0 | BE13: =D13 -> 0 | BF13: =H13 -> 0 | BG13: =I13 -> 0 | BH13: =J13 -> 0 | BI13: =K13 -> 0 | BJ13: =L13 -> 0 | BK13: =M13 | BL13: =N13 | BM13: =P13 | BN13: =Q13 -> 0 | BO13: =R13 -> 0 | BP13: =S13 -> 0 | BQ13: =T13 -> 0 | BR13: =U13 -> 0 | BS13: =V13 | BT13: =W13 | BU13: =Y13 | BV13: =Z13 -> 0 | BW13: =AA13 -> 0 | BX13: =AB13 -> 0 | BY13: =AC13 -> 0 | BZ13: =AD13 -> 0 | CA13: =AE13 | CB13: =AF13 | CC13: =AH13 | CD13: =AI13 -> 0 | CE13: =AJ13 -> 0 | CF13: =AK13 -> 0 | CG13: =AL13 -> 0 | CH13: =AM13 -> 0 | CI13: =AN13 | CJ13: =AO13 | CK13: =AQ13 | CL13: =AT13 -> 0 | CM13: =AU13 -> 0 | CN13: =AV13 -> 0 | CO13: =AW13 -> 0 | CP13: =AX13 -> 0 | CQ13: =AY13 | CR13: =AZ13 | CS13: =BA13
G14: % | H14: =IFERROR(H13/SUM(H13:L13),"") | I14: =IFERROR(I13/SUM(H13:L13),"") | J14: =IFERROR(J13/SUM(H13:L13),"") | K14: =IFERROR(K13/SUM(H13:L13),"") | L14: =IFERROR(L13/SUM(H13:L13),"") | M14: =IFERROR(M13/SUM(H13:L13),"") | N14: =IFERROR(N13/SUM(H13:L13),"") | Q14: =IFERROR(Q13/SUM(Q13:U13),"") | R14: =IFERROR(R13/SUM(Q13:U13),"") | S14: =IFERROR(S13/SUM(Q13:U13),"") | T14: =IFERROR(T13/SUM(Q13:U13),"") | U14: =IFERROR(U13/SUM(Q13:U13),"") | V14: =IFERROR(V13/SUM(Q13:U13),"") | W14: =IFERROR(W13/SUM(Q13:U13),"") | Z14: =IFERROR(Z13/SUM(Z13:AD13),"") | AA14: =IFERROR(AA13/SUM(Z13:AD13),"") | AB14: =IFERROR(AB13/SUM(Z13:AD13),"") | AC14: =IFERROR(AC13/SUM(Z13:AD13),"") | AD14: =IFERROR(AD13/SUM(Z13:AD13),"") | AE14: =IFERROR(AE13/SUM(Z13:AD13),"") | AF14: =IFERROR(AF13/SUM(Z13:AD13),"") | AI14: =IFERROR(AI13/SUM(AI13:AM13),"") | AJ14: =IFERROR(AJ13/SUM(AI13:AM13),"") | AK14: =IFERROR(AK13/SUM(AI13:AM13),"") | AL14: =IFERROR(AL13/SUM(AI13:AM13),"") | AM14: =IFERROR(AM13/SUM(AI13:AM13),"") | AN14: =IFERROR(AN13/SUM(AI13:AM13),"") | AO14: =IFERROR(AO13/SUM(AI13:AM13),"") | AT14: =IFERROR(AT13/SUM(AT13:AX13),"") | AU14: =IFERROR(AU13/SUM(AT13:AX13),"") | AV14: =IFERROR(AV13/SUM(AT13:AX13),"") | AW14: =IFERROR(AW13/SUM(AT13:AX13),"") | AX14: =IFERROR(AX13/SUM(AT13:AX13),"") | AY14: =IFERROR(AY13/SUM(AT13:AX13),"") | AZ14: =IFERROR(AZ13/SUM(AT13:AX13),"") | BD14: =BB14&"."&BC14 -> .
G15: # | M15: =IF(AND(ISBLANK(H15),ISBLANK(I15),ISBLANK(J15),ISBLANK(K15),ISBLANK(L15)),"",SUM(J15:L15)) | N15: =IF(AND(ISBLANK(H15),ISBLANK(I15),ISBLANK(J15),ISBLANK(K15),ISBLANK(L15)),"",SUM(K15:L15)) | O15: =IFERROR(SUM(H15:L15)/E15,"") | P15: =IFERROR(((80*J15)+(100*K15)+(150*L15))/SUM(H15:L15),"") | V15: =IF(AND(ISBLANK(Q15),ISBLANK(R15),ISBLANK(S15),ISBLANK(T15),ISBLANK(U15)),"",SUM(S15:U15)) | W15: =IF(AND(ISBLANK(Q15),ISBLANK(R15),ISBLANK(S15),ISBLANK(T15),ISBLANK(U15)),"",SUM(T15:U15)) | X15: =IFERROR(SUM(Q15:U15)/$E15,"") | Y15: =IFERROR(((80*S15)+(100*T15)+(150*U15))/SUM(Q15:U15),"") | AE15: =IF(AND(ISBLANK(Z15),ISBLANK(AA15),ISBLANK(AB15),ISBLANK(AC15),ISBLANK(AD15)),"",SUM(AB15:AD15)) | AF15: =IF(AND(ISBLANK(Z15),ISBLANK(AA15),ISBLANK(AB15),ISBLANK(AC15),ISBLANK(AD15)),"",SUM(AC15:AD15)) | AG15: =IFERROR(SUM(Z15:AD15)/$E15,"") | AH15: =IFERROR(((80*AB15)+(100*AC15)+(150*AD15))/SUM(Z15:AD15),"") | AN15: =IF(AND(ISBLANK(AI15),ISBLANK(AJ15),ISBLANK(AK15),ISBLANK(AL15),ISBLANK(AM15)),"",SUM(AK15:AM15)) | AO15: =IF(AND(ISBLANK(AI15),ISBLANK(AJ15),ISBLANK(AK15),ISBLANK(AL15),ISBLANK(AM15)),"",SUM(AL15:AM15)) | AP15: =IFERROR(SUM(AI15:AM15)/$E15,"") | AQ15: =IFERROR(((80*AK15)+(100*AL15)+(150*AM15))/SUM(AI15:AM15),"") | AR15: =IFERROR(AVERAGE(Y15,AH15,AQ15),"") | AS15: =IF(OR(P15="",AR15=""),"",AR15-P15) | AY15: =IF(AND(ISBLANK(AT15),ISBLANK(AU15),ISBLANK(AV15),ISBLANK(AW15),ISBLANK(AX15)),"",SUM(AV15:AX15)) | AZ15: =IF(AND(ISBLANK(AT15),ISBLANK(AU15),ISBLANK(AV15),ISBLANK(AW15),ISBLANK(AX15)),"",SUM(AW15:AX15)) | BA15: =IFERROR(((80*AV15)+(100*AW15)+(150*AX15))/SUM(AT15:AX15),"") | BB15: =B15 -> 0 | BC15: =C15 -> 0 | BD15: =BB15&"."&BC15 -> 0.0 | BE15: =D15 -> 0 | BF15: =H15 -> 0 | BG15: =I15 -> 0 | BH15: =J15 -> 0 | BI15: =K15 -> 0 | BJ15: =L15 -> 0 | BK15: =M15 | BL15: =N15 | BM15: =P15 | BN15: =Q15 -> 0 | BO15: =R15 -> 0 | BP15: =S15 -> 0 | BQ15: =T15 -> 0 | BR15: =U15 -> 0 | BS15: =V15 | BT15: =W15 | BU15: =Y15 | BV15: =Z15 -> 0 | BW15: =AA15 -> 0 | BX15: =AB15 -> 0 | BY15: =AC15 -> 0 | BZ15: =AD15 -> 0 | CA15: =AE15 | CB15: =AF15 | CC15: =AH15 | CD15: =AI15 -> 0 | CE15: =AJ15 -> 0 | CF15: =AK15 -> 0 | CG15: =AL15 -> 0 | CH15: =AM15 -> 0 | CI15: =AN15 | CJ15: =AO15 | CK15: =AQ15 | CL15: =AT15 -> 0 | CM15: =AU15 -> 0 | CN15: =AV15 -> 0 | CO15: =AW15 -> 0 | CP15: =AX15 -> 0 | CQ15: =AY15 | CR15: =AZ15 | CS15: =BA15
G16: % | H16: =IFERROR(H15/SUM(H15:L15),"") | I16: =IFERROR(I15/SUM(H15:L15),"") | J16: =IFERROR(J15/SUM(H15:L15),"") | K16: =IFERROR(K15/SUM(H15:L15),"") | L16: =IFERROR(L15/SUM(H15:L15),"") | M16: =IFERROR(M15/SUM(H15:L15),"") | N16: =IFERROR(N15/SUM(H15:L15),"") | Q16: =IFERROR(Q15/SUM(Q15:U15),"") | R16: =IFERROR(R15/SUM(Q15:U15),"") | S16: =IFERROR(S15/SUM(Q15:U15),"") | T16: =IFERROR(T15/SUM(Q15:U15),"") | U16: =IFERROR(U15/SUM(Q15:U15),"") | V16: =IFERROR(V15/SUM(Q15:U15),"") | W16: =IFERROR(W15/SUM(Q15:U15),"") | Z16: =IFERROR(Z15/SUM(Z15:AD15),"") | AA16: =IFERROR(AA15/SUM(Z15:AD15),"") | AB16: =IFERROR(AB15/SUM(Z15:AD15),"") | AC16: =IFERROR(AC15/SUM(Z15:AD15),"") | AD16: =IFERROR(AD15/SUM(Z15:AD15),"") | AE16: =IFERROR(AE15/SUM(Z15:AD15),"") | AF16: =IFERROR(AF15/SUM(Z15:AD15),"") | AI16: =IFERROR(AI15/SUM(AI15:AM15),"") | AJ16: =IFERROR(AJ15/SUM(AI15:AM15),"") | AK16: =IFERROR(AK15/SUM(AI15:AM15),"") | AL16: =IFERROR(AL15/SUM(AI15:AM15),"") | AM16: =IFERROR(AM15/SUM(AI15:AM15),"") | AN16: =IFERROR(AN15/SUM(AI15:AM15),"") | AO16: =IFERROR(AO15/SUM(AI15:AM15),"") | AT16: =IFERROR(AT15/SUM(AT15:AX15),"") | AU16: =IFERROR(AU15/SUM(AT15:AX15),"") | AV16: =IFERROR(AV15/SUM(AT15:AX15),"") | AW16: =IFERROR(AW15/SUM(AT15:AX15),"") | AX16: =IFERROR(AX15/SUM(AT15:AX15),"") | AY16: =IFERROR(AY15/SUM(AT15:AX15),"") | AZ16: =IFERROR(AZ15/SUM(AT15:AX15),"") | BD16: =BB16&"."&BC16 -> .
G17: # | M17: =IF(AND(ISBLANK(H17),ISBLANK(I17),ISBLANK(J17),ISBLANK(K17),ISBLANK(L17)),"",SUM(J17:L17)) | N17: =IF(AND(ISBLANK(H17),ISBLANK(I17),ISBLANK(J17),ISBLANK(K17),ISBLANK(L17)),"",SUM(K17:L17)) | O17: =IFERROR(SUM(H17:L17)/E17,"") | P17: =IFERROR(((80*J17)+(100*K17)+(150*L17))/SUM(H17:L17),"") | V17: =IF(AND(ISBLANK(Q17),ISBLANK(R17),ISBLANK(S17),ISBLANK(T17),ISBLANK(U17)),"",SUM(S17:U17)) | W17: =IF(AND(ISBLANK(Q17),ISBLANK(R17),ISBLANK(S17),ISBLANK(T17),ISBLANK(U17)),"",SUM(T17:U17)) | X17: =IFERROR(SUM(Q17:U17)/$E17,"") | Y17: =IFERROR(((80*S17)+(100*T17)+(150*U17))/SUM(Q17:U17),"") | AE17: =IF(AND(ISBLANK(Z17),ISBLANK(AA17),ISBLANK(AB17),ISBLANK(AC17),ISBLANK(AD17)),"",SUM(AB17:AD17)) | AF17: =IF(AND(ISBLANK(Z17),ISBLANK(AA17),ISBLANK(AB17),ISBLANK(AC17),ISBLANK(AD17)),"",SUM(AC17:AD17)) | AG17: =IFERROR(SUM(Z17:AD17)/$E17,"") | AH17: =IFERROR(((80*AB17)+(100*AC17)+(150*AD17))/SUM(Z17:AD17),"") | AN17: =IF(AND(ISBLANK(AI17),ISBLANK(AJ17),ISBLANK(AK17),ISBLANK(AL17),ISBLANK(AM17)),"",SUM(AK17:AM17)) | AO17: =IF(AND(ISBLANK(AI17),ISBLANK(AJ17),ISBLANK(AK17),ISBLANK(AL17),ISBLANK(AM17)),"",SUM(AL17:AM17)) | AP17: =IFERROR(SUM(AI17:AM17)/$E17,"") | AQ17: =IFERROR(((80*AK17)+(100*AL17)+(150*AM17))/SUM(AI17:AM17),"") | AR17: =IFERROR(AVERAGE(Y17,AH17,AQ17),"") | AS17: =IF(OR(P17="",AR17=""),"",AR17-P17) | AY17: =IF(AND(ISBLANK(AT17),ISBLANK(AU17),ISBLANK(AV17),ISBLANK(AW17),ISBLANK(AX17)),"",SUM(AV17:AX17)) | AZ17: =IF(AND(ISBLANK(AT17),ISBLANK(AU17),ISBLANK(AV17),ISBLANK(AW17),ISBLANK(AX17)),"",SUM(AW17:AX17)) | BA17: =IFERROR(((80*AV17)+(100*AW17)+(150*AX17))/SUM(AT17:AX17),"") | BB17: =B17 -> 0 | BC17: =C17 -> 0 | BD17: =BB17&"."&BC17 -> 0.0 | BE17: =D17 -> 0 | BF17: =H17 -> 0 | BG17: =I17 -> 0 | BH17: =J17 -> 0 | BI17: =K17 -> 0 | BJ17: =L17 -> 0 | BK17: =M17 | BL17: =N17 | BM17: =P17 | BN17: =Q17 -> 0 | BO17: =R17 -> 0 | BP17: =S17 -> 0 | BQ17: =T17 -> 0 | BR17: =U17 -> 0 | BS17: =V17 | BT17: =W17 | BU17: =Y17 | BV17: =Z17 -> 0 | BW17: =AA17 -> 0 | BX17: =AB17 -> 0 | BY17: =AC17 -> 0 | BZ17: =AD17 -> 0 | CA17: =AE17 | CB17: =AF17 | CC17: =AH17 | CD17: =AI17 -> 0 | CE17: =AJ17 -> 0 | CF17: =AK17 -> 0 | CG17: =AL17 -> 0 | CH17: =AM17 -> 0 | CI17: =AN17 | CJ17: =AO17 | CK17: =AQ17 | CL17: =AT17 -> 0 | CM17: =AU17 -> 0 | CN17: =AV17 -> 0 | CO17: =AW17 -> 0 | CP17: =AX17 -> 0 | CQ17: =AY17 | CR17: =AZ17 | CS17: =BA17
G18: % | H18: =IFERROR(H17/SUM(H17:L17),"") | I18: =IFERROR(I17/SUM(H17:L17),"") | J18: =IFERROR(J17/SUM(H17:L17),"") | K18: =IFERROR(K17/SUM(H17:L17),"") | L18: =IFERROR(L17/SUM(H17:L17),"") | M18: =IFERROR(M17/SUM(H17:L17),"") | N18: =IFERROR(N17/SUM(H17:L17),"") | Q18: =IFERROR(Q17/SUM(Q17:U17),"") | R18: =IFERROR(R17/SUM(Q17:U17),"") | S18: =IFERROR(S17/SUM(Q17:U17),"") | T18: =IFERROR(T17/SUM(Q17:U17),"") | U18: =IFERROR(U17/SUM(Q17:U17),"") | V18: =IFERROR(V17/SUM(Q17:U17),"") | W18: =IFERROR(W17/SUM(Q17:U17),"") | Z18: =IFERROR(Z17/SUM(Z17:AD17),"") | AA18: =IFERROR(AA17/SUM(Z17:AD17),"") | AB18: =IFERROR(AB17/SUM(Z17:AD17),"") | AC18: =IFERROR(AC17/SUM(Z17:AD17),"") | AD18: =IFERROR(AD17/SUM(Z17:AD17),"") | AE18: =IFERROR(AE17/SUM(Z17:AD17),"") | AF18: =IFERROR(AF17/SUM(Z17:AD17),"") | AI18: =IFERROR(AI17/SUM(AI17:AM17),"") | AJ18: =IFERROR(AJ17/SUM(AI17:AM17),"") | AK18: =IFERROR(AK17/SUM(AI17:AM17),"") | AL18: =IFERROR(AL17/SUM(AI17:AM17),"") | AM18: =IFERROR(AM17/SUM(AI17:AM17),"") | AN18: =IFERROR(AN17/SUM(AI17:AM17),"") | AO18: =IFERROR(AO17/SUM(AI17:AM17),"") | AT18: =IFERROR(AT17/SUM(AT17:AX17),"") | AU18: =IFERROR(AU17/SUM(AT17:AX17),"") | AV18: =IFERROR(AV17/SUM(AT17:AX17),"") | AW18: =IFERROR(AW17/SUM(AT17:AX17),"") | AX18: =IFERROR(AX17/SUM(AT17:AX17),"") | AY18: =IFERROR(AY17/SUM(AT17:AX17),"") | AZ18: =IFERROR(AZ17/SUM(AT17:AX17),"") | BD18: =BB18&"."&BC18 -> .
G19: # | M19: =IF(AND(ISBLANK(H19),ISBLANK(I19),ISBLANK(J19),ISBLANK(K19),ISBLANK(L19)),"",SUM(J19:L19)) | N19: =IF(AND(ISBLANK(H19),ISBLANK(I19),ISBLANK(J19),ISBLANK(K19),ISBLANK(L19)),"",SUM(K19:L19)) | O19: =IFERROR(SUM(H19:L19)/E19,"") | P19: =IFERROR(((80*J19)+(100*K19)+(150*L19))/SUM(H19:L19),"") | V19: =IF(AND(ISBLANK(Q19),ISBLANK(R19),ISBLANK(S19),ISBLANK(T19),ISBLANK(U19)),"",SUM(S19:U19)) | W19: =IF(AND(ISBLANK(Q19),ISBLANK(R19),ISBLANK(S19),ISBLANK(T19),ISBLANK(U19)),"",SUM(T19:U19)) | X19: =IFERROR(SUM(Q19:U19)/$E19,"") | Y19: =IFERROR(((80*S19)+(100*T19)+(150*U19))/SUM(Q19:U19),"") | AE19: =IF(AND(ISBLANK(Z19),ISBLANK(AA19),ISBLANK(AB19),ISBLANK(AC19),ISBLANK(AD19)),"",SUM(AB19:AD19)) | AF19: =IF(AND(ISBLANK(Z19),ISBLANK(AA19),ISBLANK(AB19),ISBLANK(AC19),ISBLANK(AD19)),"",SUM(AC19:AD19)) | AG19: =IFERROR(SUM(Z19:AD19)/$E19,"") | AH19: =IFERROR(((80*AB19)+(100*AC19)+(150*AD19))/SUM(Z19:AD19),"") | AN19: =IF(AND(ISBLANK(AI19),ISBLANK(AJ19),ISBLANK(AK19),ISBLANK(AL19),ISBLANK(AM19)),"",SUM(AK19:AM19)) | AO19: =IF(AND(ISBLANK(AI19),ISBLANK(AJ19),ISBLANK(AK19),ISBLANK(AL19),ISBLANK(AM19)),"",SUM(AL19:AM19)) | AP19: =IFERROR(SUM(AI19:AM19)/$E19,"") | AQ19: =IFERROR(((80*AK19)+(100*AL19)+(150*AM19))/SUM(AI19:AM19),"") | AR19: =IFERROR(AVERAGE(Y19,AH19,AQ19),"") | AS19: =IF(OR(P19="",AR19=""),"",AR19-P19) | AY19: =IF(AND(ISBLANK(AT19),ISBLANK(AU19),ISBLANK(AV19),ISBLANK(AW19),ISBLANK(AX19)),"",SUM(AV19:AX19)) | AZ19: =IF(AND(ISBLANK(AT19),ISBLANK(AU19),ISBLANK(AV19),ISBLANK(AW19),ISBLANK(AX19)),"",SUM(AW19:AX19)) | BA19: =IFERROR(((80*AV19)+(100*AW19)+(150*AX19))/SUM(AT19:AX19),"") | BB19: =B19 -> 0 | BC19: =C19 -> 0 | BD19: =BB19&"."&BC19 -> 0.0 | BE19: =D19 -> 0 | BF19: =H19 -> 0 | BG19: =I19 -> 0 | BH19: =J19 -> 0 | BI19: =K19 -> 0 | BJ19: =L19 -> 0 | BK19: =M19 | BL19: =N19 | BM19: =P19 | BN19: =Q19 -> 0 | BO19: =R19 -> 0 | BP19: =S19 -> 0 | BQ19: =T19 -> 0 | BR19: =U19 -> 0 | BS19: =V19 | BT19: =W19 | BU19: =Y19 | BV19: =Z19 -> 0 | BW19: =AA19 -> 0 | BX19: =AB19 -> 0 | BY19: =AC19 -> 0 | BZ19: =AD19 -> 0 | CA19: =AE19 | CB19: =AF19 | CC19: =AH19 | CD19: =AI19 -> 0 | CE19: =AJ19 -> 0 | CF19: =AK19 -> 0 | CG19: =AL19 -> 0 | CH19: =AM19 -> 0 | CI19: =AN19 | CJ19: =AO19 | CK19: =AQ19 | CL19: =AT19 -> 0 | CM19: =AU19 -> 0 | CN19: =AV19 -> 0 | CO19: =AW19 -> 0 | CP19: =AX19 -> 0 | CQ19: =AY19 | CR19: =AZ19 | CS19: =BA19
G20: % | H20: =IFERROR(H19/SUM(H19:L19),"") | I20: =IFERROR(I19/SUM(H19:L19),"") | J20: =IFERROR(J19/SUM(H19:L19),"") | K20: =IFERROR(K19/SUM(H19:L19),"") | L20: =IFERROR(L19/SUM(H19:L19),"") | M20: =IFERROR(M19/SUM(H19:L19),"") | N20: =IFERROR(N19/SUM(H19:L19),"") | Q20: =IFERROR(Q19/SUM(Q19:U19),"") | R20: =IFERROR(R19/SUM(Q19:U19),"") | S20: =IFERROR(S19/SUM(Q19:U19),"") | T20: =IFERROR(T19/SUM(Q19:U19),"") | U20: =IFERROR(U19/SUM(Q19:U19),"") | V20: =IFERROR(V19/SUM(Q19:U19),"") | W20: =IFERROR(W19/SUM(Q19:U19),"") | Z20: =IFERROR(Z19/SUM(Z19:AD19),"") | AA20: =IFERROR(AA19/SUM(Z19:AD19),"") | AB20: =IFERROR(AB19/SUM(Z19:AD19),"") | AC20: =IFERROR(AC19/SUM(Z19:AD19),"") | AD20: =IFERROR(AD19/SUM(Z19:AD19),"") | AE20: =IFERROR(AE19/SUM(Z19:AD19),"") | AF20: =IFERROR(AF19/SUM(Z19:AD19),"") | AI20: =IFERROR(AI19/SUM(AI19:AM19),"") | AJ20: =IFERROR(AJ19/SUM(AI19:AM19),"") | AK20: =IFERROR(AK19/SUM(AI19:AM19),"") | AL20: =IFERROR(AL19/SUM(AI19:AM19),"") | AM20: =IFERROR(AM19/SUM(AI19:AM19),"") | AN20: =IFERROR(AN19/SUM(AI19:AM19),"") | AO20: =IFERROR(AO19/SUM(AI19:AM19),"") | AT20: =IFERROR(AT19/SUM(AT19:AX19),"") | AU20: =IFERROR(AU19/SUM(AT19:AX19),"") | AV20: =IFERROR(AV19/SUM(AT19:AX19),"") | AW20: =IFERROR(AW19/SUM(AT19:AX19),"") | AX20: =IFERROR(AX19/SUM(AT19:AX19),"") | AY20: =IFERROR(AY19/SUM(AT19:AX19),"") | AZ20: =IFERROR(AZ19/SUM(AT19:AX19),"") | BD20: =BB20&"."&BC20 -> .
G21: # | M21: =IF(AND(ISBLANK(H21),ISBLANK(I21),ISBLANK(J21),ISBLANK(K21),ISBLANK(L21)),"",SUM(J21:L21)) | N21: =IF(AND(ISBLANK(H21),ISBLANK(I21),ISBLANK(J21),ISBLANK(K21),ISBLANK(L21)),"",SUM(K21:L21)) | O21: =IFERROR(SUM(H21:L21)/E21,"") | P21: =IFERROR(((80*J21)+(100*K21)+(150*L21))/SUM(H21:L21),"") | V21: =IF(AND(ISBLANK(Q21),ISBLANK(R21),ISBLANK(S21),ISBLANK(T21),ISBLANK(U21)),"",SUM(S21:U21)) | W21: =IF(AND(ISBLANK(Q21),ISBLANK(R21),ISBLANK(S21),ISBLANK(T21),ISBLANK(U21)),"",SUM(T21:U21)) | X21: =IFERROR(SUM(Q21:U21)/$E21,"") | Y21: =IFERROR(((80*S21)+(100*T21)+(150*U21))/SUM(Q21:U21),"") | AE21: =IF(AND(ISBLANK(Z21),ISBLANK(AA21),ISBLANK(AB21),ISBLANK(AC21),ISBLANK(AD21)),"",SUM(AB21:AD21)) | AF21: =IF(AND(ISBLANK(Z21),ISBLANK(AA21),ISBLANK(AB21),ISBLANK(AC21),ISBLANK(AD21)),"",SUM(AC21:AD21)) | AG21: =IFERROR(SUM(Z21:AD21)/$E21,"") | AH21: =IFERROR(((80*AB21)+(100*AC21)+(150*AD21))/SUM(Z21:AD21),"") | AN21: =IF(AND(ISBLANK(AI21),ISBLANK(AJ21),ISBLANK(AK21),ISBLANK(AL21),ISBLANK(AM21)),"",SUM(AK21:AM21)) | AO21: =IF(AND(ISBLANK(AI21),ISBLANK(AJ21),ISBLANK(AK21),ISBLANK(AL21),ISBLANK(AM21)),"",SUM(AL21:AM21)) | AP21: =IFERROR(SUM(AI21:AM21)/$E21,"") | AQ21: =IFERROR(((80*AK21)+(100*AL21)+(150*AM21))/SUM(AI21:AM21),"") | AR21: =IFERROR(AVERAGE(Y21,AH21,AQ21),"") | AS21: =IF(OR(P21="",AR21=""),"",AR21-P21) | AY21: =IF(AND(ISBLANK(AT21),ISBLANK(AU21),ISBLANK(AV21),ISBLANK(AW21),ISBLANK(AX21)),"",SUM(AV21:AX21)) | AZ21: =IF(AND(ISBLANK(AT21),ISBLANK(AU21),ISBLANK(AV21),ISBLANK(AW21),ISBLANK(AX21)),"",SUM(AW21:AX21)) | BA21: =IFERROR(((80*AV21)+(100*AW21)+(150*AX21))/SUM(AT21:AX21),"") | BB21: =B21 -> 0 | BC21: =C21 -> 0 | BD21: =BB21&"."&BC21 -> 0.0 | BE21: =D21 -> 0 | BF21: =H21 -> 0 | BG21: =I21 -> 0 | BH21: =J21 -> 0 | BI21: =K21 -> 0 | BJ21: =L21 -> 0 | BK21: =M21 | BL21: =N21 | BM21: =P21 | BN21: =Q21 -> 0 | BO21: =R21 -> 0 | BP21: =S21 -> 0 | BQ21: =T21 -> 0 | BR21: =U21 -> 0 | BS21: =V21 | BT21: =W21 | BU21: =Y21 | BV21: =Z21 -> 0 | BW21: =AA21 -> 0 | BX21: =AB21 -> 0 | BY21: =AC21 -> 0 | BZ21: =AD21 -> 0 | CA21: =AE21 | CB21: =AF21 | CC21: =AH21 | CD21: =AI21 -> 0 | CE21: =AJ21 -> 0 | CF21: =AK21 -> 0 | CG21: =AL21 -> 0 | CH21: =AM21 -> 0 | CI21: =AN21 | CJ21: =AO21 | CK21: =AQ21 | CL21: =AT21 -> 0 | CM21: =AU21 -> 0 | CN21: =AV21 -> 0 | CO21: =AW21 -> 0 | CP21: =AX21 -> 0 | CQ21: =AY21 | CR21: =AZ21 | CS21: =BA21
G22: % | H22: =IFERROR(H21/SUM(H21:L21),"") | I22: =IFERROR(I21/SUM(H21:L21),"") | J22: =IFERROR(J21/SUM(H21:L21),"") | K22: =IFERROR(K21/SUM(H21:L21),"") | L22: =IFERROR(L21/SUM(H21:L21),"") | M22: =IFERROR(M21/SUM(H21:L21),"") | N22: =IFERROR(N21/SUM(H21:L21),"") | Q22: =IFERROR(Q21/SUM(Q21:U21),"") | R22: =IFERROR(R21/SUM(Q21:U21),"") | S22: =IFERROR(S21/SUM(Q21:U21),"") | T22: =IFERROR(T21/SUM(Q21:U21),"") | U22: =IFERROR(U21/SUM(Q21:U21),"") | V22: =IFERROR(V21/SUM(Q21:U21),"") | W22: =IFERROR(W21/SUM(Q21:U21),"") | Z22: =IFERROR(Z21/SUM(Z21:AD21),"") | AA22: =IFERROR(AA21/SUM(Z21:AD21),"") | AB22: =IFERROR(AB21/SUM(Z21:AD21),"") | AC22: =IFERROR(AC21/SUM(Z21:AD21),"") | AD22: =IFERROR(AD21/SUM(Z21:AD21),"") | AE22: =IFERROR(AE21/SUM(Z21:AD21),"") | AF22: =IFERROR(AF21/SUM(Z21:AD21),"") | AI22: =IFERROR(AI21/SUM(AI21:AM21),"") | AJ22: =IFERROR(AJ21/SUM(AI21:AM21),"") | AK22: =IFERROR(AK21/SUM(AI21:AM21),"") | AL22: =IFERROR(AL21/SUM(AI21:AM21),"") | AM22: =IFERROR(AM21/SUM(AI21:AM21),"") | AN22: =IFERROR(AN21/SUM(AI21:AM21),"") | AO22: =IFERROR(AO21/SUM(AI21:AM21),"") | AT22: =IFERROR(AT21/SUM(AT21:AX21),"") | AU22: =IFERROR(AU21/SUM(AT21:AX21),"") | AV22: =IFERROR(AV21/SUM(AT21:AX21),"") | AW22: =IFERROR(AW21/SUM(AT21:AX21),"") | AX22: =IFERROR(AX21/SUM(AT21:AX21),"") | AY22: =IFERROR(AY21/SUM(AT21:AX21),"") | AZ22: =IFERROR(AZ21/SUM(AT21:AX21),"") | BD22: =BB22&"."&BC22 -> .
G23: # | M23: =IF(AND(ISBLANK(H23),ISBLANK(I23),ISBLANK(J23),ISBLANK(K23),ISBLANK(L23)),"",SUM(J23:L23)) | N23: =IF(AND(ISBLANK(H23),ISBLANK(I23),ISBLANK(J23),ISBLANK(K23),ISBLANK(L23)),"",SUM(K23:L23)) | O23: =IFERROR(SUM(H23:L23)/E23,"") | P23: =IFERROR(((80*J23)+(100*K23)+(150*L23))/SUM(H23:L23),"") | V23: =IF(AND(ISBLANK(Q23),ISBLANK(R23),ISBLANK(S23),ISBLANK(T23),ISBLANK(U23)),"",SUM(S23:U23)) | W23: =IF(AND(ISBLANK(Q23),ISBLANK(R23),ISBLANK(S23),ISBLANK(T23),ISBLANK(U23)),"",SUM(T23:U23)) | X23: =IFERROR(SUM(Q23:U23)/$E23,"") | Y23: =IFERROR(((80*S23)+(100*T23)+(150*U23))/SUM(Q23:U23),"") | AE23: =IF(AND(ISBLANK(Z23),ISBLANK(AA23),ISBLANK(AB23),ISBLANK(AC23),ISBLANK(AD23)),"",SUM(AB23:AD23)) | AF23: =IF(AND(ISBLANK(Z23),ISBLANK(AA23),ISBLANK(AB23),ISBLANK(AC23),ISBLANK(AD23)),"",SUM(AC23:AD23)) | AG23: =IFERROR(SUM(Z23:AD23)/$E23,"") | AH23: =IFERROR(((80*AB23)+(100*AC23)+(150*AD23))/SUM(Z23:AD23),"") | AN23: =IF(AND(ISBLANK(AI23),ISBLANK(AJ23),ISBLANK(AK23),ISBLANK(AL23),ISBLANK(AM23)),"",SUM(AK23:AM23)) | AO23: =IF(AND(ISBLANK(AI23),ISBLANK(AJ23),ISBLANK(AK23),ISBLANK(AL23),ISBLANK(AM23)),"",SUM(AL23:AM23)) | AP23: =IFERROR(SUM(AI23:AM23)/$E23,"") | AQ23: =IFERROR(((80*AK23)+(100*AL23)+(150*AM23))/SUM(AI23:AM23),"") | AR23: =IFERROR(AVERAGE(Y23,AH23,AQ23),"") | AS23: =IF(OR(P23="",AR23=""),"",AR23-P23) | AY23: =IF(AND(ISBLANK(AT23),ISBLANK(AU23),ISBLANK(AV23),ISBLANK(AW23),ISBLANK(AX23)),"",SUM(AV23:AX23)) | AZ23: =IF(AND(ISBLANK(AT23),ISBLANK(AU23),ISBLANK(AV23),ISBLANK(AW23),ISBLANK(AX23)),"",SUM(AW23:AX23)) | BA23: =IFERROR(((80*AV23)+(100*AW23)+(150*AX23))/SUM(AT23:AX23),"") | BB23: =B23 -> 0 | BC23: =C23 -> 0 | BD23: =BB23&"."&BC23 -> 0.0 | BE23: =D23 -> 0 | BF23: =H23 -> 0 | BG23: =I23 -> 0 | BH23: =J23 -> 0 | BI23: =K23 -> 0 | BJ23: =L23 -> 0 | BK23: =M23 | BL23: =N23 | BM23: =P23 | BN23: =Q23 -> 0 | BO23: =R23 -> 0 | BP23: =S23 -> 0 | BQ23: =T23 -> 0 | BR23: =U23 -> 0 | BS23: =V23 | BT23: =W23 | BU23: =Y23 | BV23: =Z23 -> 0 | BW23: =AA23 -> 0 | BX23: =AB23 -> 0 | BY23: =AC23 -> 0 | BZ23: =AD23 -> 0 | CA23: =AE23 | CB23: =AF23 | CC23: =AH23 | CD23: =AI23 -> 0 | CE23: =AJ23 -> 0 | CF23: =AK23 -> 0 | CG23: =AL23 -> 0 | CH23: =AM23 -> 0 | CI23: =AN23 | CJ23: =AO23 | CK23: =AQ23 | CL23: =AT23 -> 0 | CM23: =AU23 -> 0 | CN23: =AV23 -> 0 | CO23: =AW23 -> 0 | CP23: =AX23 -> 0 | CQ23: =AY23 | CR23: =AZ23 | CS23: =BA23
G24: % | H24: =IFERROR(H23/SUM(H23:L23),"") | I24: =IFERROR(I23/SUM(H23:L23),"") | J24: =IFERROR(J23/SUM(H23:L23),"") | K24: =IFERROR(K23/SUM(H23:L23),"") | L24: =IFERROR(L23/SUM(H23:L23),"") | M24: =IFERROR(M23/SUM(H23:L23),"") | N24: =IFERROR(N23/SUM(H23:L23),"") | Q24: =IFERROR(Q23/SUM(Q23:U23),"") | R24: =IFERROR(R23/SUM(Q23:U23),"") | S24: =IFERROR(S23/SUM(Q23:U23),"") | T24: =IFERROR(T23/SUM(Q23:U23),"") | U24: =IFERROR(U23/SUM(Q23:U23),"") | V24: =IFERROR(V23/SUM(Q23:U23),"") | W24: =IFERROR(W23/SUM(Q23:U23),"") | Z24: =IFERROR(Z23/SUM(Z23:AD23),"") | AA24: =IFERROR(AA23/SUM(Z23:AD23),"") | AB24: =IFERROR(AB23/SUM(Z23:AD23),"") | AC24: =IFERROR(AC23/SUM(Z23:AD23),"") | AD24: =IFERROR(AD23/SUM(Z23:AD23),"") | AE24: =IFERROR(AE23/SUM(Z23:AD23),"") | AF24: =IFERROR(AF23/SUM(Z23:AD23),"") | AI24: =IFERROR(AI23/SUM(AI23:AM23),"") | AJ24: =IFERROR(AJ23/SUM(AI23:AM23),"") | AK24: =IFERROR(AK23/SUM(AI23:AM23),"") | AL24: =IFERROR(AL23/SUM(AI23:AM23),"") | AM24: =IFERROR(AM23/SUM(AI23:AM23),"") | AN24: =IFERROR(AN23/SUM(AI23:AM23),"") | AO24: =IFERROR(AO23/SUM(AI23:AM23),"") | AT24: =IFERROR(AT23/SUM(AT23:AX23),"") | AU24: =IFERROR(AU23/SUM(AT23:AX23),"") | AV24: =IFERROR(AV23/SUM(AT23:AX23),"") | AW24: =IFERROR(AW23/SUM(AT23:AX23),"") | AX24: =IFERROR(AX23/SUM(AT23:AX23),"") | AY24: =IFERROR(AY23/SUM(AT23:AX23),"") | AZ24: =IFERROR(AZ23/SUM(AT23:AX23),"") | BD24: =BB24&"."&BC24 -> .
G25: # | M25: =IF(AND(ISBLANK(H25),ISBLANK(I25),ISBLANK(J25),ISBLANK(K25),ISBLANK(L25)),"",SUM(J25:L25)) | N25: =IF(AND(ISBLANK(H25),ISBLANK(I25),ISBLANK(J25),ISBLANK(K25),ISBLANK(L25)),"",SUM(K25:L25)) | O25: =IFERROR(SUM(H25:L25)/E25,"") | P25: =IFERROR(((80*J25)+(100*K25)+(150*L25))/SUM(H25:L25),"") | V25: =IF(AND(ISBLANK(Q25),ISBLANK(R25),ISBLANK(S25),ISBLANK(T25),ISBLANK(U25)),"",SUM(S25:U25)) | W25: =IF(AND(ISBLANK(Q25),ISBLANK(R25),ISBLANK(S25),ISBLANK(T25),ISBLANK(U25)),"",SUM(T25:U25)) | X25: =IFERROR(SUM(Q25:U25)/$E25,"") | Y25: =IFERROR(((80*S25)+(100*T25)+(150*U25))/SUM(Q25:U25),"") | AE25: =IF(AND(ISBLANK(Z25),ISBLANK(AA25),ISBLANK(AB25),ISBLANK(AC25),ISBLANK(AD25)),"",SUM(AB25:AD25)) | AF25: =IF(AND(ISBLANK(Z25),ISBLANK(AA25),ISBLANK(AB25),ISBLANK(AC25),ISBLANK(AD25)),"",SUM(AC25:AD25)) | AG25: =IFERROR(SUM(Z25:AD25)/$E25,"") | AH25: =IFERROR(((80*AB25)+(100*AC25)+(150*AD25))/SUM(Z25:AD25),"") | AN25: =IF(AND(ISBLANK(AI25),ISBLANK(AJ25),ISBLANK(AK25),ISBLANK(AL25),ISBLANK(AM25)),"",SUM(AK25:AM25)) | AO25: =IF(AND(ISBLANK(AI25),ISBLANK(AJ25),ISBLANK(AK25),ISBLANK(AL25),ISBLANK(AM25)),"",SUM(AL25:AM25)) | AP25: =IFERROR(SUM(AI25:AM25)/$E25,"") | AQ25: =IFERROR(((80*AK25)+(100*AL25)+(150*AM25))/SUM(AI25:AM25),"") | AR25: =IFERROR(AVERAGE(Y25,AH25,AQ25),"") | AS25: =IF(OR(P25="",AR25=""),"",AR25-P25) | AY25: =IF(AND(ISBLANK(AT25),ISBLANK(AU25),ISBLANK(AV25),ISBLANK(AW25),ISBLANK(AX25)),"",SUM(AV25:AX25)) | AZ25: =IF(AND(ISBLANK(AT25),ISBLANK(AU25),ISBLANK(AV25),ISBLANK(AW25),ISBLANK(AX25)),"",SUM(AW25:AX25)) | BA25: =IFERROR(((80*AV25)+(100*AW25)+(150*AX25))/SUM(AT25:AX25),"") | BB25: =B25 -> 0 | BC25: =C25 -> 0 | BD25: =BB25&"."&BC25 -> 0.0 | BE25: =D25 -> 0 | BF25: =H25 -> 0 | BG25: =I25 -> 0 | BH25: =J25 -> 0 | BI25: =K25 -> 0 | BJ25: =L25 -> 0 | BK25: =M25 | BL25: =N25 | BM25: =P25 | BN25: =Q25 -> 0 | BO25: =R25 -> 0 | BP25: =S25 -> 0 | BQ25: =T25 -> 0 | BR25: =U25 -> 0 | BS25: =V25 | BT25: =W25 | BU25: =Y25 | BV25: =Z25 -> 0 | BW25: =AA25 -> 0 | BX25: =AB25 -> 0 | BY25: =AC25 -> 0 | BZ25: =AD25 -> 0 | CA25: =AE25 | CB25: =AF25 | CC25: =AH25 | CD25: =AI25 -> 0 | CE25: =AJ25 -> 0 | CF25: =AK25 -> 0 | CG25: =AL25 -> 0 | CH25: =AM25 -> 0 | CI25: =AN25 | CJ25: =AO25 | CK25: =AQ25 | CL25: =AT25 -> 0 | CM25: =AU25 -> 0 | CN25: =AV25 -> 0 | CO25: =AW25 -> 0 | CP25: =AX25 -> 0 | CQ25: =AY25 | CR25: =AZ25 | CS25: =BA25
G26: % | H26: =IFERROR(H25/SUM(H25:L25),"") | I26: =IFERROR(I25/SUM(H25:L25),"") | J26: =IFERROR(J25/SUM(H25:L25),"") | K26: =IFERROR(K25/SUM(H25:L25),"") | L26: =IFERROR(L25/SUM(H25:L25),"") | M26: =IFERROR(M25/SUM(H25:L25),"") | N26: =IFERROR(N25/SUM(H25:L25),"") | Q26: =IFERROR(Q25/SUM(Q25:U25),"") | R26: =IFERROR(R25/SUM(Q25:U25),"") | S26: =IFERROR(S25/SUM(Q25:U25),"") | T26: =IFERROR(T25/SUM(Q25:U25),"") | U26: =IFERROR(U25/SUM(Q25:U25),"") | V26: =IFERROR(V25/SUM(Q25:U25),"") | W26: =IFERROR(W25/SUM(Q25:U25),"") | Z26: =IFERROR(Z25/SUM(Z25:AD25),"") | AA26: =IFERROR(AA25/SUM(Z25:AD25),"") | AB26: =IFERROR(AB25/SUM(Z25:AD25),"") | AC26: =IFERROR(AC25/SUM(Z25:AD25),"") | AD26: =IFERROR(AD25/SUM(Z25:AD25),"") | AE26: =IFERROR(AE25/SUM(Z25:AD25),"") | AF26: =IFERROR(AF25/SUM(Z25:AD25),"") | AI26: =IFERROR(AI25/SUM(AI25:AM25),"") | AJ26: =IFERROR(AJ25/SUM(AI25:AM25),"") | AK26: =IFERROR(AK25/SUM(AI25:AM25),"") | AL26: =IFERROR(AL25/SUM(AI25:AM25),"") | AM26: =IFERROR(AM25/SUM(AI25:AM25),"") | AN26: =IFERROR(AN25/SUM(AI25:AM25),"") | AO26: =IFERROR(AO25/SUM(AI25:AM25),"") | AT26: =IFERROR(AT25/SUM(AT25:AX25),"") | AU26: =IFERROR(AU25/SUM(AT25:AX25),"") | AV26: =IFERROR(AV25/SUM(AT25:AX25),"") | AW26: =IFERROR(AW25/SUM(AT25:AX25),"") | AX26: =IFERROR(AX25/SUM(AT25:AX25),"") | AY26: =IFERROR(AY25/SUM(AT25:AX25),"") | AZ26: =IFERROR(AZ25/SUM(AT25:AX25),"") | BD26: =BB26&"."&BC26 -> .
G27: # | M27: =IF(AND(ISBLANK(H27),ISBLANK(I27),ISBLANK(J27),ISBLANK(K27),ISBLANK(L27)),"",SUM(J27:L27)) | N27: =IF(AND(ISBLANK(H27),ISBLANK(I27),ISBLANK(J27),ISBLANK(K27),ISBLANK(L27)),"",SUM(K27:L27)) | O27: =IFERROR(SUM(H27:L27)/E27,"") | P27: =IFERROR(((80*J27)+(100*K27)+(150*L27))/SUM(H27:L27),"") | V27: =IF(AND(ISBLANK(Q27),ISBLANK(R27),ISBLANK(S27),ISBLANK(T27),ISBLANK(U27)),"",SUM(S27:U27)) | W27: =IF(AND(ISBLANK(Q27),ISBLANK(R27),ISBLANK(S27),ISBLANK(T27),ISBLANK(U27)),"",SUM(T27:U27)) | X27: =IFERROR(SUM(Q27:U27)/$E27,"") | Y27: =IFERROR(((80*S27)+(100*T27)+(150*U27))/SUM(Q27:U27),"") | AE27: =IF(AND(ISBLANK(Z27),ISBLANK(AA27),ISBLANK(AB27),ISBLANK(AC27),ISBLANK(AD27)),"",SUM(AB27:AD27)) | AF27: =IF(AND(ISBLANK(Z27),ISBLANK(AA27),ISBLANK(AB27),ISBLANK(AC27),ISBLANK(AD27)),"",SUM(AC27:AD27)) | AG27: =IFERROR(SUM(Z27:AD27)/$E27,"") | AH27: =IFERROR(((80*AB27)+(100*AC27)+(150*AD27))/SUM(Z27:AD27),"") | AN27: =IF(AND(ISBLANK(AI27),ISBLANK(AJ27),ISBLANK(AK27),ISBLANK(AL27),ISBLANK(AM27)),"",SUM(AK27:AM27)) | AO27: =IF(AND(ISBLANK(AI27),ISBLANK(AJ27),ISBLANK(AK27),ISBLANK(AL27),ISBLANK(AM27)),"",SUM(AL27:AM27)) | AP27: =IFERROR(SUM(AI27:AM27)/$E27,"") | AQ27: =IFERROR(((80*AK27)+(100*AL27)+(150*AM27))/SUM(AI27:AM27),"") | AR27: =IFERROR(AVERAGE(Y27,AH27,AQ27),"") | AS27: =IF(OR(P27="",AR27=""),"",AR27-P27) | AY27: =IF(AND(ISBLANK(AT27),ISBLANK(AU27),ISBLANK(AV27),ISBLANK(AW27),ISBLANK(AX27)),"",SUM(AV27:AX27)) | AZ27: =IF(AND(ISBLANK(AT27),ISBLANK(AU27),ISBLANK(AV27),ISBLANK(AW27),ISBLANK(AX27)),"",SUM(AW27:AX27)) | BA27: =IFERROR(((80*AV27)+(100*AW27)+(150*AX27))/SUM(AT27:AX27),"") | BB27: =B27 -> 0 | BC27: =C27 -> 0 | BD27: =BB27&"."&BC27 -> 0.0 | BE27: =D27 -> 0 | BF27: =H27 -> 0 | BG27: =I27 -> 0 | BH27: =J27 -> 0 | BI27: =K27 -> 0 | BJ27: =L27 -> 0 | BK27: =M27 | BL27: =N27 | BM27: =P27 | BN27: =Q27 -> 0 | BO27: =R27 -> 0 | BP27: =S27 -> 0 | BQ27: =T27 -> 0 | BR27: =U27 -> 0 | BS27: =V27 | BT27: =W27 | BU27: =Y27 | BV27: =Z27 -> 0 | BW27: =AA27 -> 0 | BX27: =AB27 -> 0 | BY27: =AC27 -> 0 | BZ27: =AD27 -> 0 | CA27: =AE27 | CB27: =AF27 | CC27: =AH27 | CD27: =AI27 -> 0 | CE27: =AJ27 -> 0 | CF27: =AK27 -> 0 | CG27: =AL27 -> 0 | CH27: =AM27 -> 0 | CI27: =AN27 | CJ27: =AO27 | CK27: =AQ27 | CL27: =AT27 -> 0 | CM27: =AU27 -> 0 | CN27: =AV27 -> 0 | CO27: =AW27 -> 0 | CP27: =AX27 -> 0 | CQ27: =AY27 | CR27: =AZ27 | CS27: =BA27
G28: % | H28: =IFERROR(H27/SUM(H27:L27),"") | I28: =IFERROR(I27/SUM(H27:L27),"") | J28: =IFERROR(J27/SUM(H27:L27),"") | K28: =IFERROR(K27/SUM(H27:L27),"") | L28: =IFERROR(L27/SUM(H27:L27),"") | M28: =IFERROR(M27/SUM(H27:L27),"") | N28: =IFERROR(N27/SUM(H27:L27),"") | Q28: =IFERROR(Q27/SUM(Q27:U27),"") | R28: =IFERROR(R27/SUM(Q27:U27),"") | S28: =IFERROR(S27/SUM(Q27:U27),"") | T28: =IFERROR(T27/SUM(Q27:U27),"") | U28: =IFERROR(U27/SUM(Q27:U27),"") | V28: =IFERROR(V27/SUM(Q27:U27),"") | W28: =IFERROR(W27/SUM(Q27:U27),"") | Z28: =IFERROR(Z27/SUM(Z27:AD27),"") | AA28: =IFERROR(AA27/SUM(Z27:AD27),"") | AB28: =IFERROR(AB27/SUM(Z27:AD27),"") | AC28: =IFERROR(AC27/SUM(Z27:AD27),"") | AD28: =IFERROR(AD27/SUM(Z27:AD27),"") | AE28: =IFERROR(AE27/SUM(Z27:AD27),"") | AF28: =IFERROR(AF27/SUM(Z27:AD27),"") | AI28: =IFERROR(AI27/SUM(AI27:AM27),"") | AJ28: =IFERROR(AJ27/SUM(AI27:AM27),"") | AK28: =IFERROR(AK27/SUM(AI27:AM27),"") | AL28: =IFERROR(AL27/SUM(AI27:AM27),"") | AM28: =IFERROR(AM27/SUM(AI27:AM27),"") | AN28: =IFERROR(AN27/SUM(AI27:AM27),"") | AO28: =IFERROR(AO27/SUM(AI27:AM27),"") | AT28: =IFERROR(AT27/SUM(AT27:AX27),"") | AU28: =IFERROR(AU27/SUM(AT27:AX27),"") | AV28: =IFERROR(AV27/SUM(AT27:AX27),"") | AW28: =IFERROR(AW27/SUM(AT27:AX27),"") | AX28: =IFERROR(AX27/SUM(AT27:AX27),"") | AY28: =IFERROR(AY27/SUM(AT27:AX27),"") | AZ28: =IFERROR(AZ27/SUM(AT27:AX27),"") | BD28: =BB28&"."&BC28 -> .
G29: # | M29: =IF(AND(ISBLANK(H29),ISBLANK(I29),ISBLANK(J29),ISBLANK(K29),ISBLANK(L29)),"",SUM(J29:L29)) | N29: =IF(AND(ISBLANK(H29),ISBLANK(I29),ISBLANK(J29),ISBLANK(K29),ISBLANK(L29)),"",SUM(K29:L29)) | O29: =IFERROR(SUM(H29:L29)/E29,"") | P29: =IFERROR(((80*J29)+(100*K29)+(150*L29))/SUM(H29:L29),"") | V29: =IF(AND(ISBLANK(Q29),ISBLANK(R29),ISBLANK(S29),ISBLANK(T29),ISBLANK(U29)),"",SUM(S29:U29)) | W29: =IF(AND(ISBLANK(Q29),ISBLANK(R29),ISBLANK(S29),ISBLANK(T29),ISBLANK(U29)),"",SUM(T29:U29)) | X29: =IFERROR(SUM(Q29:U29)/$E29,"") | Y29: =IFERROR(((80*S29)+(100*T29)+(150*U29))/SUM(Q29:U29),"") | AE29: =IF(AND(ISBLANK(Z29),ISBLANK(AA29),ISBLANK(AB29),ISBLANK(AC29),ISBLANK(AD29)),"",SUM(AB29:AD29)) | AF29: =IF(AND(ISBLANK(Z29),ISBLANK(AA29),ISBLANK(AB29),ISBLANK(AC29),ISBLANK(AD29)),"",SUM(AC29:AD29)) | AG29: =IFERROR(SUM(Z29:AD29)/$E29,"") | AH29: =IFERROR(((80*AB29)+(100*AC29)+(150*AD29))/SUM(Z29:AD29),"") | AN29: =IF(AND(ISBLANK(AI29),ISBLANK(AJ29),ISBLANK(AK29),ISBLANK(AL29),ISBLANK(AM29)),"",SUM(AK29:AM29)) | AO29: =IF(AND(ISBLANK(AI29),ISBLANK(AJ29),ISBLANK(AK29),ISBLANK(AL29),ISBLANK(AM29)),"",SUM(AL29:AM29)) | AP29: =IFERROR(SUM(AI29:AM29)/$E29,"") | AQ29: =IFERROR(((80*AK29)+(100*AL29)+(150*AM29))/SUM(AI29:AM29),"") | AR29: =IFERROR(AVERAGE(Y29,AH29,AQ29),"") | AS29: =IF(OR(P29="",AR29=""),"",AR29-P29) | AY29: =IF(AND(ISBLANK(AT29),ISBLANK(AU29),ISBLANK(AV29),ISBLANK(AW29),ISBLANK(AX29)),"",SUM(AV29:AX29)) | AZ29: =IF(AND(ISBLANK(AT29),ISBLANK(AU29),ISBLANK(AV29),ISBLANK(AW29),ISBLANK(AX29)),"",SUM(AW29:AX29)) | BA29: =IFERROR(((80*AV29)+(100*AW29)+(150*AX29))/SUM(AT29:AX29),"") | BB29: =B29 -> 0 | BC29: =C29 -> 0 | BD29: =BB29&"."&BC29 -> 0.0 | BE29: =D29 -> 0 | BF29: =H29 -> 0 | BG29: =I29 -> 0 | BH29: =J29 -> 0 | BI29: =K29 -> 0 | BJ29: =L29 -> 0 | BK29: =M29 | BL29: =N29 | BM29: =P29 | BN29: =Q29 -> 0 | BO29: =R29 -> 0 | BP29: =S29 -> 0 | BQ29: =T29 -> 0 | BR29: =U29 -> 0 | BS29: =V29 | BT29: =W29 | BU29: =Y29 | BV29: =Z29 -> 0 | BW29: =AA29 -> 0 | BX29: =AB29 -> 0 | BY29: =AC29 -> 0 | BZ29: =AD29 -> 0 | CA29: =AE29 | CB29: =AF29 | CC29: =AH29 | CD29: =AI29 -> 0 | CE29: =AJ29 -> 0 | CF29: =AK29 -> 0 | CG29: =AL29 -> 0 | CH29: =AM29 -> 0 | CI29: =AN29 | CJ29: =AO29 | CK29: =AQ29 | CL29: =AT29 -> 0 | CM29: =AU29 -> 0 | CN29: =AV29 -> 0 | CO29: =AW29 -> 0 | CP29: =AX29 -> 0 | CQ29: =AY29 | CR29: =AZ29 | CS29: =BA29
G30: % | H30: =IFERROR(H29/SUM(H29:L29),"") | I30: =IFERROR(I29/SUM(H29:L29),"") | J30: =IFERROR(J29/SUM(H29:L29),"") | K30: =IFERROR(K29/SUM(H29:L29),"") | L30: =IFERROR(L29/SUM(H29:L29),"") | M30: =IFERROR(M29/SUM(H29:L29),"") | N30: =IFERROR(N29/SUM(H29:L29),"") | Q30: =IFERROR(Q29/SUM(Q29:U29),"") | R30: =IFERROR(R29/SUM(Q29:U29),"") | S30: =IFERROR(S29/SUM(Q29:U29),"") | T30: =IFERROR(T29/SUM(Q29:U29),"") | U30: =IFERROR(U29/SUM(Q29:U29),"") | V30: =IFERROR(V29/SUM(Q29:U29),"") | W30: =IFERROR(W29/SUM(Q29:U29),"") | Z30: =IFERROR(Z29/SUM(Z29:AD29),"") | AA30: =IFERROR(AA29/SUM(Z29:AD29),"") | AB30: =IFERROR(AB29/SUM(Z29:AD29),"") | AC30: =IFERROR(AC29/SUM(Z29:AD29),"") | AD30: =IFERROR(AD29/SUM(Z29:AD29),"") | AE30: =IFERROR(AE29/SUM(Z29:AD29),"") | AF30: =IFERROR(AF29/SUM(Z29:AD29),"") | AI30: =IFERROR(AI29/SUM(AI29:AM29),"") | AJ30: =IFERROR(AJ29/SUM(AI29:AM29),"") | AK30: =IFERROR(AK29/SUM(AI29:AM29),"") | AL30: =IFERROR(AL29/SUM(AI29:AM29),"") | AM30: =IFERROR(AM29/SUM(AI29:AM29),"") | AN30: =IFERROR(AN29/SUM(AI29:AM29),"") | AO30: =IFERROR(AO29/SUM(AI29:AM29),"") | AT30: =IFERROR(AT29/SUM(AT29:AX29),"") | AU30: =IFERROR(AU29/SUM(AT29:AX29),"") | AV30: =IFERROR(AV29/SUM(AT29:AX29),"") | AW30: =IFERROR(AW29/SUM(AT29:AX29),"") | AX30: =IFERROR(AX29/SUM(AT29:AX29),"") | AY30: =IFERROR(AY29/SUM(AT29:AX29),"") | AZ30: =IFERROR(AZ29/SUM(AT29:AX29),"") | BD30: =BB30&"."&BC30 -> .
G31: # | M31: =IF(AND(ISBLANK(H31),ISBLANK(I31),ISBLANK(J31),ISBLANK(K31),ISBLANK(L31)),"",SUM(J31:L31)) | N31: =IF(AND(ISBLANK(H31),ISBLANK(I31),ISBLANK(J31),ISBLANK(K31),ISBLANK(L31)),"",SUM(K31:L31)) | O31: =IFERROR(SUM(H31:L31)/E31,"") | P31: =IFERROR(((80*J31)+(100*K31)+(150*L31))/SUM(H31:L31),"") | V31: =IF(AND(ISBLANK(Q31),ISBLANK(R31),ISBLANK(S31),ISBLANK(T31),ISBLANK(U31)),"",SUM(S31:U31)) | W31: =IF(AND(ISBLANK(Q31),ISBLANK(R31),ISBLANK(S31),ISBLANK(T31),ISBLANK(U31)),"",SUM(T31:U31)) | X31: =IFERROR(SUM(Q31:U31)/$E31,"") | Y31: =IFERROR(((80*S31)+(100*T31)+(150*U31))/SUM(Q31:U31),"") | AE31: =IF(AND(ISBLANK(Z31),ISBLANK(AA31),ISBLANK(AB31),ISBLANK(AC31),ISBLANK(AD31)),"",SUM(AB31:AD31)) | AF31: =IF(AND(ISBLANK(Z31),ISBLANK(AA31),ISBLANK(AB31),ISBLANK(AC31),ISBLANK(AD31)),"",SUM(AC31:AD31)) | AG31: =IFERROR(SUM(Z31:AD31)/$E31,"") | AH31: =IFERROR(((80*AB31)+(100*AC31)+(150*AD31))/SUM(Z31:AD31),"") | AN31: =IF(AND(ISBLANK(AI31),ISBLANK(AJ31),ISBLANK(AK31),ISBLANK(AL31),ISBLANK(AM31)),"",SUM(AK31:AM31)) | AO31: =IF(AND(ISBLANK(AI31),ISBLANK(AJ31),ISBLANK(AK31),ISBLANK(AL31),ISBLANK(AM31)),"",SUM(AL31:AM31)) | AP31: =IFERROR(SUM(AI31:AM31)/$E31,"") | AQ31: =IFERROR(((80*AK31)+(100*AL31)+(150*AM31))/SUM(AI31:AM31),"") | AR31: =IFERROR(AVERAGE(Y31,AH31,AQ31),"") | AS31: =IF(OR(P31="",AR31=""),"",AR31-P31) | AY31: =IF(AND(ISBLANK(AT31),ISBLANK(AU31),ISBLANK(AV31),ISBLANK(AW31),ISBLANK(AX31)),"",SUM(AV31:AX31)) | AZ31: =IF(AND(ISBLANK(AT31),ISBLANK(AU31),ISBLANK(AV31),ISBLANK(AW31),ISBLANK(AX31)),"",SUM(AW31:AX31)) | BA31: =IFERROR(((80*AV31)+(100*AW31)+(150*AX31))/SUM(AT31:AX31),"") | BB31: =B31 -> 0 | BC31: =C31 -> 0 | BD31: =BB31&"."&BC31 -> 0.0 | BE31: =D31 -> 0 | BF31: =H31 -> 0 | BG31: =I31 -> 0 | BH31: =J31 -> 0 | BI31: =K31 -> 0 | BJ31: =L31 -> 0 | BK31: =M31 | BL31: =N31 | BM31: =P31 | BN31: =Q31 -> 0 | BO31: =R31 -> 0 | BP31: =S31 -> 0 | BQ31: =T31 -> 0 | BR31: =U31 -> 0 | BS31: =V31 | BT31: =W31 | BU31: =Y31 | BV31: =Z31 -> 0 | BW31: =AA31 -> 0 | BX31: =AB31 -> 0 | BY31: =AC31 -> 0 | BZ31: =AD31 -> 0 | CA31: =AE31 | CB31: =AF31 | CC31: =AH31 | CD31: =AI31 -> 0 | CE31: =AJ31 -> 0 | CF31: =AK31 -> 0 | CG31: =AL31 -> 0 | CH31: =AM31 -> 0 | CI31: =AN31 | CJ31: =AO31 | CK31: =AQ31 | CL31: =AT31 -> 0 | CM31: =AU31 -> 0 | CN31: =AV31 -> 0 | CO31: =AW31 -> 0 | CP31: =AX31 -> 0 | CQ31: =AY31 | CR31: =AZ31 | CS31: =BA31
G32: % | H32: =IFERROR(H31/SUM(H31:L31),"") | I32: =IFERROR(I31/SUM(H31:L31),"") | J32: =IFERROR(J31/SUM(H31:L31),"") | K32: =IFERROR(K31/SUM(H31:L31),"") | L32: =IFERROR(L31/SUM(H31:L31),"") | M32: =IFERROR(M31/SUM(H31:L31),"") | N32: =IFERROR(N31/SUM(H31:L31),"") | Q32: =IFERROR(Q31/SUM(Q31:U31),"") | R32: =IFERROR(R31/SUM(Q31:U31),"") | S32: =IFERROR(S31/SUM(Q31:U31),"") | T32: =IFERROR(T31/SUM(Q31:U31),"") | U32: =IFERROR(U31/SUM(Q31:U31),"") | V32: =IFERROR(V31/SUM(Q31:U31),"") | W32: =IFERROR(W31/SUM(Q31:U31),"") | Z32: =IFERROR(Z31/SUM(Z31:AD31),"") | AA32: =IFERROR(AA31/SUM(Z31:AD31),"") | AB32: =IFERROR(AB31/SUM(Z31:AD31),"") | AC32: =IFERROR(AC31/SUM(Z31:AD31),"") | AD32: =IFERROR(AD31/SUM(Z31:AD31),"") | AE32: =IFERROR(AE31/SUM(Z31:AD31),"") | AF32: =IFERROR(AF31/SUM(Z31:AD31),"") | AI32: =IFERROR(AI31/SUM(AI31:AM31),"") | AJ32: =IFERROR(AJ31/SUM(AI31:AM31),"") | AK32: =IFERROR(AK31/SUM(AI31:AM31),"") | AL32: =IFERROR(AL31/SUM(AI31:AM31),"") | AM32: =IFERROR(AM31/SUM(AI31:AM31),"") | AN32: =IFERROR(AN31/SUM(AI31:AM31),"") | AO32: =IFERROR(AO31/SUM(AI31:AM31),"") | AT32: =IFERROR(AT31/SUM(AT31:AX31),"") | AU32: =IFERROR(AU31/SUM(AT31:AX31),"") | AV32: =IFERROR(AV31/SUM(AT31:AX31),"") | AW32: =IFERROR(AW31/SUM(AT31:AX31),"") | AX32: =IFERROR(AX31/SUM(AT31:AX31),"") | AY32: =IFERROR(AY31/SUM(AT31:AX31),"") | AZ32: =IFERROR(AZ31/SUM(AT31:AX31),"") | BD32: =BB32&"."&BC32 -> .
