Workbook

Sheet Instructions
A1: Instructions: The purpose of this tracker is to allow you to easily keep track of your school's progress toward its goals using Diagnostic and Benchmark assessments administered in JPS. When completed, it provides data that is disaggregated by teacher, grade level, content area and subgroup, and it also provides reporting in terms of LEAP-aligned measures (e.g., Assessment Index).
A2: Important: This Tracker is set up so that you only need to enter data at the individual teacher level. School and subject area totals are automatically calculated from the teacher-level data that you enter. The table below shows what data to enter into what tab.
A4: Data Entry Tab | B4: What Data is Entered:
A5: 1a. Teacher Data (LEAP Courses) | B5: The total number of students at each achievement level for each teacher in a LEAP grade or course.
A6: 2a. Teacher Data (ELL) | B6: The number of ELL students only at each achievement level for each teacher in a LEAP grade or course.
A7: 3a. Teacher Data (SPED) | B7: The number of SPED students only at each achievement level for each teacher in a LEAP grade or course.
A8: 4a. Teacher Data (Acadience) | B8: The overall number of students at each Acadience Benchmark Level for each literacy/ ELA teacher in grades K-3.

Sheet 1a. Teacher Data (LEAP Courses)
A1: Teacher Name | B1: Grade Level | C1: Content/ Course | D1: Cluster (optional) | E1: # Students Enrolled | F1: Optional class description & notes (e.g.,"1st Semester") | G1: Data type | H1: Baseline (Prior Year LEAP and/or Diagnostic) | Q1: Benchmark 1 | Z1: Benchmark 2 | AI1: Benchmark 3 | AR1: YTD AI AVE | AS1: YTD AI GROWTH | AT1: EOY Goals | BB1: Grade | BC1: Content | BD1: Grade.Content | BE1: Cluster | BF1: Baseline (2019 LEAP and/or Diagnostic) | BN1: Benchmark 1 | BV1: Benchmark 2 | CD1: Benchmark 3 | CL1: 2019-20 EOY Goals
H2: U | I2: AB | J2: B | K2: M | L2: A | M2: Basic & above | N2: Mast. & above | O2: % of enrolled students tested | P2: AI | Q2: U | R2: AB | S2: B | T2: M | U2: A | V2: Basic & above | W2: Mast. & above | X2: % of enrolled students tested | Y2: AI | Z2: U | AA2: AB | AB2: B | AC2: M | AD2: A | AE2: Basic & above | AF2: Mast. & above | AG2: % of enrolled students tested | AH2: AI | AI2: U | AJ2: AB | AK2: B | AL2: M | AM2: A | AN2: Basic & above | AO2: Mast. & above | AP2: % of enrolled students tested | AQ2: AI | AT2: U | AU2: AB | AV2: B | AW2: M | AX2: A | AY2: Basic & above | AZ2: Mast. & above | BA2: AI | BF2: U | BG2: AB | BH2: B | BI2: M | BJ2: A | BK2: Basic & above | BL2: Mast. & above | BM2: AI | BN2: U | BO2: AB | BP2: B | BQ2: M | BR2: A | BS2: Basic & above | BT2: Mast. & above | BU2: AI | BV2: U | BW2: AB | BX2: B | BY2: M | BZ2: A | CA2: Basic & above | CB2: Mast. & above | CC2: AI | CD2: U | CE2: AB | CF2: B | CG2: M | CH2: A | CI2: Basic & above | CJ2: Mast. & above | CK2: AI | CL2: U | CM2: AB | CN2: B | CO2: M | CP2: A | CQ2: Basic & above | CR2: Mast. & above | CS2: AI
G3: # | M3: =IF(AND(ISBLANK(H3),ISBLANK(I3),ISBLANK(J3),ISBLANK(K3),ISBLANK(L3)),"",SUM(J3:L3)) | N3: =IF(AND(ISBLANK(H3),ISBLANK(I3),ISBLANK(J3),ISBLANK(K3),ISBLANK(L3)),"",SUM(K3:L3)) | O3: =IFERROR(SUM(H3:L3)/E3,"") | P3: =IFERROR(((80*J3)+(100*K3)+(150*L3))/SUM(H3:L3),"") | V3: =IF(AND(ISBLANK(Q3),ISBLANK(R3),ISBLANK(S3),ISBLANK(T3),ISBLANK(U3)),"",SUM(S3:U3)) | W3: =IF(AND(ISBLANK(Q3),ISBLANK(R3),ISBLANK(S3),ISBLANK(T3),ISBLANK(U3)),"",SUM(T3:U3)) | X3: =IFERROR(SUM(Q3:U3)/$E3,"") | Y3: =IFERROR(((80*S3)+(100*T3)+(150*U3))/SUM(Q3:U3),"") | AE3: =IF(AND(ISBLANK(Z3),ISBLANK(AA3),ISBLANK(AB3),ISBLANK(AC3),ISBLANK(AD3)),"",SUM(AB3:AD3)) | AF3: =IF(AND(ISBLANK(Z3),ISBLANK(AA3),ISBLANK(AB3),ISBLANK(AC3),ISBLANK(AD3)),"",SUM(AC3:AD3)) | AG3: =IFERROR(SUM(Z3:AD3)/$E3,"") | AH3: =IFERROR(((80*AB3)+(100*AC3)+(150*AD3))/SUM(Z3:AD3),"") | AN3: =IF(AND(ISBLANK(AI3),ISBLANK(AJ3),ISBLANK(AK3),ISBLANK(AL3),ISBLANK(AM3)),"",SUM(AK3:AM3)) | AO3: =IF(AND(ISBLANK(AI3),ISBLANK(AJ3),ISBLANK(AK3),ISBLANK(AL3),ISBLANK(AM3)),"",SUM(AL3:AM3)) | AP3: =IFERROR(SUM(AI3:AM3)/$E3,"") | AQ3: =IFERROR(((80*AK3)+(100*AL3)+(150*AM3))/SUM(AI3:AM3),"") | AR3: =IFERROR(AVERAGE(Y3,AH3,AQ3),"") | AS3: =IF(OR(P3="",AR3=""),"",AR3-P3) | AY3: =IF(AND(ISBLANK(AT3),ISBLANK(AU3),ISBLANK(AV3),ISBLANK(AW3),ISBLANK(AX3)),"",SUM(AV3:AX3)) | AZ3: =IF(AND(ISBLANK(AT3),ISBLANK(AU3),ISBLANK(AV3),ISBLANK(AW3),ISBLANK(AX3)),"",SUM(AW3:AX3)) | BA3: =IFERROR(((80*AV3)+(100*AW3)+(150*AX3))/SUM(AT3:AX3),"") | BB3: =B3 -> 0 | BC3: =C3 -> 0 | BD3: =BB3&"."&BC3 -> 0.0 | BE3: =D3 -> 0 | BF3: =H3 -> 0 | BG3: =I3 -> 0 | BH3: =J3 -> 0 | BI3: =K3 -> 0 | BJ3: =L3 -> 0 | BK3: =M3 | BL3: =N3 | BM3: =P3 | BN3: =Q3 -> 0 | BO3: =R3 -> 0 | BP3: =S3 -> 0 | BQ3: =T3 -> 0 | BR3: =U3 -> 0 | BS3: =V3 | BT3: =W3 | BU3: =Y3 | BV3: =Z3 -> 0 | BW3: =AA3 -> 0 | BX3: =AB3 -> 0 | BY3: =AC3 -> 0 | BZ3: =AD3 -> 0 | CA3: =AE3 | CB3: =AF3 | CC3: =AH3 | CD3: =AI3 -> 0 | CE3: =AJ3 -> 0 | CF3: =AK3 -> 0 | CG3: =AL3 -> 0 | CH3: =AM3 -> 0 | CI3: =AN3 | CJ3: =AO3 | CK3: =AQ3 | CL3: =AT3 -> 0 | CM3: =AU3 -> 0 | CN3: =AV3 -> 0 | CO3: =AW3 -> 0 | CP3: =AX3 -> 0 | CQ3: =AY3 | CR3: =AZ3 | CS3: =BA3
G4: % | H4: =IFERROR(H3/SUM(H3:L3),"") | I4: =IFERROR(I3/SUM(H3:L3),"") | J4: =IFERROR(J3/SUM(H3:L3),"") | K4: =IFERROR(K3/SUM(H3:L3),"") | L4: =IFERROR(L3/SUM(H3:L3),"") | M4: =IFERROR(M3/SUM(H3:L3),"") | N4: =IFERROR(N3/SUM(H3:L3),"") | Q4: =IFERROR(Q3/SUM(Q3:U3),"") | R4: =IFERROR(R3/SUM(Q3:U3),"") | S4: =IFERROR(S3/SUM(Q3:U3),"") | T4: =IFERROR(T3/SUM(Q3:U3),"") | U4: =IFERROR(U3/SUM(Q3:U3),"") | V4: =IFERROR(V3/SUM(Q3:U3),"") | W4: =IFERROR(W3/SUM(Q3:U3),"") | Z4: =IFERROR(Z3/SUM(Z3:AD3),"") | AA4: =IFERROR(AA3/SUM(Z3:AD3),"") | AB4: =IFERROR(AB3/SUM(Z3:AD3),"") | AC4: =IFERROR(AC3/SUM(Z3:AD3),"") | AD4: =IFERROR(AD3/SUM(Z3:AD3),"") | AE4: =IFERROR(AE3/SUM(Z3:AD3),"") | AF4: =IFERROR(AF3/SUM(Z3:AD3),"") | AI4: =IFERROR(AI3/SUM(AI3:AM3),"") | AJ4: =IFERROR(AJ3/SUM(AI3:AM3),"") | AK4: =IFERROR(AK3/SUM(AI3:AM3),"") | AL4: =IFERROR(AL3/SUM(AI3:AM3),"") | AM4: =IFERROR(AM3/SUM(AI3:AM3),"") | AN4: =IFERROR(AN3/SUM(AI3:AM3),"") | AO4: =IFERROR(AO3/SUM(AI3:AM3),"") | AT4: =IFERROR(AT3/SUM(AT3:AX3),"") | AU4: =IFERROR(AU3/SUM(AT3:AX3),"") | AV4: =IFERROR(AV3/SUM(AT3:AX3),"") | AW4: =IFERROR(AW3/SUM(AT3:AX3),"") | AX4: =IFERROR(AX3/SUM(AT3:AX3),"") | AY4: =IFERROR(AY3/SUM(AT3:AX3),"") | AZ4: =IFERROR(AZ3/SUM(AT3:AX3),"") | BD4: =BB4&"."&BC4 -> .
G5: # | M5: =IF(AND(ISBLANK(H5),ISBLANK(I5),ISBLANK(J5),ISBLANK(K5),ISBLANK(L5)),"",SUM(J5:L5)) | N5: =IF(AND(ISBLANK(H5),ISBLANK(I5),ISBLANK(J5),ISBLANK(K5),ISBLANK(L5)),"",SUM(K5:L5)) | O5: =IFERROR(SUM(H5:L5)/E5,"") | P5: =IFERROR(((80*J5)+(100*K5)+(150*L5))/SUM(H5:L5),"") | V5: =IF(AND(ISBLANK(Q5),ISBLANK(R5),ISBLANK(S5),ISBLANK(T5),ISBLANK(U5)),"",SUM(S5:U5)) | W5: =IF(AND(ISBLANK(Q5),ISBLANK(R5),ISBLANK(S5),ISBLANK(T5),ISBLANK(U5)),"",SUM(T5:U5)) | X5: =IFERROR(SUM(Q5:U5)/$E5,"") | Y5: =IFERROR(((80*S5)+(100*T5)+(150*U5))/SUM(Q5:U5),"") | AE5: =IF(AND(ISBLANK(Z5),ISBLANK(AA5),ISBLANK(AB5),ISBLANK(AC5),ISBLANK(AD5)),"",SUM(AB5:AD5)) | AF5: =IF(AND(ISBLANK(Z5),ISBLANK(AA5),ISBLANK(AB5),ISBLANK(AC5),ISBLANK(AD5)),"",SUM(AC5:AD5)) | AG5: =IFERROR(SUM(Z5:AD5)/$E5,"") | AH5: =IFERROR(((80*AB5)+(100*AC5)+(150*AD5))/SUM(Z5:AD5),"") | AN5: =IF(AND(ISBLANK(AI5),ISBLANK(AJ5),ISBLANK(AK5),ISBLANK(AL5),ISBLANK(AM5)),"",SUM(AK5:AM5)) | AO5: =IF(AND(ISBLANK(AI5),ISBLANK(AJ5),ISBLANK(AK5),ISBLANK(AL5),ISBLANK(AM5)),"",SUM(AL5:AM5)) | AP5: =IFERROR(SUM(AI5:AM5)/$E5,"") | AQ5: =IFERROR(((80*AK5)+(100*AL5)+(150*AM5))/SUM(AI5:AM5),"") | AR5: =IFERROR(AVERAGE(Y5,AH5,AQ5),"") | AS5: =IF(OR(P5="",AR5=""),"",AR5-P5) | AY5: =IF(AND(ISBLANK(AT5),ISBLANK(AU5),ISBLANK(AV5),ISBLANK(AW5),ISBLANK(AX5)),"",SUM(AV5:AX5)) | AZ5: =IF(AND(ISBLANK(AT5),ISBLANK(AU5),ISBLANK(AV5),ISBLANK(AW5),ISBLANK(AX5)),"",SUM(AW5:AX5)) | BA5: =IFERROR(((80*AV5)+(100*AW5)+(150*AX5))/SUM(AT5:AX5),"") | BB5: =B5 -> 0 | BC5: =C5 -> 0 | BD5: =BB5&"."&BC5 -> 0.0 | BE5: =D5 -> 0 | BF5: =H5 -> 0 | BG5: =I5 -> 0 | BH5: =J5 -> 0 | BI5: =K5 -> 0 | BJ5: =L5 -> 0 | BK5: =M5 | BL5: =N5 | BM5: =P5 | BN5: =Q5 -> 0 | BO5: =R5 -> 0 | BP5: =S5 -> 0 | BQ5: =T5 -> 0 | BR5: =U5 -> 0 | BS5: =V5 | BT5: =W5 | BU5: =Y5 | BV5: =Z5 -> 0 | BW5: =AA5 -> 0 | BX5: =AB5 -> 0 | BY5: =AC5 -> 0 | BZ5: =AD5 -> 0 | CA5: =AE5 | CB5: =AF5 | CC5: =AH5 | CD5: =AI5 -> 0 | CE5: =AJ5 -> 0 | CF5: =AK5 -> 0 | CG5: =AL5 -> 0 | CH5: =AM5 -> 0 | CI5: =AN5 | CJ5: =AO5 | CK5: =AQ5 | CL5: =AT5 -> 0 | CM5: =AU5 -> 0 | CN5: =AV5 -> 0 | CO5: =AW5 -> 0 | CP5: =AX5 -> 0 | CQ5: =AY5 | CR5: =AZ5 | CS5: =BA5
G6: % | H6: =IFERROR(H5/SUM(H5:L5),"") | I6: =IFERROR(I5/SUM(H5:L5),"") | J6: =IFERROR(J5/SUM(H5:L5),"") | K6: =IFERROR(K5/SUM(H5:L5),"") | L6: =IFERROR(L5/SUM(H5:L5),"") | M6: =IFERROR(M5/SUM(H5:L5),"") | N6: =IFERROR(N5/SUM(H5:L5),"") | Q6: =IFERROR(Q5/SUM(Q5:U5),"") | R6: =IFERROR(R5/SUM(Q5:U5),"") | S6: =IFERROR(S5/SUM(Q5:U5),"") | T6: =IFERROR(T5/SUM(Q5:U5),"") | U6: =IFERROR(U5/SUM(Q5:U5),"") | V6: =IFERROR(V5/SUM(Q5:U5),"") | W6: =IFERROR(W5/SUM(Q5:U5),"") | Z6: =IFERROR(Z5/SUM(Z5:AD5),"") | AA6: =IFERROR(AA5/SUM(Z5:AD5),"") | AB6: =IFERROR(AB5/SUM(Z5:AD5),"") | AC6: =IFERROR(AC5/SUM(Z5:AD5),"") | AD6: =IFERROR(AD5/SUM(Z5:AD5),"") | AE6: =IFERROR(AE5/SUM(Z5:AD5),"") | AF6: =IFERROR(AF5/SUM(Z5:AD5),"") | AI6: =IFERROR(AI5/SUM(AI5:AM5),"") | AJ6: =IFERROR(AJ5/SUM(AI5:AM5),"") | AK6: =IFERROR(AK5/SUM(AI5:AM5),"") | AL6: =IFERROR(AL5/SUM(AI5:AM5),"") | AM6: =IFERROR(AM5/SUM(AI5:AM5),"") | AN6: =IFERROR(AN5/SUM(AI5:AM5),"") | AO6: =IFERROR(AO5/SUM(AI5:AM5),"") | AT6: =IFERROR(AT5/SUM(AT5:AX5),"") | AU6: =IFERROR(AU5/SUM(AT5:AX5),"") | AV6: =IFERROR(AV5/SUM(AT5:AX5),"") | AW6: =IFERROR(AW5/SUM(AT5:AX5),"") | AX6: =IFERROR(AX5/SUM(AT5:AX5),"") | AY6: =IFERROR(AY5/SUM(AT5:AX5),"") | AZ6: =IFERROR(AZ5/SUM(AT5:AX5),"") | BD6: =BB6&"."&BC6 -> .
G7: # | M7: =IF(AND(ISBLANK(H7),ISBLANK(I7),ISBLANK(J7),ISBLANK(K7),ISBLANK(L7)),"",SUM(J7:L7)) | N7: =IF(AND(ISBLANK(H7),ISBLANK(I7),ISBLANK(J7),ISBLANK(K7),ISBLANK(L7)),"",SUM(K7:L7)) | O7: =IFERROR(SUM(H7:L7)/E7,"") | P7: =IFERROR(((80*J7)+(100*K7)+(150*L7))/SUM(H7:L7),"") | V7: =IF(AND(ISBLANK(Q7),ISBLANK(R7),ISBLANK(S7),ISBLANK(T7),ISBLANK(U7)),"",SUM(S7:U7)) | W7: =IF(AND(ISBLANK(Q7),ISBLANK(R7),ISBLANK(S7),ISBLANK(T7),ISBLANK(U7)),"",SUM(T7:U7)) | X7: =IFERROR(SUM(Q7:U7)/$E7,"") | Y7: =IFERROR(((80*S7)+(100*T7)+(150*U7))/SUM(Q7:U7),"") | AE7: =IF(AND(ISBLANK(Z7),ISBLANK(AA7),ISBLANK(AB7),ISBLANK(AC7),ISBLANK(AD7)),"",SUM(AB7:AD7)) | AF7: =IF(AND(ISBLANK(Z7),ISBLANK(AA7),ISBLANK(AB7),ISBLANK(AC7),ISBLANK(AD7)),"",SUM(AC7:AD7)) | AG7: =IFERROR(SUM(Z7:AD7)/$E7,"") | AH7: =IFERROR(((80*AB7)+(100*AC7)+(150*AD7))/SUM(Z7:AD7),"") | AN7: =IF(AND(ISBLANK(AI7),ISBLANK(AJ7),ISBLANK(AK7),ISBLANK(AL7),ISBLANK(AM7)),"",SUM(AK7:AM7)) | AO7: =IF(AND(ISBLANK(AI7),ISBLANK(AJ7),ISBLANK(AK7),ISBLANK(AL7),ISBLANK(AM7)),"",SUM(AL7:AM7)) | AP7: =IFERROR(SUM(AI7:AM7)/$E7,"") | AQ7: =IFERROR(((80*AK7)+(100*AL7)+(150*AM7))/SUM(AI7:AM7),"") | AR7: =IFERROR(AVERAGE(Y7,AH7,AQ7),"") | AS7: =IF(OR(P7="",AR7=""),"",AR7-P7) | AY7: =IF(AND(ISBLANK(AT7),ISBLANK(AU7),ISBLANK(AV7),ISBLANK(AW7),ISBLANK(AX7)),"",SUM(AV7:AX7)) | AZ7: =IF(AND(ISBLANK(AT7),ISBLANK(AU7),ISBLANK(AV7),ISBLANK(AW7),ISBLANK(AX7)),"",SUM(AW7:AX7)) | BA7: =IFERROR(((80*AV7)+(100*AW7)+(150*AX7))/SUM(AT7:AX7),"") | BB7: =B7 -> 0 | BC7: =C7 -> 0 | BD7: =BB7&"."&BC7 -> 0.0 | BE7: =D7 -> 0 | BF7: =H7 -> 0 | BG7: =I7 -> 0 | BH7: =J7 -> 0 | BI7: =K7 -> 0 | BJ7: =L7 -> 0 | BK7: =M7 | BL7: =N7 | BM7: =P7 | BN7: =Q7 -> 0 | BO7: =R7 -> 0 | BP7: =S7 -> 0 | BQ7: =T7 -> 0 | BR7: =U7 -> 0 | BS7: =V7 | BT7: =W7 | BU7: =Y7 | BV7: =Z7 -> 0 | BW7: =AA7 -> 0 | BX7: =AB7 -> 0 | BY7: =AC7 -> 0 | BZ7: =AD7 -> 0 | CA7: =AE7 | CB7: =AF7 | CC7: =AH7 | CD7: =AI7 -> 0 | CE7: =AJ7 -> 0 | CF7: =AK7 -> 0 | CG7: =AL7 -> 0 | CH7: =AM7 -> 0 | CI7: =AN7 | CJ7: =AO7 | CK7: =AQ7 | CL7: =AT7 -> 0 | CM7: =AU7 -> 0 | CN7: =AV7 -> 0 | CO7: =AW7 -> 0 | CP7: =AX7 -> 0 | CQ7: =AY7 | CR7: =AZ7 | CS7: =BA7
G8: % | H8: =IFERROR(H7/SUM(H7:L7),"") | I8: =IFERROR(I7/SUM(H7:L7),"") | J8: =IFERROR(J7/SUM(H7:L7),"") | K8: =IFERROR(K7/SUM(H7:L7),"") | L8: =IFERROR(L7/SUM(H7:L7),"") | M8: =IFERROR(M7/SUM(H7:L7),"") | N8: =IFERROR(N7/SUM(H7:L7),"") | Q8: =IFERROR(Q7/SUM(Q7:U7),"") | R8: =IFERROR(R7/SUM(Q7:U7),"") | S8: =IFERROR(S7/SUM(Q7:U7),"") | T8: =IFERROR(T7/SUM(Q7:U7),"") | U8: =IFERROR(U7/SUM(Q7:U7),"") | V8: =IFERROR(V7/SUM(Q7:U7),"") | W8: =IFERROR(W7/SUM(Q7:U7),"") | Z8: =IFERROR(Z7/SUM(Z7:AD7),"") | AA8: =IFERROR(AA7/SUM(Z7:AD7),"") | AB8: =IFERROR(AB7/SUM(Z7:AD7),"") | AC8: =IFERROR(AC7/SUM(Z7:AD7),"") | AD8: =IFERROR(AD7/SUM(Z7:AD7),"") | AE8: =IFERROR(AE7/SUM(Z7:AD7),"") | AF8: =IFERROR(AF7/SUM(Z7:AD7),"") | AI8: =IFERROR(AI7/SUM(AI7:AM7),"") | AJ8: =IFERROR(AJ7/SUM(AI7:AM7),"") | AK8: =IFERROR(AK7/SUM(AI7:AM7),"") | AL8: =IFERROR(AL7/SUM(AI7:AM7),"") | AM8: =IFERROR(AM7/SUM(AI7:AM7),"") | AN8: =IFERROR(AN7/SUM(AI7:AM7),"") | AO8: =IFERROR(AO7/SUM(AI7:AM7),"") | AT8: =IFERROR(AT7/SUM(AT7:AX7),"") | AU8: =IFERROR(AU7/SUM(AT7:AX7),"") | AV8: =IFERROR(AV7/SUM(AT7:AX7),"") | AW8: =IFERROR(AW7/SUM(AT7:AX7),"") | AX8: =IFERROR(AX7/SUM(AT7:AX7),"") | AY8: =IFERROR(AY7/SUM(AT7:AX7),"") | AZ8: =IFERROR(AZ7/SUM(AT7:AX7),"") | BD8: =BB8&"."&BC8 -> .
G9: # | M9: =IF(AND(ISBLANK(H9),ISBLANK(I9),ISBLANK(J9),ISBLANK(K9),ISBLANK(L9)),"",SUM(J9:L9)) | N9: =IF(AND(ISBLANK(H9),ISBLANK(I9),ISBLANK(J9),ISBLANK(K9),ISBLANK(L9)),"",SUM(K9:L9)) | O9: =IFERROR(SUM(H9:L9)/E9,"") | P9: =IFERROR(((80*J9)+(100*K9)+(150*L9))/SUM(H9:L9),"") | V9: =IF(AND(ISBLANK(Q9),ISBLANK(R9),ISBLANK(S9),ISBLANK(T9),ISBLANK(U9)),"",SUM(S9:U9)) | W9: =IF(AND(ISBLANK(Q9),ISBLANK(R9),ISBLANK(S9),ISBLANK(T9),ISBLANK(U9)),"",SUM(T9:U9)) | X9: =IFERROR(SUM(Q9:U9)/$E9,"") | Y9: =IFERROR(((80*S9)+(100*T9)+(150*U9))/SUM(Q9:U9),"") | AE9: =IF(AND(ISBLANK(Z9),ISBLANK(AA9),ISBLANK(AB9),ISBLANK(AC9),ISBLANK(AD9)),"",SUM(AB9:AD9)) | AF9: =IF(AND(ISBLANK(Z9),ISBLANK(AA9),ISBLANK(AB9),ISBLANK(AC9),ISBLANK(AD9)),"",SUM(AC9:AD9)) | AG9: =IFERROR(SUM(Z9:AD9)/$E9,"") | AH9: =IFERROR(((80*AB9)+(100*AC9)+(150*AD9))/SUM(Z9:AD9),"") | AN9: =IF(AND(ISBLANK(AI9),ISBLANK(AJ9),ISBLANK(AK9),ISBLANK(AL9),ISBLANK(AM9)),"",SUM(AK9:AM9)) | AO9: =IF(AND(ISBLANK(AI9),ISBLANK(AJ9),ISBLANK(AK9),ISBLANK(AL9),ISBLANK(AM9)),"",SUM(AL9:AM9)) | AP9: =IFERROR(SUM(AI9:AM9)/$E9,"") | AQ9: =IFERROR(((80*AK9)+(100*AL9)+(150*AM9))/SUM(AI9:AM9),"") | AR9: =IFERROR(AVERAGE(Y9,AH9,AQ9),"") | AS9: =IF(OR(P9="",AR9=""),"",AR9-P9) | AY9: =IF(AND(ISBLANK(AT9),ISBLANK(AU9),ISBLANK(AV9),ISBLANK(AW9),ISBLANK(AX9)),"",SUM(AV9:AX9)) | AZ9: =IF(AND(ISBLANK(AT9),ISBLANK(AU9),ISBLANK(AV9),ISBLANK(AW9),ISBLANK(AX9)),"",SUM(AW9:AX9)) | BA9: =IFERROR(((80*AV9)+(100*AW9)+(150*AX9))/SUM(AT9:AX9),"") | BB9: =B9 -> 0 | BC9: =C9 -> 0 | BD9: =BB9&"."&BC9 -> 0.0 | BE9: =D9 -> 0 | BF9: =H9 -> 0 | BG9: =I9 -> 0 | BH9: =J9 -> 0 | BI9: =K9 -> 0 | BJ9: =L9 -> 0 | BK9: =M9 | BL9: =N9 | BM9: =P9 | BN9: =Q9 -> 0 | BO9: =R9 -> 0 | BP9: =S9 -> 0 | BQ9: =T9 -> 0 | BR9: =U9 -> 0 | BS9: =V9 | BT9: =W9 | BU9: =Y9 | BV9: =Z9 -> 0 | BW9: =AA9 -> 0 | BX9: =AB9 -> 0 | BY9: =AC9 -> 0 | BZ9: =AD9 -> 0 | CA9: =AE9 | CB9: =AF9 | CC9: =AH9 | CD9: =AI9 -> 0 | CE9: =AJ9 -> 0 | CF9: =AK9 -> 0 | CG9: =AL9 -> 0 | CH9: =AM9 -> 0 | CI9: =AN9 | CJ9: =AO9 | CK9: =AQ9 | CL9: =AT9 -> 0 | CM9: =AU9 -> 0 | CN9: =AV9 -> 0 | CO9: =AW9 -> 0 | CP9: =AX9 -> 0 | CQ9: =AY9 | CR9: =AZ9 | CS9: =BA9
G10: % | H10: =IFERROR(H9/SUM(H9:L9),"") | I10: =IFERROR(I9/SUM(H9:L9),"") | J10: =IFERROR(J9/SUM(H9:L9),"") | K10: =IFERROR(K9/SUM(H9:L9),"") | L10: =IFERROR(L9/SUM(H9:L9),"") | M10: =IFERROR(M9/SUM(H9:L9),"") | N10: =IFERROR(N9/SUM(H9:L9),"") | Q10: =IFERROR(Q9/SUM(Q9:U9),"") | R10: =IFERROR(R9/SUM(Q9:U9),"") | S10: =IFERROR(S9/SUM(Q9:U9),"") | T10: =IFERROR(T9/SUM(Q9:U9),"") | U10: =IFERROR(U9/SUM(Q9:U9),"") | V10: =IFERROR(V9/SUM(Q9:U9),"") | W10: =IFERROR(W9/SUM(Q9:U9),"") | Z10: =IFERROR(Z9/SUM(Z9:AD9),"") | AA10: =IFERROR(AA9/SUM(Z9:AD9),"") | AB10: =IFERROR(AB9/SUM(Z9:AD9),"") | AC10: =IFERROR(AC9/SUM(Z9:AD9),"") | AD10: =IFERROR(AD9/SUM(Z9:AD9),"") | AE10: =IFERROR(AE9/SUM(Z9:AD9),"") | AF10: =IFERROR(AF9/SUM(Z9:AD9),"") | AI10: =IFERROR(AI9/SUM(AI9:AM9),"") | AJ10: =IFERROR(AJ9/SUM(AI9:AM9),"") | AK10: =IFERROR(AK9/SUM(AI9:AM9),"") | AL10: =IFERROR(AL9/SUM(AI9:AM9),"") | AM10: =IFERROR(AM9/SUM(AI9:AM9),"") | AN10: =IFERROR(AN9/SUM(AI9:AM9),"") | AO10: =IFERROR(AO9/SUM(AI9:AM9),"") | AT10: =IFERROR(AT9/SUM(AT9:AX9),"") | AU10: =IFERROR(AU9/SUM(AT9:AX9),"") | AV10: =IFERROR(AV9/SUM(AT9:AX9),"") | AW10: =IFERROR(AW9/SUM(AT9:AX9),"") | AX10: =IFERROR(AX9/SUM(AT9:AX9),"") | AY10: =IFERROR(AY9/SUM(AT9:AX9),"") | AZ10: =IFERROR(AZ9/SUM(AT9:AX9),"") | BD10: =BB10&"."&BC10 -> .
G11: # | M11: =IF(AND(ISBLANK(H11),ISBLANK(I11),ISBLANK(J11),ISBLANK(K11),ISBLANK(L11)),"",SUM(J11:L11)) | N11: =IF(AND(ISBLANK(H11),ISBLANK(I11),ISBLANK(J11),ISBLANK(K11),ISBLANK(L11)),"",SUM(K11:L11)) | O11: =IFERROR(SUM(H11:L11)/E11,"") | P11: =IFERROR(((80*J11)+(100*K11)+(150*L11))/SUM(H11:L11),"") | V11: =IF(AND(ISBLANK(Q11),ISBLANK(R11),ISBLANK(S11),ISBLANK(T11),ISBLANK(U11)),"",SUM(S11:U11)) | W11: =IF(AND(ISBLANK(Q11),ISBLANK(R11),ISBLANK(S11),ISBLANK(T11),ISBLANK(U11)),"",SUM(T11:U11)) | X11: =IFERROR(SUM(Q11:U11)/$E11,"") | Y11: =IFERROR(((80*S11)+(100*T11)+(150*U11))/SUM(Q11:U11),"") | AE11: =IF(AND(ISBLANK(Z11),ISBLANK(AA11),ISBLANK(AB11),ISBLANK(AC11),ISBLANK(AD11)),"",SUM(AB11:AD11)) | AF11: =IF(AND(ISBLANK(Z11),ISBLANK(AA11),ISBLANK(AB11),ISBLANK(AC11),ISBLANK(AD11)),"",SUM(AC11:AD11)) | AG11: =IFERROR(SUM(Z11:AD11)/$E11,"") | AH11: =IFERROR(((80*AB11)+(100*AC11)+(150*AD11))/SUM(Z11:AD11),"") | AN11: =IF(AND(ISBLANK(AI11),ISBLANK(AJ11),ISBLANK(AK11),ISBLANK(AL11),ISBLANK(AM11)),"",SUM(AK11:AM11)) | AO11: =IF(AND(ISBLANK(AI11),ISBLANK(AJ11),ISBLANK(AK11),ISBLANK(AL11),ISBLANK(AM11)),"",SUM(AL11:AM11)) | AP11: =IFERROR(SUM(AI11:AM11)/$E11,"") | AQ11: =IFERROR(((80*AK11)+(100*AL11)+(150*AM11))/SUM(AI11:AM11),"") | AR11: =IFERROR(AVERAGE(Y11,AH11,AQ11),"") | AS11: =IF(OR(P11="",AR11=""),"",AR11-P11) | AY11: =IF(AND(ISBLANK(AT11),ISBLANK(AU11),ISBLANK(AV11),ISBLANK(AW11),ISBLANK(AX11)),"",SUM(AV11:AX11)) | AZ11: =IF(AND(ISBLANK(AT11),ISBLANK(AU11),ISBLANK(AV11),ISBLANK(AW11),ISBLANK(AX11)),"",SUM(AW11:AX11)) | BA11: =IFERROR(((80*AV11)+(100*AW11)+(150*AX11))/SUM(AT11:AX11),"") | BB11: =B11 -> 0 | BC11: =C11 -> 0 | BD11: =BB11&"."&BC11 -> 0.0 | BE11: =D11 -> 0 | BF11: =H11 -> 0 | BG11: =I11 -> 0 | BH11: =J11 -> 0 | BI11: =K11 -> 0 | BJ11: =L11 -> 0 | BK11: =M11 | BL11: =N11 | BM11: =P11 | BN11: =Q11 -> 0 | BO11: =R11 -> 0 | BP11: =S11 -> 0 | BQ11: =T11 -> 0 | BR11: =U11 -> 0 | BS11: =V11 | BT11: =W11 | BU11: =Y11 | BV11: =Z11 -> 0 | BW11: =AA11 -> 0 | BX11: =AB11 -> 0 | BY11: =AC11 -> 0 | BZ11: =AD11 -> 0 | CA11: =AE11 | CB11: =AF11 | CC11: =AH11 | CD11: =AI11 -> 0 | CE11: =AJ11 -> 0 | CF11: =AK11 -> 0 | CG11: =AL11 -> 0 | CH11: =AM11 -> 0 | CI11: =AN11 | CJ11: =AO11 | CK11: =AQ11 | CL11: =AT11 -> 0 | CM11: =AU11 -> 0 | CN11: =AV11 -> 0 | CO11: =AW11 -> 0 | CP11: =AX11 -> 0 | CQ11: =AY11 | CR11: =AZ11 | CS11: =BA11
G12: % | H12: =IFERROR(H11/SUM(H11:L11),"") | I12: =IFERROR(I11/SUM(H11:L11),"") | J12: =IFERROR(J11/SUM(H11:L11),"") | K12: =IFERROR(K11/SUM(H11:L11),"") | L12: =IFERROR(L11/SUM(H11:L11),"") | M12: =IFERROR(M11/SUM(H11:L11),"") | N12: =IFERROR(N11/SUM(H11:L11),"") | Q12: =IFERROR(Q11/SUM(Q11:U11),"") | R12: =IFERROR(R11/SUM(Q11:U11),"") | S12: =IFERROR(S11/SUM(Q11:U11),"") | T12: =IFERROR(T11/SUM(Q11:U11),"") | U12: =IFERROR(U11/SUM(Q11:U11),"") | V12: =IFERROR(V11/SUM(Q11:U11),"") | W12: =IFERROR(W11/SUM(Q11:U11),"") | Z12: =IFERROR(Z11/SUM(Z11:AD11),"") | AA12: =IFERROR(AA11/SUM(Z11:AD11),"") | AB12: =IFERROR(AB11/SUM(Z11:AD11),"") | AC12: =IFERROR(AC11/SUM(Z11:AD11),"") | AD12: =IFERROR(AD11/SUM(Z11:AD11),"") | AE12: =IFERROR(AE11/SUM(Z11:AD11),"") | AF12: =IFERROR(AF11/SUM(Z11:AD11),"") | AI12: =IFERROR(AI11/SUM(AI11:AM11),"") | AJ12: =IFERROR(AJ11/SUM(AI11:AM11),"") | AK12: =IFERROR(AK11/SUM(AI11:AM11),"") | AL12: =IFERROR(AL11/SUM(AI11:AM11),"") | AM12: =IFERROR(AM11/SUM(AI11:AM11),"") | AN12: =IFERROR(AN11/SUM(AI11:AM11),"") | AO12: =IFERROR(AO11/SUM(AI11:AM11),"") | AT12: =IFERROR(AT11/SUM(AT11:AX11),"") | AU12: =IFERROR(AU11/SUM(AT11:AX11),"") | AV12: =IFERROR(AV11/SUM(AT11:AX11),"") | AW12: =IFERROR(AW11/SUM(AT11:AX11),"") | AX12: =IFERROR(AX11/SUM(AT11:AX11),"") | AY12: =IFERROR(AY11/SUM(AT11:AX11),"") | AZ12: =IFERROR(AZ11/SUM(AT11:AX11),"") | BD12: =BB12&"."&BC12 -> .
G13: # | M13: =IF(AND(ISBLANK(H13),ISBLANK(I13),ISBLANK(J13),ISBLANK(K13),ISBLANK(L13)),"",SUM(J13:L13)) | N13: =IF(AND(ISBLANK(H13),ISBLANK(I13),ISBLANK(J13),ISBLANK(K13),ISBLANK(L13)),"",SUM(K13:L13)) | O13: =IFERROR(SUM(H13:L13)/E13,"") | P13: =IFERROR(((80*J13)+(100*K13)+(150*L13))/SUM(H13:L13),"") | V13: =IF(AND(ISBLANK(Q13),ISBLANK(R13),ISBLANK(S13),ISBLANK(T13),ISBLANK(U13)),"",SUM(S13:U13)) | W13: =IF(AND(ISBLANK(Q13),ISBLANK(R13),ISBLANK(S13),ISBLANK(T13),ISBLANK(U13)),"",SUM(T13:U13)) | X13: =IFERROR(SUM(Q13:U13)/$E13,"") | Y13: =IFERROR(((80*S13)+(100*T13)+(150*U13))/SUM(Q13:U13),"") | AE13: =IF(AND(ISBLANK(Z13),ISBLANK(AA13),ISBLANK(AB13),ISBLANK(AC13),ISBLANK(AD13)),"",SUM(AB13:AD13)) | AF13: =IF(AND(ISBLANK(Z13),ISBLANK(AA13),ISBLANK(AB13),ISBLANK(AC13),ISBLANK(AD13)),"",SUM(AC13:AD13)) | AG13: =IFERROR(SUM(Z13:AD13)/$E13,"") | AH13: =IFERROR(((80*AB13)+(100*AC13)+(150*AD13))/SUM(Z13:AD13),"") | AN13: =IF(AND(ISBLANK(AI13),ISBLANK(AJ13),ISBLANK(AK13),ISBLANK(AL13),ISBLANK(AM13)),"",SUM(AK13:AM13)) | AO13: =IF(AND(ISBLANK(AI13),ISBLANK(AJ13),ISBLANK(AK13),ISBLANK(AL13),ISBLANK(AM13)),"",SUM(AL13:AM13)) | AP13: =IFERROR(SUM(AI13:AM13)/$E13,"") | AQ13: =IFERROR(((80*AK13)+(100*AL13)+(150*AM13))/SUM(AI13:AM13),"") | AR13: =IFERROR(AVERAGE(Y13,AH13,AQ13),"") | AS13: =IF(OR(P13="",AR13=""),"",AR13-P13) | AY13: =IF(AND(ISBLANK(AT13),ISBLANK(AU13),ISBLANK(AV13),ISBLANK(AW13),ISBLANK(AX13)),"",SUM(AV13:AX13)) | AZ13: =IF(AND(ISBLANK(AT13),ISBLANK(AU13),ISBLANK(AV13),ISBLANK(AW13),ISBLANK(AX13)),"",SUM(AW13:AX13)) | BA13: =IFERROR(((80*AV13)+(100*AW13)+(150*AX13))/SUM(AT13:AX13),"") | BB13: =B13 -> 0 | BC13: =C13 -> 0 | BD13: =BB13&"."&BC13 -> 0.0 | BE13: =D13 -> 0 | BF13: =H13 -> 0 | BG13: =I13 -> 0 | BH13: =J13 -> 0 | BI13: =K13 -> 0 | BJ13: =L13 -> 0 | BK13: =M13 | BL13: =N13 | BM13: =P13 | BN13: =Q13 -> 0 | BO13: =R13 -> 0 | BP13: =S13 -> 0 | BQ13: =T13 -> 0 | BR13: =U13 -> 0 | BS13: =V13 | BT13: =W13 | BU13: =Y13 | BV13: =Z13 -> 0 | BW13: =AA13 -> 0 | BX13: =AB13 -> 0 | BY13: =AC13 -> 0 | BZ13: =AD13 -> 0 | CA13: =AE13 | CB13: =AF13 | CC13: =AH13 | CD13: =AI13 -> 0 | CE13: =AJ13 -> 0 | CF13: =AK13 -> 0 | CG13: =AL13 -> 0 | CH13: =AM13 -> 0 | CI13: =AN13 | CJ13: =AO13 | CK13: =AQ13 | CL13: =AT13 -> 0 | CM13: =AU13 -> 0 | CN13: =AV13 -> 0 | CO13: =AW13 -> 0 | CP13: =AX13 -> 0 | CQ13: =AY13 | CR13: =AZ13 | CS13: =BA13
G14: % | H14: =IFERROR(H13/SUM(H13:L13),"") | I14: =IFERROR(I13/SUM(H13:L13),"") | J14: =IFERROR(J13/SUM(H13:L13),"") | K14: =IFERROR(K13/SUM(H13:L13),"") | L14: =IFERROR(L13/SUM(H13:L13),"") | M14: =IFERROR(M13/SUM(H13:L13),"") | N14: =IFERROR(N13/SUM(H13:L13),"") | Q14: =IFERROR(Q13/SUM(Q13:U13),"") | R14: =IFERROR(R13/SUM(Q13:U13),"") | S14: =IFERROR(S13/SUM(Q13:U13),"") | T14: =IFERROR(T13/SUM(Q13:U13),"") | U14: =IFERROR(U13/SUM(Q13:U13),"") | V14: =IFERROR(V13/SUM(Q13:U13),"") | W14: =IFERROR(W13/SUM(Q13:U13),"") | Z14: =IFERROR(Z13/SUM(Z13:AD13),"") | AA14: =IFERROR(AA13/SUM(Z13:AD13),"") | AB14: =IFERROR(AB13/SUM(Z13:AD13),"") | AC14: =IFERROR(AC13/SUM(Z13:AD13),"") | AD14: =IFERROR(AD13/SUM(Z13:AD13),"") | AE14: =IFERROR(AE13/SUM(Z13:AD13),"") | AF14: =IFERROR(AF13/SUM(Z13:AD13),"") | AI14: =IFERROR(AI13/SUM(AI13:AM13),"") | AJ14: =IFERROR(AJ13/SUM(AI13:AM13),"") | AK14: =IFERROR(AK13/SUM(AI13:AM13),"") | AL14: =IFERROR(AL13/SUM(AI13:AM13),"") | AM14: =IFERROR(AM13/SUM(AI13:AM13),"") | AN14: =IFERROR(AN13/SUM(AI13:AM13),"") | AO14: =IFERROR(AO13/SUM(AI13:AM13),"") | AT14: =IFERROR(AT13/SUM(AT13:AX13),"") | AU14: =IFERROR(AU13/SUM(AT13:AX13),"") | AV14: =IFERROR(AV13/SUM(AT13:AX13),"") | AW14: =IFERROR(AW13/SUM(AT13:AX13),"") | AX14: =IFERROR(AX13/SUM(AT13:AX13),"") | AY14: =IFERROR(AY13/SUM(AT13:AX13),"") | AZ14: =IFERROR(AZ13/SUM(AT13:AX13),"") | BD14: =BB14&"."&BC14 -> .
G15: # | M15: =IF(AND(ISBLANK(H15),ISBLANK(I15),ISBLANK(J15),ISBLANK(K15),ISBLANK(L15)),"",SUM(J15:L15)) | N15: =IF(AND(ISBLANK(H15),ISBLANK(I15),ISBLANK(J15),ISBLANK(K15),ISBLANK(L15)),"",SUM(K15:L15)) | O15: =IFERROR(SUM(H15:L15)/E15,"") | P15: =IFERROR(((80*J15)+(100*K15)+(150*L15))/SUM(H15:L15),"") | V15: =IF(AND(ISBLANK(Q15),ISBLANK(R15),ISBLANK(S15),ISBLANK(T15),ISBLANK(U15)),"",SUM(S15:U15)) | W15: =IF(AND(ISBLANK(Q15),ISBLANK(R15),ISBLANK(S15),ISBLANK(T15),ISBLANK(U15)),"",SUM(T15:U15)) | X15: =IFERROR(SUM(Q15:U15)/$E15,"") | Y15: =IFERROR(((80*S15)+(100*T15)+(150*U15))/SUM(Q15:U15),"") | AE15: =IF(AND(ISBLANK(Z15),ISBLANK(AA15),ISBLANK(AB15),ISBLANK(AC15),ISBLANK(AD15)),"",SUM(AB15:AD15)) | AF15: =IF(AND(ISBLANK(Z15),ISBLANK(AA15),ISBLANK(AB15),ISBLANK(AC15),ISBLANK(AD15)),"",SUM(AC15:AD15)) | AG15: =IFERROR(SUM(Z15:AD15)/$E15,"") | AH15: =IFERROR(((80*AB15)+(100*AC15)+(150*AD15))/SUM(Z15:AD15),"") | AN15: =IF(AND(ISBLANK(AI15),ISBLANK(AJ15),ISBLANK(AK15),ISBLANK(AL15),ISBLANK(AM15)),"",SUM(AK15:AM15)) | AO15: =IF(AND(ISBLANK(AI15),ISBLANK(AJ15),ISBLANK(AK15),ISBLANK(AL15),ISBLANK(AM15)),"",SUM(AL15:AM15)) | AP15: =IFERROR(SUM(AI15:AM15)/$E15,"") | AQ15: =IFERROR(((80*AK15)+(100*AL15)+(150*AM15))/SUM(AI15:AM15),"") | AR15: =IFERROR(AVERAGE(Y15,AH15,AQ15),"") | AS15: =IF(OR(P15="",AR15=""),"",AR15-P15) | AY15: =IF(AND(ISBLANK(AT15),ISBLANK(AU15),ISBLANK(AV15),ISBLANK(AW15),ISBLANK(AX15)),"",SUM(AV15:AX15)) | AZ15: =IF(AND(ISBLANK(AT15),ISBLANK(AU15),ISBLANK(AV15),ISBLANK(AW15),ISBLANK(AX15)),"",SUM(AW15:AX15)) | BA15: =IFERROR(((80*AV15)+(100*AW15)+(150*AX15))/SUM(AT15:AX15),"") | BB15: =B15 -> 0 | BC15: =C15 -> 0 | BD15: =BB15&"."&BC15 -> 0.0 | BE15: =D15 -> 0 | BF15: =H15 -> 0 | BG15: =I15 -> 0 | BH15: =J15 -> 0 | BI15: =K15 -> 0 | BJ15: =L15 -> 0 | BK15: =M15 | BL15: =N15 | BM15: =P15 | BN15: =Q15 -> 0 | BO15: =R15 -> 0 | BP15: =S15 -> 0 | BQ15: =T15 -> 0 | BR15: =U15 -> 0 | BS15: =V15 | BT15: =W15 | BU15: =Y15 | BV15: =Z15 -> 0 | BW15: =AA15 -> 0 | BX15: =AB15 -> 0 | BY15: =AC15 -> 0 | BZ15: =AD15 -> 0 | CA15: =AE15 | CB15: =AF15 | CC15: =AH15 | CD15: =AI15 -> 0 | CE15: =AJ15 -> 0 | CF15: =AK15 -> 0 | CG15: =AL15 -> 0 | CH15: =AM15 -> 0 | CI15: =AN15 | CJ15: =AO15 | CK15: =AQ15 | CL15: =AT15 -> 0 | CM15: =AU15 -> 0 | CN15: =AV15 -> 0 | CO15: =AW15 -> 0 | CP15: =AX15 -> 0 | CQ15: =AY15 | CR15: =AZ15 | CS15: =BA15
G16: % | H16: =IFERROR(H15/SUM(H15:L15),"") | I16: =IFERROR(I15/SUM(H15:L15),"") | J16: =IFERROR(J15/SUM(H15:L15),"") | K16: =IFERROR(K15/SUM(H15:L15),"") | L16: =IFERROR(L15/SUM(H15:L15),"") | M16: =IFERROR(M15/SUM(H15:L15),"") | N16: =IFERROR(N15/SUM(H15:L15),"") | Q16: =IFERROR(Q15/SUM(Q15:U15),"") | R16: =IFERROR(R15/SUM(Q15:U15),"") | S16: =IFERROR(S15/SUM(Q15:U15),"") | T16: =IFERROR(T15/SUM(Q15:U15),"") | U16: =IFERROR(U15/SUM(Q15:U15),"") | V16: =IFERROR(V15/SUM(Q15:U15),"") | W16: =IFERROR(W15/SUM(Q15:U15),"") | Z16: =IFERROR(Z15/SUM(Z15:AD15),"") | AA16: =IFERROR(AA15/SUM(Z15:AD15),"") | AB16: =IFERROR(AB15/SUM(Z15:AD15),"") | AC16: =IFERROR(AC15/SUM(Z15:AD15),"") | AD16: =IFERROR(AD15/SUM(Z15:AD15),"") | AE16: =IFERROR(AE15/SUM(Z15:AD15),"") | AF16: =IFERROR(AF15/SUM(Z15:AD15),"") | AI16: =IFERROR(AI15/SUM(AI15:AM15),"") | AJ16: =IFERROR(AJ15/SUM(AI15:AM15),"") | AK16: =IFERROR(AK15/SUM(AI15:AM15),"") | AL16: =IFERROR(AL15/SUM(AI15:AM15),"") | AM16: =IFERROR(AM15/SUM(AI15:AM15),"") | AN16: =IFERROR(AN15/SUM(AI15:AM15),"") | AO16: =IFERROR(AO15/SUM(AI15:AM15),"") | AT16: =IFERROR(AT15/SUM(AT15:AX15),"") | AU16: =IFERROR(AU15/SUM(AT15:AX15),"") | AV16: =IFERROR(AV15/SUM(AT15:AX15),"") | AW16: =IFERROR(AW15/SUM(AT15:AX15),"") | AX16: =IFERROR(AX15/SUM(AT15:AX15),"") | AY16: =IFERROR(AY15/SUM(AT15:AX15),"") | AZ16: =IFERROR(AZ15/SUM(AT15:AX15),"") | BD16: =BB16&"."&BC16 -> .
G17: # | M17: =IF(AND(ISBLANK(H17),ISBLANK(I17),ISBLANK(J17),ISBLANK(K17),ISBLANK(L17)),"",SUM(J17:L17)) | N17: =IF(AND(ISBLANK(H17),ISBLANK(I17),ISBLANK(J17),ISBLANK(K17),ISBLANK(L17)),"",SUM(K17:L17)) | O17: =IFERROR(SUM(H17:L17)/E17,"") | P17: =IFERROR(((80*J17)+(100*K17)+(150*L17))/SUM(H17:L17),"") | V17: =IF(AND(ISBLANK(Q17),ISBLANK(R17),ISBLANK(S17),ISBLANK(T17),ISBLANK(U17)),"",SUM(S17:U17)) | W17: =IF(AND(ISBLANK(Q17),ISBLANK(R17),ISBLANK(S17),ISBLANK(T17),ISBLANK(U17)),"",SUM(T17:U17)) | X17: =IFERROR(SUM(Q17:U17)/$E17,"") | Y17: =IFERROR(((80*S17)+(100*T17)+(150*U17))/SUM(Q17:U17),"") | AE17: =IF(AND(ISBLANK(Z17),ISBLANK(AA17),ISBLANK(AB17),ISBLANK(AC17),ISBLANK(AD17)),"",SUM(AB17:AD17)) | AF17: =IF(AND(ISBLANK(Z17),ISBLANK(AA17),ISBLANK(AB17),ISBLANK(AC17),ISBLANK(AD17)),"",SUM(AC17:AD17)) | AG17: =IFERROR(SUM(Z17:AD17)/$E17,"") | AH17: =IFERROR(((80*AB17)+(100*AC17)+(150*AD17))/SUM(Z17:AD17),"") | AN17: =IF(AND(ISBLANK(AI17),ISBLANK(AJ17),ISBLANK(AK17),ISBLANK(AL17),ISBLANK(AM17)),"",SUM(AK17:AM17)) | AO17: =IF(AND(ISBLANK(AI17),ISBLANK(AJ17),ISBLANK(AK17),ISBLANK(AL17),ISBLANK(AM17)),"",SUM(AL17:AM17)) | AP17: =IFERROR(SUM(AI17:AM17)/$E17,"") | AQ17: =IFERROR(((80*AK17)+(100*AL17)+(150*AM17))/SUM(AI17:AM17),"") | AR17: =IFERROR(AVERAGE(Y17,AH17,AQ17),"") | AS17: =IF(OR(P17="",AR17=""),"",AR17-P17) | AY17: =IF(AND(ISBLANK(AT17),ISBLANK(AU17),ISBLANK(AV17),ISBLANK(AW17),ISBLANK(AX17)),"",SUM(AV17:AX17)) | AZ17: =IF(AND(ISBLANK(AT17),ISBLANK(AU17),ISBLANK(AV17),ISBLANK(AW17),ISBLANK(AX17)),"",SUM(AW17:AX17)) | BA17: =IFERROR(((80*AV17)+(100*AW17)+(150*AX17))/SUM(AT17:AX17),"") | BB17: =B17 -> 0 | BC17: =C17 -> 0 | BD17: =BB17&"."&BC17 -> 0.0 | BE17: =D17 -> 0 | BF17: =H17 -> 0 | BG17: =I17 -> 0 | BH17: =J17 -> 0 | BI17: =K17 -> 0 | BJ17: =L17 -> 0 | BK17: =M17 | BL17: =N17 | BM17: =P17 | BN17: =Q17 -> 0 | BO17: =R17 -> 0 | BP17: =S17 -> 0 | BQ17: =T17 -> 0 | BR17: =U17 -> 0 | BS17: =V17 | BT17: =W17 | BU17: =Y17 | BV17: =Z17 -> 0 | BW17: =AA17 -> 0 | BX17: =AB17 -> 0 | BY17: =AC17 -> 0 | BZ17: =AD17 -> 0 | CA17: =AE17 | CB17: =AF17 | CC17: =AH17 | CD17: =AI17 -> 0 | CE17: =AJ17 -> 0 | CF17: =AK17 -> 0 | CG17: =AL17 -> 0 | CH17: =AM17 -> 0 | CI17: =AN17 | CJ17: =AO17 | CK17: =AQ17 | CL17: =AT17 -> 0 | CM17: =AU17 -> 0 | CN17: =AV17 -> 0 | CO17: =AW17 -> 0 | CP17: =AX17 -> 0 | CQ17: =AY17 | CR17: =AZ17 | CS17: =BA17
G18: % | H18: =IFERROR(H17/SUM(H17:L17),"") | I18: =IFERROR(I17/SUM(H17:L17),"") | J18: =IFERROR(J17/SUM(H17:L17),"") | K18: =IFERROR(K17/SUM(H17:L17),"") | L18: =IFERROR(L17/SUM(H17:L17),"") | M18: =IFERROR(M17/SUM(H17:L17),"") | N18: =IFERROR(N17/SUM(H17:L17),"") | Q18: =IFERROR(Q17/SUM(Q17:U17),"") | R18: =IFERROR(R17/SUM(Q17:U17),"") | S18: =IFERROR(S17/SUM(Q17:U17),"") | T18: =IFERROR(T17/SUM(Q17:U17),"") | U18: =IFERROR(U17/SUM(Q17:U17),"") | V18: =IFERROR(V17/SUM(Q17:U17),"") | W18: =IFERROR(W17/SUM(Q17:U17),"") | Z18: =IFERROR(Z17/SUM(Z17:AD17),"") | AA18: =IFERROR(AA17/SUM(Z17:AD17),"") | AB18: =IFERROR(AB17/SUM(Z17:AD17),"") | AC18: =IFERROR(AC17/SUM(Z17:AD17),"") | AD18: =IFERROR(AD17/SUM(Z17:AD17),"") | AE18: =IFERROR(AE17/SUM(Z17:AD17),"") | AF18: =IFERROR(AF17/SUM(Z17:AD17),"") | AI18: =IFERROR(AI17/SUM(AI17:AM17),"") | AJ18: =IFERROR(AJ17/SUM(AI17:AM17),"") | AK18: =IFERROR(AK17/SUM(AI17:AM17),"") | AL18: =IFERROR(AL17/SUM(AI17:AM17),"") | AM18: =IFERROR(AM17/SUM(AI17:AM17),"") | AN18: =IFERROR(AN17/SUM(AI17:AM17),"") | AO18: =IFERROR(AO17/SUM(AI17:AM17),"") | AT18: =IFERROR(AT17/SUM(AT17:AX17),"") | AU18: =IFERROR(AU17/SUM(AT17:AX17),"") | AV18: =IFERROR(AV17/SUM(AT17:AX17),"") | AW18: =IFERROR(AW17/SUM(AT17:AX17),"") | AX18: =IFERROR(AX17/SUM(AT17:AX17),"") | AY18: =IFERROR(AY17/SUM(AT17:AX17),"") | AZ18: =IFERROR(AZ17/SUM(AT17:AX17),"") | BD18: =BB18&"."&BC18 -> .
G19: # | M19: =IF(AND(ISBLANK(H19),ISBLANK(I19),ISBLANK(J19),ISBLANK(K19),ISBLANK(L19)),"",SUM(J19:L19)) | N19: =IF(AND(ISBLANK(H19),ISBLANK(I19),ISBLANK(J19),ISBLANK(K19),ISBLANK(L19)),"",SUM(K19:L19)) | O19: =IFERROR(SUM(H19:L19)/E19,"") | P19: =IFERROR(((80*J19)+(100*K19)+(150*L19))/SUM(H19:L19),"") | V19: =IF(AND(ISBLANK(Q19),ISBLANK(R19),ISBLANK(S19),ISBLANK(T19),ISBLANK(U19)),"",SUM(S19:U19)) | W19: =IF(AND(ISBLANK(Q19),ISBLANK(R19),ISBLANK(S19),ISBLANK(T19),ISBLANK(U19)),"",SUM(T19:U19)) | X19: =IFERROR(SUM(Q19:U19)/$E19,"") | Y19: =IFERROR(((80*S19)+(100*T19)+(150*U19))/SUM(Q19:U19),"") | AE19: =IF(AND(ISBLANK(Z19),ISBLANK(AA19),ISBLANK(AB19),ISBLANK(AC19),ISBLANK(AD19)),"",SUM(AB19:AD19)) | AF19: =IF(AND(ISBLANK(Z19),ISBLANK(AA19),ISBLANK(AB19),ISBLANK(AC19),ISBLANK(AD19)),"",SUM(AC19:AD19)) | AG19: =IFERROR(SUM(Z19:AD19)/$E19,"") | AH19: =IFERROR(((80*AB19)+(100*AC19)+(150*AD19))/SUM(Z19:AD19),"") | AN19: =IF(AND(ISBLANK(AI19),ISBLANK(AJ19),ISBLANK(AK19),ISBLANK(AL19),ISBLANK(AM19)),"",SUM(AK19:AM19)) | AO19: =IF(AND(ISBLANK(AI19),ISBLANK(AJ19),ISBLANK(AK19),ISBLANK(AL19),ISBLANK(AM19)),"",SUM(AL19:AM19)) | AP19: =IFERROR(SUM(AI19:AM19)/$E19,"") | AQ19: =IFERROR(((80*AK19)+(100*AL19)+(150*AM19))/SUM(AI19:AM19),"") | AR19: =IFERROR(AVERAGE(Y19,AH19,AQ19),"") | AS19: =IF(OR(P19="",AR19=""),"",AR19-P19) | AY19: =IF(AND(ISBLANK(AT19),ISBLANK(AU19),ISBLANK(AV19),ISBLANK(AW19),ISBLANK(AX19)),"",SUM(AV19:AX19)) | AZ19: =IF(AND(ISBLANK(AT19),ISBLANK(AU19),ISBLANK(AV19),ISBLANK(AW19),ISBLANK(AX19)),"",SUM(AW19:AX19)) | BA19: =IFERROR(((80*AV19)+(100*AW19)+(150*AX19))/SUM(AT19:AX19),"") | BB19: =B19 -> 0 | BC19: =C19 -> 0 | BD19: =BB19&"."&BC19 -> 0.0 | BE19: =D19 -> 0 | BF19: =H19 -> 0 | BG19: =I19 -> 0 | BH19: =J19 -> 0 | BI19: =K19 -> 0 | BJ19: =L19 -> 0 | BK19: =M19 | BL19: =N19 | BM19: =P19 | BN19: =Q19 -> 0 | BO19: =R19 -> 0 | BP19: =S19 -> 0 | BQ19: =T19 -> 0 | BR19: =U19 -> 0 | BS19: =V19 | BT19: =W19 | BU19: =Y19 | BV19: =Z19 -> 0 | BW19: =AA19 -> 0 | BX19: =AB19 -> 0 | BY19: =AC19 -> 0 | BZ19: =AD19 -> 0 | CA19: =AE19 | CB19: =AF19 | CC19: =AH19 | CD19: =AI19 -> 0 | CE19: =AJ19 -> 0 | CF19: =AK19 -> 0 | CG19: =AL19 -> 0 | CH19: =AM19 -> 0 | CI19: =AN19 | CJ19: =AO19 | CK19: =AQ19 | CL19: =AT19 -> 0 | CM19: =AU19 -> 0 | CN19: =AV19 -> 0 | CO19: =AW19 -> 0 | CP19: =AX19 -> 0 | CQ19: =AY19 | CR19: =AZ19 | CS19: =BA19
G20: % | H20: =IFERROR(H19/SUM(H19:L19),"") | I20: =IFERROR(I19/SUM(H19:L19),"") | J20: =IFERROR(J19/SUM(H19:L19),"") | K20: =IFERROR(K19/SUM(H19:L19),"") | L20: =IFERROR(L19/SUM(H19:L19),"") | M20: =IFERROR(M19/SUM(H19:L19),"") | N20: =IFERROR(N19/SUM(H19:L19),"") | Q20: =IFERROR(Q19/SUM(Q19:U19),"") | R20: =IFERROR(R19/SUM(Q19:U19),"") | S20: =IFERROR(S19/SUM(Q19:U19),"") | T20: =IFERROR(T19/SUM(Q19:U19),"") | U20: =IFERROR(U19/SUM(Q19:U19),"") | V20: =IFERROR(V19/SUM(Q19:U19),"") | W20: =IFERROR(W19/SUM(Q19:U19),"") | Z20: =IFERROR(Z19/SUM(Z19:AD19),"") | AA20: =IFERROR(AA19/SUM(Z19:AD19),"") | AB20: =IFERROR(AB19/SUM(Z19:AD19),"") | AC20: =IFERROR(AC19/SUM(Z19:AD19),"") | AD20: =IFERROR(AD19/SUM(Z19:AD19),"") | AE20: =IFERROR(AE19/SUM(Z19:AD19),"") | AF20: =IFERROR(AF19/SUM(Z19:AD19),"") | AI20: =IFERROR(AI19/SUM(AI19:AM19),"") | AJ20: =IFERROR(AJ19/SUM(AI19:AM19),"") | AK20: =IFERROR(AK19/SUM(AI19:AM19),"") | AL20: =IFERROR(AL19/SUM(AI19:AM19),"") | AM20: =IFERROR(AM19/SUM(AI19:AM19),"") | AN20: =IFERROR(AN19/SUM(AI19:AM19),"") | AO20: =IFERROR(AO19/SUM(AI19:AM19),"") | AT20: =IFERROR(AT19/SUM(AT19:AX19),"") | AU20: =IFERROR(AU19/SUM(AT19:AX19),"") | AV20: =IFERROR(AV19/SUM(AT19:AX19),"") | AW20: =IFERROR(AW19/SUM(AT19:AX19),"") | AX20: =IFERROR(AX19/SUM(AT19:AX19),"") | AY20: =IFERROR(AY19/SUM(AT19:AX19),"") | AZ20: =IFERROR(AZ19/SUM(AT19:AX19),"") | BD20: =BB20&"."&BC20 -> .
G21: # | M21: =IF(AND(ISBLANK(H21),ISBLANK(I21),ISBLANK(J21),ISBLANK(K21),ISBLANK(L21)),"",SUM(J21:L21)) | N21: =IF(AND(ISBLANK(H21),ISBLANK(I21),ISBLANK(J21),ISBLANK(K21),ISBLANK(L21)),"",SUM(K21:L21)) | O21: =IFERROR(SUM(H21:L21)/E21,"") | P21: =IFERROR(((80*J21)+(100*K21)+(150*L21))/SUM(H21:L21),"") | V21: =IF(AND(ISBLANK(Q21),ISBLANK(R21),ISBLANK(S21),ISBLANK(T21),ISBLANK(U21)),"",SUM(S21:U21)) | W21: =IF(AND(ISBLANK(Q21),ISBLANK(R21),ISBLANK(S21),ISBLANK(T21),ISBLANK(U21)),"",SUM(T21:U21)) | X21: =IFERROR(SUM(Q21:U21)/$E21,"") | Y21: =IFERROR(((80*S21)+(100*T21)+(150*U21))/SUM(Q21:U21),"") | AE21: =IF(AND(ISBLANK(Z21),ISBLANK(AA21),ISBLANK(AB21),ISBLANK(AC21),ISBLANK(AD21)),"",SUM(AB21:AD21)) | AF21: =IF(AND(ISBLANK(Z21),ISBLANK(AA21),ISBLANK(AB21),ISBLANK(AC21),ISBLANK(AD21)),"",SUM(AC21:AD21)) | AG21: =IFERROR(SUM(Z21:AD21)/$E21,"") | AH21: =IFERROR(((80*AB21)+(100*AC21)+(150*AD21))/SUM(Z21:AD21),"") | AN21: =IF(AND(ISBLANK(AI21),ISBLANK(AJ21),ISBLANK(AK21),ISBLANK(AL21),ISBLANK(AM21)),"",SUM(AK21:AM21)) | AO21: =IF(AND(ISBLANK(AI21),ISBLANK(AJ21),ISBLANK(AK21),ISBLANK(AL21),ISBLANK(AM21)),"",SUM(AL21:AM21)) | AP21: =IFERROR(SUM(AI21:AM21)/$E21,"") | AQ21: =IFERROR(((80*AK21)+(100*AL21)+(150*AM21))/SUM(AI21:AM21),"") | AR21: =IFERROR(AVERAGE(Y21,AH21,AQ21),"") | AS21: =IF(OR(P21="",AR21=""),"",AR21-P21) | AY21: =IF(AND(ISBLANK(AT21),ISBLANK(AU21),ISBLANK(AV21),ISBLANK(AW21),ISBLANK(AX21)),"",SUM(AV21:AX21)) | AZ21: =IF(AND(ISBLANK(AT21),ISBLANK(AU21),ISBLANK(AV21),ISBLANK(AW21),ISBLANK(AX21)),"",SUM(AW21:AX21)) | BA21: =IFERROR(((80*AV21)+(100*AW21)+(150*AX21))/SUM(AT21:AX21),"") | BB21: =B21 -> 0 | BC21: =C21 -> 0 | BD21: =BB21&"."&BC21 -> 0.0 | BE21: =D21 -> 0 | BF21: =H21 -> 0 | BG21: =I21 -> 0 | BH21: =J21 -> 0 | BI21: =K21 -> 0 | BJ21: =L21 -> 0 | BK21: =M21 | BL21: =N21 | BM21: =P21 | BN21: =Q21 -> 0 | BO21: =R21 -> 0 | BP21: =S21 -> 0 | BQ21: =T21 -> 0 | BR21: =U21 -> 0 | BS21: =V21 | BT21: =W21 | BU21: =Y21 | BV21: =Z21 -> 0 | BW21: =AA21 -> 0 | BX21: =AB21 -> 0 | BY21: =AC21 -> 0 | BZ21: =AD21 -> 0 | CA21: =AE21 | CB21: =AF21 | CC21: =AH21 | CD21: =AI21 -> 0 | CE21: =AJ21 -> 0 | CF21: =AK21 -> 0 | CG21: =AL21 -> 0 | CH21: =AM21 -> 0 | CI21: =AN21 | CJ21: =AO21 | CK21: =AQ21 | CL21: =AT21 -> 0 | CM21: =AU21 -> 0 | CN21: =AV21 -> 0 | CO21: =AW21 -> 0 | CP21: =AX21 -> 0 | CQ21: =AY21 | CR21: =AZ21 | CS21: =BA21
G22: % | H22: =IFERROR(H21/SUM(H21:L21),"") | I22: =IFERROR(I21/SUM(H21:L21),"") | J22: =IFERROR(J21/SUM(H21:L21),"") | K22: =IFERROR(K21/SUM(H21:L21),"") | L22: =IFERROR(L21/SUM(H21:L21),"") | M22: =IFERROR(M21/SUM(H21:L21),"") | N22: =IFERROR(N21/SUM(H21:L21),"") | Q22: =IFERROR(Q21/SUM(Q21:U21),"") | R22: =IFERROR(R21/SUM(Q21:U21),"") | S22: =IFERROR(S21/SUM(Q21:U21),"") | T22: =IFERROR(T21/SUM(Q21:U21),"") | U22: =IFERROR(U21/SUM(Q21:U21),"") | V22: =IFERROR(V21/SUM(Q21:U21),"") | W22: =IFERROR(W21/SUM(Q21:U21),"") | Z22: =IFERROR(Z21/SUM(Z21:AD21),"") | AA22: =IFERROR(AA21/SUM(Z21:AD21),"") | AB22: =IFERROR(AB21/SUM(Z21:AD21),"") | AC22: =IFERROR(AC21/SUM(Z21:AD21),"") | AD22: =IFERROR(AD21/SUM(Z21:AD21),"") | AE22: =IFERROR(AE21/SUM(Z21:AD21),"") | AF22: =IFERROR(AF21/SUM(Z21:AD21),"") | AI22: =IFERROR(AI21/SUM(AI21:AM21),"") | AJ22: =IFERROR(AJ21/SUM(AI21:AM21),"") | AK22: =IFERROR(AK21/SUM(AI21:AM21),"") | AL22: =IFERROR(AL21/SUM(AI21:AM21),"") | AM22: =IFERROR(AM21/SUM(AI21:AM21),"") | AN22: =IFERROR(AN21/SUM(AI21:AM21),"") | AO22: =IFERROR(AO21/SUM(AI21:AM21),"") | AT22: =IFERROR(AT21/SUM(AT21:AX21),"") | AU22: =IFERROR(AU21/SUM(AT21:AX21),"") | AV22: =IFERROR(AV21/SUM(AT21:AX21),"") | AW22: =IFERROR(AW21/SUM(AT21:AX21),"") | AX22: =IFERROR(AX21/SUM(AT21:AX21),"") | AY22: =IFERROR(AY21/SUM(AT21:AX21),"") | AZ22: =IFERROR(AZ21/SUM(AT21:AX21),"") | BD22: =BB22&"."&BC22 -> .
G23: # | M23: =IF(AND(ISBLANK(H23),ISBLANK(I23),ISBLANK(J23),ISBLANK(K23),ISBLANK(L23)),"",SUM(J23:L23)) | N23: =IF(AND(ISBLANK(H23),ISBLANK(I23),ISBLANK(J23),ISBLANK(K23),ISBLANK(L23)),"",SUM(K23:L23)) | O23: =IFERROR(SUM(H23:L23)/E23,"") | P23: =IFERROR(((80*J23)+(100*K23)+(150*L23))/SUM(H23:L23),"") | V23: =IF(AND(ISBLANK(Q23),ISBLANK(R23),ISBLANK(S23),ISBLANK(T23),ISBLANK(U23)),"",SUM(S23:U23)) | W23: =IF(AND(ISBLANK(Q23),ISBLANK(R23),ISBLANK(S23),ISBLANK(T23),ISBLANK(U23)),"",SUM(T23:U23)) | X23: =IFERROR(SUM(Q23:U23)/$E23,"") | Y23: =IFERROR(((80*S23)+(100*T23)+(150*U23))/SUM(Q23:U23),"") | AE23: =IF(AND(ISBLANK(Z23),ISBLANK(AA23),ISBLANK(AB23),ISBLANK(AC23),ISBLANK(AD23)),"",SUM(AB23:AD23)) | AF23: =IF(AND(ISBLANK(Z23),ISBLANK(AA23),ISBLANK(AB23),ISBLANK(AC23),ISBLANK(AD23)),"",SUM(AC23:AD23)) | AG23: =IFERROR(SUM(Z23:AD23)/$E23,"") | AH23: =IFERROR(((80*AB23)+(100*AC23)+(150*AD23))/SUM(Z23:AD23),"") | AN23: =IF(AND(ISBLANK(AI23),ISBLANK(AJ23),ISBLANK(AK23),ISBLANK(AL23),ISBLANK(AM23)),"",SUM(AK23:AM23)) | AO23: =IF(AND(ISBLANK(AI23),ISBLANK(AJ23),ISBLANK(AK23),ISBLANK(AL23),ISBLANK(AM23)),"",SUM(AL23:AM23)) | AP23: =IFERROR(SUM(AI23:AM23)/$E23,"") | AQ23: =IFERROR(((80*AK23)+(100*AL23)+(150*AM23))/SUM(AI23:AM23),"") | AR23: =IFERROR(AVERAGE(Y23,AH23,AQ23),"") | AS23: =IF(OR(P23="",AR23=""),"",AR23-P23) | AY23: =IF(AND(ISBLANK(AT23),ISBLANK(AU23),ISBLANK(AV23),ISBLANK(AW23),ISBLANK(AX23)),"",SUM(AV23:AX23)) | AZ23: =IF(AND(ISBLANK(AT23),ISBLANK(AU23),ISBLANK(AV23),ISBLANK(AW23),ISBLANK(AX23)),"",SUM(AW23:AX23)) | BA23: =IFERROR(((80*AV23)+(100*AW23)+(150*AX23))/SUM(AT23:AX23),"") | BB23: =B23 -> 0 | BC23: =C23 -> 0 | BD23: =BB23&"."&BC23 -> 0.0 | BE23: =D23 -> 0 | BF23: =H23 -> 0 | BG23: =I23 -> 0 | BH23: =J23 -> 0 | BI23: =K23 -> 0 | BJ23: =L23 -> 0 | BK23: =M23 | BL23: =N23 | BM23: =P23 | BN23: =Q23 -> 0 | BO23: =R23 -> 0 | BP23: =S23 -> 0 | BQ23: =T23 -> 0 | BR23: =U23 -> 0 | BS23: =V23 | BT23: =W23 | BU23: =Y23 | BV23: =Z23 -> 0 | BW23: =AA23 -> 0 | BX23: =AB23 -> 0 | BY23: =AC23 -> 0 | BZ23: =AD23 -> 0 | CA23: =AE23 | CB23: =AF23 | CC23: =AH23 | CD23: =AI23 -> 0 | CE23: =AJ23 -> 0 | CF23: =AK23 -> 0 | CG23: =AL23 -> 0 | CH23: =AM23 -> 0 | CI23: =AN23 | CJ23: =AO23 | CK23: =AQ23 | CL23: =AT23 -> 0 | CM23: =AU23 -> 0 | CN23: =AV23 -> 0 | CO23: =AW23 -> 0 | CP23: =AX23 -> 0 | CQ23: =AY23 | CR23: =AZ23 | CS23: =BA23
G24: % | H24: =IFERROR(H23/SUM(H23:L23),"") | I24: =IFERROR(I23/SUM(H23:L23),"") | J24: =IFERROR(J23/SUM(H23:L23),"") | K24: =IFERROR(K23/SUM(H23:L23),"") | L24: =IFERROR(L23/SUM(H23:L23),"") | M24: =IFERROR(M23/SUM(H23:L23),"") | N24: =IFERROR(N23/SUM(H23:L23),"") | Q24: =IFERROR(Q23/SUM(Q23:U23),"") | R24: =IFERROR(R23/SUM(Q23:U23),"") | S24: =IFERROR(S23/SUM(Q23:U23),"") | T24: =IFERROR(T23/SUM(Q23:U23),"") | U24: =IFERROR(U23/SUM(Q23:U23),"") | V24: =IFERROR(V23/SUM(Q23:U23),"") | W24: =IFERROR(W23/SUM(Q23:U23),"") | Z24: =IFERROR(Z23/SUM(Z23:AD23),"") | AA24: =IFERROR(AA23/SUM(Z23:AD23),"") | AB24: =IFERROR(AB23/SUM(Z23:AD23),"") | AC24: =IFERROR(AC23/SUM(Z23:AD23),"") | AD24: =IFERROR(AD23/SUM(Z23:AD23),"") | AE24: =IFERROR(AE23/SUM(Z23:AD23),"") | AF24: =IFERROR(AF23/SUM(Z23:AD23),"") | AI24: =IFERROR(AI23/SUM(AI23:AM23),"") | AJ24: =IFERROR(AJ23/SUM(AI23:AM23),"") | AK24: =IFERROR(AK23/SUM(AI23:AM23),"") | AL24: =IFERROR(AL23/SUM(AI23:AM23),"") | AM24: =IFERROR(AM23/SUM(AI23:AM23),"") | AN24: =IFERROR(AN23/SUM(AI23:AM23),"") | AO24: =IFERROR(AO23/SUM(AI23:AM23),"") | AT24: =IFERROR(AT23/SUM(AT23:AX23),"") | AU24: =IFERROR(AU23/SUM(AT23:AX23),"") | AV24: =IFERROR(AV23/SUM(AT23:AX23),"") | AW24: =IFERROR(AW23/SUM(AT23:AX23),"") | AX24: =IFERROR(AX23/SUM(AT23:AX23),"") | AY24: =IFERROR(AY23/SUM(AT23:AX23),"") | AZ24: =IFERROR(AZ23/SUM(AT23:AX23),"") | BD24: =BB24&"."&BC24 -> .
G25: # | M25: =IF(AND(ISBLANK(H25),ISBLANK(I25),ISBLANK(J25),ISBLANK(K25),ISBLANK(L25)),"",SUM(J25:L25)) | N25: =IF(AND(ISBLANK(H25),ISBLANK(I25),ISBLANK(J25),ISBLANK(K25),ISBLANK(L25)),"",SUM(K25:L25)) | O25: =IFERROR(SUM(H25:L25)/E25,"") | P25: =IFERROR(((80*J25)+(100*K25)+(150*L25))/SUM(H25:L25),"") | V25: =IF(AND(ISBLANK(Q25),ISBLANK(R25),ISBLANK(S25),ISBLANK(T25),ISBLANK(U25)),"",SUM(S25:U25)) | W25: =IF(AND(ISBLANK(Q25),ISBLANK(R25),ISBLANK(S25),ISBLANK(T25),ISBLANK(U25)),"",SUM(T25:U25)) | X25: =IFERROR(SUM(Q25:U25)/$E25,"") | Y25: =IFERROR(((80*S25)+(100*T25)+(150*U25))/SUM(Q25:U25),"") | AE25: =IF(AND(ISBLANK(Z25),ISBLANK(AA25),ISBLANK(AB25),ISBLANK(AC25),ISBLANK(AD25)),"",SUM(AB25:AD25)) | AF25: =IF(AND(ISBLANK(Z25),ISBLANK(AA25),ISBLANK(AB25),ISBLANK(AC25),ISBLANK(AD25)),"",SUM(AC25:AD25)) | AG25: =IFERROR(SUM(Z25:AD25)/$E25,"") | AH25: =IFERROR(((80*AB25)+(100*AC25)+(150*AD25))/SUM(Z25:AD25),"") | AN25: =IF(AND(ISBLANK(AI25),ISBLANK(AJ25),ISBLANK(AK25),ISBLANK(AL25),ISBLANK(AM25)),"",SUM(AK25:AM25)) | AO25: =IF(AND(ISBLANK(AI25),ISBLANK(AJ25),ISBLANK(AK25),ISBLANK(AL25),ISBLANK(AM25)),"",SUM(AL25:AM25)) | AP25: =IFERROR(SUM(AI25:AM25)/$E25,"") | AQ25: =IFERROR(((80*AK25)+(100*AL25)+(150*AM25))/SUM(AI25:AM25),"") | AR25: =IFERROR(AVERAGE(Y25,AH25,AQ25),"") | AS25: =IF(OR(P25="",AR25=""),"",AR25-P25) | AY25: =IF(AND(ISBLANK(AT25),ISBLANK(AU25),ISBLANK(AV25),ISBLANK(AW25),ISBLANK(AX25)),"",SUM(AV25:AX25)) | AZ25: =IF(AND(ISBLANK(AT25),ISBLANK(AU25),ISBLANK(AV25),ISBLANK(AW25),ISBLANK(AX25)),"",SUM(AW25:AX25)) | BA25: =IFERROR(((80*AV25)+(100*AW25)+(150*AX25))/SUM(AT25:AX25),"") | BB25: =B25 -> 0 | BC25: =C25 -> 0 | BD25: =BB25&"."&BC25 -> 0.0 | BE25: =D25 -> 0 | BF25: =H25 -> 0 | BG25: =I25 -> 0 | BH25: =J25 -> 0 | BI25: =K25 -> 0 | BJ25: =L25 -> 0 | BK25: =M25 | BL25: =N25 | BM25: =P25 | BN25: =Q25 -> 0 | BO25: =R25 -> 0 | BP25: =S25 -> 0 | BQ25: =T25 -> 0 | BR25: =U25 -> 0 | BS25: =V25 | BT25: =W25 | BU25: =Y25 | BV25: =Z25 -> 0 | BW25: =AA25 -> 0 | BX25: =AB25 -> 0 | BY25: =AC25 -> 0 | BZ25: =AD25 -> 0 | CA25: =AE25 | CB25: =AF25 | CC25: =AH25 | CD25: =AI25 -> 0 | CE25: =AJ25 -> 0 | CF25: =AK25 -> 0 | CG25: =AL25 -> 0 | CH25: =AM25 -> 0 | CI25: =AN25 | CJ25: =AO25 | CK25: =AQ25 | CL25: =AT25 -> 0 | CM25: =AU25 -> 0 | CN25: =AV25 -> 0 | CO25: =AW25 -> 0 | CP25: =AX25 -> 0 | CQ25: =AY25 | CR25: =AZ25 | CS25: =BA25
G26: % | H26: =IFERROR(H25/SUM(H25:L25),"") | I26: =IFERROR(I25/SUM(H25:L25),"") | J26: =IFERROR(J25/SUM(H25:L25),"") | K26: =IFERROR(K25/SUM(H25:L25),"") | L26: =IFERROR(L25/SUM(H25:L25),"") | M26: =IFERROR(M25/SUM(H25:L25),"") | N26: =IFERROR(N25/SUM(H25:L25),"") | Q26: =IFERROR(Q25/SUM(Q25:U25),"") | R26: =IFERROR(R25/SUM(Q25:U25),"") | S26: =IFERROR(S25/SUM(Q25:U25),"") | T26: =IFERROR(T25/SUM(Q25:U25),"") | U26: =IFERROR(U25/SUM(Q25:U25),"") | V26: =IFERROR(V25/SUM(Q25:U25),"") | W26: =IFERROR(W25/SUM(Q25:U25),"") | Z26: =IFERROR(Z25/SUM(Z25:AD25),"") | AA26: =IFERROR(AA25/SUM(Z25:AD25),"") | AB26: =IFERROR(AB25/SUM(Z25:AD25),"") | AC26: =IFERROR(AC25/SUM(Z25:AD25),"") | AD26: =IFERROR(AD25/SUM(Z25:AD25),"") | AE26: =IFERROR(AE25/SUM(Z25:AD25),"") | AF26: =IFERROR(AF25/SUM(Z25:AD25),"") | AI26: =IFERROR(AI25/SUM(AI25:AM25),"") | AJ26: =IFERROR(AJ25/SUM(AI25:AM25),"") | AK26: =IFERROR(AK25/SUM(AI25:AM25),"") | AL26: =IFERROR(AL25/SUM(AI25:AM25),"") | AM26: =IFERROR(AM25/SUM(AI25:AM25),"") | AN26: =IFERROR(AN25/SUM(AI25:AM25),"") | AO26: =IFERROR(AO25/SUM(AI25:AM25),"") | AT26: =IFERROR(AT25/SUM(AT25:AX25),"") | AU26: =IFERROR(AU25/SUM(AT25:AX25),"") | AV26: =IFERROR(AV25/SUM(AT25:AX25),"") | AW26: =IFERROR(AW25/SUM(AT25:AX25),"") | AX26: =IFERROR(AX25/SUM(AT25:AX25),"") | AY26: =IFERROR(AY25/SUM(AT25:AX25),"") | AZ26: =IFERROR(AZ25/SUM(AT25:AX25),"") | BD26: =BB26&"."&BC26 -> .
G27: # | M27: =IF(AND(ISBLANK(H27),ISBLANK(I27),ISBLANK(J27),ISBLANK(K27),ISBLANK(L27)),"",SUM(J27:L27)) | N27: =IF(AND(ISBLANK(H27),ISBLANK(I27),ISBLANK(J27),ISBLANK(K27),ISBLANK(L27)),"",SUM(K27:L27)) | O27: =IFERROR(SUM(H27:L27)/E27,"") | P27: =IFERROR(((80*J27)+(100*K27)+(150*L27))/SUM(H27:L27),"") | V27: =IF(AND(ISBLANK(Q27),ISBLANK(R27),ISBLANK(S27),ISBLANK(T27),ISBLANK(U27)),"",SUM(S27:U27)) | W27: =IF(AND(ISBLANK(Q27),ISBLANK(R27),ISBLANK(S27),ISBLANK(T27),ISBLANK(U27)),"",SUM(T27:U27)) | X27: =IFERROR(SUM(Q27:U27)/$E27,"") | Y27: =IFERROR(((80*S27)+(100*T27)+(150*U27))/SUM(Q27:U27),"") | AE27: =IF(AND(ISBLANK(Z27),ISBLANK(AA27),ISBLANK(AB27),ISBLANK(AC27),ISBLANK(AD27)),"",SUM(AB27:AD27)) | AF27: =IF(AND(ISBLANK(Z27),ISBLANK(AA27),ISBLANK(AB27),ISBLANK(AC27),ISBLANK(AD27)),"",SUM(AC27:AD27)) | AG27: =IFERROR(SUM(Z27:AD27)/$E27,"") | AH27: =IFERROR(((80*AB27)+(100*AC27)+(150*AD27))/SUM(Z27:AD27),"") | AN27: =IF(AND(ISBLANK(AI27),ISBLANK(AJ27),ISBLANK(AK27),ISBLANK(AL27),ISBLANK(AM27)),"",SUM(AK27:AM27)) | AO27: =IF(AND(ISBLANK(AI27),ISBLANK(AJ27),ISBLANK(AK27),ISBLANK(AL27),ISBLANK(AM27)),"",SUM(AL27:AM27)) | AP27: =IFERROR(SUM(AI27:AM27)/$E27,"") | AQ27: =IFERROR(((80*AK27)+(100*AL27)+(150*AM27))/SUM(AI27:AM27),"") | AR27: =IFERROR(AVERAGE(Y27,AH27,AQ27),"") | AS27: =IF(OR(P27="",AR27=""),"",AR27-P27) | AY27: =IF(AND(ISBLANK(AT27),ISBLANK(AU27),ISBLANK(AV27),ISBLANK(AW27),ISBLANK(AX27)),"",SUM(AV27:AX27)) | AZ27: =IF(AND(ISBLANK(AT27),ISBLANK(AU27),ISBLANK(AV27),ISBLANK(AW27),ISBLANK(AX27)),"",SUM(AW27:AX27)) | BA27: =IFERROR(((80*AV27)+(100*AW27)+(150*AX27))/SUM(AT27:AX27),"") | BB27: =B27 -> 0 | BC27: =C27 -> 0 | BD27: =BB27&"."&BC27 -> 0.0 | BE27: =D27 -> 0 | BF27: =H27 -> 0 | BG27: =I27 -> 0 | BH27: =J27 -> 0 | BI27: =K27 -> 0 | BJ27: =L27 -> 0 | BK27: =M27 | BL27: =N27 | BM27: =P27 | BN27: =Q27 -> 0 | BO27: =R27 -> 0 | BP27: =S27 -> 0 | BQ27: =T27 -> 0 | BR27: =U27 -> 0 | BS27: =V27 | BT27: =W27 | BU27: =Y27 | BV27: =Z27 -> 0 | BW27: =AA27 -> 0 | BX27: =AB27 -> 0 | BY27: =AC27 -> 0 | BZ27: =AD27 -> 0 | CA27: =AE27 | CB27: =AF27 | CC27: =AH27 | CD27: =AI27 -> 0 | CE27: =AJ27 -> 0 | CF27: =AK27 -> 0 | CG27: =AL27 -> 0 | CH27: =AM27 -> 0 | CI27: =AN27 | CJ27: =AO27 | CK27: =AQ27 | CL27: =AT27 -> 0 | CM27: =AU27 -> 0 | CN27: =AV27 -> 0 | CO27: =AW27 -> 0 | CP27: =AX27 -> 0 | CQ27: =AY27 | CR27: =AZ27 | CS27: =BA27
G28: % | H28: =IFERROR(H27/SUM(H27:L27),"") | I28: =IFERROR(I27/SUM(H27:L27),"") | J28: =IFERROR(J27/SUM(H27:L27),"") | K28: =IFERROR(K27/SUM(H27:L27),"") | L28: =IFERROR(L27/SUM(H27:L27),"") | M28: =IFERROR(M27/SUM(H27:L27),"") | N28: =IFERROR(N27/SUM(H27:L27),"") | Q28: =IFERROR(Q27/SUM(Q27:U27),"") | R28: =IFERROR(R27/SUM(Q27:U27),"") | S28: =IFERROR(S27/SUM(Q27:U27),"") | T28: =IFERROR(T27/SUM(Q27:U27),"") | U28: =IFERROR(U27/SUM(Q27:U27),"") | V28: =IFERROR(V27/SUM(Q27:U27),"") | W28: =IFERROR(W27/SUM(Q27:U27),"") | Z28: =IFERROR(Z27/SUM(Z27:AD27),"") | AA28: =IFERROR(AA27/SUM(Z27:AD27),"") | AB28: =IFERROR(AB27/SUM(Z27:AD27),"") | AC28: =IFERROR(AC27/SUM(Z27:AD27),"") | AD28: =IFERROR(AD27/SUM(Z27:AD27),"") | AE28: =IFERROR(AE27/SUM(Z27:AD27),"") | AF28: =IFERROR(AF27/SUM(Z27:AD27),"") | AI28: =IFERROR(AI27/SUM(AI27:AM27),"") | AJ28: =IFERROR(AJ27/SUM(AI27:AM27),"") | AK28: =IFERROR(AK27/SUM(AI27:AM27),"") | AL28: =IFERROR(AL27/SUM(AI27:AM27),"") | AM28: =IFERROR(AM27/SUM(AI27:AM27),"") | AN28: =IFERROR(AN27/SUM(AI27:AM27),"") | AO28: =IFERROR(AO27/SUM(AI27:AM27),"") | AT28: =IFERROR(AT27/SUM(AT27:AX27),"") | AU28: =IFERROR(AU27/SUM(AT27:AX27),"") | AV28: =IFERROR(AV27/SUM(AT27:AX27),"") | AW28: =IFERROR(AW27/SUM(AT27:AX27),"") | AX28: =IFERROR(AX27/SUM(AT27:AX27),"") | AY28: =IFERROR(AY27/SUM(AT27:AX27),"") | AZ28: =IFERROR(AZ27/SUM(AT27:AX27),"") | BD28: =BB28&"."&BC28 -> .
G29: # | M29: =IF(AND(ISBLANK(H29),ISBLANK(I29),ISBLANK(J29),ISBLANK(K29),ISBLANK(L29)),"",SUM(J29:L29)) | N29: =IF(AND(ISBLANK(H29),ISBLANK(I29),ISBLANK(J29),ISBLANK(K29),ISBLANK(L29)),"",SUM(K29:L29)) | O29: =IFERROR(SUM(H29:L29)/E29,"") | P29: =IFERROR(((80*J29)+(100*K29)+(150*L29))/SUM(H29:L29),"") | V29: =IF(AND(ISBLANK(Q29),ISBLANK(R29),ISBLANK(S29),ISBLANK(T29),ISBLANK(U29)),"",SUM(S29:U29)) | W29: =IF(AND(ISBLANK(Q29),ISBLANK(R29),ISBLANK(S29),ISBLANK(T29),ISBLANK(U29)),"",SUM(T29:U29)) | X29: =IFERROR(SUM(Q29:U29)/$E29,"") | Y29: =IFERROR(((80*S29)+(100*T29)+(150*U29))/SUM(Q29:U29),"") | AE29: =IF(AND(ISBLANK(Z29),ISBLANK(AA29),ISBLANK(AB29),ISBLANK(AC29),ISBLANK(AD29)),"",SUM(AB29:AD29)) | AF29: =IF(AND(ISBLANK(Z29),ISBLANK(AA29),ISBLANK(AB29),ISBLANK(AC29),ISBLANK(AD29)),"",SUM(AC29:AD29)) | AG29: =IFERROR(SUM(Z29:AD29)/$E29,"") | AH29: =IFERROR(((80*AB29)+(100*AC29)+(150*AD29))/SUM(Z29:AD29),"") | AN29: =IF(AND(ISBLANK(AI29),ISBLANK(AJ29),ISBLANK(AK29),ISBLANK(AL29),ISBLANK(AM29)),"",SUM(AK29:AM29)) | AO29: =IF(AND(ISBLANK(AI29),ISBLANK(AJ29),ISBLANK(AK29),ISBLANK(AL29),ISBLANK(AM29)),"",SUM(AL29:AM29)) | AP29: =IFERROR(SUM(AI29:AM29)/$E29,"") | AQ29: =IFERROR(((80*AK29)+(100*AL29)+(150*AM29))/SUM(AI29:AM29),"") | AR29: =IFERROR(AVERAGE(Y29,AH29,AQ29),"") | AS29: =IF(OR(P29="",AR29=""),"",AR29-P29) | AY29: =IF(AND(ISBLANK(AT29),ISBLANK(AU29),ISBLANK(AV29),ISBLANK(AW29),ISBLANK(AX29)),"",SUM(AV29:AX29)) | AZ29: =IF(AND(ISBLANK(AT29),ISBLANK(AU29),ISBLANK(AV29),ISBLANK(AW29),ISBLANK(AX29)),"",SUM(AW29:AX29)) | BA29: =IFERROR(((80*AV29)+(100*AW29)+(150*AX29))/SUM(AT29:AX29),"") | BB29: =B29 -> 0 | BC29: =C29 -> 0 | BD29: =BB29&"."&BC29 -> 0.0 | BE29: =D29 -> 0 | BF29: =H29 -> 0 | BG29: =I29 -> 0 | BH29: =J29 -> 0 | BI29: =K29 -> 0 | BJ29: =L29 -> 0 | BK29: =M29 | BL29: =N29 | BM29: =P29 | BN29: =Q29 -> 0 | BO29: =R29 -> 0 | BP29: =S29 -> 0 | BQ29: =T29 -> 0 | BR29: =U29 -> 0 | BS29: =V29 | BT29: =W29 | BU29: =Y29 | BV29: =Z29 -> 0 | BW29: =AA29 -> 0 | BX29: =AB29 -> 0 | BY29: =AC29 -> 0 | BZ29: =AD29 -> 0 | CA29: =AE29 | CB29: =AF29 | CC29: =AH29 | CD29: =AI29 -> 0 | CE29: =AJ29 -> 0 | CF29: =AK29 -> 0 | CG29: =AL29 -> 0 | CH29: =AM29 -> 0 | CI29: =AN29 | CJ29: =AO29 | CK29: =AQ29 | CL29: =AT29 -> 0 | CM29: =AU29 -> 0 | CN29: =AV29 -> 0 | CO29: =AW29 -> 0 | CP29: =AX29 -> 0 | CQ29: =AY29 | CR29: =AZ29 | CS29: =BA29
G30: % | H30: =IFERROR(H29/SUM(H29:L29),"") | I30: =IFERROR(I29/SUM(H29:L29),"") | J30: =IFERROR(J29/SUM(H29:L29),"") | K30: =IFERROR(K29/SUM(H29:L29),"") | L30: =IFERROR(L29/SUM(H29:L29),"") | M30: =IFERROR(M29/SUM(H29:L29),"") | N30: =IFERROR(N29/SUM(H29:L29),"") | Q30: =IFERROR(Q29/SUM(Q29:U29),"") | R30: =IFERROR(R29/SUM(Q29:U29),"") | S30: =IFERROR(S29/SUM(Q29:U29),"") | T30: =IFERROR(T29/SUM(Q29:U29),"") | U30: =IFERROR(U29/SUM(Q29:U29),"") | V30: =IFERROR(V29/SUM(Q29:U29),"") | W30: =IFERROR(W29/SUM(Q29:U29),"") | Z30: =IFERROR(Z29/SUM(Z29:AD29),"") | AA30: =IFERROR(AA29/SUM(Z29:AD29),"") | AB30: =IFERROR(AB29/SUM(Z29:AD29),"") | AC30: =IFERROR(AC29/SUM(Z29:AD29),"") | AD30: =IFERROR(AD29/SUM(Z29:AD29),"") | AE30: =IFERROR(AE29/SUM(Z29:AD29),"") | AF30: =IFERROR(AF29/SUM(Z29:AD29),"") | AI30: =IFERROR(AI29/SUM(AI29:AM29),"") | AJ30: =IFERROR(AJ29/SUM(AI29:AM29),"") | AK30: =IFERROR(AK29/SUM(AI29:AM29),"") | AL30: =IFERROR(AL29/SUM(AI29:AM29),"") | AM30: =IFERROR(AM29/SUM(AI29:AM29),"") | AN30: =IFERROR(AN29/SUM(AI29:AM29),"") | AO30: =IFERROR(AO29/SUM(AI29:AM29),"") | AT30: =IFERROR(AT29/SUM(AT29:AX29),"") | AU30: =IFERROR(AU29/SUM(AT29:AX29),"") | AV30: =IFERROR(AV29/SUM(AT29:AX29),"") | AW30: =IFERROR(AW29/SUM(AT29:AX29),"") | AX30: =IFERROR(AX29/SUM(AT29:AX29),"") | AY30: =IFERROR(AY29/SUM(AT29:AX29),"") | AZ30: =IFERROR(AZ29/SUM(AT29:AX29),"") | BD30: =BB30&"."&BC30 -> .
G31: # | M31: =IF(AND(ISBLANK(H31),ISBLANK(I31),ISBLANK(J31),ISBLANK(K31),ISBLANK(L31)),"",SUM(J31:L31)) | N31: =IF(AND(ISBLANK(H31),ISBLANK(I31),ISBLANK(J31),ISBLANK(K31),ISBLANK(L31)),"",SUM(K31:L31)) | O31: =IFERROR(SUM(H31:L31)/E31,"") | P31: =IFERROR(((80*J31)+(100*K31)+(150*L31))/SUM(H31:L31),"") | V31: =IF(AND(ISBLANK(Q31),ISBLANK(R31),ISBLANK(S31),ISBLANK(T31),ISBLANK(U31)),"",SUM(S31:U31)) | W31: =IF(AND(ISBLANK(Q31),ISBLANK(R31),ISBLANK(S31),ISBLANK(T31),ISBLANK(U31)),"",SUM(T31:U31)) | X31: =IFERROR(SUM(Q31:U31)/$E31,"") | Y31: =IFERROR(((80*S31)+(100*T31)+(150*U31))/SUM(Q31:U31),"") | AE31: =IF(AND(ISBLANK(Z31),ISBLANK(AA31),ISBLANK(AB31),ISBLANK(AC31),ISBLANK(AD31)),"",SUM(AB31:AD31)) | AF31: =IF(AND(ISBLANK(Z31),ISBLANK(AA31),ISBLANK(AB31),ISBLANK(AC31),ISBLANK(AD31)),"",SUM(AC31:AD31)) | AG31: =IFERROR(SUM(Z31:AD31)/$E31,"") | AH31: =IFERROR(((80*AB31)+(100*AC31)+(150*AD31))/SUM(Z31:AD31),"") | AN31: =IF(AND(ISBLANK(AI31),ISBLANK(AJ31),ISBLANK(AK31),ISBLANK(AL31),ISBLANK(AM31)),"",SUM(AK31:AM31)) | AO31: =IF(AND(ISBLANK(AI31),ISBLANK(AJ31),ISBLANK(AK31),ISBLANK(AL31),ISBLANK(AM31)),"",SUM(AL31:AM31)) | AP31: =IFERROR(SUM(AI31:AM31)/$E31,"") | AQ31: =IFERROR(((80*AK31)+(100*AL31)+(150*AM31))/SUM(AI31:AM31),"") | AR31: =IFERROR(AVERAGE(Y31,AH31,AQ31),"") | AS31: =IF(OR(P31="",AR31=""),"",AR31-P31) | AY31: =IF(AND(ISBLANK(AT31),ISBLANK(AU31),ISBLANK(AV31),ISBLANK(AW31),ISBLANK(AX31)),"",SUM(AV31:AX31)) | AZ31: =IF(AND(ISBLANK(AT31),ISBLANK(AU31),ISBLANK(AV31),ISBLANK(AW31),ISBLANK(AX31)),"",SUM(AW31:AX31)) | BA31: =IFERROR(((80*AV31)+(100*AW31)+(150*AX31))/SUM(AT31:AX31),"") | BB31: =B31 -> 0 | BC31: =C31 -> 0 | BD31: =BB31&"."&BC31 -> 0.0 | BE31: =D31 -> 0 | BF31: =H31 -> 0 | BG31: =I31 -> 0 | BH31: =J31 -> 0 | BI31: =K31 -> 0 | BJ31: =L31 -> 0 | BK31: =M31 | BL31: =N31 | BM31: =P31 | BN31: =Q31 -> 0 | BO31: =R31 -> 0 | BP31: =S31 -> 0 | BQ31: =T31 -> 0 | BR31: =U31 -> 0 | BS31: =V31 | BT31: =W31 | BU31: =Y31 | BV31: =Z31 -> 0 | BW31: =AA31 -> 0 | BX31: =AB31 -> 0 | BY31: =AC31 -> 0 | BZ31: =AD31 -> 0 | CA31: =AE31 | CB31: =AF31 | CC31: =AH31 | CD31: =AI31 -> 0 | CE31: =AJ31 -> 0 | CF31: =AK31 -> 0 | CG31: =AL31 -> 0 | CH31: =AM31 -> 0 | CI31: =AN31 | CJ31: =AO31 | CK31: =AQ31 | CL31: =AT31 -> 0 | CM31: =AU31 -> 0 | CN31: =AV31 -> 0 | CO31: =AW31 -> 0 | CP31: =AX31 -> 0 | CQ31: =AY31 | CR31: =AZ31 | CS31: =BA31
G32: % | H32: =IFERROR(H31/SUM(H31:L31),"") | I32: =IFERROR(I31/SUM(H31:L31),"") | J32: =IFERROR(J31/SUM(H31:L31),"") | K32: =IFERROR(K31/SUM(H31:L31),"") | L32: =IFERROR(L31/SUM(H31:L31),"") | M32: =IFERROR(M31/SUM(H31:L31),"") | N32: =IFERROR(N31/SUM(H31:L31),"") | Q32: =IFERROR(Q31/SUM(Q31:U31),"") | R32: =IFERROR(R31/SUM(Q31:U31),"") | S32: =IFERROR(S31/SUM(Q31:U31),"") | T32: =IFERROR(T31/SUM(Q31:U31),"") | U32: =IFERROR(U31/SUM(Q31:U31),"") | V32: =IFERROR(V31/SUM(Q31:U31),"") | W32: =IFERROR(W31/SUM(Q31:U31),"") | Z32: =IFERROR(Z31/SUM(Z31:AD31),"") | AA32: =IFERROR(AA31/SUM(Z31:AD31),"") | AB32: =IFERROR(AB31/SUM(Z31:AD31),"") | AC32: =IFERROR(AC31/SUM(Z31:AD31),"") | AD32: =IFERROR(AD31/SUM(Z31:AD31),"") | AE32: =IFERROR(AE31/SUM(Z31:AD31),"") | AF32: =IFERROR(AF31/SUM(Z31:AD31),"") | AI32: =IFERROR(AI31/SUM(AI31:AM31),"") | AJ32: =IFERROR(AJ31/SUM(AI31:AM31),"") | AK32: =IFERROR(AK31/SUM(AI31:AM31),"") | AL32: =IFERROR(AL31/SUM(AI31:AM31),"") | AM32: =IFERROR(AM31/SUM(AI31:AM31),"") | AN32: =IFERROR(AN31/SUM(AI31:AM31),"") | AO32: =IFERROR(AO31/SUM(AI31:AM31),"") | AT32: =IFERROR(AT31/SUM(AT31:AX31),"") | AU32: =IFERROR(AU31/SUM(AT31:AX31),"") | AV32: =IFERROR(AV31/SUM(AT31:AX31),"") | AW32: =IFERROR(AW31/SUM(AT31:AX31),"") | AX32: =IFERROR(AX31/SUM(AT31:AX31),"") | AY32: =IFERROR(AY31/SUM(AT31:AX31),"") | AZ32: =IFERROR(AZ31/SUM(AT31:AX31),"") | BD32: =BB32&"."&BC32 -> .
G33: # | M33: =IF(AND(ISBLANK(H33),ISBLANK(I33),ISBLANK(J33),ISBLANK(K33),ISBLANK(L33)),"",SUM(J33:L33)) | N33: =IF(AND(ISBLANK(H33),ISBLANK(I33),ISBLANK(J33),ISBLANK(K33),ISBLANK(L33)),"",SUM(K33:L33)) | O33: =IFERROR(SUM(H33:L33)/E33,"") | P33: =IFERROR(((80*J33)+(100*K33)+(150*L33))/SUM(H33:L33),"") | V33: =IF(AND(ISBLANK(Q33),ISBLANK(R33),ISBLANK(S33),ISBLANK(T33),ISBLANK(U33)),"",SUM(S33:U33)) | W33: =IF(AND(ISBLANK(Q33),ISBLANK(R33),ISBLANK(S33),ISBLANK(T33),ISBLANK(U33)),"",SUM(T33:U33)) | X33: =IFERROR(SUM(Q33:U33)/$E33,"") | Y33: =IFERROR(((80*S33)+(100*T33)+(150*U33))/SUM(Q33:U33),"") | AE33: =IF(AND(ISBLANK(Z33),ISBLANK(AA33),ISBLANK(AB33),ISBLANK(AC33),ISBLANK(AD33)),"",SUM(AB33:AD33)) | AF33: =IF(AND(ISBLANK(Z33),ISBLANK(AA33),ISBLANK(AB33),ISBLANK(AC33),ISBLANK(AD33)),"",SUM(AC33:AD33)) | AG33: =IFERROR(SUM(Z33:AD33)/$E33,"") | AH33: =IFERROR(((80*AB33)+(100*AC33)+(150*AD33))/SUM(Z33:AD33),"") | AN33: =IF(AND(ISBLANK(AI33),ISBLANK(AJ33),ISBLANK(AK33),ISBLANK(AL33),ISBLANK(AM33)),"",SUM(AK33:AM33)) | AO33: =IF(AND(ISBLANK(AI33),ISBLANK(AJ33),ISBLANK(AK33),ISBLANK(AL33),ISBLANK(AM33)),"",SUM(AL33:AM33)) | AP33: =IFERROR(SUM(AI33:AM33)/$E33,"") | AQ33: =IFERROR(((80*AK33)+(100*AL33)+(150*AM33))/SUM(AI33:AM33),"") | AR33: =IFERROR(AVERAGE(Y33,AH33,AQ33),"") | AS33: =IF(OR(P33="",AR33=""),"",AR33-P33) | AY33: =IF(AND(ISBLANK(AT33),ISBLANK(AU33),ISBLANK(AV33),ISBLANK(AW33),ISBLANK(AX33)),"",SUM(AV33:AX33)) | AZ33: =IF(AND(ISBLANK(AT33),ISBLANK(AU33),ISBLANK(AV33),ISBLANK(AW33),ISBLANK(AX33)),"",SUM(AW33:AX33)) | BA33: =IFERROR(((80*AV33)+(100*AW33)+(150*AX33))/SUM(AT33:AX33),"") | BB33: =B33 -> 0 | BC33: =C33 -> 0 | BD33: =BB33&"."&BC33 -> 0.0 | BE33: =D33 -> 0 | BF33: =H33 -> 0 | BG33: =I33 -> 0 | BH33: =J33 -> 0 | BI33: =K33 -> 0 | BJ33: =L33 -> 0 | BK33: =M33 | BL33: =N33 | BM33: =P33 | BN33: =Q33 -> 0 | BO33: =R33 -> 0 | BP33: =S33 -> 0 | BQ33: =T33 -> 0 | BR33: =U33 -> 0 | BS33: =V33 | BT33: =W33 | BU33: =Y33 | BV33: =Z33 -> 0 | BW33: =AA33 -> 0 | BX33: =AB33 -> 0 | BY33: =AC33 -> 0 | BZ33: =AD33 -> 0 | CA33: =AE33 | CB33: =AF33 | CC33: =AH33 | CD33: =AI33 -> 0 | CE33: =AJ33 -> 0 | CF33: =AK33 -> 0 | CG33: =AL33 -> 0 | CH33: =AM33 -> 0 | CI33: =AN33 | CJ33: =AO33 | CK33: =AQ33 | CL33: =AT33 -> 0 | CM33: =AU33 -> 0 | CN33: =AV33 -> 0 | CO33: =AW33 -> 0 | CP33: =AX33 -> 0 | CQ33: =AY33 | CR33: =AZ33 | CS33: =BA33
G34: % | H34: =IFERROR(H33/SUM(H33:L33),"") | I34: =IFERROR(I33/SUM(H33:L33),"") | J34: =IFERROR(J33/SUM(H33:L33),"") | K34: =IFERROR(K33/SUM(H33:L33),"") | L34: =IFERROR(L33/SUM(H33:L33),"") | M34: =IFERROR(M33/SUM(H33:L33),"") | N34: =IFERROR(N33/SUM(H33:L33),"") | Q34: =IFERROR(Q33/SUM(Q33:U33),"") | R34: =IFERROR(R33/SUM(Q33:U33),"") | S34: =IFERROR(S33/SUM(Q33:U33),"") | T34: =IFERROR(T33/SUM(Q33:U33),"") | U34: =IFERROR(U33/SUM(Q33:U33),"") | V34: =IFERROR(V33/SUM(Q33:U33),"") | W34: =IFERROR(W33/SUM(Q33:U33),"") | Z34: =IFERROR(Z33/SUM(Z33:AD33),"") | AA34: =IFERROR(AA33/SUM(Z33:AD33),"") | AB34: =IFERROR(AB33/SUM(Z33:AD33),"") | AC34: =IFERROR(AC33/SUM(Z33:AD33),"") | AD34: =IFERROR(AD33/SUM(Z33:AD33),"") | AE34: =IFERROR(AE33/SUM(Z33:AD33),"") | AF34: =IFERROR(AF33/SUM(Z33:AD33),"") | AI34: =IFERROR(AI33/SUM(AI33:AM33),"") | AJ34: =IFERROR(AJ33/SUM(AI33:AM33),"") | AK34: =IFERROR(AK33/SUM(AI33:AM33),"") | AL34: =IFERROR(AL33/SUM(AI33:AM33),"") | AM34: =IFERROR(AM33/SUM(AI33:AM33),"") | AN34: =IFERROR(AN33/SUM(AI33:AM33),"") | AO34: =IFERROR(AO33/SUM(AI33:AM33),"") | AT34: =IFERROR(AT33/SUM(AT33:AX33),"") | AU34: =IFERROR(AU33/SUM(AT33:AX33),"") | AV34: =IFERROR(AV33/SUM(AT33:AX33),"") | AW34: =IFERROR(AW33/SUM(AT33:AX33),"") | AX34: =IFERROR(AX33/SUM(AT33:AX33),"") | AY34: =IFERROR(AY33/SUM(AT33:AX33),"") | AZ34: =IFERROR(AZ33/SUM(AT33:AX33),"") | BD34: =BB34&"."&BC34 -> .
G35: # | M35: =IF(AND(ISBLANK(H35),ISBLANK(I35),ISBLANK(J35),ISBLANK(K35),ISBLANK(L35)),"",SUM(J35:L35)) | N35: =IF(AND(ISBLANK(H35),ISBLANK(I35),ISBLANK(J35),ISBLANK(K35),ISBLANK(L35)),"",SUM(K35:L35)) | O35: =IFERROR(SUM(H35:L35)/E35,"") | P35: =IFERROR(((80*J35)+(100*K35)+(150*L35))/SUM(H35:L35),"") | V35: =IF(AND(ISBLANK(Q35),ISBLANK(R35),ISBLANK(S35),ISBLANK(T35),ISBLANK(U35)),"",SUM(S35:U35)) | W35: =IF(AND(ISBLANK(Q35),ISBLANK(R35),ISBLANK(S35),ISBLANK(T35),ISBLANK(U35)),"",SUM(T35:U35)) | X35: =IFERROR(SUM(Q35:U35)/$E35,"") | Y35: =IFERROR(((80*S35)+(100*T35)+(150*U35))/SUM(Q35:U35),"") | AE35: =IF(AND(ISBLANK(Z35),ISBLANK(AA35),ISBLANK(AB35),ISBLANK(AC35),ISBLANK(AD35)),"",SUM(AB35:AD35)) | AF35: =IF(AND(ISBLANK(Z35),ISBLANK(AA35),ISBLANK(AB35),ISBLANK(AC35),ISBLANK(AD35)),"",SUM(AC35:AD35)) | AG35: =IFERROR(SUM(Z35:AD35)/$E35,"") | AH35: =IFERROR(((80*AB35)+(100*AC35)+(150*AD35))/SUM(Z35:AD35),"") | AN35: =IF(AND(ISBLANK(AI35),ISBLANK(AJ35),ISBLANK(AK35),ISBLANK(AL35),ISBLANK(AM35)),"",SUM(AK35:AM35)) | AO35: =IF(AND(ISBLANK(AI35),ISBLANK(AJ35),ISBLANK(AK35),ISBLANK(AL35),ISBLANK(AM35)),"",SUM(AL35:AM35)) | AP35: =IFERROR(SUM(AI35:AM35)/$E35,"") | AQ35: =IFERROR(((80*AK35)+(100*AL35)+(150*AM35))/SUM(AI35:AM35),"") | AR35: =IFERROR(AVERAGE(Y35,AH35,AQ35),"") | AS35: =IF(OR(P35="",AR35=""),"",AR35-P35) | AY35: =IF(AND(ISBLANK(AT35),ISBLANK(AU35),ISBLANK(AV35),ISBLANK(AW35),ISBLANK(AX35)),"",SUM(AV35:AX35)) | AZ35: =IF(AND(ISBLANK(AT35),ISBLANK(AU35),ISBLANK(AV35),ISBLANK(AW35),ISBLANK(AX35)),"",SUM(AW35:AX35)) | BA35: =IFERROR(((80*AV35)+(100*AW35)+(150*AX35))/SUM(AT35:AX35),"") | BB35: =B35 -> 0 | BC35: =C35 -> 0 | BD35: =BB35&"."&BC35 -> 0.0 | BE35: =D35 -> 0 | BF35: =H35 -> 0 | BG35: =I35 -> 0 | BH35: =J35 -> 0 | BI35: =K35 -> 0 | BJ35: =L35 -> 0 | BK35: =M35 | BL35: =N35 | BM35: =P35 | BN35: =Q35 -> 0 | BO35: =R35 -> 0 | BP35: =S35 -> 0 | BQ35: =T35 -> 0 | BR35: =U35 -> 0 | BS35: =V35 | BT35: =W35 | BU35: =Y35 | BV35: =Z35 -> 0 | BW35: =AA35 -> 0 | BX35: =AB35 -> 0 | BY35: =AC35 -> 0 | BZ35: =AD35 -> 0 | CA35: =AE35 | CB35: =AF35 | CC35: =AH35 | CD35: =AI35 -> 0 | CE35: =AJ35 -> 0 | CF35: =AK35 -> 0 | CG35: =AL35 -> 0 | CH35: =AM35 -> 0 | CI35: =AN35 | CJ35: =AO35 | CK35: =AQ35 | CL35: =AT35 -> 0 | CM35: =AU35 -> 0 | CN35: =AV35 -> 0 | CO35: =AW35 -> 0 | CP35: =AX35 -> 0 | CQ35: =AY35 | CR35: =AZ35 | CS35: =BA35
G36: % | H36: =IFERROR(H35/SUM(H35:L35),"") | I36: =IFERROR(I35/SUM(H35:L35),"") | J36: =IFERROR(J35/SUM(H35:L35),"") | K36: =IFERROR(K35/SUM(H35:L35),"") | L36: =IFERROR(L35/SUM(H35:L35),"") | M36: =IFERROR(M35/SUM(H35:L35),"") | N36: =IFERROR(N35/SUM(H35:L35),"") | Q36: =IFERROR(Q35/SUM(Q35:U35),"") | R36: =IFERROR(R35/SUM(Q35:U35),"") | S36: =IFERROR(S35/SUM(Q35:U35),"") | T36: =IFERROR(T35/SUM(Q35:U35),"") | U36: =IFERROR(U35/SUM(Q35:U35),"") | V36: =IFERROR(V35/SUM(Q35:U35),"") | W36: =IFERROR(W35/SUM(Q35:U35),"") | Z36: =IFERROR(Z35/SUM(Z35:AD35),"") | AA36: =IFERROR(AA35/SUM(Z35:AD35),"") | AB36: =IFERROR(AB35/SUM(Z35:AD35),"") | AC36: =IFERROR(AC35/SUM(Z35:AD35),"") | AD36: =IFERROR(AD35/SUM(Z35:AD35),"") | AE36: =IFERROR(AE35/SUM(Z35:AD35),"") | AF36: =IFERROR(AF35/SUM(Z35:AD35),"") | AI36: =IFERROR(AI35/SUM(AI35:AM35),"") | AJ36: =IFERROR(AJ35/SUM(AI35:AM35),"") | AK36: =IFERROR(AK35/SUM(AI35:AM35),"") | AL36: =IFERROR(AL35/SUM(AI35:AM35),"") | AM36: =IFERROR(AM35/SUM(AI35:AM35),"") | AN36: =IFERROR(AN35/SUM(AI35:AM35),"") | AO36: =IFERROR(AO35/SUM(AI35:AM35),"") | AT36: =IFERROR(AT35/SUM(AT35:AX35),"") | AU36: =IFERROR(AU35/SUM(AT35:AX35),"") | AV36: =IFERROR(AV35/SUM(AT35:AX35),"") | AW36: =IFERROR(AW35/SUM(AT35:AX35),"") | AX36: =IFERROR(AX35/SUM(AT35:AX35),"") | AY36: =IFERROR(AY35/SUM(AT35:AX35),"") | AZ36: =IFERROR(AZ35/SUM(AT35:AX35),"") | BD36: =BB36&"."&BC36 -> .
G37: # | M37: =IF(AND(ISBLANK(H37),ISBLANK(I37),ISBLANK(J37),ISBLANK(K37),ISBLANK(L37)),"",SUM(J37:L37)) | N37: =IF(AND(ISBLANK(H37),ISBLANK(I37),ISBLANK(J37),ISBLANK(K37),ISBLANK(L37)),"",SUM(K37:L37)) | O37: =IFERROR(SUM(H37:L37)/E37,"") | P37: =IFERROR(((80*J37)+(100*K37)+(150*L37))/SUM(H37:L37),"") | V37: =IF(AND(ISBLANK(Q37),ISBLANK(R37),ISBLANK(S37),ISBLANK(T37),ISBLANK(U37)),"",SUM(S37:U37)) | W37: =IF(AND(ISBLANK(Q37),ISBLANK(R37),ISBLANK(S37),ISBLANK(T37),ISBLANK(U37)),"",SUM(T37:U37)) | X37: =IFERROR(SUM(Q37:U37)/$E37,"") | Y37: =IFERROR(((80*S37)+(100*T37)+(150*U37))/SUM(Q37:U37),"") | AE37: =IF(AND(ISBLANK(Z37),ISBLANK(AA37),ISBLANK(AB37),ISBLANK(AC37),ISBLANK(AD37)),"",SUM(AB37:AD37)) | AF37: =IF(AND(ISBLANK(Z37),ISBLANK(AA37),ISBLANK(AB37),ISBLANK(AC37),ISBLANK(AD37)),"",SUM(AC37:AD37)) | AG37: =IFERROR(SUM(Z37:AD37)/$E37,"") | AH37: =IFERROR(((80*AB37)+(100*AC37)+(150*AD37))/SUM(Z37:AD37),"") | AN37: =IF(AND(ISBLANK(AI37),ISBLANK(AJ37),ISBLANK(AK37),ISBLANK(AL37),ISBLANK(AM37)),"",SUM(AK37:AM37)) | AO37: =IF(AND(ISBLANK(AI37),ISBLANK(AJ37),ISBLANK(AK37),ISBLANK(AL37),ISBLANK(AM37)),"",SUM(AL37:AM37)) | AP37: =IFERROR(SUM(AI37:AM37)/$E37,"") | AQ37: =IFERROR(((80*AK37)+(100*AL37)+(150*AM37))/SUM(AI37:AM37),"") | AR37: =IFERROR(AVERAGE(Y37,AH37,AQ37),"") | AS37: =IF(OR(P37="",AR37=""),"",AR37-P37) | AY37: =IF(AND(ISBLANK(AT37),ISBLANK(AU37),ISBLANK(AV37),ISBLANK(AW37),ISBLANK(AX37)),"",SUM(AV37:AX37)) | AZ37: =IF(AND(ISBLANK(AT37),ISBLANK(AU37),ISBLANK(AV37),ISBLANK(AW37),ISBLANK(AX37)),"",SUM(AW37:AX37)) | BA37: =IFERROR(((80*AV37)+(100*AW37)+(150*AX37))/SUM(AT37:AX37),"") | BB37: =B37 -> 0 | BC37: =C37 -> 0 | BD37: =BB37&"."&BC37 -> 0.0 | BE37: =D37 -> 0 | BF37: =H37 -> 0 | BG37: =I37 -> 0 | BH37: =J37 -> 0 | BI37: =K37 -> 0 | BJ37: =L37 -> 0 | BK37: =M37 | BL37: =N37 | BM37: =P37 | BN37: =Q37 -> 0 | BO37: =R37 -> 0 | BP37: =S37 -> 0 | BQ37: =T37 -> 0 | BR37: =U37 -> 0 | BS37: =V37 | BT37: =W37 | BU37: =Y37 | BV37: =Z37 -> 0 | BW37: =AA37 -> 0 | BX37: =AB37 -> 0 | BY37: =AC37 -> 0 | BZ37: =AD37 -> 0 | CA37: =AE37 | CB37: =AF37 | CC37: =AH37 | CD37: =AI37 -> 0 | CE37: =AJ37 -> 0 | CF37: =AK37 -> 0 | CG37: =AL37 -> 0 | CH37: =AM37 -> 0 | CI37: =AN37 | CJ37: =AO37 | CK37: =AQ37 | CL37: =AT37 -> 0 | CM37: =AU37 -> 0 | CN37: =AV37 -> 0 | CO37: =AW37 -> 0 | CP37: =AX37 -> 0 | CQ37: =AY37 | CR37: =AZ37 | CS37: =BA37
G38: % | H38: =IFERROR(H37/SUM(H37:L37),"") | I38: =IFERROR(I37/SUM(H37:L37),"") | J38: =IFERROR(J37/SUM(H37:L37),"") | K38: =IFERROR(K37/SUM(H37:L37),"") | L38: =IFERROR(L37/SUM(H37:L37),"") | M38: =IFERROR(M37/SUM(H37:L37),"") | N38: =IFERROR(N37/SUM(H37:L37),"") | Q38: =IFERROR(Q37/SUM(Q37:U37),"") | R38: =IFERROR(R37/SUM(Q37:U37),"") | S38: =IFERROR(S37/SUM(Q37:U37),"") | T38: =IFERROR(T37/SUM(Q37:U37),"") | U38: =IFERROR(U37/SUM(Q37:U37),"") | V38: =IFERROR(V37/SUM(Q37:U37),"") | W38: =IFERROR(W37/SUM(Q37:U37),"") | Z38: =IFERROR(Z37/SUM(Z37:AD37),"") | AA38: =IFERROR(AA37/SUM(Z37:AD37),"") | AB38: =IFERROR(AB37/SUM(Z37:AD37),"") | AC38: =IFERROR(AC37/SUM(Z37:AD37),"") | AD38: =IFERROR(AD37/SUM(Z37:AD37),"") | AE38: =IFERROR(AE37/SUM(Z37:AD37),"") | AF38: =IFERROR(AF37/SUM(Z37:AD37),"") | AI38: =IFERROR(AI37/SUM(AI37:AM37),"") | AJ38: =IFERROR(AJ37/SUM(AI37:AM37),"") | AK38: =IFERROR(AK37/SUM(AI37:AM37),"") | AL38: =IFERROR(AL37/SUM(AI37:AM37),"") | AM38: =IFERROR(AM37/SUM(AI37:AM37),"") | AN38: =IFERROR(AN37/SUM(AI37:AM37),"") | AO38: =IFERROR(AO37/SUM(AI37:AM37),"") | AT38: =IFERROR(AT37/SUM(AT37:AX37),"") | AU38: =IFERROR(AU37/SUM(AT37:AX37),"") | AV38: =IFERROR(AV37/SUM(AT37:AX37),"") | AW38: =IFERROR(AW37/SUM(AT37:AX37),"") | AX38: =IFERROR(AX37/SUM(AT37:AX37),"") | AY38: =IFERROR(AY37/SUM(AT37:AX37),"") | AZ38: =IFERROR(AZ37/SUM(AT37:AX37),"") | BD38: =BB38&"."&BC38 -> .
G39: # | M39: =IF(AND(ISBLANK(H39),ISBLANK(I39),ISBLANK(J39),ISBLANK(K39),ISBLANK(L39)),"",SUM(J39:L39)) | N39: =IF(AND(ISBLANK(H39),ISBLANK(I39),ISBLANK(J39),ISBLANK(K39),ISBLANK(L39)),"",SUM(K39:L39)) | O39: =IFERROR(SUM(H39:L39)/E39,"") | P39: =IFERROR(((80*J39)+(100*K39)+(150*L39))/SUM(H39:L39),"") | V39: =IF(AND(ISBLANK(Q39),ISBLANK(R39),ISBLANK(S39),ISBLANK(T39),ISBLANK(U39)),"",SUM(S39:U39)) | W39: =IF(AND(ISBLANK(Q39),ISBLANK(R39),ISBLANK(S39),ISBLANK(T39),ISBLANK(U39)),"",SUM(T39:U39)) | X39: =IFERROR(SUM(Q39:U39)/$E39,"") | Y39: =IFERROR(((80*S39)+(100*T39)+(150*U39))/SUM(Q39:U39),"") | AE39: =IF(AND(ISBLANK(Z39),ISBLANK(AA39),ISBLANK(AB39),ISBLANK(AC39),ISBLANK(AD39)),"",SUM(AB39:AD39)) | AF39: =IF(AND(ISBLANK(Z39),ISBLANK(AA39),ISBLANK(AB39),ISBLANK(AC39),ISBLANK(AD39)),"",SUM(AC39:AD39)) | AG39: =IFERROR(SUM(Z39:AD39)/$E39,"") | AH39: =IFERROR(((80*AB39)+(100*AC39)+(150*AD39))/SUM(Z39:AD39),"") | AN39: =IF(AND(ISBLANK(AI39),ISBLANK(AJ39),ISBLANK(AK39),ISBLANK(AL39),ISBLANK(AM39)),"",SUM(AK39:AM39)) | AO39: =IF(AND(ISBLANK(AI39),ISBLANK(AJ39),ISBLANK(AK39),ISBLANK(AL39),ISBLANK(AM39)),"",SUM(AL39:AM39)) | AP39: =IFERROR(SUM(AI39:AM39)/$E39,"") | AQ39: =IFERROR(((80*AK39)+(100*AL39)+(150*AM39))/SUM(AI39:AM39),"") | AR39: =IFERROR(AVERAGE(Y39,AH39,AQ39),"") | AS39: =IF(OR(P39="",AR39=""),"",AR39-P39) | AY39: =IF(AND(ISBLANK(AT39),ISBLANK(AU39),ISBLANK(AV39),ISBLANK(AW39),ISBLANK(AX39)),"",SUM(AV39:AX39)) | AZ39: =IF(AND(ISBLANK(AT39),ISBLANK(AU39),ISBLANK(AV39),ISBLANK(AW39),ISBLANK(AX39)),"",SUM(AW39:AX39)) | BA39: =IFERROR(((80*AV39)+(100*AW39)+(150*AX39))/SUM(AT39:AX39),"") | BB39: =B39 -> 0 | BC39: =C39 -> 0 | BD39: =BB39&"."&BC39 -> 0.0 | BE39: =D39 -> 0 | BF39: =H39 -> 0 | BG39: =I39 -> 0 | BH39: =J39 -> 0 | BI39: =K39 -> 0 | BJ39: =L39 -> 0 | BK39: =M39 | BL39: =N39 | BM39: =P39 | BN39: =Q39 -> 0 | BO39: =R39 -> 0 | BP39: =S39 -> 0 | BQ39: =T39 -> 0 | BR39: =U39 -> 0 | BS39: =V39 | BT39: =W39 | BU39: =Y39 | BV39: =Z39 -> 0 | BW39: =AA39 -> 0 | BX39: =AB39 -> 0 | BY39: =AC39 -> 0 | BZ39: =AD39 -> 0 | CA39: =AE39 | CB39: =AF39 | CC39: =AH39 | CD39: =AI39 -> 0 | CE39: =AJ39 -> 0 | CF39: =AK39 -> 0 | CG39: =AL39 -> 0 | CH39: =AM39 -> 0 | CI39: =AN39 | CJ39: =AO39 | CK39: =AQ39 | CL39: =AT39 -> 0 | CM39: =AU39 -> 0 | CN39: =AV39 -> 0 | CO39: =AW39 -> 0 | CP39: =AX39 -> 0 | CQ39: =AY39 | CR39: =AZ39 | CS39: =BA39
G40: % | H40: =IFERROR(H39/SUM(H39:L39),"") | I40: =IFERROR(I39/SUM(H39:L39),"") | J40: =IFERROR(J39/SUM(H39:L39),"") | K40: =IFERROR(K39/SUM(H39:L39),"") | L40: =IFERROR(L39/SUM(H39:L39),"") | M40: =IFERROR(M39/SUM(H39:L39),"") | N40: =IFERROR(N39/SUM(H39:L39),"") | Q40: =IFERROR(Q39/SUM(Q39:U39),"") | R40: =IFERROR(R39/SUM(Q39:U39),"") | S40: =IFERROR(S39/SUM(Q39:U39),"") | T40: =IFERROR(T39/SUM(Q39:U39),"") | U40: =IFERROR(U39/SUM(Q39:U39),"") | V40: =IFERROR(V39/SUM(Q39:U39),"") | W40: =IFERROR(W39/SUM(Q39:U39),"") | Z40: =IFERROR(Z39/SUM(Z39:AD39),"") | AA40: =IFERROR(AA39/SUM(Z39:AD39),"") | AB40: =IFERROR(AB39/SUM(Z39:AD39),"") | AC40: =IFERROR(AC39/SUM(Z39:AD39),"") | AD40: =IFERROR(AD39/SUM(Z39:AD39),"") | AE40: =IFERROR(AE39/SUM(Z39:AD39),"") | AF40: =IFERROR(AF39/SUM(Z39:AD39),"") | AI40: =IFERROR(AI39/SUM(AI39:AM39),"") | AJ40: =IFERROR(AJ39/SUM(AI39:AM39),"") | AK40: =IFERROR(AK39/SUM(AI39:AM39),"") | AL40: =IFERROR(AL39/SUM(AI39:AM39),"") | AM40: =IFERROR(AM39/SUM(AI39:AM39),"") | AN40: =IFERROR(AN39/SUM(AI39:AM39),"") | AO40: =IFERROR(AO39/SUM(AI39:AM39),"") | AT40: =IFERROR(AT39/SUM(AT39:AX39),"") | AU40: =IFERROR(AU39/SUM(AT39:AX39),"") | AV40: =IFERROR(AV39/SUM(AT39:AX39),"") | AW40: =IFERROR(AW39/SUM(AT39:AX39),"") | AX40: =IFERROR(AX39/SUM(AT39:AX39),"") | AY40: =IFERROR(AY39/SUM(AT39:AX39),"") | AZ40: =IFERROR(AZ39/SUM(AT39:AX39),"") | BD40: =BB40&"."&BC40 -> .
G41: # | M41: =IF(AND(ISBLANK(H41),ISBLANK(I41),ISBLANK(J41),ISBLANK(K41),ISBLANK(L41)),"",SUM(J41:L41)) | N41: =IF(AND(ISBLANK(H41),ISBLANK(I41),ISBLANK(J41),ISBLANK(K41),ISBLANK(L41)),"",SUM(K41:L41)) | O41: =IFERROR(SUM(H41:L41)/E41,"") | P41: =IFERROR(((80*J41)+(100*K41)+(150*L41))/SUM(H41:L41),"") | V41: =IF(AND(ISBLANK(Q41),ISBLANK(R41),ISBLANK(S41),ISBLANK(T41),ISBLANK(U41)),"",SUM(S41:U41)) | W41: =IF(AND(ISBLANK(Q41),ISBLANK(R41),ISBLANK(S41),ISBLANK(T41),ISBLANK(U41)),"",SUM(T41:U41)) | X41: =IFERROR(SUM(Q41:U41)/$E41,"") | Y41: =IFERROR(((80*S41)+(100*T41)+(150*U41))/SUM(Q41:U41),"") | AE41: =IF(AND(ISBLANK(Z41),ISBLANK(AA41),ISBLANK(AB41),ISBLANK(AC41),ISBLANK(AD41)),"",SUM(AB41:AD41)) | AF41: =IF(AND(ISBLANK(Z41),ISBLANK(AA41),ISBLANK(AB41),ISBLANK(AC41),ISBLANK(AD41)),"",SUM(AC41:AD41)) | AG41: =IFERROR(SUM(Z41:AD41)/$E41,"") | AH41: =IFERROR(((80*AB41)+(100*AC41)+(150*AD41))/SUM(Z41:AD41),"") | AN41: =IF(AND(ISBLANK(AI41),ISBLANK(AJ41),ISBLANK(AK41),ISBLANK(AL41),ISBLANK(AM41)),"",SUM(AK41:AM41)) | AO41: =IF(AND(ISBLANK(AI41),ISBLANK(AJ41),ISBLANK(AK41),ISBLANK(AL41),ISBLANK(AM41)),"",SUM(AL41:AM41)) | AP41: =IFERROR(SUM(AI41:AM41)/$E41,"") | AQ41: =IFERROR(((80*AK41)+(100*AL41)+(150*AM41))/SUM(AI41:AM41),"") | AR41: =IFERROR(AVERAGE(Y41,AH41,AQ41),"") | AS41: =IF(OR(P41="",AR41=""),"",AR41-P41) | AY41: =IF(AND(ISBLANK(AT41),ISBLANK(AU41),ISBLANK(AV41),ISBLANK(AW41),ISBLANK(AX41)),"",SUM(AV41:AX41)) | AZ41: =IF(AND(ISBLANK(AT41),ISBLANK(AU41),ISBLANK(AV41),ISBLANK(AW41),ISBLANK(AX41)),"",SUM(AW41:AX41)) | BA41: =IFERROR(((80*AV41)+(100*AW41)+(150*AX41))/SUM(AT41:AX41),"") | BB41: =B41 -> 0 | BC41: =C41 -> 0 | BD41: =BB41&"."&BC41 -> 0.0 | BE41: =D41 -> 0 | BF41: =H41 -> 0 | BG41: =I41 -> 0 | BH41: =J41 -> 0 | BI41: =K41 -> 0 | BJ41: =L41 -> 0 | BK41: =M41 | BL41: =N41 | BM41: =P41 | BN41: =Q41 -> 0 | BO41: =R41 -> 0 | BP41: =S41 -> 0 | BQ41: =T41 -> 0 | BR41: =U41 -> 0 | BS41: =V41 | BT41: =W41 | BU41: =Y41 | BV41: =Z41 -> 0 | BW41: =AA41 -> 0 | BX41: =AB41 -> 0 | BY41: =AC41 -> 0 | BZ41: =AD41 -> 0 | CA41: =AE41 | CB41: =AF41 | CC41: =AH41 | CD41: =AI41 -> 0 | CE41: =AJ41 -> 0 | CF41: =AK41 -> 0 | CG41: =AL41 -> 0 | CH41: =AM41 -> 0 | CI41: =AN41 | CJ41: =AO41 | CK41: =AQ41 | CL41: =AT41 -> 0 | CM41: =AU41 -> 0 | CN41: =AV41 -> 0 | CO41: =AW41 -> 0 | CP41: =AX41 -> 0 | CQ41: =AY41 | CR41: =AZ41 | CS41: =BA41
G42: % | H42: =IFERROR(H41/SUM(H41:L41),"") | I42: =IFERROR(I41/SUM(H41:L41),"") | J42: =IFERROR(J41/SUM(H41:L41),"") | K42: =IFERROR(K41/SUM(H41:L41),"") | L42: =IFERROR(L41/SUM(H41:L41),"") | M42: =IFERROR(M41/SUM(H41:L41),"") | N42: =IFERROR(N41/SUM(H41:L41),"") | Q42: =IFERROR(Q41/SUM(Q41:U41),"") | R42: =IFERROR(R41/SUM(Q41:U41),"") | S42: =IFERROR(S41/SUM(Q41:U41),"") | T42: =IFERROR(T41/SUM(Q41:U41),"") | U42: =IFERROR(U41/SUM(Q41:U41),"") | V42: =IFERROR(V41/SUM(Q41:U41),"") | W42: =IFERROR(W41/SUM(Q41:U41),"") | Z42: =IFERROR(Z41/SUM(Z41:AD41),"") | AA42: =IFERROR(AA41/SUM(Z41:AD41),"") | AB42: =IFERROR(AB41/SUM(Z41:AD41),"") | AC42: =IFERROR(AC41/SUM(Z41:AD41),"") | AD42: =IFERROR(AD41/SUM(Z41:AD41),"") | AE42: =IFERROR(AE41/SUM(Z41:AD41),"") | AF42: =IFERROR(AF41/SUM(Z41:AD41),"") | AI42: =IFERROR(AI41/SUM(AI41:AM41),"") | AJ42: =IFERROR(AJ41/SUM(AI41:AM41),"") | AK42: =IFERROR(AK41/SUM(AI41:AM41),"") | AL42: =IFERROR(AL41/SUM(AI41:AM41),"") | AM42: =IFERROR(AM41/SUM(AI41:AM41),"") | AN42: =IFERROR(AN41/SUM(AI41:AM41),"") | AO42: =IFERROR(AO41/SUM(AI41:AM41),"") | AT42: =IFERROR(AT41/SUM(AT41:AX41),"") | AU42: =IFERROR(AU41/SUM(AT41:AX41),"") | AV42: =IFERROR(AV41/SUM(AT41:AX41),"") | AW42: =IFERROR(AW41/SUM(AT41:AX41),"") | AX42: =IFERROR(AX41/SUM(AT41:AX41),"") | AY42: =IFERROR(AY41/SUM(AT41:AX41),"") | AZ42: =IFERROR(AZ41/SUM(AT41:AX41),"") | BD42: =BB42&"."&BC42 -> .
G43: # | M43: =IF(AND(ISBLANK(H43),ISBLANK(I43),ISBLANK(J43),ISBLANK(K43),ISBLANK(L43)),"",SUM(J43:L43)) | N43: =IF(AND(ISBLANK(H43),ISBLANK(I43),ISBLANK(J43),ISBLANK(K43),ISBLANK(L43)),"",SUM(K43:L43)) | O43: =IFERROR(SUM(H43:L43)/E43,"") | P43: =IFERROR(((80*J43)+(100*K43)+(150*L43))/SUM(H43:L43),"") | V43: =IF(AND(ISBLANK(Q43),ISBLANK(R43),ISBLANK(S43),ISBLANK(T43),ISBLANK(U43)),"",SUM(S43:U43)) | W43: =IF(AND(ISBLANK(Q43),ISBLANK(R43),ISBLANK(S43),ISBLANK(T43),ISBLANK(U43)),"",SUM(T43:U43)) | X43: =IFERROR(SUM(Q43:U43)/$E43,"") | Y43: =IFERROR(((80*S43)+(100*T43)+(150*U43))/SUM(Q43:U43),"") | AE43: =IF(AND(ISBLANK(Z43),ISBLANK(AA43),ISBLANK(AB43),ISBLANK(AC43),ISBLANK(AD43)),"",SUM(AB43:AD43)) | AF43: =IF(AND(ISBLANK(Z43),ISBLANK(AA43),ISBLANK(AB43),ISBLANK(AC43),ISBLANK(AD43)),"",SUM(AC43:AD43)) | AG43: =IFERROR(SUM(Z43:AD43)/$E43,"") | AH43: =IFERROR(((80*AB43)+(100*AC43)+(150*AD43))/SUM(Z43:AD43),"") | AN43: =IF(AND(ISBLANK(AI43),ISBLANK(AJ43),ISBLANK(AK43),ISBLANK(AL43),ISBLANK(AM43)),"",SUM(AK43:AM43)) | AO43: =IF(AND(ISBLANK(AI43),ISBLANK(AJ43),ISBLANK(AK43),ISBLANK(AL43),ISBLANK(AM43)),"",SUM(AL43:AM43)) | AP43: =IFERROR(SUM(AI43:AM43)/$E43,"") | AQ43: =IFERROR(((80*AK43)+(100*AL43)+(150*AM43))/SUM(AI43:AM43),"") | AR43: =IFERROR(AVERAGE(Y43,AH43,AQ43),"") | AS43: =IF(OR(P43="",AR43=""),"",AR43-P43) | AY43: =IF(AND(ISBLANK(AT43),ISBLANK(AU43),ISBLANK(AV43),ISBLANK(AW43),ISBLANK(AX43)),"",SUM(AV43:AX43)) | AZ43: =IF(AND(ISBLANK(AT43),ISBLANK(AU43),ISBLANK(AV43),ISBLANK(AW43),ISBLANK(AX43)),"",SUM(AW43:AX43)) | BA43: =IFERROR(((80*AV43)+(100*AW43)+(150*AX43))/SUM(AT43:AX43),"") | BB43: =B43 -> 0 | BC43: =C43 -> 0 | BD43: =BB43&"."&BC43 -> 0.0 | BE43: =D43 -> 0 | BF43: =H43 -> 0 | BG43: =I43 -> 0 | BH43: =J43 -> 0 | BI43: =K43 -> 0 | BJ43: =L43 -> 0 | BK43: =M43 | BL43: =N43 | BM43: =P43 | BN43: =Q43 -> 0 | BO43: =R43 -> 0 | BP43: =S43 -> 0 | BQ43: =T43 -> 0 | BR43: =U43 -> 0 | BS43: =V43 | BT43: =W43 | BU43: =Y43 | BV43: =Z43 -> 0 | BW43: =AA43 -> 0 | BX43: =AB43 -> 0 | BY43: =AC43 -> 0 | BZ43: =AD43 -> 0 | CA43: =AE43 | CB43: =AF43 | CC43: =AH43 | CD43: =AI43 -> 0 | CE43: =AJ43 -> 0 | CF43: =AK43 -> 0 | CG43: =AL43 -> 0 | CH43: =AM43 -> 0 | CI43: =AN43 | CJ43: =AO43 | CK43: =AQ43 | CL43: =AT43 -> 0 | CM43: =AU43 -> 0 | CN43: =AV43 -> 0 | CO43: =AW43 -> 0 | CP43: =AX43 -> 0 | CQ43: =AY43 | CR43: =AZ43 | CS43: =BA43
G44: % | H44: =IFERROR(H43/SUM(H43:L43),"") | I44: =IFERROR(I43/SUM(H43:L43),"") | J44: =IFERROR(J43/SUM(H43:L43),"") | K44: =IFERROR(K43/SUM(H43:L43),"") | L44: =IFERROR(L43/SUM(H43:L43),"") | M44: =IFERROR(M43/SUM(H43:L43),"") | N44: =IFERROR(N43/SUM(H43:L43),"") | Q44: =IFERROR(Q43/SUM(Q43:U43),"") | R44: =IFERROR(R43/SUM(Q43:U43),"") | S44: =IFERROR(S43/SUM(Q43:U43),"") | T44: =IFERROR(T43/SUM(Q43:U43),"") | U44: =IFERROR(U43/SUM(Q43:U43),"") | V44: =IFERROR(V43/SUM(Q43:U43),"") | W44: =IFERROR(W43/SUM(Q43:U43),"") | Z44: =IFERROR(Z43/SUM(Z43:AD43),"") | AA44: =IFERROR(AA43/SUM(Z43:AD43),"") | AB44: =IFERROR(AB43/SUM(Z43:AD43),"") | AC44: =IFERROR(AC43/SUM(Z43:AD43),"") | AD44: =IFERROR(AD43/SUM(Z43:AD43),"") | AE44: =IFERROR(AE43/SUM(Z43:AD43),"") | AF44: =IFERROR(AF43/SUM(Z43:AD43),"") | AI44: =IFERROR(AI43/SUM(AI43:AM43),"") | AJ44: =IFERROR(AJ43/SUM(AI43:AM43),"") | AK44: =IFERROR(AK43/SUM(AI43:AM43),"") | AL44: =IFERROR(AL43/SUM(AI43:AM43),"") | AM44: =IFERROR(AM43/SUM(AI43:AM43),"") | AN44: =IFERROR(AN43/SUM(AI43:AM43),"") | AO44: =IFERROR(AO43/SUM(AI43:AM43),"") | AT44: =IFERROR(AT43/SUM(AT43:AX43),"") | AU44: =IFERROR(AU43/SUM(AT43:AX43),"") | AV44: =IFERROR(AV43/SUM(AT43:AX43),"") | AW44: =IFERROR(AW43/SUM(AT43:AX43),"") | AX44: =IFERROR(AX43/SUM(AT43:AX43),"") | AY44: =IFERROR(AY43/SUM(AT43:AX43),"") | AZ44: =IFERROR(AZ43/SUM(AT43:AX43),"") | BD44: =BB44&"."&BC44 -> .
G45: # | M45: =IF(AND(ISBLANK(H45),ISBLANK(I45),ISBLANK(J45),ISBLANK(K45),ISBLANK(L45)),"",SUM(J45:L45)) | N45: =IF(AND(ISBLANK(H45),ISBLANK(I45),ISBLANK(J45),ISBLANK(K45),ISBLANK(L45)),"",SUM(K45:L45)) | O45: =IFERROR(SUM(H45:L45)/E45,"") | P45: =IFERROR(((80*J45)+(100*K45)+(150*L45))/SUM(H45:L45),"") | V45: =IF(AND(ISBLANK(Q45),ISBLANK(R45),ISBLANK(S45),ISBLANK(T45),ISBLANK(U45)),"",SUM(S45:U45)) | W45: =IF(AND(ISBLANK(Q45),ISBLANK(R45),ISBLANK(S45),ISBLANK(T45),ISBLANK(U45)),"",SUM(T45:U45)) | X45: =IFERROR(SUM(Q45:U45)/$E45,"") | Y45: =IFERROR(((80*S45)+(100*T45)+(150*U45))/SUM(Q45:U45),"") | AE45: =IF(AND(ISBLANK(Z45),ISBLANK(AA45),ISBLANK(AB45),ISBLANK(AC45),ISBLANK(AD45)),"",SUM(AB45:AD45)) | AF45: =IF(AND(ISBLANK(Z45),ISBLANK(AA45),ISBLANK(AB45),ISBLANK(AC45),ISBLANK(AD45)),"",SUM(AC45:AD45)) | AG45: =IFERROR(SUM(Z45:AD45)/$E45,"") | AH45: =IFERROR(((80*AB45)+(100*AC45)+(150*AD45))/SUM(Z45:AD45),"") | AN45: =IF(AND(ISBLANK(AI45),ISBLANK(AJ45),ISBLANK(AK45),ISBLANK(AL45),ISBLANK(AM45)),"",SUM(AK45:AM45)) | AO45: =IF(AND(ISBLANK(AI45),ISBLANK(AJ45),ISBLANK(AK45),ISBLANK(AL45),ISBLANK(AM45)),"",SUM(AL45:AM45)) | AP45: =IFERROR(SUM(AI45:AM45)/$E45,"") | AQ45: =IFERROR(((80*AK45)+(100*AL45)+(150*AM45))/SUM(AI45:AM45),"") | AR45: =IFERROR(AVERAGE(Y45,AH45,AQ45),"") | AS45: =IF(OR(P45="",AR45=""),"",AR45-P45) | AY45: =IF(AND(ISBLANK(AT45),ISBLANK(AU45),ISBLANK(AV45),ISBLANK(AW45),ISBLANK(AX45)),"",SUM(AV45:AX45)) | AZ45: =IF(AND(ISBLANK(AT45),ISBLANK(AU45),ISBLANK(AV45),ISBLANK(AW45),ISBLANK(AX45)),"",SUM(AW45:AX45)) | BA45: =IFERROR(((80*AV45)+(100*AW45)+(150*AX45))/SUM(AT45:AX45),"") | BB45: =B45 -> 0 | BC45: =C45 -> 0 | BD45: =BB45&"."&BC45 -> 0.0 | BE45: =D45 -> 0 | BF45: =H45 -> 0 | BG45: =I45 -> 0 | BH45: =J45 -> 0 | BI45: =K45 -> 0 | BJ45: =L45 -> 0 | BK45: =M45 | BL45: =N45 | BM45: =P45 | BN45: =Q45 -> 0 | BO45: =R45 -> 0 | BP45: =S45 -> 0 | BQ45: =T45 -> 0 | BR45: =U45 -> 0 | BS45: =V45 | BT45: =W45 | BU45: =Y45 | BV45: =Z45 -> 0 | BW45: =AA45 -> 0 | BX45: =AB45 -> 0 | BY45: =AC45 -> 0 | BZ45: =AD45 -> 0 | CA45: =AE45 | CB45: =AF45 | CC45: =AH45 | CD45: =AI45 -> 0 | CE45: =AJ45 -> 0 | CF45: =AK45 -> 0 | CG45: =AL45 -> 0 | CH45: =AM45 -> 0 | CI45: =AN45 | CJ45: =AO45 | CK45: =AQ45 | CL45: =AT45 -> 0 | CM45: =AU45 -> 0 | CN45: =AV45 -> 0 | CO45: =AW45 -> 0 | CP45: =AX45 -> 0 | CQ45: =AY45 | CR45: =AZ45 | CS45: =BA45
G46: % | H46: =IFERROR(H45/SUM(H45:L45),"") | I46: =IFERROR(I45/SUM(H45:L45),"") | J46: =IFERROR(J45/SUM(H45:L45),"") | K46: =IFERROR(K45/SUM(H45:L45),"") | L46: =IFERROR(L45/SUM(H45:L45),"") | M46: =IFERROR(M45/SUM(H45:L45),"") | N46: =IFERROR(N45/SUM(H45:L45),"") | Q46: =IFERROR(Q45/SUM(Q45:U45),"") | R46: =IFERROR(R45/SUM(Q45:U45),"") | S46: =IFERROR(S45/SUM(Q45:U45),"") | T46: =IFERROR(T45/SUM(Q45:U45),"") | U46: =IFERROR(U45/SUM(Q45:U45),"") | V46: =IFERROR(V45/SUM(Q45:U45),"") | W46: =IFERROR(W45/SUM(Q45:U45),"") | Z46: =IFERROR(Z45/SUM(Z45:AD45),"") | AA46: =IFERROR(AA45/SUM(Z45:AD45),"") | AB46: =IFERROR(AB45/SUM(Z45:AD45),"") | AC46: =IFERROR(AC45/SUM(Z45:AD45),"") | AD46: =IFERROR(AD45/SUM(Z45:AD45),"") | AE46: =IFERROR(AE45/SUM(Z45:AD45),"") | AF46: =IFERROR(AF45/SUM(Z45:AD45),"") | AI46: =IFERROR(AI45/SUM(AI45:AM45),"") | AJ46: =IFERROR(AJ45/SUM(AI45:AM45),"") | AK46: =IFERROR(AK45/SUM(AI45:AM45),"") | AL46: =IFERROR(AL45/SUM(AI45:AM45),"") | AM46: =IFERROR(AM45/SUM(AI45:AM45),"") | AN46: =IFERROR(AN45/SUM(AI45:AM45),"") | AO46: =IFERROR(AO45/SUM(AI45:AM45),"") | AT46: =IFERROR(AT45/SUM(AT45:AX45),"") | AU46: =IFERROR(AU45/SUM(AT45:AX45),"") | AV46: =IFERROR(AV45/SUM(AT45:AX45),"") | AW46: =IFERROR(AW45/SUM(AT45:AX45),"") | AX46: =IFERROR(AX45/SUM(AT45:AX45),"") | AY46: =IFERROR(AY45/SUM(AT45:AX45),"") | AZ46: =IFERROR(AZ45/SUM(AT45:AX45),"") | BD46: =BB46&"."&BC46 -> .
G47: # | M47: =IF(AND(ISBLANK(H47),ISBLANK(I47),ISBLANK(J47),ISBLANK(K47),ISBLANK(L47)),"",SUM(J47:L47)) | N47: =IF(AND(ISBLANK(H47),ISBLANK(I47),ISBLANK(J47),ISBLANK(K47),ISBLANK(L47)),"",SUM(K47:L47)) | O47: =IFERROR(SUM(H47:L47)/E47,"") | P47: =IFERROR(((80*J47)+(100*K47)+(150*L47))/SUM(H47:L47),"") | V47: =IF(AND(ISBLANK(Q47),ISBLANK(R47),ISBLANK(S47),ISBLANK(T47),ISBLANK(U47)),"",SUM(S47:U47)) | W47: =IF(AND(ISBLANK(Q47),ISBLANK(R47),ISBLANK(S47),ISBLANK(T47),ISBLANK(U47)),"",SUM(T47:U47)) | X47: =IFERROR(SUM(Q47:U47)/$E47,"") | Y47: =IFERROR(((80*S47)+(100*T47)+(150*U47))/SUM(Q47:U47),"") | AE47: =IF(AND(ISBLANK(Z47),ISBLANK(AA47),ISBLANK(AB47),ISBLANK(AC47),ISBLANK(AD47)),"",SUM(AB47:AD47)) | AF47: =IF(AND(ISBLANK(Z47),ISBLANK(AA47),ISBLANK(AB47),ISBLANK(AC47),ISBLANK(AD47)),"",SUM(AC47:AD47)) | AG47: =IFERROR(SUM(Z47:AD47)/$E47,"") | AH47: =IFERROR(((80*AB47)+(100*AC47)+(150*AD47))/SUM(Z47:AD47),"") | AN47: =IF(AND(ISBLANK(AI47),ISBLANK(AJ47),ISBLANK(AK47),ISBLANK(AL47),ISBLANK(AM47)),"",SUM(AK47:AM47)) | AO47: =IF(AND(ISBLANK(AI47),ISBLANK(AJ47),ISBLANK(AK47),ISBLANK(AL47),ISBLANK(AM47)),"",SUM(AL47:AM47)) | AP47: =IFERROR(SUM(AI47:AM47)/$E47,"") | AQ47: =IFERROR(((80*AK47)+(100*AL47)+(150*AM47))/SUM(AI47:AM47),"") | AR47: =IFERROR(AVERAGE(Y47,AH47,AQ47),"") | AS47: =IF(OR(P47="",AR47=""),"",AR47-P47) | AY47: =IF(AND(ISBLANK(AT47),ISBLANK(AU47),ISBLANK(AV47),ISBLANK(AW47),ISBLANK(AX47)),"",SUM(AV47:AX47)) | AZ47: =IF(AND(ISBLANK(AT47),ISBLANK(AU47),ISBLANK(AV47),ISBLANK(AW47),ISBLANK(AX47)),"",SUM(AW47:AX47)) | BA47: =IFERROR(((80*AV47)+(100*AW47)+(150*AX47))/SUM(AT47:AX47),"") | BB47: =B47 -> 0 | BC47: =C47 -> 0 | BD47: =BB47&"."&BC47 -> 0.0 | BE47: =D47 -> 0 | BF47: =H47 -> 0 | BG47: =I47 -> 0 | BH47: =J47 -> 0 | BI47: =K47 -> 0 | BJ47: =L47 -> 0 | BK47: =M47 | BL47: =N47 | BM47: =P47 | BN47: =Q47 -> 0 | BO47: =R47 -> 0 | BP47: =S47 -> 0 | BQ47: =T47 -> 0 | BR47: =U47 -> 0 | BS47: =V47 | BT47: =W47 | BU47: =Y47 | BV47: =Z47 -> 0 | BW47: =AA47 -> 0 | BX47: =AB47 -> 0 | BY47: =AC47 -> 0 | BZ47: =AD47 -> 0 | CA47: =AE47 | CB47: =AF47 | CC47: =AH47 | CD47: =AI47 -> 0 | CE47: =AJ47 -> 0 | CF47: =AK47 -> 0 | CG47: =AL47 -> 0 | CH47: =AM47 -> 0 | CI47: =AN47 | CJ47: =AO47 | CK47: =AQ47 | CL47: =AT47 -> 0 | CM47: =AU47 -> 0 | CN47: =AV47 -> 0 | CO47: =AW47 -> 0 | CP47: =AX47 -> 0 | CQ47: =AY47 | CR47: =AZ47 | CS47: =BA47
G48: % | H48: =IFERROR(H47/SUM(H47:L47),"") | I48: =IFERROR(I47/SUM(H47:L47),"") | J48: =IFERROR(J47/SUM(H47:L47),"") | K48: =IFERROR(K47/SUM(H47:L47),"") | L48: =IFERROR(L47/SUM(H47:L47),"") | M48: =IFERROR(M47/SUM(H47:L47),"") | N48: =IFERROR(N47/SUM(H47:L47),"") | Q48: =IFERROR(Q47/SUM(Q47:U47),"") | R48: =IFERROR(R47/SUM(Q47:U47),"") | S48: =IFERROR(S47/SUM(Q47:U47),"") | T48: =IFERROR(T47/SUM(Q47:U47),"") | U48: =IFERROR(U47/SUM(Q47:U47),"") | V48: =IFERROR(V47/SUM(Q47:U47),"") | W48: =IFERROR(W47/SUM(Q47:U47),"") | Z48: =IFERROR(Z47/SUM(Z47:AD47),"") | AA48: =IFERROR(AA47/SUM(Z47:AD47),"") | AB48: =IFERROR(AB47/SUM(Z47:AD47),"") | AC48: =IFERROR(AC47/SUM(Z47:AD47),"") | AD48: =IFERROR(AD47/SUM(Z47:AD47),"") | AE48: =IFERROR(AE47/SUM(Z47:AD47),"") | AF48: =IFERROR(AF47/SUM(Z47:AD47),"") | AI48: =IFERROR(AI47/SUM(AI47:AM47),"") | AJ48: =IFERROR(AJ47/SUM(AI47:AM47),"") | AK48: =IFERROR(AK47/SUM(AI47:AM47),"") | AL48: =IFERROR(AL47/SUM(AI47:AM47),"") | AM48: =IFERROR(AM47/SUM(AI47:AM47),"") | AN48: =IFERROR(AN47/SUM(AI47:AM47),"") | AO48: =IFERROR(AO47/SUM(AI47:AM47),"") | AT48: =IFERROR(AT47/SUM(AT47:AX47),"") | AU48: =IFERROR(AU47/SUM(AT47:AX47),"") | AV48: =IFERROR(AV47/SUM(AT47:AX47),"") | AW48: =IFERROR(AW47/SUM(AT47:AX47),"") | AX48: =IFERROR(AX47/SUM(AT47:AX47),"") | AY48: =IFERROR(AY47/SUM(AT47:AX47),"") | AZ48: =IFERROR(AZ47/SUM(AT47:AX47),"") | BD48: =BB48&"."&BC48 -> .
G49: # | M49: =IF(AND(ISBLANK(H49),ISBLANK(I49),ISBLANK(J49),ISBLANK(K49),ISBLANK(L49)),"",SUM(J49:L49)) | N49: =IF(AND(ISBLANK(H49),ISBLANK(I49),ISBLANK(J49),ISBLANK(K49),ISBLANK(L49)),"",SUM(K49:L49)) | O49: =IFERROR(SUM(H49:L49)/E49,"") | P49: =IFERROR(((80*J49)+(100*K49)+(150*L49))/SUM(H49:L49),"") | V49: =IF(AND(ISBLANK(Q49),ISBLANK(R49),ISBLANK(S49),ISBLANK(T49),ISBLANK(U49)),"",SUM(S49:U49)) | W49: =IF(AND(ISBLANK(Q49),ISBLANK(R49),ISBLANK(S49),ISBLANK(T49),ISBLANK(U49)),"",SUM(T49:U49)) | X49: =IFERROR(SUM(Q49:U49)/$E49,"") | Y49: =IFERROR(((80*S49)+(100*T49)+(150*U49))/SUM(Q49:U49),"") | AE49: =IF(AND(ISBLANK(Z49),ISBLANK(AA49),ISBLANK(AB49),ISBLANK(AC49),ISBLANK(AD49)),"",SUM(AB49:AD49)) | AF49: =IF(AND(ISBLANK(Z49),ISBLANK(AA49),ISBLANK(AB49),ISBLANK(AC49),ISBLANK(AD49)),"",SUM(AC49:AD49)) | AG49: =IFERROR(SUM(Z49:AD49)/$E49,"") | AH49: =IFERROR(((80*AB49)+(100*AC49)+(150*AD49))/SUM(Z49:AD49),"") | AN49: =IF(AND(ISBLANK(AI49),ISBLANK(AJ49),ISBLANK(AK49),ISBLANK(AL49),ISBLANK(AM49)),"",SUM(AK49:AM49)) | AO49: =IF(AND(ISBLANK(AI49),ISBLANK(AJ49),ISBLANK(AK49),ISBLANK(AL49),ISBLANK(AM49)),"",SUM(AL49:AM49)) | AP49: =IFERROR(SUM(AI49:AM49)/$E49,"") | AQ49: =IFERROR(((80*AK49)+(100*AL49)+(150*AM49))/SUM(AI49:AM49),"") | AR49: =IFERROR(AVERAGE(Y49,AH49,AQ49),"") | AS49: =IF(OR(P49="",AR49=""),"",AR49-P49) | AY49: =IF(AND(ISBLANK(AT49),ISBLANK(AU49),ISBLANK(AV49),ISBLANK(AW49),ISBLANK(AX49)),"",SUM(AV49:AX49)) | AZ49: =IF(AND(ISBLANK(AT49),ISBLANK(AU49),ISBLANK(AV49),ISBLANK(AW49),ISBLANK(AX49)),"",SUM(AW49:AX49)) | BA49: =IFERROR(((80*AV49)+(100*AW49)+(150*AX49))/SUM(AT49:AX49),"") | BB49: =B49 -> 0 | BC49: =C49 -> 0 | BD49: =BB49&"."&BC49 -> 0.0 | BE49: =D49 -> 0 | BF49: =H49 -> 0 | BG49: =I49 -> 0 | BH49: =J49 -> 0 | BI49: =K49 -> 0 | BJ49: =L49 -> 0 | BK49: =M49 | BL49: =N49 | BM49: =P49 | BN49: =Q49 -> 0 | BO49: =R49 -> 0 | BP49: =S49 -> 0 | BQ49: =T49 -> 0 | BR49: =U49 -> 0 | BS49: =V49 | BT49: =W49 | BU49: =Y49 | BV49: =Z49 -> 0 | BW49: =AA49 -> 0 | BX49: =AB49 -> 0 | BY49: =AC49 -> 0 | BZ49: =AD49 -> 0 | CA49: =AE49 | CB49: =AF49 | CC49: =AH49 | CD49: =AI49 -> 0 | CE49: =AJ49 -> 0 | CF49: =AK49 -> 0 | CG49: =AL49 -> 0 | CH49: =AM49 -> 0 | CI49: =AN49 | CJ49: =AO49 | CK49: =AQ49 | CL49: =AT49 -> 0 | CM49: =AU49 -> 0 | CN49: =AV49 -> 0 | CO49: =AW49 -> 0 | CP49: =AX49 -> 0 | CQ49: =AY49 | CR49: =AZ49 | CS49: =BA49
G50: % | H50: =IFERROR(H49/SUM(H49:L49),"") | I50: =IFERROR(I49/SUM(H49:L49),"") | J50: =IFERROR(J49/SUM(H49:L49),"") | K50: =IFERROR(K49/SUM(H49:L49),"") | L50: =IFERROR(L49/SUM(H49:L49),"") | M50: =IFERROR(M49/SUM(H49:L49),"") | N50: =IFERROR(N49/SUM(H49:L49),"") | Q50: =IFERROR(Q49/SUM(Q49:U49),"") | R50: =IFERROR(R49/SUM(Q49:U49),"") | S50: =IFERROR(S49/SUM(Q49:U49),"") | T50: =IFERROR(T49/SUM(Q49:U49),"") | U50: =IFERROR(U49/SUM(Q49:U49),"") | V50: =IFERROR(V49/SUM(Q49:U49),"") | W50: =IFERROR(W49/SUM(Q49:U49),"") | Z50: =IFERROR(Z49/SUM(Z49:AD49),"") | AA50: =IFERROR(AA49/SUM(Z49:AD49),"") | AB50: =IFERROR(AB49/SUM(Z49:AD49),"") | AC50: =IFERROR(AC49/SUM(Z49:AD49),"") | AD50: =IFERROR(AD49/SUM(Z49:AD49),"") | AE50: =IFERROR(AE49/SUM(Z49:AD49),"") | AF50: =IFERROR(AF49/SUM(Z49:AD49),"") | AI50: =IFERROR(AI49/SUM(AI49:AM49),"") | AJ50: =IFERROR(AJ49/SUM(AI49:AM49),"") | AK50: =IFERROR(AK49/SUM(AI49:AM49),"") | AL50: =IFERROR(AL49/SUM(AI49:AM49),"") | AM50: =IFERROR(AM49/SUM(AI49:AM49),"") | AN50: =IFERROR(AN49/SUM(AI49:AM49),"") | AO50: =IFERROR(AO49/SUM(AI49:AM49),"") | AT50: =IFERROR(AT49/SUM(AT49:AX49),"") | AU50: =IFERROR(AU49/SUM(AT49:AX49),"") | AV50: =IFERROR(AV49/SUM(AT49:AX49),"") | AW50: =IFERROR(AW49/SUM(AT49:AX49),"") | AX50: =IFERROR(AX49/SUM(AT49:AX49),"") | AY50: =IFERROR(AY49/SUM(AT49:AX49),"") | AZ50: =IFERROR(AZ49/SUM(AT49:AX49),"") | BD50: =BB50&"."&BC50 -> .
G51: # | M51: =IF(AND(ISBLANK(H51),ISBLANK(I51),ISBLANK(J51),ISBLANK(K51),ISBLANK(L51)),"",SUM(J51:L51)) | N51: =IF(AND(ISBLANK(H51),ISBLANK(I51),ISBLANK(J51),ISBLANK(K51),ISBLANK(L51)),"",SUM(K51:L51)) | O51: =IFERROR(SUM(H51:L51)/E51,"") | P51: =IFERROR(((80*J51)+(100*K51)+(150*L51))/SUM(H51:L51),"") | V51: =IF(AND(ISBLANK(Q51),ISBLANK(R51),ISBLANK(S51),ISBLANK(T51),ISBLANK(U51)),"",SUM(S51:U51)) | W51: =IF(AND(ISBLANK(Q51),ISBLANK(R51),ISBLANK(S51),ISBLANK(T51),ISBLANK(U51)),"",SUM(T51:U51)) | X51: =IFERROR(SUM(Q51:U51)/$E51,"") | Y51: =IFERROR(((80*S51)+(100*T51)+(150*U51))/SUM(Q51:U51),"") | AE51: =IF(AND(ISBLANK(Z51),ISBLANK(AA51),ISBLANK(AB51),ISBLANK(AC51),ISBLANK(AD51)),"",SUM(AB51:AD51)) | AF51: =IF(AND(ISBLANK(Z51),ISBLANK(AA51),ISBLANK(AB51),ISBLANK(AC51),ISBLANK(AD51)),"",SUM(AC51:AD51)) | AG51: =IFERROR(SUM(Z51:AD51)/$E51,"") | AH51: =IFERROR(((80*AB51)+(100*AC51)+(150*AD51))/SUM(Z51:AD51),"") | AN51: =IF(AND(ISBLANK(AI51),ISBLANK(AJ51),ISBLANK(AK51),ISBLANK(AL51),ISBLANK(AM51)),"",SUM(AK51:AM51)) | AO51: =IF(AND(ISBLANK(AI51),ISBLANK(AJ51),ISBLANK(AK51),ISBLANK(AL51),ISBLANK(AM51)),"",SUM(AL51:AM51)) | AP51: =IFERROR(SUM(AI51:AM51)/$E51,"") | AQ51: =IFERROR(((80*AK51)+(100*AL51)+(150*AM51))/SUM(AI51:AM51),"") | AR51: =IFERROR(AVERAGE(Y51,AH51,AQ51),"") | AS51: =IF(OR(P51="",AR51=""),"",AR51-P51) | AY51: =IF(AND(ISBLANK(AT51),ISBLANK(AU51),ISBLANK(AV51),ISBLANK(AW51),ISBLANK(AX51)),"",SUM(AV51:AX51)) | AZ51: =IF(AND(ISBLANK(AT51),ISBLANK(AU51),ISBLANK(AV51),ISBLANK(AW51),ISBLANK(AX51)),"",SUM(AW51:AX51)) | BA51: =IFERROR(((80*AV51)+(100*AW51)+(150*AX51))/SUM(AT51:AX51),"") | BB51: =B51 -> 0 | BC51: =C51 -> 0 | BD51: =BB51&"."&BC51 -> 0.0 | BE51: =D51 -> 0 | BF51: =H51 -> 0 | BG51: =I51 -> 0 | BH51: =J51 -> 0 | BI51: =K51 -> 0 | BJ51: =L51 -> 0 | BK51: =M51 | BL51: =N51 | BM51: =P51 | BN51: =Q51 -> 0 | BO51: =R51 -> 0 | BP51: =S51 -> 0 | BQ51: =T51 -> 0 | BR51: =U51 -> 0 | BS51: =V51 | BT51: =W51 | BU51: =Y51 | BV51: =Z51 -> 0 | BW51: =AA51 -> 0 | BX51: =AB51 -> 0 | BY51: =AC51 -> 0 | BZ51: =AD51 -> 0 | CA51: =AE51 | CB51: =AF51 | CC51: =AH51 | CD51: =AI51 -> 0 | CE51: =AJ51 -> 0 | CF51: =AK51 -> 0 | CG51: =AL51 -> 0 | CH51: =AM51 -> 0 | CI51: =AN51 | CJ51: =AO51 | CK51: =AQ51 | CL51: =AT51 -> 0 | CM51: =AU51 -> 0 | CN51: =AV51 -> 0 | CO51: =AW51 -> 0 | CP51: =AX51 -> 0 | CQ51: =AY51 | CR51: =AZ51 | CS51: =BA51
G52: % | H52: =IFERROR(H51/SUM(H51:L51),"") | I52: =IFERROR(I51/SUM(H51:L51),"") | J52: =IFERROR(J51/SUM(H51:L51),"") | K52: =IFERROR(K51/SUM(H51:L51),"") | L52: =IFERROR(L51/SUM(H51:L51),"") | M52: =IFERROR(M51/SUM(H51:L51),"") | N52: =IFERROR(N51/SUM(H51:L51),"") | Q52: =IFERROR(Q51/SUM(Q51:U51),"") | R52: =IFERROR(R51/SUM(Q51:U51),"") | S52: =IFERROR(S51/SUM(Q51:U51),"") | T52: =IFERROR(T51/SUM(Q51:U51),"") | U52: =IFERROR(U51/SUM(Q51:U51),"") | V52: =IFERROR(V51/SUM(Q51:U51),"") | W52: =IFERROR(W51/SUM(Q51:U51),"") | Z52: =IFERROR(Z51/SUM(Z51:AD51),"") | AA52: =IFERROR(AA51/SUM(Z51:AD51),"") | AB52: =IFERROR(AB51/SUM(Z51:AD51),"") | AC52: =IFERROR(AC51/SUM(Z51:AD51),"") | AD52: =IFERROR(AD51/SUM(Z51:AD51),"") | AE52: =IFERROR(AE51/SUM(Z51:AD51),"") | AF52: =IFERROR(AF51/SUM(Z51:AD51),"") | AI52: =IFERROR(AI51/SUM(AI51:AM51),"") | AJ52: =IFERROR(AJ51/SUM(AI51:AM51),"") | AK52: =IFERROR(AK51/SUM(AI51:AM51),"") | AL52: =IFERROR(AL51/SUM(AI51:AM51),"") | AM52: =IFERROR(AM51/SUM(AI51:AM51),"") | AN52: =IFERROR(AN51/SUM(AI51:AM51),"") | AO52: =IFERROR(AO51/SUM(AI51:AM51),"") | AT52: =IFERROR(AT51/SUM(AT51:AX51),"") | AU52: =IFERROR(AU51/SUM(AT51:AX51),"") | AV52: =IFERROR(AV51/SUM(AT51:AX51),"") | AW52: =IFERROR(AW51/SUM(AT51:AX51),"") | AX52: =IFERROR(AX51/SUM(AT51:AX51),"") | AY52: =IFERROR(AY51/SUM(AT51:AX51),"") | AZ52: =IFERROR(AZ51/SUM(AT51:AX51),"") | BD52: =BB52&"."&BC52 -> .
G53: # | M53: =IF(AND(ISBLANK(H53),ISBLANK(I53),ISBLANK(J53),ISBLANK(K53),ISBLANK(L53)),"",SUM(J53:L53)) | N53: =IF(AND(ISBLANK(H53),ISBLANK(I53),ISBLANK(J53),ISBLANK(K53),ISBLANK(L53)),"",SUM(K53:L53)) | O53: =IFERROR(SUM(H53:L53)/E53,"") | P53: =IFERROR(((80*J53)+(100*K53)+(150*L53))/SUM(H53:L53),"") | V53: =IF(AND(ISBLANK(Q53),ISBLANK(R53),ISBLANK(S53),ISBLANK(T53),ISBLANK(U53)),"",SUM(S53:U53)) | W53: =IF(AND(ISBLANK(Q53),ISBLANK(R53),ISBLANK(S53),ISBLANK(T53),ISBLANK(U53)),"",SUM(T53:U53)) | X53: =IFERROR(SUM(Q53:U53)/$E53,"") | Y53: =IFERROR(((80*S53)+(100*T53)+(150*U53))/SUM(Q53:U53),"") | AE53: =IF(AND(ISBLANK(Z53),ISBLANK(AA53),ISBLANK(AB53),ISBLANK(AC53),ISBLANK(AD53)),"",SUM(AB53:AD53)) | AF53: =IF(AND(ISBLANK(Z53),ISBLANK(AA53),ISBLANK(AB53),ISBLANK(AC53),ISBLANK(AD53)),"",SUM(AC53:AD53)) | AG53: =IFERROR(SUM(Z53:AD53)/$E53,"") | AH53: =IFERROR(((80*AB53)+(100*AC53)+(150*AD53))/SUM(Z53:AD53),"") | AN53: =IF(AND(ISBLANK(AI53),ISBLANK(AJ53),ISBLANK(AK53),ISBLANK(AL53),ISBLANK(AM53)),"",SUM(AK53:AM53)) | AO53: =IF(AND(ISBLANK(AI53),ISBLANK(AJ53),ISBLANK(AK53),ISBLANK(AL53),ISBLANK(AM53)),"",SUM(AL53:AM53)) | AP53: =IFERROR(SUM(AI53:AM53)/$E53,"") | AQ53: =IFERROR(((80*AK53)+(100*AL53)+(150*AM53))/SUM(AI53:AM53),"") | AR53: =IFERROR(AVERAGE(Y53,AH53,AQ53),"") | AS53: =IF(OR(P53="",AR53=""),"",AR53-P53) | AY53: =IF(AND(ISBLANK(AT53),ISBLANK(AU53),ISBLANK(AV53),ISBLANK(AW53),ISBLANK(AX53)),"",SUM(AV53:AX53)) | AZ53: =IF(AND(ISBLANK(AT53),ISBLANK(AU53),ISBLANK(AV53),ISBLANK(AW53),ISBLANK(AX53)),"",SUM(AW53:AX53)) | BA53: =IFERROR(((80*AV53)+(100*AW53)+(150*AX53))/SUM(AT53:AX53),"") | BB53: =B53 -> 0 | BC53: =C53 -> 0 | BD53: =BB53&"."&BC53 -> 0.0 | BE53: =D53 -> 0 | BF53: =H53 -> 0 | BG53: =I53 -> 0 | BH53: =J53 -> 0 | BI53: =K53 -> 0 | BJ53: =L53 -> 0 | BK53: =M53 | BL53: =N53 | BM53: =P53 | BN53: =Q53 -> 0 | BO53: =R53 -> 0 | BP53: =S53 -> 0 | BQ53: =T53 -> 0 | BR53: =U53 -> 0 | BS53: =V53 | BT53: =W53 | BU53: =Y53 | BV53: =Z53 -> 0 | BW53: =AA53 -> 0 | BX53: =AB53 -> 0 | BY53: =AC53 -> 0 | BZ53: =AD53 -> 0 | CA53: =AE53 | CB53: =AF53 | CC53: =AH53 | CD53: =AI53 -> 0 | CE53: =AJ53 -> 0 | CF53: =AK53 -> 0 | CG53: =AL53 -> 0 | CH53: =AM53 -> 0 | CI53: =AN53 | CJ53: =AO53 | CK53: =AQ53 | CL53: =AT53 -> 0 | CM53: =AU53 -> 0 | CN53: =AV53 -> 0 | CO53: =AW53 -> 0 | CP53: =AX53 -> 0 | CQ53: =AY53 | CR53: =AZ53 | CS53: =BA53
G54: % | H54: =IFERROR(H53/SUM(H53:L53),"") | I54: =IFERROR(I53/SUM(H53:L53),"") | J54: =IFERROR(J53/SUM(H53:L53),"") | K54: =IFERROR(K53/SUM(H53:L53),"") | L54: =IFERROR(L53/SUM(H53:L53),"") | M54: =IFERROR(M53/SUM(H53:L53),"") | N54: =IFERROR(N53/SUM(H53:L53),"") | Q54: =IFERROR(Q53/SUM(Q53:U53),"") | R54: =IFERROR(R53/SUM(Q53:U53),"") | S54: =IFERROR(S53/SUM(Q53:U53),"") | T54: =IFERROR(T53/SUM(Q53:U53),"") | U54: =IFERROR(U53/SUM(Q53:U53),"") | V54: =IFERROR(V53/SUM(Q53:U53),"") | W54: =IFERROR(W53/SUM(Q53:U53),"") | Z54: =IFERROR(Z53/SUM(Z53:AD53),"") | AA54: =IFERROR(AA53/SUM(Z53:AD53),"") | AB54: =IFERROR(AB53/SUM(Z53:AD53),"") | AC54: =IFERROR(AC53/SUM(Z53:AD53),"") | AD54: =IFERROR(AD53/SUM(Z53:AD53),"") | AE54: =IFERROR(AE53/SUM(Z53:AD53),"") | AF54: =IFERROR(AF53/SUM(Z53:AD53),"") | AI54: =IFERROR(AI53/SUM(AI53:AM53),"") | AJ54: =IFERROR(AJ53/SUM(AI53:AM53),"") | AK54: =IFERROR(AK53/SUM(AI53:AM53),"") | AL54: =IFERROR(AL53/SUM(AI53:AM53),"") | AM54: =IFERROR(AM53/SUM(AI53:AM53),"") | AN54: =IFERROR(AN53/SUM(AI53:AM53),"") | AO54: =IFERROR(AO53/SUM(AI53:AM53),"") | AT54: =IFERROR(AT53/SUM(AT53:AX53),"") | AU54: =IFERROR(AU53/SUM(AT53:AX53),"") | AV54: =IFERROR(AV53/SUM(AT53:AX53),"") | AW54: =IFERROR(AW53/SUM(AT53:AX53),"") | AX54: =IFERROR(AX53/SUM(AT53:AX53),"") | AY54: =IFERROR(AY53/SUM(AT53:AX53),"") | AZ54: =IFERROR(AZ53/SUM(AT53:AX53),"") | BD54: =BB54&"."&BC54 -> .
G55: # | M55: =IF(AND(ISBLANK(H55),ISBLANK(I55),ISBLANK(J55),ISBLANK(K55),ISBLANK(L55)),"",SUM(J55:L55)) | N55: =IF(AND(ISBLANK(H55),ISBLANK(I55),ISBLANK(J55),ISBLANK(K55),ISBLANK(L55)),"",SUM(K55:L55)) | O55: =IFERROR(SUM(H55:L55)/E55,"") | P55: =IFERROR(((80*J55)+(100*K55)+(150*L55))/SUM(H55:L55),"") | V55: =IF(AND(ISBLANK(Q55),ISBLANK(R55),ISBLANK(S55),ISBLANK(T55),ISBLANK(U55)),"",SUM(S55:U55)) | W55: =IF(AND(ISBLANK(Q55),ISBLANK(R55),ISBLANK(S55),ISBLANK(T55),ISBLANK(U55)),"",SUM(T55:U55)) | X55: =IFERROR(SUM(Q55:U55)/$E55,"") | Y55: =IFERROR(((80*S55)+(100*T55)+(150*U55))/SUM(Q55:U55),"") | AE55: =IF(AND(ISBLANK(Z55),ISBLANK(AA55),ISBLANK(AB55),ISBLANK(AC55),ISBLANK(AD55)),"",SUM(AB55:AD55)) | AF55: =IF(AND(ISBLANK(Z55),ISBLANK(AA55),ISBLANK(AB55),ISBLANK(AC55),ISBLANK(AD55)),"",SUM(AC55:AD55)) | AG55: =IFERROR(SUM(Z55:AD55)/$E55,"") | AH55: =IFERROR(((80*AB55)+(100*AC55)+(150*AD55))/SUM(Z55:AD55),"") | AN55: =IF(AND(ISBLANK(AI55),ISBLANK(AJ55),ISBLANK(AK55),ISBLANK(AL55),ISBLANK(AM55)),"",SUM(AK55:AM55)) | AO55: =IF(AND(ISBLANK(AI55),ISBLANK(AJ55),ISBLANK(AK55),ISBLANK(AL55),ISBLANK(AM55)),"",SUM(AL55:AM55)) | AP55: =IFERROR(SUM(AI55:AM55)/$E55,"") | AQ55: =IFERROR(((80*AK55)+(100*AL55)+(150*AM55))/SUM(AI55:AM55),"") | AR55: =IFERROR(AVERAGE(Y55,AH55,AQ55),"") | AS55: =IF(OR(P55="",AR55=""),"",AR55-P55) | AY55: =IF(AND(ISBLANK(AT55),ISBLANK(AU55),ISBLANK(AV55),ISBLANK(AW55),ISBLANK(AX55)),"",SUM(AV55:AX55)) | AZ55: =IF(AND(ISBLANK(AT55),ISBLANK(AU55),ISBLANK(AV55),ISBLANK(AW55),ISBLANK(AX55)),"",SUM(AW55:AX55)) | BA55: =IFERROR(((80*AV55)+(100*AW55)+(150*AX55))/SUM(AT55:AX55),"") | BB55: =B55 -> 0 | BC55: =C55 -> 0 | BD55: =BB55&"."&BC55 -> 0.0 | BE55: =D55 -> 0 | BF55: =H55 -> 0 | BG55: =I55 -> 0 | BH55: =J55 -> 0 | BI55: =K55 -> 0 | BJ55: =L55 -> 0 | BK55: =M55 | BL55: =N55 | BM55: =P55 | BN55: =Q55 -> 0 | BO55: =R55 -> 0 | BP55: =S55 -> 0 | BQ55: =T55 -> 0 | BR55: =U55 -> 0 | BS55: =V55 | BT55: =W55 | BU55: =Y55 | BV55: =Z55 -> 0 | BW55: =AA55 -> 0 | BX55: =AB55 -> 0 | BY55: =AC55 -> 0 | BZ55: =AD55 -> 0 | CA55: =AE55 | CB55: =AF55 | CC55: =AH55 | CD55: =AI55 -> 0 | CE55: =AJ55 -> 0 | CF55: =AK55 -> 0 | CG55: =AL55 -> 0 | CH55: =AM55 -> 0 | CI55: =AN55 | CJ55: =AO55 | CK55: =AQ55 | CL55: =AT55 -> 0 | CM55: =AU55 -> 0 | CN55: =AV55 -> 0 | CO55: =AW55 -> 0 | CP55: =AX55 -> 0 | CQ55: =AY55 | CR55: =AZ55 | CS55: =BA55
G56: % | H56: =IFERROR(H55/SUM(H55:L55),"") | I56: =IFERROR(I55/SUM(H55:L55),"") | J56: =IFERROR(J55/SUM(H55:L55),"") | K56: =IFERROR(K55/SUM(H55:L55),"") | L56: =IFERROR(L55/SUM(H55:L55),"") | M56: =IFERROR(M55/SUM(H55:L55),"") | N56: =IFERROR(N55/SUM(H55:L55),"") | Q56: =IFERROR(Q55/SUM(Q55:U55),"") | R56: =IFERROR(R55/SUM(Q55:U55),"") | S56: =IFERROR(S55/SUM(Q55:U55),"") | T56: =IFERROR(T55/SUM(Q55:U55),"") | U56: =IFERROR(U55/SUM(Q55:U55),"") | V56: =IFERROR(V55/SUM(Q55:U55),"") | W56: =IFERROR(W55/SUM(Q55:U55),"") | Z56: =IFERROR(Z55/SUM(Z55:AD55),"") | AA56: =IFERROR(AA55/SUM(Z55:AD55),"") | AB56: =IFERROR(AB55/SUM(Z55:AD55),"") | AC56: =IFERROR(AC55/SUM(Z55:AD55),"") | AD56: =IFERROR(AD55/SUM(Z55:AD55),"") | AE56: =IFERROR(AE55/SUM(Z55:AD55),"") | AF56: =IFERROR(AF55/SUM(Z55:AD55),"") | AI56: =IFERROR(AI55/SUM(AI55:AM55),"") | AJ56: =IFERROR(AJ55/SUM(AI55:AM55),"") | AK56: =IFERROR(AK55/SUM(AI55:AM55),"") | AL56: =IFERROR(AL55/SUM(AI55:AM55),"") | AM56: =IFERROR(AM55/SUM(AI55:AM55),"") | AN56: =IFERROR(AN55/SUM(AI55:AM55),"") | AO56: =IFERROR(AO55/SUM(AI55:AM55),"") | AT56: =IFERROR(AT55/SUM(AT55:AX55),"") | AU56: =IFERROR(AU55/SUM(AT55:AX55),"") | AV56: =IFERROR(AV55/SUM(AT55:AX55),"") | AW56: =IFERROR(AW55/SUM(AT55:AX55),"") | AX56: =IFERROR(AX55/SUM(AT55:AX55),"") | AY56: =IFERROR(AY55/SUM(AT55:AX55),"") | AZ56: =IFERROR(AZ55/SUM(AT55:AX55),"") | BD56: =BB56&"."&BC56 -> .
G57: # | M57: =IF(AND(ISBLANK(H57),ISBLANK(I57),ISBLANK(J57),ISBLANK(K57),ISBLANK(L57)),"",SUM(J57:L57)) | N57: =IF(AND(ISBLANK(H57),ISBLANK(I57),ISBLANK(J57),ISBLANK(K57),ISBLANK(L57)),"",SUM(K57:L57)) | O57: =IFERROR(SUM(H57:L57)/E57,"") | P57: =IFERROR(((80*J57)+(100*K57)+(150*L57))/SUM(H57:L57),"") | V57: =IF(AND(ISBLANK(Q57),ISBLANK(R57),ISBLANK(S57),ISBLANK(T57),ISBLANK(U57)),"",SUM(S57:U57)) | W57: =IF(AND(ISBLANK(Q57),ISBLANK(R57),ISBLANK(S57),ISBLANK(T57),ISBLANK(U57)),"",SUM(T57:U57)) | X57: =IFERROR(SUM(Q57:U57)/$E57,"") | Y57: =IFERROR(((80*S57)+(100*T57)+(150*U57))/SUM(Q57:U57),"") | AE57: =IF(AND(ISBLANK(Z57),ISBLANK(AA57),ISBLANK(AB57),ISBLANK(AC57),ISBLANK(AD57)),"",SUM(AB57:AD57)) | AF57: =IF(AND(ISBLANK(Z57),ISBLANK(AA57),ISBLANK(AB57),ISBLANK(AC57),ISBLANK(AD57)),"",SUM(AC57:AD57)) | AG57: =IFERROR(SUM(Z57:AD57)/$E57,"") | AH57: =IFERROR(((80*AB57)+(100*AC57)+(150*AD57))/SUM(Z57:AD57),"") | AN57: =IF(AND(ISBLANK(AI57),ISBLANK(AJ57),ISBLANK(AK57),ISBLANK(AL57),ISBLANK(AM57)),"",SUM(AK57:AM57)) | AO57: =IF(AND(ISBLANK(AI57),ISBLANK(AJ57),ISBLANK(AK57),ISBLANK(AL57),ISBLANK(AM57)),"",SUM(AL57:AM57)) | AP57: =IFERROR(SUM(AI57:AM57)/$E57,"") | AQ57: =IFERROR(((80*AK57)+(100*AL57)+(150*AM57))/SUM(AI57:AM57),"") | AR57: =IFERROR(AVERAGE(Y57,AH57,AQ57),"") | AS57: =IF(OR(P57="",AR57=""),"",AR57-P57) | AY57: =IF(AND(ISBLANK(AT57),ISBLANK(AU57),ISBLANK(AV57),ISBLANK(AW57),ISBLANK(AX57)),"",SUM(AV57:AX57)) | AZ57: =IF(AND(ISBLANK(AT57),ISBLANK(AU57),ISBLANK(AV57),ISBLANK(AW57),ISBLANK(AX57)),"",SUM(AW57:AX57)) | BA57: =IFERROR(((80*AV57)+(100*AW57)+(150*AX57))/SUM(AT57:AX57),"") | BB57: =B57 -> 0 | BC57: =C57 -> 0 | BD57: =BB57&"."&BC57 -> 0.0 | BE57: =D57 -> 0 | BF57: =H57 -> 0 | BG57: =I57 -> 0 | BH57: =J57 -> 0 | BI57: =K57 -> 0 | BJ57: =L57 -> 0 | BK57: =M57 | BL57: =N57 | BM57: =P57 | BN57: =Q57 -> 0 | BO57: =R57 -> 0 | BP57: =S57 -> 0 | BQ57: =T57 -> 0 | BR57: =U57 -> 0 | BS57: =V57 | BT57: =W57 | BU57: =Y57 | BV57: =Z57 -> 0 | BW57: =AA57 -> 0 | BX57: =AB57 -> 0 | BY57: =AC57 -> 0 | BZ57: =AD57 -> 0 | CA57: =AE57 | CB57: =AF57 | CC57: =AH57 | CD57: =AI57 -> 0 | CE57: =AJ57 -> 0 | CF57: =AK57 -> 0 | CG57: =AL57 -> 0 | CH57: =AM57 -> 0 | CI57: =AN57 | CJ57: =AO57 | CK57: =AQ57 | CL57: =AT57 -> 0 | CM57: =AU57 -> 0 | CN57: =AV57 -> 0 | CO57: =AW57 -> 0 | CP57: =AX57 -> 0 | CQ57: =AY57 | CR57: =AZ57 | CS57: =BA57
G58: % | H58: =IFERROR(H57/SUM(H57:L57),"") | I58: =IFERROR(I57/SUM(H57:L57),"") | J58: =IFERROR(J57/SUM(H57:L57),"") | K58: =IFERROR(K57/SUM(H57:L57),"") | L58: =IFERROR(L57/SUM(H57:L57),"") | M58: =IFERROR(M57/SUM(H57:L57),"") | N58: =IFERROR(N57/SUM(H57:L57),"") | Q58: =IFERROR(Q57/SUM(Q57:U57),"") | R58: =IFERROR(R57/SUM(Q57:U57),"") | S58: =IFERROR(S57/SUM(Q57:U57),"") | T58: =IFERROR(T57/SUM(Q57:U57),"") | U58: =IFERROR(U57/SUM(Q57:U57),"") | V58: =IFERROR(V57/SUM(Q57:U57),"") | W58: =IFERROR(W57/SUM(Q57:U57),"") | Z58: =IFERROR(Z57/SUM(Z57:AD57),"") | AA58: =IFERROR(AA57/SUM(Z57:AD57),"") | AB58: =IFERROR(AB57/SUM(Z57:AD57),"") | AC58: =IFERROR(AC57/SUM(Z57:AD57),"") | AD58: =IFERROR(AD57/SUM(Z57:AD57),"") | AE58: =IFERROR(AE57/SUM(Z57:AD57),"") | AF58: =IFERROR(AF57/SUM(Z57:AD57),"") | AI58: =IFERROR(AI57/SUM(AI57:AM57),"") | AJ58: =IFERROR(AJ57/SUM(AI57:AM57),"") | AK58: =IFERROR(AK57/SUM(AI57:AM57),"") | AL58: =IFERROR(AL57/SUM(AI57:AM57),"") | AM58: =IFERROR(AM57/SUM(AI57:AM57),"") | AN58: =IFERROR(AN57/SUM(AI57:AM57),"") | AO58: =IFERROR(AO57/SUM(AI57:AM57),"") | AT58: =IFERROR(AT57/SUM(AT57:AX57),"") | AU58: =IFERROR(AU57/SUM(AT57:AX57),"") | AV58: =IFERROR(AV57/SUM(AT57:AX57),"") | AW58: =IFERROR(AW57/SUM(AT57:AX57),"") | AX58: =IFERROR(AX57/SUM(AT57:AX57),"") | AY58: =IFERROR(AY57/SUM(AT57:AX57),"") | AZ58: =IFERROR(AZ57/SUM(AT57:AX57),"") | BD58: =BB58&"."&BC58 -> .
G59: # | M59: =IF(AND(ISBLANK(H59),ISBLANK(I59),ISBLANK(J59),ISBLANK(K59),ISBLANK(L59)),"",SUM(J59:L59)) | N59: =IF(AND(ISBLANK(H59),ISBLANK(I59),ISBLANK(J59),ISBLANK(K59),ISBLANK(L59)),"",SUM(K59:L59)) | O59: =IFERROR(SUM(H59:L59)/E59,"") | P59: =IFERROR(((80*J59)+(100*K59)+(150*L59))/SUM(H59:L59),"") | V59: =IF(AND(ISBLANK(Q59),ISBLANK(R59),ISBLANK(S59),ISBLANK(T59),ISBLANK(U59)),"",SUM(S59:U59)) | W59: =IF(AND(ISBLANK(Q59),ISBLANK(R59),ISBLANK(S59),ISBLANK(T59),ISBLANK(U59)),"",SUM(T59:U59)) | X59: =IFERROR(SUM(Q59:U59)/$E59,"") | Y59: =IFERROR(((80*S59)+(100*T59)+(150*U59))/SUM(Q59:U59),"") | AE59: =IF(AND(ISBLANK(Z59),ISBLANK(AA59),ISBLANK(AB59),ISBLANK(AC59),ISBLANK(AD59)),"",SUM(AB59:AD59)) | AF59: =IF(AND(ISBLANK(Z59),ISBLANK(AA59),ISBLANK(AB59),ISBLANK(AC59),ISBLANK(AD59)),"",SUM(AC59:AD59)) | AG59: =IFERROR(SUM(Z59:AD59)/$E59,"") | AH59: =IFERROR(((80*AB59)+(100*AC59)+(150*AD59))/SUM(Z59:AD59),"") | AN59: =IF(AND(ISBLANK(AI59),ISBLANK(AJ59),ISBLANK(AK59),ISBLANK(AL59),ISBLANK(AM59)),"",SUM(AK59:AM59)) | AO59: =IF(AND(ISBLANK(AI59),ISBLANK(AJ59),ISBLANK(AK59),ISBLANK(AL59),ISBLANK(AM59)),"",SUM(AL59:AM59)) | AP59: =IFERROR(SUM(AI59:AM59)/$E59,"") | AQ59: =IFERROR(((80*AK59)+(100*AL59)+(150*AM59))/SUM(AI59:AM59),"") | AR59: =IFERROR(AVERAGE(Y59,AH59,AQ59),"") | AS59: =IF(OR(P59="",AR59=""),"",AR59-P59) | AY59: =IF(AND(ISBLANK(AT59),ISBLANK(AU59),ISBLANK(AV59),ISBLANK(AW59),ISBLANK(AX59)),"",SUM(AV59:AX59)) | AZ59: =IF(AND(ISBLANK(AT59),ISBLANK(AU59),ISBLANK(AV59),ISBLANK(AW59),ISBLANK(AX59)),"",SUM(AW59:AX59)) | BA59: =IFERROR(((80*AV59)+(100*AW59)+(150*AX59))/SUM(AT59:AX59),"") | BB59: =B59 -> 0 | BC59: =C59 -> 0 | BD59: =BB59&"."&BC59 -> 0.0 | BE59: =D59 -> 0 | BF59: =H59 -> 0 | BG59: =I59 -> 0 | BH59: =J59 -> 0 | BI59: =K59 -> 0 | BJ59: =L59 -> 0 | BK59: =M59 | BL59: =N59 | BM59: =P59 | BN59: =Q59 -> 0 | BO59: =R59 -> 0 | BP59: =S59 -> 0 | BQ59: =T59 -> 0 | BR59: =U59 -> 0 | BS59: =V59 | BT59: =W59 | BU59: =Y59 | BV59: =Z59 -> 0 | BW59: =AA59 -> 0 | BX59: =AB59 -> 0 | BY59: =AC59 -> 0 | BZ59: =AD59 -> 0 | CA59: =AE59 | CB59: =AF59 | CC59: =AH59 | CD59: =AI59 -> 0 | CE59: =AJ59 -> 0 | CF59: =AK59 -> 0 | CG59: =AL59 -> 0 | CH59: =AM59 -> 0 | CI59: =AN59 | CJ59: =AO59 | CK59: =AQ59 | CL59: =AT59 -> 0 | CM59: =AU59 -> 0 | CN59: =AV59 -> 0 | CO59: =AW59 -> 0 | CP59: =AX59 -> 0 | CQ59: =AY59 | CR59: =AZ59 | CS59: =BA59
G60: % | H60: =IFERROR(H59/SUM(H59:L59),"") | I60: =IFERROR(I59/SUM(H59:L59),"") | J60: =IFERROR(J59/SUM(H59:L59),"") | K60: =IFERROR(K59/SUM(H59:L59),"") | L60: =IFERROR(L59/SUM(H59:L59),"") | M60: =IFERROR(M59/SUM(H59:L59),"") | N60: =IFERROR(N59/SUM(H59:L59),"") | Q60: =IFERROR(Q59/SUM(Q59:U59),"") | R60: =IFERROR(R59/SUM(Q59:U59),"") | S60: =IFERROR(S59/SUM(Q59:U59),"") | T60: =IFERROR(T59/SUM(Q59:U59),"") | U60: =IFERROR(U59/SUM(Q59:U59),"") | V60: =IFERROR(V59/SUM(Q59:U59),"") | W60: =IFERROR(W59/SUM(Q59:U59),"") | Z60: =IFERROR(Z59/SUM(Z59:AD59),"") | AA60: =IFERROR(AA59/SUM(Z59:AD59),"") | AB60: =IFERROR(AB59/SUM(Z59:AD59),"") | AC60: =IFERROR(AC59/SUM(Z59:AD59),"") | AD60: =IFERROR(AD59/SUM(Z59:AD59),"") | AE60: =IFERROR(AE59/SUM(Z59:AD59),"") | AF60: =IFERROR(AF59/SUM(Z59:AD59),"") | AI60: =IFERROR(AI59/SUM(AI59:AM59),"") | AJ60: =IFERROR(AJ59/SUM(AI59:AM59),"") | AK60: =IFERROR(AK59/SUM(AI59:AM59),"") | AL60: =IFERROR(AL59/SUM(AI59:AM59),"") | AM60: =IFERROR(AM59/SUM(AI59:AM59),"") | AN60: =IFERROR(AN59/SUM(AI59:AM59),"") | AO60: =IFERROR(AO59/SUM(AI59:AM59),"") | AT60: =IFERROR(AT59/SUM(AT59:AX59),"") | AU60: =IFERROR(AU59/SUM(AT59:AX59),"") | AV60: =IFERROR(AV59/SUM(AT59:AX59),"") | AW60: =IFERROR(AW59/SUM(AT59:AX59),"") | AX60: =IFERROR(AX59/SUM(AT59:AX59),"") | AY60: =IFERROR(AY59/SUM(AT59:AX59),"") | AZ60: =IFERROR(AZ59/SUM(AT59:AX59),"") | BD60: =BB60&"."&BC60 -> .
G61: # | M61: =IF(AND(ISBLANK(H61),ISBLANK(I61),ISBLANK(J61),ISBLANK(K61),ISBLANK(L61)),"",SUM(J61:L61)) | N61: =IF(AND(ISBLANK(H61),ISBLANK(I61),ISBLANK(J61),ISBLANK(K61),ISBLANK(L61)),"",SUM(K61:L61)) | O61: =IFERROR(SUM(H61:L61)/E61,"") | P61: =IFERROR(((80*J61)+(100*K61)+(150*L61))/SUM(H61:L61),"") | V61: =IF(AND(ISBLANK(Q61),ISBLANK(R61),ISBLANK(S61),ISBLANK(T61),ISBLANK(U61)),"",SUM(S61:U61)) | W61: =IF(AND(ISBLANK(Q61),ISBLANK(R61),ISBLANK(S61),ISBLANK(T61),ISBLANK(U61)),"",SUM(T61:U61)) | X61: =IFERROR(SUM(Q61:U61)/$E61,"") | Y61: =IFERROR(((80*S61)+(100*T61)+(150*U61))/SUM(Q61:U61),"") | AE61: =IF(AND(ISBLANK(Z61),ISBLANK(AA61),ISBLANK(AB61),ISBLANK(AC61),ISBLANK(AD61)),"",SUM(AB61:AD61)) | AF61: =IF(AND(ISBLANK(Z61),ISBLANK(AA61),ISBLANK(AB61),ISBLANK(AC61),ISBLANK(AD61)),"",SUM(AC61:AD61)) | AG61: =IFERROR(SUM(Z61:AD61)/$E61,"") | AH61: =IFERROR(((80*AB61)+(100*AC61)+(150*AD61))/SUM(Z61:AD61),"") | AN61: =IF(AND(ISBLANK(AI61),ISBLANK(AJ61),ISBLANK(AK61),ISBLANK(AL61),ISBLANK(AM61)),"",SUM(AK61:AM61)) | AO61: =IF(AND(ISBLANK(AI61),ISBLANK(AJ61),ISBLANK(AK61),ISBLANK(AL61),ISBLANK(AM61)),"",SUM(AL61:AM61)) | AP61: =IFERROR(SUM(AI61:AM61)/$E61,"") | AQ61: =IFERROR(((80*AK61)+(100*AL61)+(150*AM61))/SUM(AI61:AM61),"") | AR61: =IFERROR(AVERAGE(Y61,AH61,AQ61),"") | AS61: =IF(OR(P61="",AR61=""),"",AR61-P61) | AY61: =IF(AND(ISBLANK(AT61),ISBLANK(AU61),ISBLANK(AV61),ISBLANK(AW61),ISBLANK(AX61)),"",SUM(AV61:AX61)) | AZ61: =IF(AND(ISBLANK(AT61),ISBLANK(AU61),ISBLANK(AV61),ISBLANK(AW61),ISBLANK(AX61)),"",SUM(AW61:AX61)) | BA61: =IFERROR(((80*AV61)+(100*AW61)+(150*AX61))/SUM(AT61:AX61),"") | BB61: =B61 -> 0 | BC61: =C61 -> 0 | BD61: =BB61&"."&BC61 -> 0.0 | BE61: =D61 -> 0 | BF61: =H61 -> 0 | BG61: =I61 -> 0 | BH61: =J61 -> 0 | BI61: =K61 -> 0 | BJ61: =L61 -> 0 | BK61: =M61 | BL61: =N61 | BM61: =P61 | BN61: =Q61 -> 0 | BO61: =R61 -> 0 | BP61: =S61 -> 0 | BQ61: =T61 -> 0 | BR61: =U61 -> 0 | BS61: =V61 | BT61: =W61 | BU61: =Y61 | BV61: =Z61 -> 0 | BW61: =AA61 -> 0 | BX61: =AB61 -> 0 | BY61: =AC61 -> 0 | BZ61: =AD61 -> 0 | CA61: =AE61 | CB61: =AF61 | CC61: =AH61 | CD61: =AI61 -> 0 | CE61: =AJ61 -> 0 | CF61: =AK61 -> 0 | CG61: =AL61 -> 0 | CH61: =AM61 -> 0 | CI61: =AN61 | CJ61: =AO61 | CK61: =AQ61 | CL61: =AT61 -> 0 | CM61: =AU61 -> 0 | CN61: =AV61 -> 0 | CO61: =AW61 -> 0 | CP61: =AX61 -> 0 | CQ61: =AY61 | CR61: =AZ61 | CS61: =BA61
G62: % | H62: =IFERROR(H61/SUM(H61:L61),"") | I62: =IFERROR(I61/SUM(H61:L61),"") | J62: =IFERROR(J61/SUM(H61:L61),"") | K62: =IFERROR(K61/SUM(H61:L61),"") | L62: =IFERROR(L61/SUM(H61:L61),"") | M62: =IFERROR(M61/SUM(H61:L61),"") | N62: =IFERROR(N61/SUM(H61:L61),"") | Q62: =IFERROR(Q61/SUM(Q61:U61),"") | R62: =IFERROR(R61/SUM(Q61:U61),"") | S62: =IFERROR(S61/SUM(Q61:U61),"") | T62: =IFERROR(T61/SUM(Q61:U61),"") | U62: =IFERROR(U61/SUM(Q61:U61),"") | V62: =IFERROR(V61/SUM(Q61:U61),"") | W62: =IFERROR(W61/SUM(Q61:U61),"") | Z62: =IFERROR(Z61/SUM(Z61:AD61),"") | AA62: =IFERROR(AA61/SUM(Z61:AD61),"") | AB62: =IFERROR(AB61/SUM(Z61:AD61),"") | AC62: =IFERROR(AC61/SUM(Z61:AD61),"") | AD62: =IFERROR(AD61/SUM(Z61:AD61),"") | AE62: =IFERROR(AE61/SUM(Z61:AD61),"") | AF62: =IFERROR(AF61/SUM(Z61:AD61),"") | AI62: =IFERROR(AI61/SUM(AI61:AM61),"") | AJ62: =IFERROR(AJ61/SUM(AI61:AM61),"") | AK62: =IFERROR(AK61/SUM(AI61:AM61),"") | AL62: =IFERROR(AL61/SUM(AI61:AM61),"") | AM62: =IFERROR(AM61/SUM(AI61:AM61),"") | AN62: =IFERROR(AN61/SUM(AI61:AM61),"") | AO62: =IFERROR(AO61/SUM(AI61:AM61),"") | AT62: =IFERROR(AT61/SUM(AT61:AX61),"") | AU62: =IFERROR(AU61/SUM(AT61:AX61),"") | AV62: =IFERROR(AV61/SUM(AT61:AX61),"") | AW62: =IFERROR(AW61/SUM(AT61:AX61),"") | AX62: =IFERROR(AX61/SUM(AT61:AX61),"") | AY62: =IFERROR(AY61/SUM(AT61:AX61),"") | AZ62: =IFERROR(AZ61/SUM(AT61:AX61),"") | BD62: =BB62&"."&BC62 -> .
G63: # | M63: =IF(AND(ISBLANK(H63),ISBLANK(I63),ISBLANK(J63),ISBLANK(K63),ISBLANK(L63)),"",SUM(J63:L63)) | N63: =IF(AND(ISBLANK(H63),ISBLANK(I63),ISBLANK(J63),ISBLANK(K63),ISBLANK(L63)),"",SUM(K63:L63)) | O63: =IFERROR(SUM(H63:L63)/E63,"") | P63: =IFERROR(((80*J63)+(100*K63)+(150*L63))/SUM(H63:L63),"") | V63: =IF(AND(ISBLANK(Q63),ISBLANK(R63),ISBLANK(S63),ISBLANK(T63),ISBLANK(U63)),"",SUM(S63:U63)) | W63: =IF(AND(ISBLANK(Q63),ISBLANK(R63),ISBLANK(S63),ISBLANK(T63),ISBLANK(U63)),"",SUM(T63:U63)) | X63: =IFERROR(SUM(Q63:U63)/$E63,"") | Y63: =IFERROR(((80*S63)+(100*T63)+(150*U63))/SUM(Q63:U63),"") | AE63: =IF(AND(ISBLANK(Z63),ISBLANK(AA63),ISBLANK(AB63),ISBLANK(AC63),ISBLANK(AD63)),"",SUM(AB63:AD63)) | AF63: =IF(AND(ISBLANK(Z63),ISBLANK(AA63),ISBLANK(AB63),ISBLANK(AC63),ISBLANK(AD63)),"",SUM(AC63:AD63)) | AG63: =IFERROR(SUM(Z63:AD63)/$E63,"") | AH63: =IFERROR(((80*AB63)+(100*AC63)+(150*AD63))/SUM(Z63:AD63),"") | AN63: =IF(AND(ISBLANK(AI63),ISBLANK(AJ63),ISBLANK(AK63),ISBLANK(AL63),ISBLANK(AM63)),"",SUM(AK63:AM63)) | AO63: =IF(AND(ISBLANK(AI63),ISBLANK(AJ63),ISBLANK(AK63),ISBLANK(AL63),ISBLANK(AM63)),"",SUM(AL63:AM63)) | AP63: =IFERROR(SUM(AI63:AM63)/$E63,"") | AQ63: =IFERROR(((80*AK63)+(100*AL63)+(150*AM63))/SUM(AI63:AM63),"") | AR63: =IFERROR(AVERAGE(Y63,AH63,AQ63),"") | AS63: =IF(OR(P63="",AR63=""),"",AR63-P63) | AY63: =IF(AND(ISBLANK(AT63),ISBLANK(AU63),ISBLANK(AV63),ISBLANK(AW63),ISBLANK(AX63)),"",SUM(AV63:AX63)) | AZ63: =IF(AND(ISBLANK(AT63),ISBLANK(AU63),ISBLANK(AV63),ISBLANK(AW63),ISBLANK(AX63)),"",SUM(AW63:AX63)) | BA63: =IFERROR(((80*AV63)+(100*AW63)+(150*AX63))/SUM(AT63:AX63),"") | BB63: =B63 -> 0 | BC63: =C63 -> 0 | BD63: =BB63&"."&BC63 -> 0.0 | BE63: =D63 -> 0 | BF63: =H63 -> 0 | BG63: =I63 -> 0 | BH63: =J63 -> 0 | BI63: =K63 -> 0 | BJ63: =L63 -> 0 | BK63: =M63 | BL63: =N63 | BM63: =P63 | BN63: =Q63 -> 0 | BO63: =R63 -> 0 | BP63: =S63 -> 0 | BQ63: =T63 -> 0 | BR63: =U63 -> 0 | BS63: =V63 | BT63: =W63 | BU63: =Y63 | BV63: =Z63 -> 0 | BW63: =AA63 -> 0 | BX63: =AB63 -> 0 | BY63: =AC63 -> 0 | BZ63: =AD63 -> 0 | CA63: =AE63 | CB63: =AF63 | CC63: =AH63 | CD63: =AI63 -> 0 | CE63: =AJ63 -> 0 | CF63: =AK63 -> 0 | CG63: =AL63 -> 0 | CH63: =AM63 -> 0 | CI63: =AN63 | CJ63: =AO63 | CK63: =AQ63 | CL63: =AT63 -> 0 | CM63: =AU63 -> 0 | CN63: =AV63 -> 0 | CO63: =AW63 -> 0 | CP63: =AX63 -> 0 | CQ63: =AY63 | CR63: =AZ63 | CS63: =BA63
G64: % | H64: =IFERROR(H63/SUM(H63:L63),"") | I64: =IFERROR(I63/SUM(H63:L63),"") | J64: =IFERROR(J63/SUM(H63:L63),"") | K64: =IFERROR(K63/SUM(H63:L63),"") | L64: =IFERROR(L63/SUM(H63:L63),"") | M64: =IFERROR(M63/SUM(H63:L63),"") | N64: =IFERROR(N63/SUM(H63:L63),"") | Q64: =IFERROR(Q63/SUM(Q63:U63),"") | R64: =IFERROR(R63/SUM(Q63:U63),"") | S64: =IFERROR(S63/SUM(Q63:U63),"") | T64: =IFERROR(T63/SUM(Q63:U63),"") | U64: =IFERROR(U63/SUM(Q63:U63),"") | V64: =IFERROR(V63/SUM(Q63:U63),"") | W64: =IFERROR(W63/SUM(Q63:U63),"") | Z64: =IFERROR(Z63/SUM(Z63:AD63),"") | AA64: =IFERROR(AA63/SUM(Z63:AD63),"") | AB64: =IFERROR(AB63/SUM(Z63:AD63),"") | AC64: =IFERROR(AC63/SUM(Z63:AD63),"") | AD64: =IFERROR(AD63/SUM(Z63:AD63),"") | AE64: =IFERROR(AE63/SUM(Z63:AD63),"") | AF64: =IFERROR(AF63/SUM(Z63:AD63),"") | AI64: =IFERROR(AI63/SUM(AI63:AM63),"") | AJ64: =IFERROR(AJ63/SUM(AI63:AM63),"") | AK64: =IFERROR(AK63/SUM(AI63:AM63),"") | AL64: =IFERROR(AL63/SUM(AI63:AM63),"") | AM64: =IFERROR(AM63/SUM(AI63:AM63),"") | AN64: =IFERROR(AN63/SUM(AI63:AM63),"") | AO64: =IFERROR(AO63/SUM(AI63:AM63),"") | AT64: =IFERROR(AT63/SUM(AT63:AX63),"") | AU64: =IFERROR(AU63/SUM(AT63:AX63),"") | AV64: =IFERROR(AV63/SUM(AT63:AX63),"") | AW64: =IFERROR(AW63/SUM(AT63:AX63),"") | AX64: =IFERROR(AX63/SUM(AT63:AX63),"") | AY64: =IFERROR(AY63/SUM(AT63:AX63),"") | AZ64: =IFERROR(AZ63/SUM(AT63:AX63),"") | BD64: =BB64&"."&BC64 -> .
G65: # | M65: =IF(AND(ISBLANK(H65),ISBLANK(I65),ISBLANK(J65),ISBLANK(K65),ISBLANK(L65)),"",SUM(J65:L65)) | N65: =IF(AND(ISBLANK(H65),ISBLANK(I65),ISBLANK(J65),ISBLANK(K65),ISBLANK(L65)),"",SUM(K65:L65)) | O65: =IFERROR(SUM(H65:L65)/E65,"") | P65: =IFERROR(((80*J65)+(100*K65)+(150*L65))/SUM(H65:L65),"") | V65: =IF(AND(ISBLANK(Q65),ISBLANK(R65),ISBLANK(S65),ISBLANK(T65),ISBLANK(U65)),"",SUM(S65:U65)) | W65: =IF(AND(ISBLANK(Q65),ISBLANK(R65),ISBLANK(S65),ISBLANK(T65),ISBLANK(U65)),"",SUM(T65:U65)) | X65: =IFERROR(SUM(Q65:U65)/$E65,"") | Y65: =IFERROR(((80*S65)+(100*T65)+(150*U65))/SUM(Q65:U65),"") | AE65: =IF(AND(ISBLANK(Z65),ISBLANK(AA65),ISBLANK(AB65),ISBLANK(AC65),ISBLANK(AD65)),"",SUM(AB65:AD65)) | AF65: =IF(AND(ISBLANK(Z65),ISBLANK(AA65),ISBLANK(AB65),ISBLANK(AC65),ISBLANK(AD65)),"",SUM(AC65:AD65)) | AG65: =IFERROR(SUM(Z65:AD65)/$E65,"") | AH65: =IFERROR(((80*AB65)+(100*AC65)+(150*AD65))/SUM(Z65:AD65),"") | AN65: =IF(AND(ISBLANK(AI65),ISBLANK(AJ65),ISBLANK(AK65),ISBLANK(AL65),ISBLANK(AM65)),"",SUM(AK65:AM65)) | AO65: =IF(AND(ISBLANK(AI65),ISBLANK(AJ65),ISBLANK(AK65),ISBLANK(AL65),ISBLANK(AM65)),"",SUM(AL65:AM65)) | AP65: =IFERROR(SUM(AI65:AM65)/$E65,"") | AQ65: =IFERROR(((80*AK65)+(100*AL65)+(150*AM65))/SUM(AI65:AM65),"") | AR65: =IFERROR(AVERAGE(Y65,AH65,AQ65),"") | AS65: =IF(OR(P65="",AR65=""),"",AR65-P65) | AY65: =IF(AND(ISBLANK(AT65),ISBLANK(AU65),ISBLANK(AV65),ISBLANK(AW65),ISBLANK(AX65)),"",SUM(AV65:AX65)) | AZ65: =IF(AND(ISBLANK(AT65),ISBLANK(AU65),ISBLANK(AV65),ISBLANK(AW65),ISBLANK(AX65)),"",SUM(AW65:AX65)) | BA65: =IFERROR(((80*AV65)+(100*AW65)+(150*AX65))/SUM(AT65:AX65),"") | BB65: =B65 -> 0 | BC65: =C65 -> 0 | BD65: =BB65&"."&BC65 -> 0.0 | BE65: =D65 -> 0 | BF65: =H65 -> 0 | BG65: =I65 -> 0 | BH65: =J65 -> 0 | BI65: =K65 -> 0 | BJ65: =L65 -> 0 | BK65: =M65 | BL65: =N65 | BM65: =P65 | BN65: =Q65 -> 0 | BO65: =R65 -> 0 | BP65: =S65 -> 0 | BQ65: =T65 -> 0 | BR65: =U65 -> 0 | BS65: =V65 | BT65: =W65 | BU65: =Y65 | BV65: =Z65 -> 0 | BW65: =AA65 -> 0 | BX65: =AB65 -> 0 | BY65: =AC65 -> 0 | BZ65: =AD65 -> 0 | CA65: =AE65 | CB65: =AF65 | CC65: =AH65 | CD65: =AI65 -> 0 | CE65: =AJ65 -> 0 | CF65: =AK65 -> 0 | CG65: =AL65 -> 0 | CH65: =AM65 -> 0 | CI65: =AN65 | CJ65: =AO65 | CK65: =AQ65 | CL65: =AT65 -> 0 | CM65: =AU65 -> 0 | CN65: =AV65 -> 0 | CO65: =AW65 -> 0 | CP65: =AX65 -> 0 | CQ65: =AY65 | CR65: =AZ65 | CS65: =BA65
G66: % | H66: =IFERROR(H65/SUM(H65:L65),"") | I66: =IFERROR(I65/SUM(H65:L65),"") | J66: =IFERROR(J65/SUM(H65:L65),"") | K66: =IFERROR(K65/SUM(H65:L65),"") | L66: =IFERROR(L65/SUM(H65:L65),"") | M66: =IFERROR(M65/SUM(H65:L65),"") | N66: =IFERROR(N65/SUM(H65:L65),"") | Q66: =IFERROR(Q65/SUM(Q65:U65),"") | R66: =IFERROR(R65/SUM(Q65:U65),"") | S66: =IFERROR(S65/SUM(Q65:U65),"") | T66: =IFERROR(T65/SUM(Q65:U65),"") | U66: =IFERROR(U65/SUM(Q65:U65),"") | V66: =IFERROR(V65/SUM(Q65:U65),"") | W66: =IFERROR(W65/SUM(Q65:U65),"") | Z66: =IFERROR(Z65/SUM(Z65:AD65),"") | AA66: =IFERROR(AA65/SUM(Z65:AD65),"") | AB66: =IFERROR(AB65/SUM(Z65:AD65),"") | AC66: =IFERROR(AC65/SUM(Z65:AD65),"") | AD66: =IFERROR(AD65/SUM(Z65:AD65),"") | AE66: =IFERROR(AE65/SUM(Z65:AD65),"") | AF66: =IFERROR(AF65/SUM(Z65:AD65),"") | AI66: =IFERROR(AI65/SUM(AI65:AM65),"") | AJ66: =IFERROR(AJ65/SUM(AI65:AM65),"") | AK66: =IFERROR(AK65/SUM(AI65:AM65),"") | AL66: =IFERROR(AL65/SUM(AI65:AM65),"") | AM66: =IFERROR(AM65/SUM(AI65:AM65),"") | AN66: =IFERROR(AN65/SUM(AI65:AM65),"") | AO66: =IFERROR(AO65/SUM(AI65:AM65),"") | AT66: =IFERROR(AT65/SUM(AT65:AX65),"") | AU66: =IFERROR(AU65/SUM(AT65:AX65),"") | AV66: =IFERROR(AV65/SUM(AT65:AX65),"") | AW66: =IFERROR(AW65/SUM(AT65:AX65),"") | AX66: =IFERROR(AX65/SUM(AT65:AX65),"") | AY66: =IFERROR(AY65/SUM(AT65:AX65),"") | AZ66: =IFERROR(AZ65/SUM(AT65:AX65),"") | BD66: =BB66&"."&BC66 -> .
G67: # | M67: =IF(AND(ISBLANK(H67),ISBLANK(I67),ISBLANK(J67),ISBLANK(K67),ISBLANK(L67)),"",SUM(J67:L67)) | N67: =IF(AND(ISBLANK(H67),ISBLANK(I67),ISBLANK(J67),ISBLANK(K67),ISBLANK(L67)),"",SUM(K67:L67)) | O67: =IFERROR(SUM(H67:L67)/E67,"") | P67: =IFERROR(((80*J67)+(100*K67)+(150*L67))/SUM(H67:L67),"") | V67: =IF(AND(ISBLANK(Q67),ISBLANK(R67),ISBLANK(S67),ISBLANK(T67),ISBLANK(U67)),"",SUM(S67:U67)) | W67: =IF(AND(ISBLANK(Q67),ISBLANK(R67),ISBLANK(S67),ISBLANK(T67),ISBLANK(U67)),"",SUM(T67:U67)) | X67: =IFERROR(SUM(Q67:U67)/$E67,"") | Y67: =IFERROR(((80*S67)+(100*T67)+(150*U67))/SUM(Q67:U67),"") | AE67: =IF(AND(ISBLANK(Z67),ISBLANK(AA67),ISBLANK(AB67),ISBLANK(AC67),ISBLANK(AD67)),"",SUM(AB67:AD67)) | AF67: =IF(AND(ISBLANK(Z67),ISBLANK(AA67),ISBLANK(AB67),ISBLANK(AC67),ISBLANK(AD67)),"",SUM(AC67:AD67)) | AG67: =IFERROR(SUM(Z67:AD67)/$E67,"") | AH67: =IFERROR(((80*AB67)+(100*AC67)+(150*AD67))/SUM(Z67:AD67),"") | AN67: =IF(AND(ISBLANK(AI67),ISBLANK(AJ67),ISBLANK(AK67),ISBLANK(AL67),ISBLANK(AM67)),"",SUM(AK67:AM67)) | AO67: =IF(AND(ISBLANK(AI67),ISBLANK(AJ67),ISBLANK(AK67),ISBLANK(AL67),ISBLANK(AM67)),"",SUM(AL67:AM67)) | AP67: =IFERROR(SUM(AI67:AM67)/$E67,"") | AQ67: =IFERROR(((80*AK67)+(100*AL67)+(150*AM67))/SUM(AI67:AM67),"") | AR67: =IFERROR(AVERAGE(Y67,AH67,AQ67),"") | AS67: =IF(OR(P67="",AR67=""),"",AR67-P67) | AY67: =IF(AND(ISBLANK(AT67),ISBLANK(AU67),ISBLANK(AV67),ISBLANK(AW67),ISBLANK(AX67)),"",SUM(AV67:AX67)) | AZ67: =IF(AND(ISBLANK(AT67),ISBLANK(AU67),ISBLANK(AV67),ISBLANK(AW67),ISBLANK(AX67)),"",SUM(AW67:AX67)) | BA67: =IFERROR(((80*AV67)+(100*AW67)+(150*AX67))/SUM(AT67:AX67),"") | BB67: =B67 -> 0 | BC67: =C67 -> 0 | BD67: =BB67&"."&BC67 -> 0.0 | BE67: =D67 -> 0 | BF67: =H67 -> 0 | BG67: =I67 -> 0 | BH67: =J67 -> 0 | BI67: =K67 -> 0 | BJ67: =L67 -> 0 | BK67: =M67 | BL67: =N67 | BM67: =P67 | BN67: =Q67 -> 0 | BO67: =R67 -> 0 | BP67: =S67 -> 0 | BQ67: =T67 -> 0 | BR67: =U67 -> 0 | BS67: =V67 | BT67: =W67 | BU67: =Y67 | BV67: =Z67 -> 0 | BW67: =AA67 -> 0 | BX67: =AB67 -> 0 | BY67: =AC67 -> 0 | BZ67: =AD67 -> 0 | CA67: =AE67 | CB67: =AF67 | CC67: =AH67 | CD67: =AI67 -> 0 | CE67: =AJ67 -> 0 | CF67: =AK67 -> 0 | CG67: =AL67 -> 0 | CH67: =AM67 -> 0 | CI67: =AN67 | CJ67: =AO67 | CK67: =AQ67 | CL67: =AT67 -> 0 | CM67: =AU67 -> 0 | CN67: =AV67 -> 0 | CO67: =AW67 -> 0 | CP67: =AX67 -> 0 | CQ67: =AY67 | CR67: =AZ67 | CS67: =BA67
G68: % | H68: =IFERROR(H67/SUM(H67:L67),"") | I68: =IFERROR(I67/SUM(H67:L67),"") | J68: =IFERROR(J67/SUM(H67:L67),"") | K68: =IFERROR(K67/SUM(H67:L67),"") | L68: =IFERROR(L67/SUM(H67:L67),"") | M68: =IFERROR(M67/SUM(H67:L67),"") | N68: =IFERROR(N67/SUM(H67:L67),"") | Q68: =IFERROR(Q67/SUM(Q67:U67),"") | R68: =IFERROR(R67/SUM(Q67:U67),"") | S68: =IFERROR(S67/SUM(Q67:U67),"") | T68: =IFERROR(T67/SUM(Q67:U67),"") | U68: =IFERROR(U67/SUM(Q67:U67),"") | V68: =IFERROR(V67/SUM(Q67:U67),"") | W68: =IFERROR(W67/SUM(Q67:U67),"") | Z68: =IFERROR(Z67/SUM(Z67:AD67),"") | AA68: =IFERROR(AA67/SUM(Z67:AD67),"") | AB68: =IFERROR(AB67/SUM(Z67:AD67),"") | AC68: =IFERROR(AC67/SUM(Z67:AD67),"") | AD68: =IFERROR(AD67/SUM(Z67:AD67),"") | AE68: =IFERROR(AE67/SUM(Z67:AD67),"") | AF68: =IFERROR(AF67/SUM(Z67:AD67),"") | AI68: =IFERROR(AI67/SUM(AI67:AM67),"") | AJ68: =IFERROR(AJ67/SUM(AI67:AM67),"") | AK68: =IFERROR(AK67/SUM(AI67:AM67),"") | AL68: =IFERROR(AL67/SUM(AI67:AM67),"") | AM68: =IFERROR(AM67/SUM(AI67:AM67),"") | AN68: =IFERROR(AN67/SUM(AI67:AM67),"") | AO68: =IFERROR(AO67/SUM(AI67:AM67),"") | AT68: =IFERROR(AT67/SUM(AT67:AX67),"") | AU68: =IFERROR(AU67/SUM(AT67:AX67),"") | AV68: =IFERROR(AV67/SUM(AT67:AX67),"") | AW68: =IFERROR(AW67/SUM(AT67:AX67),"") | AX68: =IFERROR(AX67/SUM(AT67:AX67),"") | AY68: =IFERROR(AY67/SUM(AT67:AX67),"") | AZ68: =IFERROR(AZ67/SUM(AT67:AX67),"") | BD68: =BB68&"."&BC68 -> .
G69: # | M69: =IF(AND(ISBLANK(H69),ISBLANK(I69),ISBLANK(J69),ISBLANK(K69),ISBLANK(L69)),"",SUM(J69:L69)) | N69: =IF(AND(ISBLANK(H69),ISBLANK(I69),ISBLANK(J69),ISBLANK(K69),ISBLANK(L69)),"",SUM(K69:L69)) | O69: =IFERROR(SUM(H69:L69)/E69,"") | P69: =IFERROR(((80*J69)+(100*K69)+(150*L69))/SUM(H69:L69),"") | V69: =IF(AND(ISBLANK(Q69),ISBLANK(R69),ISBLANK(S69),ISBLANK(T69),ISBLANK(U69)),"",SUM(S69:U69)) | W69: =IF(AND(ISBLANK(Q69),ISBLANK(R69),ISBLANK(S69),ISBLANK(T69),ISBLANK(U69)),"",SUM(T69:U69)) | X69: =IFERROR(SUM(Q69:U69)/$E69,"") | Y69: =IFERROR(((80*S69)+(100*T69)+(150*U69))/SUM(Q69:U69),"") | AE69: =IF(AND(ISBLANK(Z69),ISBLANK(AA69),ISBLANK(AB69),ISBLANK(AC69),ISBLANK(AD69)),"",SUM(AB69:AD69)) | AF69: =IF(AND(ISBLANK(Z69),ISBLANK(AA69),ISBLANK(AB69),ISBLANK(AC69),ISBLANK(AD69)),"",SUM(AC69:AD69)) | AG69: =IFERROR(SUM(Z69:AD69)/$E69,"") | AH69: =IFERROR(((80*AB69)+(100*AC69)+(150*AD69))/SUM(Z69:AD69),"") | AN69: =IF(AND(ISBLANK(AI69),ISBLANK(AJ69),ISBLANK(AK69),ISBLANK(AL69),ISBLANK(AM69)),"",SUM(AK69:AM69)) | AO69: =IF(AND(ISBLANK(AI69),ISBLANK(AJ69),ISBLANK(AK69),ISBLANK(AL69),ISBLANK(AM69)),"",SUM(AL69:AM69)) | AP69: =IFERROR(SUM(AI69:AM69)/$E69,"") | AQ69: =IFERROR(((80*AK69)+(100*AL69)+(150*AM69))/SUM(AI69:AM69),"") | AR69: =IFERROR(AVERAGE(Y69,AH69,AQ69),"") | AS69: =IF(OR(P69="",AR69=""),"",AR69-P69) | AY69: =IF(AND(ISBLANK(AT69),ISBLANK(AU69),ISBLANK(AV69),ISBLANK(AW69),ISBLANK(AX69)),"",SUM(AV69:AX69)) | AZ69: =IF(AND(ISBLANK(AT69),ISBLANK(AU69),ISBLANK(AV69),ISBLANK(AW69),ISBLANK(AX69)),"",SUM(AW69:AX69)) | BA69: =IFERROR(((80*AV69)+(100*AW69)+(150*AX69))/SUM(AT69:AX69),"") | BB69: =B69 -> 0 | BC69: =C69 -> 0 | BD69: =BB69&"."&BC69 -> 0.0 | BE69: =D69 -> 0 | BF69: =H69 -> 0 | BG69: =I69 -> 0 | BH69: =J69 -> 0 | BI69: =K69 -> 0 | BJ69: =L69 -> 0 | BK69: =M69 | BL69: =N69 | BM69: =P69 | BN69: =Q69 -> 0 | BO69: =R69 -> 0 | BP69: =S69 -> 0 | BQ69: =T69 -> 0 | BR69: =U69 -> 0 | BS69: =V69 | BT69: =W69 | BU69: =Y69 | BV69: =Z69 -> 0 | BW69: =AA69 -> 0 | BX69: =AB69 -> 0 | BY69: =AC69 -> 0 | BZ69: =AD69 -> 0 | CA69: =AE69 | CB69: =AF69 | CC69: =AH69 | CD69: =AI69 -> 0 | CE69: =AJ69 -> 0 | CF69: =AK69 -> 0 | CG69: =AL69 -> 0 | CH69: =AM69 -> 0 | CI69: =AN69 | CJ69: =AO69 | CK69: =AQ69 | CL69: =AT69 -> 0 | CM69: =AU69 -> 0 | CN69: =AV69 -> 0 | CO69: =AW69 -> 0 | CP69: =AX69 -> 0 | CQ69: =AY69 | CR69: =AZ69 | CS69: =BA69
G70: % | H70: =IFERROR(H69/SUM(H69:L69),"") | I70: =IFERROR(I69/SUM(H69:L69),"") | J70: =IFERROR(J69/SUM(H69:L69),"") | K70: =IFERROR(K69/SUM(H69:L69),"") | L70: =IFERROR(L69/SUM(H69:L69),"") | M70: =IFERROR(M69/SUM(H69:L69),"") | N70: =IFERROR(N69/SUM(H69:L69),"") | Q70: =IFERROR(Q69/SUM(Q69:U69),"") | R70: =IFERROR(R69/SUM(Q69:U69),"") | S70: =IFERROR(S69/SUM(Q69:U69),"") | T70: =IFERROR(T69/SUM(Q69:U69),"") | U70: =IFERROR(U69/SUM(Q69:U69),"") | V70: =IFERROR(V69/SUM(Q69:U69),"") | W70: =IFERROR(W69/SUM(Q69:U69),"") | Z70: =IFERROR(Z69/SUM(Z69:AD69),"") | AA70: =IFERROR(AA69/SUM(Z69:AD69),"") | AB70: =IFERROR(AB69/SUM(Z69:AD69),"") | AC70: =IFERROR(AC69/SUM(Z69:AD69),"") | AD70: =IFERROR(AD69/SUM(Z69:AD69),"") | AE70: =IFERROR(AE69/SUM(Z69:AD69),"") | AF70: =IFERROR(AF69/SUM(Z69:AD69),"") | AI70: =IFERROR(AI69/SUM(AI69:AM69),"") | AJ70: =IFERROR(AJ69/SUM(AI69:AM69),"") | AK70: =IFERROR(AK69/SUM(AI69:AM69),"") | AL70: =IFERROR(AL69/SUM(AI69:AM69),"") | AM70: =IFERROR(AM69/SUM(AI69:AM69),"") | AN70: =IFERROR(AN69/SUM(AI69:AM69),"") | AO70: =IFERROR(AO69/SUM(AI69:AM69),"") | AT70: =IFERROR(AT69/SUM(AT69:AX69),"") | AU70: =IFERROR(AU69/SUM(AT69:AX69),"") | AV70: =IFERROR(AV69/SUM(AT69:AX69),"") | AW70: =IFERROR(AW69/SUM(AT69:AX69),"") | AX70: =IFERROR(AX69/SUM(AT69:AX69),"") | AY70: =IFERROR(AY69/SUM(AT69:AX69),"") | AZ70: =IFERROR(AZ69/SUM(AT69:AX69),"") | BD70: =BB70&"."&BC70 -> .
G71: # | M71: =IF(AND(ISBLANK(H71),ISBLANK(I71),ISBLANK(J71),ISBLANK(K71),ISBLANK(L71)),"",SUM(J71:L71)) | N71: =IF(AND(ISBLANK(H71),ISBLANK(I71),ISBLANK(J71),ISBLANK(K71),ISBLANK(L71)),"",SUM(K71:L71)) | O71: =IFERROR(SUM(H71:L71)/E71,"") | P71: =IFERROR(((80*J71)+(100*K71)+(150*L71))/SUM(H71:L71),"") | V71: =IF(AND(ISBLANK(Q71),ISBLANK(R71),ISBLANK(S71),ISBLANK(T71),ISBLANK(U71)),"",SUM(S71:U71)) | W71: =IF(AND(ISBLANK(Q71),ISBLANK(R71),ISBLANK(S71),ISBLANK(T71),ISBLANK(U71)),"",SUM(T71:U71)) | X71: =IFERROR(SUM(Q71:U71)/$E71,"") | Y71: =IFERROR(((80*S71)+(100*T71)+(150*U71))/SUM(Q71:U71),"") | AE71: =IF(AND(ISBLANK(Z71),ISBLANK(AA71),ISBLANK(AB71),ISBLANK(AC71),ISBLANK(AD71)),"",SUM(AB71:AD71)) | AF71: =IF(AND(ISBLANK(Z71),ISBLANK(AA71),ISBLANK(AB71),ISBLANK(AC71),ISBLANK(AD71)),"",SUM(AC71:AD71)) | AG71: =IFERROR(SUM(Z71:AD71)/$E71,"") | AH71: =IFERROR(((80*AB71)+(100*AC71)+(150*AD71))/SUM(Z71:AD71),"") | AN71: =IF(AND(ISBLANK(AI71),ISBLANK(AJ71),ISBLANK(AK71),ISBLANK(AL71),ISBLANK(AM71)),"",SUM(AK71:AM71)) | AO71: =IF(AND(ISBLANK(AI71),ISBLANK(AJ71),ISBLANK(AK71),ISBLANK(AL71),ISBLANK(AM71)),"",SUM(AL71:AM71)) | AP71: =IFERROR(SUM(AI71:AM71)/$E71,"") | AQ71: =IFERROR(((80*AK71)+(100*AL71)+(150*AM71))/SUM(AI71:AM71),"") | AR71: =IFERROR(AVERAGE(Y71,AH71,AQ71),"") | AS71: =IF(OR(P71="",AR71=""),"",AR71-P71) | AY71: =IF(AND(ISBLANK(AT71),ISBLANK(AU71),ISBLANK(AV71),ISBLANK(AW71),ISBLANK(AX71)),"",SUM(AV71:AX71)) | AZ71: =IF(AND(ISBLANK(AT71),ISBLANK(AU71),ISBLANK(AV71),ISBLANK(AW71),ISBLANK(AX71)),"",SUM(AW71:AX71)) | BA71: =IFERROR(((80*AV71)+(100*AW71)+(150*AX71))/SUM(AT71:AX71),"") | BB71: =B71 -> 0 | BC71: =C71 -> 0 | BD71: =BB71&"."&BC71 -> 0.0 | BE71: =D71 -> 0 | BF71: =H71 -> 0 | BG71: =I71 -> 0 | BH71: =J71 -> 0 | BI71: =K71 -> 0 | BJ71: =L71 -> 0 | BK71: =M71 | BL71: =N71 | BM71: =P71 | BN71: =Q71 -> 0 | BO71: =R71 -> 0 | BP71: =S71 -> 0 | BQ71: =T71 -> 0 | BR71: =U71 -> 0 | BS71: =V71 | BT71: =W71 | BU71: =Y71 | BV71: =Z71 -> 0 | BW71: =AA71 -> 0 | BX71: =AB71 -> 0 | BY71: =AC71 -> 0 | BZ71: =AD71 -> 0 | CA71: =AE71 | CB71: =AF71 | CC71: =AH71 | CD71: =AI71 -> 0 | CE71: =AJ71 -> 0 | CF71: =AK71 -> 0 | CG71: =AL71 -> 0 | CH71: =AM71 -> 0 | CI71: =AN71 | CJ71: =AO71 | CK71: =AQ71 | CL71: =AT71 -> 0 | CM71: =AU71 -> 0 | CN71: =AV71 -> 0 | CO71: =AW71 -> 0 | CP71: =AX71 -> 0 | CQ71: =AY71 | CR71: =AZ71 | CS71: =BA71
G72: % | H72: =IFERROR(H71/SUM(H71:L71),"") | I72: =IFERROR(I71/SUM(H71:L71),"") | J72: =IFERROR(J71/SUM(H71:L71),"") | K72: =IFERROR(K71/SUM(H71:L71),"") | L72: =IFERROR(L71/SUM(H71:L71),"") | M72: =IFERROR(M71/SUM(H71:L71),"") | N72: =IFERROR(N71/SUM(H71:L71),"") | Q72: =IFERROR(Q71/SUM(Q71:U71),"") | R72: =IFERROR(R71/SUM(Q71:U71),"") | S72: =IFERROR(S71/SUM(Q71:U71),"") | T72: =IFERROR(T71/SUM(Q71:U71),"") | U72: =IFERROR(U71/SUM(Q71:U71),"") | V72: =IFERROR(V71/SUM(Q71:U71),"") | W72: =IFERROR(W71/SUM(Q71:U71),"") | Z72: =IFERROR(Z71/SUM(Z71:AD71),"") | AA72: =IFERROR(AA71/SUM(Z71:AD71),"") | AB72: =IFERROR(AB71/SUM(Z71:AD71),"") | AC72: =IFERROR(AC71/SUM(Z71:AD71),"") | AD72: =IFERROR(AD71/SUM(Z71:AD71),"") | AE72: =IFERROR(AE71/SUM(Z71:AD71),"") | AF72: =IFERROR(AF71/SUM(Z71:AD71),"") | AI72: =IFERROR(AI71/SUM(AI71:AM71),"") | AJ72: =IFERROR(AJ71/SUM(AI71:AM71),"") | AK72: =IFERROR(AK71/SUM(AI71:AM71),"") | AL72: =IFERROR(AL71/SUM(AI71:AM71),"") | AM72: =IFERROR(AM71/SUM(AI71:AM71),"") | AN72: =IFERROR(AN71/SUM(AI71:AM71),"") | AO72: =IFERROR(AO71/SUM(AI71:AM71),"") | AT72: =IFERROR(AT71/SUM(AT71:AX71),"") | AU72: =IFERROR(AU71/SUM(AT71:AX71),"") | AV72: =IFERROR(AV71/SUM(AT71:AX71),"") | AW72: =IFERROR(AW71/SUM(AT71:AX71),"") | AX72: =IFERROR(AX71/SUM(AT71:AX71),"") | AY72: =IFERROR(AY71/SUM(AT71:AX71),"") | AZ72: =IFERROR(AZ71/SUM(AT71:AX71),"") | BD72: =BB72&"."&BC72 -> .
G73: # | M73: =IF(AND(ISBLANK(H73),ISBLANK(I73),ISBLANK(J73),ISBLANK(K73),ISBLANK(L73)),"",SUM(J73:L73)) | N73: =IF(AND(ISBLANK(H73),ISBLANK(I73),ISBLANK(J73),ISBLANK(K73),ISBLANK(L73)),"",SUM(K73:L73)) | O73: =IFERROR(SUM(H73:L73)/E73,"") | P73: =IFERROR(((80*J73)+(100*K73)+(150*L73))/SUM(H73:L73),"") | V73: =IF(AND(ISBLANK(Q73),ISBLANK(R73),ISBLANK(S73),ISBLANK(T73),ISBLANK(U73)),"",SUM(S73:U73)) | W73: =IF(AND(ISBLANK(Q73),ISBLANK(R73),ISBLANK(S73),ISBLANK(T73),ISBLANK(U73)),"",SUM(T73:U73)) | X73: =IFERROR(SUM(Q73:U73)/$E73,"") | Y73: =IFERROR(((80*S73)+(100*T73)+(150*U73))/SUM(Q73:U73),"") | AE73: =IF(AND(ISBLANK(Z73),ISBLANK(AA73),ISBLANK(AB73),ISBLANK(AC73),ISBLANK(AD73)),"",SUM(AB73:AD73)) | AF73: =IF(AND(ISBLANK(Z73),ISBLANK(AA73),ISBLANK(AB73),ISBLANK(AC73),ISBLANK(AD73)),"",SUM(AC73:AD73)) | AG73: =IFERROR(SUM(Z73:AD73)/$E73,"") | AH73: =IFERROR(((80*AB73)+(100*AC73)+(150*AD73))/SUM(Z73:AD73),"") | AN73: =IF(AND(ISBLANK(AI73),ISBLANK(AJ73),ISBLANK(AK73),ISBLANK(AL73),ISBLANK(AM73)),"",SUM(AK73:AM73)) | AO73: =IF(AND(ISBLANK(AI73),ISBLANK(AJ73),ISBLANK(AK73),ISBLANK(AL73),ISBLANK(AM73)),"",SUM(AL73:AM73)) | AP73: =IFERROR(SUM(AI73:AM73)/$E73,"") | AQ73: =IFERROR(((80*AK73)+(100*AL73)+(150*AM73))/SUM(AI73:AM73),"") | AR73: =IFERROR(AVERAGE(Y73,AH73,AQ73),"") | AS73: =IF(OR(P73="",AR73=""),"",AR73-P73) | AY73: =IF(AND(ISBLANK(AT73),ISBLANK(AU73),ISBLANK(AV73),ISBLANK(AW73),ISBLANK(AX73)),"",SUM(AV73:AX73)) | AZ73: =IF(AND(ISBLANK(AT73),ISBLANK(AU73),ISBLANK(AV73),ISBLANK(AW73),ISBLANK(AX73)),"",SUM(AW73:AX73)) | BA73: =IFERROR(((80*AV73)+(100*AW73)+(150*AX73))/SUM(AT73:AX73),"") | BB73: =B73 -> 0 | BC73: =C73 -> 0 | BD73: =BB73&"."&BC73 -> 0.0 | BE73: =D73 -> 0 | BF73: =H73 -> 0 | BG73: =I73 -> 0 | BH73: =J73 -> 0 | BI73: =K73 -> 0 | BJ73: =L73 -> 0 | BK73: =M73 | BL73: =N73 | BM73: =P73 | BN73: =Q73 -> 0 | BO73: =R73 -> 0 | BP73: =S73 -> 0 | BQ73: =T73 -> 0 | BR73: =U73 -> 0 | BS73: =V73 | BT73: =W73 | BU73: =Y73 | BV73: =Z73 -> 0 | BW73: =AA73 -> 0 | BX73: =AB73 -> 0 | BY73: =AC73 -> 0 | BZ73: =AD73 -> 0 | CA73: =AE73 | CB73: =AF73 | CC73: =AH73 | CD73: =AI73 -> 0 | CE73: =AJ73 -> 0 | CF73: =AK73 -> 0 | CG73: =AL73 -> 0 | CH73: =AM73 -> 0 | CI73: =AN73 | CJ73: =AO73 | CK73: =AQ73 | CL73: =AT73 -> 0 | CM73: =AU73 -> 0 | CN73: =AV73 -> 0 | CO73: =AW73 -> 0 | CP73: =AX73 -> 0 | CQ73: =AY73 | CR73: =AZ73 | CS73: =BA73
G74: % | H74: =IFERROR(H73/SUM(H73:L73),"") | I74: =IFERROR(I73/SUM(H73:L73),"") | J74: =IFERROR(J73/SUM(H73:L73),"") | K74: =IFERROR(K73/SUM(H73:L73),"") | L74: =IFERROR(L73/SUM(H73:L73),"") | M74: =IFERROR(M73/SUM(H73:L73),"") | N74: =IFERROR(N73/SUM(H73:L73),"") | Q74: =IFERROR(Q73/SUM(Q73:U73),"") | R74: =IFERROR(R73/SUM(Q73:U73),"") | S74: =IFERROR(S73/SUM(Q73:U73),"") | T74: =IFERROR(T73/SUM(Q73:U73),"") | U74: =IFERROR(U73/SUM(Q73:U73),"") | V74: =IFERROR(V73/SUM(Q73:U73),"") | W74: =IFERROR(W73/SUM(Q73:U73),"") | Z74: =IFERROR(Z73/SUM(Z73:AD73),"") | AA74: =IFERROR(AA73/SUM(Z73:AD73),"") | AB74: =IFERROR(AB73/SUM(Z73:AD73),"") | AC74: =IFERROR(AC73/SUM(Z73:AD73),"") | AD74: =IFERROR(AD73/SUM(Z73:AD73),"") | AE74: =IFERROR(AE73/SUM(Z73:AD73),"") | AF74: =IFERROR(AF73/SUM(Z73:AD73),"") | AI74: =IFERROR(AI73/SUM(AI73:AM73),"") | AJ74: =IFERROR(AJ73/SUM(AI73:AM73),"") | AK74: =IFERROR(AK73/SUM(AI73:AM73),"") | AL74: =IFERROR(AL73/SUM(AI73:AM73),"") | AM74: =IFERROR(AM73/SUM(AI73:AM73),"") | AN74: =IFERROR(AN73/SUM(AI73:AM73),"") | AO74: =IFERROR(AO73/SUM(AI73:AM73),"") | AT74: =IFERROR(AT73/SUM(AT73:AX73),"") | AU74: =IFERROR(AU73/SUM(AT73:AX73),"") | AV74: =IFERROR(AV73/SUM(AT73:AX73),"") | AW74: =IFERROR(AW73/SUM(AT73:AX73),"") | AX74: =IFERROR(AX73/SUM(AT73:AX73),"") | AY74: =IFERROR(AY73/SUM(AT73:AX73),"") | AZ74: =IFERROR(AZ73/SUM(AT73:AX73),"") | BD74: =BB74&"."&BC74 -> .
G75: # | M75: =IF(AND(ISBLANK(H75),ISBLANK(I75),ISBLANK(J75),ISBLANK(K75),ISBLANK(L75)),"",SUM(J75:L75)) | N75: =IF(AND(ISBLANK(H75),ISBLANK(I75),ISBLANK(J75),ISBLANK(K75),ISBLANK(L75)),"",SUM(K75:L75)) | O75: =IFERROR(SUM(H75:L75)/E75,"") | P75: =IFERROR(((80*J75)+(100*K75)+(150*L75))/SUM(H75:L75),"") | V75: =IF(AND(ISBLANK(Q75),ISBLANK(R75),ISBLANK(S75),ISBLANK(T75),ISBLANK(U75)),"",SUM(S75:U75)) | W75: =IF(AND(ISBLANK(Q75),ISBLANK(R75),ISBLANK(S75),ISBLANK(T75),ISBLANK(U75)),"",SUM(T75:U75)) | X75: =IFERROR(SUM(Q75:U75)/$E75,"") | Y75: =IFERROR(((80*S75)+(100*T75)+(150*U75))/SUM(Q75:U75),"") | AE75: =IF(AND(ISBLANK(Z75),ISBLANK(AA75),ISBLANK(AB75),ISBLANK(AC75),ISBLANK(AD75)),"",SUM(AB75:AD75)) | AF75: =IF(AND(ISBLANK(Z75),ISBLANK(AA75),ISBLANK(AB75),ISBLANK(AC75),ISBLANK(AD75)),"",SUM(AC75:AD75)) | AG75: =IFERROR(SUM(Z75:AD75)/$E75,"") | AH75: =IFERROR(((80*AB75)+(100*AC75)+(150*AD75))/SUM(Z75:AD75),"") | AN75: =IF(AND(ISBLANK(AI75),ISBLANK(AJ75),ISBLANK(AK75),ISBLANK(AL75),ISBLANK(AM75)),"",SUM(AK75:AM75)) | AO75: =IF(AND(ISBLANK(AI75),ISBLANK(AJ75),ISBLANK(AK75),ISBLANK(AL75),ISBLANK(AM75)),"",SUM(AL75:AM75)) | AP75: =IFERROR(SUM(AI75:AM75)/$E75,"") | AQ75: =IFERROR(((80*AK75)+(100*AL75)+(150*AM75))/SUM(AI75:AM75),"") | AR75: =IFERROR(AVERAGE(Y75,AH75,AQ75),"") | AS75: =IF(OR(P75="",AR75=""),"",AR75-P75) | AY75: =IF(AND(ISBLANK(AT75),ISBLANK(AU75),ISBLANK(AV75),ISBLANK(AW75),ISBLANK(AX75)),"",SUM(AV75:AX75)) | AZ75: =IF(AND(ISBLANK(AT75),ISBLANK(AU75),ISBLANK(AV75),ISBLANK(AW75),ISBLANK(AX75)),"",SUM(AW75:AX75)) | BA75: =IFERROR(((80*AV75)+(100*AW75)+(150*AX75))/SUM(AT75:AX75),"") | BB75: =B75 -> 0 | BC75: =C75 -> 0 | BD75: =BB75&"."&BC75 -> 0.0 | BE75: =D75 -> 0 | BF75: =H75 -> 0 | BG75: =I75 -> 0 | BH75: =J75 -> 0 | BI75: =K75 -> 0 | BJ75: =L75 -> 0 | BK75: =M75 | BL75: =N75 | BM75: =P75 | BN75: =Q75 -> 0 | BO75: =R75 -> 0 | BP75: =S75 -> 0 | BQ75: =T75 -> 0 | BR75: =U75 -> 0 | BS75: =V75 | BT75: =W75 | BU75: =Y75 | BV75: =Z75 -> 0 | BW75: =AA75 -> 0 | BX75: =AB75 -> 0 | BY75: =AC75 -> 0 | BZ75: =AD75 -> 0 | CA75: =AE75 | CB75: =AF75 | CC75: =AH75 | CD75: =AI75 -> 0 | CE75: =AJ75 -> 0 | CF75: =AK75 -> 0 | CG75: =AL75 -> 0 | CH75: =AM75 -> 0 | CI75: =AN75 | CJ75: =AO75 | CK75: =AQ75 | CL75: =AT75 -> 0 | CM75: =AU75 -> 0 | CN75: =AV75 -> 0 | CO75: =AW75 -> 0 | CP75: =AX75 -> 0 | CQ75: =AY75 | CR75: =AZ75 | CS75: =BA75
G76: % | H76: =IFERROR(H75/SUM(H75:L75),"") | I76: =IFERROR(I75/SUM(H75:L75),"") | J76: =IFERROR(J75/SUM(H75:L75),"") | K76: =IFERROR(K75/SUM(H75:L75),"") | L76: =IFERROR(L75/SUM(H75:L75),"") | M76: =IFERROR(M75/SUM(H75:L75),"") | N76: =IFERROR(N75/SUM(H75:L75),"") | Q76: =IFERROR(Q75/SUM(Q75:U75),"") | R76: =IFERROR(R75/SUM(Q75:U75),"") | S76: =IFERROR(S75/SUM(Q75:U75),"") | T76: =IFERROR(T75/SUM(Q75:U75),"") | U76: =IFERROR(U75/SUM(Q75:U75),"") | V76: =IFERROR(V75/SUM(Q75:U75),"") | W76: =IFERROR(W75/SUM(Q75:U75),"") | Z76: =IFERROR(Z75/SUM(Z75:AD75),"") | AA76: =IFERROR(AA75/SUM(Z75:AD75),"") | AB76: =IFERROR(AB75/SUM(Z75:AD75),"") | AC76: =IFERROR(AC75/SUM(Z75:AD75),"") | AD76: =IFERROR(AD75/SUM(Z75:AD75),"") | AE76: =IFERROR(AE75/SUM(Z75:AD75),"") | AF76: =IFERROR(AF75/SUM(Z75:AD75),"") | AI76: =IFERROR(AI75/SUM(AI75:AM75),"") | AJ76: =IFERROR(AJ75/SUM(AI75:AM75),"") | AK76: =IFERROR(AK75/SUM(AI75:AM75),"") | AL76: =IFERROR(AL75/SUM(AI75:AM75),"") | AM76: =IFERROR(AM75/SUM(AI75:AM75),"") | AN76: =IFERROR(AN75/SUM(AI75:AM75),"") | AO76: =IFERROR(AO75/SUM(AI75:AM75),"") | AT76: =IFERROR(AT75/SUM(AT75:AX75),"") | AU76: =IFERROR(AU75/SUM(AT75:AX75),"") | AV76: =IFERROR(AV75/SUM(AT75:AX75),"") | AW76: =IFERROR(AW75/SUM(AT75:AX75),"") | AX76: =IFERROR(AX75/SUM(AT75:AX75),"") | AY76: =IFERROR(AY75/SUM(AT75:AX75),"") | AZ76: =IFERROR(AZ75/SUM(AT75:AX75),"") | BD76: =BB76&"."&BC76 -> .
G77: # | M77: =IF(AND(ISBLANK(H77),ISBLANK(I77),ISBLANK(J77),ISBLANK(K77),ISBLANK(L77)),"",SUM(J77:L77)) | N77: =IF(AND(ISBLANK(H77),ISBLANK(I77),ISBLANK(J77),ISBLANK(K77),ISBLANK(L77)),"",SUM(K77:L77)) | O77: =IFERROR(SUM(H77:L77)/E77,"") | P77: =IFERROR(((80*J77)+(100*K77)+(150*L77))/SUM(H77:L77),"") | V77: =IF(AND(ISBLANK(Q77),ISBLANK(R77),ISBLANK(S77),ISBLANK(T77),ISBLANK(U77)),"",SUM(S77:U77)) | W77: =IF(AND(ISBLANK(Q77),ISBLANK(R77),ISBLANK(S77),ISBLANK(T77),ISBLANK(U77)),"",SUM(T77:U77)) | X77: =IFERROR(SUM(Q77:U77)/$E77,"") | Y77: =IFERROR(((80*S77)+(100*T77)+(150*U77))/SUM(Q77:U77),"") | AE77: =IF(AND(ISBLANK(Z77),ISBLANK(AA77),ISBLANK(AB77),ISBLANK(AC77),ISBLANK(AD77)),"",SUM(AB77:AD77)) | AF77: =IF(AND(ISBLANK(Z77),ISBLANK(AA77),ISBLANK(AB77),ISBLANK(AC77),ISBLANK(AD77)),"",SUM(AC77:AD77)) | AG77: =IFERROR(SUM(Z77:AD77)/$E77,"") | AH77: =IFERROR(((80*AB77)+(100*AC77)+(150*AD77))/SUM(Z77:AD77),"") | AN77: =IF(AND(ISBLANK(AI77),ISBLANK(AJ77),ISBLANK(AK77),ISBLANK(AL77),ISBLANK(AM77)),"",SUM(AK77:AM77)) | AO77: =IF(AND(ISBLANK(AI77),ISBLANK(AJ77),ISBLANK(AK77),ISBLANK(AL77),ISBLANK(AM77)),"",SUM(AL77:AM77)) | AP77: =IFERROR(SUM(AI77:AM77)/$E77,"") | AQ77: =IFERROR(((80*AK77)+(100*AL77)+(150*AM77))/SUM(AI77:AM77),"") | AR77: =IFERROR(AVERAGE(Y77,AH77,AQ77),"") | AS77: =IF(OR(P77="",AR77=""),"",AR77-P77) | AY77: =IF(AND(ISBLANK(AT77),ISBLANK(AU77),ISBLANK(AV77),ISBLANK(AW77),ISBLANK(AX77)),"",SUM(AV77:AX77)) | AZ77: =IF(AND(ISBLANK(AT77),ISBLANK(AU77),ISBLANK(AV77),ISBLANK(AW77),ISBLANK(AX77)),"",SUM(AW77:AX77)) | BA77: =IFERROR(((80*AV77)+(100*AW77)+(150*AX77))/SUM(AT77:AX77),"") | BB77: =B77 -> 0 | BC77: =C77 -> 0 | BD77: =BB77&"."&BC77 -> 0.0 | BE77: =D77 -> 0 | BF77: =H77 -> 0 | BG77: =I77 -> 0 | BH77: =J77 -> 0 | BI77: =K77 -> 0 | BJ77: =L77 -> 0 | BK77: =M77 | BL77: =N77 | BM77: =P77 | BN77: =Q77 -> 0 | BO77: =R77 -> 0 | BP77: =S77 -> 0 | BQ77: =T77 -> 0 | BR77: =U77 -> 0 | BS77: =V77 | BT77: =W77 | BU77: =Y77 | BV77: =Z77 -> 0 | BW77: =AA77 -> 0 | BX77: =AB77 -> 0 | BY77: =AC77 -> 0 | BZ77: =AD77 -> 0 | CA77: =AE77 | CB77: =AF77 | CC77: =AH77 | CD77: =AI77 -> 0 | CE77: =AJ77 -> 0 | CF77: =AK77 -> 0 | CG77: =AL77 -> 0 | CH77: =AM77 -> 0 | CI77: =AN77 | CJ77: =AO77 | CK77: =AQ77 | CL77: =AT77 -> 0 | CM77: =AU77 -> 0 | CN77: =AV77 -> 0 | CO77: =AW77 -> 0 | CP77: =AX77 -> 0 | CQ77: =AY77 | CR77: =AZ77 | CS77: =BA77
G78: % | H78: =IFERROR(H77/SUM(H77:L77),"") | I78: =IFERROR(I77/SUM(H77:L77),"") | J78: =IFERROR(J77/SUM(H77:L77),"") | K78: =IFERROR(K77/SUM(H77:L77),"") | L78: =IFERROR(L77/SUM(H77:L77),"") | M78: =IFERROR(M77/SUM(H77:L77),"") | N78: =IFERROR(N77/SUM(H77:L77),"") | Q78: =IFERROR(Q77/SUM(Q77:U77),"") | R78: =IFERROR(R77/SUM(Q77:U77),"") | S78: =IFERROR(S77/SUM(Q77:U77),"") | T78: =IFERROR(T77/SUM(Q77:U77),"") | U78: =IFERROR(U77/SUM(Q77:U77),"") | V78: =IFERROR(V77/SUM(Q77:U77),"") | W78: =IFERROR(W77/SUM(Q77:U77),"") | Z78: =IFERROR(Z77/SUM(Z77:AD77),"") | AA78: =IFERROR(AA77/SUM(Z77:AD77),"") | AB78: =IFERROR(AB77/SUM(Z77:AD77),"") | AC78: =IFERROR(AC77/SUM(Z77:AD77),"") | AD78: =IFERROR(AD77/SUM(Z77:AD77),"") | AE78: =IFERROR(AE77/SUM(Z77:AD77),"") | AF78: =IFERROR(AF77/SUM(Z77:AD77),"") | AI78: =IFERROR(AI77/SUM(AI77:AM77),"") | AJ78: =IFERROR(AJ77/SUM(AI77:AM77),"") | AK78: =IFERROR(AK77/SUM(AI77:AM77),"") | AL78: =IFERROR(AL77/SUM(AI77:AM77),"") | AM78: =IFERROR(AM77/SUM(AI77:AM77),"") | AN78: =IFERROR(AN77/SUM(AI77:AM77),"") | AO78: =IFERROR(AO77/SUM(AI77:AM77),"") | AT78: =IFERROR(AT77/SUM(AT77:AX77),"") | AU78: =IFERROR(AU77/SUM(AT77:AX77),"") | AV78: =IFERROR(AV77/SUM(AT77:AX77),"") | AW78: =IFERROR(AW77/SUM(AT77:AX77),"") | AX78: =IFERROR(AX77/SUM(AT77:AX77),"") | AY78: =IFERROR(AY77/SUM(AT77:AX77),"") | AZ78: =IFERROR(AZ77/SUM(AT77:AX77),"") | BD78: =BB78&"."&BC78 -> .
G79: # | M79: =IF(AND(ISBLANK(H79),ISBLANK(I79),ISBLANK(J79),ISBLANK(K79),ISBLANK(L79)),"",SUM(J79:L79)) | N79: =IF(AND(ISBLANK(H79),ISBLANK(I79),ISBLANK(J79),ISBLANK(K79),ISBLANK(L79)),"",SUM(K79:L79)) | O79: =IFERROR(SUM(H79:L79)/E79,"") | P79: =IFERROR(((80*J79)+(100*K79)+(150*L79))/SUM(H79:L79),"") | V79: =IF(AND(ISBLANK(Q79),ISBLANK(R79),ISBLANK(S79),ISBLANK(T79),ISBLANK(U79)),"",SUM(S79:U79)) | W79: =IF(AND(ISBLANK(Q79),ISBLANK(R79),ISBLANK(S79),ISBLANK(T79),ISBLANK(U79)),"",SUM(T79:U79)) | X79: =IFERROR(SUM(Q79:U79)/$E79,"") | Y79: =IFERROR(((80*S79)+(100*T79)+(150*U79))/SUM(Q79:U79),"") | AE79: =IF(AND(ISBLANK(Z79),ISBLANK(AA79),ISBLANK(AB79),ISBLANK(AC79),ISBLANK(AD79)),"",SUM(AB79:AD79)) | AF79: =IF(AND(ISBLANK(Z79),ISBLANK(AA79),ISBLANK(AB79),ISBLANK(AC79),ISBLANK(AD79)),"",SUM(AC79:AD79)) | AG79: =IFERROR(SUM(Z79:AD79)/$E79,"") | AH79: =IFERROR(((80*AB79)+(100*AC79)+(150*AD79))/SUM(Z79:AD79),"") | AN79: =IF(AND(ISBLANK(AI79),ISBLANK(AJ79),ISBLANK(AK79),ISBLANK(AL79),ISBLANK(AM79)),"",SUM(AK79:AM79)) | AO79: =IF(AND(ISBLANK(AI79),ISBLANK(AJ79),ISBLANK(AK79),ISBLANK(AL79),ISBLANK(AM79)),"",SUM(AL79:AM79)) | AP79: =IFERROR(SUM(AI79:AM79)/$E79,"") | AQ79: =IFERROR(((80*AK79)+(100*AL79)+(150*AM79))/SUM(AI79:AM79),"") | AR79: =IFERROR(AVERAGE(Y79,AH79,AQ79),"") | AS79: =IF(OR(P79="",AR79=""),"",AR79-P79) | AY79: =IF(AND(ISBLANK(AT79),ISBLANK(AU79),ISBLANK(AV79),ISBLANK(AW79),ISBLANK(AX79)),"",SUM(AV79:AX79)) | AZ79: =IF(AND(ISBLANK(AT79),ISBLANK(AU79),ISBLANK(AV79),ISBLANK(AW79),ISBLANK(AX79)),"",SUM(AW79:AX79)) | BA79: =IFERROR(((80*AV79)+(100*AW79)+(150*AX79))/SUM(AT79:AX79),"") | BB79: =B79 -> 0 | BC79: =C79 -> 0 | BD79: =BB79&"."&BC79 -> 0.0 | BE79: =D79 -> 0 | BF79: =H79 -> 0 | BG79: =I79 -> 0 | BH79: =J79 -> 0 | BI79: =K79 -> 0 | BJ79: =L79 -> 0 | BK79: =M79 | BL79: =N79 | BM79: =P79 | BN79: =Q79 -> 0 | BO79: =R79 -> 0 | BP79: =S79 -> 0 | BQ79: =T79 -> 0 | BR79: =U79 -> 0 | BS79: =V79 | BT79: =W79 | BU79: =Y79 | BV79: =Z79 -> 0 | BW79: =AA79 -> 0 | BX79: =AB79 -> 0 | BY79: =AC79 -> 0 | BZ79: =AD79 -> 0 | CA79: =AE79 | CB79: =AF79 | CC79: =AH79 | CD79: =AI79 -> 0 | CE79: =AJ79 -> 0 | CF79: =AK79 -> 0 | CG79: =AL79 -> 0 | CH79: =AM79 -> 0 | CI79: =AN79 | CJ79: =AO79 | CK79: =AQ79 | CL79: =AT79 -> 0 | CM79: =AU79 -> 0 | CN79: =AV79 -> 0 | CO79: =AW79 -> 0 | CP79: =AX79 -> 0 | CQ79: =AY79 | CR79: =AZ79 | CS79: =BA79
G80: % | H80: =IFERROR(H79/SUM(H79:L79),"") | I80: =IFERROR(I79/SUM(H79:L79),"") | J80: =IFERROR(J79/SUM(H79:L79),"") | K80: =IFERROR(K79/SUM(H79:L79),"") | L80: =IFERROR(L79/SUM(H79:L79),"") | M80: =IFERROR(M79/SUM(H79:L79),"") | N80: =IFERROR(N79/SUM(H79:L79),"") | Q80: =IFERROR(Q79/SUM(Q79:U79),"") | R80: =IFERROR(R79/SUM(Q79:U79),"") | S80: =IFERROR(S79/SUM(Q79:U79),"") | T80: =IFERROR(T79/SUM(Q79:U79),"") | U80: =IFERROR(U79/SUM(Q79:U79),"") | V80: =IFERROR(V79/SUM(Q79:U79),"") | W80: =IFERROR(W79/SUM(Q79:U79),"") | Z80: =IFERROR(Z79/SUM(Z79:AD79),"") | AA80: =IFERROR(AA79/SUM(Z79:AD79),"") | AB80: =IFERROR(AB79/SUM(Z79:AD79),"") | AC80: =IFERROR(AC79/SUM(Z79:AD79),"") | AD80: =IFERROR(AD79/SUM(Z79:AD79),"") | AE80: =IFERROR(AE79/SUM(Z79:AD79),"") | AF80: =IFERROR(AF79/SUM(Z79:AD79),"") | AI80: =IFERROR(AI79/SUM(AI79:AM79),"") | AJ80: =IFERROR(AJ79/SUM(AI79:AM79),"") | AK80: =IFERROR(AK79/SUM(AI79:AM79),"") | AL80: =IFERROR(AL79/SUM(AI79:AM79),"") | AM80: =IFERROR(AM79/SUM(AI79:AM79),"") | AN80: =IFERROR(AN79/SUM(AI79:AM79),"") | AO80: =IFERROR(AO79/SUM(AI79:AM79),"") | AT80: =IFERROR(AT79/SUM(AT79:AX79),"") | AU80: =IFERROR(AU79/SUM(AT79:AX79),"") | AV80: =IFERROR(AV79/SUM(AT79:AX79),"") | AW80: =IFERROR(AW79/SUM(AT79:AX79),"") | AX80: =IFERROR(AX79/SUM(AT79:AX79),"") | AY80: =IFERROR(AY79/SUM(AT79:AX79),"") | AZ80: =IFERROR(AZ79/SUM(AT79:AX79),"") | BD80: =BB80&"."&BC80 -> .
G81: # | M81: =IF(AND(ISBLANK(H81),ISBLANK(I81),ISBLANK(J81),ISBLANK(K81),ISBLANK(L81)),"",SUM(J81:L81)) | N81: =IF(AND(ISBLANK(H81),ISBLANK(I81),ISBLANK(J81),ISBLANK(K81),ISBLANK(L81)),"",SUM(K81:L81)) | O81: =IFERROR(SUM(H81:L81)/E81,"") | P81: =IFERROR(((80*J81)+(100*K81)+(150*L81))/SUM(H81:L81),"") | V81: =IF(AND(ISBLANK(Q81),ISBLANK(R81),ISBLANK(S81),ISBLANK(T81),ISBLANK(U81)),"",SUM(S81:U81)) | W81: =IF(AND(ISBLANK(Q81),ISBLANK(R81),ISBLANK(S81),ISBLANK(T81),ISBLANK(U81)),"",SUM(T81:U81)) | X81: =IFERROR(SUM(Q81:U81)/$E81,"") | Y81: =IFERROR(((80*S81)+(100*T81)+(150*U81))/SUM(Q81:U81),"") | AE81: =IF(AND(ISBLANK(Z81),ISBLANK(AA81),ISBLANK(AB81),ISBLANK(AC81),ISBLANK(AD81)),"",SUM(AB81:AD81)) | AF81: =IF(AND(ISBLANK(Z81),ISBLANK(AA81),ISBLANK(AB81),ISBLANK(AC81),ISBLANK(AD81)),"",SUM(AC81:AD81)) | AG81: =IFERROR(SUM(Z81:AD81)/$E81,"") | AH81: =IFERROR(((80*AB81)+(100*AC81)+(150*AD81))/SUM(Z81:AD81),"") | AN81: =IF(AND(ISBLANK(AI81),ISBLANK(AJ81),ISBLANK(AK81),ISBLANK(AL81),ISBLANK(AM81)),"",SUM(AK81:AM81)) | AO81: =IF(AND(ISBLANK(AI81),ISBLANK(AJ81),ISBLANK(AK81),ISBLANK(AL81),ISBLANK(AM81)),"",SUM(AL81:AM81)) | AP81: =IFERROR(SUM(AI81:AM81)/$E81,"") | AQ81: =IFERROR(((80*AK81)+(100*AL81)+(150*AM81))/SUM(AI81:AM81),"") | AR81: =IFERROR(AVERAGE(Y81,AH81,AQ81),"") | AS81: =IF(OR(P81="",AR81=""),"",AR81-P81) | AY81: =IF(AND(ISBLANK(AT81),ISBLANK(AU81),ISBLANK(AV81),ISBLANK(AW81),ISBLANK(AX81)),"",SUM(AV81:AX81)) | AZ81: =IF(AND(ISBLANK(AT81),ISBLANK(AU81),ISBLANK(AV81),ISBLANK(AW81),ISBLANK(AX81)),"",SUM(AW81:AX81)) | BA81: =IFERROR(((80*AV81)+(100*AW81)+(150*AX81))/SUM(AT81:AX81),"") | BB81: =B81 -> 0 | BC81: =C81 -> 0 | BD81: =BB81&"."&BC81 -> 0.0 | BE81: =D81 -> 0 | BF81: =H81 -> 0 | BG81: =I81 -> 0 | BH81: =J81 -> 0 | BI81: =K81 -> 0 | BJ81: =L81 -> 0 | BK81: =M81 | BL81: =N81 | BM81: =P81 | BN81: =Q81 -> 0 | BO81: =R81 -> 0 | BP81: =S81 -> 0 | BQ81: =T81 -> 0 | BR81: =U81 -> 0 | BS81: =V81 | BT81: =W81 | BU81: =Y81 | BV81: =Z81 -> 0 | BW81: =AA81 -> 0 | BX81: =AB81 -> 0 | BY81: =AC81 -> 0 | BZ81: =AD81 -> 0 | CA81: =AE81 | CB81: =AF81 | CC81: =AH81 | CD81: =AI81 -> 0 | CE81: =AJ81 -> 0 | CF81: =AK81 -> 0 | CG81: =AL81 -> 0 | CH81: =AM81 -> 0 | CI81: =AN81 | CJ81: =AO81 | CK81: =AQ81 | CL81: =AT81 -> 0 | CM81: =AU81 -> 0 | CN81: =AV81 -> 0 | CO81: =AW81 -> 0 | CP81: =AX81 -> 0 | CQ81: =AY81 | CR81: =AZ81 | CS81: =BA81
G82: % | H82: =IFERROR(H81/SUM(H81:L81),"") | I82: =IFERROR(I81/SUM(H81:L81),"") | J82: =IFERROR(J81/SUM(H81:L81),"") | K82: =IFERROR(K81/SUM(H81:L81),"") | L82: =IFERROR(L81/SUM(H81:L81),"") | M82: =IFERROR(M81/SUM(H81:L81),"") | N82: =IFERROR(N81/SUM(H81:L81),"") | Q82: =IFERROR(Q81/SUM(Q81:U81),"") | R82: =IFERROR(R81/SUM(Q81:U81),"") | S82: =IFERROR(S81/SUM(Q81:U81),"") | T82: =IFERROR(T81/SUM(Q81:U81),"") | U82: =IFERROR(U81/SUM(Q81:U81),"") | V82: =IFERROR(V81/SUM(Q81:U81),"") | W82: =IFERROR(W81/SUM(Q81:U81),"") | Z82: =IFERROR(Z81/SUM(Z81:AD81),"") | AA82: =IFERROR(AA81/SUM(Z81:AD81),"") | AB82: =IFERROR(AB81/SUM(Z81:AD81),"") | AC82: =IFERROR(AC81/SUM(Z81:AD81),"") | AD82: =IFERROR(AD81/SUM(Z81:AD81),"") | AE82: =IFERROR(AE81/SUM(Z81:AD81),"") | AF82: =IFERROR(AF81/SUM(Z81:AD81),"") | AI82: =IFERROR(AI81/SUM(AI81:AM81),"") | AJ82: =IFERROR(AJ81/SUM(AI81:AM81),"") | AK82: =IFERROR(AK81/SUM(AI81:AM81),"") | AL82: =IFERROR(AL81/SUM(AI81:AM81),"") | AM82: =IFERROR(AM81/SUM(AI81:AM81),"") | AN82: =IFERROR(AN81/SUM(AI81:AM81),"") | AO82: =IFERROR(AO81/SUM(AI81:AM81),"") | AT82: =IFERROR(AT81/SUM(AT81:AX81),"") | AU82: =IFERROR(AU81/SUM(AT81:AX81),"") | AV82: =IFERROR(AV81/SUM(AT81:AX81),"") | AW82: =IFERROR(AW81/SUM(AT81:AX81),"") | AX82: =IFERROR(AX81/SUM(AT81:AX81),"") | AY82: =IFERROR(AY81/SUM(AT81:AX81),"") | AZ82: =IFERROR(AZ81/SUM(AT81:AX81),"") | BD82: =BB82&"."&BC82 -> .
G83: # | M83: =IF(AND(ISBLANK(H83),ISBLANK(I83),ISBLANK(J83),ISBLANK(K83),ISBLANK(L83)),"",SUM(J83:L83)) | N83: =IF(AND(ISBLANK(H83),ISBLANK(I83),ISBLANK(J83),ISBLANK(K83),ISBLANK(L83)),"",SUM(K83:L83)) | O83: =IFERROR(SUM(H83:L83)/E83,"") | P83: =IFERROR(((80*J83)+(100*K83)+(150*L83))/SUM(H83:L83),"") | V83: =IF(AND(ISBLANK(Q83),ISBLANK(R83),ISBLANK(S83),ISBLANK(T83),ISBLANK(U83)),"",SUM(S83:U83)) | W83: =IF(AND(ISBLANK(Q83),ISBLANK(R83),ISBLANK(S83),ISBLANK(T83),ISBLANK(U83)),"",SUM(T83:U83)) | X83: =IFERROR(SUM(Q83:U83)/$E83,"") | Y83: =IFERROR(((80*S83)+(100*T83)+(150*U83))/SUM(Q83:U83),"") | AE83: =IF(AND(ISBLANK(Z83),ISBLANK(AA83),ISBLANK(AB83),ISBLANK(AC83),ISBLANK(AD83)),"",SUM(AB83:AD83)) | AF83: =IF(AND(ISBLANK(Z83),ISBLANK(AA83),ISBLANK(AB83),ISBLANK(AC83),ISBLANK(AD83)),"",SUM(AC83:AD83)) | AG83: =IFERROR(SUM(Z83:AD83)/$E83,"") | AH83: =IFERROR(((80*AB83)+(100*AC83)+(150*AD83))/SUM(Z83:AD83),"") | AN83: =IF(AND(ISBLANK(AI83),ISBLANK(AJ83),ISBLANK(AK83),ISBLANK(AL83),ISBLANK(AM83)),"",SUM(AK83:AM83)) | AO83: =IF(AND(ISBLANK(AI83),ISBLANK(AJ83),ISBLANK(AK83),ISBLANK(AL83),ISBLANK(AM83)),"",SUM(AL83:AM83)) | AP83: =IFERROR(SUM(AI83:AM83)/$E83,"") | AQ83: =IFERROR(((80*AK83)+(100*AL83)+(150*AM83))/SUM(AI83:AM83),"") | AR83: =IFERROR(AVERAGE(Y83,AH83,AQ83),"") | AS83: =IF(OR(P83="",AR83=""),"",AR83-P83) | AY83: =IF(AND(ISBLANK(AT83),ISBLANK(AU83),ISBLANK(AV83),ISBLANK(AW83),ISBLANK(AX83)),"",SUM(AV83:AX83)) | AZ83: =IF(AND(ISBLANK(AT83),ISBLANK(AU83),ISBLANK(AV83),ISBLANK(AW83),ISBLANK(AX83)),"",SUM(AW83:AX83)) | BA83: =IFERROR(((80*AV83)+(100*AW83)+(150*AX83))/SUM(AT83:AX83),"") | BB83: =B83 -> 0 | BC83: =C83 -> 0 | BD83: =BB83&"."&BC83 -> 0.0 | BE83: =D83 -> 0 | BF83: =H83 -> 0 | BG83: =I83 -> 0 | BH83: =J83 -> 0 | BI83: =K83 -> 0 | BJ83: =L83 -> 0 | BK83: =M83 | BL83: =N83 | BM83: =P83 | BN83: =Q83 -> 0 | BO83: =R83 -> 0 | BP83: =S83 -> 0 | BQ83: =T83 -> 0 | BR83: =U83 -> 0 | BS83: =V83 | BT83: =W83 | BU83: =Y83 | BV83: =Z83 -> 0 | BW83: =AA83 -> 0 | BX83: =AB83 -> 0 | BY83: =AC83 -> 0 | BZ83: =AD83 -> 0 | CA83: =AE83 | CB83: =AF83 | CC83: =AH83 | CD83: =AI83 -> 0 | CE83: =AJ83 -> 0 | CF83: =AK83 -> 0 | CG83: =AL83 -> 0 | CH83: =AM83 -> 0 | CI83: =AN83 | CJ83: =AO83 | CK83: =AQ83 | CL83: =AT83 -> 0 | CM83: =AU83 -> 0 | CN83: =AV83 -> 0 | CO83: =AW83 -> 0 | CP83: =AX83 -> 0 | CQ83: =AY83 | CR83: =AZ83 | CS83: =BA83
G84: % | H84: =IFERROR(H83/SUM(H83:L83),"") | I84: =IFERROR(I83/SUM(H83:L83),"") | J84: =IFERROR(J83/SUM(H83:L83),"") | K84: =IFERROR(K83/SUM(H83:L83),"") | L84: =IFERROR(L83/SUM(H83:L83),"") | M84: =IFERROR(M83/SUM(H83:L83),"") | N84: =IFERROR(N83/SUM(H83:L83),"") | Q84: =IFERROR(Q83/SUM(Q83:U83),"") | R84: =IFERROR(R83/SUM(Q83:U83),"") | S84: =IFERROR(S83/SUM(Q83:U83),"") | T84: =IFERROR(T83/SUM(Q83:U83),"") | U84: =IFERROR(U83/SUM(Q83:U83),"") | V84: =IFERROR(V83/SUM(Q83:U83),"") | W84: =IFERROR(W83/SUM(Q83:U83),"") | Z84: =IFERROR(Z83/SUM(Z83:AD83),"") | AA84: =IFERROR(AA83/SUM(Z83:AD83),"") | AB84: =IFERROR(AB83/SUM(Z83:AD83),"") | AC84: =IFERROR(AC83/SUM(Z83:AD83),"") | AD84: =IFERROR(AD83/SUM(Z83:AD83),"") | AE84: =IFERROR(AE83/SUM(Z83:AD83),"") | AF84: =IFERROR(AF83/SUM(Z83:AD83),"") | AI84: =IFERROR(AI83/SUM(AI83:AM83),"") | AJ84: =IFERROR(AJ83/SUM(AI83:AM83),"") | AK84: =IFERROR(AK83/SUM(AI83:AM83),"") | AL84: =IFERROR(AL83/SUM(AI83:AM83),"") | AM84: =IFERROR(AM83/SUM(AI83:AM83),"") | AN84: =IFERROR(AN83/SUM(AI83:AM83),"") | AO84: =IFERROR(AO83/SUM(AI83:AM83),"") | AT84: =IFERROR(AT83/SUM(AT83:AX83),"") | AU84: =IFERROR(AU83/SUM(AT83:AX83),"") | AV84: =IFERROR(AV83/SUM(AT83:AX83),"") | AW84: =IFERROR(AW83/SUM(AT83:AX83),"") | AX84: =IFERROR(AX83/SUM(AT83:AX83),"") | AY84: =IFERROR(AY83/SUM(AT83:AX83),"") | AZ84: =IFERROR(AZ83/SUM(AT83:AX83),"") | BD84: =BB84&"."&BC84 -> .
G85: # | M85: =IF(AND(ISBLANK(H85),ISBLANK(I85),ISBLANK(J85),ISBLANK(K85),ISBLANK(L85)),"",SUM(J85:L85)) | N85: =IF(AND(ISBLANK(H85),ISBLANK(I85),ISBLANK(J85),ISBLANK(K85),ISBLANK(L85)),"",SUM(K85:L85)) | O85: =IFERROR(SUM(H85:L85)/E85,"") | P85: =IFERROR(((80*J85)+(100*K85)+(150*L85))/SUM(H85:L85),"") | V85: =IF(AND(ISBLANK(Q85),ISBLANK(R85),ISBLANK(S85),ISBLANK(T85),ISBLANK(U85)),"",SUM(S85:U85)) | W85: =IF(AND(ISBLANK(Q85),ISBLANK(R85),ISBLANK(S85),ISBLANK(T85),ISBLANK(U85)),"",SUM(T85:U85)) | X85: =IFERROR(SUM(Q85:U85)/$E85,"") | Y85: =IFERROR(((80*S85)+(100*T85)+(150*U85))/SUM(Q85:U85),"") | AE85: =IF(AND(ISBLANK(Z85),ISBLANK(AA85),ISBLANK(AB85),ISBLANK(AC85),ISBLANK(AD85)),"",SUM(AB85:AD85)) | AF85: =IF(AND(ISBLANK(Z85),ISBLANK(AA85),ISBLANK(AB85),ISBLANK(AC85),ISBLANK(AD85)),"",SUM(AC85:AD85)) | AG85: =IFERROR(SUM(Z85:AD85)/$E85,"") | AH85: =IFERROR(((80*AB85)+(100*AC85)+(150*AD85))/SUM(Z85:AD85),"") | AN85: =IF(AND(ISBLANK(AI85),ISBLANK(AJ85),ISBLANK(AK85),ISBLANK(AL85),ISBLANK(AM85)),"",SUM(AK85:AM85)) | AO85: =IF(AND(ISBLANK(AI85),ISBLANK(AJ85),ISBLANK(AK85),ISBLANK(AL85),ISBLANK(AM85)),"",SUM(AL85:AM85)) | AP85: =IFERROR(SUM(AI85:AM85)/$E85,"") | AQ85: =IFERROR(((80*AK85)+(100*AL85)+(150*AM85))/SUM(AI85:AM85),"") | AR85: =IFERROR(AVERAGE(Y85,AH85,AQ85),"") | AS85: =IF(OR(P85="",AR85=""),"",AR85-P85) | AY85: =IF(AND(ISBLANK(AT85),ISBLANK(AU85),ISBLANK(AV85),ISBLANK(AW85),ISBLANK(AX85)),"",SUM(AV85:AX85)) | AZ85: =IF(AND(ISBLANK(AT85),ISBLANK(AU85),ISBLANK(AV85),ISBLANK(AW85),ISBLANK(AX85)),"",SUM(AW85:AX85)) | BA85: =IFERROR(((80*AV85)+(100*AW85)+(150*AX85))/SUM(AT85:AX85),"") | BB85: =B85 -> 0 | BC85: =C85 -> 0 | BD85: =BB85&"."&BC85 -> 0.0 | BE85: =D85 -> 0 | BF85: =H85 -> 0 | BG85: =I85 -> 0 | BH85: =J85 -> 0 | BI85: =K85 -> 0 | BJ85: =L85 -> 0 | BK85: =M85 | BL85: =N85 | BM85: =P85 | BN85: =Q85 -> 0 | BO85: =R85 -> 0 | BP85: =S85 -> 0 | BQ85: =T85 -> 0 | BR85: =U85 -> 0 | BS85: =V85 | BT85: =W85 | BU85: =Y85 | BV85: =Z85 -> 0 | BW85: =AA85 -> 0 | BX85: =AB85 -> 0 | BY85: =AC85 -> 0 | BZ85: =AD85 -> 0 | CA85: =AE85 | CB85: =AF85 | CC85: =AH85 | CD85: =AI85 -> 0 | CE85: =AJ85 -> 0 | CF85: =AK85 -> 0 | CG85: =AL85 -> 0 | CH85: =AM85 -> 0 | CI85: =AN85 | CJ85: =AO85 | CK85: =AQ85 | CL85: =AT85 -> 0 | CM85: =AU85 -> 0 | CN85: =AV85 -> 0 | CO85: =AW85 -> 0 | CP85: =AX85 -> 0 | CQ85: =AY85 | CR85: =AZ85 | CS85: =BA85
G86: % | H86: =IFERROR(H85/SUM(H85:L85),"") | I86: =IFERROR(I85/SUM(H85:L85),"") | J86: =IFERROR(J85/SUM(H85:L85),"") | K86: =IFERROR(K85/SUM(H85:L85),"") | L86: =IFERROR(L85/SUM(H85:L85),"") | M86: =IFERROR(M85/SUM(H85:L85),"") | N86: =IFERROR(N85/SUM(H85:L85),"") | Q86: =IFERROR(Q85/SUM(Q85:U85),"") | R86: =IFERROR(R85/SUM(Q85:U85),"") | S86: =IFERROR(S85/SUM(Q85:U85),"") | T86: =IFERROR(T85/SUM(Q85:U85),"") | U86: =IFERROR(U85/SUM(Q85:U85),"") | V86: =IFERROR(V85/SUM(Q85:U85),"") | W86: =IFERROR(W85/SUM(Q85:U85),"") | Z86: =IFERROR(Z85/SUM(Z85:AD85),"") | AA86: =IFERROR(AA85/SUM(Z85:AD85),"") | AB86: =IFERROR(AB85/SUM(Z85:AD85),"") | AC86: =IFERROR(AC85/SUM(Z85:AD85),"") | AD86: =IFERROR(AD85/SUM(Z85:AD85),"") | AE86: =IFERROR(AE85/SUM(Z85:AD85),"") | AF86: =IFERROR(AF85/SUM(Z85:AD85),"") | AI86: =IFERROR(AI85/SUM(AI85:AM85),"") | AJ86: =IFERROR(AJ85/SUM(AI85:AM85),"") | AK86: =IFERROR(AK85/SUM(AI85:AM85),"") | AL86: =IFERROR(AL85/SUM(AI85:AM85),"") | AM86: =IFERROR(AM85/SUM(AI85:AM85),"") | AN86: =IFERROR(AN85/SUM(AI85:AM85),"") | AO86: =IFERROR(AO85/SUM(AI85:AM85),"") | AT86: =IFERROR(AT85/SUM(AT85:AX85),"") | AU86: =IFERROR(AU85/SUM(AT85:AX85),"") | AV86: =IFERROR(AV85/SUM(AT85:AX85),"") | AW86: =IFERROR(AW85/SUM(AT85:AX85),"") | AX86: =IFERROR(AX85/SUM(AT85:AX85),"") | AY86: =IFERROR(AY85/SUM(AT85:AX85),"") | AZ86: =IFERROR(AZ85/SUM(AT85:AX85),"") | BD86: =BB86&"."&BC86 -> .
G87: # | M87: =IF(AND(ISBLANK(H87),ISBLANK(I87),ISBLANK(J87),ISBLANK(K87),ISBLANK(L87)),"",SUM(J87:L87)) | N87: =IF(AND(ISBLANK(H87),ISBLANK(I87),ISBLANK(J87),ISBLANK(K87),ISBLANK(L87)),"",SUM(K87:L87)) | O87: =IFERROR(SUM(H87:L87)/E87,"") | P87: =IFERROR(((80*J87)+(100*K87)+(150*L87))/SUM(H87:L87),"") | V87: =IF(AND(ISBLANK(Q87),ISBLANK(R87),ISBLANK(S87),ISBLANK(T87),ISBLANK(U87)),"",SUM(S87:U87)) | W87: =IF(AND(ISBLANK(Q87),ISBLANK(R87),ISBLANK(S87),ISBLANK(T87),ISBLANK(U87)),"",SUM(T87:U87)) | X87: =IFERROR(SUM(Q87:U87)/$E87,"") | Y87: =IFERROR(((80*S87)+(100*T87)+(150*U87))/SUM(Q87:U87),"") | AE87: =IF(AND(ISBLANK(Z87),ISBLANK(AA87),ISBLANK(AB87),ISBLANK(AC87),ISBLANK(AD87)),"",SUM(AB87:AD87)) | AF87: =IF(AND(ISBLANK(Z87),ISBLANK(AA87),ISBLANK(AB87),ISBLANK(AC87),ISBLANK(AD87)),"",SUM(AC87:AD87)) | AG87: =IFERROR(SUM(Z87:AD87)/$E87,"") | AH87: =IFERROR(((80*AB87)+(100*AC87)+(150*AD87))/SUM(Z87:AD87),"") | AN87: =IF(AND(ISBLANK(AI87),ISBLANK(AJ87),ISBLANK(AK87),ISBLANK(AL87),ISBLANK(AM87)),"",SUM(AK87:AM87)) | AO87: =IF(AND(ISBLANK(AI87),ISBLANK(AJ87),ISBLANK(AK87),ISBLANK(AL87),ISBLANK(AM87)),"",SUM(AL87:AM87)) | AP87: =IFERROR(SUM(AI87:AM87)/$E87,"") | AQ87: =IFERROR(((80*AK87)+(100*AL87)+(150*AM87))/SUM(AI87:AM87),"") | AR87: =IFERROR(AVERAGE(Y87,AH87,AQ87),"") | AS87: =IF(OR(P87="",AR87=""),"",AR87-P87) | AY87: =IF(AND(ISBLANK(AT87),ISBLANK(AU87),ISBLANK(AV87),ISBLANK(AW87),ISBLANK(AX87)),"",SUM(AV87:AX87)) | AZ87: =IF(AND(ISBLANK(AT87),ISBLANK(AU87),ISBLANK(AV87),ISBLANK(AW87),ISBLANK(AX87)),"",SUM(AW87:AX87)) | BA87: =IFERROR(((80*AV87)+(100*AW87)+(150*AX87))/SUM(AT87:AX87),"") | BB87: =B87 -> 0 | BC87: =C87 -> 0 | BD87: =BB87&"."&BC87 -> 0.0 | BE87: =D87 -> 0 | BF87: =H87 -> 0 | BG87: =I87 -> 0 | BH87: =J87 -> 0 | BI87: =K87 -> 0 | BJ87: =L87 -> 0 | BK87: =M87 | BL87: =N87 | BM87: =P87 | BN87: =Q87 -> 0 | BO87: =R87 -> 0 | BP87: =S87 -> 0 | BQ87: =T87 -> 0 | BR87: =U87 -> 0 | BS87: =V87 | BT87: =W87 | BU87: =Y87 | BV87: =Z87 -> 0 | BW87: =AA87 -> 0 | BX87: =AB87 -> 0 | BY87: =AC87 -> 0 | BZ87: =AD87 -> 0 | CA87: =AE87 | CB87: =AF87 | CC87: =AH87 | CD87: =AI87 -> 0 | CE87: =AJ87 -> 0 | CF87: =AK87 -> 0 | CG87: =AL87 -> 0 | CH87: =AM87 -> 0 | CI87: =AN87 | CJ87: =AO87 | CK87: =AQ87 | CL87: =AT87 -> 0 | CM87: =AU87 -> 0 | CN87: =AV87 -> 0 | CO87: =AW87 -> 0 | CP87: =AX87 -> 0 | CQ87: =AY87 | CR87: =AZ87 | CS87: =BA87
G88: % | H88: =IFERROR(H87/SUM(H87:L87),"") | I88: =IFERROR(I87/SUM(H87:L87),"") | J88: =IFERROR(J87/SUM(H87:L87),"") | K88: =IFERROR(K87/SUM(H87:L87),"") | L88: =IFERROR(L87/SUM(H87:L87),"") | M88: =IFERROR(M87/SUM(H87:L87),"") | N88: =IFERROR(N87/SUM(H87:L87),"") | Q88: =IFERROR(Q87/SUM(Q87:U87),"") | R88: =IFERROR(R87/SUM(Q87:U87),"") | S88: =IFERROR(S87/SUM(Q87:U87),"") | T88: =IFERROR(T87/SUM(Q87:U87),"") | U88: =IFERROR(U87/SUM(Q87:U87),"") | V88: =IFERROR(V87/SUM(Q87:U87),"") | W88: =IFERROR(W87/SUM(Q87:U87),"") | Z88: =IFERROR(Z87/SUM(Z87:AD87),"") | AA88: =IFERROR(AA87/SUM(Z87:AD87),"") | AB88: =IFERROR(AB87/SUM(Z87:AD87),"") | AC88: =IFERROR(AC87/SUM(Z87:AD87),"") | AD88: =IFERROR(AD87/SUM(Z87:AD87),"") | AE88: =IFERROR(AE87/SUM(Z87:AD87),"") | AF88: =IFERROR(AF87/SUM(Z87:AD87),"") | AI88: =IFERROR(AI87/SUM(AI87:AM87),"") | AJ88: =IFERROR(AJ87/SUM(AI87:AM87),"") | AK88: =IFERROR(AK87/SUM(AI87:AM87),"") | AL88: =IFERROR(AL87/SUM(AI87:AM87),"") | AM88: =IFERROR(AM87/SUM(AI87:AM87),"") | AN88: =IFERROR(AN87/SUM(AI87:AM87),"") | AO88: =IFERROR(AO87/SUM(AI87:AM87),"") | AT88: =IFERROR(AT87/SUM(AT87:AX87),"") | AU88: =IFERROR(AU87/SUM(AT87:AX87),"") | AV88: =IFERROR(AV87/SUM(AT87:AX87),"") | AW88: =IFERROR(AW87/SUM(AT87:AX87),"") | AX88: =IFERROR(AX87/SUM(AT87:AX87),"") | AY88: =IFERROR(AY87/SUM(AT87:AX87),"") | AZ88: =IFERROR(AZ87/SUM(AT87:AX87),"") | BD88: =BB88&"."&BC88 -> .
G89: # | M89: =IF(AND(ISBLANK(H89),ISBLANK(I89),ISBLANK(J89),ISBLANK(K89),ISBLANK(L89)),"",SUM(J89:L89)) | N89: =IF(AND(ISBLANK(H89),ISBLANK(I89),ISBLANK(J89),ISBLANK(K89),ISBLANK(L89)),"",SUM(K89:L89)) | O89: =IFERROR(SUM(H89:L89)/E89,"") | P89: =IFERROR(((80*J89)+(100*K89)+(150*L89))/SUM(H89:L89),"") | V89: =IF(AND(ISBLANK(Q89),ISBLANK(R89),ISBLANK(S89),ISBLANK(T89),ISBLANK(U89)),"",SUM(S89:U89)) | W89: =IF(AND(ISBLANK(Q89),ISBLANK(R89),ISBLANK(S89),ISBLANK(T89),ISBLANK(U89)),"",SUM(T89:U89)) | X89: =IFERROR(SUM(Q89:U89)/$E89,"") | Y89: =IFERROR(((80*S89)+(100*T89)+(150*U89))/SUM(Q89:U89),"") | AE89: =IF(AND(ISBLANK(Z89),ISBLANK(AA89),ISBLANK(AB89),ISBLANK(AC89),ISBLANK(AD89)),"",SUM(AB89:AD89)) | AF89: =IF(AND(ISBLANK(Z89),ISBLANK(AA89),ISBLANK(AB89),ISBLANK(AC89),ISBLANK(AD89)),"",SUM(AC89:AD89)) | AG89: =IFERROR(SUM(Z89:AD89)/$E89,"") | AH89: =IFERROR(((80*AB89)+(100*AC89)+(150*AD89))/SUM(Z89:AD89),"") | AN89: =IF(AND(ISBLANK(AI89),ISBLANK(AJ89),ISBLANK(AK89),ISBLANK(AL89),ISBLANK(AM89)),"",SUM(AK89:AM89)) | AO89: =IF(AND(ISBLANK(AI89),ISBLANK(AJ89),ISBLANK(AK89),ISBLANK(AL89),ISBLANK(AM89)),"",SUM(AL89:AM89)) | AP89: =IFERROR(SUM(AI89:AM89)/$E89,"") | AQ89: =IFERROR(((80*AK89)+(100*AL89)+(150*AM89))/SUM(AI89:AM89),"") | AR89: =IFERROR(AVERAGE(Y89,AH89,AQ89),"") | AS89: =IF(OR(P89="",AR89=""),"",AR89-P89) | AY89: =IF(AND(ISBLANK(AT89),ISBLANK(AU89),ISBLANK(AV89),ISBLANK(AW89),ISBLANK(AX89)),"",SUM(AV89:AX89)) | AZ89: =IF(AND(ISBLANK(AT89),ISBLANK(AU89),ISBLANK(AV89),ISBLANK(AW89),ISBLANK(AX89)),"",SUM(AW89:AX89)) | BA89: =IFERROR(((80*AV89)+(100*AW89)+(150*AX89))/SUM(AT89:AX89),"") | BB89: =B89 -> 0 | BC89: =C89 -> 0 | BD89: =BB89&"."&BC89 -> 0.0 | BE89: =D89 -> 0 | BF89: =H89 -> 0 | BG89: =I89 -> 0 | BH89: =J89 -> 0 | BI89: =K89 -> 0 | BJ89: =L89 -> 0 | BK89: =M89 | BL89: =N89 | BM89: =P89 | BN89: =Q89 -> 0 | BO89: =R89 -> 0 | BP89: =S89 -> 0 | BQ89: =T89 -> 0 | BR89: =U89 -> 0 | BS89: =V89 | BT89: =W89 | BU89: =Y89 | BV89: =Z89 -> 0 | BW89: =AA89 -> 0 | BX89: =AB89 -> 0 | BY89: =AC89 -> 0 | BZ89: =AD89 -> 0 | CA89: =AE89 | CB89: =AF89 | CC89: =AH89 | CD89: =AI89 -> 0 | CE89: =AJ89 -> 0 | CF89: =AK89 -> 0 | CG89: =AL89 -> 0 | CH89: =AM89 -> 0 | CI89: =AN89 | CJ89: =AO89 | CK89: =AQ89 | CL89: =AT89 -> 0 | CM89: =AU89 -> 0 | CN89: =AV89 -> 0 | CO89: =AW89 -> 0 | CP89: =AX89 -> 0 | CQ89: =AY89 | CR89: =AZ89 | CS89: =BA89
G90: % | H90: =IFERROR(H89/SUM(H89:L89),"") | I90: =IFERROR(I89/SUM(H89:L89),"") | J90: =IFERROR(J89/SUM(H89:L89),"") | K90: =IFERROR(K89/SUM(H89:L89),"") | L90: =IFERROR(L89/SUM(H89:L89),"") | M90: =IFERROR(M89/SUM(H89:L89),"") | N90: =IFERROR(N89/SUM(H89:L89),"") | Q90: =IFERROR(Q89/SUM(Q89:U89),"") | R90: =IFERROR(R89/SUM(Q89:U89),"") | S90: =IFERROR(S89/SUM(Q89:U89),"") | T90: =IFERROR(T89/SUM(Q89:U89),"") | U90: =IFERROR(U89/SUM(Q89:U89),"") | V90: =IFERROR(V89/SUM(Q89:U89),"") | W90: =IFERROR(W89/SUM(Q89:U89),"") | Z90: =IFERROR(Z89/SUM(Z89:AD89),"") | AA90: =IFERROR(AA89/SUM(Z89:AD89),"") | AB90: =IFERROR(AB89/SUM(Z89:AD89),"") | AC90: =IFERROR(AC89/SUM(Z89:AD89),"") | AD90: =IFERROR(AD89/SUM(Z89:AD89),"") | AE90: =IFERROR(AE89/SUM(Z89:AD89),"") | AF90: =IFERROR(AF89/SUM(Z89:AD89),"") | AI90: =IFERROR(AI89/SUM(AI89:AM89),"") | AJ90: =IFERROR(AJ89/SUM(AI89:AM89),"") | AK90: =IFERROR(AK89/SUM(AI89:AM89),"") | AL90: =IFERROR(AL89/SUM(AI89:AM89),"") | AM90: =IFERROR(AM89/SUM(AI89:AM89),"") | AN90: =IFERROR(AN89/SUM(AI89:AM89),"") | AO90: =IFERROR(AO89/SUM(AI89:AM89),"") | AT90: =IFERROR(AT89/SUM(AT89:AX89),"") | AU90: =IFERROR(AU89/SUM(AT89:AX89),"") | AV90: =IFERROR(AV89/SUM(AT89:AX89),"") | AW90: =IFERROR(AW89/SUM(AT89:AX89),"") | AX90: =IFERROR(AX89/SUM(AT89:AX89),"") | AY90: =IFERROR(AY89/SUM(AT89:AX89),"") | AZ90: =IFERROR(AZ89/SUM(AT89:AX89),"") | BD90: =BB90&"."&BC90 -> .
G91: # | M91: =IF(AND(ISBLANK(H91),ISBLANK(I91),ISBLANK(J91),ISBLANK(K91),ISBLANK(L91)),"",SUM(J91:L91)) | N91: =IF(AND(ISBLANK(H91),ISBLANK(I91),ISBLANK(J91),ISBLANK(K91),ISBLANK(L91)),"",SUM(K91:L91)) | O91: =IFERROR(SUM(H91:L91)/E91,"") | P91: =IFERROR(((80*J91)+(100*K91)+(150*L91))/SUM(H91:L91),"") | V91: =IF(AND(ISBLANK(Q91),ISBLANK(R91),ISBLANK(S91),ISBLANK(T91),ISBLANK(U91)),"",SUM(S91:U91)) | W91: =IF(AND(ISBLANK(Q91),ISBLANK(R91),ISBLANK(S91),ISBLANK(T91),ISBLANK(U91)),"",SUM(T91:U91)) | X91: =IFERROR(SUM(Q91:U91)/$E91,"") | Y91: =IFERROR(((80*S91)+(100*T91)+(150*U91))/SUM(Q91:U91),"") | AE91: =IF(AND(ISBLANK(Z91),ISBLANK(AA91),ISBLANK(AB91),ISBLANK(AC91),ISBLANK(AD91)),"",SUM(AB91:AD91)) | AF91: =IF(AND(ISBLANK(Z91),ISBLANK(AA91),ISBLANK(AB91),ISBLANK(AC91),ISBLANK(AD91)),"",SUM(AC91:AD91)) | AG91: =IFERROR(SUM(Z91:AD91)/$E91,"") | AH91: =IFERROR(((80*AB91)+(100*AC91)+(150*AD91))/SUM(Z91:AD91),"") | AN91: =IF(AND(ISBLANK(AI91),ISBLANK(AJ91),ISBLANK(AK91),ISBLANK(AL91),ISBLANK(AM91)),"",SUM(AK91:AM91)) | AO91: =IF(AND(ISBLANK(AI91),ISBLANK(AJ91),ISBLANK(AK91),ISBLANK(AL91),ISBLANK(AM91)),"",SUM(AL91:AM91)) | AP91: =IFERROR(SUM(AI91:AM91)/$E91,"") | AQ91: =IFERROR(((80*AK91)+(100*AL91)+(150*AM91))/SUM(AI91:AM91),"") | AR91: =IFERROR(AVERAGE(Y91,AH91,AQ91),"") | AS91: =IF(OR(P91="",AR91=""),"",AR91-P91) | AY91: =IF(AND(ISBLANK(AT91),ISBLANK(AU91),ISBLANK(AV91),ISBLANK(AW91),ISBLANK(AX91)),"",SUM(AV91:AX91)) | AZ91: =IF(AND(ISBLANK(AT91),ISBLANK(AU91),ISBLANK(AV91),ISBLANK(AW91),ISBLANK(AX91)),"",SUM(AW91:AX91)) | BA91: =IFERROR(((80*AV91)+(100*AW91)+(150*AX91))/SUM(AT91:AX91),"") | BB91: =B91 -> 0 | BC91: =C91 -> 0 | BD91: =BB91&"."&BC91 -> 0.0 | BE91: =D91 -> 0 | BF91: =H91 -> 0 | BG91: =I91 -> 0 | BH91: =J91 -> 0 | BI91: =K91 -> 0 | BJ91: =L91 -> 0 | BK91: =M91 | BL91: =N91 | BM91: =P91 | BN91: =Q91 -> 0 | BO91: =R91 -> 0 | BP91: =S91 -> 0 | BQ91: =T91 -> 0 | BR91: =U91 -> 0 | BS91: =V91 | BT91: =W91 | BU91: =Y91 | BV91: =Z91 -> 0 | BW91: =AA91 -> 0 | BX91: =AB91 -> 0 | BY91: =AC91 -> 0 | BZ91: =AD91 -> 0 | CA91: =AE91 | CB91: =AF91 | CC91: =AH91 | CD91: =AI91 -> 0 | CE91: =AJ91 -> 0 | CF91: =AK91 -> 0 | CG91: =AL91 -> 0 | CH91: =AM91 -> 0 | CI91: =AN91 | CJ91: =AO91 | CK91: =AQ91 | CL91: =AT91 -> 0 | CM91: =AU91 -> 0 | CN91: =AV91 -> 0 | CO91: =AW91 -> 0 | CP91: =AX91 -> 0 | CQ91: =AY91 | CR91: =AZ91 | CS91: =BA91
G92: % | H92: =IFERROR(H91/SUM(H91:L91),"") | I92: =IFERROR(I91/SUM(H91:L91),"") | J92: =IFERROR(J91/SUM(H91:L91),"") | K92: =IFERROR(K91/SUM(H91:L91),"") | L92: =IFERROR(L91/SUM(H91:L91),"") | M92: =IFERROR(M91/SUM(H91:L91),"") | N92: =IFERROR(N91/SUM(H91:L91),"") | Q92: =IFERROR(Q91/SUM(Q91:U91),"") | R92: =IFERROR(R91/SUM(Q91:U91),"") | S92: =IFERROR(S91/SUM(Q91:U91),"") | T92: =IFERROR(T91/SUM(Q91:U91),"") | U92: =IFERROR(U91/SUM(Q91:U91),"") | V92: =IFERROR(V91/SUM(Q91:U91),"") | W92: =IFERROR(W91/SUM(Q91:U91),"") | Z92: =IFERROR(Z91/SUM(Z91:AD91),"") | AA92: =IFERROR(AA91/SUM(Z91:AD91),"") | AB92: =IFERROR(AB91/SUM(Z91:AD91),"") | AC92: =IFERROR(AC91/SUM(Z91:AD91),"") | AD92: =IFERROR(AD91/SUM(Z91:AD91),"") | AE92: =IFERROR(AE91/SUM(Z91:AD91),"") | AF92: =IFERROR(AF91/SUM(Z91:AD91),"") | AI92: =IFERROR(AI91/SUM(AI91:AM91),"") | AJ92: =IFERROR(AJ91/SUM(AI91:AM91),"") | AK92: =IFERROR(AK91/SUM(AI91:AM91),"") | AL92: =IFERROR(AL91/SUM(AI91:AM91),"") | AM92: =IFERROR(AM91/SUM(AI91:AM91),"") | AN92: =IFERROR(AN91/SUM(AI91:AM91),"") | AO92: =IFERROR(AO91/SUM(AI91:AM91),"") | AT92: =IFERROR(AT91/SUM(AT91:AX91),"") | AU92: =IFERROR(AU91/SUM(AT91:AX91),"") | AV92: =IFERROR(AV91/SUM(AT91:AX91),"") | AW92: =IFERROR(AW91/SUM(AT91:AX91),"") | AX92: =IFERROR(AX91/SUM(AT91:AX91),"") | AY92: =IFERROR(AY91/SUM(AT91:AX91),"") | AZ92: =IFERROR(AZ91/SUM(AT91:AX91),"") | BD92: =BB92&"."&BC92 -> .
G93: # | M93: =IF(AND(ISBLANK(H93),ISBLANK(I93),ISBLANK(J93),ISBLANK(K93),ISBLANK(L93)),"",SUM(J93:L93)) | N93: =IF(AND(ISBLANK(H93),ISBLANK(I93),ISBLANK(J93),ISBLANK(K93),ISBLANK(L93)),"",SUM(K93:L93)) | O93: =IFERROR(SUM(H93:L93)/E93,"") | P93: =IFERROR(((80*J93)+(100*K93)+(150*L93))/SUM(H93:L93),"") | V93: =IF(AND(ISBLANK(Q93),ISBLANK(R93),ISBLANK(S93),ISBLANK(T93),ISBLANK(U93)),"",SUM(S93:U93)) | W93: =IF(AND(ISBLANK(Q93),ISBLANK(R93),ISBLANK(S93),ISBLANK(T93),ISBLANK(U93)),"",SUM(T93:U93)) | X93: =IFERROR(SUM(Q93:U93)/$E93,"") | Y93: =IFERROR(((80*S93)+(100*T93)+(150*U93))/SUM(Q93:U93),"") | AE93: =IF(AND(ISBLANK(Z93),ISBLANK(AA93),ISBLANK(AB93),ISBLANK(AC93),ISBLANK(AD93)),"",SUM(AB93:AD93)) | AF93: =IF(AND(ISBLANK(Z93),ISBLANK(AA93),ISBLANK(AB93),ISBLANK(AC93),ISBLANK(AD93)),"",SUM(AC93:AD93)) | AG93: =IFERROR(SUM(Z93:AD93)/$E93,"") | AH93: =IFERROR(((80*AB93)+(100*AC93)+(150*AD93))/SUM(Z93:AD93),"") | AN93: =IF(AND(ISBLANK(AI93),ISBLANK(AJ93),ISBLANK(AK93),ISBLANK(AL93),ISBLANK(AM93)),"",SUM(AK93:AM93)) | AO93: =IF(AND(ISBLANK(AI93),ISBLANK(AJ93),ISBLANK(AK93),ISBLANK(AL93),ISBLANK(AM93)),"",SUM(AL93:AM93)) | AP93: =IFERROR(SUM(AI93:AM93)/$E93,"") | AQ93: =IFERROR(((80*AK93)+(100*AL93)+(150*AM93))/SUM(AI93:AM93),"") | AR93: =IFERROR(AVERAGE(Y93,AH93,AQ93),"") | AS93: =IF(OR(P93="",AR93=""),"",AR93-P93) | AY93: =IF(AND(ISBLANK(AT93),ISBLANK(AU93),ISBLANK(AV93),ISBLANK(AW93),ISBLANK(AX93)),"",SUM(AV93:AX93)) | AZ93: =IF(AND(ISBLANK(AT93),ISBLANK(AU93),ISBLANK(AV93),ISBLANK(AW93),ISBLANK(AX93)),"",SUM(AW93:AX93)) | BA93: =IFERROR(((80*AV93)+(100*AW93)+(150*AX93))/SUM(AT93:AX93),"") | BB93: =B93 -> 0 | BC93: =C93 -> 0 | BD93: =BB93&"."&BC93 -> 0.0 | BE93: =D93 -> 0 | BF93: =H93 -> 0 | BG93: =I93 -> 0 | BH93: =J93 -> 0 | BI93: =K93 -> 0 | BJ93: =L93 -> 0 | BK93: =M93 | BL93: =N93 | BM93: =P93 | BN93: =Q93 -> 0 | BO93: =R93 -> 0 | BP93: =S93 -> 0 | BQ93: =T93 -> 0 | BR93: =U93 -> 0 | BS93: =V93 | BT93: =W93 | BU93: =Y93 | BV93: =Z93 -> 0 | BW93: =AA93 -> 0 | BX93: =AB93 -> 0 | BY93: =AC93 -> 0 | BZ93: =AD93 -> 0 | CA93: =AE93 | CB93: =AF93 | CC93: =AH93 | CD93: =AI93 -> 0 | CE93: =AJ93 -> 0 | CF93: =AK93 -> 0 | CG93: =AL93 -> 0 | CH93: =AM93 -> 0 | CI93: =AN93 | CJ93: =AO93 | CK93: =AQ93 | CL93: =AT93 -> 0 | CM93: =AU93 -> 0 | CN93: =AV93 -> 0 | CO93: =AW93 -> 0 | CP93: =AX93 -> 0 | CQ93: =AY93 | CR93: =AZ93 | CS93: =BA93
G94: % | H94: =IFERROR(H93/SUM(H93:L93),"") | I94: =IFERROR(I93/SUM(H93:L93),"") | J94: =IFERROR(J93/SUM(H93:L93),"") | K94: =IFERROR(K93/SUM(H93:L93),"") | L94: =IFERROR(L93/SUM(H93:L93),"") | M94: =IFERROR(M93/SUM(H93:L93),"") | N94: =IFERROR(N93/SUM(H93:L93),"") | Q94: =IFERROR(Q93/SUM(Q93:U93),"") | R94: =IFERROR(R93/SUM(Q93:U93),"") | S94: =IFERROR(S93/SUM(Q93:U93),"") | T94: =IFERROR(T93/SUM(Q93:U93),"") | U94: =IFERROR(U93/SUM(Q93:U93),"") | V94: =IFERROR(V93/SUM(Q93:U93),"") | W94: =IFERROR(W93/SUM(Q93:U93),"") | Z94: =IFERROR(Z93/SUM(Z93:AD93),"") | AA94: =IFERROR(AA93/SUM(Z93:AD93),"") | AB94: =IFERROR(AB93/SUM(Z93:AD93),"") | AC94: =IFERROR(AC93/SUM(Z93:AD93),"") | AD94: =IFERROR(AD93/SUM(Z93:AD93),"") | AE94: =IFERROR(AE93/SUM(Z93:AD93),"") | AF94: =IFERROR(AF93/SUM(Z93:AD93),"") | AI94: =IFERROR(AI93/SUM(AI93:AM93),"") | AJ94: =IFERROR(AJ93/SUM(AI93:AM93),"") | AK94: =IFERROR(AK93/SUM(AI93:AM93),"") | AL94: =IFERROR(AL93/SUM(AI93:AM93),"") | AM94: =IFERROR(AM93/SUM(AI93:AM93),"") | AN94: =IFERROR(AN93/SUM(AI93:AM93),"") | AO94: =IFERROR(AO93/SUM(AI93:AM93),"") | AT94: =IFERROR(AT93/SUM(AT93:AX93),"") | AU94: =IFERROR(AU93/SUM(AT93:AX93),"") | AV94: =IFERROR(AV93/SUM(AT93:AX93),"") | AW94: =IFERROR(AW93/SUM(AT93:AX93),"") | AX94: =IFERROR(AX93/SUM(AT93:AX93),"") | AY94: =IFERROR(AY93/SUM(AT93:AX93),"") | AZ94: =IFERROR(AZ93/SUM(AT93:AX93),"") | BD94: =BB94&"."&BC94 -> .
G95: # | M95: =IF(AND(ISBLANK(H95),ISBLANK(I95),ISBLANK(J95),ISBLANK(K95),ISBLANK(L95)),"",SUM(J95:L95)) | N95: =IF(AND(ISBLANK(H95),ISBLANK(I95),ISBLANK(J95),ISBLANK(K95),ISBLANK(L95)),"",SUM(K95:L95)) | O95: =IFERROR(SUM(H95:L95)/E95,"") | P95: =IFERROR(((80*J95)+(100*K95)+(150*L95))/SUM(H95:L95),"") | V95: =IF(AND(ISBLANK(Q95),ISBLANK(R95),ISBLANK(S95),ISBLANK(T95),ISBLANK(U95)),"",SUM(S95:U95)) | W95: =IF(AND(ISBLANK(Q95),ISBLANK(R95),ISBLANK(S95),ISBLANK(T95),ISBLANK(U95)),"",SUM(T95:U95)) | X95: =IFERROR(SUM(Q95:U95)/$E95,"") | Y95: =IFERROR(((80*S95)+(100*T95)+(150*U95))/SUM(Q95:U95),"") | AE95: =IF(AND(ISBLANK(Z95),ISBLANK(AA95),ISBLANK(AB95),ISBLANK(AC95),ISBLANK(AD95)),"",SUM(AB95:AD95)) | AF95: =IF(AND(ISBLANK(Z95),ISBLANK(AA95),ISBLANK(AB95),ISBLANK(AC95),ISBLANK(AD95)),"",SUM(AC95:AD95)) | AG95: =IFERROR(SUM(Z95:AD95)/$E95,"") | AH95: =IFERROR(((80*AB95)+(100*AC95)+(150*AD95))/SUM(Z95:AD95),"") | AN95: =IF(AND(ISBLANK(AI95),ISBLANK(AJ95),ISBLANK(AK95),ISBLANK(AL95),ISBLANK(AM95)),"",SUM(AK95:AM95)) | AO95: =IF(AND(ISBLANK(AI95),ISBLANK(AJ95),ISBLANK(AK95),ISBLANK(AL95),ISBLANK(AM95)),"",SUM(AL95:AM95)) | AP95: =IFERROR(SUM(AI95:AM95)/$E95,"") | AQ95: =IFERROR(((80*AK95)+(100*AL95)+(150*AM95))/SUM(AI95:AM95),"") | AR95: =IFERROR(AVERAGE(Y95,AH95,AQ95),"") | AS95: =IF(OR(P95="",AR95=""),"",AR95-P95) | AY95: =IF(AND(ISBLANK(AT95),ISBLANK(AU95),ISBLANK(AV95),ISBLANK(AW95),ISBLANK(AX95)),"",SUM(AV95:AX95)) | AZ95: =IF(AND(ISBLANK(AT95),ISBLANK(AU95),ISBLANK(AV95),ISBLANK(AW95),ISBLANK(AX95)),"",SUM(AW95:AX95)) | BA95: =IFERROR(((80*AV95)+(100*AW95)+(150*AX95))/SUM(AT95:AX95),"") | BB95: =B95 -> 0 | BC95: =C95 -> 0 | BD95: =BB95&"."&BC95 -> 0.0 | BE95: =D95 -> 0 | BF95: =H95 -> 0 | BG95: =I95 -> 0 | BH95: =J95 -> 0 | BI95: =K95 -> 0 | BJ95: =L95 -> 0 | BK95: =M95 | BL95: =N95 | BM95: =P95 | BN95: =Q95 -> 0 | BO95: =R95 -> 0 | BP95: =S95 -> 0 | BQ95: =T95 -> 0 | BR95: =U95 -> 0 | BS95: =V95 | BT95: =W95 | BU95: =Y95 | BV95: =Z95 -> 0 | BW95: =AA95 -> 0 | BX95: =AB95 -> 0 | BY95: =AC95 -> 0 | BZ95: =AD95 -> 0 | CA95: =AE95 | CB95: =AF95 | CC95: =AH95 | CD95: =AI95 -> 0 | CE95: =AJ95 -> 0 | CF95: =AK95 -> 0 | CG95: =AL95 -> 0 | CH95: =AM95 -> 0 | CI95: =AN95 | CJ95: =AO95 | CK95: =AQ95 | CL95: =AT95 -> 0 | CM95: =AU95 -> 0 | CN95: =AV95 -> 0 | CO95: =AW95 -> 0 | CP95: =AX95 -> 0 | CQ95: =AY95 | CR95: =AZ95 | CS95: =BA95
G96: % | H96: =IFERROR(H95/SUM(H95:L95),"") | I96: =IFERROR(I95/SUM(H95:L95),"") | J96: =IFERROR(J95/SUM(H95:L95),"") | K96: =IFERROR(K95/SUM(H95:L95),"") | L96: =IFERROR(L95/SUM(H95:L95),"") | M96: =IFERROR(M95/SUM(H95:L95),"") | N96: =IFERROR(N95/SUM(H95:L95),"") | Q96: =IFERROR(Q95/SUM(Q95:U95),"") | R96: =IFERROR(R95/SUM(Q95:U95),"") | S96: =IFERROR(S95/SUM(Q95:U95),"") | T96: =IFERROR(T95/SUM(Q95:U95),"") | U96: =IFERROR(U95/SUM(Q95:U95),"") | V96: =IFERROR(V95/SUM(Q95:U95),"") | W96: =IFERROR(W95/SUM(Q95:U95),"") | Z96: =IFERROR(Z95/SUM(Z95:AD95),"") | AA96: =IFERROR(AA95/SUM(Z95:AD95),"") | AB96: =IFERROR(AB95/SUM(Z95:AD95),"") | AC96: =IFERROR(AC95/SUM(Z95:AD95),"") | AD96: =IFERROR(AD95/SUM(Z95:AD95),"") | AE96: =IFERROR(AE95/SUM(Z95:AD95),"") | AF96: =IFERROR(AF95/SUM(Z95:AD95),"") | AI96: =IFERROR(AI95/SUM(AI95:AM95),"") | AJ96: =IFERROR(AJ95/SUM(AI95:AM95),"") | AK96: =IFERROR(AK95/SUM(AI95:AM95),"") | AL96: =IFERROR(AL95/SUM(AI95:AM95),"") | AM96: =IFERROR(AM95/SUM(AI95:AM95),"") | AN96: =IFERROR(AN95/SUM(AI95:AM95),"") | AO96: =IFERROR(AO95/SUM(AI95:AM95),"") | AT96: =IFERROR(AT95/SUM(AT95:AX95),"") | AU96: =IFERROR(AU95/SUM(AT95:AX95),"") | AV96: =IFERROR(AV95/SUM(AT95:AX95),"") | AW96: =IFERROR(AW95/SUM(AT95:AX95),"") | AX96: =IFERROR(AX95/SUM(AT95:AX95),"") | AY96: =IFERROR(AY95/SUM(AT95:AX95),"") | AZ96: =IFERROR(AZ95/SUM(AT95:AX95),"") | BD96: =BB96&"."&BC96 -> .
G97: # | M97: =IF(AND(ISBLANK(H97),ISBLANK(I97),ISBLANK(J97),ISBLANK(K97),ISBLANK(L97)),"",SUM(J97:L97)) | N97: =IF(AND(ISBLANK(H97),ISBLANK(I97),ISBLANK(J97),ISBLANK(K97),ISBLANK(L97)),"",SUM(K97:L97)) | O97: =IFERROR(SUM(H97:L97)/E97,"") | P97: =IFERROR(((80*J97)+(100*K97)+(150*L97))/SUM(H97:L97),"") | V97: =IF(AND(ISBLANK(Q97),ISBLANK(R97),ISBLANK(S97),ISBLANK(T97),ISBLANK(U97)),"",SUM(S97:U97)) | W97: =IF(AND(ISBLANK(Q97),ISBLANK(R97),ISBLANK(S97),ISBLANK(T97),ISBLANK(U97)),"",SUM(T97:U97)) | X97: =IFERROR(SUM(Q97:U97)/$E97,"") | Y97: =IFERROR(((80*S97)+(100*T97)+(150*U97))/SUM(Q97:U97),"") | AE97: =IF(AND(ISBLANK(Z97),ISBLANK(AA97),ISBLANK(AB97),ISBLANK(AC97),ISBLANK(AD97)),"",SUM(AB97:AD97)) | AF97: =IF(AND(ISBLANK(Z97),ISBLANK(AA97),ISBLANK(AB97),ISBLANK(AC97),ISBLANK(AD97)),"",SUM(AC97:AD97)) | AG97: =IFERROR(SUM(Z97:AD97)/$E97,"") | AH97: =IFERROR(((80*AB97)+(100*AC97)+(150*AD97))/SUM(Z97:AD97),"") | AN97: =IF(AND(ISBLANK(AI97),ISBLANK(AJ97),ISBLANK(AK97),ISBLANK(AL97),ISBLANK(AM97)),"",SUM(AK97:AM97)) | AO97: =IF(AND(ISBLANK(AI97),ISBLANK(AJ97),ISBLANK(AK97),ISBLANK(AL97),ISBLANK(AM97)),"",SUM(AL97:AM97)) | AP97: =IFERROR(SUM(AI97:AM97)/$E97,"") | AQ97: =IFERROR(((80*AK97)+(100*AL97)+(150*AM97))/SUM(AI97:AM97),"") | AR97: =IFERROR(AVERAGE(Y97,AH97,AQ97),"") | AS97: =IF(OR(P97="",AR97=""),"",AR97-P97) | AY97: =IF(AND(ISBLANK(AT97),ISBLANK(AU97),ISBLANK(AV97),ISBLANK(AW97),ISBLANK(AX97)),"",SUM(AV97:AX97)) | AZ97: =IF(AND(ISBLANK(AT97),ISBLANK(AU97),ISBLANK(AV97),ISBLANK(AW97),ISBLANK(AX97)),"",SUM(AW97:AX97)) | BA97: =IFERROR(((80*AV97)+(100*AW97)+(150*AX97))/SUM(AT97:AX97),"") | BB97: =B97 -> 0 | BC97: =C97 -> 0 | BD97: =BB97&"."&BC97 -> 0.0 | BE97: =D97 -> 0 | BF97: =H97 -> 0 | BG97: =I97 -> 0 | BH97: =J97 -> 0 | BI97: =K97 -> 0 | BJ97: =L97 -> 0 | BK97: =M97 | BL97: =N97 | BM97: =P97 | BN97: =Q97 -> 0 | BO97: =R97 -> 0 | BP97: =S97 -> 0 | BQ97: =T97 -> 0 | BR97: =U97 -> 0 | BS97: =V97 | BT97: =W97 | BU97: =Y97 | BV97: =Z97 -> 0 | BW97: =AA97 -> 0 | BX97: =AB97 -> 0 | BY97: =AC97 -> 0 | BZ97: =AD97 -> 0 | CA97: =AE97 | CB97: =AF97 | CC97: =AH97 | CD97: =AI97 -> 0 | CE97: =AJ97 -> 0 | CF97: =AK97 -> 0 | CG97: =AL97 -> 0 | CH97: =AM97 -> 0 | CI97: =AN97 | CJ97: =AO97 | CK97: =AQ97 | CL97: =AT97 -> 0 | CM97: =AU97 -> 0 | CN97: =AV97 -> 0 | CO97: =AW97 -> 0 | CP97: =AX97 -> 0 | CQ97: =AY97 | CR97: =AZ97 | CS97: =BA97
G98: % | H98: =IFERROR(H97/SUM(H97:L97),"") | I98: =IFERROR(I97/SUM(H97:L97),"") | J98: =IFERROR(J97/SUM(H97:L97),"") | K98: =IFERROR(K97/SUM(H97:L97),"") | L98: =IFERROR(L97/SUM(H97:L97),"") | M98: =IFERROR(M97/SUM(H97:L97),"") | N98: =IFERROR(N97/SUM(H97:L97),"") | Q98: =IFERROR(Q97/SUM(Q97:U97),"") | R98: =IFERROR(R97/SUM(Q97:U97),"") | S98: =IFERROR(S97/SUM(Q97:U97),"") | T98: =IFERROR(T97/SUM(Q97:U97),"") | U98: =IFERROR(U97/SUM(Q97:U97),"") | V98: =IFERROR(V97/SUM(Q97:U97),"") | W98: =IFERROR(W97/SUM(Q97:U97),"") | Z98: =IFERROR(Z97/SUM(Z97:AD97),"") | AA98: =IFERROR(AA97/SUM(Z97:AD97),"") | AB98: =IFERROR(AB97/SUM(Z97:AD97),"") | AC98: =IFERROR(AC97/SUM(Z97:AD97),"") | AD98: =IFERROR(AD97/SUM(Z97:AD97),"") | AE98: =IFERROR(AE97/SUM(Z97:AD97),"") | AF98: =IFERROR(AF97/SUM(Z97:AD97),"") | AI98: =IFERROR(AI97/SUM(AI97:AM97),"") | AJ98: =IFERROR(AJ97/SUM(AI97:AM97),"") | AK98: =IFERROR(AK97/SUM(AI97:AM97),"") | AL98: =IFERROR(AL97/SUM(AI97:AM97),"") | AM98: =IFERROR(AM97/SUM(AI97:AM97),"") | AN98: =IFERROR(AN97/SUM(AI97:AM97),"") | AO98: =IFERROR(AO97/SUM(AI97:AM97),"") | AT98: =IFERROR(AT97/SUM(AT97:AX97),"") | AU98: =IFERROR(AU97/SUM(AT97:AX97),"") | AV98: =IFERROR(AV97/SUM(AT97:AX97),"") | AW98: =IFERROR(AW97/SUM(AT97:AX97),"") | AX98: =IFERROR(AX97/SUM(AT97:AX97),"") | AY98: =IFERROR(AY97/SUM(AT97:AX97),"") | AZ98: =IFERROR(AZ97/SUM(AT97:AX97),"") | BD98: =BB98&"."&BC98 -> .
G99: # | M99: =IF(AND(ISBLANK(H99),ISBLANK(I99),ISBLANK(J99),ISBLANK(K99),ISBLANK(L99)),"",SUM(J99:L99)) | N99: =IF(AND(ISBLANK(H99),ISBLANK(I99),ISBLANK(J99),ISBLANK(K99),ISBLANK(L99)),"",SUM(K99:L99)) | O99: =IFERROR(SUM(H99:L99)/E99,"") | P99: =IFERROR(((80*J99)+(100*K99)+(150*L99))/SUM(H99:L99),"") | V99: =IF(AND(ISBLANK(Q99),ISBLANK(R99),ISBLANK(S99),ISBLANK(T99),ISBLANK(U99)),"",SUM(S99:U99)) | W99: =IF(AND(ISBLANK(Q99),ISBLANK(R99),ISBLANK(S99),ISBLANK(T99),ISBLANK(U99)),"",SUM(T99:U99)) | X99: =IFERROR(SUM(Q99:U99)/$E99,"") | Y99: =IFERROR(((80*S99)+(100*T99)+(150*U99))/SUM(Q99:U99),"") | AE99: =IF(AND(ISBLANK(Z99),ISBLANK(AA99),ISBLANK(AB99),ISBLANK(AC99),ISBLANK(AD99)),"",SUM(AB99:AD99)) | AF99: =IF(AND(ISBLANK(Z99),ISBLANK(AA99),ISBLANK(AB99),ISBLANK(AC99),ISBLANK(AD99)),"",SUM(AC99:AD99)) | AG99: =IFERROR(SUM(Z99:AD99)/$E99,"") | AH99: =IFERROR(((80*AB99)+(100*AC99)+(150*AD99))/SUM(Z99:AD99),"") | AN99: =IF(AND(ISBLANK(AI99),ISBLANK(AJ99),ISBLANK(AK99),ISBLANK(AL99),ISBLANK(AM99)),"",SUM(AK99:AM99)) | AO99: =IF(AND(ISBLANK(AI99),ISBLANK(AJ99),ISBLANK(AK99),ISBLANK(AL99),ISBLANK(AM99)),"",SUM(AL99:AM99)) | AP99: =IFERROR(SUM(AI99:AM99)/$E99,"") | AQ99: =IFERROR(((80*AK99)+(100*AL99)+(150*AM99))/SUM(AI99:AM99),"") | AR99: =IFERROR(AVERAGE(Y99,AH99,AQ99),"") | AS99: =IF(OR(P99="",AR99=""),"",AR99-P99) | AY99: =IF(AND(ISBLANK(AT99),ISBLANK(AU99),ISBLANK(AV99),ISBLANK(AW99),ISBLANK(AX99)),"",SUM(AV99:AX99)) | AZ99: =IF(AND(ISBLANK(AT99),ISBLANK(AU99),ISBLANK(AV99),ISBLANK(AW99),ISBLANK(AX99)),"",SUM(AW99:AX99)) | BA99: =IFERROR(((80*AV99)+(100*AW99)+(150*AX99))/SUM(AT99:AX99),"") | BB99: =B99 -> 0 | BC99: =C99 -> 0 | BD99: =BB99&"."&BC99 -> 0.0 | BE99: =D99 -> 0 | BF99: =H99 -> 0 | BG99: =I99 -> 0 | BH99: =J99 -> 0 | BI99: =K99 -> 0 | BJ99: =L99 -> 0 | BK99: =M99 | BL99: =N99 | BM99: =P99 | BN99: =Q99 -> 0 | BO99: =R99 -> 0 | BP99: =S99 -> 0 | BQ99: =T99 -> 0 | BR99: =U99 -> 0 | BS99: =V99 | BT99: =W99 | BU99: =Y99 | BV99: =Z99 -> 0 | BW99: =AA99 -> 0 | BX99: =AB99 -> 0 | BY99: =AC99 -> 0 | BZ99: =AD99 -> 0 | CA99: =AE99 | CB99: =AF99 | CC99: =AH99 | CD99: =AI99 -> 0 | CE99: =AJ99 -> 0 | CF99: =AK99 -> 0 | CG99: =AL99 -> 0 | CH99: =AM99 -> 0 | CI99: =AN99 | CJ99: =AO99 | CK99: =AQ99 | CL99: =AT99 -> 0 | CM99: =AU99 -> 0 | CN99: =AV99 -> 0 | CO99: =AW99 -> 0 | CP99: =AX99 -> 0 | CQ99: =AY99 | CR99: =AZ99 | CS99: =BA99
G100: % | H100: =IFERROR(H99/SUM(H99:L99),"") | I100: =IFERROR(I99/SUM(H99:L99),"") | J100: =IFERROR(J99/SUM(H99:L99),"") | K100: =IFERROR(K99/SUM(H99:L99),"") | L100: =IFERROR(L99/SUM(H99:L99),"") | M100: =IFERROR(M99/SUM(H99:L99),"") | N100: =IFERROR(N99/SUM(H99:L99),"") | Q100: =IFERROR(Q99/SUM(Q99:U99),"") | R100: =IFERROR(R99/SUM(Q99:U99),"") | S100: =IFERROR(S99/SUM(Q99:U99),"") | T100: =IFERROR(T99/SUM(Q99:U99),"") | U100: =IFERROR(U99/SUM(Q99:U99),"") | V100: =IFERROR(V99/SUM(Q99:U99),"") | W100: =IFERROR(W99/SUM(Q99:U99),"") | Z100: =IFERROR(Z99/SUM(Z99:AD99),"") | AA100: =IFERROR(AA99/SUM(Z99:AD99),"") | AB100: =IFERROR(AB99/SUM(Z99:AD99),"") | AC100: =IFERROR(AC99/SUM(Z99:AD99),"") | AD100: =IFERROR(AD99/SUM(Z99:AD99),"") | AE100: =IFERROR(AE99/SUM(Z99:AD99),"") | AF100: =IFERROR(AF99/SUM(Z99:AD99),"") | AI100: =IFERROR(AI99/SUM(AI99:AM99),"") | AJ100: =IFERROR(AJ99/SUM(AI99:AM99),"") | AK100: =IFERROR(AK99/SUM(AI99:AM99),"") | AL100: =IFERROR(AL99/SUM(AI99:AM99),"") | AM100: =IFERROR(AM99/SUM(AI99:AM99),"") | AN100: =IFERROR(AN99/SUM(AI99:AM99),"") | AO100: =IFERROR(AO99/SUM(AI99:AM99),"") | AT100: =IFERROR(AT99/SUM(AT99:AX99),"") | AU100: =IFERROR(AU99/SUM(AT99:AX99),"") | AV100: =IFERROR(AV99/SUM(AT99:AX99),"") | AW100: =IFERROR(AW99/SUM(AT99:AX99),"") | AX100: =IFERROR(AX99/SUM(AT99:AX99),"") | AY100: =IFERROR(AY99/SUM(AT99:AX99),"") | AZ100: =IFERROR(AZ99/SUM(AT99:AX99),"") | BD100: =BB100&"."&BC100 -> .
...

Sheet 1b. ELA Totals
A1: Grade.Content | B1: Grade & Content | D1: Baseline (Prior Year LEAP and/or Diagnostic) | L1: Benchmark 1 | T1: Benchmark 2 | AB1: Benchmark 3 | AJ1: Benchmark 4 | AR1: YTD Totals | AZ1: YTD AI AVE | BA1: YTD AI GROWTH | BB1: Goal
D2: U | E2: AB | F2: B | G2: M | H2: A | I2: Basic & above | J2: Mast. & above | K2: AI | L2: U | M2: AB | N2: B | O2: M | P2: A | Q2: Basic & above | R2: Mast. & above | S2: AI | T2: U | U2: AB | V2: B | W2: M | X2: A | Y2: Basic & above | Z2: Mast. & above | AA2: AI | AB2: U | AC2: AB | AD2: B | AE2: M | AF2: A | AG2: Basic & above | AH2: Mast. & above | AI2: AI | AJ2: U | AK2: AB | AL2: B | AM2: M | AN2: A | AO2: Basic & above | AP2: Mast. & above | AQ2: AI | AR2: U | AS2: AB | AT2: B | AU2: M | AV2: A | AW2: Basic & above | AX2: Mast. & above | AY2: AI | BB2: U | BC2: AB | BD2: B | BE2: M | BF2: A | BG2: Basic & above | BH2: Mast. & above | BI2: AI
A3: Kindergarten.ELA | B3: Kindergarten ELA | C3: # | D3: =SUMIFS('1a. Teacher Data (LEAP Courses)'!BF:BF,'1a. Teacher Data (LEAP Courses)'!$BD:$BD,'1b. ELA Totals'!$A3) -> 0 | E3: =SUMIFS('1a. Teacher Data (LEAP Courses)'!BG:BG,'1a. Teacher Data (LEAP Courses)'!$BD:$BD,'1b. ELA Totals'!$A3) -> 0 | F3: =SUMIFS('1a. Teacher Data (LEAP Courses)'!BH:BH,'1a. Teacher Data (LEAP Courses)'!$BD:$BD,'1b. ELA Totals'!$A3) -> 0 | G3: =SUMIFS('1a. Teacher Data (LEAP Courses)'!BI:BI,'1a. Teacher Data (LEAP Courses)'!$BD:$BD,'1b. ELA Totals'!$A3) -> 0 | H3: =SUMIFS('1a. Teacher Data (LEAP Courses)'!BJ:BJ,'1a. Teacher Data (LEAP Courses)'!$BD:$BD,'1b. ELA Totals'!$A3) -> 0 | I3: =IF(AND(ISBLANK(D3),ISBLANK(E3),ISBLANK(F3),ISBLANK(G3),ISBLANK(H3)),"",SUM(F3:H3)) -> 0 | J3: =IF(AND(ISBLANK(D3),ISBLANK(E3),ISBLANK(F3),ISBLANK(G3),ISBLANK(H3)),"",SUM(G3:H3)) -> 0 | K3: =IFERROR(((80*F3)+(100*G3)+(150*H3))/SUM(D3:H3),"") | L3: =SUMIFS('1a. Teacher Data (LEAP Courses)'!BN:BN,'1a. Teacher Data (LEAP Courses)'!$BD:$BD,'1b. ELA Totals'!$A3) -> 0 | M3: =SUMIFS('1a. Teacher Data (LEAP Courses)'!BO:BO,'1a. Teacher Data (LEAP Courses)'!$BD:$BD,'1b. ELA Totals'!$A3) -> 0 | N3: =SUMIFS('1a. Teacher Data (LEAP Courses)'!BP:BP,'1a. Teacher Data (LEAP Courses)'!$BD:$BD,'1b. ELA Totals'!$A3) -> 0 | O3: =SUMIFS('1a. Teacher Data (LEAP Courses)'!BQ:BQ,'1a. Teacher Data (LEAP Courses)'!$BD:$BD,'1b. ELA Totals'!$A3) -> 0 | P3: =SUMIFS('1a. Teacher Data (LEAP Courses)'!BR:BR,'1a. Teacher Data (LEAP Courses)'!$BD:$BD,'1b. ELA Totals'!$A3) -> 0 | Q3: =IF(AND(ISBLANK(L3),ISBLANK(M3),ISBLANK(N3),ISBLANK(O3),ISBLANK(P3)),"",SUM(N3:P3)) -> 0 | R3: =IF(AND(ISBLANK(L3),ISBLANK(M3),ISBLANK(N3),ISBLANK(O3),ISBLANK(P3)),"",SUM(O3:P3)) -> 0 | S3: =IFERROR(((80*N3)+(100*O3)+(150*P3))/SUM(L3:P3),"") | T3: =SUMIFS('1a. Teacher Data (LEAP Courses)'!BV:BV,'1a. Teacher Data (LEAP Courses)'!$BD:$BD,'1b. ELA Totals'!$A3) -> 0 | U3: =SUMIFS('1a. Teacher Data (LEAP Courses)'!BW:BW,'1a. Teacher Data (LEAP Courses)'!$BD:$BD,'1b. ELA Totals'!$A3) -> 0 | V3: =SUMIFS('1a. Teacher Data (LEAP Courses)'!BX:BX,'1a. Teacher Data (LEAP Courses)'!$BD:$BD,'1b. ELA Totals'!$A3) -> 0 | W3: =SUMIFS('1a. Teacher Data (LEAP Courses)'!BY:BY,'1a. Teacher Data (LEAP Courses)'!$BD:$BD,'1b. ELA Totals'!$A3) -> 0 | X3: =SUMIFS('1a. Teacher Data (LEAP Courses)'!BZ:BZ,'1a. Teacher Data (LEAP Courses)'!$BD:$BD,'1b. ELA Totals'!$A3) -> 0 | Y3: =IF(AND(ISBLANK(T3),ISBLANK(U3),ISBLANK(V3),ISBLANK(W3),ISBLANK(X3)),"",SUM(V3:X3)) -> 0 | Z3: =IF(AND(ISBLANK(T3),ISBLANK(U3),ISBLANK(V3),ISBLANK(W3),ISBLANK(X3)),"",SUM(W3:X3)) -> 0 | AA3: =IFERROR(((80*V3)+(100*W3)+(150*X3))/SUM(T3:X3),"") | AB3: =SUMIFS('1a. Teacher Data (LEAP Courses)'!CD:CD,'1a. Teacher Data (LEAP Courses)'!$BD:$BD,'1b. ELA Totals'!$A3) -> 0 | AC3: =SUMIFS('1a. Teacher Data (LEAP Courses)'!CE:CE,'1a. Teacher Data (LEAP Courses)'!$BD:$BD,'1b. ELA Totals'!$A3) -> 0 | AD3: =SUMIFS('1a. Teacher Data (LEAP Courses)'!CF:CF,'1a. Teacher Data (LEAP Courses)'!$BD:$BD,'1b. ELA Totals'!$A3) -> 0 | AE3: =SUMIFS('1a. Teacher Data (LEAP Courses)'!CG:CG,'1a. Teacher Data (LEAP Courses)'!$BD:$BD,'1b. ELA Totals'!$A3) -> 0 | AF3: =SUMIFS('1a. Teacher Data (LEAP Courses)'!CH:CH,'1a. Teacher Data (LEAP Courses)'!$BD:$BD,'1b. ELA Totals'!$A3) -> 0 | AG3: =IF(AND(ISBLANK(AB3),ISBLANK(AC3),ISBLANK(AD3),ISBLANK(AE3),ISBLANK(AF3)),"",SUM(AD3:AF3)) -> 0 | AH3: =IF(AND(ISBLANK(AB3),ISBLANK(AC3),ISBLANK(AD3),ISBLANK(AE3),ISBLANK(AF3)),"",SUM(AE3:AF3)) -> 0 | AI3: =IFERROR(((80*AD3)+(100*AE3)+(150*AF3))/SUM(AB3:AF3),"") | AO3: =IF(AND(ISBLANK(AJ3),ISBLANK(AK3),ISBLANK(AL3),ISBLANK(AM3),ISBLANK(AN3)),"",SUM(AL3:AN3)) | AP3: =IF(AND(ISBLANK(AJ3),ISBLANK(AK3),ISBLANK(AL3),ISBLANK(AM3),ISBLANK(AN3)),"",SUM(AM3:AN3)) | AQ3: =IFERROR(((80*AL3)+(100*AM3)+(150*AN3))/SUM(AJ3:AN3),"") | AW3: =IF(AND(ISBLANK(AR3),ISBLANK(AS3),ISBLANK(AT3),ISBLANK(AU3),ISBLANK(AV3)),"",SUM(AT3:AV3)) | AX3: =IF(AND(ISBLANK(AR3),ISBLANK(AS3),ISBLANK(AT3),ISBLANK(AU3),ISBLANK(AV3)),"",SUM(AU3:AV3)) | AY3: =IFERROR(((80*AT3)+(100*AU3)+(150*AV3))/SUM(AR3:AV3),"") | AZ3: =IFERROR(AVERAGE(AG3,AP3,AY3),"") -> 0 | BA3: =IF(OR(X3="",AZ3=""),"",AZ3-X3) -> 0 | BB3: =SUMIFS('1a. Teacher Data (LEAP Courses)'!CL:CL,'1a. Teacher Data (LEAP Courses)'!$BD:$BD,'1b. ELA Totals'!$A3) -> 0 | BC3: =SUMIFS('1a. Teacher Data (LEAP Courses)'!CM:CM,'1a. Teacher Data (LEAP Courses)'!$BD:$BD,'1b. ELA Totals'!$A3) -> 0 | BD3: =SUMIFS('1a. Teacher Data (LEAP Courses)'!CN:CN,'1a. Teacher Data (LEAP Courses)'!$BD:$BD,'1b. ELA Totals'!$A3) -> 0 | BE3: =SUMIFS('1a. Teacher Data (LEAP Courses)'!CO:CO,'1a. Teacher Data (LEAP Courses)'!$BD:$BD,'1b. ELA Totals'!$A3) -> 0 | BF3: =SUMIFS('1a. Teacher Data (LEAP Courses)'!CP:CP,'1a. Teacher Data (LEAP Courses)'!$BD:$BD,'1b. ELA Totals'!$A3) -> 0 | BG3: =IF(AND(ISBLANK(BB3),ISBLANK(BC3),ISBLANK(BD3),ISBLANK(BE3),ISBLANK(BF3)),"",SUM(BD3:BF3)) -> 0 | BH3: =IF(AND(ISBLANK(BB3),ISBLANK(BC3),ISBLANK(BD3),ISBLANK(BE3),ISBLANK(BF3)),"",SUM(BE3:BF3)) -> 0 | BI3: =IFERROR(((80*BD3)+(100*BE3)+(150*BF3))/SUM(BB3:BF3),"")
C4: % | D4: =IFERROR(D3/SUM(D3:H3),"") | E4: =IFERROR(E3/SUM(D3:H3),"") | F4: =IFERROR(F3/SUM(D3:H3),"") | G4: =IFERROR(G3/SUM(D3:H3),"") | H4: =IFERROR(H3/SUM(D3:H3),"") | I4: =IFERROR(I3/SUM(D3:H3),"") | J4: =IFERROR(J3/SUM(D3:H3),"") | L4: =IFERROR(L3/SUM(L3:P3),"") | M4: =IFERROR(M3/SUM(L3:P3),"") | N4: =IFERROR(N3/SUM(L3:P3),"") | O4: =IFERROR(O3/SUM(L3:P3),"") | P4: =IFERROR(P3/SUM(L3:P3),"") | Q4: =IFERROR(Q3/SUM(L3:P3),"") | R4: =IFERROR(R3/SUM(L3:P3),"") | T4: =IFERROR(T3/SUM(T3:X3),"") | U4: =IFERROR(U3/SUM(T3:X3),"") | V4: =IFERROR(V3/SUM(T3:X3),"") | W4: =IFERROR(W3/SUM(T3:X3),"") | X4: =IFERROR(X3/SUM(T3:X3),"") | Y4: =IFERROR(Y3/SUM(T3:X3),"") | Z4: =IFERROR(Z3/SUM(T3:X3),"") | AB4: =IFERROR(AB3/SUM(AB3:AF3),"") | AC4: =IFERROR(AC3/SUM(AB3:AF3),"") | AD4: =IFERROR(AD3/SUM(AB3:AF3),"") | AE4: =IFERROR(AE3/SUM(AB3:AF3),"") | AF4: =IFERROR(AF3/SUM(AB3:AF3),"") | AG4: =IFERROR(AG3/SUM(AB3:AF3),"") | AH4: =IFERROR(AH3/SUM(AB3:AF3),"") | AJ4: =IFERROR(AJ3/SUM(AJ3:AN3),"") | AK4: =IFERROR(AK3/SUM(AJ3:AN3),"") | AL4: =IFERROR(AL3/SUM(AJ3:AN3),"") | AM4: =IFERROR(AM3/SUM(AJ3:AN3),"") | AN4: =IFERROR(AN3/SUM(AJ3:AN3),"") | AO4: =IFERROR(AO3/SUM(AJ3:AN3),"") | AP4: =IFERROR(AP3/SUM(AJ3:AN3),"") | AR4: =IFERROR(AR3/SUM(AR3:AV3),"") | AS4: =IFERROR(AS3/SUM(AR3:AV3),"") | AT4: =IFERROR(AT3/SUM(AR3:AV3),"") | AU4: =IFERROR(AU3/SUM(AR3:AV3),"") | AV4: =IFERROR(AV3/SUM(AR3:AV3),"") | AW4: =IFERROR(AW3/SUM(AR3:AV3),"") | AX4: =IFERROR(AX3/SUM(AR3:AV3),"") | BB4: =IFERROR(BB3/SUM(BB3:BF3),"") | BC4: =IFERROR(BC3/SUM(BB3:BF3),"") | BD4: =IFERROR(BD3/SUM(BB3:BF3),"") | BE4: =IFERROR(BE3/SUM(BB3:BF3),"") | BF4: =IFERROR(BF3/SUM(BB3:BF3),"") | BG4: =IFERROR(BG3/SUM(BB3:BF3),"") | BH4: =IFERROR(BH3/SUM(BB3:BF3),"")
A5: Grade 1.ELA | B5: Grade 1 ELA | C5: # | D5: =SUMIFS('1a. Teacher Data (LEAP Courses)'!BF:BF,'1a. Teacher Data (LEAP Courses)'!$BD:$BD,'1b. ELA Totals'!$A5) -> 0 | E5: =SUMIFS('1a. Teacher Data (LEAP Courses)'!BG:BG,'1a. Teacher Data (LEAP Courses)'!$BD:$BD,'1b. ELA Totals'!$A5) -> 0 | F5: =SUMIFS('1a. Teacher Data (LEAP Courses)'!BH:BH,'1a. Teacher Data (LEAP Courses)'!$BD:$BD,'1b. ELA Totals'!$A5) -> 0 | G5: =SUMIFS('1a. Teacher Data (LEAP Courses)'!BI:BI,'1a. Teacher Data (LEAP Courses)'!$BD:$BD,'1b. ELA Totals'!$A5) -> 0 | H5: =SUMIFS('1a. Teacher Data (LEAP Courses)'!BJ:BJ,'1a. Teacher Data (LEAP Courses)'!$BD:$BD,'1b. ELA Totals'!$A5) -> 0 | I5: =IF(AND(ISBLANK(D5),ISBLANK(E5),ISBLANK(F5),ISBLANK(G5),ISBLANK(H5)),"",SUM(F5:H5)) -> 0 | J5: =IF(AND(ISBLANK(D5),ISBLANK(E5),ISBLANK(F5),ISBLANK(G5),ISBLANK(H5)),"",SUM(G5:H5)) -> 0 | K5: =IFERROR(((80*F5)+(100*G5)+(150*H5))/SUM(D5:H5),"") | L5: =SUMIFS('1a. Teacher Data (LEAP Courses)'!BN:BN,'1a. Teacher Data (LEAP Courses)'!$BD:$BD,'1b. ELA Totals'!$A5) -> 0 | M5: =SUMIFS('1a. Teacher Data (LEAP Courses)'!BO:BO,'1a. Teacher Data (LEAP Courses)'!$BD:$BD,'1b. ELA Totals'!$A5) -> 0 | N5: =SUMIFS('1a. Teacher Data (LEAP Courses)'!BP:BP,'1a. Teacher Data (LEAP Courses)'!$BD:$BD,'1b. ELA Totals'!$A5) -> 0 | O5: =SUMIFS('1a. Teacher Data (LEAP Courses)'!BQ:BQ,'1a. Teacher Data (LEAP Courses)'!$BD:$BD,'1b. ELA Totals'!$A5) -> 0 | P5: =SUMIFS('1a. Teacher Data (LEAP Courses)'!BR:BR,'1a. Teacher Data (LEAP Courses)'!$BD:$BD,'1b. ELA Totals'!$A5) -> 0 | Q5: =IF(AND(ISBLANK(L5),ISBLANK(M5),ISBLANK(N5),ISBLANK(O5),ISBLANK(P5)),"",SUM(N5:P5)) -> 0 | R5: =IF(AND(ISBLANK(L5),ISBLANK(M5),ISBLANK(N5),ISBLANK(O5),ISBLANK(P5)),"",SUM(O5:P5)) -> 0 | S5: =IFERROR(((80*N5)+(100*O5)+(150*P5))/SUM(L5:P5),"") | T5: =SUMIFS('1a. Teacher Data (LEAP Courses)'!BV:BV,'1a. Teacher Data (LEAP Courses)'!$BD:$BD,'1b. ELA Totals'!$A5) -> 0 | U5: =SUMIFS('1a. Teacher Data (LEAP Courses)'!BW:BW,'1a. Teacher Data (LEAP Courses)'!$BD:$BD,'1b. ELA Totals'!$A5) -> 0 | V5: =SUMIFS('1a. Teacher Data (LEAP Courses)'!BX:BX,'1a. Teacher Data (LEAP Courses)'!$BD:$BD,'1b. ELA Totals'!$A5) -> 0 | W5: =SUMIFS('1a. Teacher Data (LEAP Courses)'!BY:BY,'1a. Teacher Data (LEAP Courses)'!$BD:$BD,'1b. ELA Totals'!$A5) -> 0 | X5: =SUMIFS('1a. Teacher Data (LEAP Courses)'!BZ:BZ,'1a. Teacher Data (LEAP Courses)'!$BD:$BD,'1b. ELA Totals'!$A5) -> 0 | Y5: =IF(AND(ISBLANK(T5),ISBLANK(U5),ISBLANK(V5),ISBLANK(W5),ISBLANK(X5)),"",SUM(V5:X5)) -> 0 | Z5: =IF(AND(ISBLANK(T5),ISBLANK(U5),ISBLANK(V5),ISBLANK(W5),ISBLANK(X5)),"",SUM(W5:X5)) -> 0 | AA5: =IFERROR(((80*V5)+(100*W5)+(150*X5))/SUM(T5:X5),"") | AB5: =SUMIFS('1a. Teacher Data (LEAP Courses)'!CD:CD,'1a. Teacher Data (LEAP Courses)'!$BD:$BD,'1b. ELA Totals'!$A5) -> 0 | AC5: =SUMIFS('1a. Teacher Data (LEAP Courses)'!CE:CE,'1a. Teacher Data (LEAP Courses)'!$BD:$BD,'1b. ELA Totals'!$A5) -> 0 | AD5: =SUMIFS('1a. Teacher Data (LEAP Courses)'!CF:CF,'1a. Teacher Data (LEAP Courses)'!$BD:$BD,'1b. ELA Totals'!$A5) -> 0 | AE5: =SUMIFS('1a. Teacher Data (LEAP Courses)'!CG:CG,'1a. Teacher Data (LEAP Courses)'!$BD:$BD,'1b. ELA Totals'!$A5) -> 0 | AF5: =SUMIFS('1a. Teacher Data (LEAP Courses)'!CH:CH,'1a. Teacher Data (LEAP Courses)'!$BD:$BD,'1b. ELA Totals'!$A5) -> 0 | AG5: =IF(AND(ISBLANK(AB5),ISBLANK(AC5),ISBLANK(AD5),ISBLANK(AE5),ISBLANK(AF5)),"",SUM(AD5:AF5)) -> 0 | AH5: =IF(AND(ISBLANK(AB5),ISBLANK(AC5),ISBLANK(AD5),ISBLANK(AE5),ISBLANK(AF5)),"",SUM(AE5:AF5)) -> 0 | AI5: =IFERROR(((80*AD5)+(100*AE5)+(150*AF5))/SUM(AB5:AF5),"") | AO5: =IF(AND(ISBLANK(AJ5),ISBLANK(AK5),ISBLANK(AL5),ISBLANK(AM5),ISBLANK(AN5)),"",SUM(AL5:AN5)) | AP5: =IF(AND(ISBLANK(AJ5),ISBLANK(AK5),ISBLANK(AL5),ISBLANK(AM5),ISBLANK(AN5)),"",SUM(AM5:AN5)) | AQ5: =IFERROR(((80*AL5)+(100*AM5)+(150*AN5))/SUM(AJ5:AN5),"") | AW5: =IF(AND(ISBLANK(AR5),ISBLANK(AS5),ISBLANK(AT5),ISBLANK(AU5),ISBLANK(AV5)),"",SUM(AT5:AV5)) | AX5: =IF(AND(ISBLANK(AR5),ISBLANK(AS5),ISBLANK(AT5),ISBLANK(AU5),ISBLANK(AV5)),"",SUM(AU5:AV5)) | AY5: =IFERROR(((80*AT5)+(100*AU5)+(150*AV5))/SUM(AR5:AV5),"") | BB5: =SUMIFS('1a. Teacher Data (LEAP Courses)'!CL:CL,'1a. Teacher Data (LEAP Courses)'!$BD:$BD,'1b. ELA Totals'!$A5) -> 0 | BC5: =SUMIFS('1a. Teacher Data (LEAP Courses)'!CM:CM,'1a. Teacher Data (LEAP Courses)'!$BD:$BD,'1b. ELA Totals'!$A5) -> 0 | BD5: =SUMIFS('1a. Teacher Data (LEAP Courses)'!CN:CN,'1a. Teacher Data (LEAP Courses)'!$BD:$BD,'1b. ELA Totals'!$A5) -> 0 | BE5: =SUMIFS('1a. Teacher Data (LEAP Courses)'!CO:CO,'1a. Teacher Data (LEAP Courses)'!$BD:$BD,'1b. ELA Totals'!$A5) -> 0 | BF5: =SUMIFS('1a. Teacher Data (LEAP Courses)'!CP:CP,'1a. Teacher Data (LEAP Courses)'!$BD:$BD,'1b. ELA Totals'!$A5) -> 0 | BG5: =IF(AND(ISBLANK(BB5),ISBLANK(BC5),ISBLANK(BD5),ISBLANK(BE5),ISBLANK(BF5)),"",SUM(BD5:BF5)) -> 0 | BH5: =IF(AND(ISBLANK(BB5),ISBLANK(BC5),ISBLANK(BD5),ISBLANK(BE5),ISBLANK(BF5)),"",SUM(BE5:BF5)) -> 0 | BI5: =IFERROR(((80*BD5)+(100*BE5)+(150*BF5))/SUM(BB5:BF5),"")
