Workbook

Sheet Petty Cash Reconcilement
B1: CANUTILLO INDEPENDENT SCHOOL DISTRICT
B2: PETTY CASH RECONCILEMENT SHEET
B4: A. CASH ON HAND | H4: B. COIN ON HAND
B6: 50 | C6: X | E6: = | F6: =IF(D6=0,"",B6*D6) | H6: 1 | I6: X | K6: = | L6: =IF(J6=0,"",H6*J6)
B8: 20 | C8: X | E8: = | F8: =IF(D8=0,"",B8*D8) | H8: 0.5 | I8: X | K8: = | L8: =IF(J8=0,"",H8*J8)
B10: 10 | C10: X | E10: = | F10: =IF(D10=0,"",B10*D10) | H10: 0.25 | I10: X | K10: = | L10: =IF(J10=0,"",H10*J10)
B12: 5 | C12: X | E12: = | F12: =IF(D12=0,"",B12*D12) | H12: 0.1 | I12: X | K12: = | L12: =IF(J12=0,"",H12*J12)
B14: 1 | C14: X | E14: = | F14: =IF(D14=0,"",B14*D14) | H14: 0.05 | I14: X | K14: = | L14: =IF(J14=0,"",H14*J14)
H16: 0.01 | I16: X | K16: = | L16: =IF(J16=0,"",H16*J16)
B18: TOTAL | D18: =IF(SUM(F6:F17)=0,"",SUM(F6:F17)) | H18: TOTAL | J18: =IF(SUM(L6:L17)=0,"",SUM(L6:L17))
B20: C. OUTSTANDING PETTY CASH VOUCHERS
B21: VOUCHER # | F21: DATE | H21: AMOUNT
G32: TOTAL | H32: =IF(SUM(H22:J31)=0,"",SUM(H22:J31))
B34: D. PETYY CASH VOUCHERS REIMBURSED
B35: DATE | D35: VOUCHER # | F35: ACCOUNT NUMBER | J35: DESCRIPTION | N35: AMOUNT
L51: TOTAL | N51: =IF(SUM(K36:N50)=0,"",SUM(K36:N50))
B53: RECONCILEMENT | M53: BREAKDOWN
B54: PETTY CASH | E54: 200 | M54: COUNT | N54: TOTAL
B56: A. CASH | E56: =IF(D18=0,"",D18) | L56: TWENTIES | N56: =IF(M56=0,"",20*M56)
B57: B. COIN | E57: =IF(J18=0,"",J18) | L57: TENS | N57: =IF(M57=0,"",10*M57)
B58: C. PCV OUT | E58: =IF(H32=0,"",H32) | L58: FIVES | N58: =IF(M58=0,"",5*M58)
B59: D. PCV REIM | E59: =IF(N51=0,"",N51) | L59: ONES | N59: =IF(M59=0,"",1*M59)
B60: TOTAL | E60: =IF(SUM(E56:F59)=0,"",SUM(E56:F59)) | F60: =IF(SUM(F56:F59)=0,"",SUM(F56:F59)) | L60: QUARTERS | N60: =IF(M60=0,"",0.25*M60)
B61: DIFFERENCE | E61: =IF(E60=0,"",E54-E60) -> #VALUE! | F61: =IF(F60=0,"",E54-F60) -> #VALUE! | L61: DIMES | N61: =IF(M61=0,"",0.1*M61)
L62: FIVES | N62: =IF(M62=0,"",0.05*M62)
L63: PENNIES | N63: =IF(M63=0,"",0.01*M63)
M64: TOTAL | N64: =IF(SUM(N55:N63)=0,"",SUM(N55:N63))
B65: PREPARED BY: DATE
N66: =N64-N51 -> #VALUE!

Sheet Petty Cash Reimbursement JV
D1: For Business Office Use Only
D2: POSTING DATE | E2: JV NO.
B3: PETTY CASH REQUEST
A5: Petty Cash Voucher | B5: Account Number | C5: Description | D5: DEBIT | E5: CREDIT
A6: =IF('Petty Cash Reconcilement'!D36="","",'Petty Cash Reconcilement'!D36) | B6: =IF('Petty Cash Reconcilement'!F36=0,"",'Petty Cash Reconcilement'!F36) | C6: =IF('Petty Cash Reconcilement'!J36=0,"",'Petty Cash Reconcilement'!J36) | D6: =IF('Petty Cash Reconcilement'!N36=0,"",'Petty Cash Reconcilement'!N36)
A7: =IF('Petty Cash Reconcilement'!D37="","",'Petty Cash Reconcilement'!D37) | B7: =IF('Petty Cash Reconcilement'!F37=0,"",'Petty Cash Reconcilement'!F37) | C7: =IF('Petty Cash Reconcilement'!J37=0,"",'Petty Cash Reconcilement'!J37) | D7: =IF('Petty Cash Reconcilement'!N37=0,"",'Petty Cash Reconcilement'!N37)
A8: =IF('Petty Cash Reconcilement'!D38="","",'Petty Cash Reconcilement'!D38) | B8: =IF('Petty Cash Reconcilement'!F38=0,"",'Petty Cash Reconcilement'!F38) | C8: =IF('Petty Cash Reconcilement'!J38=0,"",'Petty Cash Reconcilement'!J38) | D8: =IF('Petty Cash Reconcilement'!N38=0,"",'Petty Cash Reconcilement'!N38)
A9: =IF('Petty Cash Reconcilement'!D39="","",'Petty Cash Reconcilement'!D39) | B9: =IF('Petty Cash Reconcilement'!F39=0,"",'Petty Cash Reconcilement'!F39) | C9: =IF('Petty Cash Reconcilement'!J39=0,"",'Petty Cash Reconcilement'!J39) | D9: =IF('Petty Cash Reconcilement'!N39=0,"",'Petty Cash Reconcilement'!N39)
A10: =IF('Petty Cash Reconcilement'!D40="","",'Petty Cash Reconcilement'!D40) | B10: =IF('Petty Cash Reconcilement'!F40=0,"",'Petty Cash Reconcilement'!F40) | C10: =IF('Petty Cash Reconcilement'!J40=0,"",'Petty Cash Reconcilement'!J40) | D10: =IF('Petty Cash Reconcilement'!N40=0,"",'Petty Cash Reconcilement'!N40)
A11: =IF('Petty Cash Reconcilement'!D41="","",'Petty Cash Reconcilement'!D41) | B11: =IF('Petty Cash Reconcilement'!F41=0,"",'Petty Cash Reconcilement'!F41) | C11: =IF('Petty Cash Reconcilement'!J41=0,"",'Petty Cash Reconcilement'!J41) | D11: =IF('Petty Cash Reconcilement'!N41=0,"",'Petty Cash Reconcilement'!N41)
A12: =IF('Petty Cash Reconcilement'!D42="","",'Petty Cash Reconcilement'!D42) | B12: =IF('Petty Cash Reconcilement'!F42=0,"",'Petty Cash Reconcilement'!F42) | C12: =IF('Petty Cash Reconcilement'!J42=0,"",'Petty Cash Reconcilement'!J42) | D12: =IF('Petty Cash Reconcilement'!N42=0,"",'Petty Cash Reconcilement'!N42)
A13: =IF('Petty Cash Reconcilement'!D43="","",'Petty Cash Reconcilement'!D43) | B13: =IF('Petty Cash Reconcilement'!F43=0,"",'Petty Cash Reconcilement'!F43) | C13: =IF('Petty Cash Reconcilement'!J43=0,"",'Petty Cash Reconcilement'!J43) | D13: =IF('Petty Cash Reconcilement'!N43=0,"",'Petty Cash Reconcilement'!N43)
A14: =IF('Petty Cash Reconcilement'!D44="","",'Petty Cash Reconcilement'!D44) | B14: =IF('Petty Cash Reconcilement'!F44=0,"",'Petty Cash Reconcilement'!F44) | C14: =IF('Petty Cash Reconcilement'!J44=0,"",'Petty Cash Reconcilement'!J44) | D14: =IF('Petty Cash Reconcilement'!N44=0,"",'Petty Cash Reconcilement'!N44)
A15: =IF('Petty Cash Reconcilement'!D45="","",'Petty Cash Reconcilement'!D45) | B15: =IF('Petty Cash Reconcilement'!F45=0,"",'Petty Cash Reconcilement'!F45) | C15: =IF('Petty Cash Reconcilement'!J45=0,"",'Petty Cash Reconcilement'!J45) | D15: =IF('Petty Cash Reconcilement'!N45=0,"",'Petty Cash Reconcilement'!N45)
A16: =IF('Petty Cash Reconcilement'!D46="","",'Petty Cash Reconcilement'!D46) | B16: =IF('Petty Cash Reconcilement'!F46=0,"",'Petty Cash Reconcilement'!F46) | C16: =IF('Petty Cash Reconcilement'!J46=0,"",'Petty Cash Reconcilement'!J46) | D16: =IF('Petty Cash Reconcilement'!N46=0,"",'Petty Cash Reconcilement'!N46)
A17: =IF('Petty Cash Reconcilement'!D47="","",'Petty Cash Reconcilement'!D47) | B17: =IF('Petty Cash Reconcilement'!F47=0,"",'Petty Cash Reconcilement'!F47) | C17: =IF('Petty Cash Reconcilement'!J47=0,"",'Petty Cash Reconcilement'!J47) | D17: =IF('Petty Cash Reconcilement'!N47=0,"",'Petty Cash Reconcilement'!N47)
... A20: =IF('Petty Cash Reconcilement'!D50="","",'Petty Cash Reconcilement'!D50) | B20: =IF('Petty Cash Reconcilement'!F50=0,"",'Petty Cash Reconcilement'!F50) | C20: =IF('Petty Cash Reconcilement'!J50=0,"",'Petty Cash Reconcilement'!J50) | D20: =IF('Petty Cash Reconcilement'!N50=0,"",'Petty Cash Reconcilement'!N50)
B26: 199.00.1110.00.000.00 | C26: PETTY CASH REIMBURSEMENT | E26: =IF(SUM(D6:D20)=0,"",SUM(D6:D20))
D28: BREAKDOWN
A29: PREPARED BY : DATE | D29: COUNT | E29: TOTAL
C30: TWENTIES | D30: =IF('Petty Cash Reconcilement'!M56=0,"",'Petty Cash Reconcilement'!M56) | E30: ='Petty Cash Reconcilement'!N56
C31: TENS | D31: =IF('Petty Cash Reconcilement'!M57=0,"",'Petty Cash Reconcilement'!M57) | E31: ='Petty Cash Reconcilement'!N57
C32: FIVES | D32: =IF('Petty Cash Reconcilement'!M58=0,"",'Petty Cash Reconcilement'!M58) | E32: ='Petty Cash Reconcilement'!N58
A33: APPROVED BY : DATE | C33: ONES | D33: =IF('Petty Cash Reconcilement'!M59=0,"",'Petty Cash Reconcilement'!M59) | E33: ='Petty Cash Reconcilement'!N59
C34: QUARTERS | D34: =IF('Petty Cash Reconcilement'!M60=0,"",'Petty Cash Reconcilement'!M60) | E34: ='Petty Cash Reconcilement'!N60
C35: DIMES | D35: =IF('Petty Cash Reconcilement'!M61=0,"",'Petty Cash Reconcilement'!M61) | E35: ='Petty Cash Reconcilement'!N61
C36: NICKELS | D36: =IF('Petty Cash Reconcilement'!M62=0,"",'Petty Cash Reconcilement'!M62) | E36: ='Petty Cash Reconcilement'!N62
C37: PENNIES | D37: =IF('Petty Cash Reconcilement'!M63=0,"",'Petty Cash Reconcilement'!M63) | E37: ='Petty Cash Reconcilement'!N63
D38: TOTAL | E38: =IF(SUM(E30:E37)=0,"",SUM(E30:E37))
E40: =E38-E26 -> #VALUE!
