Workbook
Name _PAV2: 'Data Entry'!$L$79
Name _QL912: 'BSA55'!$G$163
Name AccommRCL05: 'Data Entry'!$L$131
Name AccommRCL10: 'Data Entry'!$L$130
Name AccommTransCheck: 'Data Entry'!$C$127
Name ActAuditExpend: 'Data Entry'!$C$55
Name ActDisabilityRM: 'Data Entry'!$L$64
Name ActivTripLvlFactor: 'BSA55'!$E$84
Name AdjacentWays: Instructions!$C$34
Name AdjBaseSuppLvl: 'BSA55'!$H$67
Name AdjFYTRCL: 'BSA55'!$C$102
Name AdjTNTBaseLimit: 'Truth in Tax'!$I$7
Name AdjWaysLevy: 'Page 5'!$E$28
Name AllFundAuditBudg6330: 'Page 2'!$O$9
Name AmtOUBudgSSA: 'Truth in Tax'!$I$21
Name AnnualExpforBusPass: 'Data Entry'!$L$63
Name AnnualExpforBusToken: 'Data Entry'!$L$62
Name AOIFTFundFactor: 'BSA55'!$F$47
Name AOIFTGrBAddOnWgtdADM: 'BSA55'!$H$35
Name AOIFTRegEdWgtdADM: 'BSA55'!$H$12
Name AOIFTStudCnt912CY: 'Data Entry'!$I$20
Name AOIFTStudCntDD.ED.MIID.SLD.SLI.OHI: 'Data Entry'!$H$38
Name AOIFTStudCntEDP: 'Data Entry'!$H$39
Name AOIFTStudCntELL: 'Data Entry'!$H$30
Name AOIFTStudCntFRPL: 'Data Entry'!$H$43
Name AOIFTStudCntG: 'Data Entry'!$H$42
Name AOIFTStudCntHI: 'Data Entry'!$H$31
Name AOIFTStudCntK3: 'Data Entry'!$H$29
Name AOIFTStudCntK3R: 'Data Entry'!$H$28
Name AOIFTStudCntK8CY: 'Data Entry'!$H$20
Name AOIFTStudCntMDR.AR.SIDR: 'Data Entry'!$H$32
Name AOIFTStudCntMDSC.ASC.SIDSC: 'Data Entry'!$H$33
Name AOIFTStudCntMDSSI: 'Data Entry'!$H$34
Name AOIFTStudCntMOID: 'Data Entry'!$H$40
Name AOIFTStudCntOIR: 'Data Entry'!$H$35
Name AOIFTStudCntOISC: 'Data Entry'!$H$36
Name AOIFTStudCntP.SD: 'Data Entry'!$H$37
Name AOIFTStudCntPSDCY: 'Data Entry'!$G$20
Name AOIFTStudCntVI: 'Data Entry'!$H$41
Name AOIPTFundFactor: 'BSA55'!$H$47
Name AOIPTGrBAddOnWgtdADM: 'BSA55'!$I$35
Name AOIPTRegEdWgtdADM: 'BSA55'!$I$12
Name AOIPTStudCnt912CY: 'Data Entry'!$I$21
Name AOIPTStudCntDD.ED.MIID.SLD.SLI.OHI: 'Data Entry'!$I$38
Name AOIPTStudCntEDP: 'Data Entry'!$I$39
Name AOIPTStudCntELL: 'Data Entry'!$I$30
Name AOIPTStudCntFRPL: 'Data Entry'!$I$43
Name AOIPTStudCntG: 'Data Entry'!$I$42
Name AOIPTStudCntHI: 'Data Entry'!$I$31
Name AOIPTStudCntK3: 'Data Entry'!$I$29
Name AOIPTStudCntK3R: 'Data Entry'!$I$28
Name AOIPTStudCntK8CY: 'Data Entry'!$H$21
Name AOIPTStudCntMDR.AR.SIDR: 'Data Entry'!$I$32
Name AOIPTStudCntMDSC.ASC.SIDSC: 'Data Entry'!$I$33
Name AOIPTStudCntMDSSI: 'Data Entry'!$I$34
Name AOIPTStudCntMOID: 'Data Entry'!$I$40
Name AOIPTStudCntOIR: 'Data Entry'!$I$35
Name AOIPTStudCntOISC: 'Data Entry'!$I$36
Name AOIPTStudCntP.SD: 'Data Entry'!$I$37
Name AOIPTStudCntPSDCY: 'Data Entry'!$G$21

Sheet Cover
B1: DISTRICT NAME | C1: MADISON ELEMENTARY SCHOOL DISTRICT | G1: COUNTY | H1: MARICOPA | R1: CTD NUMBER | S1: 070438000
R2: =0/0 -> #DIV/0!
D3: FY | E3: 2024 | K3: REVENUES AND PROPERTY TAXATION
A4: STATE OF ARIZONA | K4: 1. | L4: Total Budgeted Revenues for Fiscal Year 2023 $ | O4: 71000000
A5: SCHOOL DISTRICT ANNUAL EXPENDITURE BUDGET | K5: 2. | L5: Estimated Revenues by Source for Fiscal Year 2024 (excluding property taxes)
A6: DISTRICTWIDE BUDGET | L6: Local | M6: 1000 $ | N6: 900000 | O6: =IF(OR('District Contacts'!G6="",'District Contacts'!G8="",'District Contacts'!G9="",'District Contacts'!G12="",'District Contacts'!G13="",'District Contacts'!G14="",'District Contacts'!G15="",'District Contacts'!E24="",'District Contacts'!E25="",'District Contacts'!E26=""),"Please ensure District Contacts Tab is complete"," ")
L7: Intermediate | M7: 2000 $ | N7: 50000
C8: Adopted | L8: State | M8: 3000 $ | N8: 17000000 | O8: =IF(OR('Page 7'!J10>'Page 7'!H10,'Page 7'!J17>'Page 7'!H17),"Please correct error on Page 7","")
C9: Version | L9: Federal | M9: 4000 $ | N9: 6800000 | O9: =IF('District Contacts'!D33="","Please enter a SIS Vendor on the District Contacts Tab","")
A10: BY THE GOVERNING BOARD | L10: TOTAL | M10: $ | N10: =SUM(N6:N9) -> 24750000
K11: 3. | L11: District Tax Rates for Prior and Budget Fiscal Years (A.R.S. §15-903.D.4)
A12: We hereby certify that the Budget for the Fiscal Year 2024 was | N12: Prior FY 2023 | Q12: Est. Budget FY 2024
C13: Proposed | E13: 45076 | G13: =IF(AND(OR(ISNUMBER(SEARCH("Proposed*",C8)),ISNUMBER(SEARCH("Adopted*",C8)),ISNUMBER(SEARCH("Revised*",C8))),E13=""),"Please enter a Proposed Date","") | L13: Primary Tax Rate: | N13: 1.7437 | Q13: 1.7093 | S13: =IF('Page 7'!J10>'Page 7'!H10,"Please correct error on Page 7","")
C14: Adopted | E14: 45090 | G14: =IF(AND(OR(ISNUMBER(SEARCH("Adopted*",C8)),ISNUMBER(SEARCH("Revised*",C8))),E14=""),"Please enter an Adopted Date","") | L14: Secondary Tax Rates:
C15: Revised | G15: =IF(AND(ISNUMBER(SEARCH("Revised*",C8)),E15=""),"Please enter a Revised Date","") | L15: M&O Override | N15: 0.4251 | Q15: 0.4141
E16: Date | L16: Special Program Override | N16: 0 | Q16: 0
L17: Capital Override | N17: 0.2834 | Q17: 0.276
L18: Class A Bonds | N18: 0 | Q18: 0
L19: Class B Bonds | N19: 1.361 | Q19: 1.37
L20: CTED | N20: 0 | Q20: 0
L21: Desegregation | N21: 0 | Q21: 0
L22: Total Secondary Tax Rate | N22: =SUM(N15:N21) -> 2.0695 | Q22: =SUM(Q15:Q21) -> 2.0601
K23: TOTAL BUDGETED EXPENDITURES AND AGGREGATE SCHOOL DISTRICT BUDGET LIMIT (A.R.S. §15-905.H)
Q24: Budgeted Expenditures | S24: Budget Limit
K25: 1. | L25: Maintenance and Operation Fund (from pages 1, line 30 and 7, line 11) | P25: $ | Q25: =F001TotalExp -> 46802338 | R25: $ | S25: =GBLBudgFY -> 46802338 | T25: =IF(Q25>S25,"GBL Exceeded","")
C26: SIGNED | F26: SIGNED | K26: 2. | L26: Unrestricted Capital Fund (from pages 4, line 10 and 8, line 12) | P26: $ | Q26: =F610TotalBudgFY -> 12957684 | R26: $ | S26: =UCBLBudgFY -> 12957684 | T26: =IF(Q26>S26,"UCBL Exceeded","")
K27: 3. | L27: Federal Projects Other Than Impact Aid (from Budget, page 6, Federal Projects, line 18 minus line 16) | R27: $ | S27: =TotFedProjFundBudgFY-F378BudgFY -> 6923000
C28: The FY 2024 budget file for the version described above will be uploaded via | K28: 4. | L28: Total Aggregate School District Budget Limit (sum of lines 1 through 3) | R28: $ | S28: =SUM(S25+S26+S27) -> 66683022
C29: the School Finance Budget System on ADE’s website by | F29: 45091 | H29: .
F30: Type the Date as MM/DD/YYYY | K30: AVERAGE TEACHER SALARIES (A.R.S. §15-903.E)
F31: =IF(F29="","Please enter upload by date",IF(F29>=MAX(E13,E14,E15),"","Revise upload date for current submission")) | K31: 1. | L31: Average salary of all teachers employed in FY 2024 (budget year) | P31: =IF(U32<>"","",IF(OR(S31=0,S32=0),"Average salary information is not complete","")) | R31: $ | S31: =(58863*1.02)*1.02 -> 61241 | T31: =IF(U32<>"","",IF(OR(S31=0,S32=0),1/ERROR,""))
K32: 2. | L32: Average salary of all teachers employed in FY 2023 (prior year) | R32: $ | S32: 58863 | T32: FALSE | V32: Check this box if your district has no teachers (transporting districts and some CTEDs).
B33: Superintendent Signature | F33: Business Manager Signature | K33: 3. | L33: Increase in average teacher salary from the prior year | R33: $ | S33: =BudgetYearSalary-PriorYearSalary -> 2378
K34: 4. | L34: Percentage increase | S34: =IF(PriorYearSalary>0,SalaryIncrease/PriorYearSalary,0) -> 0.04
B35: Dr. Kimberly Guerin | F35: Ella Conroy | K35: Comments on average salary calculation (Optional):
B36: Superintendent Name (Typed Name) | F36: Business Manager Name (Typed Name)
B38: District Contact Employee: | D38: Ella Conroy
B40: Telephone: | C40: 602-664-7913 | F40: Email: | G40: econroy@madisoned.org

Sheet District Contacts
A1: DISTRICT NAME | B1: =DistrictName -> MADISON ELEMENTARY SCHOOL DISTRICT | D1: COUNTY | E1: =Cover!H1 -> MARICOPA | G1: CTD NUMBER | H1: =CTD -> 070438000 | J1: VERSION | K1: =Cover!C8 -> Adopted | M1: Dr. | N1: Mr. | O1: Miss | P1: Mrs. | Q1: Ms.
M2: CPA | N2: Ed.D | O2: II | P2: III | Q2: IV | R2: J.D. | S2: Jr. | T2: Ph.D. | U2: Sr.
A3: DISTRICT CONTACT INFORMATION | M3: AZ Dept of Juvenile Corrections (AZDJC) | N3: Infinite Visions
M4: BocaVox (Maestro) | N4: Munis
C5: Prefix | D5: First Name | E5: Last Name | G5: Email Address | H5: Telephone Number | I5: Extension | M5: Edupoint (Synergy) | N5: PowerSchool BusinessPlus
A6: Superintendent | C6: Dr. | D6: Kimberly | E6: Guerin | G6: kguerin@madisoned.org | H6: 6026647903 | M6: Edupoint (Edupoint) | N6: Other, please add at right
A7: Executive Assistant to Superintendent | D7: Danielle | E7: Humphrey | G7: dhumphrey@madisoned.org | H7: 6026647913 | J7: =IF(AND(G9="",G10=""),"The Superintendent and Business Manager email addresses are used to distribute important budget information. If your district does not have a Business Manager, please fill in an alternate contact to receive budget updates. ","") | M7: Hane Solutions (SchoolDex)
A8: Chief Financial Officer | D8: Lori | E8: Garvey | G8: lgarvey@madisoned.org | H8: 6026647916 | M8: InfiniteCampus (InfiniteCampus)
A9: Business Manager 1 | D9: Ella | E9: Conroy | G9: econroy@madisoned.org | M9: JupiterEd (JupiterEd)
A10: Business Manager 2 | M10: MediaNet Solutions (e-IEP PRO)
A11: Business Consultant | M11: Mesa Distance Learning Program (MDLP)
A12: School District Employee Report (SDER) Coordinator | D12: Anita | E12: Gammage | G12: agammage@madisoned.org | H12: 6026647938 | M12: Pearson (Connexus)
A13: SPED Data Reporting Coordinator | D13: Betsy | E13: Kirby | G13: bkirby1@madisoned.org | H13: 6026647959 | M13: PowerSchool (PowerSchool)
A14: AzEDS/ADM Data Coordinator | D14: Jennifer | E14: Warrren | G14: jwarren1@madisoned.org | H14: 6026647907 | M14: Strongmind (Strongmind)
A15: Transportation Data Reporting Coordinator | D15: Diana | E15: Nelson | G15: dnelson@madisoned.org | H15: 6026647701 | M15: Tyler Technologies (Schoolmaster)
A16: CTE Coordinator | M16: Tyler Technologies (Tyler SIS v10)
A17: Poverty Coordinator | D17: Hilary | E17: O'Brien | G17: hjobrien@madisoned.org | H17: 6026647912 | M17: FOCUS School Software LLC
A18: Assessments Coordinator | D18: Jason | E18: Piontkowski | G18: jpionkowski@madisoned.org | H18: 6026647933
A19: Curriculum Coordinator | D19: Laura | E19: Webb | G19: lwebb@madisoned.org | H19: 6026647914
A20: Information Technology (IT) Director | D20: Justin | E20: Wright | G20: jwright@madisoned.org | H20: 6026647904
A21: Bookstore Manager
A22: Governing Board Member | D22: Karen | E22: Gresham | G22: kgresham@madisoned.org
A23: Governing Board Member | D23: Scott | E23: Holcomb | G23: sholcomb@madisoned.org
A24: Governing Board Member | D24: Mitra | E24: Khazai | G24: mkhazai@madisoned.org
A25: Governing Board Member | D25: Sarah | E25: Speer | G25: sspeer@madisoned.org
A26: Governing Board Member | D26: Christine | E26: Thompson | G26: cthompson@madisoned.org
A27: Governing Board Member
A28: Governing Board Member
A29: Governing Board Member
A30: Governing Board Member
D32: SELECT from Dropdown
A33: Student Information Systems (SIS) Vendor | D33: PowerSchool (PowerSchool)
A35: Accounting Information System | D35: Infinite Visions
A37: Bookstore Cash Receipting System
A39: District's website home page address | D39: www.madisonaz.org

Sheet Page 1
A1: DISTRICT NAME | B1: =DistrictName -> MADISON ELEMENTARY SCHOOL DISTRICT | F1: COUNTY | G1: =Cover!H1 -> MARICOPA | I1: CTD NUMBER | J1: =CTD -> 070438000 | L1: VERSION | M1: =Cover!C8 -> Adopted
A2: FUND 001 (M&O) | D2: MAINTENANCE AND OPERATION (M&O) FUND
G3: Employee | H3: Purchased | K3: Totals
D4: FTE | F4: Salaries | G4: Benefits | H4: Services | I4: Supplies | J4: Other | K4: Prior | L4: Budget | M4: %
A5: Expenditures | D5: Prior | E5: Budget | H5: 6300, 6400, | K5: FY | L5: FY | M5: Increase/
D6: FY | E6: FY | F6: 6100 | G6: 6200 | H6: 6500 | I6: 6600 | J6: 6800 | K6: 2023 | L6: 2024 | M6: Decrease
A7: 100 Regular Education | D7: =[1]!F001P100F1000Personnel -> 295 | K7: =[1]!F001P100F1000 -> 17171075 | L7: =SUM(F8:J8) -> 18407812 | M7: =IF(K7=L7,0,IF(K7>0,(L7-K7)/K7,"")) -> 0.072
A8: 1000 Instruction | C8: 1. | E8: 309 | F8: 12800000 | G8: =(F8*0.24)+(250*7200)+29812 -> 4901812 | H8: 400000 | I8: 300000 | J8: 6000 | N8: 1.
A9: 2000 Support Services | D9: =[1]!F001P100F2100Personnel -> 24 | K9: =[1]!F001P100F2100 -> 1626000 | L9: =SUM(F10:J10) -> 2074200 | M9: =IF(K9=L9,0,IF(K9>0,(L9-K9)/K9,"")) -> 0.276
A10: 2100 Students | C10: 2. | E10: 28 | F10: 1400000 | G10: =(1400000*0.24)+(7200*26) -> 523200 | H10: 125000 | I10: 25000 | J10: 1000 | N10: 2.
A11: 2200 Instructional Staff | C11: 3. | D11: =[1]!F001P100F2200Personnel -> 21 | E11: 22 | F11: 1350000 | G11: =(1350000*0.24)+(20*7200) -> 468000 | H11: 200000 | I11: 15000 | J11: 100 | K11: =[1]!F001P100F2200 -> 1965100 | L11: =SUM(F11:J11) -> 2033100 | M11: =IF(K11=L11,0,IF(K11>0,(L11-K11)/K11,"")) -> 0.035 | N11: 3.
A12: 2300 General Administration | C12: 4. | D12: =[1]!F001P100F2300Personnel -> 6 | E12: 6 | F12: 790000 | G12: 275000 | H12: 200000 | I12: 5000 | J12: 40000 | K12: =[1]!F001P100F2300 -> 1274981 | L12: =SUM(F12:J12) -> 1310000 | M12: =IF(K12=L12,0,IF(K12>0,(L12-K12)/K12,"")) -> 0.027 | N12: 4.
A13: 2400 School Administration | C13: 5. | D13: =[1]!F001P100F2400Personnel -> 26.5 | E13: 26.5 | F13: 2250000 | G13: =(F13*0.24)+(7200*23) -> 705600 | H13: 120000 | I13: 11500 | J13: 200 | K13: =[1]!F001P100F2400 -> 3006700 | L13: =SUM(F13:J13) -> 3087300 | M13: =IF(K13=L13,0,IF(K13>0,(L13-K13)/K13,"")) -> 0.027 | N13: 5.
A14: 2500 Central Services | C14: 6. | D14: =[1]!F001P100F2500Personnel -> 15.5 | E14: 15.5 | F14: 1150000 | G14: 423000 | H14: 525000 | I14: 150000 | J14: 165000 | K14: =[1]!F001P100F2500 -> 2361000 | L14: =SUM(F14:J14) -> 2413000 | M14: =IF(K14=L14,0,IF(K14>0,(L14-K14)/K14,"")) -> 0.022 | N14: 6.
A15: 2600 Operation & Maintenance of Plant | C15: 7. | D15: =[1]!F001P100F2600Personnel -> 42 | E15: 43 | F15: 1650000 | G15: 800000 | H15: 1800000 | I15: 1925000 | J15: 6000 | K15: =[1]!F001P100F2600 -> 6019000 | L15: =SUM(F15:J15) -> 6181000 | M15: =IF(K15=L15,0,IF(K15>0,(L15-K15)/K15,"")) -> 0.027 | N15: 7.
A16: 2900 Other | C16: 8. | D16: =[1]!F001P100F2900Personnel -> 0 | E16: 0 | F16: 0 | G16: 0 | H16: 0 | I16: 0 | J16: 0 | K16: =[1]!F001P100F2900 -> 0 | L16: =SUM(F16:J16) -> 0 | M16: =IF(K16=L16,0,IF(K16>0,(L16-K16)/K16,"")) -> 0 | N16: 8.
A17: 3000 Operation of Noninstructional Services | C17: 9. | D17: =[1]!F001P100F3000Personnel -> 0 | E17: 1 | F17: 21200 | G17: 4575 | H17: 0 | I17: 65000 | J17: 75000 | K17: =[1]!F001P100F3000 -> 160775 | L17: =SUM(F17:J17) -> 165775 | M17: =IF(K17=L17,0,IF(K17>0,(L17-K17)/K17,"")) -> 0.031 | N17: 9.
A18: 610 School-Sponsored Cocurricular Activities | C18: 10. | D18: =[1]!F001P610Personnel -> 0 | E18: 0 | F18: 0 | G18: 0 | H18: 0 | I18: 0 | J18: 0 | K18: =[1]!F001P610 -> 0 | L18: =SUM(F18:J18) -> 0 | M18: =IF(K18=L18,0,IF(K18>0,(L18-K18)/K18,"")) -> 0 | N18: 10.
A19: 620 School-Sponsored Athletics | C19: 11. | D19: =[1]!F001P620Personnel -> 0 | E19: 0 | F19: 0 | G19: 0 | H19: 0 | I19: 0 | J19: 0 | K19: =[1]!F001P620 -> 0 | L19: =SUM(F19:J19) -> 0 | M19: =IF(K19=L19,0,IF(K19>0,(L19-K19)/K19,"")) -> 0 | N19: 11.
A20: 630 Other Instructional Programs | C20: 12. | D20: =[1]!F001P630Personnel -> 0 | E20: 0 | F20: 0 | G20: 0 | H20: 0 | I20: 0 | J20: 0 | K20: =[1]!F001P630 -> 0 | L20: =SUM(F20:J20) -> 0 | M20: =IF(K20=L20,0,IF(K20>0,(L20-K20)/K20,"")) -> 0 | N20: 12.
A21: 700, 800, 900 Other Programs | C21: 13. | D21: =[1]!F001P700800900Personnel -> 0 | E21: 0 | F21: 0 | G21: 0 | H21: 0 | I21: 0 | J21: 0 | K21: =[1]!F001P700800900 -> 0 | L21: =SUM(F21:J21) -> 0 | M21: =IF(K21=L21,0,IF(K21>0,(L21-K21)/K21,"")) -> 0 | N21: 13.
A22: Regular Education Subsection Subtotal (lines 1-13) | C22: 14. | D22: =SUM(D7:D21) -> 430 | E22: =E8+SUM(E10:E21) -> 451 | F22: =F8+SUM(F10:F21) -> 21411200 | G22: =G8+SUM(G10:G21) -> 8101187 | H22: =H8+SUM(H10:H21) -> 3370000 | I22: =I8+SUM(I10:I21) -> 2496500 | J22: =J8+SUM(J10:J21) -> 293300 | K22: =SUM(K7:K21) -> 33584631 | L22: =SUM(L7:L21) -> 35672187 | M22: =IF(K22=L22,0,IF(K22>0,(L22-K22)/K22,"")) -> 0.062 | N22: 14.
A23: 200 and 300 Special Education | D23: =[1]!F001P200F1000Personnel -> 85 | K23: =[1]!F001P200F1000 -> 4625500 | L23: =SUM(F24:J24) -> 5009500 | M23: =IF(K23=L23,0,IF(K23>0,(L23-K23)/K23,"")) -> 0.083
A24: 1000 Instruction | C24: 15. | E24: 85 | F24: 3100000 | G24: =(3100000*0.24)+(75*7200) -> 1284000 | H24: 600000 | I24: 25000 | J24: 500 | N24: 15.
A25: 2000 Support Services | D25: =[1]!F001P200F2100Personnel -> 25 | K25: =[1]!F001P200F2100 -> 2547000 | L25: =SUM(F26:J26) -> 2748000 | M25: =IF(K25=L25,0,IF(K25>0,(L25-K25)/K25,"")) -> 0.079
A26: 2100 Students | C26: 16. | E26: 26 | F26: 1800000 | G26: =(F26*0.24)+(20*7200) -> 576000 | H26: 350000 | I26: 20000 | J26: 2000 | N26: 16.
A27: 2200 Instructional Staff | C27: 17. | D27: =[1]!F001P200F2200Personnel -> 4.3 | E27: 4.3 | F27: 400000 | G27: 150000 | H27: 25000 | I27: 10000 | J27: 1800 | K27: =[1]!F001P200F2200 -> 536800 | L27: =SUM(F27:J27) -> 586800 | M27: =IF(K27=L27,0,IF(K27>0,(L27-K27)/K27,"")) -> 0.093 | N27: 17.
A28: 2300 General Administration | C28: 18. | D28: =[1]!F001P200F2300Personnel -> 0 | E28: 0 | F28: 0 | G28: 0 | H28: 0 | I28: 0 | J28: 0 | K28: =[1]!F001P200F2300 -> 0 | L28: =SUM(F28:J28) -> 0 | M28: =IF(K28=L28,0,IF(K28>0,(L28-K28)/K28,"")) -> 0 | N28: 18.
A29: 2400 School Administration | C29: 19. | D29: =[1]!F001P200F2400Personnel -> 0 | E29: 0 | F29: 0 | G29: 0 | H29: 0 | I29: 0 | J29: 0 | K29: =[1]!F001P200F2400 -> 0 | L29: =SUM(F29:J29) -> 0 | M29: =IF(K29=L29,0,IF(K29>0,(L29-K29)/K29,"")) -> 0 | N29: 19.
A30: 2500 Central Services | C30: 20. | D30: =[1]!F001P200F2500Personnel -> 0 | E30: 0 | F30: 0 | G30: 0 | H30: 5000 | I30: 0 | J30: 0 | K30: =[1]!F001P200F2500 -> 5000 | L30: =SUM(F30:J30) -> 5000 | M30: =IF(K30=L30,0,IF(K30>0,(L30-K30)/K30,"")) -> 0 | N30: 20.
A31: 2600 Operation & Maintenance of Plant | C31: 21. | D31: =[1]!F001P200F2600Personnel -> 0 | E31: 0 | F31: 0 | G31: 0 | H31: 0 | I31: 0 | J31: 0 | K31: =[1]!F001P200F2600 -> 0 | L31: =SUM(F31:J31) -> 0 | M31: =IF(K31=L31,0,IF(K31>0,(L31-K31)/K31,"")) -> 0 | N31: 21.
A32: 2900 Other | C32: 22. | D32: =[1]!F001P200F2900Personnel -> 0 | E32: 0 | F32: 0 | G32: 0 | H32: 0 | I32: 0 | J32: 0 | K32: =[1]!F001P200F2900 -> 0 | L32: =SUM(F32:J32) -> 0 | M32: =IF(K32=L32,0,IF(K32>0,(L32-K32)/K32,"")) -> 0 | N32: 22.
A33: 3000 Operation of Noninstructional Services | C33: 23. | D33: =[1]!F001P200F3000Personnel -> 0 | E33: 0 | F33: 0 | G33: 0 | H33: 0 | I33: 0 | J33: 0 | K33: =[1]!F001P200F3000 -> 0 | L33: =SUM(F33:J33) -> 0 | M33: =IF(K33=L33,0,IF(K33>0,(L33-K33)/K33,"")) -> 0 | N33: 23.
A34: Subtotal (lines 15-23) | C34: 24. | D34: =SUM(D23:D33) -> 114.3 | E34: =E24+SUM(E26:E33) -> 115.3 | F34: =F24+SUM(F26:F33) -> 5300000 | G34: =G24+SUM(G26:G33) -> 2010000 | H34: =H24+SUM(H26:H33) -> 980000 | I34: =I24+SUM(I26:I33) -> 55000 | J34: =J24+SUM(J26:J33) -> 4300 | K34: =SUM(K23:K33) -> 7714300 | L34: =SUM(L23:L33) -> 8349300 | M34: =IF(K34=L34,0,IF(K34>0,(L34-K34)/K34,"")) -> 0.082 | N34: 24.
A35: 400 Pupil Transportation | C35: 25. | D35: =[1]!F001P400Personnel -> 42 | E35: 42 | F35: 1075000 | G35: =(F35*0.24)+(30*7200) -> 474000 | H35: 450000 | I35: 350000 | J35: 1000 | K35: =[1]!F001P400 -> 2250000 | L35: =SUM(F35:J35) -> 2350000 | M35: =IF(K35=L35,0,IF(K35>0,(L35-K35)/K35,"")) -> 0.044 | N35: 25.
A36: 510 Desegregation (from Districtwide Desegregation | D36: =[2]!DesegFTEPY -> 0 | E36: =[2]!DesegFTEBY -> 0 | F36: =[2]!DesegTotalMOO6100 -> 0 | G36: =[2]!DesegTotalMOO6200 -> 0 | H36: =[2]!DesegTotalMOO630064006500 -> 0 | I36: =[2]!DesegTotalMOO6600 -> 0 | J36: =[2]!DesegTotalMOO6800 -> 0 | K36: =[2]!DesegTotalMOPY -> 0 | L36: =[2]!DesegTotalMOBY -> 0 | M36: =[2]!DesegTotalMOPercent -> 0
A37: Budget, page 2, line 44) | C37: 26. | N37: 26.
A38: 530 Dropout Prevention Programs | C38: 27. | D38: =[1]!F001P530Personnel -> 0 | E38: 0 | F38: 0 | G38: 0 | H38: 0 | I38: 0 | J38: 0 | K38: =[1]!F001P530 -> 0 | L38: =SUM(F38:J38) -> 0 | M38: =IF(K38=L38,0,IF(K38>0,(L38-K38)/K38,"")) -> 0 | N38: 27.
A39: 540 Joint Career and Technical Education and Vocational | D39: =[1]!F001P540Personnel -> 0 | E39: 0 | F39: 0 | G39: 0 | H39: 0 | I39: 0 | J39: 0 | K39: =[1]!F001P540 -> 0 | L39: =SUM(F39:J40) -> 0 | M39: =IF(K39=L39,0,IF(K39>0,(L39-K39)/K39,"")) -> 0
A40: Education Center | C40: 28. | N40: 28.
...

Sheet Page 2
A1: DISTRICT NAME | C1: =DistrictName -> MADISON ELEMENTARY SCHOOL DISTRICT | H1: COUNTY | I1: =Cover!H1 -> MARICOPA | N1: CTD NUMBER | O1: =CTD -> 070438000 | Q1: VERSION | R1: =Cover!C8 -> Adopted
A4: SPECIAL EDUCATION PROGRAMS BY TYPE (M&O Fund Programs 200 and 300)
A6: (A.R.S. §§ 15-761 and 15-903) | F6: Prior FY | G6: Budget FY
A7: 1. | B7: Total All Disability Classifications | F7: =[1]!F001P200Subtotal -> 6540300 | G7: =8349300-1095000 -> 7254300 | H7: 1. | K7: Expenditures Budgeted for Audit Services
A8: 2. | B8: Gifted Education | F8: =[1]!SPEDGiftedEdBudgFY -> 675000 | G8: 695000 | H8: 2. | K8: M&O Fund - Nonfederal | N8: 6350 | O8: =53000-10600 -> 42400
A9: 3. | B9: Remedial Education | F9: =[1]!SPEDRemedialEdBudgFY -> 0 | G9: 0 | H9: 3. | K9: All Funds - Federal | N9: 6330 | O9: 10600
A10: 4. | B10: ELL Incremental Costs | F10: =[1]!SPEDELLIncCostBudgFY -> 499000 | G10: 400000 | H10: 4.
A11: 5. | B11: ELL Compensatory Instruction | F11: =[1]!SPEDELLCompInstrBudgFY -> 0 | G11: 0 | H11: 5.
A12: 6. | B12: Vocational and Technical Education (non-CTED) | F12: =[1]!SPEDVocTechEdBudgFY -> 0 | G12: 0 | H12: 6. | K12: FY 2024 Performance Pay (A.R.S. §15-920)
A13: 7. | B13: Career Education (non-CTED) | F13: =[1]!SPEDCareerEdBudgFY -> 0 | G13: 0 | H13: 7. | K13: Amount Budgeted in M&O Fund for a Performance Pay Component | R13: 0
A14: 8. | B14: Career Technical Education (CTED) | F14: =[1]!JTEDBudgFY -> 0 | G14: 0 | H14: 8. | I14: =IF(SUM(G7:G14)=SUM('Page 1'!L34:L34),"","Invalid. The amount should equal the total budgeted amount reported on line 24, page 1.")
A15: 9. | B15: Total (lines 1 through 8. Must equal | F15: =SUM(F7:F14) -> 7714300 | G15: =SUM(G7:G14) -> 8349300 | K15: Do not report budgeted amounts for the Performance Pay Component of the Classroom Site Fund on this line.
B16: total of line 24, page 1) | H16: 9.
A18: 10. | B18: IEP required pupil transportation costs | K18: Expenditures Budgeted in the M&O Fund for Food Service
B19: coded within Program 400 | F19: {=[1]!IEPTransportCosts} -> 328000 | G19: 328000 | H19: 10. | K19: Amount budgeted in M&O for Food Service (Fund 001, Function 3100) | R19: 165775
K20: (This amount will be used to determine district compliance with state matching
K21: requirements pursuant to Code of Federal Regulations (CFR) Title 7, §210.17(a)]
A22: Proposed Ratios for Special Education
A23: (A.R.S. §§15-903.E.1 and 15-764.A.5) | F23: Teacher-Pupil 1 to | G23: =SPEDTeacher -> 15
F24: Staff-Pupil 1 to | G24: =SPEDStaff -> 10
A26: Estimated FTE Certified Employees
A27: (A.R.S. §15-903.E.2) | F27: Prior FY | G27: Budget FY
E28: Number of FTE - Certified Employees | F28: =[1]!EstimatedFTECertified -> 354.2 | G28: 360
E29: Number of FTE - Certified Purchased Services Personnel | G29: 5

Sheet Page 3
A1: DISTRICT NAME | B1: =DistrictName -> MADISON ELEMENTARY SCHOOL DISTRICT | F1: COUNTY | G1: =Cover!H1 -> MARICOPA | J1: CTD NUMBER | K1: =Cover!S1 -> 070438000 | M1: VERSION | N1: =Cover!C8 -> Adopted
A2: FUND 010 (CSF) | D2: CLASSROOM SITE FUND (CSF) AND CSF BUDGET LIMIT (A.R.S. §§ 15-977 and 15-978)
I3: Debt Service | J3: Totals | L3: %
A4: Expenditures | D4: Salaries | E4: Employee Benefits | F4: Purchased Services | G4: Supplies | H4: Property | I4: and Miscellaneous | J4: Prior FY | K4: Budget FY | L4: Increase/
D5: 6100 | E5: 6200 | F5: 6300, 6400, 6500 | G5: 6600 | H5: 6700 | I5: 6800 | J5: 2023 | K5: 2024 | L5: Decrease
A6: 1000 Instruction | C6: 1. | D6: =7000+6100000-1000 -> 6106000 | E6: =(7200*0.05*300)+(0.24*D6)+41572+260 -> 1615272 | F6: 0 | G6: 0 | H6: 0 | I6: 0 | J6: {=[1]!F010F1000} -> 6857969 | K6: =SUM(D6:I6) -> 7721272 | L6: =IF(J6=K6,0,IF(J6>0,(K6-J6)/J6,"")) -> 0.126 | M6: 1.
A7: 2100 Support Services - Students | C7: 2. | D7: 670000 | E7: =(7200*0.05*20)+(0.24*D7) -> 168000 | F7: 0 | G7: 0 | H7: 0 | I7: 0 | J7: {=[1]!F010F2100} -> 744000 | K7: =SUM(D7:I7) -> 838000 | L7: =IF(J7=K7,0,IF(J7>0,(K7-J7)/J7,"")) -> 0.126 | M7: 2.
A8: 2200 Support Services - Instructional Staff | C8: 3. | D8: 275000 | E8: =D8*0.3 -> 82500 | F8: 0 | G8: 0 | I8: 0 | J8: {=[1]!F010F2200} -> 310000 | K8: =SUM(D8:I8) -> 357500 | L8: =IF(J8=K8,0,IF(J8>0,(K8-J8)/J8,"")) -> 0.153 | M8: 3.
A9: 2300 Support Services - General Administration | C9: 4. | F9: 0 | J9: {=[1]!F010F2310} -> 0 | K9: =SUM(D9:I9) -> 0 | L9: =IF(J9=K9,0,IF(J9>0,(K9-J9)/J9,"")) -> 0 | M9: 4.
A10: 2500 Central Services | C10: 5. | I10: 0 | J10: {=[1]!F010F2510} -> 0 | K10: =SUM(D10:I10) -> 0 | L10: =IF(J10=K10,0,IF(J10>0,(K10-J10)/J10,"")) -> 0 | M10: 5.
A11: 3300 Community Services Operations | C11: 6. | D11: 0 | E11: 0 | F11: 0 | J11: {=[1]!F010F3300} -> 0 | K11: =SUM(D11:I11) -> 0 | L11: =IF(J11=K11,0,IF(J11>0,(K11-J11)/J11,"")) -> 0 | M11: 6.
A12: 4000 Facilities Acquisition and Construction | C12: 7. | H12: 0 | J12: {=[1]!F010F4000} -> 0 | K12: =SUM(D12:I12) -> 0 | M12: 7.
A13: 5000 Debt Service | C13: 8. | I13: 0 | J13: {=[1]!F010F5000} -> 0 | K13: =SUM(D13:I13) -> 0 | M13: 8.
A14: Total Expenditures (lines 1-8) | C14: 9. | D14: =SUM(D6:D13) -> 7051000 | E14: =SUM(E6:E13) -> 1865772 | F14: =SUM(F6:F13) -> 0 | G14: =SUM(G6:G13) -> 0 | H14: =SUM(H6:H13) -> 0 | I14: =SUM(I6:I13) -> 0 | J14: {=[1]!F010TotalExp} -> 7911969 | K14: =SUM(D14:I14) -> 8916772 | L14: =IF(J14=K14,0,IF(J14>0,(K14-J14)/J14,"")) -> 0.127 | M14: 9.
L16: =IF(ROUND(F010TotalExp,0)<ROUND(CSFBLBudgFY,0),CONCATENATE("The district has budgeted an amount in Fund 010 which is less than the Classroom Site Fund Budget Limit as calculated below by ",TEXT(CSFBLBudgFY-F010TotalExp,"$#,###"),"."),IF(ROUND(F010TotalExp,0)>ROUND(CSFBLBudgFY,0),CONCATENATE("The district has budgeted greater in Fund 010 than the Classroom Site Fund Budget Limit as calculated below by ",TEXT(-CSFBLBudgFY+F010TotalExp,"$#,###"),"."),IF(ROUND(F010TotalExp,0)=ROUND(CSFBLBudgFY,0),CONCATENATE("The district has budgeted an amount in Fund 010 equal to the Classroom Site Fund Budget Limit as calculated below.")))) -> The district has budgeted an amount in Fund 010 equal to the Classroom Site Fund Budget Limit as calculated below.
A30: Classroom Site Fund Budget Limit Calculation
A31: FY 2023 Classroom Site Fund Budget Limit (from FY 2023 latest revised Budget, page 3, line 16) | C31: 10. | D31: {='[1]Page 3'!CSFBLBudgFY} -> 7911969
A32: FY 2023 Actual Expenditures (For budget adoption use actual expenditures to date plus estimated expenditures through fiscal year-end.) | C32: 11. | D32: 3691000 | E32: =IF(AND(CSFBLCurrFY<>0,CSFActualCurrFY=""),"Please enter prior year CSF actual expenditures on line 11.","")
A33: Unexpended Budget Balance (line 10 minus 11) | C33: 12. | D33: =D31-D32 -> 4220969
A34: Interest Earned in the Classroom Site Fund in FY 2023 | C34: 13. | D34: 75000
A35: FY 2024 Classroom Site Fund Allocation (provided by ADE, based on $758) | C35: 14. | D35: =6096.0457*758 -> 4620803 | E35: =IF(AND(CSFBLCurrFY<>0,CSFAllocBudgFY=""),"Please enter the total current year CSF allocation on line 14.","")
A36: Adjustments to FY 2024 Classroom Site Fund Budget Limit (1) | C36: 15. | D36: 0
A38: FY 2024 Classroom Site Fund Budget Limit (Sum of lines 10 through 15) (2) | C38: 16. | D38: =SUM(D33:D36) -> 8916772
A40: (1) This line may be used to recapture lost CSF budget capacity that resulted from underbudgeting in prior fiscal years.
A41: (2) The amounts budgeted on line 7 cannot exceed the respective amounts on this line.

Sheet Page 4
A1: DISTRICT NAME | B1: =DistrictName -> MADISON ELEMENTARY SCHOOL DISTRICT | G1: COUNTY | H1: =Cover!H1 -> MARICOPA | K1: CTD NUMBER | L1: =Cover!S1 -> 070438000 | M1: VERSION | N1: =Cover!C8 -> Adopted
A3: FUND 610 (UCO) | D3: UNRESTRICTED CAPITAL OUTLAY (UCO) FUND
D4: Rentals | E4: Library Books, Textbooks, | F4: Short-term Noninstructional Software Subscription | G4: Property (2) | H4: Redemption of Principal (3) | I4: Interest (4) | K4: Totals
E5: & Instructional | J5: All Other | K5: Prior | L5: Budget | M5: %
A6: Expenditures | E6: Aids (2) | J6: Object Codes | K6: FY | L6: FY | M6: Increase/
D7: 6440 | E7: 6641-6643 | F7: 6655 | G7: 6700 | H7: 6831, 6832, 6833 | I7: 6841, 6842, 6843, 6850 | J7: (excluding 6900) | K7: 2023 | L7: 2024 | M7: Decrease
A8: Unrestricted Capital Outlay Override (1) | C8: 1. | D8: 275000 | E8: 2500000 | F8: 300000 | G8: 131281 | H8: 0 | I8: 0 | J8: 375000 | K8: =[1]!F610Override -> 3449646 | L8: =SUM(D8:J8) -> 3581281 | M8: =IF(K8=L8,0,IF(K8>0,(L8-K8)/K8,"")) -> 0.038 | N8: 1.
A9: Unrestricted Capital Outlay Fund 610 (6) | K9: =[1]!F610F1000 -> 8276080 | L9: =SUM(D10:J10) -> 7510000 | M9: =IF(K9=L9,0,IF(K9>0,(L9-K9)/K9,"")) -> -0.093
A10: 1000 Instruction | C10: 2. | D10: 10000 | E10: 5500000 | G10: 2000000 | J10: 0 | M10: =IF(K10=L10,0,IF(K10>0,(L10-K10)/K10,"--")) -> 0 | N10: 2.
A11: 2000 Support Services | K11: =[1]!F610F21002200 -> 580000 | L11: =SUM(D12:J12) -> 880000 | M11: =IF(K11=L11,0,IF(K11>0,(L11-K11)/K11,"")) -> 0.517
A12: 2100, 2200 Students and Instructional Staff | C12: 3. | D12: 255000 | E12: 175000 | F12: 150000 | G12: 300000 | J12: 0 | M12: =IF(K12=L12,0,IF(K12>0,(L12-K12)/K12,"--")) -> 0 | N12: 3.
A13: 2300, 2400, 2500, 2900 Administration | C13: 4. | D13: 0 | F13: 150000 | G13: =-316+450000 -> 449684 | I13: 0 | J13: 0 | K13: =[1]!F610F2300240025002900 -> 565022 | L13: =SUM(D13:J13) -> 599684 | M13: =IF(K13=L13,0,IF(K13>0,(L13-K13)/K13,"")) -> 0.061 | N13: 4.
A14: 2600 Operation & Maintenance of Plant | C14: 5. | D14: 10000 | F14: 150000 | G14: 300000 | J14: 0 | K14: =[1]!F610F2600 -> 360000 | L14: =SUM(D14:J14) -> 460000 | M14: =IF(K14=L14,0,IF(K14>0,(L14-K14)/K14,"")) -> 0.278 | N14: 5.
A15: 2700 Student Transportation | C15: 6. | D15: 0 | F15: 50000 | G15: 208000 | J15: 0 | K15: =[1]!F610F2700 -> 213000 | L15: =SUM(D15:J15) -> 258000 | M15: =IF(K15=L15,0,IF(K15>0,(L15-K15)/K15,"")) -> 0.211 | N15: 6.
A16: 3000 Operation of Noninstructional Services (5) | C16: 7. | D16: 0 | F16: 0 | G16: 250000 | J16: 0 | K16: =[1]!F610F3000 -> 250000 | L16: =SUM(D16:J16) -> 250000 | M16: =IF(K16=L16,0,IF(K16>0,(L16-K16)/K16,"")) -> 0 | N16: 7.
A17: 4000 Facilities Acquisition and Construction | C17: 8. | D17: 0 | F17: 0 | G17: 500000 | J17: 2500000 | K17: =[1]!F610F4000 -> 2051612 | L17: =SUM(D17:J17) -> 3000000 | M17: =IF(K17=L17,0,IF(K17>0,(L17-K17)/K17,"")) -> 0.462 | N17: 8.
A18: 5000 Debt Service | C18: 9. | H18: 0 | I18: 0 | K18: =[1]!F610F5000 -> 0 | L18: =SUM(D18:J18) -> 0 | M18: =IF(K18=L18,0,IF(K18>0,(L18-K18)/K18,"")) -> 0 | N18: 9.
A19: Total Unrestricted Capital Outlay Fund (lines 2-9) | C19: 10. | D19: =D10+SUM(D12:D18) -> 275000 | E19: =E10+SUM(E12:E18) -> 5675000 | F19: =F8+SUM(F11:F18) -> 800000 | G19: =G10+SUM(G12:G18) -> 4007684 | H19: =H10+SUM(H12:H18) -> 0 | I19: =I10+SUM(I12:I18) -> 0 | J19: =J10+SUM(J12:J18) -> 2500000 | K19: =SUM(K9:K18) -> 12295714 | L19: =SUM(L9:L18) -> 12957684 | M19: =IF(K19=L19,0,IF(K19>0,(L19-K19)/K19,"")) -> 0.054 | N19: 10.
F21: =IF(ROUND('Page 4'!L19,0)<ROUND('Page 8'!K32,0),CONCATENATE("The district has budgeted an amount in the UCO Fund which is less than the Unrestricted Capital Budget Limit as calculated on Page 8 of 8 by ",TEXT('Page 8'!K32-'Page 4'!L19,"$#,###"),"."),IF(ROUND('Page 4'!L19,0)>ROUND('Page 8'!K32,0),CONCATENATE("The district has budgeted greater in the UCO Fund than the Unrestricted Capital Budget Limit as calculated on Page 8 of 8 by ",TEXT(-'Page 8'!K32+'Page 4'!L19,"$#,###"),"."),IF(ROUND('Page 4'!L19,0)=ROUND('Page 8'!K32,0),CONCATENATE("The district has budgeted an amount in the UCO Fund equal to the Unrestricted Capital Budget Limit as calculated on Page 8 of 8.")))) -> The district has budgeted an amount in the UCO Fund equal to the Unrestricted Capital Budget Limit as calculated on Page 8 of 8.
A23: (1) Amounts in the Unrestricted Capital Outlay Override line 1 above must be included in the appropriate individual line items for Fund 610 and in the Budget Year Total Column. | E23: (5) | F23: Expenditures Budgeted in Unrestricted Capital Outlay (UCO) Fund for Food Service
F25: Enter the amount budgeted in UCO for Food Service [Amount will be used to determine district
F26: compliance with state matching requirements pursuant to CFR Title 7, §210.17(a)] | K26: 0
A27: (2) Detail by object code:
B28: Unrestricted Capital Outlay
A30: 6641 Library Books | B30: 175000 | E30: (6) | F30: Expenditures, if any, budgeted in the Unrestricted Capital Outlay Fund on lines 2-9 for the K-3 Reading Program as described in A.R.S. §15-211.
A31: 6642 Textbooks | B31: =5500000-750000 -> 4750000 | K31: 0
A32: 6643 Instructional Aids | B32: 750000
A33: 673X Furniture and Equipment | B33: 2007684
A34: 673X Vehicles | B34: 0
A35: 673X Tech Hardware & Software | B35: 2000000
A37: (3) Includes principal on Capital Equity Fund loans of | D37: 0 | E37: , principal on leases of | G37: 0 | H37: , and principal on bonds of | J37: 0 | K37: .
A39: (4) Includes interest on Capital Equity Fund loans of | D39: 0 | E39: , interest on leases of | G39: 0 | H39: , and interest on bonds of | J39: 0 | K39: .

Sheet Page 5
A1: DISTRICT NAME | B1: =DistrictName -> MADISON ELEMENTARY SCHOOL DISTRICT | G1: COUNTY | H1: =Cover!H1 -> MARICOPA | J1: CTD NUMBER | K1: =Cover!S1 -> 070438000 | M1: VERSION | N1: =Cover!C8 -> Adopted
A3: OTHER FUNDS—REQUIRED CAPITAL EXPENDITURE DETAIL [(A.R.S. §15-904.(B)]
D5: UNRESTRICTED CAPITAL OUTLAY | F5: BOND BUILDING | H5: NEW SCHOOL FACILITIES | J5: ADJACENT WAYS
A6: Expenditures | D6: Fund 610 | F6: Fund 630 | H6: Fund 695 | J6: Fund 620 (2)
D7: Prior FY | E7: Budget FY | F7: Prior FY | G7: Budget FY | H7: Prior FY | I7: Budget FY | J7: Prior FY | K7: Budget FY
A8: Total Fund Expenditures | C8: 1. | D8: =F610TotalCurrFY -> 12295714 | E8: =F610TotalBudgFY -> 12957684 | F8: =[1]!F630TotalBudgFY -> 81000000 | G8: 52000000 | H8: =[1]!F695TotalBudgFY -> 0 | I8: 0 | J8: =[1]!F620TotalBudgFY -> 2030594 | K8: 2060000 | L8: 1.
A9: Select Object Codes Detail (1)
A10: 6150 Classified Salaries | C10: 2. | D10: =[1]!F610BudgFYO6150 -> 0 | E10: 0 | F10: =[1]!F630BudgFYO6150 -> 115000 | G10: 120000 | H10: =[1]!F695BudgFYO6150 -> 0 | I10: 0 | J10: =[1]!F620BudgFYO6150 -> 0 | K10: 0 | L10: 2.
A11: 6200 Employee Benefits | C11: 3. | D11: =[1]!F610BudgFYO6200 -> 0 | E11: 0 | F11: =[1]!F630BudgFYO6200 -> 34800 | G11: =(120000*0.24)+7200 -> 36000 | H11: =[1]!F695BudgFYO6200 -> 0 | I11: 0 | J11: =[1]!F620BudgFYO6200 -> 0 | K11: 0 | L11: 3.
A12: 6450 Construction Services | C12: 4. | D12: =[1]!F610BudgFYO6450 -> 0 | E12: 2500000 | F12: =[1]!F630BudgFYO6450 -> 60000000 | G12: =52000000-6656000 -> 45344000 | H12: =[1]!F695BudgFYO6450 -> 0 | I12: 0 | J12: =[1]!F620BudgFYO6450 -> 2030594 | K12: 2060000 | L12: 4.
A13: 6710 Land and Improvements | C13: 5. | D13: =[1]!F610BudgFYO6710 -> 0 | E13: 0 | F13: =[1]!F630BudgFYO6710 -> 0 | G13: 0 | H13: =[1]!F695BudgFYO6710 -> 0 | I13: 0 | J13: =[1]!F620BudgFYO6710 -> 0 | K13: 0 | L13: 5.
A14: 6720 Buildings and Improvements | C14: 6. | D14: =[1]!F610BudgFYO6720 -> 0 | E14: 0 | F14: =[1]!F630BudgFYO6720 -> 0 | G14: 0 | H14: =[1]!F695BudgFYO6720 -> 0 | I14: 0 | J14: =[1]!F620BudgFYO6720 -> 0 | K14: 0 | L14: 6.
A15: 673X Furniture and Equipment | C15: 7. | D15: =[1]!F610BudgFYO6731 -> 1600000 | E15: =F610O6731 -> 2007684 | F15: =[1]!F630BudgFYO6731 -> 3000000 | G15: 2500000 | H15: =[1]!F695BudgFYO6731 -> 0 | I15: 0 | J15: =[1]!F620BudgFYO6731 -> 0 | K15: 0 | L15: 7.
A16: 673X Vehicles | C16: 8. | D16: =[1]!F610BudgFYO6734 -> 0 | E16: =F610O6734 -> 0 | F16: =[1]!F630BudgFYO6734 -> 1000000 | G16: 1500000 | H16: =[1]!F695BudgFYO6734 -> 0 | I16: 0 | J16: =[1]!F620BudgFYO6734 -> 0 | K16: 0 | L16: 8.
A17: 673X Technology Hardware & Software | C17: 9. | D17: =[1]!F610BudgFYO6737 -> 3035621 | E17: =F610O6737 -> 2000000 | F17: =[1]!F630BudgFYO6737 -> 2500000 | G17: 2500000 | H17: =[1]!F695BudgFYO6737 -> 0 | I17: 0 | J17: =[1]!F620BudgFYO6737 -> 0 | K17: 0 | L17: 9.
A18: 6831, 6832, 6833 Redemption of Principal | C18: 10. | D18: =[1]!F610BudgFYO6831 -> 0 | E18: 0 | F18: =[1]!F630BudgFYO6831 -> 0 | G18: 0 | H18: =[1]!F695BudgFYO6831 -> 0 | I18: 0 | J18: =[1]!F620BudgFYO6831 -> 0 | K18: 0 | L18: 10.
A19: 6841, 6842, 6843, 6850, 6860 Interest and Debt-Issuance Costs | C19: 11. | D19: =[1]!F610BudgFYO6841 -> 0 | E19: 0 | F19: =[1]!F630BudgFYO6841 -> 0 | G19: 0 | H19: =[1]!F695BudgFYO6841 -> 0 | I19: 0 | J19: =[1]!F620BudgFYO6841 -> 0 | K19: 0 | L19: 11.
A20: Total (lines 2-11) | C20: 12. | D20: =SUM(D10:D19) -> 4635621 | E20: =SUM(E10:E19) -> 6507684 | F20: =SUM(F10:F19) -> 66649800 | G20: =SUM(G10:G19) -> 52000000 | H20: =SUM(H10:H19) -> 0 | I20: =SUM(I10:I19) -> 0 | J20: =SUM(J10:J19) -> 2030594 | K20: =SUM(K10:K19) -> 2060000 | L20: 12.
A21: Total amounts reported on lines 2-11 above for:
A22: Renovation | C22: 13. | D22: =[1]!F610BudgFYRenovation -> 835621 | E22: 2007684 | F22: =[1]!F630BudgFYRenovation -> 9000000 | G22: 4500000 | J22: =[1]!F620BudgFYRenovation -> 250000 | K22: 0 | L22: 13.
A23: New Construction | C23: 14. | D23: =[1]!F610BudgFYNewConstruction -> 800000 | E23: 2500000 | F23: =[1]!F630BudgFYNewConstruction -> 51000000 | G23: 30000000 | H23: =[1]!F695BudgFYNewConstruction -> 0 | I23: 0 | J23: =[1]!F620BudgFYNewConstruction -> 1780594 | K23: 2060000 | L23: 14.
A24: Other | C24: 15. | D24: =[1]!F610BudgFYOther -> 3000000 | E24: 2000000 | F24: =[1]!F630BudgFYOther -> 6649800 | G24: =52000000-34500000 -> 17500000 | H24: =[1]!F695BudgFYOther -> 0 | I24: 0 | J24: =[1]!F620BudgFYOther -> 0 | K24: 0 | L24: 15.
A25: Total (lines 13-15, must equal line 12) | C25: 16. | D25: =SUM(D22:D24) -> 4635621 | E25: =SUM(E22:E24) -> 6507684 | F25: =SUM(F22:F24) -> 66649800 | G25: =SUM(G22:G24) -> 52000000 | H25: =SUM(H23:H24) -> 0 | I25: =SUM(I23:I24) -> 0 | J25: =SUM(J22:J24) -> 2030594 | K25: =SUM(K22:K24) -> 2060000 | L25: 16.
E26: =IF(SUM(E22:E24)=E20,"","Check line 12") | G26: =IF(SUM(G22:G24)=G20,"","Check line 12") | I26: =IF(SUM(I23:I24)=I20,"","Check line 12") | K26: =IF(SUM(K22:K24)=K20,"","Check line 12")
A27: (1) Lines 2-11 may not include all budgeted expenditures of the fund. Total budgeted expenditures for each fund should be included on Line 1.
A28: (2) Amount budgeted on line 1 for the Adjacent Ways Fund that will result in a tax levy in FY 2024 | E28: 0
A29: =IF((E28>0),"Districts that are levying any amount for adjacent ways must fill in the Truth in Taxation Worksheet and follow the requirements of A.R.S. Sec. 15-905.01. The amount reported in footnote 2 above pulls to the Truth in Taxation Worksheet, Line 12.","")

Sheet Page 6
C1: DISTRICT NAME | D1: =DistrictName -> MADISON ELEMENTARY SCHOOL DISTRICT | I1: COUNTY | J1: =Cover!H1 -> MARICOPA | O1: CTD NUMBER | P1: =Cover!S1 -> 070438000 | S1: VERSION | T1: =Cover!C8 -> Adopted
B3: SPECIAL PROJECTS | M3: OTHER FUNDS EXPENDITURES
S4: Prior FY | T4: Budget FY
F5: FTE | I5: TOTAL ALL FUNCTIONS | M5: 1. | O5: 050 County, City, and Town Grants | S5: =[1]!F050BudgFY -> 0 | T5: 0 | U5: 1.
A6: FEDERAL PROJECTS FTE & EXPENDITURES | F6: Prior FY | G6: Budget FY | I6: Prior FY | J6: Budget FY | M6: 2. | O6: 071 English Language Learner (1) | S6: =F071CurrFY -> 0 | T6: =F071BudgFY -> 0 | U6: 2.
A7: 1. | C7: 100-130 ESEA Title I - Helping Disadvantaged Children | F7: =[1]!F100130Personnel -> 10 | G7: 10 | I7: =[1]!F100130BudgFY -> 1002571 | J7: 800000 | K7: 1. | M7: 3. | O7: 072 Compensatory Instruction (1) | S7: =F072CurrFY -> 0 | T7: =F072BudgFY -> 0 | U7: 3.
A8: 2. | C8: 140-150 ESEA Title II - Prof. Dev. and Technology | F8: =[1]!F140150Personnel -> 0 | G8: 0 | I8: =[1]!F140150BudgFY -> 274081 | J8: 250000 | K8: 2. | M8: 4. | O8: 500 School Plant (2) | S8: =[1]!F500BudgFY -> 1900000 | T8: 2500000 | U8: 4.
A9: 3. | C9: 160 ESEA Title IV - 21st Century Schools | F9: =[1]!F160Personnel -> 0 | G9: 0 | I9: =[1]!F160BudgFY -> 0 | J9: 250000 | K9: 3. | M9: 5. | O9: 510 Food Service | S9: =[1]!F510BudgFY -> 3800000 | T9: 3500000 | U9: 5.
A10: 4. | C10: 170-180 ESEA Title V - Promote Informed Parent Choice | F10: =[1]!F170180Personnel -> 0 | G10: 0 | I10: =[1]!F170180BudgFY -> 0 | J10: 0 | K10: 4. | M10: 6. | O10: 515 Civic Center | S10: =[1]!F515BudgFY -> 1600000 | T10: 1800000 | U10: 6.
A11: 5. | C11: 190 ESEA Title III - Limited Eng. & Immigrant Students | F11: =[1]!F190Personnel -> 0 | G11: 0 | I11: =[1]!F190BudgFY -> 82978 | J11: 80000 | K11: 5. | M11: 7. | O11: 520 Community School | S11: =[1]!F520BudgFY -> 6700000 | T11: 6700000 | U11: 7.
A12: 6. | C12: 200 ESEA Title VII - Indian Education | F12: =[1]!F200Personnel -> 0 | G12: 0 | I12: =[1]!F200BudgFY -> 41086 | J12: 40000 | K12: 6. | M12: 8. | O12: 525 Auxiliary Operations | S12: =[1]!F525BudgFY -> 0 | T12: 0 | U12: 8.
A13: 7. | C13: 210 ESEA Title VI - Flexibility and Accountability | F13: =[1]!F210Personnel -> 0 | G13: 0 | I13: =[1]!F210BudgFY -> 0 | J13: 0 | K13: 7. | M13: 9. | O13: 526 Extracurricular Activities Fees Tax Credit | S13: =[1]!F526BudgFY -> 900000 | T13: 900000 | U13: 9.
A14: 8. | C14: 220 IDEA Part B | F14: =[1]!F220Personnel -> 8 | G14: 8 | I14: =[1]!F220BudgFY -> 1691234 | J14: 1578000 | K14: 8. | M14: 10. | O14: 530 Gifts and Donations | S14: =[1]!F530BudgFY -> 175000 | T14: 175000 | U14: 10.
A15: 9. | C15: 230 Johnson-O'Malley | F15: =[1]!F230Personnel -> 0 | G15: 0 | I15: =[1]!F230BudgFY -> 55805 | J15: 50000 | K15: 9. | M15: 11. | O15: 535 Career & Technical Education Projects | S15: =[1]!F535BudgFY -> 0 | T15: 0 | U15: 11.
A16: 10. | C16: 240 Workforce Investment Act | F16: =[1]!F240Personnel -> 0 | G16: 0 | I16: =[1]!F240BudgFY -> 0 | J16: 0 | K16: 10. | M16: 12. | O16: 540 Fingerprint | S16: =[1]!F540BudgFY -> 0 | T16: 1200 | U16: 12.
A17: 11. | C17: 250 AEA - Adult Education | F17: =[1]!F250Personnel -> 0 | G17: 0 | I17: =[1]!F250BudgFY -> 0 | J17: 0 | K17: 11. | M17: 13. | O17: 545 School Opening | S17: =[1]!F545BudgFY -> 0 | T17: 0 | U17: 13.
A18: 12. | C18: 260-270 Vocational Education - Basic Grants | F18: =[1]!F260270Personnel -> 0 | G18: 0 | I18: =[1]!F260270BudgFY -> 0 | J18: 0 | K18: 12. | M18: 14. | O18: 550 Insurance Proceeds | S18: =[1]!F550BudgFY -> 90000 | T18: 112000 | U18: 14.
A19: 13. | C19: 280 ESEA Title X - Homeless Education | F19: =[1]!F280Personnel -> 0 | G19: 0 | I19: =[1]!F280BudgFY -> 0 | J19: 0 | K19: 13. | M19: 15. | O19: 555 Textbooks | S19: =[1]!F555BudgFY -> 24000 | T19: 25000 | U19: 15.
A20: 14. | C20: 290 Medicaid Reimbursement | F20: =[1]!F290Personnel -> 0 | G20: 0 | I20: =[1]!F290BudgFY -> 500000 | J20: 500000 | K20: 14. | M20: 16. | O20: 565 Litigation Recovery | S20: =[1]!F565BudgFY -> 900000 | T20: 85000 | U20: 16.
A21: 15. | C21: 374 E-Rate | F21: =[1]!F374Personnel -> 0 | G21: 0 | I21: =[1]!F374BudgFY -> 375000 | J21: 375000 | K21: 15. | M21: 17. | O21: 570 Indirect Costs | S21: =[1]!F570BudgFY -> 800000 | T21: 800000 | U21: 17.
A22: 16. | C22: 378 Impact Aid | F22: =[1]!F378Personnel -> 0 | G22: 0 | I22: =[1]!F378BudgFY -> 0 | J22: 0 | K22: 16. | M22: 18. | O22: 575 Unemployment Insurance | S22: =[1]!F575BudgFY -> 28000 | T22: 28000 | U22: 18.
A23: 17. | C23: 300-399 Other Federal Projects (Besides E-Rate & Impact Aid) | F23: =[1]!F300399OtherPersonnel -> 100 | G23: 10 | I23: =[1]!F300399OtherBudgFY -> 4014919 | J23: 3000000 | K23: 17. | M23: 19. | O23: 580 Teacherage | S23: =[1]!F580BudgFY -> 0 | T23: 0 | U23: 19.
A24: 18. | C24: Total Federal Project Funds (lines 1-17) | F24: =SUM(F7:F23) -> 118 | G24: =SUM(G7:H23) -> 28 | I24: =SUM(I7:I23) -> 8037674 | J24: =SUM(J7:J23) -> 6923000 | K24: 18. | M24: 20. | O24: 585 Insurance Refund | S24: =[1]!F585BudgFY -> 0 | T24: 0 | U24: 20.
A25: STATE PROJECTS FTE & EXPENDITURES | F25: =[1]!F400Personnel -> 0 | I25: =[1]!F400BudgFY -> 0 | M25: 21. | O25: 590 Grants and Gifts to Teachers | S25: =[1]!F590BudgFY -> 0 | T25: 0 | U25: 21.
A26: 19. | C26: 400 Vocational Education | G26: 0 | J26: 0 | K26: 19. | M26: 22. | O26: 595 Advertisement | S26: =[1]!F595BudgFY -> 34000 | T26: 35000 | U26: 22.
A27: 20. | C27: 410 Early Childhood Block Grant | F27: =[1]!F410Personnel -> 0 | G27: 0 | I27: =[1]!F410BudgFY -> 0 | J27: 0 | K27: 20. | M27: 23. | O27: 596 Career Technical Education | S27: =[1]!F596BudgFY -> 0 | T27: 0 | U27: 23.
A28: 21. | C28: 420 Ext. School Yr. - Pupils with Disabilities | F28: =[1]!F420Personnel -> 0 | G28: 0 | I28: =[1]!F420BudgFY -> 0 | J28: 0 | K28: 21. | M28: 24. | O28: 597 Arizona Industry Credentials Incentive | S28: =[1]!F597BudgFY -> 0 | T28: 0 | U28: 24
A29: 22. | C29: 425 Adult Basic Education | F29: =[1]!F425Personnel -> 0 | G29: 0 | I29: =[1]!F425BudgFY -> 0 | J29: 0 | K29: 22. | M29: 25. | O29: 639 Impact Aid Revenue Bond Building | S29: =[1]!F639BudgFY -> 0 | T29: 0 | U29: 25.
A30: 23. | C30: 430 Chemical Abuse Prevention Programs | F30: =[1]!F430Personnel -> 0 | G30: 0 | I30: =[1]!F430BudgFY -> 0 | J30: 0 | K30: 23. | M30: 26. | O30: 650 Gifts and Donations-Capital | S30: =[1]!F650BudgFY -> 50000 | T30: 40000 | U30: 26.
A31: 24. | C31: 435 Academic Contests | F31: =[1]!F435Personnel -> 0 | G31: 0 | I31: =[1]!F435BudgFY -> 0 | J31: 0 | K31: 24. | M31: 27. | O31: 660 Condemnation | S31: =[1]!F660BudgFY -> 0 | T31: 0 | U31: 27.
A32: 25. | C32: 450 Gifted Education | F32: =[1]!F450Personnel -> 0 | G32: 0 | I32: =[1]!F450BudgFY -> 10000 | J32: 10000 | K32: 25. | M32: 28. | O32: 665 Energy and Water Savings | S32: =[1]!F665BudgFY -> 0 | T32: 12000 | U32: 28.
A33: 26. | C33: 456 College Credit Exam Incentives | F33: {=[1]!F456Personnel} -> 0 | G33: 0 | I33: {=[1]!F456BudgFY} -> 0 | J33: 0 | K33: 26. | M33: 29. | O33: 686 Emergency Deficiencies Correction | S33: =[1]!F686BudgFY -> 0 | T33: 0 | U33: 29.
A34: 27. | C34: 460 Environmental Special Plate | F34: =[1]!F460Personnel -> 0 | G34: 0 | I34: =[1]!F460BudgFY -> 0 | J34: 0 | K34: 27. | M34: 30. | O34: 691 Building Renewal Grant | S34: =[1]!F691BudgFY -> 360000 | T34: 150000 | U34: 30.
A35: 28. | C35: Other State Projects | F35: =[1]!F465499Personnel -> 0 | G35: 8 | I35: =[1]!F465499BudgFY -> 227401 | J35: 750000 | K35: 28. | M35: 31. | O35: 700 Debt Service | S35: =[1]!F700BudgFY -> 17500000 | T35: 16900000 | U35: 31.
A36: 29. | C36: Total State Project Funds (lines 19-28) | F36: =SUM(F25:F35) -> 0 | G36: =SUM(G26:H35) -> 8 | I36: =SUM(I25:I35) -> 237401 | J36: =SUM(J26:J35) -> 760000 | K36: 29. | M36: 32. | O36: 720 Impact Aid Revenue Bond Debt Service | S36: =[1]!F720BudgFY -> 0 | T36: 0 | U36: 32.
A37: 30. | C37: Total Special Projects (lines 18 and 29) | F37: =F24+F36 -> 118 | G37: =G24+G36 -> 36 | I37: =I24+I36 -> 8275075 | J37: =J24+J36 -> 7683000 | K37: 30. | M37: 33. | O37: 850 Student Activities | S37: =[1]!F850BudgFY -> 80000 | T37: 80000 | U37: 33.
M38: 34. | O38: Other _____________________________________ | S38: =[1]!OtherFundsBudgFY -> 0 | T38: 0 | U38: 34.
A39: INSTRUCTIONAL IMPROVEMENT FUND EXPENDITURES (020) | F39: Prior FY | H39: Budget FY | O39: INTERNAL SERVICE FUNDS 950-989
A40: 1. | C40: Teacher Compensation Increases | F40: =[1]!F020TeachCompIncrBudgFY -> 265590 | H40: 255000 | J40: 1. | M40: 1. | O40: 9___ Self-Insurance | S40: =[1]!F9__SelfInsBudgFY -> 0 | T40: 0 | U40: 1.
A41: 2. | C41: Class Size Reduction | F41: =[1]!F020ClassSizeRedBudgFY -> 265590 | H41: 255000 | J41: 2. | M41: 2. | O41: 955 Intergovernmental Agreements | S41: =[1]!F955BudgFY -> 90000 | T41: 131000 | U41: 2.
...

Sheet Page 7
C1: DISTRICT NAME | D1: =DistrictName -> MADISON ELEMENTARY SCHOOL DISTRICT | F1: COUNTY | G1: =Cover!H1 -> MARICOPA | L1: CTD NUMBER | M1: =Cover!S1 -> 070438000
L2: VERSION | M2: =Cover!C8 -> Adopted
A3: CALCULATION OF FY 2024 GENERAL BUDGET LIMIT
A4: (A.R.S. §15-947.C)
J6: A. | M6: B.
J7: Maintenance | M7: Unrestricted
J8: and Operation | M8: Capital Outlay
A9: *1. | B9: FY 2024 Revenue Control Limit (RCL) | N9: =IF((H10-J10)>=0,"","The RCL amount allocated to the M and O Fund exceeds the calculated RCL amount.")
B10: (from BSA55 tab, page 3) | G10: $ | H10: =RCL -> 35812809 | I10: $ | J10: 35812809 | L10: $ | M10: =IF((H10-J10)<0,"Error",H10-J10) -> 0
A14: *2. | B14: (a) | C14: FY 2024 District Additional Assistance (DAA) (from BSA55 tab, page 4) | G14: $ | H14: =PreAdjDAA -> 2889689
B15: (b) | C15: DAA Adjustment (from BSA55 tab, page 4) | G15: $ | H15: =TotalDAAAdj -> 0
B17: (c) | C17: Total DAA (line 2.a plus 2.b) | G17: $ | H17: =H14+H15 -> 2889689 | J17: 1909000 | M17: =IF((H17-J17)<0,"Error",H17-J17) -> 980689
A18: *3. | B18: FY 2024 Override Authorization (A.R.S. §§15-481 and 15-482 or 15-949 if small school adjustment phase down applies, see Calculations page, Calculation of Maximum Override for a District No Longer Eligible for a Small School Adjustment, line 6 and Calculation of Small School Adjustment Phase Down Limit, line 6)
B19: (a) | C19: Maintenance and Operation | J19: =0.15*J10 -> 5371921
B20: (b) | C20: Unrestricted Capital Outlay | M20: =0.1*J10 -> 3581281
B21: (c) | C21: Special Program | J21: 0 | M21: 0
A22: *4. | B22: Small School Adjustment for Districts with a Student Count of 125 or less in K-8 or 100 or less in 9-12 (A.R.S. §15-949) (Up to $50,000 if no election is chosen for phase down, see Calculations page, Calculation of Small School Adjustment Phase Down Limit, line 6) | O22: =IF(AND('Data Entry'!J22>0,OR(AND(UnweightedStudCntK8PY>0,UnweightedStudCntK8PY<=125),AND(UnweightedStudCnt912PY>0,UnweightedStudCnt912PY<=100)),(AND(SSA_MO=0,SSA_UCO=0))),"Reported FY 2022 ADM for K-8 and/or 9-12 is eligible for a small school adjustment. Amounts cannot be added or increased on line 4 after budget adoption.","")
J23: 0 | M23: 0
A24: *5. | B24: Tuition Revenue (A.R.S. §§15-823 and 15-824)
B25: (Do not include full-day kindergarten or summer school tuition)
B26: (a) | C26: Individuals and Other Private Sources | J26: 0 | M26: 0
B27: (b) | C27: Other Arizona Districts | J27: 0 | M27: 0
B28: (c) | C28: Out-of-State Districts and Other Governments | J28: 0 | M28: 0
B29: (d) | C29: Certificates of Educational Convenience (A.R.S. §§15-825, 15-825.01, and 15-825.02) | J29: 0 | M29: 0
A30: *6. | B30: State Assistance (A.R.S. §15-976) and Special Ed. Voucher Payments Received (A.R.S. §15-1204) | J30: 0 | M30: 0
A31: *7. | B31: Increase Authorized by County School Superintendent for Accommodation Schools
B32: [not to exceed amount on Calculations page, Calculation of M&O Fund Budget Balance Carryforward, line 15(e)] (A.R.S. §15-974.B) | J32: 0
A33: 8. | B33: Budget Increase for:
B34: (a) | C34: Desegregation Expenditures (A.R.S. §15-910.G-K) | J34: 0 | M34: 0
A35: * | B35: (b) | C35: Budget Balance Carryforward (from Calculations page, Calculation of M&O Fund Budget Balance Carryforward, line 13) (A.R.S. §15-943.01) | J35: =Calculations!R105 -> 2000000
B36: (c) | C36: Dropout Prevention Programs (Laws 1992, Ch. 305, §32 and Laws 2000, Ch. 398, §2) | J36: 0 | M36: 0
B37: (d) | C37: Registered Warrant or Tax Anticipation Note Interest Expense Incurred in | N37: =IF(AND(OR(J38>0,M38>0),T37<>"X"),"Districts with amounts on this line should have a FY 2022 Request Letter on file with ADE. Use the check box in T39 after verifying that ADE has the letter.","")
C38: FY 2022 (A.R.S. §15-910.N, as amended by Laws 2022, Ch. 285, §3) | J38: 0 | M38: 0
A39: * | B39: (e) | C39: Joint Career and Technical Education and Vocational Education Center (A.R.S. §15-910.01) | J39: 0 | M39: 0
A40: * | B40: (f) | C40: FY 2023 Performance Pay Unexpended Budget Carryforward (from Calculation page, | J40: =Calculations!R101 -> 0
C41: Calculation of M&O Fund Budget Balance Carryforward, line 10.f) (A.R.S. §15-920)
B42: (g) | C42: Excessive Property Tax Assessed Valuation Judgments (A.R.S. §§42-16213 and 42-16214) | J42: 0
A43: * | B43: (h) | C43: Transportation Revenues for Attendance of Nonresident Pupils (A.R.S. §§15-923 and 15-947) | J43: 0
A44: *9. | B44: Adjustment to the General Budget Limit (A.R.S. §§15-272, 15-905.M, 15-910.02, and 15-915) Include year(s) and descriptions, as applicable.
B45: (a) | C45: Prior Year Over Expenditures/Resolutions:
...

Sheet Page 8
A1: DISTRICT NAME | E1: =DistrictName -> MADISON ELEMENTARY SCHOOL DISTRICT | F1: COUNTY | G1: =Cover!H1 -> MARICOPA | J1: CTD NUMBER | K1: =Cover!S1 -> 070438000
J2: VERSION | K2: =Cover!C8 -> Adopted
A3: CALCULATION OF FY 2024 UNRESTRICTED CAPITAL BUDGET LIMIT (A.R.S. §15-947.D)
A6: UNRESTRICTED CAPITAL BUDGET LIMIT
B7: 1. | C7: FY 2023 Unrestricted Capital Budget Limit (UCBL) | K7: =[1]!UCBLBudgFY -> 12295714
C8: (from FY 2023 latest revised Budget, page 8, line 12) | J8: $
B9: 2. | C9: Total UCBL Adjustment for prior years as notified by ADE on BUDG75 report (For budget
C10: adoption, use zero.) | J10: $ | K10: 0
B11: 3. | C11: Adjusted Amount Available for FY 2023 Capital Expenditures (line 1 + 2) | J11: $ | K11: =K7+K10 -> 12295714
B12: 4. | C12: Amount Budgeted in Fund 610 in FY 2023
C13: (from FY 2023 latest revised Budget, page 4, line 10) | J13: $ | K13: =[1]!F610TotalBudgFY -> 12295714
B14: 5. | C14: Lesser of line 3 or the sum of line 4 and any positive adjustment on line 2 | J14: $ | K14: =IF(K10>0,MIN(K13+K10,K11),MIN(K11,K13)) -> 12295714
B15: 6. | C15: FY 2023 Fund 610 Actual Expenditures (For budget adoption use actual expenditures
C16: to date plus estimated expenditures through fiscal year-end.) | J16: $ | K16: 4000000
B17: 7. | C17: Unexpended Budget Balance in Fund 610 (line 5 minus 6) If negative, use zero in | K17: =IF(K14-K16>0,K14-K16,0) -> 8295714
C18: calculation, but show negative amount here in parentheses. | G18: =IF((K14-K16)<0,K14-K16,"") | H18: =IF(G18<0,"OVEREXPENDED"," ") | J18: $
B19: 8. | C19: Interest Earned in Fund 610 in FY 2023 | J19: $ | K19: 100000
B20: 9. | C20: Monies deposited in Fund 610 from Division of School Facilities for donated land (A.R.S. §41-5741.F) | J20: $ | K20: 0
B22: 10. | C22: Adjustment to UCBL for FY 2024 (A.R.S. §15-905.M) Include year(s) and descriptions, as applicable.
C23: (a) | D23: Prior Year Over Expenditures/Resolutions:
J24: $ | K24: 0
C27: (b) | D27: ADM/Transportation Audit Adjustment | J27: $ | K27: 0
C28: (c) | D28: Other: | J28: $ | K28: 0
B30: 11. | C30: Amount to be Used for Capital Expenditures (from page 7, line 12) | J30: $ | K30: =TotAmtCapExped -> 4561970
B32: 12. | C32: FY 2024 Unrestricted Capital Budget Limit (lines 7 through 11) (1) | J32: $ | K32: =SUM(K17:K30) -> 12957684
A35: (1) | B35: The amount budgeted on page 4, line 10 cannot exceed this amount.

Sheet Supplement
A1: DISTRICT NAME | B1: =DistrictName -> MADISON ELEMENTARY SCHOOL DISTRICT | F1: COUNTY | G1: =Cover!H1 -> MARICOPA | J1: CTD NUMBER | K1: =Cover!S1 -> 070438000 | M1: VERSION | N1: =Cover!C8 -> Adopted
A2: SUPPLEMENT TO SCHOOL DISTRICT ANNUAL EXPENDITURE BUDGET FOR DISTRICTS THAT BUDGET FOR ENGLISH LANGUAGE LEARNERS (A.R.S. §§15-756.04 and 15-756.11)
G3: Employee | H3: Purchased | L3: Totals
A4: English Language Learners Supplement | D4: FTE | F4: Salaries | G4: Benefits | H4: Services | I4: Supplies | J4: Property | K4: Other | L4: Prior | M4: Budget | N4: %
D5: Prior | E5: Budget | H5: 6300, 6400, | L5: FY | M5: FY | N5: Increase/
A6: Expenditures | D6: FY | E6: FY | F6: 6100 | G6: 6200 | H6: 6500 | I6: 6600 | J6: 6700 | K6: 6800 | L6: 2023 | M6: 2024 | N6: Decrease
A7: English Language Learner Fund 071 (A.R.S. §15-756.04) | D7: =[1]!F071F1000Personnel -> 0 | L7: =[1]!F071F1000 -> 0 | M7: =SUM(F8:K8) -> 0 | N7: =IF(L7=M7,0,IF(L7>0,(M7-L7)/L7,"")) -> 0
A8: 1000 Instruction | C8: 1. | O8: 1.
A9: 2000 Support Services | D9: =[1]!F071F2100Personnel -> 0 | L9: =[1]!F071F2100 -> 0 | M9: =SUM(F10:K10) -> 0 | N9: =IF(L9=M9,0,IF(L9>0,(M9-L9)/L9,"")) -> 0
A10: 2100 Students | C10: 2. | O10: 2.
A11: 2200 Instructional Staff | C11: 3. | D11: =[1]!F071F2200Personnel -> 0 | L11: =[1]!F071F2200 -> 0 | M11: =SUM(F11:K11) -> 0 | N11: =IF(L11=M11,0,IF(L11>0,(M11-L11)/L11,"")) -> 0 | O11: 3.
A12: 2300 General Administration | C12: 4. | D12: =[1]!F071F2300Personnel -> 0 | L12: =[1]!F071F2300 -> 0 | M12: =SUM(F12:K12) -> 0 | N12: =IF(L12=M12,0,IF(L12>0,(M12-L12)/L12,"")) -> 0 | O12: 4.
A13: 2400 School Administration | C13: 5. | D13: =[1]!F071F2400Personnel -> 0 | L13: =[1]!F071F2400 -> 0 | M13: =SUM(F13:K13) -> 0 | N13: =IF(L13=M13,0,IF(L13>0,(M13-L13)/L13,"")) -> 0 | O13: 5.
A14: 2500 Central Services | C14: 6. | D14: =[1]!F071F2500Personnel -> 0 | L14: =[1]!F071F2500 -> 0 | M14: =SUM(F14:K14) -> 0 | N14: =IF(L14=M14,0,IF(L14>0,(M14-L14)/L14,"")) -> 0 | O14: 6.
A15: 2600 Operation & Maintenance of Plant | C15: 7. | D15: =[1]!F071F2600Personnel -> 0 | L15: =[1]!F071F2600 -> 0 | M15: =SUM(F15:K15) -> 0 | N15: =IF(L15=M15,0,IF(L15>0,(M15-L15)/L15,"")) -> 0 | O15: 7.
A16: 2700 Student Transportation | C16: 8. | D16: =[1]!F071F2700Personnel -> 0 | L16: =[1]!F071F2700 -> 0 | M16: =SUM(F16:K16) -> 0 | N16: =IF(L16=M16,0,IF(L16>0,(M16-L16)/L16,"")) -> 0 | O16: 8.
A17: 2900 Other | C17: 9. | D17: =[1]!F071F2900Personnel -> 0 | L17: =[1]!F071F2900 -> 0 | M17: =SUM(F17:K17) -> 0 | N17: =IF(L17=M17,0,IF(L17>0,(M17-L17)/L17,"")) -> 0 | O17: 9.
A18: Total (lines 1-9) (to Budget, page 6, Other Funds, line 2) | C18: 10. | D18: =SUM(D7:D17) -> 0 | E18: =E8+SUM(E10:E17) -> 0 | F18: =F8+SUM(F10:F17) -> 0 | G18: =G8+SUM(G10:G17) -> 0 | H18: =H8+SUM(H10:H17) -> 0 | I18: =I8+SUM(I10:I17) -> 0 | K18: =K8+SUM(K10:K17) -> 0 | L18: =SUM(L7:L17) -> 0 | M18: =SUM(M7:M17) -> 0 | N18: =IF(L18=M18,0,IF(L18>0,(M18-L18)/L18,"")) -> 0 | O18: 10.
A19: Compensatory Instruction Fund 072 (A.R.S. §15-756.11) | D19: =[1]!F072F1000Personnel -> 0 | L19: =[1]!F072F1000 -> 0 | M19: =SUM(F20:K20) -> 0 | N19: =IF(L19=M19,0,IF(L19>0,(M19-L19)/L19,"")) -> 0
A20: 1000 Instruction | C20: 11. | O20: 11.
A21: 2000 Support Services | D21: =[1]!F072F2100Personnel -> 0 | L21: =[1]!F072F2100 -> 0 | M21: =SUM(F22:K22) -> 0 | N21: =IF(L21=M21,0,IF(L21>0,(M21-L21)/L21,"")) -> 0
A22: 2100 Students | C22: 12. | O22: 12.
A23: 2200 Instructional Staff | C23: 13. | D23: =[1]!F072F2200Personnel -> 0 | L23: =[1]!F072F2200 -> 0 | M23: =SUM(F23:K23) -> 0 | N23: =IF(L23=M23,0,IF(L23>0,(M23-L23)/L23,"")) -> 0 | O23: 13.
A24: 2300 General Administration | C24: 14. | D24: =[1]!F072F2300Personnel -> 0 | L24: =[1]!F072F2300 -> 0 | M24: =SUM(F24:K24) -> 0 | N24: =IF(L24=M24,0,IF(L24>0,(M24-L24)/L24,"")) -> 0 | O24: 14.
A25: 2400 School Administration | C25: 15. | D25: =[1]!F072F2400Personnel -> 0 | L25: =[1]!F072F2400 -> 0 | M25: =SUM(F25:K25) -> 0 | N25: =IF(L25=M25,0,IF(L25>0,(M25-L25)/L25,"")) -> 0 | O25: 15.
A26: 2500 Central Services | C26: 16. | D26: =[1]!F072F2500Personnel -> 0 | L26: =[1]!F072F2500 -> 0 | M26: =SUM(F26:K26) -> 0 | N26: =IF(L26=M26,0,IF(L26>0,(M26-L26)/L26,"")) -> 0 | O26: 16.
A27: 2600 Operation & Maintenance of Plant | C27: 17. | D27: =[1]!F072F2600Personnel -> 0 | L27: =[1]!F072F2600 -> 0 | M27: =SUM(F27:K27) -> 0 | N27: =IF(L27=M27,0,IF(L27>0,(M27-L27)/L27,"")) -> 0 | O27: 17.
A28: 2700 Student Transportation | C28: 18. | D28: =[1]!F072F2700Personnel -> 0 | L28: =[1]!F072F2700 -> 0 | M28: =SUM(F28:K28) -> 0 | N28: =IF(L28=M28,0,IF(L28>0,(M28-L28)/L28,"")) -> 0 | O28: 18.
A29: 2900 Other | C29: 19. | D29: =[1]!F072F2900Personnel -> 0 | L29: =[1]!F072F2900 -> 0 | M29: =SUM(F29:K29) -> 0 | N29: =IF(L29=M29,0,IF(L29>0,(M29-L29)/L29,"")) -> 0 | O29: 19.
A30: Total (lines 11-19) (to Budget, page 6, Other Funds, line 3) | C30: 20. | D30: =SUM(D19:D29) -> 0 | E30: =E20+SUM(E22:E29) -> 0 | F30: =F20+SUM(F22:F29) -> 0 | G30: =G20+SUM(G22:G29) -> 0 | H30: =H20+SUM(H22:H29) -> 0 | I30: =I20+SUM(I22:I29) -> 0 | K30: =K20+SUM(K22:K29) -> 0 | L30: =SUM(L19:L29) -> 0 | M30: =SUM(M19:M29) -> 0 | N30: =IF(L30=M30,0,IF(L30>0,(M30-L30)/L30,"")) -> 0 | O30: 20.

Sheet Summary Page 1
A1: =IF(OR(Version="Proposed",Version=""),"SUMMARY OF SCHOOL DISTRICT PROPOSED EXPENDITURE BUDGET",IF(Version="Adopted","SUMMARY OF SCHOOL DISTRICT ADOPTED EXPENDITURE BUDGET","SUMMARY OF SCHOOL DISTRICT REVISED EXPENDITURE BUDGET")) -> SUMMARY OF SCHOOL DISTRICT ADOPTED EXPENDITURE BUDGET | H1: CTD NUMBER | I1: =CTD -> 070438000 | K1: proposed by the Governing Board on,
H2: VERSION | I2: =Cover!C8 -> Adopted | K2: revised by the Governing Board on, | L2: adopted by the Governing Board on,
