Workbook

Sheet TABULATION
A1: BID TABULATION
A3: Project: | B3: MSHS PAC LIGHTING
A4: Owner: | B4: Snoqualmie Valley School District #410
A5: Bid Date: | B5: 44727
A6: Bid Time: | B6: 0.5
A7: Place: | B7: SVSD District Office/Zoom
A8: The bid results below are those as recorded by Ryan Stokes
A9: VENDOR | B9: BID BREAKOUT | G9: BID TOTAL | H9: NOTES
B10: FIXTURES | C10: ACCESSORIES | D10: CABLE & MISC | E10: SUBTOTAL | F10: TAX 8.9%
A11: HOLLYWOOD LIGHTS | B11: =SUM(FIXTURES!F33) -> 177101.64 | C11: =SUM(ACCESSORIES!E23) -> 17915.44 | D11: =SUM('CABLE & MISC'!C29:D29) -> 18691.31 | E11: =B11+C11+D11 -> 213708.39 | F11: =E11*8.9% -> 19020.047 | G11: =E11+F11 -> 232728.44 | H11: SCHEDULES BID AS ONE QUOTE
A12: STAGECRAFT INDUSTRIES | B12: =SUM(FIXTURES!H33) -> 197397.76 | C12: =SUM(ACCESSORIES!G23) -> 20847.52 | D12: =SUM('CABLE & MISC'!E29:F29) -> 21555.57 | E12: =B12+C12+D12 -> 239800.85 | F12: =E12*8.9% -> 21342.276 | G12: =E12+F12 -> 261143.13 | H12: NO DELIVERY INFORMATION
A13: CHRISTIE LITES | B13: =SUM(FIXTURES!J33) -> 176384.7 | C13: =SUM(ACCESSORIES!I23) -> 16353.38 | D13: =SUM('CABLE & MISC'!G29:H29) -> 25208.73 | E13: =B13+C13+D13 -> 217946.81 | F13: =E13*8.9% -> 19397.266 | G13: =E13+F13 -> 237344.08 | H13: OFFERED MATCHED BID ALONG WITH AN ALTERNATIVE FIXTURE BID W/ SMALLER LEAD TIME
B14: =SUM(FIXTURES!L33) -> 169331.2 | E14: =B14+C13+D13 -> 210893.31 | F14: =E14*8.9% -> 18769.505 | G14: =E14+F14 -> 229662.81
A16: ZOOM ATTENDEES 6/15/2022 @12PM
A17: NAME | B17: VENDOR
A18: AMANDA HEIKKILA | B18: SVSD #410
A19: BRIDGET MCCARTY | B19: SVSD #410
A22: ACCEPTABLE SUB
A23: UNACCEPTABLE SUB

Sheet FIXTURES
A1: FIXTURE SCHEDULE
A2: FIXTURE ID | B2: QTY | C2: DESCRIPTION | D2: MANUFACTURER | E2: MODEL | F2: HOLLYWOOD LIGHTS | H2: STAGECRAFT INDUSTRIES | J2: CHRISTIE LITES | L2: CHRISTIE LITES (ATL)
F4: UNIT | G4: TOTAL | H4: UNIT | I4: TOTAL | J4: UNIT | K4: TOTAL | L4: UNIT | M4: TOTAL
A5: TLD19 | B5: 4 | C5: Lustr2 LED, 19deg | D5: ETC | F5: 2265.66 | G5: =B5*F5 -> 9062.64 | H5: =I5/B5 -> 2474.0625 | I5: 9896.25 | J5: 2158.03 | K5: =B5*J5 -> 8632.12 | L5: 1452.68 | M5: =B5*L5 -> 5810.72
A6: TLD26 | B6: 4 | C6: Lustr2 LED, 26deg | D6: ETC | F6: 2265.66 | G6: =B6*F6 -> 9062.64 | H6: =I6/B6 -> 2474.0625 | I6: 9896.25 | J6: 2158.03 | K6: =B6*J6 -> 8632.12 | L6: 1452.68 | M6: =B6*L6 -> 5810.72
A7: TLD36 | B7: 2 | C7: Lustr2 LED, 36deg | D7: ETC | F7: 2265.66 | G7: =B7*F7 -> 4531.32 | H7: =I7/B7 -> 2474.25 | I7: 4948.5 | J7: 2158.03 | K7: =B7*J7 -> 4316.06 | L7: 1452.68 | M7: =B7*L7 -> 2905.36
A8: TLL11 | B8: 4 | C8: Selador 11" | D8: ETC | F8: 1339.47 | G8: =B8*F8 -> 5357.88 | H8: =I8/B8 -> 1627.125 | I8: 6508.5 | J8: 1362.36 | K8: =B8*J8 -> 5449.44 | L8: 1362.36 | M8: 5449.44
A9: TLL21 | B9: 6 | C9: Selador 21" | D9: ETC | F9: 2387.43 | G9: =B9*F9 -> 14324.58 | H9: =I9/B9 -> 1409.625 | I9: 8457.75 | J9: 2463.54 | K9: =B9*J9 -> 14781.24 | L9: 2463.54 | M9: 14781.24
A10: TLL42 | B10: 6 | C10: Selador 42" | D10: ETC | F10: 4383.72 | G10: =B10*F10 -> 26302.32 | H10: =I10/B10 -> 4831.75 | I10: 28990.5 | J10: 4369.43 | K10: =B10*J10 -> 26216.58 | L10: 4369.43 | M10: 26216.58
A11: TF3 | B11: 8 | C11: Ovation Fresnel, Full colour | D11: Chauvet PRO | E11: F55-FC | F11: 707.25 | G11: =B11*F11 -> 5658 | H11: =I11/B11 -> 825.625 | I11: 6605 | J11: 700 | K11: =B11*J11 -> 5600 | L11: 700 | M11: 5600
A13: TMW | B13: 8 | C13: Aura, Moving head wash | D13: Martin | F13: 4541.52 | G13: =B13*F13 -> 36332.16 | H13: =I13/B13 -> 5845.4125 | I13: 46763.3 | J13: 4118.36 | K13: =B13*J13 -> 32946.88 | L13: 4118.36 | M13: 32946.88
A14: TMP | B14: 6 | C14: Lonestar, Moving head profile | D14: High End Systems | F14: 5073.75 | G14: =B14*F14 -> 30442.5 | H14: =I14/B14 -> 5797.825 | I14: 34786.95 | J14: 5661.76 | K14: =B14*J14 -> 33970.56 | L14: 5661.76 | M14: 33970.56
A16: TLL15 | B16: 8 | C16: COLORado Q-15 | D16: Chauvet PRO | F16: 1439.1 | G16: =B16*F16 -> 11512.8 | H16: =I16/B16 -> 1604.3875 | I16: 12835.1 | J16: 1376.47 | K16: =B16*J16 -> 11011.76 | L16: 1376.47 | M16: 11011.76
A17: TFX | B17: 2 | C17: X-Effects Image projector, LED | D17: Rosco | F17: 2741.69 | G17: =B17*F17 -> 5483.38 | H17: =I17/B17 -> 3594.39 | I17: 7188.78 | J17: 3366.87 | K17: =B17*J17 -> 6733.74 | L17: 3366.87 | M17: 6733.74
A19: TFS | B19: 2 | C19: LED Followspot | D19: Altman | E19: AFS-500 | F19: 3025 | G19: =B19*F19 -> 6050 | H19: =I19/B19 -> 3422.94 | I19: 6845.88 | J19: 3050.51 | K19: =B19*J19 -> 6101.02 | L19: 3050.51 | M19: 6101.02
B21: 2 | C21: 10deg lens tube | D21: ETC | F21: 387.45 | G21: =B21*F21 -> 774.9 | H21: =I21/B21 -> 403.75 | I21: 807.5 | J21: 357.95 | K21: =B21*J21 -> 715.9 | L21: 357.95 | M21: 715.9
B22: 10 | C22: 14deg lens tube | D22: ETC | F22: 357.93 | G22: =B22*F22 -> 3579.3 | H22: =I22/B22 -> 373.125 | I22: 3731.25 | J22: 330.68 | K22: =B22*J22 -> 3306.8 | L22: 330.68 | M22: 3306.8
B23: 7 | C23: 19deg lens tube | D23: ETC | F23: 210.33 | G23: =B23*F23 -> 1472.31 | H23: =I23/B23 -> 222.5 | I23: 1557.5 | J23: 194.32 | K23: =B23*J23 -> 1360.24 | L23: 194.32 | M23: 1360.24
B24: 5 | C24: 26deg lens tube | D24: ETC | F24: 210.33 | G24: =B24*F24 -> 1051.65 | H24: =I24/B24 -> 221.25 | I24: 1106.25 | J24: 194.32 | K24: =B24*J24 -> 971.6 | L24: 194.32 | M24: 971.6
B25: 6 | C25: 36deg lens tube | D25: ETC | F25: 210.33 | G25: =B25*F25 -> 1261.98 | H25: =I25/B25 -> 221.25 | I25: 1327.5 | J25: 194.32 | K25: =B25*J25 -> 1165.92 | L25: 194.32 | M25: 1165.92
B26: 4 | C26: 50deg lens tube | D26: ETC | F26: 210.33 | G26: =B26*F26 -> 841.32 | H26: =I26/B26 -> 221.25 | I26: 885 | J26: 194.32 | K26: =B26*J26 -> 777.28 | L26: 194.32 | M26: 777.28
B27: 2 | C27: 70deg lens tube | D27: ETC | F27: 339.48 | G27: =B27*F27 -> 678.96 | H27: =I27/B27 -> 352.5 | I27: 705 | J27: 313.64 | K27: =B27*J27 -> 627.28 | L27: 313.64 | M27: 627.28
B29: 6 | C29: 19deg LED lens tube | D29: ETC | F29: 276.75 | G29: =B29*F29 -> 1660.5 | H29: =I29/B29 -> 290 | I29: 1740 | J29: 255.68 | K29: =J29*4 -> 1022.72 | L29: 255.68 | M29: 1022.72
B30: 2 | C30: 26deg LED lens tube | D30: ETC | F30: 276.75 | G30: =B30*F30 -> 553.5 | H30: =I30/B30 -> 288.75 | I30: 577.5 | J30: 255.68 | K30: =J30*4 -> 1022.72 | L30: 255.68 | M30: 1022.72
B31: 2 | C31: 36deg LED lens tube | D31: ETC | F31: 276.75 | G31: =B31*F31 -> 553.5 | H31: =I31/B31 -> 288.75 | I31: 577.5 | J31: 255.68 | K31: =J31*2 -> 511.36 | L31: 255.68 | M31: 511.36
B32: 2 | C32: 50deg LED lens tube | D32: ETC | F32: 276.75 | G32: =B32*F32 -> 553.5 | H32: =I32/B32 -> 330 | I32: 660 | J32: 255.68 | K32: =J32*2 -> 511.36 | L32: 255.68 | M32: 511.36
A33: FIXTURE TOTAL | F33: =SUM(G5:G32) -> 177101.64 | H33: =SUM(I5:I32) -> 197397.76 | J33: =SUM(K5:K32) -> 176384.7 | L33: =SUM(M5:M32) -> 169331.2

Sheet ACCESSORIES
A1: ACCESSORIES SCHEDULE
A2: QTY | B2: DESCRIPTION | C2: MANUFACTURER | D2: ACCESSORIES | E2: HOLLYWOOD LIGHTS | G2: STAGECRAFT INDUSTRIES | I2: CHRISTIE LITES
E4: UNIT | F4: TOTAL | G4: UNIT | H4: TOTAL | I4: UNIT | J4: TOTAL
A5: 60 | B5: Top Hats | E5: 21.26 | F5: =A5*E5 -> 1275.6 | G5: =H5/A5 -> 31.454667 | H5: 1887.28 | I5: 16.78 | J5: =A5*I5 -> 1006.8
A6: 40 | B6: Half Hats | E6: 17.53 | F6: =A6*E6 -> 701.2 | G6: =H6/A6 -> 19.788 | H6: 791.52 | I6: 16.78 | J6: =A6*I6 -> 671.2
A7: 8 | B7: Beam Benders | E7: 97.41 | F7: =A7*E7 -> 779.28 | G7: =H7/A7 -> 111.71 | H7: 893.68 | I7: 93.18 | J7: =A7*I7 -> 745.44
A8: 4 | B8: Drop-in Iris | E8: 89.29 | F8: =A8*E8 -> 357.16 | G8: =H8/A8 -> 95.005 | H8: 380.02 | I8: 85.41 | J8: =A8*I8 -> 341.64
A9: 2 | B9: Twin Spin gobo rotator | E9: 645.75 | F9: =A9*E9 -> 1291.5 | G9: =H9/A9 -> 700.975 | H9: 1401.95 | I9: 525 | J9: =A9*I9 -> 1050
A10: 1 | B10: Hazer | E10: 1342.29 | F10: =A10*E10 -> 1342.29 | G10: =H10/A10 -> 1481.19 | H10: 1481.19 | I10: 1283.88 | J10: =A10*I10 -> 1283.88
A11: 1 | B11: Haze Fluid | E11: 65 | F11: =A11*E11 -> 65 | G11: =H11/A11 -> 98.55 | H11: 98.55 | I11: 77.87 | J11: =A11*I11 -> 77.87
A13: 8 | B13: 50# boom bases | C13: SSRC | E13: 209.1 | F13: =A13*E13 -> 1672.8 | G13: - | H13: 8280.3 | I13: 334.62 | J13: =A13*I13 -> 2676.96
A14: 16 | B14: 8' Booms | C14: SSRC | D14: 8 - Couplers 8 - End w/ eye | E14: 118.08 | F14: =A14*E14 -> 1889.28 | G14: NA-Combined Above | I14: 117.65 | J14: =A14*I14 -> 1882.4
A15: 1 | B15: Boom Base Cart | C15: SSRC | E15: 738 | F15: =A15*E15 -> 738 | G15: NA-Combined Above | I15: 828.24 | J15: =A15*I15 -> 828.24
A16: 1 | B16: Cable Cart | C16: SSRC | E16: 1968 | F16: =A16*E16 -> 1968 | G16: NA-Combined Above | I16: 828.24 | J16: =A16*I16 -> 828.24
A18: 5 | B18: 3'-6' Drop down stirrup | E18: 448.95 | F18: =A18*E18 -> 2244.75 | G18: =H18/A18 -> 258.382 | H18: 1291.91 | I18: 336.47 | J18: =A18*I18 -> 1682.35
A19: 20 | B19: 18" Side arms, Slide T bolt | E19: 77.49 | F19: =A19*E19 -> 1549.8 | G19: =H19/A19 -> 99.902 | H19: 1998.04 | I19: 66.32 | J19: =A19*I19 -> 1326.4
A21: 4 | B21: Wireless DMX | C21: CT | E21: 378.84 | F21: =A21*E21 -> 1515.36 | G21: =H21/A21 -> 441.305 | H21: 1765.22 | I21: 362.35 | J21: =A21*I21 -> 1449.4
A22: 6 | B22: Littlelite 18" task light | C22: Littlelite | E22: 87.57 | F22: =A22*E22 -> 525.42 | G22: =H22/A22 -> 96.31 | H22: 577.86 | I22: 83.76 | J22: =A22*I22 -> 502.56
A23: ACCESSORY SCHEDULE TOTAL | E23: =SUM(F5:F22) -> 17915.44 | G23: =SUM(H5:H22) -> 20847.52 | I23: =SUM(J5:J22) -> 16353.38

Sheet CABLE & MISC
A1: CABLE SCHEDULE
A2: QTY | B2: DESCRIPTION | C2: HOLLYWOOD LIGHTS | E2: STAGECRAFT INDUSTRIES | G2: CHRISTIE LITES
C4: UNIT | D4: TOTAL | E4: UNIT | F4: TOTAL | G4: UNIT | H4: TOTAL
A5: 8 | B5: 2.5' DMX, 5 pin, M-F | C5: 32.28 | D5: =A5*C5 -> 258.24 | E5: =F5/A5 -> 38.0925 | F5: 304.74 | G5: 31.93 | H5: =A5*G5 -> 255.44
A6: 10 | B6: 5' DMX, 5 pin, M-F | C6: 34.56 | D6: =A6*C6 -> 345.6 | E6: =F6/A6 -> 39.655 | F6: 396.55 | G6: 31.93 | H6: =A6*G6 -> 319.3
A7: 20 | B7: 10' DMX, 5 pin, M-F | C7: 38.68 | D7: =A7*C7 -> 773.6 | E7: =F7/A7 -> 47.85 | F7: 957 | G7: 36.36 | H7: =A7*G7 -> 727.2
A8: 5 | B8: 25' DMX, 5 pin, M-F | C8: 51.78 | D8: =A8*C8 -> 258.9 | E8: =F8/A8 -> 72.736 | F8: 363.68 | G8: 49.38 | H8: =A8*G8 -> 246.9
A9: 4 | B9: 50' DMX, 5 pin, M-F | C9: 73.43 | D9: =A9*C9 -> 293.72 | E9: =F9/A9 -> 112.565 | F9: 450.26 | G9: 71.08 | H9: =A9*G9 -> 284.32
A10: 1 | B10: 100' DMX, 5 pin, M-F | C10: 113.77 | D10: =A10*C10 -> 113.77 | E10: =F10/A10 -> 189.84 | F10: 189.84 | G10: 111.31 | H10: =A10*G10 -> 111.31
A12: 15 | B12: 5' PowerCON Jumper | C12: 40.89 | D12: =A12*C12 -> 613.35 | E12: =F12/A12 -> 47.715333 | F12: 715.73 | G12: 38.98 | H12: =A12*G12 -> 584.7
A13: 35 | B13: 10' PowerCON Jumper | C13: 51.78 | D13: =A13*C13 -> 1812.3 | E13: =F13/A13 -> 62.67 | F13: 2193.45 | G13: 49.32 | H13: =A13*G13 -> 1726.2
A14: 10 | B14: 25' PowerCON Jumper | C14: 83.33 | D14: =A14*C14 -> 833.3 | E14: =F14/A14 -> 108.745 | F14: 1087.45 | G14: 80.85 | H14: =A14*G14 -> 808.5
A16: 3 | B16: 50' Stage pin Jumper | C16: 122 | D16: =A16*C16 -> 366 | E16: =F16/A16 -> 160.21 | F16: 480.63 | G16: 112.73 | H16: =G16*7 -> 789.11
A17: 2 | B17: 100' Stage pin Jumper | C17: 223.54 | D17: =A17*C17 -> 447.08 | E17: =F17/A17 -> 387.5 | F17: 775 | G17: 0 | H17: =A17*G17 -> 0
A19: 5 | B19: 5' Edison Jumper | C19: 36.96 | D19: =A19*C19 -> 184.8 | E19: =F19/A19 -> 46.416 | F19: 232.08 | G19: 37.84 | H19: =A19*G19 -> 189.2
A20: 10 | B20: 10' Edison Jumper | C20: 42.12 | D20: =A20*C20 -> 421.2 | E20: =F20/A20 -> 55.65 | F20: 556.5 | G20: 43.18 | H20: =A20*G20 -> 431.8
A21: 10 | B21: 25' Edison Jumper | C21: 67.77 | D21: =A21*C21 -> 677.7 | E21: =F21/A21 -> 101.66 | F21: 1016.6 | G21: 74.66 | H21: =A21*G21 -> 746.6
A22: 2 | B22: 50' Edison Jumper | C22: 93.04 | D22: =A22*C22 -> 186.08 | E22: =F22/A22 -> 175.485 | F22: 350.97 | G22: 126.08 | H22: =A22*G22 -> 252.16
A24: 5 | B24: Stage Pin 2-fer | C24: 69.55 | D24: =A24*C24 -> 347.75 | E24: =F24/A24 -> 81.016 | F24: 405.08 | G24: 64.26 | H24: =A24*G24 -> 321.3
A25: 3 | B25: Stage Pin 3-fer | C25: 105.04 | D25: =A25*C25 -> 315.12 | E25: =F25/A25 -> 120.40667 | F25: 361.22 | G25: 98.69 | H25: =A25*G25 -> 296.07
A27: 1 | B27: MISC - VENDOR ADDED FOR FUNCTION | C27: 442.8 | D27: =A27*C27 -> 442.8 | E27: 0 | F27: =A27*E27 -> 0 | G27: 5765.68 | H27: =A27*G27 -> 5765.68
A28: 1 | B28: ESTIMATED SHIPPING | C28: 10000 | D28: =A28*C28 -> 10000 | E28: 10718.79 | F28: =A28*E28 -> 10718.79 | G28: 11352.94 | H28: =A28*G28 -> 11352.94
A29: ACCESSORY SCHEDULE TOTAL | C29: =SUM(D5:D28) -> 18691.31 | E29: =SUM(F5:F28) -> 21555.57 | G29: =SUM(H5:H28) -> 25208.73
