Workbook

Sheet Projections
B2: Actual Births | H2: Birth-to-K Ratios Summary | N2: Birth Projections | T2: Kindergarten Enrollment Projections
B3: Year | C3: District Total | D3: Anderson Island Elementary | E3: Cherrydale Primary | F3: Chloe Clark Elementary | I3: District | J3: Anderson Island | K3: Cherrydale | L3: Chloe Clark | N3: Year | O3: District Total | P3: Anderson Island | Q3: Cherrydale | R3: Chloe Clark | T3: Year | U3: Rate | V3: District Total | W3: Anderson Island Elementary | X3: Cherrydale Primary | Y3: Chloe Clark Elementary
B4: 2004 | C4: 212 | D4: 7 | E4: 104 | F4: 101 | H4: 1-year | I4: =Ratios!$U$4 -> 0.94217687 | J4: =Ratios!$U$9 -> 1.5 | K4: =Ratios!$U$14 -> 0.80991736 | L4: =Ratios!$U$19 -> 1.0236686 | N4: 2010 | O4: =C10 -> 268 | P4: =AVERAGE(D9:D11) -> 5.6666667 | Q4: =E10 -> 110 | R4: =F10 -> 149 | T4: 2020-21 | U4: 1-year | V4: =SUM(W4:Y4) -> 264.85948 | W4: =$P$9*J4 -> 3.5 | X4: =E$15*K4 -> 99.619835 | Y4: =F$15*L4 -> 161.73964
B5: 2005 | C5: 225 | D5: 2 | E5: 110 | F5: 113 | H5: 3-year | I5: =Ratios!$V$4 -> 0.91626276 | J5: =Ratios!$V$9 -> 2.3333333 | K5: =Ratios!$V$14 -> 0.90204286 | L5: =Ratios!$V$19 -> 0.9109705 | N5: 2011 | O5: =C11 -> 317 | P5: =AVERAGE(D10:D12) -> 5 | Q5: =E11 -> 123 | R5: =F11 -> 190 | T5: 2020-21 | U5: 3-year | V5: =SUM(W5:Y5) -> 260.32906 | W5: =$P$9*J5 -> 5.4444444 | X5: =E$15*K5 -> 110.95127 | Y5: =F$15*L5 -> 143.93334
B6: 2006 | C6: 239 | D6: 4 | E6: 113 | F6: 122 | H6: 5-year | I6: =Ratios!$W$4 -> 0.92228932 | J6: =Ratios!$W$9 -> 1.8777778 | K6: =Ratios!$W$14 -> 0.89627376 | L6: =Ratios!$W$19 -> 0.92937283 | N6: 2012 | O6: =C12 -> 294 | P6: =AVERAGE(D11:D13) -> 2.6666667 | Q6: =E12 -> 109 | R6: =F12 -> 183 | T6: 2020-21 | U6: 5-year | V6: =SUM(W6:Y6) -> 261.46406 | W6: =$P$9*J6 -> 4.3814815 | X6: =E$15*K6 -> 110.24167 | Y6: =F$15*L6 -> 146.84091
B7: 2007 | C7: 269 | D7: 5 | E7: 113 | F7: 151 | H7: 10-year | I7: =Ratios!$X$4 -> 0.96154485 | J7: =Ratios!$X$9 -> 1.5688889 | K7: =Ratios!$X$14 -> 0.82865492 | L7: =Ratios!$X$19 -> 1.0454692 | N7: 2013 | O7: =C13 -> 320 | P7: =AVERAGE(D12:D14) -> 2.6666667 | Q7: =E13 -> 131 | R7: =F13 -> 187 | T7: 2020-21 | U7: 10-year | V7: =SUM(W7:Y7) -> 270.76943 | W7: =$P$9*J7 -> 3.6607407 | X7: =E$15*K7 -> 101.92456 | Y7: =F$15*L7 -> 165.18413
B8: 2008 | C8: 302 | D8: 10 | E8: 126 | F8: 166 | N8: 2014 | O8: =C14 -> 294 | P8: =AVERAGE(D13:D15) -> 2.3333333 | Q8: =E14 -> 121 | R8: =F14 -> 169 | T8: 2021-22 | U8: 1-year | V8: =SUM(W8:Y8) -> 299.54663 | W8: =$P$10*J4 -> 3 | X8: =E$16*K4 -> 102.04959 | Y8: =F$16*L4 -> 194.49704
B9: 2009 | C9: 270 | D9: 4 | E9: 117 | F9: 149 | H9: % Change in Births | N9: 2015 | O9: =C15 -> 282 | P9: =AVERAGE(D14:D16) -> 2.3333333 | Q9: =E15 -> 123 | R9: =F15 -> 158 | T9: 2021-22 | U9: 3-year | V9: =SUM(W9:Y9) -> 291.40846 | W9: =$P$10*J5 -> 4.6666667 | X9: =E$16*K5 -> 113.6574 | Y9: =F$16*L5 -> 173.0844
B10: 2010 | C10: 268 | D10: 9 | E10: 110 | F10: 149 | H10: Year | I10: District | J10: Anderson Island | K10: Cherrydale | L10: Chloe Clark | N10: 2016 | O10: =C16 -> 318 | P10: =AVERAGE(D15:D17) -> 2 | Q10: =E16 -> 126 | R10: =F16 -> 190 | T10: 2021-22 | U10: 5-year | V10: =SUM(W10:Y10) -> 293.26689 | W10: =$P$10*J6 -> 3.7555556 | X10: =E$16*K6 -> 112.93049 | Y10: =F$16*L6 -> 176.58084
B11: 2011 | C11: 317 | D11: 4 | E11: 123 | F11: 190 | H11: 2010 | I11: =(C10-C9)/C9 -> -0.0074074074 | J11: =(P4-AVERAGE(D8:D10))/AVERAGE(D8:D10) -> -0.26086957 | K11: =(E10-E9)/E9 -> -0.05982906 | L11: =(F10-F9)/F9 -> 0 | N11: 2017 | O11: =C17 -> 303 | P11: =AVERAGE(D16:D18) -> 1.6666667 | Q11: =E17 -> 119 | R11: =F17 -> 181 | T11: 2021-22 | U11: 10-year | V11: =SUM(W11:Y11) -> 306.18744 | W11: =$P$10*J7 -> 3.1377778 | X11: =E$16*K7 -> 104.41052 | Y11: =F$16*L7 -> 198.63915
B12: 2012 | C12: 294 | D12: 2 | E12: 109 | F12: 183 | H12: 2011 | I12: =(C11-C10)/C10 -> 0.18283582 | J12: =(P5-P4)/P4 -> -0.11764706 | K12: =(E11-E10)/E10 -> 0.11818182 | L12: =(F11-F10)/F10 -> 0.27516779 | N12: 2018 | O12: =C18 -> 287 | P12: =AVERAGE(D16:D18) -> 1.6666667 | Q12: =E18 -> 118 | R12: =F18 -> 169 | T12: 2022-23 | U12: 1-year | V12: =SUM(W12:Y12) -> 284.16419 | W12: =$P$11*J4 -> 2.5 | X12: =E$17*K4 -> 96.380165 | Y12: =F$17*L4 -> 185.28402
B13: 2013 | C13: 320 | D13: 2 | E13: 131 | F13: 187 | H13: 2012 | I13: =(C12-C11)/C11 -> -0.072555205 | J13: =(P6-P5)/P5 -> -0.46666667 | K13: =(E12-E11)/E11 -> -0.11382114 | L13: =(F12-F11)/F11 -> -0.036842105 | N13: 2019 | O13: =SUM(P13:R13) -> 290.48619 | P13: =P12*(1+$J$20) -> 1.4302564 | Q13: =Q12*(1+$K$20) -> 119.04007 | R13: =R12+(1+$L$20) -> 170.01587 | T13: 2022-23 | U13: 3-year | V13: =SUM(W13:Y13) -> 276.11765 | W13: =$P$11*J5 -> 3.8888889 | X13: =E$17*K5 -> 107.3431 | Y13: =F$17*L5 -> 164.88566
B14: 2014 | C14: 294 | D14: 4 | E14: 121 | F14: 169 | H14: 2013 | I14: =(C13-C12)/C12 -> 0.088435374 | J14: =(P7-P6)/P6 -> 0 | K14: =(E13-E12)/E12 -> 0.20183486 | L14: =(F13-F12)/F12 -> 0.021857923 | N14: 2020 | O14: =SUM(P14:R14) -> 292.34842 | P14: =P13*(1+$J$20) -> 1.2273799 | Q14: =Q13*(1+$K$20) -> 120.08931 | R14: =R13+(1+$L$20) -> 171.03174 | T14: 2022-23 | U14: 5-year | V14: =SUM(W14:Y14) -> 278.00269 | W14: =$P$11*J6 -> 3.1296296 | X14: =E$17*K6 -> 106.65658 | Y14: =F$17*L6 -> 168.21648
B15: 2015 | C15: 282 | D15: 1 | E15: 123 | F15: 158 | H15: 2014 | I15: =(C14-C13)/C13 -> -0.08125 | J15: =(P8-P7)/P7 -> -0.125 | K15: =(E14-E13)/E13 -> -0.076335878 | L15: =(F14-F13)/F13 -> -0.096256684 | N15: 2021 | O15: =SUM(P15:R15) -> 294.24868 | P15: =P14*(1+$J$20) -> 1.0532808 | Q15: =Q14*(1+$K$20) -> 121.14779 | R15: =R14+(1+$L$20) -> 172.04761 | T15: 2022-23 | U15: 10-year | V15: =SUM(W15:Y15) -> 290.45467 | W15: =$P$11*J7 -> 2.6148148 | X15: =E$17*K7 -> 98.609936 | Y15: =F$17*L7 -> 189.22992
B16: 2016 | C16: 318 | D16: 2 | E16: 126 | F16: 190 | H16: 2015 | I16: =(C15-C14)/C14 -> -0.040816327 | J16: =(P9-P8)/P8 -> 0 | K16: =(E15-E14)/E14 -> 0.016528926 | L16: =(F15-F14)/F14 -> -0.065088757 | N16: 2022 | O16: =SUM(P16:R16) -> 296.18296 | P16: =P15*(1+$J$20) -> 0.90387691 | Q16: =Q15*(1+$K$20) -> 122.21561 | R16: =R15+(1+$L$20) -> 173.06347 | T16: 2023-24 | U16: 1-year | V16: =C$18*I4 -> 270.40476 | W16: =$P$12*J4 -> 2.5 | X16: =E$18*K4 -> 95.570248 | Y16: =F$18*L4 -> 173
B17: 2017 | C17: 303 | D17: 3 | E17: 119 | F17: 181 | H17: 2016 | I17: =(C16-C15)/C15 -> 0.12765957 | J17: =(P10-P9)/P9 -> -0.14285714 | K17: =(E16-E15)/E15 -> 0.024390244 | L17: =(F16-F15)/F15 -> 0.20253165 | N17: 2023 | O17: =SUM(P17:R17) -> 298.14784 | P17: =P16*(1+$J$20) -> 0.77566541 | Q17: =Q16*(1+$K$20) -> 123.29283 | R17: =R16+(1+$L$20) -> 174.07934 | T17: 2023-24 | U17: 3-year | V17: =C$18*I5 -> 262.96741 | W17: =$P$12*J5 -> 3.8888889 | X17: =E$18*K5 -> 106.44106 | Y17: =F$18*L5 -> 153.95401
B18: 2018 | C18: 287 | D18: 0 | E18: 118 | F18: 169 | H18: 2017 | I18: =(C17-C16)/C16 -> -0.047169811 | J18: =(P11-P10)/P10 -> -0.16666667 | K18: =(E17-E16)/E16 -> -0.055555556 | L18: =(F17-F16)/F16 -> -0.047368421 | N18: 2024 | O18: =SUM(P18:R18) -> 300.14041 | P18: =P17*(1+$J$20) -> 0.66564023 | Q18: =Q17*(1+$K$20) -> 124.37956 | R18: =R17+(1+$L$20) -> 175.09521 | T18: 2023-24 | U18: 5-year | V18: =C$18*I6 -> 264.69703 | W18: =$P$12*J6 -> 3.1296296 | X18: =E$18*K6 -> 105.7603 | Y18: =F$18*L6 -> 157.06401
B19: Total | C19: =SUM(C4:C18) -> 4200 | D19: =SUM(D4:D18) -> 59 | E19: =SUM(E4:E18) -> 1763 | F19: =SUM(F4:F18) -> 2378 | H19: 2018 | I19: =(C18-C17)/C17 -> -0.052805281 | J19: =(P12-P11)/P11 -> 0 | K19: =(E18-E17)/E17 -> -0.0084033613 | L19: =(F18-F17)/F17 -> -0.066298343 | N19: 2025 | O19: =SUM(P19:R19) -> 302.15816 | P19: =P18*(1+$J$20) -> 0.5712217 | Q19: =Q18*(1+$K$20) -> 125.47586 | R19: =R18+(1+$L$20) -> 176.11108 | T19: 2023-24 | U19: 10-year | V19: =C$18*I7 -> 275.96337 | W19: =$P$12*J7 -> 2.6148148 | X19: =E$18*K7 -> 97.781281 | Y19: =F$18*L7 -> 176.68429
H20: CAGR | I20: =_xlfn.RRI(COUNT(C10:C18)-1,C10,C18) -> 0.0085986623 | J20: =_xlfn.RRI(COUNT(P4:P12)-1,P4,P12) -> -0.14184619 | K20: =_xlfn.RRI(COUNT(E10:E18)-1,E10,E18) -> 0.0088141502 | L20: =_xlfn.RRI(COUNT(F10:F18)-1,F10,F18) -> 0.015868642 | T20: 2024-25 | U20: 1-year | V20: =SUM(W20:Y20) -> 272.59792 | W20: =$P$13*J4 -> 2.1453845 | X20: =Q$13*K4 -> 96.412618 | Y20: =R$13*L4 -> 174.03991
B21: Actual Kindergarten Enrollment | T21: 2024-25 | U21: 3-year | V21: =SUM(W21:Y21) -> 265.59595 | W21: =$P$13*J5 -> 3.3372648 | X21: =Q$13*K5 -> 107.37924 | Y21: =R$13*L5 -> 154.87944
B22: Year | C22: District Total | D22: Anderson Island | E22: Cherrydale | F22: Chloe Clark | T22: 2024-25 | U22: 5-year | V22: =SUM(W22:Y22) -> 267.38632 | W22: =$P$13*J6 -> 2.6857036 | X22: =Q$13*K6 -> 106.69249 | Y22: =R$13*L6 -> 158.00813
B23: 2010 | C23: 257 | D23: 8 | E23: 69 | F23: 178 | T23: 2024-25 | U23: 10-year | V23: =SUM(W23:Y23) -> 278.63341 | W23: =$P$13*J7 -> 2.2439133 | X23: =Q$13*K7 -> 98.64314 | Y23: =R$13*L7 -> 177.74635
B24: 2011 | C24: 225 | D24: 3 | E24: 67 | F24: 155 | T24: 2025-26 | U24: 1-year | V24: =SUM(W24:Y24) -> 274.18331 | W24: =P$14*J4 -> 1.8410699 | X24: =Q$14*K4 -> 97.262414 | Y24: =R$14*L4 -> 175.07983
B25: 2012 | C25: 235 | D25: 4 | E25: 71 | F25: 160 | T25: 2025-26 | U25: 3-year | V25: =SUM(W25:Y25) -> 266.99446 | W25: =P$14*J5 -> 2.8638865 | X25: =Q$14*K5 -> 108.3257 | Y25: =R$14*L5 -> 155.80487
B26: 2013 | C26: 274 | D26: 5 | E26: 111 | F26: 158 | T26: 2025-26 | U26: 5-year | V26: =SUM(W26:Y26) -> 268.88989 | W26: =P$14*J6 -> 2.3047468 | X26: =Q$14*K6 -> 107.63289 | Y26: =R$14*L6 -> 158.95225
B27: 2014 | C27: 292 | D27: 8 | E27: 105 | F27: 179 | T27: 2025-26 | U27: 10-year | V27: =SUM(W27:Y27) -> 280.24663 | W27: =P$14*J7 -> 1.9256227 | X27: =Q$14*K7 -> 99.512595 | Y27: =R$14*L7 -> 178.80841
B28: 2015 | C28: 245 | D28: 8 | E28: 88 | F28: 149 | T28: 2026-27 | U28: 1-year | V28: =SUM(W28:Y28) -> 275.81936 | W28: =P$15*J4 -> 1.5799212 | X28: =Q$15*K4 -> 98.119699 | Y28: =R$15*L4 -> 176.11974
B29: 2016 | C29: 276 | D29: 8 | E29: 113 | F29: 155 | T29: 2026-27 | U29: 3-year | V29: =SUM(W29:Y29) -> 268.46845 | W29: =P$15*J5 -> 2.4576551 | X29: =Q$15*K5 -> 109.2805 | Y29: =R$15*L5 -> 156.73029
B30: 2017 | C30: 264 | D30: 6 | E30: 92 | F30: 166 | T30: 2026-27 | U30: 5-year | V30: =SUM(W30:Y30) -> 270.45578 | W30: =P$15*J6 -> 1.9778272 | X30: =Q$15*K6 -> 108.58159 | Y30: =R$15*L6 -> 159.89637
B31: 2018 | C31: 284 | D31: 7 | E31: 111 | F31: 166 | T31: 2026-27 | U31: 10-year | V31: =SUM(W31:Y31) -> 281.91267 | W31: =P$15*J7 -> 1.6524805 | X31: =Q$15*K7 -> 100.38971 | Y31: =R$15*L7 -> 179.87047
B32: 2019 | C32: 269 | D32: 4 | E32: 115 | F32: 150 | T32: 2027-28 | U32: 1-year | V32: =SUM(W32:Y32) -> 277.50001 | W32: =P$16*J4 -> 1.3558154 | X32: =Q$16*K4 -> 98.984541 | Y32: =R$16*L4 -> 177.15965
B33: 2020 | C33: 277 | D33: 6 | E33: 98 | F33: 173 | T33: 2027-28 | U33: 3-year | V33: =SUM(W33:Y33) -> 270.00848 | W33: =P$16*J5 -> 2.1090461 | X33: =Q$16*K5 -> 110.24372 | Y33: =R$16*L5 -> 157.65572
T34: 2027-28 | U34: 5-year | V34: =SUM(W34:Y34) -> 272.07641 | W34: =P$16*J6 -> 1.69728 | X34: =Q$16*K6 -> 109.53864 | Y34: =R$16*L6 -> 160.84049
T35: 2027-28 | U35: 10-year | V35: =SUM(W35:Y35) -> 283.62518 | W35: =P$16*J7 -> 1.4180824 | X35: =Q$16*K7 -> 101.27456 | Y35: =R$16*L7 -> 180.93253
T36: 2028-29 | U36: 1-year | V36: =SUM(W36:Y36) -> 279.22007 | W36: =P$17*J4 -> 1.1634981 | X36: =Q$17*K4 -> 99.857006 | Y36: =R$17*L4 -> 178.19956
T37: 2028-29 | U37: 3-year | V37: =SUM(W37:Y37) -> 271.60645 | W37: =P$17*J5 -> 1.809886 | X37: =Q$17*K5 -> 111.21542 | Y37: =R$17*L5 -> 158.58115
T38: 2028-29 | U38: 5-year | V38: =SUM(W38:Y38) -> 273.74527 | W38: =P$17*J6 -> 1.4565273 | X38: =Q$17*K6 -> 110.50413 | Y38: =R$17*L6 -> 161.78461
T39: 2028-29 | U39: 10-year | V39: =SUM(W39:Y39) -> 285.37874 | W39: =P$17*J7 -> 1.2169328 | X39: =Q$17*K7 -> 102.16721 | Y39: =R$17*L7 -> 181.99459
T40: 2029-30 | U40: 1-year | V40: =SUM(W40:Y40) -> 280.9751 | W40: =P$18*J4 -> 0.99846034 | X40: =Q$18*K4 -> 100.73716 | Y40: =R$18*L4 -> 179.23948
T41: 2029-30 | U41: 3-year | V41: =SUM(W41:Y41) -> 273.25542 | W41: =P$18*J5 -> 1.5531605 | X41: =Q$18*K5 -> 112.19569 | Y41: =R$18*L5 -> 159.50657
T42: 2029-30 | U42: 5-year | V42: =SUM(W42:Y42) -> 275.45679 | W42: =P$18*J6 -> 1.2499244 | X42: =Q$18*K6 -> 111.47813 | Y42: =R$18*L6 -> 162.72873
T43: 2029-30 | U43: 10-year | V43: =SUM(W43:Y43) -> 287.1687 | W43: =P$18*J7 -> 1.0443156 | X43: =Q$18*K7 -> 103.06773 | Y43: =R$18*L7 -> 183.05665

Sheet Ratios
B2: Actual Births by Mother's Residence - Steilacoom Historical SD | J2: Birth-to-K Ratio - District-wide
C3: District Total | D3: ANDERSON ISLAND | E3: STEILACOOM | F3: DUPONT | G3: LAKEWOOD | H3: TACOMA | J3: Grade | K3: 2009-2010 | L3: 2010-2011 | M3: 2011-2012 | N3: 2012-2013 | O3: 2013-2014 | P3: 2014-2015 | Q3: 2015-2016 | R3: 2016-2017 | S3: 2017-2018 | T3: 2018-2019 | U3: 2019-2020 | V3: 3-year avg. | W3: 5-year avg. | X3: 10-year avg.
B4: 2004 | C4: =COUNTIFS(BirthData!$B:$B,$B4) -> 212 | D4: =COUNTIFS(BirthData!$D:$D,Ratios!D$3,BirthData!$B:$B,$B4) -> 7 | E4: =COUNTIFS(BirthData!$D:$D,Ratios!E$3,BirthData!$B:$B,$B4) -> 69 | F4: =COUNTIFS(BirthData!$D:$D,Ratios!F$3,BirthData!$B:$B,$B4) -> 101 | G4: =COUNTIFS(BirthData!$D:$D,Ratios!G$3,BirthData!$B:$B,$B4) -> 9 | H4: =COUNTIFS(BirthData!$D:$D,Ratios!H$3,BirthData!$B:$B,$B4) -> 26 | J4: 5-year | K4: 1.2122642 | L4: 1 | M4: 0.9832636 | N4: 1.1464435 | O4: 0.96688742 | P4: 0.90740741 | Q4: 1.0298507 | R4: 0.83280757 | S4: 0.96598639 | T4: 0.840625 | U4: 0.94217687 | V4: =AVERAGE(S4:U4) -> 0.91626276 | W4: =AVERAGE(Q4:U4) -> 0.92228932 | X4: =AVERAGE(L4:U4) -> 0.96154485
B5: 2005 | C5: =COUNTIFS(BirthData!$B:$B,$B5) -> 225 | D5: =COUNTIFS(BirthData!$D:$D,Ratios!D$3,BirthData!$B:$B,$B5) -> 2 | E5: =COUNTIFS(BirthData!$D:$D,Ratios!E$3,BirthData!$B:$B,$B5) -> 76 | F5: =COUNTIFS(BirthData!$D:$D,Ratios!F$3,BirthData!$B:$B,$B5) -> 113 | G5: =COUNTIFS(BirthData!$D:$D,Ratios!G$3,BirthData!$B:$B,$B5) -> 11 | H5: =COUNTIFS(BirthData!$D:$D,Ratios!H$3,BirthData!$B:$B,$B5) -> 23 | J5: 6-year | L5: 1.0613208 | M5: 1.0444444 | N5: 1.2924528 | O5: 1.0855019 | P5: 0.81125828 | Q5: 1.0222222 | R5: 0.98507463 | S5: 0.89589905 | T5: 0.91496599 | U5: 0.865625 | V5: =AVERAGE(S5:U5) -> 0.89216335 | W5: =AVERAGE(Q5:U5) -> 0.93675738 | X5: =AVERAGE(L5:U5) -> 0.99787651
B6: 2006 | C6: =COUNTIFS(BirthData!$B:$B,$B6) -> 239 | D6: =COUNTIFS(BirthData!$D:$D,Ratios!D$3,BirthData!$B:$B,$B6) -> 4 | E6: =COUNTIFS(BirthData!$D:$D,Ratios!E$3,BirthData!$B:$B,$B6) -> 75 | F6: =COUNTIFS(BirthData!$D:$D,Ratios!F$3,BirthData!$B:$B,$B6) -> 122 | G6: =COUNTIFS(BirthData!$D:$D,Ratios!G$3,BirthData!$B:$B,$B6) -> 7 | H6: =COUNTIFS(BirthData!$D:$D,Ratios!H$3,BirthData!$B:$B,$B6) -> 31
B7: 2007 | C7: =COUNTIFS(BirthData!$B:$B,$B7) -> 269 | D7: =COUNTIFS(BirthData!$D:$D,Ratios!D$3,BirthData!$B:$B,$B7) -> 5 | E7: =COUNTIFS(BirthData!$D:$D,Ratios!E$3,BirthData!$B:$B,$B7) -> 66 | F7: =COUNTIFS(BirthData!$D:$D,Ratios!F$3,BirthData!$B:$B,$B7) -> 151 | G7: =COUNTIFS(BirthData!$D:$D,Ratios!G$3,BirthData!$B:$B,$B7) -> 11 | H7: =COUNTIFS(BirthData!$D:$D,Ratios!H$3,BirthData!$B:$B,$B7) -> 36 | J7: Birth-to-K Ratio - Anderson Island Elementary area
B8: 2008 | C8: =COUNTIFS(BirthData!$B:$B,$B8) -> 302 | D8: =COUNTIFS(BirthData!$D:$D,Ratios!D$3,BirthData!$B:$B,$B8) -> 10 | E8: =COUNTIFS(BirthData!$D:$D,Ratios!E$3,BirthData!$B:$B,$B8) -> 79 | F8: =COUNTIFS(BirthData!$D:$D,Ratios!F$3,BirthData!$B:$B,$B8) -> 166 | G8: =COUNTIFS(BirthData!$D:$D,Ratios!G$3,BirthData!$B:$B,$B8) -> 9 | H8: =COUNTIFS(BirthData!$D:$D,Ratios!H$3,BirthData!$B:$B,$B8) -> 38 | J8: Grade | K8: 2009-2010 | L8: 2010-2011 | M8: 2011-2012 | N8: 2012-2013 | O8: 2013-2014 | P8: 2014-2015 | Q8: 2015-2016 | R8: 2016-2017 | S8: 2017-2018 | T8: 2018-2019 | U8: 2019-2020 | V8: 3-year avg. | W8: 5-year avg. | X8: 10-year avg.
B9: 2009 | C9: =COUNTIFS(BirthData!$B:$B,$B9) -> 270 | D9: =COUNTIFS(BirthData!$D:$D,Ratios!D$3,BirthData!$B:$B,$B9) -> 4 | E9: =COUNTIFS(BirthData!$D:$D,Ratios!E$3,BirthData!$B:$B,$B9) -> 85 | F9: =COUNTIFS(BirthData!$D:$D,Ratios!F$3,BirthData!$B:$B,$B9) -> 149 | G9: =COUNTIFS(BirthData!$D:$D,Ratios!G$3,BirthData!$B:$B,$B9) -> 3 | H9: =COUNTIFS(BirthData!$D:$D,Ratios!H$3,BirthData!$B:$B,$B9) -> 29 | J9: 5-year | K9: 1.1428571 | L9: 1.5 | M9: 1 | N9: 1 | O9: 0.8 | P9: 2 | Q9: 0.88888889 | R9: 1.5 | S9: 3.5 | T9: 2 | U9: 1.5 | V9: =AVERAGE(S9:U9) -> 2.3333333 | W9: =AVERAGE(Q9:U9) -> 1.8777778 | X9: =AVERAGE(L9:U9) -> 1.5688889
B10: 2010 | C10: =COUNTIFS(BirthData!$B:$B,$B10) -> 268 | D10: =COUNTIFS(BirthData!$D:$D,Ratios!D$3,BirthData!$B:$B,$B10) -> 9 | E10: =COUNTIFS(BirthData!$D:$D,Ratios!E$3,BirthData!$B:$B,$B10) -> 72 | F10: =COUNTIFS(BirthData!$D:$D,Ratios!F$3,BirthData!$B:$B,$B10) -> 149 | G10: =COUNTIFS(BirthData!$D:$D,Ratios!G$3,BirthData!$B:$B,$B10) -> 11 | H10: =COUNTIFS(BirthData!$D:$D,Ratios!H$3,BirthData!$B:$B,$B10) -> 27 | J10: 6-year | L10: 0.42857143 | M10: 2 | N10: 1.25 | O10: 1.6 | P10: 0.8 | Q10: 2 | R10: 0.66666667 | S10: 1.75 | T10: 2 | U10: 3 | V10: =AVERAGE(S10:U10) -> 2.25 | W10: =AVERAGE(Q10:U10) -> 1.8833333 | X10: =AVERAGE(L10:U10) -> 1.5495238
B11: 2011 | C11: =COUNTIFS(BirthData!$B:$B,$B11) -> 317 | D11: =COUNTIFS(BirthData!$D:$D,Ratios!D$3,BirthData!$B:$B,$B11) -> 4 | E11: =COUNTIFS(BirthData!$D:$D,Ratios!E$3,BirthData!$B:$B,$B11) -> 86 | F11: =COUNTIFS(BirthData!$D:$D,Ratios!F$3,BirthData!$B:$B,$B11) -> 190 | G11: =COUNTIFS(BirthData!$D:$D,Ratios!G$3,BirthData!$B:$B,$B11) -> 10 | H11: =COUNTIFS(BirthData!$D:$D,Ratios!H$3,BirthData!$B:$B,$B11) -> 27
B12: 2012 | C12: =COUNTIFS(BirthData!$B:$B,$B12) -> 294 | D12: =COUNTIFS(BirthData!$D:$D,Ratios!D$3,BirthData!$B:$B,$B12) -> 2 | E12: =COUNTIFS(BirthData!$D:$D,Ratios!E$3,BirthData!$B:$B,$B12) -> 78 | F12: =COUNTIFS(BirthData!$D:$D,Ratios!F$3,BirthData!$B:$B,$B12) -> 183 | G12: =COUNTIFS(BirthData!$D:$D,Ratios!G$3,BirthData!$B:$B,$B12) -> 5 | H12: =COUNTIFS(BirthData!$D:$D,Ratios!H$3,BirthData!$B:$B,$B12) -> 26 | J12: Birth-to-K Ratio - Cherrydale Primary area
B13: 2013 | C13: =COUNTIFS(BirthData!$B:$B,$B13) -> 320 | D13: =COUNTIFS(BirthData!$D:$D,Ratios!D$3,BirthData!$B:$B,$B13) -> 2 | E13: =COUNTIFS(BirthData!$D:$D,Ratios!E$3,BirthData!$B:$B,$B13) -> 79 | F13: =COUNTIFS(BirthData!$D:$D,Ratios!F$3,BirthData!$B:$B,$B13) -> 187 | G13: =COUNTIFS(BirthData!$D:$D,Ratios!G$3,BirthData!$B:$B,$B13) -> 15 | H13: =COUNTIFS(BirthData!$D:$D,Ratios!H$3,BirthData!$B:$B,$B13) -> 37 | J13: Grade | K13: 2009-2010 | L13: 2010-2011 | M13: 2011-2012 | N13: 2012-2013 | O13: 2013-2014 | P13: 2014-2015 | Q13: 2015-2016 | R13: 2016-2017 | S13: 2017-2018 | T13: 2018-2019 | U13: 2019-2020 | V13: 3-year avg. | W13: 5-year avg. | X13: 10-year avg.
B14: 2014 | C14: =COUNTIFS(BirthData!$B:$B,$B14) -> 294 | D14: =COUNTIFS(BirthData!$D:$D,Ratios!D$3,BirthData!$B:$B,$B14) -> 4 | E14: =COUNTIFS(BirthData!$D:$D,Ratios!E$3,BirthData!$B:$B,$B14) -> 75 | F14: =COUNTIFS(BirthData!$D:$D,Ratios!F$3,BirthData!$B:$B,$B14) -> 169 | G14: =COUNTIFS(BirthData!$D:$D,Ratios!G$3,BirthData!$B:$B,$B14) -> 14 | H14: =COUNTIFS(BirthData!$D:$D,Ratios!H$3,BirthData!$B:$B,$B14) -> 32 | J14: 5-year | K14: 0.66346154 | L14: 0.60909091 | M14: 0.62831858 | N14: 0.98230088 | O14: 0.83333333 | P14: 0.75213675 | Q14: 1.0272727 | R14: 0.74796748 | S14: 1.0183486 | T14: 0.8778626 | U14: 0.80991736 | V14: =AVERAGE(S14:U14) -> 0.90204286 | W14: =AVERAGE(Q14:U14) -> 0.89627376 | X14: =AVERAGE(L14:U14) -> 0.82865492
B15: 2015 | C15: =COUNTIFS(BirthData!$B:$B,$B15) -> 282 | D15: =COUNTIFS(BirthData!$D:$D,Ratios!D$3,BirthData!$B:$B,$B15) -> 1 | E15: =COUNTIFS(BirthData!$D:$D,Ratios!E$3,BirthData!$B:$B,$B15) -> 72 | F15: =COUNTIFS(BirthData!$D:$D,Ratios!F$3,BirthData!$B:$B,$B15) -> 158 | G15: =COUNTIFS(BirthData!$D:$D,Ratios!G$3,BirthData!$B:$B,$B15) -> 12 | H15: =COUNTIFS(BirthData!$D:$D,Ratios!H$3,BirthData!$B:$B,$B15) -> 39 | J15: 6-year | L15: 0.66336634 | M15: 0.62831858 | N15: 0.90983607 | O15: 0.69536424 | P15: 0.53012048 | Q15: 0.75838926 | R15: 0.61744966 | S15: 0.58421053 | T15: 0.6284153 | U15: 0.52406417 | V15: =AVERAGE(S15:U15) -> 0.57889667 | W15: =AVERAGE(Q15:U15) -> 0.62250578 | X15: =AVERAGE(L15:U15) -> 0.65395346
B16: 2016 | C16: =COUNTIFS(BirthData!$B:$B,$B16) -> 318 | D16: =COUNTIFS(BirthData!$D:$D,Ratios!D$3,BirthData!$B:$B,$B16) -> 2 | E16: =COUNTIFS(BirthData!$D:$D,Ratios!E$3,BirthData!$B:$B,$B16) -> 81 | F16: =COUNTIFS(BirthData!$D:$D,Ratios!F$3,BirthData!$B:$B,$B16) -> 190 | G16: =COUNTIFS(BirthData!$D:$D,Ratios!G$3,BirthData!$B:$B,$B16) -> 11 | H16: =COUNTIFS(BirthData!$D:$D,Ratios!H$3,BirthData!$B:$B,$B16) -> 34
B17: 2017 | C17: =COUNTIFS(BirthData!$B:$B,$B17) -> 303 | D17: =COUNTIFS(BirthData!$D:$D,Ratios!D$3,BirthData!$B:$B,$B17) -> 3 | E17: =COUNTIFS(BirthData!$D:$D,Ratios!E$3,BirthData!$B:$B,$B17) -> 72 | F17: =COUNTIFS(BirthData!$D:$D,Ratios!F$3,BirthData!$B:$B,$B17) -> 181 | G17: =COUNTIFS(BirthData!$D:$D,Ratios!G$3,BirthData!$B:$B,$B17) -> 8 | H17: =COUNTIFS(BirthData!$D:$D,Ratios!H$3,BirthData!$B:$B,$B17) -> 39 | J17: Birth-to-K Ratio - Chloe Clark Elementary area
B18: 2018 | C18: =COUNTIFS(BirthData!$B:$B,$B18) -> 287 | D18: =COUNTIFS(BirthData!$D:$D,Ratios!D$3,BirthData!$B:$B,$B18) -> 0 | E18: =COUNTIFS(BirthData!$D:$D,Ratios!E$3,BirthData!$B:$B,$B18) -> 90 | F18: =COUNTIFS(BirthData!$D:$D,Ratios!F$3,BirthData!$B:$B,$B18) -> 169 | G18: =COUNTIFS(BirthData!$D:$D,Ratios!G$3,BirthData!$B:$B,$B18) -> 8 | H18: =COUNTIFS(BirthData!$D:$D,Ratios!H$3,BirthData!$B:$B,$B18) -> 20 | J18: Grade | K18: 2009-2010 | L18: 2010-2011 | M18: 2011-2012 | N18: 2012-2013 | O18: 2013-2014 | P18: 2014-2015 | Q18: 2015-2016 | R18: 2016-2017 | S18: 2017-2018 | T18: 2018-2019 | U18: 2019-2020 | V18: 3-year avg. | W18: 5-year avg. | X18: 10-year avg.
B19: Total | C19: =SUM(C4:C18) -> 4200 | D19: =SUM(D4:D18) -> 59 | E19: =SUM(E4:E18) -> 1155 | F19: =SUM(F4:F18) -> 2378 | G19: =SUM(G4:G18) -> 144 | H19: =SUM(H4:H18) -> 464 | J19: 5-year | K19: 1.7623762 | L19: 1.3716814 | M19: 1.3114754 | N19: 1.0463576 | O19: 1.0783133 | P19: 1 | Q19: 1.0402685 | R19: 0.87368421 | S19: 0.90710383 | T19: 0.80213904 | U19: 1.0236686 | V19: =AVERAGE(S19:U19) -> 0.9109705 | W19: =AVERAGE(Q19:U19) -> 0.92937283 | X19: =AVERAGE(L19:U19) -> 1.0454692
C20: =IF(C19=(COUNTA(BirthData!B:B)-1),TRUE, FALSE) -> TRUE | D20: =IF(D$19=COUNTIF(BirthData!$D:$D,Ratios!D$3),TRUE, FALSE) -> TRUE | E20: =IF(E$19=COUNTIF(BirthData!$D:$D,Ratios!E$3),TRUE, FALSE) -> TRUE | F20: =IF(F$19=COUNTIF(BirthData!$D:$D,Ratios!F$3),TRUE, FALSE) -> TRUE | G20: =IF(G$19=COUNTIF(BirthData!$D:$D,Ratios!G$3),TRUE, FALSE) -> TRUE | H20: =IF(H$19=COUNTIF(BirthData!$D:$D,Ratios!H$3),TRUE, FALSE) -> TRUE | J20: 6-year | L20: 1.5346535 | M20: 1.4159292 | N20: 1.295082 | O20: 1.1854305 | P20: 0.89759036 | Q20: 1.0402685 | R20: 1.114094 | S20: 0.87368421 | T20: 0.81967213 | U20: 0.92513369 | V20: =AVERAGE(S20:U20) -> 0.87283001 | W20: =AVERAGE(Q20:U20) -> 0.95457049 | X20: =AVERAGE(L20:U20) -> 1.1101538
B21: Minimum | C21: =MIN(C4:C18) -> 212 | D21: =MIN(D4:D18) -> 0 | E21: =MIN(E4:E18) -> 66 | F21: =MIN(F4:F18) -> 101 | G21: =MIN(G4:G18) -> 3 | H21: =MIN(H4:H18) -> 20
B22: Maximum | C22: =MAX(C4:C18) -> 320 | D22: =MAX(D4:D18) -> 10 | E22: =MAX(E4:E18) -> 90 | F22: =MAX(F4:F18) -> 190 | G22: =MAX(G4:G18) -> 15 | H22: =MAX(H4:H18) -> 39
B23: Mean | C23: =AVERAGE(C4:C18) -> 280 | D23: =AVERAGE(D4:D18) -> 3.9333333 | E23: =AVERAGE(E4:E18) -> 77 | F23: =AVERAGE(F4:F18) -> 158.53333 | G23: =AVERAGE(G4:G18) -> 9.6 | H23: =AVERAGE(H4:H18) -> 30.933333
B24: Std. Deviation | C24: =_xlfn.STDEV.P(C4:C18) -> 32.213869 | D24: =_xlfn.STDEV.P(D4:D18) -> 2.7438821 | E24: =_xlfn.STDEV.P(E4:E18) -> 6.3665794 | F24: =_xlfn.STDEV.P(F4:F18) -> 27.234455 | G24: =_xlfn.STDEV.P(G4:G18) -> 3.050683 | H24: =_xlfn.STDEV.P(H4:H18) -> 5.8817987
B25: 2010-2018 Mean | C25: =AVERAGE(C10:C18) -> 298.11111 | D25: =AVERAGE(D10:D18) -> 3 | E25: =AVERAGE(E10:E18) -> 78.333333 | F25: =AVERAGE(F10:F18) -> 175.11111 | G25: =AVERAGE(G10:G18) -> 10.444444 | H25: =AVERAGE(H10:H18) -> 31.222222
B27: Actual Births by Elementary School Area
C28: District Total | D28: Anderson Island Elementary | E28: Cherrydale Primary | F28: Chloe Clark Elementary
B29: 2004 | C29: =COUNTIFS(BirthData!$B:$B,$B29) -> 212 | D29: =D4 -> 7 | E29: =SUM(E4,G4,H4) -> 104 | F29: =F4 -> 101
B30: 2005 | C30: =COUNTIFS(BirthData!$B:$B,$B30) -> 225 | D30: =D5 -> 2 | E30: =SUM(E5,G5,H5) -> 110 | F30: =F5 -> 113
B31: 2006 | C31: =COUNTIFS(BirthData!$B:$B,$B31) -> 239 | D31: =D6 -> 4 | E31: =SUM(E6,G6,H6) -> 113 | F31: =F6 -> 122
B32: 2007 | C32: =COUNTIFS(BirthData!$B:$B,$B32) -> 269 | D32: =D7 -> 5 | E32: =SUM(E7,G7,H7) -> 113 | F32: =F7 -> 151
B33: 2008 | C33: =COUNTIFS(BirthData!$B:$B,$B33) -> 302 | D33: =D8 -> 10 | E33: =SUM(E8,G8,H8) -> 126 | F33: =F8 -> 166
B34: 2009 | C34: =COUNTIFS(BirthData!$B:$B,$B34) -> 270 | D34: =D9 -> 4 | E34: =SUM(E9,G9,H9) -> 117 | F34: =F9 -> 149
B35: 2010 | C35: =COUNTIFS(BirthData!$B:$B,$B35) -> 268 | D35: =D10 -> 9 | E35: =SUM(E10,G10,H10) -> 110 | F35: =F10 -> 149
B36: 2011 | C36: =COUNTIFS(BirthData!$B:$B,$B36) -> 317 | D36: =D11 -> 4 | E36: =SUM(E11,G11,H11) -> 123 | F36: =F11 -> 190
B37: 2012 | C37: =COUNTIFS(BirthData!$B:$B,$B37) -> 294 | D37: =D12 -> 2 | E37: =SUM(E12,G12,H12) -> 109 | F37: =F12 -> 183
B38: 2013 | C38: =COUNTIFS(BirthData!$B:$B,$B38) -> 320 | D38: =D13 -> 2 | E38: =SUM(E13,G13,H13) -> 131 | F38: =F13 -> 187
B39: 2014 | C39: =COUNTIFS(BirthData!$B:$B,$B39) -> 294 | D39: =D14 -> 4 | E39: =SUM(E14,G14,H14) -> 121 | F39: =F14 -> 169
B40: 2015 | C40: =COUNTIFS(BirthData!$B:$B,$B40) -> 282 | D40: =D15 -> 1 | E40: =SUM(E15,G15,H15) -> 123 | F40: =F15 -> 158
... B43: 2018 | C43: =COUNTIFS(BirthData!$B:$B,$B43) -> 287 | D43: =D18 -> 0 | E43: =SUM(E18,G18,H18) -> 118 | F43: =F18 -> 169
B44: Total | C44: =SUM(C29:C43) -> 4200 | D44: =SUM(D29:D43) -> 59 | E44: =SUM(E29:E43) -> 1763 | F44: =SUM(F29:F43) -> 2378 | G44: =IF(C44=SUM(D44:F44),TRUE,FALSE) -> TRUE
B46: Minimum | C46: =MIN(C29:C43) -> 212 | D46: =MIN(D29:D43) -> 0 | E46: =MIN(E29:E43) -> 104 | F46: =MIN(F29:F43) -> 101
B47: Maximum | C47: =MAX(C29:C43) -> 320 | D47: =MAX(D29:D43) -> 10 | E47: =MAX(E29:E43) -> 131 | F47: =MAX(F29:F43) -> 190
B48: Mean | C48: =AVERAGE(C29:C43) -> 280 | D48: =AVERAGE(D29:D43) -> 3.9333333 | E48: =AVERAGE(E29:E43) -> 117.53333 | F48: =AVERAGE(F29:F43) -> 158.53333
B49: Std. Deviation | C49: =_xlfn.STDEV.P(C29:C43) -> 32.213869 | D49: =_xlfn.STDEV.P(D29:D43) -> 2.7438821 | E49: =_xlfn.STDEV.P(E29:E43) -> 7.3472595 | F49: =_xlfn.STDEV.P(F29:F43) -> 27.234455
B50: 2010-2018 Mean | C50: =AVERAGE(C35:C43) -> 298.11111 | D50: =AVERAGE(D35:D43) -> 3 | E50: =AVERAGE(E35:E43) -> 120 | F50: =AVERAGE(F35:F43) -> 175.11111

Sheet BirthData
A1: Record ID | B1: Year | C1: Residence County | D1: Residence City | E1: Residence Zip Code | F1: Res Geo Census Tract 2000 | G1: Res Geo Census Tract 2010 | H1: Res Geo School District
B2: 2004 | C2: 27 | D2: DUPONT | E2: 98327 | F2: 0728.00 | G2: 0728.00 | H2: 08460
B3: 2004 | C3: 27 | D3: STEILACOOM | E3: 98388 | F3: 0721.09 | G3: 0721.09 | H3: 08460
B4: 2004 | C4: 27 | D4: STEILACOOM | E4: 98388 | F4: 0721.09 | G4: 0721.09 | H4: 08460
B5: 2004 | C5: 27 | D5: STEILACOOM | E5: 98388 | F5: 0721.09 | G5: 0721.09 | H5: 08460
B6: 2004 | C6: 27 | D6: ANDERSON ISLAND | E6: 98303 | F6: 0726.03 | G6: 0726.03 | H6: 08460
B7: 2004 | C7: 27 | D7: DUPONT | E7: 98327 | F7: 0728.00 | G7: 0728.00 | H7: 08460
B8: 2004 | C8: 27 | D8: TACOMA | E8: 98498 | F8: 0721.12 | G8: 0721.12 | H8: 08460
B9: 2004 | C9: 27 | D9: ANDERSON ISLAND | E9: 98303 | F9: 0726.03 | G9: 0726.03 | H9: 08460
B10: 2004 | C10: 27 | D10: TACOMA | E10: 98498 | F10: 0721.11 | G10: 0721.11 | H10: 08460
B11: 2004 | C11: 27 | D11: DUPONT | E11: 98327 | F11: 0728.00 | G11: 0728.00 | H11: 08460
B12: 2004 | C12: 27 | D12: DUPONT | E12: 98327 | F12: 0728.00 | G12: 0728.00 | H12: 08460
B13: 2004 | C13: 27 | D13: DUPONT | E13: 98327 | F13: 0728.00 | G13: 0728.00 | H13: 08460
... B2397: 2012 | C2397: 27 | D2397: DUPONT | E2397: 98327 | F2397: 0728.00 | G2397: 0728.00 | H2397: 08460
A2398: 493 | B2398: 2013 | C2398: Pierce | D2398: STEILACOOM | E2398: 98388 | F2398: 0721.09 | G2398: 0721.09 | H2398: 08460
A2399: 867 | B2399: 2013 | C2399: Pierce | D2399: DUPONT | E2399: 98327 | F2399: 0728.00 | G2399: 0728.00 | H2399: 08460
A2400: 1586 | B2400: 2013 | C2400: Pierce | D2400: STEILACOOM | E2400: 98388 | F2400: 0721.09 | G2400: 0721.09 | H2400: 08460
A2401: 3282 | B2401: 2013 | C2401: Pierce | D2401: DUPONT | E2401: 98327 | F2401: 0728.00 | G2401: 0728.00 | H2401: 08460
A2402: 3331 | B2402: 2013 | C2402: Pierce | D2402: STEILACOOM | E2402: 98388 | F2402: 0721.09 | G2402: 0721.11 | H2402: 08460
A2403: 3337 | B2403: 2013 | C2403: Pierce | D2403: DUPONT | E2403: 98327 | F2403: 0728.00 | G2403: 0728.00 | H2403: 08460
A2404: 3918 | B2404: 2013 | C2404: Pierce | D2404: STEILACOOM | E2404: 98388 | F2404: 0721.11 | G2404: 0721.11 | H2404: 08460
A2405: 3996 | B2405: 2013 | C2405: Pierce | D2405: STEILACOOM | E2405: 98388 | F2405: 0721.11 | G2405: 0721.11 | H2405: 08460
A2406: 4139 | B2406: 2013 | C2406: Pierce | D2406: STEILACOOM | E2406: 98388 | F2406: 0721.09 | G2406: 0721.09 | H2406: 08460
A2407: 4658 | B2407: 2013 | C2407: Pierce | D2407: DUPONT | E2407: 98327 | F2407: 0728.00 | G2407: 0728.00 | H2407: 08460
A2408: 5490 | B2408: 2013 | C2408: Pierce | D2408: DUPONT | E2408: 98327 | F2408: 0728.00 | G2408: 0728.00 | H2408: 08460
A2409: 5587 | B2409: 2013 | C2409: Pierce | D2409: STEILACOOM | E2409: 98388 | F2409: 0721.09 | G2409: 0721.09 | H2409: 08460
... A2717: 86411 | B2717: 2013 | C2717: Pierce | D2717: DUPONT | E2717: 98327 | F2717: 0728.00 | G2717: 0728.00 | H2717: 08460
A2718: 74729 | B2718: 2014 | C2718: Pierce | D2718: DUPONT | F2718: 0728.00 | G2718: 0728.00 | H2718: 08460
A2719: 74730 | B2719: 2014 | C2719: Pierce | D2719: DUPONT | E2719: 98327 | F2719: 0728.00 | G2719: 0728.00 | H2719: 08460
A2720: 74731 | B2720: 2014 | C2720: Pierce | D2720: DUPONT | E2720: 98327 | F2720: 0728.00 | G2720: 0728.00 | H2720: 08460
A2721: 74732 | B2721: 2014 | C2721: Pierce | D2721: LAKEWOOD | E2721: 98498 | F2721: 0721.07 | G2721: 0721.07 | H2721: 08460
A2722: 74733 | B2722: 2014 | C2722: Pierce | D2722: STEILACOOM | E2722: 98388 | F2722: 0721.11 | G2722: 0721.11 | H2722: 08460
A2723: 74734 | B2723: 2014 | C2723: Pierce | D2723: DUPONT | E2723: 98327 | F2723: 0728.00 | G2723: 0728.00 | H2723: 08460
A2724: 74735 | B2724: 2014 | C2724: Pierce | D2724: LAKEWOOD | E2724: 98498 | F2724: 0721.05 | G2724: 0721.05 | H2724: 08460
A2725: 74736 | B2725: 2014 | C2725: Pierce | D2725: DUPONT | E2725: 98327 | F2725: 0728.00 | G2725: 0728.00 | H2725: 08460
A2726: 74737 | B2726: 2014 | C2726: Pierce | D2726: TACOMA | E2726: 98498 | F2726: 0721.12 | G2726: 0721.12 | H2726: 08460
A2727: 74738 | B2727: 2014 | C2727: Pierce | D2727: STEILACOOM | E2727: 98388 | F2727: 0721.09 | G2727: 0721.09 | H2727: 08460
A2728: 74739 | B2728: 2014 | C2728: Pierce | D2728: DUPONT | E2728: 98327 | F2728: 0728.00 | G2728: 0728.00 | H2728: 08460
A2729: 74740 | B2729: 2014 | C2729: Pierce | D2729: DUPONT | E2729: 98327 | F2729: 0728.00 | G2729: 0728.00 | H2729: 08460
A2730: 74741 | B2730: 2014 | C2730: Pierce | D2730: DUPONT | E2730: 98327 | F2730: 0728.00 | G2730: 0728.00 | H2730: 08460
... A3611: 77465 | B3611: 2016 | C3611: Pierce | D3611: STEILACOOM | E3611: 98388 | F3611: 0721.09 | G3611: 0721.09 | H3611: 08460
A3612: 74520 | B3612: 2017 | C3612: Pierce | D3612: DUPONT | E3612: 98327 | F3612: 0728.00 | G3612: 0728.00 | H3612: 08460
A3613: 74521 | B3613: 2017 | C3613: Pierce | D3613: STEILACOOM | E3613: 98388 | F3613: 0721.09 | G3613: 0721.09 | H3613: 08460
A3614: 74522 | B3614: 2017 | C3614: Pierce | D3614: DUPONT | E3614: 98327 | F3614: 0728.00 | G3614: 0728.00 | H3614: 08460
A3615: 74523 | B3615: 2017 | C3615: Pierce | D3615: STEILACOOM | E3615: 98388 | F3615: 0721.11 | G3615: 0721.11 | H3615: 08460
A3616: 74524 | B3616: 2017 | C3616: Pierce | D3616: DUPONT | E3616: 98327 | F3616: 0728.00 | G3616: 0728.00 | H3616: 08460
A3617: 74525 | B3617: 2017 | C3617: Pierce | D3617: DUPONT | E3617: 98327 | F3617: 0728.00 | G3617: 0728.00 | H3617: 08460
A3618: 74526 | B3618: 2017 | C3618: Pierce | D3618: DUPONT | E3618: 98327 | F3618: 0728.00 | G3618: 0728.00 | H3618: 08460
A3619: 74527 | B3619: 2017 | C3619: Pierce | D3619: DUPONT | E3619: 98327 | F3619: 0728.00 | G3619: 0728.00 | H3619: 08460
A3620: 74528 | B3620: 2017 | C3620: Pierce | D3620: STEILACOOM | E3620: 98388 | F3620: 0721.09 | G3620: 0721.09 | H3620: 08460
A3621: 74529 | B3621: 2017 | C3621: Pierce | D3621: DUPONT | E3621: 98327 | F3621: 0728.00 | G3621: 0728.00 | H3621: 08460
A3622: 74530 | B3622: 2017 | C3622: Pierce | D3622: DUPONT | E3622: 98327 | F3622: 0729.04 | G3622: 0728.00 | H3622: 08460
A3623: 74531 | B3623: 2017 | C3623: Pierce | D3623: DUPONT | E3623: 98327 | F3623: 0728.00 | G3623: 0728.00 | H3623: 08460
... A3914: 74822 | B3914: 2017 | C3914: Pierce | D3914: DUPONT | E3914: 98327 | F3914: 0728.00 | G3914: 0728.00 | H3914: 08460
B3915: 2018 | C3915: Pierce | D3915: STEILACOOM | E3915: 98388 | F3915: 0721.09 | G3915: 0721.09 | H3915: 08460
B3916: 2018 | C3916: Pierce | D3916: DUPONT | E3916: 98327 | F3916: 0728.00 | G3916: 0728.00 | H3916: 08460
B3917: 2018 | C3917: Pierce | D3917: DUPONT | E3917: 98327 | F3917: 0729.04 | G3917: 0728.00 | H3917: 08460
B3918: 2018 | C3918: Pierce | D3918: STEILACOOM | E3918: 98388 | F3918: 0721.09 | G3918: 0721.09 | H3918: 08460
B3919: 2018 | C3919: Pierce | D3919: DUPONT | E3919: 98327 | F3919: 0728.00 | G3919: 0728.00 | H3919: 08460
B3920: 2018 | C3920: Pierce | D3920: DUPONT | E3920: 98327 | F3920: 0728.00 | G3920: 0728.00 | H3920: 08460
B3921: 2018 | C3921: Pierce | D3921: DUPONT | E3921: 98327 | F3921: 0728.00 | G3921: 0728.00 | H3921: 08460
B3922: 2018 | C3922: Pierce | D3922: DUPONT | E3922: 98327 | F3922: 0728.00 | G3922: 0728.00 | H3922: 08460
B3923: 2018 | C3923: Pierce | D3923: DUPONT | E3923: 98327 | F3923: 0728.00 | G3923: 0728.00 | H3923: 08460
B3924: 2018 | C3924: Pierce | D3924: DUPONT | E3924: 98327 | F3924: 0728.00 | G3924: 0728.00 | H3924: 08460
B3925: 2018 | C3925: Pierce | D3925: STEILACOOM | E3925: 98388 | F3925: 0721.11 | G3925: 0721.11 | H3925: 08460
B3926: 2018 | C3926: Pierce | D3926: DUPONT | E3926: 98327 | F3926: 0728.00 | G3926: 0728.00 | H3926: 08460
... B4201: 2018 | C4201: Pierce | D4201: STEILACOOM | E4201: 98388 | F4201: 0721.11 | G4201: 0721.11 | H4201: 08460
