Workbook

Sheet Sheet1
B1: 2022 | C1: 2023 | D1: 2024 | E1: 2025 | F1: 2026 | G1: 2027 | H1: 2028 | I1: 2029 | J1: 2030
A2: Operating Referendum Annual Revenue | B2: =CNav_2022!E72/100*0.3294 -> 2341857.9 | C2: 2428384 | D2: 2520509 | E2: 2618467 | F2: 2720472 | G2: 2826798 | H2: 2937536 | I2: 3052877 | J2: 3172491
A4: Education Fund | C4: ='ADDL EXP'!C95 -> 2568769.7 | D4: ='ADDL EXP'!D95 -> 3700560.1 | E4: ='ADDL EXP'!E95 -> 3774571.3 | F4: ='ADDL EXP'!F95 -> 3850062.8 | G4: ='ADDL EXP'!G95 -> 3927064 | H4: ='ADDL EXP'!H95 -> 4005605.3 | I4: ='ADDL EXP'!I95 -> 4085717.4 | J4: ='ADDL EXP'!J95 -> 4167431.8
A6: Safety & Security | B6: =$B$2*L12 -> 67920.261 | C6: 75000 | D6: =C6*1.02 -> 76500 | E6: =D6*1.02 -> 78030 | F6: =E6*1.02 -> 79590.6 | G6: =F6*1.02 -> 81182.412 | H6: =G6*1.02 -> 82806.06 | I6: =H6*1.02 -> 84462.181 | J6: =I6*1.02 -> 86151.425
A7: Retaining & attracting teachers and staff | B7: =$B$2*L13 -> 2083800.4 | C7: =C2-C6-C8-C9 -> 2143427.6 | D7: =D2-D6-D8-D9 -> 2229853.4 | E7: =E2-E6-E8-E9 -> 2321998.3 | F7: =F2-F6-F8-F9 -> 2418074 | G7: =G2-G6-G8-G9 -> 2518352 | H7: =H2-H6-H8-H9 -> 2622921.1 | I7: =I2-I6-I8-I9 -> 2731969.8 | J7: =J2-J6-J8-J9 -> 2845165.6
A8: Improvements to student transportation | B8: =$B$2*L14 -> 88487.422 | C8: 97711 | D8: =C8*1.02 -> 99665.22 | E8: =D8*1.02 -> 101658.52 | F8: =E8*1.02 -> 103691.69 | G8: =F8*1.02 -> 105765.53 | H8: =G8*1.02 -> 107880.84 | I8: =H8*1.02 -> 110038.46 | J8: =I8*1.02 -> 112239.23
A9: Operations fund | B9: =$B$2*L15 -> 101649.85 | C9: ='ADDL EXP'!C100-C6-C8 -> 112245.43 | D9: ='ADDL EXP'!D100-D6-D8 -> 114490.34 | E9: ='ADDL EXP'!E100-E6-E8 -> 116780.15 | F9: ='ADDL EXP'!F100-F6-F8 -> 119115.75 | G9: ='ADDL EXP'!G100-G6-G8 -> 121498.07 | H9: ='ADDL EXP'!H100-H6-H8 -> 123928.03 | I9: ='ADDL EXP'!I100-I6-I8 -> 126406.59 | J9: ='ADDL EXP'!J100-J6-J8 -> 128934.72
B10: =SUM(B6:B9) -> 2341857.9 | C10: =SUM(C6:C9) -> 2428384 | D10: =SUM(D6:D9) -> 2520509 | E10: =SUM(E6:E9) -> 2618467 | F10: =SUM(F6:F9) -> 2720472 | G10: =SUM(G6:G9) -> 2826798 | H10: =SUM(H6:H9) -> 2937536 | I10: =SUM(I6:I9) -> 3052877 | J10: =SUM(J6:J9) -> 3172491
A12: Safety & Security | B12: =B6/$B$10 -> 0.029002725 | C12: =C6/$C$10 -> 0.030884737 | D12: =D6/$D$10 -> 0.030351012 | E12: =E6/$E$10 -> 0.029799879 | F12: =F6/$F$10 -> 0.029256173 | G12: =G6/$G$10 -> 0.028718859 | H12: =H6/$H$10 -> 0.028188952 | I12: =I6/$I$10 -> 0.027666421 | J12: =J6/$J$10 -> 0.027155767 | L12: =AVERAGE(C12:J12) -> 0.029002725
A13: Retaining & attracting teachers and staff | B13: =B7/$B$10 -> 0.88980649 | C13: =C7/$C$10 -> 0.88265594 | D13: =D7/$D$10 -> 0.88468378 | E13: =E7/$E$10 -> 0.88677777 | F13: =F7/$F$10 -> 0.88884354 | G13: =G7/$G$10 -> 0.89088502 | H13: =H7/$H$10 -> 0.89289836 | I13: =I7/$I$10 -> 0.89488367 | J13: =J7/$J$10 -> 0.89682386 | L13: =AVERAGE(C13:J13) -> 0.88980649
A14: Improvements to student transportation | B14: =B8/$B$10 -> 0.037785137 | C14: =C8/$C$10 -> 0.040237047 | D14: =D8/$D$10 -> 0.039541704 | E14: =E8/$E$10 -> 0.03882368 | F14: =F8/$F$10 -> 0.038115333 | G14: =G8/$G$10 -> 0.037415312 | H14: =H8/$H$10 -> 0.036724942 | I14: =I8/$I$10 -> 0.036044183 | J14: =J8/$J$10 -> 0.035378895 | L14: =AVERAGE(C14:J14) -> 0.037785137
A15: Operations fund | B15: =B9/$B$10 -> 0.043405645 | C15: =C9/$C$10 -> 0.046222275 | D15: =D9/$D$10 -> 0.0454235 | E15: =E9/$E$10 -> 0.044598671 | F15: =F9/$F$10 -> 0.043784957 | G15: =G9/$G$10 -> 0.042980809 | H15: =H9/$H$10 -> 0.042187747 | I15: =I9/$I$10 -> 0.041405726 | J15: =J9/$J$10 -> 0.040641477 | L15: =AVERAGE(C15:J15) -> 0.043405645
B17: =SUM(B12:B15) -> 1 | C17: =SUM(C12:C15) -> 1 | D17: =SUM(D12:D15) -> 1 | E17: =SUM(E12:E15) -> 1 | F17: =SUM(F12:F15) -> 1 | G17: =SUM(G12:G15) -> 1 | H17: =SUM(H12:H15) -> 1 | I17: =SUM(I12:I15) -> 1 | J17: =SUM(J12:J15) -> 1

Sheet ADDL EXP
C1: 2023 | D1: =C1+1 -> 2024 | E1: =D1+1 -> 2025 | F1: =E1+1 -> 2026 | G1: =F1+1 -> 2027 | H1: =G1+1 -> 2028 | I1: =H1+1 -> 2029 | J1: =I1+1 -> 2030
A2: Addl Positions | C2: 1244324.2 | D2: =C2*1.02 -> 1269210.7 | E2: =D2*1.02 -> 1294594.9 | F2: =E2*1.02 -> 1320486.8 | G2: =F2*1.02 -> 1346896.6 | H2: =G2*1.02 -> 1373834.5 | I2: =H2*1.02 -> 1401311.2 | J2: =I2*1.02 -> 1429337.4
A3: PD from ESSER | D3: 1831211.9 | E3: =D3*1.02 -> 1867836.2 | F3: =E3*1.02 -> 1905192.9 | G3: =F3*1.02 -> 1943296.8 | H3: =G3*1.02 -> 1982162.7 | I3: =H3*1.02 -> 2021806 | J3: =I3*1.02 -> 2062242.1
A4: Non Cert | C4: 937729.52 | D4: =C4*1.02 -> 956484.11 | E4: =D4*1.02 -> 975613.8 | F4: =E4*1.02 -> 995126.07 | G4: =F4*1.02 -> 1015028.6 | H4: =G4*1.02 -> 1035329.2 | I4: =H4*1.02 -> 1056035.7 | J4: =I4*1.02 -> 1077156.5
A5: Non People | C5: 1677500 | D5: 1253120 | E5: 1469052.4 | F5: 1641303.4 | G5: 1845379.5 | H5: 2062287.1 | I5: 2279532.8 | J5: 2497123.5
A6: Total | C6: =SUM(C2:C5) -> 3859553.7 | D6: =SUM(D2:D5) -> 5310026.8 | E6: =SUM(E2:E5) -> 5607097.3 | F6: =SUM(F2:F5) -> 5862109.3 | G6: =SUM(G2:G5) -> 6150601.4 | H6: =SUM(H2:H5) -> 6453613.5 | I6: =SUM(I2:I5) -> 6758685.7 | J6: =SUM(J2:J5) -> 7065859.4 | K6: =SUM(C6:J6) -> 47067547
A8: Average Need | C8: =AVERAGE(C6:J6) -> 5883443.4
A12: =A3 -> PD from ESSER | C12: =C3 -> 0 | D12: =D3 -> 1831211.9 | E12: =E3 -> 1867836.2 | F12: =F3 -> 1905192.9 | G12: =G3 -> 1943296.8 | H12: =H3 -> 1982162.7 | I12: =I3 -> 2021806 | J12: =J3 -> 2062242.1
A13: Raises | C13: 884000 | D13: 1097680 | E13: 1311633.6 | F13: 1525866.3 | G13: 1740383.6 | H13: 1955191.3 | I13: 2170295.1 | J13: 2385701
A14: Addl Positions | C14: =C2 -> 1244324.2 | D14: =D2 -> 1269210.7 | E14: =E2 -> 1294594.9 | F14: =F2 -> 1320486.8 | G14: =G2 -> 1346896.6 | H14: =H2 -> 1373834.5 | I14: =I2 -> 1401311.2 | J14: =J2 -> 1429337.4
C15: =SUM(C12:C14) -> 2128324.2 | D15: =SUM(D12:D14) -> 4198102.7 | E15: =SUM(E12:E14) -> 4474064.7 | F15: =SUM(F12:F14) -> 4751546 | G15: =SUM(G12:G14) -> 5030576.9 | H15: =SUM(H12:H14) -> 5311188.5 | I15: =SUM(I12:I14) -> 5593412.2 | J15: =SUM(J12:J14) -> 5877280.5
A17: Average Need | C17: =AVERAGE(C15:J15) -> 4670562
A24: Notes 12/17/21
A26: Assume all capital/equipment purchases are on a calendar year basis.
A27: Assume all personnel expenditures are on a fiscal year basis. - 41% for 2022
B30: Fiscal Year | C30: 2023 | D30: =+C30+1 -> 2024 | E30: =+D30+1 -> 2025 | F30: =+E30+1 -> 2026 | G30: =+F30+1 -> 2027 | H30: =+G30+1 -> 2028 | I30: =+H30+1 -> 2029 | J30: =+I30+1 -> 2030 | K30: =+J30+1 -> 2031 | L30: Totals
A31: EDUCATION FUND
A33: Add'l Positions
A34: Community | C34: 5857.5 | D34: =+C34*1.02 -> 5974.65 | E34: =+D34*1.02 -> 6094.143 | F34: =+E34*1.02 -> 6216.0259 | G34: =+F34*1.02 -> 6340.3464 | H34: =+G34*1.02 -> 6467.1533 | I34: =+H34*1.02 -> 6596.4964 | J34: =+I34*1.02 -> 6728.4263 | K34: =+J34*1.02 -> 6862.9948
A35: Instruction | C35: 762674.06 | D35: =+C35*1.02 -> 777927.54 | E35: =+D35*1.02 -> 793486.09 | F35: =+E35*1.02 -> 809355.82 | G35: =+F35*1.02 -> 825542.93 | H35: =+G35*1.02 -> 842053.79 | I35: =+H35*1.02 -> 858894.87 | J35: =+I35*1.02 -> 876072.76 | K35: =+J35*1.02 -> 893594.22
A36: Support | C36: 475792.66 | D36: =+C36*1.02 -> 485308.51 | E36: =+D36*1.02 -> 495014.68 | F36: =+E36*1.02 -> 504914.98 | G36: =+F36*1.02 -> 515013.28 | H36: =+G36*1.02 -> 525313.54 | I36: =+H36*1.02 -> 535819.81 | J36: =+I36*1.02 -> 546536.21 | K36: =+J36*1.02 -> 557466.93
A38: Paid from ESSER
A39: Instruction | D39: 1687309.1 | E39: =+D39*1.02 -> 1721055.3 | F39: =+E39*1.02 -> 1755476.4 | G39: =+F39*1.02 -> 1790585.9 | H39: =+G39*1.02 -> 1826397.6 | I39: =+H39*1.02 -> 1862925.6 | J39: =+I39*1.02 -> 1900184.1 | K39: =+J39*1.02 -> 1938187.8
A40: Support | D40: 143902.87 | E40: =+D40*1.02 -> 146780.92 | F40: =+E40*1.02 -> 149716.54 | G40: =+F40*1.02 -> 152710.87 | H40: =+G40*1.02 -> 155765.09 | I40: =+H40*1.02 -> 158880.39 | J40: =+I40*1.02 -> 162058 | K40: =+J40*1.02 -> 165299.16
A42: Non-Certified
A43: Instruction | C43: 166356.87 | D43: =+C43*1.02 -> 169684.01 | E43: =+D43*1.02 -> 173077.69 | F43: =+E43*1.02 -> 176539.24 | G43: =+F43*1.02 -> 180070.03 | H43: =+G43*1.02 -> 183671.43 | I43: =+H43*1.02 -> 187344.86 | J43: =+I43*1.02 -> 191091.75 | K43: =+J43*1.02 -> 194913.59
A44: Support | C44: 353081.39 | D44: =+C44*1.02 -> 360143.02 | E44: =+D44*1.02 -> 367345.88 | F44: =+E44*1.02 -> 374692.8 | G44: =+F44*1.02 -> 382186.65 | H44: =+G44*1.02 -> 389830.39 | I44: =+H44*1.02 -> 397626.99 | J44: =+I44*1.02 -> 405579.53 | K44: =+J44*1.02 -> 413691.12
A46: Non-People
A47: Instruction | C47: 884000 | D47: 1097680 | E47: 1311633.6 | F47: 1525866.3 | G47: 1740383.6 | H47: 1955191.3 | I47: 2170295.1 | J47: 2385701 | K47: 0
A48: Support | C48: 35000 | D48: 35700 | E48: 36414 | F48: 37142.28 | G48: 37885.126 | H48: 38642.828 | I48: 39415.685 | J48: 40203.998 | K48: 0
A50: Subtotal - Community | C50: =+C34 -> 5857.5 | D50: =+D34 -> 5974.65 | E50: =+E34 -> 6094.143 | F50: =+F34 -> 6216.0259 | G50: =+G34 -> 6340.3464 | H50: =+H34 -> 6467.1533 | I50: =+I34 -> 6596.4964 | J50: =+J34 -> 6728.4263 | K50: =+K34 -> 6862.9948 | L50: =SUM(C50:K50)-0.59*K50 -> 53088.569 | N50: =0.41*K50 -> 2813.8279
A51: Subtotal - Instruction | C51: =+C35+C39+C43 -> 929030.93 | D51: =+D35+D39+D43 -> 2634920.6 | E51: =+E35+E39+E43 -> 2687619 | F51: =+F35+F39+F43 -> 2741371.4 | G51: =+G35+G39+G43 -> 2796198.9 | H51: =+H35+H39+H43 -> 2852122.8 | I51: =+I35+I39+I43 -> 2909165.3 | J51: =+J35+J39+J43 -> 2967348.6 | K51: =+K35+K39+K43 -> 3026695.6 | L51: =SUM(C51:K51)-0.59*K51 -> 21758723 | N51: =0.41*K51 -> 1240945.2
A52: Subtotal - Support | C52: =+C36+C40+C44 -> 828874.05 | D52: =+D36+D40+D44 -> 989354.4 | E52: =+E36+E40+E44 -> 1009141.5 | F52: =+F36+F40+F44 -> 1029324.3 | G52: =+G36+G40+G44 -> 1049910.8 | H52: =+H36+H40+H44 -> 1070909 | I52: =+I36+I40+I44 -> 1092327.2 | J52: =+J36+J40+J44 -> 1114173.7 | K52: =+K36+K40+K44 -> 1136457.2 | L52: =SUM(C52:K52)-0.59*K52 -> 8649962.5 | N52: =0.41*K52 -> 465947.46
A53: Subtotal - Instruction (Capital) | C53: =+C47 -> 884000 | D53: =+D47 -> 1097680 | E53: =+E47 -> 1311633.6 | F53: =+F47 -> 1525866.3 | G53: =+G47 -> 1740383.6 | H53: =+H47 -> 1955191.3 | I53: =+I47 -> 2170295.1 | J53: =+J47 -> 2385701 | K53: =+K47 -> 0 | L53: =SUM(C53:K53)-0.59*K53 -> 13070751
A54: Subtotal - Support (Capital) | C54: =+C48 -> 35000 | D54: =+D48 -> 35700 | E54: =+E48 -> 36414 | F54: =+F48 -> 37142.28 | G54: =+G48 -> 37885.126 | H54: =+H48 -> 38642.828 | I54: =+I48 -> 39415.685 | J54: =+J48 -> 40203.998 | K54: =+K48 -> 0 | L54: =SUM(C54:K54)-0.59*K54 -> 300403.92
A56: Grand Total - Education Fund | C56: =SUM(C50:C55) -> 2682762.5 | D56: =SUM(D50:D55) -> 4763629.7 | E56: =SUM(E50:E55) -> 5050902.3 | F56: =SUM(F50:F55) -> 5339920.3 | G56: =SUM(G50:G55) -> 5630718.7 | H56: =SUM(H50:H55) -> 5923333.1 | I56: =SUM(I50:I55) -> 6217799.8 | J56: =SUM(J50:J55) -> 6514155.8 | K56: =SUM(K50:K55) -> 4170015.8 | L56: =SUM(C56:K56)-0.59*K56 -> 43832929
A60: OPERATIONS FUND
A62: Non-Certified
A63: Support | C63: 418291.26 | D63: =+C63*1.02 -> 426657.09 | E63: =+D63*1.02 -> 435190.23 | F63: =+E63*1.02 -> 443894.03 | G63: =+F63*1.02 -> 452771.91 | H63: =+G63*1.02 -> 461827.35 | I63: =+H63*1.02 -> 471063.9 | J63: =+I63*1.02 -> 480485.18 | K63: =+J63*1.02 -> 490094.88 | L63: =SUM(C63:K63)-0.59*K63 -> 3791119.8 | N63: =0.41*K63 -> 200938.9
A65: Non-People
...

Sheet CNav_2022
A1: Certificate of Net Assessed Valuations -- Tax District Data Lake County -- 2022
B3: County Number: | D3: 45 | M3: Note: For 2016 reports, click here. For all years prior to 2016 click here.
A7: Tax District Code | C7: Tax District Name | E7: RP Net AV 1% | F7: RP Net AV 2% | H7: RP Net AV 3% | I7: Real Est Net AV | J7: Local PP Net AV | K7: State PP Net AV | L7: PP Net AV | N7: AV TIF Real Est | O7: AV TIF PP | P7: AV Withholding | Q7: Adjusted Net AV | R7: AV TIF Released | S7: AV Annex Change
A8: 001 | C8: Calumet | E8: 49897002 | F8: 46939540 | H8: 32557494 | I8: 129394036 | J8: 8769180 | L8: 41920930 | N8: 0 | O8: 0 | P8: 1713108 | Q8: 169601858 | R8: 0 | S8: 0
A9: 002 | C9: Calumet-Gary San | E9: 328129 | F9: 8109500 | H9: 755000 | I9: 9192629 | J9: 1443360 | L9: 1888280 | N9: 0 | O9: 0 | P9: 110806 | Q9: 10970103 | R9: 0 | S9: 0
A10: 003 | C10: Calumet-Gary | E10: 6877640 | F10: 26808304 | H10: 83024770 | I10: 116710714 | J10: 10613340 | L10: 14910040 | N10: 58665126 | O10: 0 | P10: 1316202 | Q10: 71639426 | R10: 0 | S10: 0
A11: 004 | C11: Gary-Calumet | E11: 242457470 | F11: 606669067 | H11: 484325427 | I11: 1333451964 | J11: 770327780 | L11: 971868130 | N11: 170166747 | O11: 267932762 | P11: 23052993 | Q11: 1844167592 | R11: 0 | S11: 0
A12: 005 | C12: Lake Station-Cal | E12: 0 | F12: 200 | H12: 2671900 | I12: 2672100 | J12: 1436110 | L12: 16577030 | N12: 0 | O12: 15016470 | P12: 192490 | Q12: 4040170 | R12: 0 | S12: 0
A13: 006 | C13: Griffith | E13: 299524659 | F13: 112481920 | H13: 119384520 | I13: 531391099 | J13: 40924780 | L13: 186736630 | N13: 15045491 | O13: 0 | P13: 7181182 | Q13: 695901056 | R13: 0 | S13: 0
A14: 007 | C14: Cedar Creek | E14: 233435337 | F14: 86244220 | H14: 50251120 | I14: 369930677 | J14: 8045130 | L14: 18856930 | N14: 0 | O14: 0 | P14: 3887845 | Q14: 384899762 | R14: 0 | S14: -243600
A15: 008 | C15: Lowell-Cedar Creek | E15: 223112511 | F15: 63411220 | H15: 73512580 | I15: 360036311 | J15: 10633430 | L15: 14136560 | N15: 6439204 | O15: 0 | P15: 3741671 | Q15: 363991996 | R15: 0 | S15: 243600
A16: 012 | C16: Eagle Creek | E16: 55114710 | F16: 48265540 | H16: 42249840 | I16: 145630090 | J16: 17354600 | L16: 23438130 | N16: 0 | O16: 0 | P16: 1690651 | Q16: 167377569 | R16: 0 | S16: 0
A17: 013 | C17: Hanover Twp | E17: 161016502 | F17: 42637770 | H17: 44435460 | I17: 248089732 | J17: 6200200 | L17: 16225460 | N17: 0 | O17: 0 | P17: 2643111 | Q17: 261672081 | R17: 0 | S17: 0
A18: 014 | C18: Cedar Lake-Han | E18: 334936136 | F18: 87413470 | H18: 99068820 | I18: 521418426 | J18: 9992380 | L18: 15549340 | N18: 48121710 | O18: 0 | P18: 5370471 | Q18: 483475585 | R18: 0 | S18: 0
A19: 015 | C19: St. John-Han Twp | E19: 429251887 | F19: 37170390 | H19: 46250359 | I19: 512672636 | J19: 4544230 | L19: 12647460 | N19: 7786741 | O19: 0 | P19: 5253139 | Q19: 512280216 | R19: 0 | S19: 0
... A57: 060 | C57: Schererville-Center Twp | E57: 0 | F57: 189800 | H57: 0 | I57: 189800 | J57: 0 | L57: 0 | N57: 0 | O57: 0 | P57: 1898 | Q57: 187902 | R57: 0 | S57: 0
A58: TOTALS | E58: 12632764289 | F58: 4780582744 | H58: 7144795746 | I58: 24558142779 | J58: 3667503230 | L58: 4748569940 | N58: 2110282054 | O58: 523213498 | P58: 293068178 | Q58: 26380148989 | R58: 10495875 | S58: 0
C62: =+E7 -> RP Net AV 1% | E62: =+E13 -> 299524659
C63: =+F7 -> RP Net AV 2% | E63: =+F13 -> 112481920
C64: =+H7 -> RP Net AV 3% | E64: =+H13 -> 119384520
C65: =+I7 -> Real Est Net AV | E65: =SUM(E62:E64) -> 531391099
C66: =+L7 -> PP Net AV | E66: =+L13 -> 186736630
C67: =+N7 -> AV TIF Real Est | E67: =-N13 -> -15045491
C68: =+O7 -> AV TIF PP | E68: =-O13 -> 0
C69: =+P7 -> AV Withholding | E69: =-P13 -> -7181182
C70: =+Q7 -> Adjusted Net AV | E70: =SUM(E65:E69) -> 695901056
C71: =+C67 -> AV TIF Real Est | E71: =-E67 -> 15045491
E72: =+E70+E71 -> 710946547
