Workbook
Name T9_02: 'Page 1 - General Information'!$K$4996:$K$4998
Name T9_LEA_Name: 'PIMS LEA'!$B$2:$B$660
Name T9_Sch: 'Page 1 - General Information'!$H$4996:$H$5176

Sheet Page 1 - General Information
E4: =" INTERSCHOLASTIC ATHLETIC OPPORTUNITIES DISCLOSURE FORM "&M7 -> INTERSCHOLASTIC ATHLETIC OPPORTUNITIES DISCLOSURE FORM 22.1
E5: 2021 - 2022 School Year
E7: Page 1 - Section 1: General Information | L7: Ver | M7: 22.1
E9: LEA & School Information
E10: LEA Name: | G10: Elizabethtown Area SD
E12: LEA AUN: | G12: =IF(ISERROR(VLOOKUP(G10,'PIMS LEA'!$B$1:$H$784,2,FALSE)),"",(VLOOKUP(G10,'PIMS LEA'!$B$1:$H$784,2,FALSE))) -> 113362403
E14: School Name: | G14: Elizabethtown Area SHS
E16: School Number: | G16: =IF(ISERROR(VLOOKUP(G12&G14,'PIMS School'!$D$1:$J$1463,7,FALSE)),"",(VLOOKUP(G12&G14,'PIMS School'!$D$1:$J$1463,7,FALSE))) -> 2562
E18: School Enrollment Data
H20: Grade | J20: Boys | K20: Girls | L20: Total
H21: 7th | J21: =IF(ISERROR(VLOOKUP($G$12&$G$16,'Enrollment Report'!$A$3:$N$2989,3,FALSE)),0,(VLOOKUP($G$12&$G$16,'Enrollment Report'!$A$3:$N$2989,3,FALSE))) -> 0 | K21: =IF(ISERROR(VLOOKUP($G$12&$G$16,'Enrollment Report'!$A$3:$N$2989,2,FALSE)),0,(VLOOKUP($G$12&$G$16,'Enrollment Report'!$A$3:$N$2989,2,FALSE))) -> 0 | L21: =J21+K21 -> 0
H22: 8th | J22: =IF(ISERROR(VLOOKUP($G$12&$G$16,'Enrollment Report'!$A$3:$N$2989,5,FALSE)),0,(VLOOKUP($G$12&$G$16,'Enrollment Report'!$A$3:$N$2989,5,FALSE))) -> 0 | K22: =IF(ISERROR(VLOOKUP($G$12&$G$16,'Enrollment Report'!$A$3:$N$2989,4,FALSE)),0,(VLOOKUP($G$12&$G$16,'Enrollment Report'!$A$3:$N$2989,4,FALSE))) -> 0 | L22: =J22+K22 -> 0
H23: 9th | J23: =IF(ISERROR(VLOOKUP($G$12&$G$16,'Enrollment Report'!$A$3:$N$2989,7,FALSE)),0,(VLOOKUP($G$12&$G$16,'Enrollment Report'!$A$3:$N$2989,7,FALSE))) -> 175 | K23: =IF(ISERROR(VLOOKUP($G$12&$G$16,'Enrollment Report'!$A$3:$N$2989,6,FALSE)),0,(VLOOKUP($G$12&$G$16,'Enrollment Report'!$A$3:$N$2989,6,FALSE))) -> 158 | L23: =J23+K23 -> 333
H24: 10th | J24: =IF(ISERROR(VLOOKUP($G$12&$G$16,'Enrollment Report'!$A$3:$N$2989,9,FALSE)),0,(VLOOKUP($G$12&$G$16,'Enrollment Report'!$A$3:$N$2989,9,FALSE))) -> 161 | K24: =IF(ISERROR(VLOOKUP($G$12&$G$16,'Enrollment Report'!$A$3:$N$2989,8,FALSE)),0,(VLOOKUP($G$12&$G$16,'Enrollment Report'!$A$3:$N$2989,8,FALSE))) -> 150 | L24: =J24+K24 -> 311
H25: 11th | J25: =IF(ISERROR(VLOOKUP($G$12&$G$16,'Enrollment Report'!$A$3:$N$2989,11,FALSE)),0,(VLOOKUP($G$12&$G$16,'Enrollment Report'!$A$3:$N$2989,11,FALSE))) -> 141 | K25: =IF(ISERROR(VLOOKUP($G$12&$G$16,'Enrollment Report'!$A$3:$N$2989,10,FALSE)),0,(VLOOKUP($G$12&$G$16,'Enrollment Report'!$A$3:$N$2989,10,FALSE))) -> 133 | L25: =J25+K25 -> 274
H26: 12th | J26: =IF(ISERROR(VLOOKUP($G$12&$G$16,'Enrollment Report'!$A$3:$N$2989,13,FALSE)),0,(VLOOKUP($G$12&$G$16,'Enrollment Report'!$A$3:$N$2989,13,FALSE))) -> 143 | K26: =IF(ISERROR(VLOOKUP($G$12&$G$16,'Enrollment Report'!$A$3:$N$2989,12,FALSE)),0,(VLOOKUP($G$12&$G$16,'Enrollment Report'!$A$3:$N$2989,12,FALSE))) -> 160 | L26: =J26+K26 -> 303
H27: Total | J27: =SUM(J21:J26) -> 620 | K27: =SUM(K21:K26) -> 601 | L27: =SUM(L21:L26) -> 1221
E29: Contact Information
E30: Name of LEAs Title IX Compliance Officer: | G30: Courtney Kunes
E31: Telephone Number: | G31: 717-367-1521 | L31: Extension: | M31: 10014
E32: Email Address: | G32: courtney_kunes@etownschools.org
E34: Name of Individual Completing This Form: | G34: William Templin
E35: Telephone Number: | G35: 717-367-1521 | L35: Extension: | M35: 21124
E36: Email Address: | G36: william_templin@etownschools.org
E38: Interscholastic Team Sponsorship
E39: Does This School Sponsor Any Interscholastic Athletic Teams? (Yes or No) | G39: Yes
E40: If Your Answer To The Above Question Is No, Stop! If You Have Athletes Playing For Another School, Please Explain On Page 4. Otherwise, You Do Not Need To Complete The Remainder Of The Survey For This School. Please Submit Per The Instructions Provided.
G4994: T9_Sch & T9_Number | K4994: T9_02
H4996: [Make Selection From Drop-Down List ] | I4996: 0000 | K4996: [Make Selection From Drop-Down List ]
D4997: 1 | G4997: 1 | H4997: =IF(ISERROR(VLOOKUP($G$12&$G4997,'PIMS School'!$C$1:$R$1467,7,FALSE)),"",(VLOOKUP($G$12&$G4997,'PIMS School'!$C$1:$R$1467,7,FALSE))) -> Elizabethtown Area MS | I4997: =IF(ISERROR(VLOOKUP($G$12&$G4997,'PIMS School'!$C$1:$R$1467,8,FALSE)),"",(VLOOKUP($G$12&$G4997,'PIMS School'!$C$1:$R$1467,8,FALSE))) -> 6862 | K4997: Yes
G4998: 2 | H4998: =IF(ISERROR(VLOOKUP($G$12&$G4998,'PIMS School'!$C$1:$R$1467,7,FALSE)),"",(VLOOKUP($G$12&$G4998,'PIMS School'!$C$1:$R$1467,7,FALSE))) -> Elizabethtown Area SHS | I4998: =IF(ISERROR(VLOOKUP($G$12&$G4998,'PIMS School'!$C$1:$R$1467,8,FALSE)),"",(VLOOKUP($G$12&$G4998,'PIMS School'!$C$1:$R$1467,8,FALSE))) -> 2562 | K4998: No
G4999: 3 | H4999: =IF(ISERROR(VLOOKUP($G$12&$G4999,'PIMS School'!$C$1:$R$1467,7,FALSE)),"",(VLOOKUP($G$12&$G4999,'PIMS School'!$C$1:$R$1467,7,FALSE))) | I4999: =IF(ISERROR(VLOOKUP($G$12&$G4999,'PIMS School'!$C$1:$R$1467,8,FALSE)),"",(VLOOKUP($G$12&$G4999,'PIMS School'!$C$1:$R$1467,8,FALSE)))
G5000: 4 | H5000: =IF(ISERROR(VLOOKUP($G$12&$G5000,'PIMS School'!$C$1:$R$1467,7,FALSE)),"",(VLOOKUP($G$12&$G5000,'PIMS School'!$C$1:$R$1467,7,FALSE))) | I5000: =IF(ISERROR(VLOOKUP($G$12&$G5000,'PIMS School'!$C$1:$R$1467,8,FALSE)),"",(VLOOKUP($G$12&$G5000,'PIMS School'!$C$1:$R$1467,8,FALSE)))
G5001: 5 | H5001: =IF(ISERROR(VLOOKUP($G$12&$G5001,'PIMS School'!$C$1:$R$1467,7,FALSE)),"",(VLOOKUP($G$12&$G5001,'PIMS School'!$C$1:$R$1467,7,FALSE))) | I5001: =IF(ISERROR(VLOOKUP($G$12&$G5001,'PIMS School'!$C$1:$R$1467,8,FALSE)),"",(VLOOKUP($G$12&$G5001,'PIMS School'!$C$1:$R$1467,8,FALSE)))
G5002: 6 | H5002: =IF(ISERROR(VLOOKUP($G$12&$G5002,'PIMS School'!$C$1:$R$1467,7,FALSE)),"",(VLOOKUP($G$12&$G5002,'PIMS School'!$C$1:$R$1467,7,FALSE))) | I5002: =IF(ISERROR(VLOOKUP($G$12&$G5002,'PIMS School'!$C$1:$R$1467,8,FALSE)),"",(VLOOKUP($G$12&$G5002,'PIMS School'!$C$1:$R$1467,8,FALSE)))
G5003: 7 | H5003: =IF(ISERROR(VLOOKUP($G$12&$G5003,'PIMS School'!$C$1:$R$1467,7,FALSE)),"",(VLOOKUP($G$12&$G5003,'PIMS School'!$C$1:$R$1467,7,FALSE))) | I5003: =IF(ISERROR(VLOOKUP($G$12&$G5003,'PIMS School'!$C$1:$R$1467,8,FALSE)),"",(VLOOKUP($G$12&$G5003,'PIMS School'!$C$1:$R$1467,8,FALSE)))
G5004: 8 | H5004: =IF(ISERROR(VLOOKUP($G$12&$G5004,'PIMS School'!$C$1:$R$1467,7,FALSE)),"",(VLOOKUP($G$12&$G5004,'PIMS School'!$C$1:$R$1467,7,FALSE))) | I5004: =IF(ISERROR(VLOOKUP($G$12&$G5004,'PIMS School'!$C$1:$R$1467,8,FALSE)),"",(VLOOKUP($G$12&$G5004,'PIMS School'!$C$1:$R$1467,8,FALSE)))
G5005: 9 | H5005: =IF(ISERROR(VLOOKUP($G$12&$G5005,'PIMS School'!$C$1:$R$1467,7,FALSE)),"",(VLOOKUP($G$12&$G5005,'PIMS School'!$C$1:$R$1467,7,FALSE))) | I5005: =IF(ISERROR(VLOOKUP($G$12&$G5005,'PIMS School'!$C$1:$R$1467,8,FALSE)),"",(VLOOKUP($G$12&$G5005,'PIMS School'!$C$1:$R$1467,8,FALSE)))
G5006: 10 | H5006: =IF(ISERROR(VLOOKUP($G$12&$G5006,'PIMS School'!$C$1:$R$1467,7,FALSE)),"",(VLOOKUP($G$12&$G5006,'PIMS School'!$C$1:$R$1467,7,FALSE))) | I5006: =IF(ISERROR(VLOOKUP($G$12&$G5006,'PIMS School'!$C$1:$R$1467,8,FALSE)),"",(VLOOKUP($G$12&$G5006,'PIMS School'!$C$1:$R$1467,8,FALSE)))
G5007: 11 | H5007: =IF(ISERROR(VLOOKUP($G$12&$G5007,'PIMS School'!$C$1:$R$1467,7,FALSE)),"",(VLOOKUP($G$12&$G5007,'PIMS School'!$C$1:$R$1467,7,FALSE))) | I5007: =IF(ISERROR(VLOOKUP($G$12&$G5007,'PIMS School'!$C$1:$R$1467,8,FALSE)),"",(VLOOKUP($G$12&$G5007,'PIMS School'!$C$1:$R$1467,8,FALSE)))
...

Sheet Page 2 - Team Information
E4: ='Page 1 - General Information'!E4 -> INTERSCHOLASTIC ATHLETIC OPPORTUNITIES DISCLOSURE FORM 22.1
E5: ='Page 1 - General Information'!E5 -> 2021 - 2022 School Year
G7: =IF('Page 1 - General Information'!G14="[Make Selection From Drop-Down List ]","",("School: "&'Page 1 - General Information'!G14&" - "&'Page 1 - General Information'!G16)) -> School: Elizabethtown Area SHS - 2562 | T7: Page 2 - Section 1: Team Information | AI7: =IF('Page 1 - General Information'!G10=" [Make Selection From Drop-Down List ]","",("LEA: "&'Page 1 - General Information'!G10&" - "&'Page 1 - General Information'!G12)) -> LEA: Elizabethtown Area SD - 113362403
E9: TEAM MEMBERSHIP | AH9: COACHES & TRAINERS
E10: Sport | G10: Boys/Girls | I10: Level | K10: Total Number of Participants (As Of The Day Of The First Scheduled Team Competition) | O10: Season(s) Team Competes | S10: Team History (Format =YYYY, e.g. 1955) | X10: Total Number of Competitions Scheduled Per Season | AC10: Total Number of Competitions Played Per Season | AH10: NUMBER OF COACHES PER TEAM | AM10: PERCENTAGE OF TIME SPENT BY EACH ATHLETIC TRAINER WITH EACH TEAM
AH11: Head | AJ11: Assistant | AM11: Trainer 1 | AN11: Trainer 2 | AO11: Trainer 3 | AP11: Trainer 4
K12: Boys | L12: Girls | M12: TOTAL | O12: F | P12: W | Q12: S | S12: Year Established 1 | T12: Year of Demotion | U12: Year of Elimination | V12: Year of Reinstatement | X12: F | Y12: W | Z12: S | AA12: Total | AC12: F | AD12: W | AE12: S | AF12: Total | AH12: Full Time | AI12: Part Time | AJ12: Full Time | AK12: Part Time | AM12: =SUM(AM14:AM184) -> 0 | AN12: =SUM(AN14:AN184) -> 0 | AO12: =SUM(AO14:AO184) -> 0 | AP12: =SUM(AP14:AP184) -> 0
K13: 1 | L13: 2 | M13: 3 | N13: 9 | O13: 5 | P13: 6 | Q13: 7 | R13: 22 | S13: 9 | T13: 10 | U13: 11 | V13: 12 | W13: 27 | X13: 14 | Y13: 15 | Z13: 16 | AA13: 17 | AB13: 32 | AC13: 19 | AD13: 20 | AE13: 21 | AF13: 22 | AG13: 37 | AH13: 24 | AI13: 25 | AJ13: 26 | AK13: 27 | AL13: 42 | AM13: 29 | AN13: 30 | AO13: 31 | AP13: 32
D14: 1 | E14: Baseball | G14: Boys | I14: Varsity | K14: 18 | M14: =SUM(K14:L14) -> 18 | Q14: Yes | S14: 1957 | Z14: 20 | AA14: =SUM(X14:Z14) -> 20 | AE14: 20 | AF14: =SUM(AC14:AE14) -> 20 | AI14: 1 | AK14: 1 | AM14: 0 | AN14: 0 | AO14: 0 | AP14: 0
D15: 2 | E15: Basketball | G15: Boys | I15: Varsity | K15: 9 | M15: =SUM(K15:L15) -> 9 | P15: Yes | S15: 1957 | Y15: 22 | AA15: =SUM(X15:Z15) -> 22 | AD15: 22 | AF15: =SUM(AC15:AE15) -> 22 | AI15: 1 | AK15: 1 | AM15: 0 | AN15: 0 | AO15: 0 | AP15: 0
D16: 3 | E16: Bowling | G16: Boys | I16: Varsity | K16: 16 | M16: =SUM(K16:L16) -> 16 | P16: Yes | S16: 2004 | Y16: 20 | AA16: =SUM(X16:Z16) -> 20 | AD16: 20 | AF16: =SUM(AC16:AE16) -> 20 | AI16: 1 | AM16: 0 | AN16: 0 | AO16: 0 | AP16: 0
D17: 4 | E17: Cross Country | G17: Boys | I17: Varsity | K17: 19 | M17: =SUM(K17:L17) -> 19 | O17: Yes | S17: 1964 | X17: 7 | AA17: =SUM(X17:Z17) -> 7 | AC17: 7 | AF17: =SUM(AC17:AE17) -> 7 | AI17: 1 | AK17: 1 | AM17: 0 | AN17: 0 | AO17: 0 | AP17: 0
D18: 5 | E18: Football | G18: Boys | I18: Varsity | K18: 27 | M18: =SUM(K18:L18) -> 27 | O18: Yes | S18: 1957 | X18: 10 | AA18: =SUM(X18:Z18) -> 10 | AC18: 10 | AF18: =SUM(AC18:AE18) -> 10 | AI18: 1 | AK18: 4 | AM18: 0 | AN18: 0 | AO18: 0 | AP18: 0
D19: 6 | E19: Golf | G19: Boys | I19: Varsity | K19: 10 | M19: =SUM(K19:L19) -> 10 | O19: Yes | S19: 1968 | X19: 6 | AA19: =SUM(X19:Z19) -> 6 | AC19: 6 | AF19: =SUM(AC19:AE19) -> 6 | AI19: 1 | AM19: 0 | AN19: 0 | AO19: 0 | AP19: 0
D20: 7 | E20: Lacrosse | G20: Boys | I20: Varsity | K20: 28 | M20: =SUM(K20:L20) -> 28 | Q20: Yes | S20: 2006 | Z20: 18 | AA20: =SUM(X20:Z20) -> 18 | AE20: 18 | AF20: =SUM(AC20:AE20) -> 18 | AI20: 1 | AK20: 1 | AM20: 0 | AN20: 0 | AO20: 0 | AP20: 0
D21: 8 | E21: Rifle | G21: Boys | I21: Varsity | K21: 14 | M21: =SUM(K21:L21) -> 14 | P21: Yes | S21: 1980 | Y21: 14 | AA21: =SUM(X21:Z21) -> 14 | AD21: 14 | AF21: =SUM(AC21:AE21) -> 14 | AI21: 1 | AM21: 0 | AN21: 0 | AO21: 0 | AP21: 0
D22: 9 | E22: Soccer | G22: Boys | I22: Varsity | K22: 20 | M22: =SUM(K22:L22) -> 20 | O22: Yes | S22: 1972 | X22: 17 | AA22: =SUM(X22:Z22) -> 17 | AC22: 17 | AF22: =SUM(AC22:AE22) -> 17 | AI22: 1 | AK22: 1 | AM22: 0 | AN22: 0 | AO22: 0 | AP22: 0
D23: 10 | E23: Swimming and Diving | G23: Boys | I23: Varsity | K23: 21 | M23: =SUM(K23:L23) -> 21 | P23: Yes | S23: 1988 | Y23: 11 | AA23: =SUM(X23:Z23) -> 11 | AD23: 11 | AF23: =SUM(AC23:AE23) -> 11 | AI23: 1 | AK23: 1 | AM23: 0 | AN23: 0 | AO23: 0 | AP23: 0
D24: 11 | E24: Tennis | G24: Boys | I24: Varsity | K24: 19 | M24: =SUM(K24:L24) -> 19 | Q24: Yes | S24: 1987 | Z24: 14 | AA24: =SUM(X24:Z24) -> 14 | AE24: 14 | AF24: =SUM(AC24:AE24) -> 14 | AI24: 1 | AM24: 0 | AN24: 0 | AO24: 0 | AP24: 0
D25: 12 | E25: Track & Field (Indoor) | G25: Boys | I25: Varsity | M25: =SUM(K25:L25) -> 0 | AA25: =SUM(X25:Z25) -> 0 | AF25: =SUM(AC25:AE25) -> 0 | AM25: 0 | AN25: 0 | AO25: 0 | AP25: 0
D26: 13 | E26: Track & Field (Outdoor) | G26: Boys | I26: Varsity | K26: 39 | M26: =SUM(K26:L26) -> 39 | Q26: Yes | S26: 1957 | AA26: =SUM(X26:Z26) -> 0 | AF26: =SUM(AC26:AE26) -> 0 | AM26: 0 | AN26: 0 | AO26: 0 | AP26: 0
D27: 14 | E27: Volleyball | G27: Boys | I27: Varsity | K27: 11 | M27: =SUM(K27:L27) -> 11 | Q27: Yes | S27: 1991 | Z27: 22 | AA27: =SUM(X27:Z27) -> 22 | AE27: 22 | AF27: =SUM(AC27:AE27) -> 22 | AI27: 1 | AM27: 0 | AN27: 0 | AO27: 0 | AP27: 0
D28: 15 | E28: Water Polo | G28: Boys | I28: Varsity | M28: =SUM(K28:L28) -> 0 | AA28: =SUM(X28:Z28) -> 0 | AF28: =SUM(AC28:AE28) -> 0 | AM28: 0 | AN28: 0 | AO28: 0 | AP28: 0
D29: 16 | E29: Wrestling | G29: Boys | I29: Varsity | K29: 19 | M29: =SUM(K29:L29) -> 19 | P29: Yes | S29: 1960 | AA29: =SUM(X29:Z29) -> 0 | AF29: =SUM(AC29:AE29) -> 0 | AI29: 1 | AK29: 1 | AM29: 0 | AN29: 0 | AO29: 0 | AP29: 0
D30: 17 | E30: Baseball | G30: Boys | I30: Jr Varsity | K30: 15 | M30: =SUM(K30:L30) -> 15 | Q30: Yes | S30: 1967 | Z30: 20 | AA30: =SUM(X30:Z30) -> 20 | AE30: 18 | AF30: =SUM(AC30:AE30) -> 18 | AI30: 1 | AK30: 1 | AM30: 0 | AN30: 0 | AO30: 0 | AP30: 0
D31: 18 | E31: Basketball | G31: Boys | I31: Jr Varsity | K31: 9 | M31: =SUM(K31:L31) -> 9 | P31: Yes | S31: 1957 | Y31: 22 | AA31: =SUM(X31:Z31) -> 22 | AD31: 22 | AF31: =SUM(AC31:AE31) -> 22 | AI31: 1 | AK31: 1 | AM31: 0 | AN31: 0 | AO31: 0 | AP31: 0
D32: 19 | E32: Bowling | G32: Boys | I32: Jr Varsity | M32: =SUM(K32:L32) -> 0 | AA32: =SUM(X32:Z32) -> 0 | AF32: =SUM(AC32:AE32) -> 0 | AM32: 0 | AN32: 0 | AO32: 0 | AP32: 0
D33: 20 | E33: Cross Country | G33: Boys | I33: Jr Varsity | M33: =SUM(K33:L33) -> 0 | AA33: =SUM(X33:Z33) -> 0 | AF33: =SUM(AC33:AE33) -> 0 | AM33: 0 | AN33: 0 | AO33: 0 | AP33: 0
D34: 21 | E34: Football | G34: Boys | I34: Jr Varsity | K34: 20 | M34: =SUM(K34:L34) -> 20 | O34: Yes | S34: 1957 | X34: 10 | AA34: =SUM(X34:Z34) -> 10 | AC34: 9 | AF34: =SUM(AC34:AE34) -> 9 | AI34: 1 | AK34: 4 | AM34: 0 | AN34: 0 | AO34: 0 | AP34: 0
D35: 22 | E35: Golf | G35: Boys | I35: Jr Varsity | M35: =SUM(K35:L35) -> 0 | AA35: =SUM(X35:Z35) -> 0 | AF35: =SUM(AC35:AE35) -> 0 | AM35: 0 | AN35: 0 | AO35: 0 | AP35: 0
D36: 23 | E36: Lacrosse | G36: Boys | I36: Jr Varsity | M36: =SUM(K36:L36) -> 0 | S36: 2006 | Z36: 18 | AA36: =SUM(X36:Z36) -> 18 | AE36: 0 | AF36: =SUM(AC36:AE36) -> 0 | AI36: 1 | AM36: 0 | AN36: 0 | AO36: 0 | AP36: 0
D37: 24 | E37: Rifle | G37: Boys | I37: Jr Varsity | M37: =SUM(K37:L37) -> 0 | AA37: =SUM(X37:Z37) -> 0 | AF37: =SUM(AC37:AE37) -> 0 | AM37: 0 | AN37: 0 | AO37: 0 | AP37: 0
D38: 25 | E38: Soccer | G38: Boys | I38: Jr Varsity | K38: 16 | M38: =SUM(K38:L38) -> 16 | O38: Yes | S38: 1972 | X38: 17 | AA38: =SUM(X38:Z38) -> 17 | AC38: 16 | AF38: =SUM(AC38:AE38) -> 16 | AI38: 1 | AM38: 0 | AN38: 0 | AO38: 0 | AP38: 0
D39: 26 | E39: Swimming and Diving | G39: Boys | I39: Jr Varsity | M39: =SUM(K39:L39) -> 0 | AA39: =SUM(X39:Z39) -> 0 | AF39: =SUM(AC39:AE39) -> 0 | AM39: 0 | AN39: 0 | AO39: 0 | AP39: 0
D40: 27 | E40: Tennis | G40: Boys | I40: Jr Varsity | M40: =SUM(K40:L40) -> 0 | AA40: =SUM(X40:Z40) -> 0 | AF40: =SUM(AC40:AE40) -> 0 | AM40: 0 | AN40: 0 | AO40: 0 | AP40: 0
D41: 28 | E41: Track & Field (Indoor) | G41: Boys | I41: Jr Varsity | M41: =SUM(K41:L41) -> 0 | AA41: =SUM(X41:Z41) -> 0 | AF41: =SUM(AC41:AE41) -> 0 | AM41: 0 | AN41: 0 | AO41: 0 | AP41: 0
D42: 29 | E42: Track & Field (Outdoor) | G42: Boys | I42: Jr Varsity | M42: =SUM(K42:L42) -> 0 | AA42: =SUM(X42:Z42) -> 0 | AF42: =SUM(AC42:AE42) -> 0 | AM42: 0 | AN42: 0 | AO42: 0 | AP42: 0
D43: 30 | E43: Volleyball | G43: Boys | I43: Jr Varsity | K43: 12 | M43: =SUM(K43:L43) -> 12 | Q43: Yes | S43: 1991 | AA43: =SUM(X43:Z43) -> 0 | AF43: =SUM(AC43:AE43) -> 0 | AI43: 1 | AM43: 0 | AN43: 0 | AO43: 0 | AP43: 0
D44: 31 | E44: Water Polo | G44: Boys | I44: Jr Varsity | M44: =SUM(K44:L44) -> 0 | AA44: =SUM(X44:Z44) -> 0 | AF44: =SUM(AC44:AE44) -> 0 | AM44: 0 | AN44: 0 | AO44: 0 | AP44: 0
D45: 32 | E45: Wrestling | G45: Boys | I45: Jr Varsity | M45: =SUM(K45:L45) -> 0 | AA45: =SUM(X45:Z45) -> 0 | AF45: =SUM(AC45:AE45) -> 0 | AM45: 0 | AN45: 0 | AO45: 0 | AP45: 0
...

Sheet Page 3 - Financial Information
E4: ='Page 1 - General Information'!E4 -> INTERSCHOLASTIC ATHLETIC OPPORTUNITIES DISCLOSURE FORM 22.1
E5: ='Page 1 - General Information'!E5 -> 2021 - 2022 School Year
E7: =IF('Page 1 - General Information'!G14="[Make Selection From Drop-Down List ]","",("School: "&'Page 1 - General Information'!G14&" - "&'Page 1 - General Information'!G16)) -> School: Elizabethtown Area SHS - 2562 | O7: Page 3 - Section 1: Financial Information | W7: =IF('Page 1 - General Information'!G10=" [Make Selection From Drop-Down List ]","",("LEA: "&'Page 1 - General Information'!G10&" - "&'Page 1 - General Information'!G12)) -> LEA: Elizabethtown Area SD - 113362403
E9: ATHLETIC EXPENDITURES
E10: Team | G10: Boys/Girls | I10: Level | K10: Total Annual School Team Expenditures | M10: SCHOOL'S ANNUAL EXPENDITURES FOR EACH TEAM | W10: NON-SCHOOL (BOOSTER CLUBS, ALUMNI & OTHER NON-SCHOOL) CONTRIBUTIONS & PURCHASES
M11: Travel 1 | N11: Uniforms 2 | O11: Supplies and Equipment 3 | P11: Facilities 4 | Q11: Other | R11: Coaching Staff Compensation per Sport per Season | U11: Total Compensation For All Athletic Trainers Per Academic Year | W11: List total value of contributions per team | X11: List total value of purchases per team
R13: Fall | S13: Winter | T13: Spring | U13: 0
K14: Totals | M14: =SUM(M16:M186) -> 66606.98 | N14: =SUM(N16:N186) -> 26013.85 | O14: =SUM(O16:O186) -> 27702.82 | P14: =SUM(P16:P186) -> 0 | Q14: =SUM(Q16:Q186) -> 67092.9 | R14: =SUM(R16:R186) -> 139644.15 | S14: =SUM(S16:S186) -> 110547.1 | T14: =SUM(T16:T186) -> 103054.89 | W14: =SUM(W16:W186) -> 200683.49 | X14: =SUM(X16:X186) -> 218328.19
K15: 1 | L15: 2 | M15: 3 | N15: 4 | O15: 5 | P15: 6 | Q15: 7 | R15: 8 | S15: 9 | T15: 10 | U15: 11 | V15: 12 | W15: 13 | X15: 14
D16: 1 | E16: Baseball | G16: Boys | I16: Varsity | K16: =SUM(M16:T16) -> 21358.89 | M16: 5228.87 | N16: 1435 | O16: 2828.72 | Q16: 2231 | T16: 9635.3 | W16: 2808.5 | X16: 357.04
D17: 2 | E17: Basketball | G17: Boys | I17: Varsity | K17: =SUM(M17:T17) -> 41363.26 | O17: 519.45 | Q17: 6794.9 | S17: 34048.91 | W17: 3815.13 | X17: 4045.64
D18: 3 | E18: Bowling | G18: Boys | I18: Varsity | K18: =SUM(M18:T18) -> 7883.64 | M18: 2127.58 | O18: 241.66 | Q18: 2426.67 | S18: 3087.73 | W18: 8306.18 | X18: 7636.35
D19: 4 | E19: Cross Country | G19: Boys | I19: Varsity | K19: =SUM(M19:T19) -> 4747.08 | M19: 942.24 | O19: 143.84 | Q19: 403.87 | R19: 3257.13 | W19: 1333.61 | X19: 1616.53
D20: 5 | E20: Football | G20: Boys | I20: Varsity | K20: =SUM(M20:T20) -> 71032.24 | M20: 3200.14 | N20: 3663.4 | O20: 5296.6 | Q20: 11988.5 | R20: 46883.6 | W20: 52677.16 | X20: 80348.8
D21: 6 | E21: Golf | G21: Boys | I21: Varsity | K21: =SUM(M21:T21) -> 8928.78 | M21: 604.01 | N21: 245.45 | O21: 306.35 | Q21: 1263.64 | R21: 6509.33 | W21: 859.68 | X21: 834.35
D22: 7 | E22: Lacrosse | G22: Boys | I22: Varsity | K22: =SUM(M22:T22) -> 10337.23 | M22: 2783.86 | Q22: 2565 | T22: 4988.37 | W22: 5294.47 | X22: 4947.63
D23: 8 | E23: Rifle | G23: Boys | I23: Varsity | K23: =SUM(M23:T23) -> 5508.34 | M23: 1112.07 | O23: 1494.8 | Q23: 46.67 | S23: 2854.8 | W23: 499.31 | X23: 494.46
D24: 9 | E24: Soccer | G24: Boys | I24: Varsity | K24: =SUM(M24:T24) -> 27526.36 | M24: 1798.54 | O24: 805.6 | Q24: 1691 | R24: 23231.22 | W24: 12631.35 | X24: 11649.76
D25: 10 | E25: Swimming and Diving | G25: Boys | I25: Varsity | K25: =SUM(M25:T25) -> 8196.96 | M25: 1123.75 | N25: 1136.74 | Q25: 786.13 | S25: 5150.34 | W25: 1606.93 | X25: 2012.35
D26: 11 | E26: Tennis | G26: Boys | I26: Varsity | K26: =SUM(M26:T26) -> 6185.19 | M26: 1655.14 | O26: 365.67 | Q26: 25 | T26: 4139.38 | W26: 477.97 | X26: 416.4
D27: 12 | E27: Track & Field (Indoor) | G27: Boys | I27: Varsity | K27: =SUM(M27:T27) -> 0 | W27: 0 | X27: 0
D28: 13 | E28: Track & Field (Outdoor) | G28: Boys | I28: Varsity | K28: =SUM(M28:T28) -> 17312.17 | M28: 1605.99 | N28: 98.19 | O28: 1982.59 | Q28: 718.98 | T28: 12906.42 | W28: 6209.48 | X28: 4561.5
D29: 14 | E29: Volleyball | G29: Boys | I29: Varsity | K29: =SUM(M29:T29) -> 13958.49 | M29: 1766.57 | N29: 5440 | O29: 585.67 | Q29: 1631.5 | T29: 4534.75 | W29: 3115.32 | X29: 3972.14
D30: 15 | E30: Water Polo | G30: Boys | I30: Varsity | K30: =SUM(M30:T30) -> 0 | W30: 0 | X30: 0
D31: 16 | E31: Wrestling | G31: Boys | I31: Varsity | K31: =SUM(M31:T31) -> 19108.7 | M31: 1904.98 | O31: 256.6 | Q31: 484 | S31: 16463.12 | W31: 10819.97 | X31: 8634.29
D32: 17 | E32: Baseball | G32: Boys | I32: Jr Varsity | K32: =SUM(M32:T32) -> 4550.11 | M32: 2037.03 | Q32: 1738 | T32: 775.08 | W32: 0 | X32: 0
D33: 18 | E33: Basketball | G33: Boys | I33: Jr Varsity | K33: =SUM(M33:T33) -> 4862.77 | M33: 1272.76 | Q33: 1869 | S33: 1721.01 | W33: 0 | X33: 0
D34: 19 | E34: Bowling | G34: Boys | I34: Jr Varsity | K34: =SUM(M34:T34) -> 0 | W34: 0 | X34: 0
D35: 20 | E35: Cross Country | G35: Boys | I35: Jr Varsity | K35: =SUM(M35:T35) -> 0 | W35: 0 | X35: 0
D36: 21 | E36: Football | G36: Boys | I36: Jr Varsity | K36: =SUM(M36:T36) -> 2440.47 | M36: 925.47 | Q36: 1515 | W36: 0 | X36: 0
D37: 22 | E37: Golf | G37: Boys | I37: Jr Varsity | K37: =SUM(M37:T37) -> 0 | W37: 0 | X37: 0
D38: 23 | E38: Lacrosse | G38: Boys | I38: Jr Varsity | K38: =SUM(M38:T38) -> 0 | W38: 0 | X38: 0
D39: 24 | E39: Rifle | G39: Boys | I39: Jr Varsity | K39: =SUM(M39:T39) -> 0 | W39: 0 | X39: 0
D40: 25 | E40: Soccer | G40: Boys | I40: Jr Varsity | K40: =SUM(M40:T40) -> 2146.12 | M40: 721.5 | Q40: 1168 | R40: 256.62 | W40: 0 | X40: 0
D41: 26 | E41: Swimming and Diving | G41: Boys | I41: Jr Varsity | K41: =SUM(M41:T41) -> 0 | W41: 0 | X41: 0
D42: 27 | E42: Tennis | G42: Boys | I42: Jr Varsity | K42: =SUM(M42:T42) -> 0 | W42: 0 | X42: 0
D43: 28 | E43: Track & Field (Indoor) | G43: Boys | I43: Jr Varsity | K43: =SUM(M43:T43) -> 0 | W43: 0 | X43: 0
D44: 29 | E44: Track & Field (Outdoor) | G44: Boys | I44: Jr Varsity | K44: =SUM(M44:T44) -> 0 | W44: 0 | X44: 0
D45: 30 | E45: Volleyball | G45: Boys | I45: Jr Varsity | K45: =SUM(M45:T45) -> 5518.73 | M45: 2139.93 | Q45: 1246 | T45: 2132.8 | W45: 0 | X45: 0
D46: 31 | E46: Water Polo | G46: Boys | I46: Jr Varsity | K46: =SUM(M46:T46) -> 0 | W46: 0 | X46: 0
...

Sheet Page 4 - Gender and Race Info
E4: ='Page 1 - General Information'!E4 -> INTERSCHOLASTIC ATHLETIC OPPORTUNITIES DISCLOSURE FORM 22.1
C5: ='Page 1 - General Information'!E5 -> 2021 - 2022 School Year | E5: ='Page 1 - General Information'!E5 -> 2021 - 2022 School Year
E7: =IF('Page 1 - General Information'!G14="[Make Selection From Drop-Down List ]","",("School: "&'Page 1 - General Information'!G14&" - "&'Page 1 - General Information'!G16)) -> School: Elizabethtown Area SHS - 2562 | J7: Page 5 - Section 1: Gender and Race/Ethnicity Information | S7: =IF('Page 1 - General Information'!G10=" [Make Selection From Drop-Down List ]","",("LEA: "&'Page 1 - General Information'!G10&" - "&'Page 1 - General Information'!G12)) -> LEA: Elizabethtown Area SD - 113362403
E10: Gender | F10: School Totals (Data is prepopulated from the October Student Snapshot) | O10: Athletic Program Totals (Enter the counts of athletic program participants by race/ethnicity and gender)
F11: Race/Ethnicity Code | O11: Race/Ethnicity Code
F12: American Indian/Alaskan Native | G12: Black/African American (Not Hispanic) | H12: Hispanic (Any Race) | I12: White/Caucasian (Not Hispanic) | J12: Multi-Racial (Not Hispanic) | K12: Asian (Not Hispanic) | L12: Native Hawaiian or Other Pacific Islander (Not Hispanic) | M12: Total | O12: American Indian/Alaskan Native | P12: Black/African American (Not Hispanic) | Q12: Hispanic (Any Race) | R12: White/Caucasian (Not Hispanic) | S12: Multi-Racial (Not Hispanic) | T12: Asian (Not Hispanic) | U12: Native Hawaiian or Other Pacific Islander (Not Hispanic) | V12: Total
F13: 1 | G13: 2 | H13: 3 | I13: 4 | J13: 5 | K13: 6 | L13: 7 | M13: 8 | N13: 9 | O13: 10 | P13: 11 | Q13: 12 | R13: 13 | S13: 14 | T13: 15 | U13: 16 | V13: 17
D14: ='Page 1 - General Information'!G12&'Page 1 - General Information'!G16&'Page 4 - Gender and Race Info'!E14 -> 1133624032562Male | E14: Male | F14: =IF(ISERROR(VLOOKUP($D$14,'Race Data'!$B:$O,7,FALSE))," ",(VLOOKUP($D$14,'Race Data'!$B:$O,7,FALSE))) -> * | G14: =IF(ISERROR(VLOOKUP($D$14,'Race Data'!$B:$O,8,FALSE))," ",(VLOOKUP($D$14,'Race Data'!$B:$O,8,FALSE))) -> 16 | H14: =IF(ISERROR(VLOOKUP($D$14,'Race Data'!$B:$O,9,FALSE))," ",(VLOOKUP($D$14,'Race Data'!$B:$O,9,FALSE))) -> 36 | I14: =IF(ISERROR(VLOOKUP($D$14,'Race Data'!$B:$O,10,FALSE))," ",(VLOOKUP($D$14,'Race Data'!$B:$O,10,FALSE))) -> 534 | J14: =IF(ISERROR(VLOOKUP($D$14,'Race Data'!$B:$O,11,FALSE))," ",(VLOOKUP($D$14,'Race Data'!$B:$O,11,FALSE))) -> 20 | K14: =IF(ISERROR(VLOOKUP($D$14,'Race Data'!$B:$O,12,FALSE))," ",(VLOOKUP($D$14,'Race Data'!$B:$O,12,FALSE))) -> * | L14: =IF(ISERROR(VLOOKUP($D$14,'Race Data'!$B:$O,13,FALSE))," ",(VLOOKUP($D$14,'Race Data'!$B:$O,13,FALSE))) -> 0 | M14: =IF(ISERROR(VLOOKUP($D$14,'Race Data'!$B:$O,14,FALSE))," ",(VLOOKUP($D$14,'Race Data'!$B:$O,14,FALSE))) -> 620 | O14: 0 | P14: 7 | Q14: 10 | R14: 236 | S14: 8 | T14: 0 | U14: 0 | V14: =SUM(O14:U14) -> 261
D15: ='Page 1 - General Information'!G12&'Page 1 - General Information'!G16&'Page 4 - Gender and Race Info'!E15 -> 1133624032562Female | E15: Female | F15: =IF(ISERROR(VLOOKUP($D$15,'Race Data'!$B:$O,7,FALSE))," ",(VLOOKUP($D$15,'Race Data'!$B:$O,7,FALSE))) -> * | G15: =IF(ISERROR(VLOOKUP($D$15,'Race Data'!$B:$O,8,FALSE))," ",(VLOOKUP($D$15,'Race Data'!$B:$O,8,FALSE))) -> 11 | H15: =IF(ISERROR(VLOOKUP($D$15,'Race Data'!$B:$O,9,FALSE))," ",(VLOOKUP($D$15,'Race Data'!$B:$O,9,FALSE))) -> 34 | I15: =IF(ISERROR(VLOOKUP($D$15,'Race Data'!$B:$O,10,FALSE))," ",(VLOOKUP($D$15,'Race Data'!$B:$O,10,FALSE))) -> 524 | J15: =IF(ISERROR(VLOOKUP($D$15,'Race Data'!$B:$O,11,FALSE))," ",(VLOOKUP($D$15,'Race Data'!$B:$O,11,FALSE))) -> 20 | K15: =IF(ISERROR(VLOOKUP($D$15,'Race Data'!$B:$O,12,FALSE))," ",(VLOOKUP($D$15,'Race Data'!$B:$O,12,FALSE))) -> * | L15: =IF(ISERROR(VLOOKUP($D$15,'Race Data'!$B:$O,13,FALSE))," ",(VLOOKUP($D$15,'Race Data'!$B:$O,13,FALSE))) -> 0 | M15: =IF(ISERROR(VLOOKUP($D$15,'Race Data'!$B:$O,14,FALSE))," ",(VLOOKUP($D$15,'Race Data'!$B:$O,14,FALSE))) -> 601 | O15: 1 | P15: 2 | Q15: 7 | R15: 198 | S15: 8 | T15: 0 | U15: 0 | V15: =SUM(O15:U15) -> 216
D16: ='Page 1 - General Information'!G12&'Page 1 - General Information'!G16&'Page 4 - Gender and Race Info'!E16 -> 1133624032562Total | E16: Total | F16: =IF(ISERROR(VLOOKUP($D$16,'Race Data'!$B:$O,7,FALSE))," ",(VLOOKUP($D$16,'Race Data'!$B:$O,7,FALSE))) -> * | G16: =IF(ISERROR(VLOOKUP($D$16,'Race Data'!$B:$O,8,FALSE))," ",(VLOOKUP($D$16,'Race Data'!$B:$O,8,FALSE))) -> 27 | H16: =IF(ISERROR(VLOOKUP($D$16,'Race Data'!$B:$O,9,FALSE))," ",(VLOOKUP($D$16,'Race Data'!$B:$O,9,FALSE))) -> 70 | I16: =IF(ISERROR(VLOOKUP($D$16,'Race Data'!$B:$O,10,FALSE))," ",(VLOOKUP($D$16,'Race Data'!$B:$O,10,FALSE))) -> 1058 | J16: =IF(ISERROR(VLOOKUP($D$16,'Race Data'!$B:$O,11,FALSE))," ",(VLOOKUP($D$16,'Race Data'!$B:$O,11,FALSE))) -> 40 | K16: =IF(ISERROR(VLOOKUP($D$16,'Race Data'!$B:$O,12,FALSE))," ",(VLOOKUP($D$16,'Race Data'!$B:$O,12,FALSE))) -> * | L16: =IF(ISERROR(VLOOKUP($D$16,'Race Data'!$B:$O,13,FALSE))," ",(VLOOKUP($D$16,'Race Data'!$B:$O,13,FALSE))) -> 0 | M16: =IF(ISERROR(VLOOKUP($D$16,'Race Data'!$B:$O,14,FALSE))," ",(VLOOKUP($D$16,'Race Data'!$B:$O,14,FALSE))) -> 1221 | N16: =N14+N15 -> 0 | O16: =O14+O15 -> 1 | P16: =P14+P15 -> 9 | Q16: =Q14+Q15 -> 17 | R16: =R14+R15 -> 434 | S16: =S14+S15 -> 16 | T16: =T14+T15 -> 0 | U16: =U14+U15 -> 0 | V16: =V14+V15 -> 477
E20: Note: Some information has been redacted in order to protect individual identification

Sheet Page 5 - Comments
D4: ='Page 1 - General Information'!E4 -> INTERSCHOLASTIC ATHLETIC OPPORTUNITIES DISCLOSURE FORM 22.1
D5: ='Page 1 - General Information'!E5 -> 2021 - 2022 School Year
E7: =IF('Page 1 - General Information'!G14="[Make Selection From Drop-Down List ]","",("School: "&'Page 1 - General Information'!G14&" - "&'Page 1 - General Information'!G16)) -> School: Elizabethtown Area SHS - 2562 | J7: Page 4 - Section 1: Comments | N7: =IF('Page 1 - General Information'!G10=" [Make Selection From Drop-Down List ]","",("LEA: "&'Page 1 - General Information'!G10&" - "&'Page 1 - General Information'!G12)) -> LEA: Elizabethtown Area SD - 113362403
E11: Please Provide All Applicable Comments Below
E12: For Best Results, Compose In A Word Processor, Copy And Paste To The Formula Bar Above, Then Press Enter.
E13: Input Is Limited To 100 Characters

Sheet Page 6 - PIMS Input Page
A1: DISTRICT CODE | B1: LOCATION CODE | C1: REPORTING DATE | D1: CATEGORY 01 | E1: CATEGORY 02 | F1: CATEGORY 03 | G1: CATEGORY 04 | H1: CATEGORY 05 | I1: CATEGORY 06 | J1: CATEGORY 07 | K1: CATEGORY 08 | L1: CATEGORY 09 | M1: CATEGORY 10 | N1: PRIMARY MEASURE TYPE | O1: COUNT | P1: AMOUNT | Q1: PERCENT | R1: INDICATOR | S1: CATEGORY SET CODE | T1: START DATE | U1: END DATE | V1: COMMENT | X1: Column | Y1: Row
A2: ='Page 1 - General Information'!$G$12 -> 113362403 | B2: ='Page 1 - General Information'!$G$16 -> 2562 | C2: 2022-06-30 | N2: COUNT | O2: =INDEX('Page 2 - Team Information'!$K$14:$AP$184,Y2,X2) -> 18 | S2: Baseball_Boys_V_Boys | X2: 1 | Y2: 1
A3: ='Page 1 - General Information'!$G$12 -> 113362403 | B3: ='Page 1 - General Information'!$G$16 -> 2562 | C3: 2022-06-30 | N3: COUNT | O3: =INDEX('Page 2 - Team Information'!$K$14:$AP$184,Y3,X3) -> 0 | S3: Baseball_Boys_V_Girls | X3: 2 | Y3: 1
A4: ='Page 1 - General Information'!$G$12 -> 113362403 | B4: ='Page 1 - General Information'!$G$16 -> 2562 | C4: 2022-06-30 | N4: COUNT | O4: =INDEX('Page 2 - Team Information'!$K$14:$AP$184,Y4,X4) -> 18 | S4: Baseball_Boys_V_Total | X4: 3 | Y4: 1
A5: ='Page 1 - General Information'!$G$12 -> 113362403 | B5: ='Page 1 - General Information'!$G$16 -> 2562 | C5: 2022-06-30 | N5: COUNT | O5: =INDEX('Page 2 - Team Information'!$K$14:$AP$184,Y5,X5) -> 9 | S5: Basketball _Boys_V_Boys | X5: 1 | Y5: 2
A6: ='Page 1 - General Information'!$G$12 -> 113362403 | B6: ='Page 1 - General Information'!$G$16 -> 2562 | C6: 2022-06-30 | N6: COUNT | O6: =INDEX('Page 2 - Team Information'!$K$14:$AP$184,Y6,X6) -> 0 | S6: Basketball _Boys_V_Girls | X6: 2 | Y6: 2
A7: ='Page 1 - General Information'!$G$12 -> 113362403 | B7: ='Page 1 - General Information'!$G$16 -> 2562 | C7: 2022-06-30 | N7: COUNT | O7: =INDEX('Page 2 - Team Information'!$K$14:$AP$184,Y7,X7) -> 9 | S7: Basketball _Boys_V_Total | X7: 3 | Y7: 2
A8: ='Page 1 - General Information'!$G$12 -> 113362403 | B8: ='Page 1 - General Information'!$G$16 -> 2562 | C8: 2022-06-30 | N8: COUNT | O8: =INDEX('Page 2 - Team Information'!$K$14:$AP$184,Y8,X8) -> 16 | S8: Bowling_Boys_V_Boys | X8: 1 | Y8: 3
A9: ='Page 1 - General Information'!$G$12 -> 113362403 | B9: ='Page 1 - General Information'!$G$16 -> 2562 | C9: 2022-06-30 | N9: COUNT | O9: =INDEX('Page 2 - Team Information'!$K$14:$AP$184,Y9,X9) -> 0 | S9: Bowling_Boys_V_Girls | X9: 2 | Y9: 3
A10: ='Page 1 - General Information'!$G$12 -> 113362403 | B10: ='Page 1 - General Information'!$G$16 -> 2562 | C10: 2022-06-30 | N10: COUNT | O10: =INDEX('Page 2 - Team Information'!$K$14:$AP$184,Y10,X10) -> 16 | S10: Bowling_Boys_V_Total | X10: 3 | Y10: 3
A11: ='Page 1 - General Information'!$G$12 -> 113362403 | B11: ='Page 1 - General Information'!$G$16 -> 2562 | C11: 2022-06-30 | N11: COUNT | O11: =INDEX('Page 2 - Team Information'!$K$14:$AP$184,Y11,X11) -> 19 | S11: Cross Country_Boys_V_Boys | X11: 1 | Y11: 4
A12: ='Page 1 - General Information'!$G$12 -> 113362403 | B12: ='Page 1 - General Information'!$G$16 -> 2562 | C12: 2022-06-30 | N12: COUNT | O12: =INDEX('Page 2 - Team Information'!$K$14:$AP$184,Y12,X12) -> 0 | S12: Cross Country_Boys_V_Girls | X12: 2 | Y12: 4
A13: ='Page 1 - General Information'!$G$12 -> 113362403 | B13: ='Page 1 - General Information'!$G$16 -> 2562 | C13: 2022-06-30 | N13: COUNT | O13: =INDEX('Page 2 - Team Information'!$K$14:$AP$184,Y13,X13) -> 19 | S13: Cross Country_Boys_V_Total | X13: 3 | Y13: 4
... A496: ='Page 1 - General Information'!$G$12 -> 113362403 | B496: ='Page 1 - General Information'!$G$16 -> 2562 | C496: 2022-06-30 | N496: COUNT | O496: =INDEX('Page 2 - Team Information'!$K$14:$AP$184,Y496,X496) -> 0 | S496: Water Polo_Girls_7_Total | X496: 3 | Y496: 165
A497: ='Page 1 - General Information'!$G$12 -> 113362403 | B497: ='Page 1 - General Information'!$G$16 -> 2562 | C497: 2022-06-30 | N497: INDICATOR | R497: Y | S497: Baseball_B_V_SeasonFall | V497: =INDEX('Page 2 - Team Information'!$K$14:$AP$184,Y497,X497) -> 0 | X497: 5 | Y497: 1
A498: ='Page 1 - General Information'!$G$12 -> 113362403 | B498: ='Page 1 - General Information'!$G$16 -> 2562 | C498: 2022-06-30 | N498: INDICATOR | R498: Y | S498: Baseball_B_V_SeasonWinter | V498: =INDEX('Page 2 - Team Information'!$K$14:$AP$184,Y498,X498) -> 0 | X498: 6 | Y498: 1
A499: ='Page 1 - General Information'!$G$12 -> 113362403 | B499: ='Page 1 - General Information'!$G$16 -> 2562 | C499: 2022-06-30 | N499: INDICATOR | R499: Y | S499: Baseball_B_V_SeasonSpring | V499: =INDEX('Page 2 - Team Information'!$K$14:$AP$184,Y499,X499) -> Yes | X499: 7 | Y499: 1
A500: ='Page 1 - General Information'!$G$12 -> 113362403 | B500: ='Page 1 - General Information'!$G$16 -> 2562 | C500: 2022-06-30 | N500: INDICATOR | R500: Y | S500: Baseball_B_V_Established | T500: =IF(INDEX('Page 2 - Team Information'!$K$14:$AP$184,Y500,X500)="","",INDEX('Page 2 - Team Information'!$K$14:$AP$184,Y500,X500)&"-06-30") -> 1957-06-30 | X500: 9 | Y500: 1
A501: ='Page 1 - General Information'!$G$12 -> 113362403 | B501: ='Page 1 - General Information'!$G$16 -> 2562 | C501: 2022-06-30 | N501: INDICATOR | R501: Y | S501: Baseball_B_V_Demotion | T501: =IF(INDEX('Page 2 - Team Information'!$K$14:$AP$184,Y501,X501)="","",INDEX('Page 2 - Team Information'!$K$14:$AP$184,Y501,X501)&"-06-30") | X501: 10 | Y501: 1
A502: ='Page 1 - General Information'!$G$12 -> 113362403 | B502: ='Page 1 - General Information'!$G$16 -> 2562 | C502: 2022-06-30 | N502: INDICATOR | R502: Y | S502: Baseball_B_V_Elimination | T502: =IF(INDEX('Page 2 - Team Information'!$K$14:$AP$184,Y502,X502)="","",INDEX('Page 2 - Team Information'!$K$14:$AP$184,Y502,X502)&"-06-30") | X502: 11 | Y502: 1
A503: ='Page 1 - General Information'!$G$12 -> 113362403 | B503: ='Page 1 - General Information'!$G$16 -> 2562 | C503: 2022-06-30 | N503: INDICATOR | R503: Y | S503: Baseball_B_V_Reinstatement | T503: =IF(INDEX('Page 2 - Team Information'!$K$14:$AP$184,Y503,X503)="","",INDEX('Page 2 - Team Information'!$K$14:$AP$184,Y503,X503)&"-06-30") | X503: 12 | Y503: 1
A504: ='Page 1 - General Information'!$G$12 -> 113362403 | B504: ='Page 1 - General Information'!$G$16 -> 2562 | C504: 2022-06-30 | N504: COUNT | O504: =INDEX('Page 2 - Team Information'!$K$14:$AP$184,Y504,X504) -> 0 | S504: Baseball_B_V_ScheduledFall | X504: 14 | Y504: 1
A505: ='Page 1 - General Information'!$G$12 -> 113362403 | B505: ='Page 1 - General Information'!$G$16 -> 2562 | C505: 2022-06-30 | N505: COUNT | O505: =INDEX('Page 2 - Team Information'!$K$14:$AP$184,Y505,X505) -> 0 | S505: Baseball_B_V_ScheduledWinter | X505: 15 | Y505: 1
A506: ='Page 1 - General Information'!$G$12 -> 113362403 | B506: ='Page 1 - General Information'!$G$16 -> 2562 | C506: 2022-06-30 | N506: COUNT | O506: =INDEX('Page 2 - Team Information'!$K$14:$AP$184,Y506,X506) -> 20 | S506: Baseball_B_V_ScheduledSpring | X506: 16 | Y506: 1
A507: ='Page 1 - General Information'!$G$12 -> 113362403 | B507: ='Page 1 - General Information'!$G$16 -> 2562 | C507: 2022-06-30 | N507: COUNT | O507: =INDEX('Page 2 - Team Information'!$K$14:$AP$184,Y507,X507) -> 20 | S507: Baseball_B_V_ScheduledTotal | X507: 17 | Y507: 1
A508: ='Page 1 - General Information'!$G$12 -> 113362403 | B508: ='Page 1 - General Information'!$G$16 -> 2562 | C508: 2022-06-30 | N508: COUNT | O508: =INDEX('Page 2 - Team Information'!$K$14:$AP$184,Y508,X508) -> 0 | S508: Baseball_B_V_PlayedFall | X508: 19 | Y508: 1
A509: ='Page 1 - General Information'!$G$12 -> 113362403 | B509: ='Page 1 - General Information'!$G$16 -> 2562 | C509: 2022-06-30 | N509: COUNT | O509: =INDEX('Page 2 - Team Information'!$K$14:$AP$184,Y509,X509) -> 0 | S509: Baseball_B_V_PlayedWinter | X509: 20 | Y509: 1
A510: ='Page 1 - General Information'!$G$12 -> 113362403 | B510: ='Page 1 - General Information'!$G$16 -> 2562 | C510: 2022-06-30 | N510: COUNT | O510: =INDEX('Page 2 - Team Information'!$K$14:$AP$184,Y510,X510) -> 20 | S510: Baseball_B_V_PlayedSpring | X510: 21 | Y510: 1
A511: ='Page 1 - General Information'!$G$12 -> 113362403 | B511: ='Page 1 - General Information'!$G$16 -> 2562 | C511: 2022-06-30 | N511: COUNT | O511: =INDEX('Page 2 - Team Information'!$K$14:$AP$184,Y511,X511) -> 20 | S511: Baseball_B_V_PlayedTotal | X511: 22 | Y511: 1
A512: ='Page 1 - General Information'!$G$12 -> 113362403 | B512: ='Page 1 - General Information'!$G$16 -> 2562 | C512: 2022-06-30 | N512: INDICATOR | R512: Y | S512: Basketball _B_V_SeasonFall | V512: =INDEX('Page 2 - Team Information'!$K$14:$AP$184,Y512,X512) -> 0 | X512: 5 | Y512: 2
A513: ='Page 1 - General Information'!$G$12 -> 113362403 | B513: ='Page 1 - General Information'!$G$16 -> 2562 | C513: 2022-06-30 | N513: INDICATOR | R513: Y | S513: Basketball _B_V_SeasonWinter | V513: =INDEX('Page 2 - Team Information'!$K$14:$AP$184,Y513,X513) -> Yes | X513: 6 | Y513: 2
A514: ='Page 1 - General Information'!$G$12 -> 113362403 | B514: ='Page 1 - General Information'!$G$16 -> 2562 | C514: 2022-06-30 | N514: INDICATOR | R514: Y | S514: Basketball _B_V_SeasonSpring | V514: =INDEX('Page 2 - Team Information'!$K$14:$AP$184,Y514,X514) -> 0 | X514: 7 | Y514: 2
A515: ='Page 1 - General Information'!$G$12 -> 113362403 | B515: ='Page 1 - General Information'!$G$16 -> 2562 | C515: 2022-06-30 | N515: INDICATOR | R515: Y | S515: Basketball _B_V_Established | T515: =IF(INDEX('Page 2 - Team Information'!$K$14:$AP$184,Y515,X515)="","",INDEX('Page 2 - Team Information'!$K$14:$AP$184,Y515,X515)&"-06-30") -> 1957-06-30 | X515: 9 | Y515: 2
A516: ='Page 1 - General Information'!$G$12 -> 113362403 | B516: ='Page 1 - General Information'!$G$16 -> 2562 | C516: 2022-06-30 | N516: INDICATOR | R516: Y | S516: Basketball _B_V_Demotion | T516: =IF(INDEX('Page 2 - Team Information'!$K$14:$AP$184,Y516,X516)="","",INDEX('Page 2 - Team Information'!$K$14:$AP$184,Y516,X516)&"-06-30") | X516: 10 | Y516: 2
A517: ='Page 1 - General Information'!$G$12 -> 113362403 | B517: ='Page 1 - General Information'!$G$16 -> 2562 | C517: 2022-06-30 | N517: INDICATOR | R517: Y | S517: Basketball _B_V_Elimination | T517: =IF(INDEX('Page 2 - Team Information'!$K$14:$AP$184,Y517,X517)="","",INDEX('Page 2 - Team Information'!$K$14:$AP$184,Y517,X517)&"-06-30") | X517: 11 | Y517: 2
A518: ='Page 1 - General Information'!$G$12 -> 113362403 | B518: ='Page 1 - General Information'!$G$16 -> 2562 | C518: 2022-06-30 | N518: INDICATOR | R518: Y | S518: Basketball _B_V_Reinstatement | T518: =IF(INDEX('Page 2 - Team Information'!$K$14:$AP$184,Y518,X518)="","",INDEX('Page 2 - Team Information'!$K$14:$AP$184,Y518,X518)&"-06-30") | X518: 12 | Y518: 2
A519: ='Page 1 - General Information'!$G$12 -> 113362403 | B519: ='Page 1 - General Information'!$G$16 -> 2562 | C519: 2022-06-30 | N519: COUNT | O519: =INDEX('Page 2 - Team Information'!$K$14:$AP$184,Y519,X519) -> 0 | S519: Basketball _B_V_ScheduledFall | X519: 14 | Y519: 2
A520: ='Page 1 - General Information'!$G$12 -> 113362403 | B520: ='Page 1 - General Information'!$G$16 -> 2562 | C520: 2022-06-30 | N520: COUNT | O520: =INDEX('Page 2 - Team Information'!$K$14:$AP$184,Y520,X520) -> 22 | S520: Basketball _B_V_ScheduledWinter | X520: 15 | Y520: 2
A521: ='Page 1 - General Information'!$G$12 -> 113362403 | B521: ='Page 1 - General Information'!$G$16 -> 2562 | C521: 2022-06-30 | N521: COUNT | O521: =INDEX('Page 2 - Team Information'!$K$14:$AP$184,Y521,X521) -> 0 | S521: Basketball _B_V_ScheduledSpring | X521: 16 | Y521: 2
A522: ='Page 1 - General Information'!$G$12 -> 113362403 | B522: ='Page 1 - General Information'!$G$16 -> 2562 | C522: 2022-06-30 | N522: COUNT | O522: =INDEX('Page 2 - Team Information'!$K$14:$AP$184,Y522,X522) -> 22 | S522: Basketball _B_V_ScheduledTotal | X522: 17 | Y522: 2
...

Sheet PIMS LEA
A1: AUN | B1: LEA Name | C1: AUN | D1: LEA Type | E1: Full Address | F1: District Street Address | G1: District Address 2 | H1: District Address 3 | I1: District City | J1: State Code | K1: District Zip Code
A2: 000000000 | B2: [Make Selection From Drop-Down List ] | C2: 000000000 | E2: From Tony's Enrollment File 05_2022
A3: 124150002 | B3: 21st Century Cyber CS | C3: 124150002 | D3: CS
A4: 119350303 | B4: Abington Heights SD | C4: 119350303 | D4: SD
A5: 123460302 | B5: Abington SD | C5: 123460302 | D5: SD
A6: 125230001 | B6: Achievement House CS | C6: 125230001 | D6: CS
A7: 126510015 | B7: Ad Prima CS | C7: 126510015 | D7: CS
A8: 126510020 | B8: Agora Cyber CS | C8: 126510020 | D8: CS
A9: 101260303 | B9: Albert Gallatin Area SD | C9: 101260303 | D9: SD
A10: 127040503 | B10: Aliquippa SD | C10: 127040503 | D10: SD
A11: 103020603 | B11: Allegheny Valley SD | C11: 103020603 | D11: SD
A12: 106160303 | B12: Allegheny-Clarion Valley SD | C12: 106160303 | D12: SD
A13: 121390302 | B13: Allentown City SD | C13: 121390302 | D13: SD
A14: 126512990 | B14: Alliance for Progress CS | C14: 126512990 | D14: CS
... A659: 126512870 | B659: Youth Build Phila CS | C659: 126512870 | D659: CS

Sheet PIMS School
A1: AUN | B1: AUN Index | C1: Building Key | D1: Building Key 2 | E1: LEAInstName | F1: LEACategory | G1: LEAStatus | H1: SchoolBranchNum | I1: SchoolName | J1: SchoolBranchNum | K1: School MailingAddressLine2
A2: 124150002 | B2: 1 | C2: 1241500021 | D2: 12415000221st Century Cyber CS | E2: 21st Century Cyber CS | F2: CS | G2: 0000 | H2: 7691 | I2: 21st Century Cyber CS | J2: 7691 | K2: Tony's File 05_2022
A3: 119350303 | B3: 1 | C3: 1193503031 | D3: 119350303Abington Heights HS | E3: Abington Heights SD | F3: SD | G3: 0000 | H3: 5091 | I3: Abington Heights HS | J3: 5091
A4: 119350303 | B4: 2 | C4: 1193503032 | D4: 119350303Abington Heights MS | E4: Abington Heights SD | F4: SD | G4: 0000 | H4: 6839 | I4: Abington Heights MS | J4: 6839
A5: 123460302 | B5: 1 | C5: 1234603021 | D5: 123460302Abington JHS | E5: Abington SD | F5: SD | G5: 0000 | H5: 3242 | I5: Abington JHS | J5: 3242
A6: 123460302 | B6: 2 | C6: 1234603022 | D6: 123460302Abington SHS | E6: Abington SD | F6: SD | G6: 0000 | H6: 3241 | I6: Abington SHS | J6: 3241
A7: 125230001 | B7: 1 | C7: 1252300011 | D7: 125230001Achievement House CS | E7: Achievement House CS | F7: CS | G7: 0000 | H7: 7824 | I7: Achievement House CS | J7: 7824
A8: 126510015 | B8: 1 | C8: 1265100151 | D8: 126510015Ad Prima CS | E8: Ad Prima CS | F8: CS | G8: 0000 | H8: 7825 | I8: Ad Prima CS | J8: 7825
A9: 126510020 | B9: 1 | C9: 1265100201 | D9: 126510020Agora Cyber CS | E9: Agora Cyber CS | F9: CS | G9: 0000 | H9: 7858 | I9: Agora Cyber CS | J9: 7858
A10: 101260303 | B10: 1 | C10: 1012603031 | D10: 101260303Albert Gallatin Area SHS | E10: Albert Gallatin Area SD | F10: SD | G10: 0000 | H10: 6001 | I10: Albert Gallatin Area SHS | J10: 6001
A11: 101260303 | B11: 2 | C11: 1012603032 | D11: 101260303Albert Gallatin North MS | E11: Albert Gallatin Area SD | F11: SD | G11: 0000 | H11: 7607 | I11: Albert Gallatin North MS | J11: 7607
A12: 101260303 | B12: 3 | C12: 1012603033 | D12: 101260303Albert Gallatin South MS | E12: Albert Gallatin Area SD | F12: SD | G12: 0000 | H12: 7608 | I12: Albert Gallatin South MS | J12: 7608
A13: 127040503 | B13: 1 | C13: 1270405031 | D13: 127040503Aliquippa JSHS | E13: Aliquippa SD | F13: SD | G13: 0000 | H13: 8086 | I13: Aliquippa JSHS | J13: 8086
A14: 103020603 | B14: 1 | C14: 1030206031 | D14: 103020603Springdale JSHS | E14: Allegheny Valley SD | F14: SD | G14: 0000 | H14: 0029 | I14: Springdale JSHS | J14: 0029
... A1366: 126512870 | B1366: 1 | C1366: 1265128701 | D1366: 126512870Youth Build Phila CS | E1366: Youth Build Phila CS | F1366: CS | G1366: 0000 | H1366: 7513 | I1366: Youth Build Phila CS | J1366: 7513

Sheet Enrollment Report
B2: 007 | C2: 007 | D2: 008 | E2: 008 | F2: 009 | G2: 009 | H2: 010 | I2: 010 | J2: 011 | K2: 011 | L2: 012 | M2: 012 | N2: Grand Total | P2: From Tony's Enrollment File 05_2022
A3: Key | B3: Female | C3: Male | D3: Female | E3: Male | F3: Female | G3: Male | H3: Female | I3: Male | J3: Female | K3: Male | L3: Female | M3: Male
A4: 1005100007744 | B4: 80 | C4: 83 | D4: 83 | E4: 71 | F4: 49 | G4: 60 | H4: 53 | I4: 49 | J4: 47 | K4: 51 | L4: 52 | M4: 42 | N4: 720
A5: 1012603036001 | F5: 117 | G5: 121 | H5: 146 | I5: 132 | J5: 119 | K5: 135 | L5: 106 | M5: 123 | N5: 999
A6: 1012603037607 | B6: 62 | C6: 55 | D6: 69 | E6: 53 | N6: 239
A7: 1012603037608 | B7: 65 | C7: 62 | D7: 54 | E7: 61 | N7: 242
A8: 1012608032154 | B8: 57 | C8: 71 | D8: 58 | E8: 58 | N8: 244
A9: 1012608034818 | F9: 65 | G9: 78 | H9: 58 | I9: 51 | J9: 42 | K9: 49 | L9: 52 | M9: 49 | N9: 444
A10: 1012613022105 | B10: 145 | C10: 158 | D10: 175 | E10: 167 | N10: 645
A11: 1012613025228 | F11: 172 | G11: 200 | H11: 161 | I11: 173 | J11: 114 | K11: 104 | L11: 102 | M11: 110 | N11: 1136
A12: 1012629032126 | F12: 34 | G12: 41 | H12: 37 | I12: 42 | J12: 32 | K12: 36 | L12: 46 | M12: 40 | N12: 308
A13: 1012629037176 | B13: 47 | C13: 42 | D13: 42 | E13: 48 | N13: 179
A14: 1012640035146 | B14: 92 | C14: 119 | D14: 101 | E14: 103 | N14: 415
A15: 1012640036600 | F15: 125 | G15: 116 | H15: 100 | I15: 119 | J15: 102 | K15: 117 | L15: 95 | M15: 105 | N15: 879
A16: 1012660076643 | F16: 42 | G16: 81 | H16: 57 | I16: 87 | J16: 46 | K16: 91 | L16: 32 | M16: 56 | N16: 492
A17: 1012680032182 | B17: 41 | C17: 59 | D17: 39 | E17: 30 | N17: 169
A18: 1012680032184 | F18: 111 | G18: 128 | H18: 97 | I18: 89 | J18: 86 | K18: 73 | L18: 75 | M18: 67 | N18: 726
A19: 1012680036933 | B19: 28 | C19: 35 | D19: 31 | E19: 21 | G19: 1 | N19: 116
A20: 1012680037934 | B20: 34 | C20: 37 | D20: 30 | E20: 32 | N20: 133
A21: 1013013037112 | F21: 44 | G21: 44 | H21: 36 | I21: 30 | J21: 42 | K21: 37 | L21: 34 | M21: 40 | N21: 307
A22: 1013013038345 | B22: 30 | C22: 38 | D22: 36 | E22: 35 | N22: 139
A23: 1013014035118 | F23: 58 | G23: 67 | H23: 64 | I23: 65 | J23: 55 | K23: 70 | L23: 66 | M23: 56 | N23: 501
A24: 1013014036010 | B24: 57 | C24: 59 | D24: 48 | E24: 78 | N24: 242
A25: 1013035032280 | B25: 24 | C25: 32 | D25: 29 | E25: 32 | F25: 28 | G25: 33 | H25: 24 | I25: 34 | J25: 20 | K25: 30 | L25: 26 | M25: 29 | N25: 341
A26: 1013065032284 | B26: 16 | C26: 22 | D26: 27 | E26: 26 | F26: 22 | G26: 26 | H26: 22 | I26: 30 | J26: 19 | K26: 23 | L26: 22 | M26: 18 | N26: 273
A27: 1013085038442 | B27: 19 | C27: 27 | D27: 20 | E27: 38 | F27: 26 | G27: 29 | H27: 26 | I27: 34 | J27: 18 | K27: 28 | L27: 23 | M27: 19 | N27: 307
A28: 1016305044165 | B28: 18 | C28: 15 | D28: 12 | E28: 26 | F28: 14 | G28: 21 | H28: 16 | I28: 25 | J28: 22 | K28: 19 | L28: 20 | M28: 21 | N28: 229
A29: 1016309034188 | F29: 39 | G29: 46 | H29: 41 | I29: 54 | J29: 53 | K29: 36 | L29: 38 | M29: 37 | N29: 344
A30: 1016309037988 | B30: 53 | C30: 45 | D30: 42 | E30: 45 | N30: 185
A31: 1016310034181 | F31: 32 | G31: 43 | H31: 34 | I31: 40 | J31: 46 | K31: 35 | L31: 42 | M31: 51 | N31: 323
A32: 1016310035267 | B32: 37 | C32: 43 | D32: 43 | E32: 39 | N32: 162
A33: 1016312034195 | B33: 41 | C33: 26 | D33: 44 | E33: 37 | F33: 33 | G33: 46 | H33: 35 | I33: 52 | J33: 37 | K33: 27 | L33: 37 | M33: 34 | N33: 449
A34: 1016315034203 | F34: 34 | G34: 33 | H34: 34 | I34: 32 | J34: 33 | K34: 39 | L34: 44 | M34: 28 | N34: 277
A35: 1016315036939 | B35: 39 | C35: 41 | D35: 37 | E35: 34 | N35: 151
A36: 1016317034217 | F36: 221 | G36: 186 | H36: 206 | I36: 202 | J36: 193 | K36: 199 | L36: 191 | M36: 226 | N36: 1624
A37: 1016317037217 | B37: 217 | C37: 194 | D37: 217 | E37: 253 | N37: 881
A38: 1016318034715 | F38: 50 | G38: 70 | H38: 73 | I38: 57 | J38: 65 | K38: 54 | L38: 37 | M38: 52 | N38: 458
A39: 1016318037157 | B39: 54 | C39: 48 | D39: 60 | E39: 64 | N39: 226
A40: 1016319034235 | B40: 48 | C40: 37 | D40: 37 | E40: 45 | F40: 37 | G40: 44 | H40: 35 | I40: 46 | J40: 31 | K40: 41 | L40: 38 | M40: 52 | N40: 491
A41: 1016324034242 | B41: 34 | C41: 29 | D41: 25 | E41: 36 | F41: 49 | G41: 48 | H41: 49 | I41: 41 | J41: 36 | K41: 29 | L41: 30 | M41: 38 | N41: 444
...

Sheet Race Data
B1: Tony's File 05_2022
B2: 1 | C2: 2 | D2: 3 | E2: 4 | F2: 5 | G2: 6 | H2: 7 | I2: 8 | J2: 9 | K2: 10 | L2: 11 | M2: 12 | N2: 13 | O2: 14
B3: KEY | C3: AUN | D3: LEA | E3: School | F3: Bld # | G3: Gender | H3: American Indian/Alaskan Native | I3: Black/African American (Not Hispanic) | J3: Hispanic (Any Race) | K3: White/Caucasian (Not Hispanic) | L3: Multi-Racial (Not Hispanic) | M3: Asian (Not Hispanic) | N3: Native Hawaiian or Other Pacific Islander (Not Hispanic) | O3: Total
B4: 1241500027691Male | C4: 124150002 | D4: 21st Century Cyber CS | E4: 21st Century Cyber CS | F4: 7691 | G4: Male | H4: * | I4: 85 | J4: 52 | K4: 437 | L4: 38 | M4: * | N4: 0 | O4: 628
B5: 1241500027691Female | C5: 124150002 | D5: 21st Century Cyber CS | E5: 21st Century Cyber CS | F5: 7691 | G5: Female | H5: * | I5: 114 | J5: 78 | K5: 560 | L5: 66 | M5: 16 | N5: * | O5: 838
B6: 1241500027691Total | C6: 124150002 | D6: 21st Century Cyber CS | E6: 21st Century Cyber CS Total | F6: 7691 | G6: Total | H6: * | I6: 199 | J6: 130 | K6: 997 | L6: 104 | M6: * | N6: * | O6: 1466
B7: 1193503035091Male | C7: 119350303 | D7: Abington Heights SD | E7: Abington Heights HS | F7: 5091 | G7: Male | H7: * | I7: 14 | J7: 27 | K7: 519 | L7: * | M7: 35 | N7: 0 | O7: 601
B8: 1193503035091Female | C8: 119350303 | D8: Abington Heights SD | E8: Abington Heights HS | F8: 5091 | G8: Female | H8: * | I8: * | J8: 23 | K8: 401 | L8: * | M8: 40 | N8: 0 | O8: 481
B9: 1193503035091Total | C9: 119350303 | D9: Abington Heights SD | E9: Abington Heights HS Total | F9: 5091 | G9: Total | H9: * | I9: * | J9: 50 | K9: 920 | L9: * | M9: 75 | N9: 0 | O9: 1082
B10: 1193503036839Male | C10: 119350303 | D10: Abington Heights SD | E10: Abington Heights MS | F10: 6839 | G10: Male | H10: 0 | I10: * | J10: 15 | K10: 246 | L10: * | M10: * | N10: 0 | O10: 280
B11: 1193503036839Female | C11: 119350303 | D11: Abington Heights SD | E11: Abington Heights MS | F11: 6839 | G11: Female | H11: 0 | I11: * | J11: 14 | K11: 238 | L11: * | M11: 16 | N11: 0 | O11: 281
B12: 1193503036839Total | C12: 119350303 | D12: Abington Heights SD | E12: Abington Heights MS Total | F12: 6839 | G12: Total | H12: * | I12: 12 | J12: 29 | K12: 484 | L12: 12 | M12: * | N12: * | O12: 561
B13: 1234603023242Male | C13: 123460302 | D13: Abington SD | E13: Abington JHS | F13: 3242 | G13: Male | H13: * | I13: 215 | J13: 107 | K13: 606 | L13: 70 | M13: * | N13: 0 | O13: 1062
B14: 1234603023242Female | C14: 123460302 | D14: Abington SD | E14: Abington JHS | F14: 3242 | G14: Female | H14: 0 | I14: 176 | J14: 109 | K14: 544 | L14: 64 | M14: * | N14: * | O14: 955
B15: 1234603023242Total | C15: 123460302 | D15: Abington SD | E15: Abington JHS Total | F15: 3242 | G15: Total | H15: * | I15: 391 | J15: 216 | K15: 1150 | L15: 134 | M15: 123 | N15: * | O15: 2017
B16: 1234603023241Male | C16: 123460302 | D16: Abington SD | E16: Abington SHS | F16: 3241 | G16: Male | H16: * | I16: 187 | J16: 95 | K16: 619 | L16: * | M16: 58 | N16: 0 | O16: 1014
B17: 1234603023241Female | C17: 123460302 | D17: Abington SD | E17: Abington SHS | F17: 3241 | G17: Female | H17: * | I17: 208 | J17: 94 | K17: 529 | L17: * | M17: 55 | N17: 0 | O17: 940
B18: 1234603023241Total | C18: 123460302 | D18: Abington SD | E18: Abington SHS Total | F18: 3241 | G18: Total | H18: * | I18: 395 | J18: 189 | K18: 1148 | L18: * | M18: 113 | N18: 0 | O18: 1954
B19: 1252300017824Male | C19: 125230001 | D19: Achievement House CS | E19: Achievement House CS | F19: 7824 | G19: Male | H19: * | I19: 101 | J19: 54 | K19: 231 | L19: 12 | M19: * | N19: 0 | O19: 407
B20: 1252300017824Female | C20: 125230001 | D20: Achievement House CS | E20: Achievement House CS | F20: 7824 | G20: Female | H20: * | I20: 134 | J20: 92 | K20: 238 | L20: 14 | M20: 13 | N20: * | O20: 500
B21: 1252300017824Total | C21: 125230001 | D21: Achievement House CS | E21: Achievement House CS Total | F21: 7824 | G21: Total | H21: * | I21: 235 | J21: 146 | K21: 469 | L21: 26 | M21: * | N21: * | O21: 907
B22: 1265100157825Male | C22: 126510015 | D22: Ad Prima CS | E22: Ad Prima CS | F22: 7825 | G22: Male | H22: 0 | I22: 61 | J22: * | K22: * | L22: * | M22: 0 | N22: 0 | O22: 66
B23: 1265100157825Female | C23: 126510015 | D23: Ad Prima CS | E23: Ad Prima CS | F23: 7825 | G23: Female | H23: 0 | I23: 62 | J23: * | K23: 0 | L23: * | M23: * | N23: 0 | O23: 68
B24: 1265100157825Total | C24: 126510015 | D24: Ad Prima CS | E24: Ad Prima CS Total | F24: 7825 | G24: Total | H24: 0 | I24: 123 | J24: * | K24: * | L24: * | M24: * | N24: 0 | O24: 134
B25: 1265100207858Male | C25: 126510020 | D25: Agora Cyber CS | E25: Agora Cyber CS | F25: 7858 | G25: Male | H25: * | I25: 497 | J25: 201 | K25: 882 | L25: 63 | M25: 19 | N25: * | O25: 1677
B26: 1265100207858Female | C26: 126510020 | D26: Agora Cyber CS | E26: Agora Cyber CS | F26: 7858 | G26: Female | H26: * | I26: 540 | J26: 221 | K26: 836 | L26: 79 | M26: 33 | N26: * | O26: 1721
B27: 1265100207858Total | C27: 126510020 | D27: Agora Cyber CS | E27: Agora Cyber CS Total | F27: 7858 | G27: Total | H27: * | I27: 1037 | J27: 422 | K27: 1718 | L27: 142 | M27: 52 | N27: * | O27: 3398
B28: 1012603036001Male | C28: 101260303 | D28: Albert Gallatin Area SD | E28: Albert Gallatin Area SHS | F28: 6001 | G28: Male | H28: 0 | I28: 19 | J28: * | K28: 466 | L28: 23 | M28: * | N28: 0 | O28: 511
B29: 1012603036001Female | C29: 101260303 | D29: Albert Gallatin Area SD | E29: Albert Gallatin Area SHS | F29: 6001 | G29: Female | H29: 0 | I29: 17 | J29: * | K29: 446 | L29: 20 | M29: * | N29: 0 | O29: 488
B30: 1012603036001Total | C30: 101260303 | D30: Albert Gallatin Area SD | E30: Albert Gallatin Area SHS Total | F30: 6001 | G30: Total | H30: 0 | I30: 36 | J30: * | K30: 912 | L30: 43 | M30: * | N30: 0 | O30: 999
B31: 1012603037607Male | C31: 101260303 | D31: Albert Gallatin Area SD | E31: Albert Gallatin North MS | F31: 7607 | G31: Male | H31: 0 | I31: * | J31: 0 | K31: 97 | L31: * | M31: 0 | N31: 0 | O31: 108
B32: 1012603037607Female | C32: 101260303 | D32: Albert Gallatin Area SD | E32: Albert Gallatin North MS | F32: 7607 | G32: Female | H32: 0 | I32: * | J32: * | K32: 116 | L32: * | M32: 0 | N32: 0 | O32: 131
B33: 1012603037607Total | C33: 101260303 | D33: Albert Gallatin Area SD | E33: Albert Gallatin North MS Total | F33: 7607 | G33: Total | H33: 0 | I33: 14 | J33: * | K33: 213 | L33: * | M33: 0 | N33: 0 | O33: 239
B34: 1012603037608Male | C34: 101260303 | D34: Albert Gallatin Area SD | E34: Albert Gallatin South MS | F34: 7608 | G34: Male | H34: 0 | I34: * | J34: * | K34: 111 | L34: * | M34: 0 | N34: 0 | O34: 123
B35: 1012603037608Female | C35: 101260303 | D35: Albert Gallatin Area SD | E35: Albert Gallatin South MS | F35: 7608 | G35: Female | H35: 0 | I35: * | J35: 0 | K35: 116 | L35: * | M35: 0 | N35: 0 | O35: 119
B36: 1012603037608Total | C36: 101260303 | D36: Albert Gallatin Area SD | E36: Albert Gallatin South MS Total | F36: 7608 | G36: Total | H36: 0 | I36: * | J36: * | K36: 227 | L36: * | M36: 0 | N36: 0 | O36: 242
B37: 1270405038086Male | C37: 127040503 | D37: Aliquippa SD | E37: Aliquippa JSHS | F37: 8086 | G37: Male | H37: 0 | I37: 179 | J37: 20 | K37: 37 | L37: 17 | M37: 0 | N37: 0 | O37: 253
B38: 1270405038086Female | C38: 127040503 | D38: Aliquippa SD | E38: Aliquippa JSHS | F38: 8086 | G38: Female | H38: 0 | I38: 157 | J38: * | K38: 30 | L38: * | M38: 0 | N38: 0 | O38: 222
B39: 1270405038086Total | C39: 127040503 | D39: Aliquippa SD | E39: Aliquippa JSHS Total | F39: 8086 | G39: Total | H39: 0 | I39: 336 | J39: * | K39: 67 | L39: * | M39: 0 | N39: 0 | O39: 475
B40: 1030206030029Male | C40: 103020603 | D40: Allegheny Valley SD | E40: Springdale JSHS | F40: 0029 | G40: Male | H40: 0 | I40: * | J40: * | K40: 200 | L40: * | M40: * | N40: 0 | O40: 217
...
